{"text_format":"1","workbook":"xlsx","n_sheets":12,"sheets":["CV Rotina <2A - procedência","CV Rotina <2A - residência","CV REF 1A e 4A - procedência","CV REF 1A e 4A - residência","Cobert. COVID-19 Menores 4 anos","Cobert. Meningo C Adolescentes","Cobert. HPV ","dTpa gestantes - procedência","dTpa gestantes - residência","PROTEÇÃO","cálculos1","cálculos2"],"not_rendered":{"charts":0,"images":0,"macros":1,"external_links":0,"defined_names":26,"comments":2,"pivot_tables":0},"unopened":[],"bounds":{"document_bytes":16777216,"sheet_cells":100000,"rows_first":2000,"rows_last":500,"rows_between":2000,"halvings":0,"cell_chars":16384,"cell_head_chars":4096},"cells_cut":0,"cells_raw":0,"read":"whole","date_system":"1900"}

{"sheet":"CV Rotina <2A - procedência","index":0,"n_rows":100,"n_cols":37,"rows_kept":100,"cut":false,"hidden":false,"merged":[[94,0,94,12],[0,4,0,7],[87,10,87,11],[86,12,86,13],[87,12,87,13],[87,1,87,3],[86,6,86,7],[87,6,87,7],[86,4,86,5],[87,4,87,5],[90,0,90,12],[92,0,93,12],[91,0,91,12],[89,0,89,12],[0,22,0,27],[87,24,87,25],[87,18,87,19],[86,18,86,19],[86,14,86,15],[0,8,0,21],[87,14,87,15],[86,20,86,21],[86,8,86,9],[87,8,87,9],[86,10,86,11],[2,35,2,36],[11,35,11,36],[87,16,87,17],[86,16,86,17],[87,26,87,27],[86,26,86,27],[86,22,86,23],[86,24,86,25],[87,20,87,21],[87,22,87,23]]}
[null,null,null,null,"AO NASCER",null,null,null,"MENOR DE 1 ANO",null,null,null,null,null,null,null,null,null,null,null,null,null,"1 ANO"]
["Regional ","Município","¹População < 1 ano e 1 ano anual ","²População < 1 ano e 1 ano proporcional ","Doses Aplicadas HB\n< 30 dias","Cobertura Vacinal HB\naté 30 dias","Doses Aplicadas BCG","Cobertura Vacinal BCG","Doses Aplicadas Pentavalente ","Cobertura Vacinal Pentavalente","Doses Aplicadas Poliomielite ","Cobertura Vacinal Poliomielite ","Doses Aplicadas Pneumo 10","Cobertura Vacinal Pneumo 10","Doses Aplicadas Rotavírus","Cobertura Vacinal Rotavírus","Doses Aplicadas Meningo C","Cobertura Vacinal Meningo C","Doses Aplicadas Febre Amarela","Cobertura Vacinal Febre Amarela","Doses Aplicadas COVID-19","Cobertura Vacinal COVID-19","Doses Aplicadas Hepatite A","Cobertura Vacinal Hepatite A","Doses Aplicadas de Tríplice Viral","Cobertura Vacinal Tríplice Viral","Doses Aplicadas Varicela","Cobertura Varicela",null,null,"VACINAS QUE ATINGIRAM A META DE CV","HOMOGENEIDADE ENTRE AS 11 VACINAS","VACINAS DO PQA-VS QUE ATINGIRAM A META DE CV","HOMOGENEIDADE ENTRE AS VACINAS DO PQA-VS"]
["Metropolitana","Afonso Cláudio",384,126,99,{"$f":"E3/D3","v":0.7857142857142857},99,{"$f":"G3/D3","v":0.7857142857142857},125,{"$f":"I3/D3","v":0.99206349206349209},125,{"$f":"K3/D3","v":0.99206349206349209},104,{"$f":"M3/D3","v":0.82539682539682535},108,{"$f":"O3/D3","v":0.8571428571428571},122,{"$f":"Q3/D3","v":0.96825396825396826},109,{"$f":"S3/D3","v":0.86507936507936511},0,{"$f":"U3/D3","v":0},99,{"$f":"W3/D3","v":0.7857142857142857},139,{"$f":"Y3/D3","v":1.1031746031746033},71,{"$f":"AA3/D3","v":0.56349206349206349},null,null,{"$f":"cálculos1!P2","v":4},{"$f":"AE3*0.11","v":0.44},{"$f":"cálculos1!Q2","v":3},{"$f":"AG3*0.25","v":0.75},null,"LEGENDA / HOMOGENEIDADE PQA-VS"]
["Norte","Água Doce do Norte",170,61,19,0.31147540983606559,27,0.44262295081967212,54,0.88524590163934425,56,0.91803278688524592,50,0.81967213114754101,46,0.75409836065573765,52,0.85245901639344257,48,0.78688524590163933,0,0,46,0.75409836065573765,46,0.75409836065573765,26,0.42622950819672129,null,null,{"$f":"cálculos1!P3","v":0},{"$f":"AE4*0.11","v":0},{"$f":"cálculos1!Q3","v":0},{"$f":"AG4*0.25","v":0},null,"PERCENTUAL","Nº DE MUNICÍPIOS"]
["Central","Águia Branca",149,39,32,0.82051282051282048,34,0.87179487179487181,62,1.5897435897435896,61,1.5641025641025641,52,1.3333333333333333,53,1.358974358974359,65,1.6666666666666667,46,1.1794871794871795,0,0,35,0.89743589743589747,34,0.87179487179487181,22,0.5641025641025641,null,null,{"$f":"cálculos1!P4","v":6},0.66,{"$f":"cálculos1!Q4","v":3},0.75,null,0,{"$f":"COUNTIF($AH$3:$AH$80,\"=0\")","v":18}]
["Sul","Alegre",327,93,72,0.77419354838709675,74,0.79569892473118276,109,1.1720430107526882,116,1.2473118279569892,113,1.2150537634408602,108,1.1612903225806452,109,1.1720430107526882,109,1.1720430107526882,1,1.0752688172043012E-2,85,0.91397849462365588,95,1.021505376344086,45,0.4838709677419355,null,null,{"$f":"cálculos1!P5","v":7},0.77,{"$f":"cálculos1!Q5","v":4},1,null,0.25,{"$f":"COUNTIF($AH$3:$AH$80,\"=0,25\")","v":10}]
["Sul","Alfredo Chaves",146,46,9,0.19565217391304349,27,0.58695652173913049,53,1.1521739130434783,51,1.1086956521739131,59,1.2826086956521738,62,1.3478260869565217,62,1.3478260869565217,46,1,0,0,47,1.0217391304347827,50,1.0869565217391304,43,0.93478260869565222,null,null,{"$f":"cálculos1!P6","v":8},0.88,{"$f":"cálculos1!Q6","v":4},1,null,0.5,{"$f":"COUNTIF($AH$3:$AH$80,\"=0,5\")","v":8}]
["Central","Alto Rio Novo",80,21,4,0.19047619047619047,10,0.47619047619047616,35,1.6666666666666667,33,1.5714285714285714,33,1.5714285714285714,34,1.6190476190476191,37,1.7619047619047619,29,1.3809523809523809,0,0,34,1.6190476190476191,32,1.5238095238095237,22,1.0476190476190477,null,null,{"$f":"cálculos1!P7","v":9},0.99,{"$f":"cálculos1!Q7","v":4},1,null,0.75,{"$f":"COUNTIF($AH$3:$AH$80,\"=0,75\")","v":12}]
["Sul","Anchieta",365,109,9,8.2568807339449546E-2,76,0.69724770642201839,129,1.1834862385321101,131,1.201834862385321,143,1.3119266055045871,140,1.2844036697247707,138,1.2660550458715596,85,0.77981651376146788,5,4.5871559633027525E-2,109,1,129,1.1834862385321101,78,0.7155963302752294,null,null,{"$f":"cálculos1!P8","v":7},0.77,{"$f":"cálculos1!Q8","v":4},1,null,1,{"$f":"COUNTIF($AH$3:$AH$80,\"=1,0\")","v":30}]
["Sul","Apiacá",64,20,11,0.55000000000000004,14,0.7,16,0.8,17,0.85,24,1.2,23,1.1499999999999999,18,0.9,20,1,0,0,9,0.45,17,0.85,6,0.3,null,null,{"$f":"cálculos1!P9","v":3},0.33,{"$f":"cálculos1!Q9","v":1},0.25]
["Metropolitana","Aracruz",1456,490,448,0.91428571428571426,459,0.93673469387755104,435,0.88775510204081631,437,0.89183673469387759,447,0.91224489795918362,446,0.91020408163265309,453,0.92448979591836733,411,0.83877551020408159,16,3.2653061224489799E-2,454,0.92653061224489797,529,1.0795918367346939,347,0.7081632653061225,null,null,{"$f":"cálculos1!P10","v":3},0.33,{"$f":"cálculos1!Q10","v":1},0.25]
["Sul","Atilio Vivacqua",133,42,0,0,0,0,42,1,41,0.97619047619047616,40,0.95238095238095233,40,0.95238095238095233,42,1,37,0.88095238095238093,0,0,34,0.80952380952380953,49,1.1666666666666667,35,0.83333333333333337,null,null,{"$f":"cálculos1!P11","v":6},0.66,{"$f":"cálculos1!Q11","v":4},1,null,"LEGENDA / HOMOGENEIDADE 11 VACINAS"]
["Central","Baixo Guandu",364,105,27,0.25714285714285712,72,0.68571428571428572,146,1.3904761904761904,147,1.4,142,1.3523809523809525,139,1.3238095238095238,139,1.3238095238095238,104,0.99047619047619051,0,0,123,1.1714285714285715,170,1.6190476190476191,95,0.90476190476190477,null,null,{"$f":"cálculos1!P12","v":8},0.88,{"$f":"cálculos1!Q12","v":4},1,null,"PERCENTUAL","Nº DE MUNICÍPIOS"]
["Norte","Barra de São Francisco",534,166,121,0.72891566265060237,130,0.7831325301204819,158,0.95180722891566261,155,0.9337349397590361,176,1.0602409638554218,170,1.0240963855421688,170,1.0240963855421688,167,1.0060240963855422,0,0,136,0.81927710843373491,198,1.1927710843373494,139,0.83734939759036142,null,null,{"$f":"cálculos1!P13","v":6},0.66,{"$f":"cálculos1!Q13","v":3},0.75,null,0,{"$f":"COUNTIF($AF$3:$AF$80,\"=0\")","v":11}]
["Norte","Boa Esperança",199,72,5,6.9444444444444448E-2,28,0.3888888888888889,50,0.69444444444444442,59,0.81944444444444442,63,0.875,68,0.94444444444444442,60,0.83333333333333337,52,0.72222222222222221,1,1.3888888888888888E-2,44,0.61111111111111116,74,1.0277777777777777,53,0.73611111111111116,null,null,{"$f":"cálculos1!P14","v":2},0.22,{"$f":"cálculos1!Q14","v":1},0.25,null,0.1,{"$f":"COUNTIFS($AF$3:$AF$80,\">=0,10\",$AF$3:$AF$80,\"<0,20\")","v":13}]
["Sul","Bom Jesus do Norte",83,23,21,0.91304347826086951,31,1.3478260869565217,49,2.1304347826086958,47,2.0434782608695654,38,1.6521739130434783,37,1.6086956521739131,40,1.7391304347826086,40,1.7391304347826086,4,0.17391304347826086,10,0.43478260869565216,50,2.1739130434782608,17,0.73913043478260865,null,null,{"$f":"cálculos1!P15","v":8},0.88,{"$f":"cálculos1!Q15","v":4},1,null,0.2,{"$f":"COUNTIFS($AF$3:$AF$80,\">=0,20\",$AF$3:$AF$80,\"<0,30\")","v":2}]
["Metropolitana","Brejetuba",212,70,13,0.18571428571428572,59,0.84285714285714286,68,0.97142857142857142,68,0.97142857142857142,64,0.91428571428571426,67,0.95714285714285718,59,0.84285714285714286,70,1,0,0,57,0.81428571428571428,64,0.91428571428571426,43,0.61428571428571432,null,null,{"$f":"cálculos1!P16","v":4},0.44,{"$f":"cálculos1!Q16","v":2},0.5,null,0.3,{"$f":"COUNTIFS($AF$3:$AF$80,\">=0,30\",$AF$3:$AF$80,\"<0,40\")","v":7}]
["Sul","Cachoeiro de Itapemirim",2473,863,1762,2.041714947856315,1733,2.0081112398609502,732,0.84820393974507535,721,0.83545770567786792,698,0.80880648899188878,688,0.79721900347624564,705,0.81691772885283898,561,0.65005793742757823,5,5.7937427578215531E-3,599,0.69409038238702203,789,0.91425260718424106,349,0.40440324449594439,null,null,{"$f":"cálculos1!P17","v":1},0.11,{"$f":"cálculos1!Q17","v":0},0,null,0.4,{"$f":"COUNTIFS($AF$3:$AF$80,\">=0,40\",$AF$3:$AF$80,\"<0,50\")","v":8}]
["Metropolitana","Cariacica",4917,1679,871,0.51876116736152467,888,0.52888624181060151,1460,0.86956521739130432,1438,0.85646217986896966,1453,0.86539606908874334,1384,0.82430017867778438,1415,0.84276354973198331,1197,0.71292435973793922,34,2.0250148898153662E-2,798,{"$f":"W19/D19","v":0.47528290649195948},1528,0.9100655151876117,748,0.44550327575938059,null,null,{"$f":"cálculos1!P18","v":0},0,{"$f":"cálculos1!Q18","v":0},0,null,0.5,{"$f":"COUNTIFS($AF$3:$AF$80,\">=0,50\",$AF$3:$AF$80,\"<0,60\")","v":4}]
["Sul","Castelo",454,160,82,0.51249999999999996,92,0.57499999999999996,133,0.83125000000000004,133,0.83125000000000004,132,0.82499999999999996,128,0.8,124,0.77500000000000002,137,0.85624999999999996,0,0,69,0.43125000000000002,161,1.0062500000000001,88,0.55000000000000004,null,null,{"$f":"cálculos1!P19","v":1},0.11,{"$f":"cálculos1!Q19","v":1},0.25,null,0.6,{"$f":"COUNTIFS($AF$3:$AF$80,\">=0,60\",$AF$3:$AF$80,\"<0,70\")","v":12}]
["Central","Colatina",1532,496,1326,2.6733870967741935,1158,2.3346774193548385,473,0.9536290322580645,461,0.92943548387096775,419,0.844758064516129,415,0.83669354838709675,431,0.86895161290322576,390,0.78629032258064513,5,1.0080645161290322E-2,189,0.38104838709677419,472,0.95161290322580649,261,0.52620967741935487,null,null,{"$f":"cálculos1!P20","v":3},0.33,{"$f":"cálculos1!Q20","v":2},0.5,null,0.7,{"$f":"COUNTIFS($AF$3:$AF$80,\">=0,70\",$AF$3:$AF$80,\"<0,80\")","v":12}]
["Norte","Conceição da Barra",389,136,6,4.4117647058823532E-2,10,7.3529411764705885E-2,109,0.80147058823529416,109,0.80147058823529416,123,0.90441176470588236,120,0.88235294117647056,114,0.83823529411764708,126,0.92647058823529416,0,0,80,0.58823529411764708,132,0.97058823529411764,80,0.58823529411764708,null,null,{"$f":"cálculos1!P21","v":1},0.11,{"$f":"cálculos1!Q21","v":1},0.25,null,0.8,{"$f":"COUNTIFS($AF$3:$AF$80,\">=0,80\",$AF$3:$AF$80,\"<0,90\")","v":6}]
["Metropolitana","Conceição do Castelo",168,60,0,0,0,0,47,0.78333333333333333,46,0.76666666666666672,40,0.66666666666666663,39,0.65,46,0.76666666666666672,58,0.96666666666666667,0,0,42,0.7,38,0.6333333333333333,32,0.53333333333333333,null,null,{"$f":"cálculos1!P22","v":1},0.11,{"$f":"cálculos1!Q22","v":0},0,null,0.9,{"$f":"COUNTIFS($AF$3:$AF$80,\">=0,90\",$AF$3:$AF$80,\"<1,0\")","v":3}]
["Sul","Divino de São Lourenço",65,21,22,1.0476190476190477,20,0.95238095238095233,27,1.2857142857142858,27,1.2857142857142858,24,1.1428571428571428,24,1.1428571428571428,29,1.3809523809523809,20,0.95238095238095233,0,0,20,0.95238095238095233,13,0.61904761904761907,17,0.80952380952380953,null,null,{"$f":"cálculos1!P23","v":8},0.88,{"$f":"cálculos1!Q23","v":3},0.75,null,1,{"$f":"COUNTIF($AF$3:$AF$80,\">=1,0\")","v":0}]
["Metropolitana","Domingos Martins",411,133,8,6.0150375939849621E-2,23,0.17293233082706766,107,0.80451127819548873,105,0.78947368421052633,140,1.0526315789473684,134,1.0075187969924813,131,0.98496240601503759,125,0.93984962406015038,3,2.2556390977443608E-2,73,0.54887218045112784,140,1.0526315789473684,134,1.0075187969924813,null,null,{"$f":"cálculos1!P24","v":5},0.55000000000000004,{"$f":"cálculos1!Q24","v":2},0.5]
["Sul","Dores do Rio Preto",97,36,10,0.27777777777777779,23,0.63888888888888884,36,1,39,1.0833333333333333,40,1.1111111111111112,38,1.0555555555555556,40,1.1111111111111112,32,0.88888888888888884,1,2.7777777777777776E-2,19,0.52777777777777779,39,1.0833333333333333,17,0.47222222222222221,null,null,{"$f":"cálculos1!P25","v":6},0.66,{"$f":"cálculos1!Q25","v":4},1]
["Norte","Ecoporanga",256,89,51,0.5730337078651685,50,0.5617977528089888,92,1.0337078651685394,91,1.0224719101123596,72,0.8089887640449438,70,0.7865168539325843,72,0.8089887640449438,77,0.8651685393258427,0,0,61,0.6853932584269663,89,1,71,0.797752808988764,null,null,{"$f":"cálculos1!P26","v":3},0.33,{"$f":"cálculos1!Q26","v":3},0.75]
["Metropolitana","Fundão",220,81,4,4.9382716049382713E-2,33,0.40740740740740738,79,0.97530864197530864,78,0.96296296296296291,77,0.95061728395061729,80,0.98765432098765427,74,0.9135802469135802,67,0.8271604938271605,2,2.4691358024691357E-2,71,0.87654320987654322,59,0.72839506172839508,65,0.80246913580246915,null,null,{"$f":"cálculos1!P27","v":4},0.44,{"$f":"cálculos1!Q27","v":3},0.75]
["Central","Governador Lindenberg",147,52,8,0.15384615384615385,13,0.25,41,0.78846153846153844,38,0.73076923076923073,43,0.82692307692307687,44,0.84615384615384615,42,0.80769230769230771,44,0.84615384615384615,1,1.9230769230769232E-2,38,0.73076923076923073,36,0.69230769230769229,31,0.59615384615384615,null,null,{"$f":"cálculos1!P28","v":0},0,{"$f":"cálculos1!Q28","v":0},0]
["Sul","Guaçuí",406,131,60,0.4580152671755725,76,0.58015267175572516,145,1.1068702290076335,140,1.0687022900763359,129,0.98473282442748089,119,0.90839694656488545,127,0.96946564885496178,115,0.87786259541984735,0,0,105,0.80152671755725191,146,1.1145038167938932,70,0.53435114503816794,null,null,{"$f":"cálculos1!P29","v":6},0.66,{"$f":"cálculos1!Q29","v":4},1]
["Metropolitana","Guarapari",1741,578,418,0.72318339100346019,483,0.83564013840830453,494,0.8546712802768166,475,0.82179930795847755,503,0.87024221453287198,481,0.83217993079584773,494,0.8546712802768166,367,0.63494809688581311,2,3.4602076124567475E-3,381,0.65916955017301038,493,0.8529411764705882,321,0.55536332179930792,null,null,{"$f":"cálculos1!P30","v":0},0,{"$f":"cálculos1!Q30","v":0},0]
["Metropolitana","Ibatiba",361,112,61,0.5446428571428571,116,1.0357142857142858,128,1.1428571428571428,126,1.125,121,1.0803571428571428,111,0.9910714285714286,135,1.2053571428571428,105,0.9375,5,4.4642857142857144E-2,88,0.7857142857142857,109,0.9732142857142857,29,0.25892857142857145,null,null,{"$f":"cálculos1!P31","v":7},0.77,{"$f":"cálculos1!Q31","v":4},1]
["Metropolitana","Ibiraçu",153,58,10,0.17241379310344829,9,0.15517241379310345,42,0.72413793103448276,41,0.7068965517241379,39,0.67241379310344829,37,0.63793103448275867,44,0.75862068965517238,48,0.82758620689655171,3,5.1724137931034482E-2,26,0.44827586206896552,40,0.68965517241379315,28,0.48275862068965519,null,null,{"$f":"cálculos1!P32","v":0},0,{"$f":"cálculos1!Q32","v":0},0]
["Sul","Ibitirama",127,37,21,0.56756756756756754,28,0.7567567567567568,38,1.027027027027027,39,1.0540540540540539,41,1.1081081081081081,43,1.1621621621621621,35,0.94594594594594594,25,0.67567567567567566,0,0,31,0.83783783783783783,50,1.3513513513513513,33,0.89189189189189189,null,null,{"$f":"cálculos1!P33","v":5},0.55000000000000004,{"$f":"cálculos1!Q33","v":4},1]
["Sul","Iconha",115,36,3,{"$f":"E35/D35","v":8.3333333333333329E-2},16,{"$f":"G35/D35","v":0.44444444444444442},39,{"$f":"I35/D35","v":1.0833333333333333},37,{"$f":"K35/D35","v":1.0277777777777777},39,{"$f":"M35/D35","v":1.0833333333333333},40,{"$f":"O35/D35","v":1.1111111111111112},37,{"$f":"Q35/D35","v":1.0277777777777777},48,{"$f":"S35/D35","v":1.3333333333333333},1,{"$f":"U35/D35","v":2.7777777777777776E-2},27,{"$f":"W35/D35","v":0.75},57,{"$f":"Y35/D35","v":1.5833333333333333},11,{"$f":"AA35/D35","v":0.30555555555555558},null,null,{"$f":"cálculos1!P34","v":7},0.77,{"$f":"cálculos1!Q34","v":4},1]
["Sul","Irupi",195,59,33,0.55932203389830504,41,0.69491525423728817,72,1.2203389830508475,71,1.2033898305084745,83,1.4067796610169492,78,1.3220338983050848,82,1.3898305084745763,55,0.93220338983050843,4,6.7796610169491525E-2,61,1.0338983050847457,94,1.5932203389830508,21,0.3559322033898305,null,null,{"$f":"cálculos1!P35","v":7},0.77,{"$f":"cálculos1!Q35","v":4},1]
["Metropolitana","Itaguaçu",129,37,2,5.4054054054054057E-2,33,0.89189189189189189,40,1.0810810810810811,40,1.0810810810810811,41,1.1081081081081081,41,1.1081081081081081,43,1.1621621621621621,46,1.2432432432432432,0,0,50,1.3513513513513513,48,1.2972972972972974,46,1.2432432432432432,null,null,{"$f":"cálculos1!P36","v":9},0.99,{"$f":"cálculos1!Q36","v":4},1]
["Sul","Itapemirim",543,157,340,2.1656050955414012,83,0.5286624203821656,148,0.9426751592356688,145,0.92356687898089174,176,1.1210191082802548,158,1.0063694267515924,143,0.91082802547770703,95,0.60509554140127386,0,0,133,0.84713375796178347,175,1.1146496815286624,95,0.60509554140127386,null,null,{"$f":"cálculos1!P37","v":3},0.33,{"$f":"cálculos1!Q37","v":2},0.5]
["Metropolitana","Itarana",143,51,4,7.8431372549019607E-2,45,0.88235294117647056,42,0.82352941176470584,43,0.84313725490196079,38,0.74509803921568629,40,0.78431372549019607,35,0.68627450980392157,52,1.0196078431372548,0,0,12,0.23529411764705882,42,0.82352941176470584,38,0.74509803921568629,null,null,{"$f":"cálculos1!P38","v":1},0.11,{"$f":"cálculos1!Q38","v":0},0]
["Sul","Iúna",481,154,88,0.5714285714285714,104,0.67532467532467533,159,1.0324675324675325,156,1.0129870129870129,161,1.0454545454545454,160,1.0389610389610389,160,1.0389610389610389,141,0.91558441558441561,1,6.4935064935064939E-3,88,0.5714285714285714,158,1.025974025974026,87,0.56493506493506496,null,null,{"$f":"cálculos1!P39","v":6},0.66,{"$f":"cálculos1!Q39","v":4},1]
["Norte","Jaguaré",487,154,132,0.8571428571428571,109,0.70779220779220775,151,0.98051948051948057,160,1.0389610389610389,156,1.0129870129870129,154,1,150,0.97402597402597402,156,1.0129870129870129,3,1.948051948051948E-2,108,0.70129870129870131,162,1.051948051948052,97,0.62987012987012991,null,null,{"$f":"cálculos1!P40","v":7},0.77,{"$f":"cálculos1!Q40","v":4},1]
["Sul","Jerônimo Monteiro",160,49,5,0.10204081632653061,6,0.12244897959183673,63,1.2857142857142858,63,1.2857142857142858,48,0.97959183673469385,50,1.0204081632653061,47,0.95918367346938771,48,0.97959183673469385,2,4.0816326530612242E-2,33,0.67346938775510201,47,0.95918367346938771,18,0.36734693877551022,null,null,{"$f":"cálculos1!P41","v":7},0.77,{"$f":"cálculos1!Q41","v":4},1]
["Metropolitana","João Neiva",180,59,10,0.16949152542372881,18,0.30508474576271188,61,1.0338983050847457,60,1.0169491525423728,58,0.98305084745762716,55,0.93220338983050843,56,0.94915254237288138,62,1.0508474576271187,1,1.6949152542372881E-2,43,0.72881355932203384,70,1.1864406779661016,32,0.5423728813559322,null,null,{"$f":"cálculos1!P42","v":6},0.66,{"$f":"cálculos1!Q42","v":4},1]
["Metropolitana","Laranja da Terra",98,37,0,0,23,0.6216216216216216,35,0.94594594594594594,36,0.97297297297297303,25,0.67567567567567566,26,0.70270270270270274,31,0.83783783783783783,43,1.1621621621621621,5,0.13513513513513514,30,0.81081081081081086,53,1.4324324324324325,30,0.81081081081081086,null,null,{"$f":"cálculos1!P43","v":3},0.33,{"$f":"cálculos1!Q43","v":2},0.5]
["Central","Linhares",2574,863,929,1.0764774044032446,963,1.115874855156431,722,0.8366164542294322,717,0.83082271147161069,696,0.80648899188876011,714,0.82734646581691773,670,0.77636152954808801,636,0.73696407879490156,0,0,444,0.51448435689455385,713,0.82618771726535345,444,0.51448435689455385,null,null,{"$f":"cálculos1!P44","v":1},0.11,{"$f":"cálculos1!Q44","v":0},0]
["Central","Mantenópolis",156,51,15,0.29411764705882354,26,0.50980392156862742,52,1.0196078431372548,57,1.1176470588235294,42,0.82352941176470584,40,0.78431372549019607,39,0.76470588235294112,49,0.96078431372549022,0,0,43,0.84313725490196079,56,1.0980392156862746,34,0.66666666666666663,null,null,{"$f":"cálculos1!P45","v":4},0.44,{"$f":"cálculos1!Q45","v":3},0.75]
["Sul","Marataízes",556,206,5,2.4271844660194174E-2,83,0.40291262135922329,185,0.89805825242718451,190,0.92233009708737868,179,0.8689320388349514,176,0.85436893203883491,187,0.90776699029126218,139,0.67475728155339809,0,0,187,0.90776699029126218,196,0.95145631067961167,112,0.5436893203883495,null,null,{"$f":"cálculos1!P46","v":1},0.11,{"$f":"cálculos1!Q46","v":1},0.25]
["Metropolitana","Marechal Floriano",237,88,18,0.20454545454545456,19,0.21590909090909091,54,0.61363636363636365,55,0.625,79,0.89772727272727271,77,0.875,70,0.79545454545454541,54,0.61363636363636365,2,2.2727272727272728E-2,64,0.72727272727272729,79,0.89772727272727271,54,0.61363636363636365,null,null,{"$f":"cálculos1!P47","v":0},0,{"$f":"cálculos1!Q47","v":0},0]
["Central","Marilândia",157,37,11,0.29729729729729731,21,0.56756756756756754,49,1.3243243243243243,49,1.3243243243243243,45,1.2162162162162162,49,1.3243243243243243,55,1.4864864864864864,45,1.2162162162162162,0,0,40,1.0810810810810811,48,1.2972972972972974,43,1.1621621621621621,null,null,{"$f":"cálculos1!P48","v":9},0.99,{"$f":"cálculos1!Q48","v":4},1]
["Sul","Mimoso do Sul",254,71,15,0.21126760563380281,16,0.22535211267605634,68,0.95774647887323938,67,0.94366197183098588,69,0.971830985915493,66,0.92957746478873238,67,0.94366197183098588,58,0.81690140845070425,0,0,48,0.676056338028169,68,0.95774647887323938,42,0.59154929577464788,null,null,{"$f":"cálculos1!P49","v":4},0.44,{"$f":"cálculos1!Q49","v":3},0.75]
["Norte","Montanha",259,77,22,0.2857142857142857,24,0.31168831168831168,101,1.3116883116883118,103,1.3376623376623376,82,1.0649350649350648,82,1.0649350649350648,87,1.1298701298701299,84,1.0909090909090908,1,1.2987012987012988E-2,84,1.0909090909090908,88,1.1428571428571428,66,0.8571428571428571,null,null,{"$f":"cálculos1!P50","v":8},0.88,{"$f":"cálculos1!Q50","v":4},1]
["Norte","Mucurici",73,19,3,0.15789473684210525,4,0.21052631578947367,29,1.5263157894736843,29,1.5263157894736843,30,1.5789473684210527,29,1.5263157894736843,26,1.368421052631579,33,1.736842105263158,0,0,13,0.68421052631578949,31,1.631578947368421,12,0.63157894736842102,null,null,{"$f":"cálculos1!P51","v":7},0.77,{"$f":"cálculos1!Q51","v":4},1]
["Sul","Muniz Freire",221,72,45,0.625,47,0.65277777777777779,80,1.1111111111111112,75,1.0416666666666667,76,1.0555555555555556,76,1.0555555555555556,75,1.0416666666666667,82,1.1388888888888888,0,0,64,0.88888888888888884,94,1.3055555555555556,41,0.56944444444444442,null,null,{"$f":"cálculos1!P52","v":7},0.77,{"$f":"cálculos1!Q52","v":4},1]
["Sul","Muqui",165,43,2,4.6511627906976744E-2,7,0.16279069767441862,66,1.5348837209302326,67,1.558139534883721,50,1.1627906976744187,48,1.1162790697674418,57,1.3255813953488371,49,1.1395348837209303,4,9.3023255813953487E-2,32,0.7441860465116279,47,1.0930232558139534,35,0.81395348837209303,null,null,{"$f":"cálculos1!P53","v":7},0.77,{"$f":"cálculos1!Q53","v":4},1]
["Norte","Nova Venécia",683,225,26,0.11555555555555555,125,0.55555555555555558,227,1.0088888888888889,227,1.0088888888888889,180,0.8,176,0.78222222222222226,195,0.8666666666666667,224,0.99555555555555553,0,0,163,0.72444444444444445,218,0.96888888888888891,154,0.68444444444444441,null,null,{"$f":"cálculos1!P54","v":4},0.44,{"$f":"cálculos1!Q54","v":3},0.75]
["Central","Pancas",208,56,14,0.25,30,0.5357142857142857,77,1.375,76,1.3571428571428572,73,1.3035714285714286,71,1.2678571428571428,76,1.3571428571428572,64,1.1428571428571428,1,1.7857142857142856E-2,52,0.9285714285714286,62,1.1071428571428572,73,1.3035714285714286,null,null,{"$f":"cálculos1!P55","v":8},0.88,{"$f":"cálculos1!Q55","v":4},1]
["Norte","Pedro Canário",335,129,7,5.4263565891472867E-2,7,5.4263565891472867E-2,106,0.82170542635658916,109,0.84496124031007747,90,0.69767441860465118,88,0.68217054263565891,92,0.71317829457364346,106,0.82170542635658916,0,0,63,0.48837209302325579,126,0.97674418604651159,80,0.62015503875968991,null,null,{"$f":"cálculos1!P56","v":1},0.11,{"$f":"cálculos1!Q56","v":1},0.25]
["Norte","Pinheiros",330,109,5,4.5871559633027525E-2,5,4.5871559633027525E-2,116,1.0642201834862386,115,1.0550458715596329,106,0.97247706422018354,104,0.95412844036697253,102,0.93577981651376152,107,0.98165137614678899,0,0,70,0.64220183486238536,104,0.95412844036697253,44,0.40366972477064222,null,null,{"$f":"cálculos1!P57","v":6},0.66,{"$f":"cálculos1!Q57","v":4},1]
["Sul","Piúma",292,83,3,3.614457831325301E-2,62,0.74698795180722888,91,1.0963855421686748,91,1.0963855421686748,92,1.1084337349397591,83,1,71,0.85542168674698793,62,0.74698795180722888,1,1.2048192771084338E-2,72,0.86746987951807231,99,1.1927710843373494,49,0.59036144578313254,null,null,{"$f":"cálculos1!P58","v":5},0.55000000000000004,{"$f":"cálculos1!Q58","v":4},1]
["Norte","Ponto Belo",81,21,6,0.2857142857142857,4,0.19047619047619047,16,0.76190476190476186,16,0.76190476190476186,23,1.0952380952380953,22,1.0476190476190477,15,0.7142857142857143,26,1.2380952380952381,0,0,13,0.61904761904761907,24,1.1428571428571428,16,0.76190476190476186,null,null,{"$f":"cálculos1!P59","v":4},0.44,{"$f":"cálculos1!Q59","v":2},0.5]
["Sul","Presidente Kennedy",193,73,2,2.7397260273972601E-2,8,0.1095890410958904,60,0.82191780821917804,63,0.86301369863013699,42,0.57534246575342463,41,0.56164383561643838,51,0.69863013698630139,51,0.69863013698630139,0,0,47,0.64383561643835618,82,1.1232876712328768,34,0.46575342465753422,null,null,{"$f":"cálculos1!P60","v":1},0.11,{"$f":"cálculos1!Q60","v":1},0.25]
["Central","Rio Bananal",297,99,27,0.27272727272727271,21,0.21212121212121213,98,0.98989898989898994,98,0.98989898989898994,90,0.90909090909090906,95,0.95959595959595956,83,0.83838383838383834,104,1.0505050505050506,5,5.0505050505050504E-2,73,0.73737373737373735,105,1.0606060606060606,73,0.73737373737373735,null,null,{"$f":"cálculos1!P61","v":5},0.55000000000000004,{"$f":"cálculos1!Q61","v":3},0.75]
["Sul","Rio Novo do Sul",121,35,1,2.8571428571428571E-2,13,0.37142857142857144,49,1.4,49,1.4,37,1.0571428571428572,38,1.0857142857142856,43,1.2285714285714286,33,0.94285714285714284,0,0,26,0.74285714285714288,39,1.1142857142857143,35,1,null,null,{"$f":"cálculos1!P62","v":7},0.77,{"$f":"cálculos1!Q62","v":4},1]
["Metropolitana","Santa Leopoldina",100,32,1,3.125E-2,5,0.15625,33,1.03125,33,1.03125,37,1.15625,38,1.1875,39,1.21875,37,1.15625,0,0,30,0.9375,42,1.3125,13,0.40625,null,null,{"$f":"cálculos1!P63","v":7},0.77,{"$f":"cálculos1!Q63","v":4},1]
["Metropolitana","Santa Maria de Jetibá",667,234,143,0.61111111111111116,171,0.73076923076923073,185,0.79059829059829057,185,0.79059829059829057,197,0.84188034188034189,202,0.86324786324786329,191,0.81623931623931623,181,0.77350427350427353,2,8.5470085470085479E-3,209,0.89316239316239321,232,0.99145299145299148,124,0.52991452991452992,null,null,{"$f":"cálculos1!P64","v":1},0.11,{"$f":"cálculos1!Q64","v":1},0.25]
["Metropolitana","Santa Teresa",293,87,218,2.5057471264367814,76,0.87356321839080464,104,1.1954022988505748,104,1.1954022988505748,88,1.0114942528735633,85,0.97701149425287359,83,0.95402298850574707,77,0.88505747126436785,0,0,67,0.77011494252873558,84,0.96551724137931039,65,0.74712643678160917,null,null,{"$f":"cálculos1!P65","v":6},0.66,{"$f":"cálculos1!Q65","v":4},1]
["Central","São Domingos do Norte",125,44,9,{"$f":"E67/D67","v":0.20454545454545456},18,{"$f":"G67/D67","v":0.40909090909090912},36,{"$f":"I67/D67","v":0.81818181818181823},36,{"$f":"K67/D67","v":0.81818181818181823},39,{"$f":"M67/D67","v":0.88636363636363635},39,{"$f":"O67/D67","v":0.88636363636363635},33,{"$f":"Q67/D67","v":0.75},43,{"$f":"S67/D67","v":0.97727272727272729},0,{"$f":"U67/D67","v":0},17,{"$f":"W67/D67","v":0.38636363636363635},22,{"$f":"Y67/D67","v":0.5},21,{"$f":"AA67/D67","v":0.47727272727272729},null,null,{"$f":"cálculos1!P66","v":1},0.11,{"$f":"cálculos1!Q66","v":0},0]
["Central","São Gabriel da Palha",430,132,36,0.27272727272727271,81,0.61363636363636365,137,1.0378787878787878,139,1.053030303030303,142,1.0757575757575757,135,1.0227272727272727,129,0.97727272727272729,122,0.9242424242424242,1,7.575757575757576E-3,75,0.56818181818181823,130,0.98484848484848486,84,0.63636363636363635,null,null,{"$f":"cálculos1!P67","v":6},{"$f":"AE68*0.11","v":0.66},{"$f":"cálculos1!Q67","v":4},{"$f":"AG68*0.25","v":1}]
["Sul","São José do Calçado",106,39,26,0.66666666666666663,29,0.74358974358974361,53,1.358974358974359,52,1.3333333333333333,35,0.89743589743589747,32,0.82051282051282048,43,1.1025641025641026,31,0.79487179487179482,0,0,32,0.82051282051282048,46,1.1794871794871795,27,0.69230769230769229,null,null,{"$f":"cálculos1!P68","v":4},0.44,{"$f":"cálculos1!Q68","v":3},0.75]
["Norte","São Mateus",1931,650,921,1.416923076923077,879,1.3523076923076922,608,0.93538461538461537,594,0.91384615384615386,565,0.86923076923076925,529,0.81384615384615389,499,0.76769230769230767,440,0.67692307692307696,3,4.6153846153846158E-3,409,0.62923076923076926,508,0.78153846153846152,292,0.44923076923076921,null,null,{"$f":"cálculos1!P69","v":1},0.11,{"$f":"cálculos1!Q69","v":0},0]
["Central","São Roque do Canaã",122,50,18,0.36,20,0.4,33,0.66,32,0.64,25,0.5,28,0.56000000000000005,30,0.6,43,0.86,1,0.02,23,0.46,45,0.9,28,0.56000000000000005,null,null,{"$f":"cálculos1!P70","v":0},0,{"$f":"cálculos1!Q70","v":0},0]
["Metropolitana","Serra",7437,2622,2989,1.1399694889397407,2872,1.0953470633104501,2092,0.7978642257818459,2096,0.7993897787948131,2038,0.77726926010678876,1997,0.76163234172387495,2014,0.76811594202898548,1757,0.67009916094584288,23,8.771929824561403E-3,1041,0.39702517162471396,2016,0.76887871853546907,825,0.31464530892448511,null,null,{"$f":"cálculos1!P71","v":1},0.11,{"$f":"cálculos1!Q71","v":0},0]
["Central","Sooretama",432,150,9,0.06,6,0.04,138,0.92,138,0.92,117,0.78,115,0.76666666666666672,111,0.74,125,0.83333333333333337,0,0,119,0.79333333333333333,127,0.84666666666666668,69,0.46,null,null,{"$f":"cálculos1!P72","v":0},0,{"$f":"cálculos1!Q72","v":0},0]
["Sul","Vargem Alta",256,89,2,2.247191011235955E-2,8,8.98876404494382E-2,72,0.8089887640449438,72,0.8089887640449438,79,0.88764044943820219,81,0.9101123595505618,82,0.9213483146067416,79,0.88764044943820219,1,1.1235955056179775E-2,72,0.8089887640449438,94,1.0561797752808988,51,0.5730337078651685,null,null,{"$f":"cálculos1!P73","v":2},0.22,{"$f":"cálculos1!Q73","v":1},0.25]
["Metropolitana","Venda Nova do Imigrante",406,130,14,0.1076923076923077,130,1,135,1.0384615384615385,135,1.0384615384615385,116,0.89230769230769236,114,0.87692307692307692,124,0.9538461538461539,128,0.98461538461538467,3,2.3076923076923078E-2,75,0.57692307692307687,139,1.0692307692307692,63,0.48461538461538461,null,null,{"$f":"cálculos1!P74","v":6},0.66,{"$f":"cálculos1!Q74","v":3},0.75]
["Metropolitana","Viana",1005,360,68,0.18888888888888888,68,0.18888888888888888,306,0.85,294,0.81666666666666665,280,0.77777777777777779,264,0.73333333333333328,300,0.83333333333333337,220,0.61111111111111116,3,8.3333333333333332E-3,203,0.56388888888888888,301,0.83611111111111114,127,0.3527777777777778,null,null,{"$f":"cálculos1!P75","v":0},0,{"$f":"cálculos1!Q75","v":0},0]
["Norte","Vila Pavão",88,34,9,0.26470588235294118,15,0.44117647058823528,33,0.97058823529411764,32,0.94117647058823528,29,0.8529411764705882,29,0.8529411764705882,27,0.79411764705882348,42,1.2352941176470589,0,{"$f":"U77/D77","v":0},30,0.88235294117647056,51,1.5,29,0.8529411764705882,null,null,{"$f":"cálculos1!P76","v":3},0.33,{"$f":"cálculos1!Q76","v":2},0.5]
["Central","Vila Valério",241,79,11,0.13924050632911392,24,0.30379746835443039,59,0.74683544303797467,59,0.74683544303797467,60,0.759493670886076,66,0.83544303797468356,72,0.91139240506329111,66,0.83544303797468356,0,{"$f":"U78/D78","v":0},47,0.59493670886075944,54,0.68354430379746833,48,0.60759493670886078,null,null,{"$f":"cálculos1!P77","v":0},0,{"$f":"cálculos1!Q77","v":0},0]
["Metropolitana","Vila Velha",5756,1942,1461,0.7523171987641607,1452,0.7476828012358393,1539,0.79248197734294545,1532,0.7888774459320288,1537,0.79145211122554071,1562,0.80432543769309994,1538,0.79196704428424303,1312,0.67559217301750774,33,{"$f":"U79/D79","v":1.6992790937178166E-2},824,0.42430484037075178,1605,0.82646755921730175,778,0.40061791967044286,null,null,{"$f":"cálculos1!P78","v":0},0,{"$f":"cálculos1!Q78","v":0},0]
["Metropolitana","Vitória",3725,1218,2134,1.7520525451559934,2306,1.8932676518883416,1284,1.0541871921182266,1285,1.055008210180624,1069,0.87766830870279144,1116,0.91625615763546797,1189,0.97619047619047616,913,0.74958949096880134,44,{"$f":"U80/D80","v":3.6124794745484398E-2},1172,0.9622331691297209,1133,0.93021346469622335,601,0.49343185550082103,null,null,{"$f":"cálculos1!P79","v":6},0.66,{"$f":"cálculos1!Q79","v":2},0.5]
[]
[null,"Total Norte",{"$f":"SUMIF($A$3:$A$80,\"Norte\",C$3:C$80)","v":5815},{"$f":"SUMIF($A$3:$A$80,\"Norte\",D$3:D$80)","v":1942},{"$f":"SUMIF($A$3:$A$80,\"Norte\",E$3:E$80)","v":1333},{"$f":"E82/D82","v":0.68640576725025748},{"$f":"SUMIF($A$3:$A$80,\"Norte\",G$3:G$80)","v":1417},{"$f":"G82/D82","v":0.72966014418125646},{"$f":"SUMIF($A$3:$A$80,\"Norte\",I$3:I$80)","v":1850},{"$f":"I82/D82","v":0.95262615859938204},{"$f":"SUMIF($A$3:$A$80,\"Norte\",K$3:K$80)","v":1855},{"$f":"K82/D82","v":0.95520082389289396},{"$f":"SUMIF($A$3:$A$80,\"Norte\",M$3:M$80)","v":1745},{"$f":"M82/D82","v":0.89855818743563332},{"$f":"SUMIF($A$3:$A$80,\"Norte\",O$3:O$80)","v":1687},{"$f":"O82/D82","v":0.86869207003089599},{"$f":"SUMIF($A$3:$A$80,\"Norte\",Q$3:Q$80)","v":1661},{"$f":"Q82/D82","v":0.85530381050463444},{"$f":"SUMIF($A$3:$A$80,\"Norte\",S$3:S$80)","v":1688},{"$f":"S82/D82","v":0.86920700308959831},{"$f":"SUMIF($A$3:$A$80,\"Norte\",U$3:U$80)","v":8},{"$f":"U82/D82","v":4.1194644696189494E-3},{"$f":"SUMIF($A$3:$A$80,\"Norte\",W$3:W$80)","v":1320},{"$f":"W82/D82","v":0.67971163748712671},{"$f":"SUMIF($A$3:$A$80,\"Norte\",Y$3:Y$80)","v":1851},{"$f":"Y82/D82","v":0.95314109165808447},{"$f":"SUMIF($A$3:$A$80,\"Norte\",AA$3:AA$80)","v":1159},{"$f":"AA82/D82","v":0.59680741503604529},null,null,{"$f":"cálculos1!P81","v":3},{"$f":"AE82*0.11","v":0.33},{"$f":"cálculos1!Q81","v":3},0.75]
[null,"Total Central",{"$f":"SUMIF($A$3:$A$80,\"Central\",C$3:C$80)","v":7014},{"$f":"SUMIF($A$3:$A$80,\"Central\",D$3:D$80)","v":2274},{"$f":"SUMIF($A$3:$A$80,\"Central\",E$3:E$80)","v":2476},{"$f":"E83/D83","v":1.088830255057168},{"$f":"SUMIF($A$3:$A$80,\"Central\",G$3:G$80)","v":2497},{"$f":"G83/D83","v":1.0980650835532102},{"$f":"SUMIF($A$3:$A$80,\"Central\",I$3:I$80)","v":2158},{"$f":"I83/D83","v":0.94898856640281437},{"$f":"SUMIF($A$3:$A$80,\"Central\",K$3:K$80)","v":2141},{"$f":"K83/D83","v":0.9415127528583993},{"$f":"SUMIF($A$3:$A$80,\"Central\",M$3:M$80)","v":2018},{"$f":"M83/D83","v":0.88742304309586628},{"$f":"SUMIF($A$3:$A$80,\"Central\",O$3:O$80)","v":2037},{"$f":"O83/D83","v":0.89577836411609502},{"$f":"SUMIF($A$3:$A$80,\"Central\",Q$3:Q$80)","v":2012},{"$f":"Q83/D83","v":0.88478452066842572},{"$f":"SUMIF($A$3:$A$80,\"Central\",S$3:S$80)","v":1910},{"$f":"S83/D83","v":0.83992963940193488},{"$f":"SUMIF($A$3:$A$80,\"Central\",U$3:U$80)","v":14},{"$f":"U83/D83","v":6.156552330694811E-3},{"$f":"SUMIF($A$3:$A$80,\"Central\",W$3:W$80)","v":1352},{"$f":"W83/D83","v":0.59454705364995597},{"$f":"SUMIF($A$3:$A$80,\"Central\",Y$3:Y$80)","v":2106},{"$f":"Y83/D83","v":0.92612137203166223},{"$f":"SUMIF($A$3:$A$80,\"Central\",AA$3:AA$80)","v":1348},{"$f":"AA83/D83","v":0.59278803869832897},null,null,{"$f":"cálculos1!P82","v":1},{"$f":"AE83*0.11","v":0.11},{"$f":"cálculos1!Q82","v":0},0]
[null,"Total Metropolitana",{"$f":"SUMIF($A$3:$A$80,\"Metropolitana\",C$3:C$80)","v":30199},{"$f":"SUMIF($A$3:$A$80,\"Metropolitana\",D$3:D$80)","v":10284},{"$f":"SUMIF($A$3:$A$80,\"Metropolitana\",E$3:E$80)","v":8994},{"$f":"E84/D84","v":0.87456242707117848},{"$f":"SUMIF($A$3:$A$80,\"Metropolitana\",G$3:G$80)","v":9387},{"$f":"G84/D84","v":0.91277712952158696},{"$f":"SUMIF($A$3:$A$80,\"Metropolitana\",I$3:I$80)","v":8895},{"$f":"I84/D84","v":0.86493582263710622},{"$f":"SUMIF($A$3:$A$80,\"Metropolitana\",K$3:K$80)","v":8837},{"$f":"K84/D84","v":0.8592959937767406},{"$f":"SUMIF($A$3:$A$80,\"Metropolitana\",M$3:M$80)","v":8591},{"$f":"M84/D84","v":0.83537534033450023},{"$f":"SUMIF($A$3:$A$80,\"Metropolitana\",O$3:O$80)","v":8504},{"$f":"O84/D84","v":0.82691559704395179},{"$f":"SUMIF($A$3:$A$80,\"Metropolitana\",Q$3:Q$80)","v":8686},{"$f":"Q84/D84","v":0.84461299105406462},{"$f":"SUMIF($A$3:$A$80,\"Metropolitana\",S$3:S$80)","v":7439},{"$f":"S84/D84","v":0.72335667055620378},{"$f":"SUMIF($A$3:$A$80,\"Metropolitana\",U$3:U$80)","v":181},{"$f":"U84/D84","v":1.7600155581485803E-2},{"$f":"SUMIF($A$3:$A$80,\"Metropolitana\",W$3:W$80)","v":5909},{"$f":"W84/D84","v":0.57458187475690392},{"$f":"SUMIF($A$3:$A$80,\"Metropolitana\",Y$3:Y$80)","v":8983},{"$f":"Y84/D84","v":0.87349280435628163},{"$f":"SUMIF($A$3:$A$80,\"Metropolitana\",AA$3:AA$80)","v":4614},{"$f":"AA84/D84","v":0.44865810968494751},null,null,{"$f":"cálculos1!P83","v":1},0.11,{"$f":"cálculos1!Q83","v":0},0]
[null,"Total Sul",{"$f":"SUMIF($A$3:$A$80,\"sul\",C$3:C$80)","v":8398},{"$f":"SUMIF($A$3:$A$80,\"sul\",D$3:D$80)","v":2747},{"$f":"SUMIF($A$3:$A$80,\"Sul\",E$3:E$80)","v":2649},{"$f":"E85/D85","v":0.96432471787404439},{"$f":"SUMIF($A$3:$A$80,\"Sul\",G$3:G$80)","v":2717},{"$f":"G85/D85","v":0.9890789952675646},{"$f":"SUMIF($A$3:$A$80,\"Sul\",I$3:I$80)","v":2714},{"$f":"I85/D85","v":0.98798689479432111},{"$f":"SUMIF($A$3:$A$80,\"Sul\",K$3:K$80)","v":2700},{"$f":"K85/D85","v":0.98289042591918452},{"$f":"SUMIF($A$3:$A$80,\"Sul\",M$3:M$80)","v":2647},{"$f":"M85/D85","v":0.96359665089188207},{"$f":"SUMIF($A$3:$A$80,\"Sul\",O$3:O$80)","v":2577},{"$f":"O85/D85","v":0.93811430651619954},{"$f":"SUMIF($A$3:$A$80,\"Sul\",Q$3:Q$80)","v":2614},{"$f":"Q85/D85","v":0.95158354568620318},{"$f":"SUMIF($A$3:$A$80,\"Sul\",S$3:S$80)","v":2198},{"$f":"S85/D85","v":0.80014561339643242},{"$f":"SUMIF($A$3:$A$80,\"Sul\",U$3:U$80)","v":30},{"$f":"U85/D85","v":1.0921004732435385E-2},{"$f":"SUMIF($A$3:$A$80,\"Sul\",W$3:W$80)","v":2059},{"$f":"W85/D85","v":0.74954495813614852},{"$f":"SUMIF($A$3:$A$80,\"Sul\",Y$3:Y$80)","v":2884},{"$f":"Y85/D85","v":1.0498725882781217},{"$f":"SUMIF($A$3:$A$80,\"Sul\",AA$3:AA$80)","v":1456},{"$f":"AA85/D85","v":0.53003276301419733},null,null,{"$f":"cálculos1!P84","v":7},0.77,{"$f":"cálculos1!Q84","v":4},1]
[null,"Total Espírito Santo",{"$f":"SUM(C3:C80)","v":51426},{"$f":"SUM(D3:D80)","v":17247},{"$f":"SUM(E82:E85)","v":15452},{"$f":"E86/D86","v":0.89592392879921146},{"$f":"SUM(G82:G85)","v":16018},{"$f":"G86/D86","v":0.92874123035890299},{"$f":"SUM(I82:I85)","v":15617},{"$f":"I86/D86","v":0.90549080999594134},{"$f":"SUM(K82:K85)","v":15533},{"$f":"K86/D86","v":0.90062039775033342},{"$f":"SUM(M82:M85)","v":15001},{"$f":"M86/D86","v":0.86977445352814986},{"$f":"SUM(O82:O85)","v":14805},{"$f":"O86/D86","v":0.85841015828839795},{"$f":"SUM(Q82:Q85)","v":14973},{"$f":"Q86/D86","v":0.86815098277961389},{"$f":"SUM(S82:S85)","v":13235},{"$f":"S86/D86","v":0.76737983417405931},{"$f":"SUM(U82:U85)","v":233},{"$f":"U86/D86","v":1.350959587174581E-2},{"$f":"SUM(W82:W85)","v":10640},{"$f":"W86/D86","v":0.61691888444367138},{"$f":"SUM(Y82:Y85)","v":15824},{"$f":"Y86/D86","v":0.91749289731547512},{"$f":"SUM(AA82:AA85)","v":8577},{"$f":"AA86/D86","v":0.49730387893546701},null,null,{"$f":"cálculos1!P85","v":1},0.11,{"$f":"cálculos1!Q85","v":0},0]
[null,null,null,null,{"$f":"COUNTIF(F3:F80,\">=0,95\")","v":9},null,{"$f":"COUNTIF(H3:H80,\">=0,9\")","v":11},null,{"$f":"COUNTIF(J3:J80,\">=0,95\")","v":46},null,{"$f":"COUNTIF(L3:L80,\">=0,95\")","v":43},null,{"$f":"COUNTIF(N3:N80,\">=0,95\")","v":39},null,{"$f":"COUNTIF(P3:P80,\">=0,9\")","v":45},null,{"$f":"COUNTIF(R3:R80,\">=0,95\")","v":34},null,{"$f":"COUNTIF(T3:T80,\">=0,95\")","v":33},null,{"$f":"COUNTIF(V3:V80,\">=0,95\")","v":0},null,{"$f":"COUNTIF(X3:X80,\">=0,95\")","v":10},null,{"$f":"COUNTIF(Z3:Z80,\">=0,95\")","v":54},null,{"$f":"COUNTIF(AB3:AB80,\">=0,95\")","v":6}]
[null,"HOMOGENEIDADE ENTRE MUNICÍPIOS",null,null,{"$f":"E87/78","v":0.11538461538461539},null,{"$f":"G87/78","v":0.14102564102564102},null,{"$f":"I87/78","v":0.58974358974358976},null,{"$f":"K87/78","v":0.55128205128205132},null,{"$f":"M87/78","v":0.5},null,{"$f":"O87/78","v":0.57692307692307687},null,{"$f":"Q87/78","v":0.4358974358974359},null,{"$f":"S87/78","v":0.42307692307692307},null,{"$f":"U87/78","v":0},null,{"$f":"W87/78","v":0.12820512820512819},null,{"$f":"Y87/78","v":0.69230769230769229},null,{"$f":"AA87/78","v":7.6923076923076927E-2}]
[]
[" FonteVacina e Confia, em 09 de Maio de 2024.**"]
["**Dados referente às doses aplicadas no período de Abril de 2024"]
["Cobertura Calculada por município de procedência da vacinação"]
["1 População anual extraída do MS/SVS/DASIS - SINASC/DASIS/SVS/MS 2023 (hoje preliminares) referente ao período de março a dezembro de 2023 e SINASC/DASIS/SVS/MS 2024 referente ao período de janeiro a fevereiro de 2024."]
[]
["² População proporcional extraída do MS/SVS/DASIS - SINASC/DASIS/SVS/MS 2023 (hoje preliminares) referente ao período de março  e abril de 2023 somada a população extraída do SINASC/DASIS/SVS/MS 2024 referente ao período de janeiro e fevereiro de 2024."]
[]
["Observações:"]
["Imunobiológicos que foram recebidos parcialmente pelo estado no mês da análise, sendo distribuídos em quantidades reduzidas às regionais e municípios: Varicela, Febre Amarela e HPV Quadrivalente."]
["Imunobiológicos que não foram recebidos pelo estado no mês da análise, não sendo possível a distribuição às regionais e municípios: Meningo C, Hepatite A (CRIE), HIB, Hepatite A Rotina Pediátrica, DTPa (CRIE)."]
["Imunobiológicos com indisponibilidade de aquisição e distribuição no mês da análise: Tetra Viral."]

{"sheet":"CV Rotina <2A - residência","index":1,"n_rows":101,"n_cols":37,"rows_kept":101,"cut":false,"hidden":false,"merged":[[95,0,95,12],[0,4,0,7],[0,8,0,21],[0,22,0,27],[89,0,89,12],[87,1,87,3],[86,6,86,7],[87,6,87,7],[86,8,86,9],[87,8,87,9],[86,4,86,5],[86,10,86,11],[86,12,86,13],[87,26,87,27],[87,4,87,5],[87,14,87,15],[87,20,87,21],[90,0,90,12],[87,18,87,19],[2,35,2,36],[11,35,11,36],[86,14,86,15],[86,16,86,17],[86,18,86,19],[86,22,86,23],[86,24,86,25],[86,26,86,27],[86,20,86,21],[87,22,87,23],[87,24,87,25],[91,0,92,12],[87,16,87,17],[93,0,94,12],[87,10,87,11],[87,12,87,13]]}
[null,null,null,null,"AO NASCER",null,null,null,"MENOR DE 1 ANO",null,null,null,null,null,null,null,null,null,null,null,null,null,"1 ANO"]
["Regional ","Município","¹População < 1 ano e 1 ano anual ","²População < 1 ano e 1 ano proporcional ","Doses Aplicadas HB\n< 30 dias","Cobertura Vacinal HB\naté 30 dias","Doses Aplicadas BCG","Cobertura Vacinal BCG","Doses Aplicadas Pentavalente ","Cobertura Vacinal Pentavalente","Doses Aplicadas Poliomielite ","Cobertura Vacinal Poliomielite ","Doses Aplicadas Pneumo 10","Cobertura Vacinal Pneumo 10","Doses Aplicadas Rotavírus","Cobertura Vacinal Rotavírus","Doses Aplicadas Meningo C","Cobertura Vacinal Meningo C","Doses Aplicadas Febre Amarela","Cobertura Vacinal Febre Amarela","Doses Aplicadas COVID-19","Cobertura Vacinal COVID-19","Doses Aplicadas Hepatite A","Cobertura Vacinal Hepatite A","Doses Aplicadas de Tríplice Viral","Cobertura Vacinal Tríplice Viral","Doses Aplicadas Varicela","Cobertura Varicela",null,null,"VACINAS QUE ATINGIRAM A META DE CV","HOMOGENEIDADE ENTRE AS 10 VACINAS","VACINAS DO PQA-VS QUE ATINGIRAM A META DE CV","HOMOGENEIDADE ENTRE AS VACINAS DO PQA-VS"]
["Metropolitana","Afonso Cláudio",384,126,101,{"$f":"E3/D3","v":0.80158730158730163},108,{"$f":"G3/D3","v":0.8571428571428571},134,{"$f":"I3/D3","v":1.0634920634920635},134,{"$f":"K3/D3","v":1.0634920634920635},116,{"$f":"M3/D3","v":0.92063492063492058},120,{"$f":"O3/D3","v":0.95238095238095233},127,{"$f":"Q3/D3","v":1.0079365079365079},115,{"$f":"S3/D3","v":0.91269841269841268},0,{"$f":"U3/D3","v":0},108,{"$f":"W3/D3","v":0.8571428571428571},151,{"$f":"Y3/D3","v":1.1984126984126984},76,{"$f":"AA3/D3","v":0.60317460317460314},null,null,{"$f":"cálculos2!P2","v":5},{"$f":"AE3*0.1","v":0.5},{"$f":"cálculos2!Q2","v":3},{"$f":"AG3*0.25","v":0.75},null,"LEGENDA / HOMOGENEIDADE PQA-VS"]
["Norte","Água Doce do Norte",170,61,68,1.1147540983606556,71,{"$f":"G4/D4","v":1.1639344262295082},55,{"$f":"I4/D4","v":0.90163934426229508},57,{"$f":"K4/D4","v":0.93442622950819676},53,{"$f":"M4/D4","v":0.86885245901639341},49,{"$f":"O4/D4","v":0.80327868852459017},57,{"$f":"Q4/D4","v":0.93442622950819676},50,{"$f":"S4/D4","v":0.81967213114754101},0,{"$f":"U4/D4","v":0},42,{"$f":"W4/D4","v":0.68852459016393441},47,{"$f":"Y4/D4","v":0.77049180327868849},22,{"$f":"AA4/D4","v":0.36065573770491804},null,null,{"$f":"cálculos2!P3","v":1},{"$f":"AE4*0.1","v":0.1},{"$f":"cálculos2!Q3","v":0},{"$f":"AG4*0.25","v":0},null,"PERCENTUAL","Nº DE MUNICÍPIOS"]
["Central","Águia Branca",149,39,51,1.3076923076923077,53,1.358974358974359,61,1.5641025641025641,61,1.5641025641025641,53,1.358974358974359,52,1.3333333333333333,63,1.6153846153846154,47,1.2051282051282051,0,0,35,0.89743589743589747,38,0.97435897435897434,22,0.5641025641025641,null,null,{"$f":"cálculos2!P4","v":8},0.8,{"$f":"cálculos2!Q4","v":4},1,null,0,{"$f":"COUNTIF($AH$3:$AH$80,\"=0\")","v":21}]
["Sul","Alegre",327,93,103,1.10752688172043,102,1.096774193548387,101,1.086021505376344,107,1.1505376344086022,110,1.1827956989247312,107,1.1505376344086022,105,1.1290322580645162,108,1.1612903225806452,1,1.0752688172043012E-2,80,0.86021505376344087,101,1.086021505376344,44,0.4731182795698925,null,null,{"$f":"cálculos2!P5","v":8},0.8,{"$f":"cálculos2!Q5","v":4},1,null,0.25,{"$f":"COUNTIF($AH$3:$AH$80,\"=0,25\")","v":12}]
["Sul","Alfredo Chaves",146,46,30,0.65217391304347827,33,0.71739130434782605,52,1.1304347826086956,50,1.0869565217391304,57,1.2391304347826086,60,1.3043478260869565,61,1.326086956521739,48,1.0434782608695652,0,0,41,0.89130434782608692,49,1.0652173913043479,36,0.78260869565217395,null,null,{"$f":"cálculos2!P6","v":7},0.70000000000000007,{"$f":"cálculos2!Q6","v":4},1,null,0.5,{"$f":"COUNTIF($AH$3:$AH$80,\"=0,5\")","v":7}]
["Central","Alto Rio Novo",80,21,21,1,22,1.0476190476190477,33,1.5714285714285714,32,1.5238095238095237,31,1.4761904761904763,32,1.5238095238095237,31,1.4761904761904763,26,1.2380952380952381,0,0,25,1.1904761904761905,31,1.4761904761904763,16,0.76190476190476186,null,null,{"$f":"cálculos2!P7","v":9},0.9,{"$f":"cálculos2!Q7","v":4},1,null,0.75,{"$f":"COUNTIF($AH$3:$AH$80,\"=0,75\")","v":7}]
["Sul","Anchieta",365,109,114,1.0458715596330275,120,1.1009174311926606,134,1.2293577981651376,136,1.2477064220183487,136,1.2477064220183487,136,1.2477064220183487,137,1.2568807339449541,93,0.85321100917431192,5,4.5871559633027525E-2,105,0.96330275229357798,131,1.201834862385321,78,0.7155963302752294,null,null,{"$f":"cálculos2!P8","v":8},0.8,{"$f":"cálculos2!Q8","v":4},1,null,1,{"$f":"COUNTIF($AH$3:$AH$80,\"=1,0\")","v":31}]
["Sul","Apiacá",64,20,14,0.7,20,1,17,0.85,17,0.85,22,1.1000000000000001,21,1.05,17,0.85,20,1,0,0,4,0.2,15,0.75,4,0.2,null,null,{"$f":"cálculos2!P9","v":4},0.4,{"$f":"cálculos2!Q9","v":1},0.25]
["Metropolitana","Aracruz",1456,490,484,0.98775510204081629,480,0.97959183673469385,426,0.8693877551020408,428,0.87346938775510208,444,0.90612244897959182,443,0.90408163265306118,443,0.90408163265306118,400,0.81632653061224492,12,2.4489795918367346E-2,430,0.87755102040816324,517,1.0551020408163265,334,0.68163265306122445,null,null,{"$f":"cálculos2!P10","v":3},0.30000000000000004,{"$f":"cálculos2!Q10","v":1},0.25]
["Sul","Atilio Vivacqua",133,42,40,0.95238095238095233,38,0.90476190476190477,38,0.90476190476190477,37,0.88095238095238093,39,0.9285714285714286,39,0.9285714285714286,42,1,32,0.76190476190476186,0,0,30,0.7142857142857143,43,1.0238095238095237,31,0.73809523809523814,null,null,{"$f":"cálculos2!P11","v":4},0.4,{"$f":"cálculos2!Q11","v":1},0.25,null,"LEGENDA / HOMOGENEIDADE 10 VACINAS"]
["Central","Baixo Guandu",364,105,103,0.98095238095238091,130,1.2380952380952381,141,1.3428571428571427,142,1.3523809523809525,133,1.2666666666666666,131,1.2476190476190476,137,1.3047619047619048,107,1.019047619047619,0,0,120,1.1428571428571428,164,1.5619047619047619,96,0.91428571428571426,null,null,{"$f":"cálculos2!P12","v":9},0.9,{"$f":"cálculos2!Q12","v":4},1,null,"PERCENTUAL","Nº DE MUNICÍPIOS"]
["Norte","Barra de São Francisco",534,166,162,0.97590361445783136,157,0.94578313253012047,164,0.98795180722891562,159,0.95783132530120485,172,1.036144578313253,166,1,176,1.0602409638554218,170,1.0240963855421688,0,0,143,0.86144578313253017,195,1.1746987951807228,140,0.84337349397590367,null,null,{"$f":"cálculos2!P13","v":8},0.8,{"$f":"cálculos2!Q13","v":4},1,null,0,{"$f":"COUNTIF($AF$3:$AF$80,\"=0\")","v":12}]
["Norte","Boa Esperança",199,72,40,0.55555555555555558,57,0.79166666666666663,51,0.70833333333333337,61,0.84722222222222221,68,0.94444444444444442,71,0.98611111111111116,64,0.88888888888888884,57,0.79166666666666663,1,1.3888888888888888E-2,44,0.61111111111111116,73,1.0138888888888888,49,0.68055555555555558,null,null,{"$f":"cálculos2!P14","v":2},0.2,{"$f":"cálculos2!Q14","v":1},0.25,null,0.1,{"$f":"COUNTIFS($AF$3:$AF$80,\">=0,10\",$AF$3:$AF$80,\"<0,20\")","v":11}]
["Sul","Bom Jesus do Norte",83,23,22,0.95652173913043481,25,1.0869565217391304,47,2.0434782608695654,45,1.9565217391304348,36,1.5652173913043479,35,1.5217391304347827,35,1.5217391304347827,38,1.6521739130434783,4,0.17391304347826086,5,0.21739130434782608,35,1.5217391304347827,5,0.21739130434782608,null,null,{"$f":"cálculos2!P15","v":8},0.8,{"$f":"cálculos2!Q15","v":4},1,null,0.2,{"$f":"COUNTIFS($AF$3:$AF$80,\">=0,20\",$AF$3:$AF$80,\"<0,30\")","v":8}]
["Metropolitana","Brejetuba",212,70,26,0.37142857142857144,70,1,67,0.95714285714285718,67,0.95714285714285718,60,0.8571428571428571,62,0.88571428571428568,57,0.81428571428571428,69,0.98571428571428577,0,0,59,0.84285714285714286,66,0.94285714285714284,41,0.58571428571428574,null,null,{"$f":"cálculos2!P16","v":4},0.4,{"$f":"cálculos2!Q16","v":2},0.5,null,0.3,{"$f":"COUNTIFS($AF$3:$AF$80,\">=0,30\",$AF$3:$AF$80,\"<0,40\")","v":4}]
["Sul","Cachoeiro de Itapemirim",2473,863,947,1.0973348783314021,953,1.104287369640788,734,0.85052143684820392,721,0.83545770567786792,692,0.80185399768250287,682,0.79026651216685984,691,0.80069524913093859,586,0.67902665121668593,5,5.7937427578215531E-3,614,0.7114716106604867,810,0.93858632676709153,372,0.43105446118192353,null,null,{"$f":"cálculos2!P17","v":1},0.1,{"$f":"cálculos2!Q17","v":0},0,null,0.4,{"$f":"COUNTIFS($AF$3:$AF$80,\">=0,40\",$AF$3:$AF$80,\"<0,50\")","v":7}]
["Metropolitana","Cariacica",4917,1679,1458,0.86837403216200115,1459,0.86896962477665274,1506,0.89696247766527692,1481,0.88207266229898751,1476,0.87909469922572958,1409,0.83918999404407391,1436,0.85527099463966649,1199,0.71411554496724239,32,1.9058963668850508E-2,853,0.50804050029779635,1523,0.90708755211435377,764,0.45503275759380585,null,null,{"$f":"cálculos2!P18","v":0},0,{"$f":"cálculos2!Q18","v":0},0,null,0.5,{"$f":"COUNTIFS($AF$3:$AF$80,\">=0,50\",$AF$3:$AF$80,\"<0,60\")","v":3}]
["Sul","Castelo",454,160,132,0.82499999999999996,131,0.81874999999999998,140,0.875,141,0.88124999999999998,137,0.85624999999999996,132,0.82499999999999996,130,0.8125,134,0.83750000000000002,0,0,70,0.4375,155,0.96875,84,0.52500000000000002,null,null,{"$f":"cálculos2!P19","v":1},0.1,{"$f":"cálculos2!Q19","v":1},0.25,null,0.6,{"$f":"COUNTIFS($AF$3:$AF$80,\">=0,60\",$AF$3:$AF$80,\"<0,70\")","v":6}]
["Central","Colatina",1532,496,538,1.0846774193548387,528,1.064516129032258,484,0.97580645161290325,471,0.94959677419354838,426,0.8588709677419355,429,0.86491935483870963,452,0.91129032258064513,406,0.81854838709677424,5,1.0080645161290322E-2,220,0.44354838709677419,482,0.97177419354838712,284,0.57258064516129037,null,null,{"$f":"cálculos2!P20","v":3},0.30000000000000004,{"$f":"cálculos2!Q20","v":2},0.5,null,0.7,{"$f":"COUNTIFS($AF$3:$AF$80,\">=0,70\",$AF$3:$AF$80,\"<0,80\")","v":10}]
["Norte","Conceição da Barra",389,136,68,0.5,68,0.5,108,0.79411764705882348,110,0.80882352941176472,123,0.90441176470588236,116,0.8529411764705882,113,0.83088235294117652,128,0.94117647058823528,0,0,80,0.58823529411764708,132,0.97058823529411764,78,0.57352941176470584,null,null,{"$f":"cálculos2!P21","v":1},0.1,{"$f":"cálculos2!Q21","v":1},0.25,null,0.8,{"$f":"COUNTIFS($AF$3:$AF$80,\">=0,80\",$AF$3:$AF$80,\"<0,90\")","v":11}]
["Metropolitana","Conceição do Castelo",168,60,13,0.21666666666666667,48,0.8,43,0.71666666666666667,41,0.68333333333333335,35,0.58333333333333337,34,0.56666666666666665,38,0.6333333333333333,51,0.85,0,0,37,0.6166666666666667,42,0.7,28,0.46666666666666667,null,null,{"$f":"cálculos2!P22","v":0},0,{"$f":"cálculos2!Q22","v":0},0,null,0.9,{"$f":"COUNTIFS($AF$3:$AF$80,\">=0,90\",$AF$3:$AF$80,\"<1,0\")","v":4}]
["Sul","Divino de São Lourenço",65,21,26,1.2380952380952381,26,1.2380952380952381,25,1.1904761904761905,25,1.1904761904761905,27,1.2857142857142858,27,1.2857142857142858,26,1.2380952380952381,19,0.90476190476190477,0,0,17,0.80952380952380953,13,0.61904761904761907,13,0.61904761904761907,null,null,{"$f":"cálculos2!P23","v":6},0.60000000000000009,{"$f":"cálculos2!Q23","v":3},0.75,null,1,{"$f":"COUNTIF($AF$3:$AF$80,\">=1,0\")","v":2}]
["Metropolitana","Domingos Martins",411,133,102,0.76691729323308266,123,0.92481203007518797,112,0.84210526315789469,111,0.83458646616541354,132,0.99248120300751874,128,0.96240601503759393,125,0.93984962406015038,122,0.91729323308270672,3,2.2556390977443608E-2,84,0.63157894736842102,141,1.0601503759398496,136,1.0225563909774436,null,null,{"$f":"cálculos2!P24","v":5},0.5,{"$f":"cálculos2!Q24","v":2},0.5]
["Sul","Dores do Rio Preto",97,36,16,0.44444444444444442,20,0.55555555555555558,32,0.88888888888888884,35,0.97222222222222221,36,1,34,0.94444444444444442,36,1,30,0.83333333333333337,1,2.7777777777777776E-2,16,0.44444444444444442,34,0.94444444444444442,13,0.3611111111111111,null,null,{"$f":"cálculos2!P25","v":4},0.4,{"$f":"cálculos2!Q25","v":2},0.5]
["Norte","Ecoporanga",256,89,105,1.1797752808988764,105,1.1797752808988764,94,1.0561797752808988,92,1.0337078651685394,75,0.84269662921348309,73,0.8202247191011236,74,0.8314606741573034,79,0.88764044943820219,0,0,62,0.6966292134831461,84,0.9438202247191011,71,0.797752808988764,null,null,{"$f":"cálculos2!P26","v":3},0.30000000000000004,{"$f":"cálculos2!Q26","v":2},0.5]
["Metropolitana","Fundão",220,81,60,0.7407407407407407,63,0.77777777777777779,83,1.0246913580246915,81,1,68,0.83950617283950613,70,0.86419753086419748,72,0.88888888888888884,68,0.83950617283950613,1,1.2345679012345678E-2,65,0.80246913580246915,67,0.8271604938271605,59,0.72839506172839508,null,null,{"$f":"cálculos2!P27","v":2},0.2,{"$f":"cálculos2!Q27","v":2},0.5]
["Central","Governador Lindenberg",147,52,36,0.69230769230769229,36,0.69230769230769229,45,0.86538461538461542,43,0.82692307692307687,45,0.86538461538461542,46,0.88461538461538458,44,0.84615384615384615,50,0.96153846153846156,1,1.9230769230769232E-2,33,0.63461538461538458,32,0.61538461538461542,31,0.59615384615384615,null,null,{"$f":"cálculos2!P28","v":1},0.1,{"$f":"cálculos2!Q28","v":0},0]
["Sul","Guaçuí",406,131,103,0.7862595419847328,114,0.87022900763358779,149,1.1374045801526718,145,1.1068702290076335,133,1.0152671755725191,123,0.93893129770992367,136,1.0381679389312977,114,0.87022900763358779,0,0,112,0.85496183206106868,144,1.0992366412213741,77,0.58778625954198471,null,null,{"$f":"cálculos2!P29","v":6},0.60000000000000009,{"$f":"cálculos2!Q29","v":4},1]
["Metropolitana","Guarapari",1741,578,480,0.83044982698961933,540,0.93425605536332179,504,0.87197231833910038,487,0.84256055363321802,519,0.89792387543252594,504,0.87197231833910038,507,0.87716262975778547,382,0.66089965397923878,2,3.4602076124567475E-3,382,0.66089965397923878,490,0.84775086505190311,313,0.54152249134948094,null,null,{"$f":"cálculos2!P30","v":1},0.1,{"$f":"cálculos2!Q30","v":0},0]
["Metropolitana","Ibatiba",361,112,68,0.6071428571428571,127,1.1339285714285714,128,1.1428571428571428,127,1.1339285714285714,119,1.0625,110,0.9821428571428571,134,1.1964285714285714,104,0.9285714285714286,4,3.5714285714285712E-2,82,0.7321428571428571,110,0.9821428571428571,33,0.29464285714285715,null,null,{"$f":"cálculos2!P31","v":7},0.70000000000000007,{"$f":"cálculos2!Q31","v":4},1]
["Metropolitana","Ibiraçu",153,58,44,0.75862068965517238,43,0.74137931034482762,43,0.74137931034482762,41,0.7068965517241379,39,0.67241379310344829,37,0.63793103448275867,44,0.75862068965517238,47,0.81034482758620685,3,5.1724137931034482E-2,25,0.43103448275862066,41,0.7068965517241379,21,0.36206896551724138,null,null,{"$f":"cálculos2!P32","v":0},0,{"$f":"cálculos2!Q32","v":0},0]
["Sul","Ibitirama",127,37,37,1,41,1.1081081081081081,37,1,37,1,38,1.027027027027027,40,1.0810810810810811,36,0.97297297297297303,23,0.6216216216216216,0,0,29,0.78378378378378377,42,1.1351351351351351,28,0.7567567567567568,null,null,{"$f":"cálculos2!P33","v":7},0.70000000000000007,{"$f":"cálculos2!Q33","v":4},1]
["Sul","Iconha",115,36,31,{"$f":"E35/D35","v":0.86111111111111116},28,0.77777777777777779,39,1.0833333333333333,36,1,42,1.1666666666666667,42,1.1666666666666667,33,0.91666666666666663,42,1.1666666666666667,1,2.7777777777777776E-2,28,0.77777777777777779,59,1.6388888888888888,17,0.47222222222222221,null,null,{"$f":"cálculos2!P34","v":6},0.60000000000000009,{"$f":"cálculos2!Q34","v":4},1]
["Sul","Irupi",195,59,48,0.81355932203389836,55,0.93220338983050843,68,1.152542372881356,67,1.1355932203389831,77,1.3050847457627119,72,1.2203389830508475,78,1.3220338983050848,57,0.96610169491525422,5,8.4745762711864403E-2,58,0.98305084745762716,94,1.5932203389830508,26,0.44067796610169491,null,null,{"$f":"cálculos2!P35","v":9},0.9,{"$f":"cálculos2!Q35","v":4},1]
["Metropolitana","Itaguaçu",129,37,48,1.2972972972972974,50,1.3513513513513513,42,1.1351351351351351,41,1.1081081081081081,40,1.0810810810810811,40,1.0810810810810811,45,1.2162162162162162,42,1.1351351351351351,0,0,47,1.2702702702702702,48,1.2972972972972974,43,1.1621621621621621,null,null,{"$f":"cálculos2!P36","v":10},1,{"$f":"cálculos2!Q36","v":4},1]
["Sul","Itapemirim",543,157,142,0.90445859872611467,146,0.92993630573248409,154,0.98089171974522293,153,0.97452229299363058,179,1.1401273885350318,160,1.0191082802547771,155,0.98726114649681529,108,0.68789808917197448,0,0,155,0.98726114649681529,178,1.1337579617834395,100,0.63694267515923564,null,null,{"$f":"cálculos2!P37","v":8},0.8,{"$f":"cálculos2!Q37","v":4},1]
["Metropolitana","Itarana",143,51,51,1,56,1.0980392156862746,40,0.78431372549019607,41,0.80392156862745101,37,0.72549019607843135,37,0.72549019607843135,34,0.66666666666666663,53,1.0392156862745099,0,0,19,0.37254901960784315,40,0.78431372549019607,36,0.70588235294117652,null,null,{"$f":"cálculos2!P38","v":2},0.2,{"$f":"cálculos2!Q38","v":0},0]
["Sul","Iúna",481,154,104,0.67532467532467533,105,0.68181818181818177,159,1.0324675324675325,155,1.0064935064935066,162,1.051948051948052,160,1.0389610389610389,157,1.0194805194805194,142,0.92207792207792205,0,0,91,0.59090909090909094,162,1.051948051948052,81,0.52597402597402598,null,null,{"$f":"cálculos2!P39","v":6},0.60000000000000009,{"$f":"cálculos2!Q39","v":4},1]
["Norte","Jaguaré",487,154,161,1.0454545454545454,143,0.9285714285714286,157,1.0194805194805194,166,1.0779220779220779,157,1.0194805194805194,153,0.99350649350649356,150,0.97402597402597402,150,0.97402597402597402,3,1.948051948051948E-2,105,0.68181818181818177,155,1.0064935064935066,94,0.61038961038961037,null,null,{"$f":"cálculos2!P40","v":8},0.8,{"$f":"cálculos2!Q40","v":4},1]
["Sul","Jerônimo Monteiro",160,49,50,1.0204081632653061,51,1.0408163265306123,64,1.3061224489795917,64,1.3061224489795917,54,1.1020408163265305,54,1.1020408163265305,47,0.95918367346938771,50,1.0204081632653061,2,4.0816326530612242E-2,29,0.59183673469387754,47,0.95918367346938771,18,0.36734693877551022,null,null,{"$f":"cálculos2!P41","v":8},0.8,{"$f":"cálculos2!Q41","v":4},1]
["Metropolitana","João Neiva",180,59,45,0.76271186440677963,45,0.76271186440677963,59,1,57,0.96610169491525422,59,1,58,0.98305084745762716,55,0.93220338983050843,57,0.96610169491525422,1,1.6949152542372881E-2,38,0.64406779661016944,67,1.1355932203389831,30,0.50847457627118642,null,null,{"$f":"cálculos2!P42","v":6},0.60000000000000009,{"$f":"cálculos2!Q42","v":4},1]
["Metropolitana","Laranja da Terra",98,37,27,0.72972972972972971,28,0.7567567567567568,29,0.78378378378378377,29,0.78378378378378377,22,0.59459459459459463,23,0.6216216216216216,27,0.72972972972972971,40,1.0810810810810811,5,0.13513513513513514,29,0.78378378378378377,50,1.3513513513513513,28,0.7567567567567568,null,null,{"$f":"cálculos2!P43","v":2},0.2,{"$f":"cálculos2!Q43","v":1},0.25]
["Central","Linhares",2574,863,720,0.83429895712630364,734,0.85052143684820392,735,0.8516801853997682,732,0.84820393974507535,704,0.81575898030127458,733,0.84936268829663963,686,0.79490150637311707,658,0.7624565469293163,1,1.1587485515643105E-3,458,0.53070683661645424,747,0.86558516801854002,445,0.51564310544611824,null,null,{"$f":"cálculos2!P44","v":0},0,{"$f":"cálculos2!Q44","v":0},0]
["Central","Mantenópolis",156,51,46,0.90196078431372551,55,1.0784313725490196,49,0.96078431372549022,53,1.0392156862745099,42,0.82352941176470584,40,0.78431372549019607,40,0.78431372549019607,48,0.94117647058823528,0,0,41,0.80392156862745101,54,1.0588235294117647,34,0.66666666666666663,null,null,{"$f":"cálculos2!P45","v":4},0.4,{"$f":"cálculos2!Q45","v":3},0.75]
["Sul","Marataízes",556,206,191,0.92718446601941751,178,0.86407766990291257,171,0.83009708737864074,175,0.84951456310679607,175,0.84951456310679607,172,0.83495145631067957,179,0.8689320388349514,124,0.60194174757281549,0,0,153,0.74271844660194175,180,0.87378640776699024,96,0.46601941747572817,null,null,{"$f":"cálculos2!P46","v":0},0,{"$f":"cálculos2!Q46","v":0},0]
["Metropolitana","Marechal Floriano",237,88,56,0.63636363636363635,59,0.67045454545454541,57,0.64772727272727271,58,0.65909090909090906,77,0.875,76,0.86363636363636365,72,0.81818181818181823,50,0.56818181818181823,2,2.2727272727272728E-2,55,0.625,80,0.90909090909090906,47,0.53409090909090906,null,null,{"$f":"cálculos2!P47","v":0},0,{"$f":"cálculos2!Q47","v":0},0]
["Central","Marilândia",157,37,48,1.2972972972972974,49,1.3243243243243243,57,1.5405405405405406,57,1.5405405405405406,48,1.2972972972972974,49,1.3243243243243243,59,1.5945945945945945,47,1.2702702702702702,0,0,42,1.1351351351351351,51,1.3783783783783783,43,1.1621621621621621,null,null,{"$f":"cálculos2!P48","v":10},1,{"$f":"cálculos2!Q48","v":4},1]
["Sul","Mimoso do Sul",254,71,68,0.95774647887323938,70,0.9859154929577465,79,1.1126760563380282,79,1.1126760563380282,80,1.1267605633802817,77,1.0845070422535212,78,1.0985915492957747,59,0.83098591549295775,0,0,54,0.76056338028169013,71,1,44,0.61971830985915488,null,null,{"$f":"cálculos2!P49","v":7},0.70000000000000007,{"$f":"cálculos2!Q49","v":4},1]
["Norte","Montanha",259,77,47,0.61038961038961037,46,0.59740259740259738,97,1.2597402597402598,99,1.2857142857142858,81,1.051948051948052,82,1.0649350649350648,82,1.0649350649350648,80,1.0389610389610389,1,1.2987012987012988E-2,79,1.025974025974026,84,1.0909090909090908,64,0.83116883116883122,null,null,{"$f":"cálculos2!P50","v":8},0.8,{"$f":"cálculos2!Q50","v":4},1]
["Norte","Mucurici",73,19,11,0.57894736842105265,12,0.63157894736842102,28,1.4736842105263157,28,1.4736842105263157,30,1.5789473684210527,30,1.5789473684210527,24,1.263157894736842,32,1.6842105263157894,0,0,16,0.84210526315789469,31,1.631578947368421,15,0.78947368421052633,null,null,{"$f":"cálculos2!P51","v":7},0.70000000000000007,{"$f":"cálculos2!Q51","v":4},1]
["Sul","Muniz Freire",221,72,61,0.84722222222222221,64,0.88888888888888884,83,1.1527777777777777,78,1.0833333333333333,77,1.0694444444444444,74,1.0277777777777777,76,1.0555555555555556,81,1.125,0,0,62,0.86111111111111116,86,1.1944444444444444,39,0.54166666666666663,null,null,{"$f":"cálculos2!P52","v":7},0.70000000000000007,{"$f":"cálculos2!Q52","v":4},1]
["Sul","Muqui",165,43,43,1,43,1,63,1.4651162790697674,64,1.4883720930232558,45,1.0465116279069768,43,1,54,1.2558139534883721,48,1.1162790697674418,4,9.3023255813953487E-2,32,0.7441860465116279,53,1.2325581395348837,32,0.7441860465116279,null,null,{"$f":"cálculos2!P53","v":8},0.8,{"$f":"cálculos2!Q53","v":4},1]
["Norte","Nova Venécia",683,225,112,0.49777777777777776,199,0.88444444444444448,243,1.08,244,1.0844444444444445,198,0.88,190,0.84444444444444444,212,0.94222222222222218,215,0.9555555555555556,0,0,165,0.73333333333333328,216,0.96,153,0.68,null,null,{"$f":"cálculos2!P54","v":4},0.4,{"$f":"cálculos2!Q54","v":3},0.75]
["Central","Pancas",208,56,68,1.2142857142857142,62,1.1071428571428572,85,1.5178571428571428,84,1.5,80,1.4285714285714286,77,1.375,82,1.4642857142857142,65,1.1607142857142858,1,1.7857142857142856E-2,50,0.8928571428571429,68,1.2142857142857142,75,1.3392857142857142,null,null,{"$f":"cálculos2!P55","v":9},0.9,{"$f":"cálculos2!Q55","v":4},1]
["Norte","Pedro Canário",335,129,62,0.48062015503875971,66,0.51162790697674421,108,0.83720930232558144,109,0.84496124031007747,88,0.68217054263565891,84,0.65116279069767447,88,0.68217054263565891,103,0.79844961240310075,0,0,66,0.51162790697674421,133,1.0310077519379846,83,0.64341085271317833,null,null,{"$f":"cálculos2!P56","v":1},0.1,{"$f":"cálculos2!Q56","v":1},0.25]
["Norte","Pinheiros",330,109,49,0.44954128440366975,47,0.43119266055045874,109,1,108,0.99082568807339455,97,0.88990825688073394,93,0.85321100917431192,96,0.88073394495412849,101,0.92660550458715596,0,0,72,0.66055045871559637,107,0.98165137614678899,44,0.40366972477064222,null,null,{"$f":"cálculos2!P57","v":3},0.30000000000000004,{"$f":"cálculos2!Q57","v":3},0.75]
["Sul","Piúma",292,83,85,1.0240963855421688,83,1,94,1.1325301204819278,93,1.1204819277108433,96,1.1566265060240963,87,1.0481927710843373,79,0.95180722891566261,64,0.77108433734939763,2,2.4096385542168676E-2,75,0.90361445783132532,107,1.2891566265060241,54,0.6506024096385542,null,null,{"$f":"cálculos2!P58","v":7},0.70000000000000007,{"$f":"cálculos2!Q58","v":4},1]
["Norte","Ponto Belo",81,21,13,0.61904761904761907,13,0.61904761904761907,13,0.61904761904761907,13,0.61904761904761907,23,1.0952380952380953,22,1.0476190476190477,16,0.76190476190476186,26,1.2380952380952381,0,0,13,0.61904761904761907,22,1.0476190476190477,15,0.7142857142857143,null,null,{"$f":"cálculos2!P59","v":4},0.4,{"$f":"cálculos2!Q59","v":2},0.5]
["Sul","Presidente Kennedy",193,73,76,1.0410958904109588,79,1.0821917808219179,62,0.84931506849315064,66,0.90410958904109584,43,0.58904109589041098,45,0.61643835616438358,53,0.72602739726027399,51,0.69863013698630139,0,0,52,0.71232876712328763,81,1.1095890410958904,39,0.53424657534246578,null,null,{"$f":"cálculos2!P60","v":2},0.2,{"$f":"cálculos2!Q60","v":1},0.25]
["Central","Rio Bananal",297,99,86,0.86868686868686873,87,0.87878787878787878,90,0.90909090909090906,90,0.90909090909090906,79,0.79797979797979801,86,0.86868686868686873,80,0.80808080808080807,99,1,5,5.0505050505050504E-2,70,0.70707070707070707,96,0.96969696969696972,68,0.68686868686868685,null,null,{"$f":"cálculos2!P61","v":2},0.2,{"$f":"cálculos2!Q61","v":1},0.25]
["Sul","Rio Novo do Sul",121,35,30,0.8571428571428571,29,0.82857142857142863,42,1.2,41,1.1714285714285715,36,1.0285714285714285,38,1.0857142857142856,39,1.1142857142857143,37,1.0571428571428572,0,0,20,0.5714285714285714,38,1.0857142857142856,29,0.82857142857142863,null,null,{"$f":"cálculos2!P62","v":7},0.70000000000000007,{"$f":"cálculos2!Q62","v":4},1]
["Metropolitana","Santa Leopoldina",100,32,15,0.46875,11,0.34375,37,1.15625,37,1.15625,36,1.125,37,1.15625,39,1.21875,36,1.125,0,0,29,0.90625,49,1.53125,14,0.4375,null,null,{"$f":"cálculos2!P63","v":7},0.70000000000000007,{"$f":"cálculos2!Q63","v":4},1]
["Metropolitana","Santa Maria de Jetibá",667,234,183,0.78205128205128205,198,0.84615384615384615,175,0.74786324786324787,176,0.75213675213675213,196,0.83760683760683763,199,0.8504273504273504,186,0.79487179487179482,168,0.71794871794871795,3,1.282051282051282E-2,196,0.83760683760683763,222,0.94871794871794868,122,0.5213675213675214,null,null,{"$f":"cálculos2!P64","v":0},0,{"$f":"cálculos2!Q64","v":0},0]
["Metropolitana","Santa Teresa",293,87,91,1.0459770114942528,98,1.1264367816091954,108,1.2413793103448276,107,1.2298850574712643,94,1.0804597701149425,95,1.0919540229885059,90,1.0344827586206897,90,1.0344827586206897,0,0,70,0.8045977011494253,91,1.0459770114942528,66,0.75862068965517238,null,null,{"$f":"cálculos2!P65","v":8},0.8,{"$f":"cálculos2!Q65","v":4},1]
["Central","São Domingos do Norte",125,44,40,{"$f":"E67/D67","v":0.90909090909090906},39,0.88636363636363635,38,0.86363636363636365,38,0.86363636363636365,39,0.88636363636363635,37,0.84090909090909094,35,0.79545454545454541,37,0.84090909090909094,0,0,18,0.40909090909090912,23,0.52272727272727271,21,0.47727272727272729,null,null,{"$f":"cálculos2!P66","v":0},0,{"$f":"cálculos2!Q66","v":0},0]
["Central","São Gabriel da Palha",430,132,128,0.96969696969696972,144,{"$f":"G68/D68","v":1.0909090909090908},129,{"$f":"I68/D68","v":0.97727272727272729},130,{"$f":"K68/D68","v":0.98484848484848486},138,{"$f":"M68/D68","v":1.0454545454545454},138,{"$f":"O68/D68","v":1.0454545454545454},129,{"$f":"Q68/D68","v":0.97727272727272729},118,{"$f":"S68/D68","v":0.89393939393939392},1,{"$f":"U68/D68","v":7.575757575757576E-3},65,{"$f":"W68/D68","v":0.49242424242424243},126,{"$f":"Y68/D68","v":0.95454545454545459},74,{"$f":"AA68/D68","v":0.56060606060606055},null,null,{"$f":"cálculos2!P67","v":7},{"$f":"AE68*0.1","v":0.70000000000000007},{"$f":"cálculos2!Q67","v":4},{"$f":"AG68*0.25","v":1}]
["Sul","São José do Calçado",106,39,40,1.0256410256410255,43,1.1025641025641026,51,1.3076923076923077,50,1.2820512820512822,37,0.94871794871794868,33,0.84615384615384615,43,1.1025641025641026,32,0.82051282051282048,0,0,32,0.82051282051282048,44,1.1282051282051282,27,0.69230769230769229,null,null,{"$f":"cálculos2!P68","v":5},0.5,{"$f":"cálculos2!Q68","v":3},0.75]
["Norte","São Mateus",1931,650,730,1.1230769230769231,695,1.0692307692307692,603,0.9276923076923077,589,0.9061538461538462,567,0.87230769230769234,545,0.83846153846153848,504,0.77538461538461534,452,0.69538461538461538,3,4.6153846153846158E-3,409,0.62923076923076926,506,0.77846153846153843,290,0.44615384615384618,null,null,{"$f":"cálculos2!P69","v":1},0.1,{"$f":"cálculos2!Q69","v":0},0]
["Central","São Roque do Canaã",122,50,58,1.1599999999999999,56,1.1200000000000001,29,0.57999999999999996,28,0.56000000000000005,24,0.48,26,0.52,27,0.54,37,0.74,1,0.02,24,0.48,43,0.86,27,0.54,null,null,{"$f":"cálculos2!P70","v":1},0.1,{"$f":"cálculos2!Q70","v":0},0]
["Metropolitana","Serra",7437,2622,2325,0.88672768878718533,2299,0.87681159420289856,2128,0.81159420289855078,2133,0.81350114416475972,2049,0.78146453089244849,2008,0.76582761250953468,2036,0.77650648360030516,1770,0.67505720823798632,25,9.5347063310450043E-3,1138,0.43401983218916856,2064,0.78718535469107553,896,0.34172387490465295,null,null,{"$f":"cálculos2!P71","v":0},0,{"$f":"cálculos2!Q71","v":0},0]
["Central","Sooretama",432,150,124,0.82666666666666666,124,0.82666666666666666,137,0.91333333333333333,138,0.92,115,0.76666666666666672,112,0.7466666666666667,107,0.71333333333333337,116,0.77333333333333332,0,0,111,0.74,122,0.81333333333333335,77,0.51333333333333331,null,null,{"$f":"cálculos2!P72","v":0},0,{"$f":"cálculos2!Q72","v":0},0]
["Sul","Vargem Alta",256,89,86,0.9662921348314607,86,0.9662921348314607,75,0.84269662921348309,75,0.84269662921348309,79,0.88764044943820219,79,0.88764044943820219,82,0.9213483146067416,74,0.8314606741573034,1,1.1235955056179775E-2,74,0.8314606741573034,93,1.0449438202247192,52,0.5842696629213483,null,null,{"$f":"cálculos2!P73","v":2},0.2,{"$f":"cálculos2!Q73","v":1},0.25]
["Metropolitana","Venda Nova do Imigrante",406,130,31,0.23846153846153847,102,0.7846153846153846,128,0.98461538461538467,128,0.98461538461538467,117,0.9,118,0.90769230769230769,127,0.97692307692307689,125,0.96153846153846156,3,2.3076923076923078E-2,82,0.63076923076923075,124,0.9538461538461539,67,0.51538461538461533,null,null,{"$f":"cálculos2!P74","v":6},0.60000000000000009,{"$f":"cálculos2!Q74","v":3},0.75]
["Metropolitana","Viana",1005,360,270,0.75,262,0.72777777777777775,307,0.85277777777777775,299,0.8305555555555556,286,0.7944444444444444,269,0.74722222222222223,284,0.78888888888888886,225,0.625,4,1.1111111111111112E-2,206,0.57222222222222219,312,0.8666666666666667,130,0.3611111111111111,null,null,{"$f":"cálculos2!P75","v":0},0,{"$f":"cálculos2!Q75","v":0},0]
["Norte","Vila Pavão",88,34,27,0.79411764705882348,29,0.8529411764705882,31,0.91176470588235292,31,0.91176470588235292,30,0.88235294117647056,29,0.8529411764705882,26,0.76470588235294112,39,1.1470588235294117,0,0,28,0.82352941176470584,44,1.2941176470588236,23,0.67647058823529416,null,null,{"$f":"cálculos2!P76","v":2},0.2,{"$f":"cálculos2!Q76","v":1},0.25]
["Central","Vila Valério",241,79,64,0.810126582278481,72,0.91139240506329111,64,0.810126582278481,65,0.82278481012658233,62,0.78481012658227844,66,0.83544303797468356,71,0.89873417721518989,67,0.84810126582278478,0,0,46,0.58227848101265822,53,0.67088607594936711,48,0.60759493670886078,null,null,{"$f":"cálculos2!P77","v":1},0.1,{"$f":"cálculos2!Q77","v":0},0]
["Metropolitana","Vila Velha",5756,1942,1612,0.8300720906282183,1598,0.82286302780638521,1579,0.8130792996910402,1573,0.80998970133882597,1549,0.79763130792996906,1565,0.805870236869207,1566,0.80638516992790932,1322,0.68074150360453145,32,1.6477857878475798E-2,848,0.43666323377960864,1608,0.82801235839340881,778,0.40061791967044286,null,null,{"$f":"cálculos2!P78","v":0},0,{"$f":"cálculos2!Q78","v":0},0]
["Metropolitana","Vitória",3725,1218,1396,1.1461412151067323,1517,1.2454844006568144,1080,0.88669950738916259,1082,0.88834154351395733,965,0.79228243021346467,994,0.81609195402298851,1048,0.86042692939244658,838,0.68801313628899841,44,3.6124794745484398E-2,971,0.7972085385878489,1014,0.83251231527093594,503,0.41297208538587848,null,null,{"$f":"cálculos2!P79","v":1},0.1,{"$f":"cálculos2!Q79","v":0},0]
[]
[null,"Total Norte",{"$f":"SUMIF($A$3:$A$80,\"Norte\",C$3:C$80)","v":5815},{"$f":"SUMIF($A$3:$A$80,\"Norte\",D$3:D$80)","v":1942},{"$f":"SUMIF($A$3:$A$80,\"Norte\",E$3:E$80)","v":1655},{"$f":"E82/D82","v":0.85221421215242021},{"$f":"SUMIF($A$3:$A$80,\"Norte\",G$3:G$80)","v":1708},{"$f":"G82/D82","v":0.87950566426364574},{"$f":"SUMIF($A$3:$A$80,\"Norte\",I$3:I$80)","v":1861},{"$f":"I82/D82","v":0.95829042224510819},{"$f":"SUMIF($A$3:$A$80,\"Norte\",K$3:K$80)","v":1866},{"$f":"K82/D82","v":0.96086508753861999},{"$f":"SUMIF($A$3:$A$80,\"Norte\",M$3:M$80)","v":1762},{"$f":"M82/D82","v":0.90731204943357369},{"$f":"SUMIF($A$3:$A$80,\"Norte\",O$3:O$80)","v":1703},{"$f":"O82/D82","v":0.87693099897013393},{"$f":"SUMIF($A$3:$A$80,\"Norte\",Q$3:Q$80)","v":1682},{"$f":"Q82/D82","v":0.86611740473738419},{"$f":"SUMIF($A$3:$A$80,\"Norte\",S$3:S$80)","v":1682},{"$f":"S82/D82","v":0.86611740473738419},{"$f":"SUMIF($A$3:$A$80,\"Norte\",U$3:U$80)","v":8},{"$f":"U82/D82","v":4.1194644696189494E-3},{"$f":"SUMIF($A$3:$A$80,\"Norte\",W$3:W$80)","v":1324},{"$f":"W82/D82","v":0.68177136972193619},{"$f":"SUMIF($A$3:$A$80,\"Norte\",Y$3:Y$80)","v":1829},{"$f":"Y82/D82","v":0.9418125643666323},{"$f":"SUMIF($A$3:$A$80,\"Norte\",AA$3:AA$80)","v":1141},{"$f":"AA82/D82","v":0.58753861997940271},null,null,{"$f":"cálculos1!P81","v":3},0.30000000000000004,{"$f":"cálculos1!Q81","v":3},0.75]
[null,"Total Central",{"$f":"SUMIF($A$3:$A$80,\"Central\",C$3:C$80)","v":7014},{"$f":"SUMIF($A$3:$A$80,\"Central\",D$3:D$80)","v":2274},{"$f":"SUMIF($A$3:$A$80,\"Central\",E$3:E$80)","v":2131},{"$f":"E83/D83","v":0.93711521547933152},{"$f":"SUMIF($A$3:$A$80,\"Central\",G$3:G$80)","v":2191},{"$f":"G83/D83","v":0.96350043975373789},{"$f":"SUMIF($A$3:$A$80,\"Central\",I$3:I$80)","v":2177},{"$f":"I83/D83","v":0.95734388742304311},{"$f":"SUMIF($A$3:$A$80,\"Central\",K$3:K$80)","v":2164},{"$f":"K83/D83","v":0.95162708883025504},{"$f":"SUMIF($A$3:$A$80,\"Central\",M$3:M$80)","v":2019},{"$f":"M83/D83","v":0.88786279683377312},{"$f":"SUMIF($A$3:$A$80,\"Central\",O$3:O$80)","v":2054},{"$f":"O83/D83","v":0.90325417766051008},{"$f":"SUMIF($A$3:$A$80,\"Central\",Q$3:Q$80)","v":2043},{"$f":"Q83/D83","v":0.89841688654353558},{"$f":"SUMIF($A$3:$A$80,\"Central\",S$3:S$80)","v":1928},{"$f":"S83/D83","v":0.84784520668425678},{"$f":"SUMIF($A$3:$A$80,\"Central\",U$3:U$80)","v":15},{"$f":"U83/D83","v":6.5963060686015833E-3},{"$f":"SUMIF($A$3:$A$80,\"Central\",W$3:W$80)","v":1358},{"$f":"W83/D83","v":0.59718557607739664},{"$f":"SUMIF($A$3:$A$80,\"Central\",Y$3:Y$80)","v":2130},{"$f":"Y83/D83","v":0.9366754617414248},{"$f":"SUMIF($A$3:$A$80,\"Central\",AA$3:AA$80)","v":1361},{"$f":"AA83/D83","v":0.59850483729111692},null,null,{"$f":"cálculos1!P82","v":1},0.1,{"$f":"cálculos1!Q82","v":0},0]
[null,"Total Metropolitana",{"$f":"SUMIF($A$3:$A$80,\"Metropolitana\",C$3:C$80)","v":30199},{"$f":"SUMIF($A$3:$A$80,\"Metropolitana\",D$3:D$80)","v":10284},{"$f":"SUMIF($A$3:$A$80,\"Metropolitana\",E$3:E$80)","v":8986},{"$f":"E84/D84","v":0.87378451964216253},{"$f":"SUMIF($A$3:$A$80,\"Metropolitana\",G$3:G$80)","v":9384},{"$f":"G84/D84","v":0.91248541423570595},{"$f":"SUMIF($A$3:$A$80,\"Metropolitana\",I$3:I$80)","v":8815},{"$f":"I84/D84","v":0.85715674834694666},{"$f":"SUMIF($A$3:$A$80,\"Metropolitana\",K$3:K$80)","v":8759},{"$f":"K84/D84","v":0.85171139634383508},{"$f":"SUMIF($A$3:$A$80,\"Metropolitana\",M$3:M$80)","v":8535},{"$f":"M84/D84","v":0.82992998833138854},{"$f":"SUMIF($A$3:$A$80,\"Metropolitana\",O$3:O$80)","v":8436},{"$f":"O84/D84","v":0.82030338389731627},{"$f":"SUMIF($A$3:$A$80,\"Metropolitana\",Q$3:Q$80)","v":8592},{"$f":"Q84/D84","v":0.83547257876312719},{"$f":"SUMIF($A$3:$A$80,\"Metropolitana\",S$3:S$80)","v":7373},{"$f":"S84/D84","v":0.7169389342668222},{"$f":"SUMIF($A$3:$A$80,\"Metropolitana\",U$3:U$80)","v":176},{"$f":"U84/D84","v":1.7113963438350838E-2},{"$f":"SUMIF($A$3:$A$80,\"Metropolitana\",W$3:W$80)","v":5853},{"$f":"W84/D84","v":0.56913652275379234},{"$f":"SUMIF($A$3:$A$80,\"Metropolitana\",Y$3:Y$80)","v":8917},{"$f":"Y84/D84","v":0.86707506806690005},{"$f":"SUMIF($A$3:$A$80,\"Metropolitana\",AA$3:AA$80)","v":4565},{"$f":"AA84/D84","v":0.44389342668222481},null,null,{"$f":"cálculos1!P83","v":1},0.1,{"$f":"cálculos1!Q83","v":0},0]
[null,"Total Sul",{"$f":"SUMIF($A$3:$A$80,\"sul\",C$3:C$80)","v":8398},{"$f":"SUMIF($A$3:$A$80,\"sul\",D$3:D$80)","v":2747},{"$f":"SUMIF($A$3:$A$80,\"Sul\",E$3:E$80)","v":2639},{"$f":"E85/D85","v":0.96068438296323266},{"$f":"SUMIF($A$3:$A$80,\"Sul\",G$3:G$80)","v":2683},{"$f":"G85/D85","v":0.97670185657080455},{"$f":"SUMIF($A$3:$A$80,\"Sul\",I$3:I$80)","v":2710},{"$f":"I85/D85","v":0.98653076082999636},{"$f":"SUMIF($A$3:$A$80,\"Sul\",K$3:K$80)","v":2692},{"$f":"K85/D85","v":0.97997815799053511},{"$f":"SUMIF($A$3:$A$80,\"Sul\",M$3:M$80)","v":2645},{"$f":"M85/D85","v":0.96286858390971974},{"$f":"SUMIF($A$3:$A$80,\"Sul\",O$3:O$80)","v":2572},{"$f":"O85/D85","v":0.93629413906079362},{"$f":"SUMIF($A$3:$A$80,\"Sul\",Q$3:Q$80)","v":2605},{"$f":"Q85/D85","v":0.9483072442664725},{"$f":"SUMIF($A$3:$A$80,\"Sul\",S$3:S$80)","v":2214},{"$f":"S85/D85","v":0.80597014925373134},{"$f":"SUMIF($A$3:$A$80,\"Sul\",U$3:U$80)","v":31},{"$f":"U85/D85","v":1.1285038223516564E-2},{"$f":"SUMIF($A$3:$A$80,\"Sul\",W$3:W$80)","v":2038},{"$f":"W85/D85","v":0.74190025482344379},{"$f":"SUMIF($A$3:$A$80,\"Sul\",Y$3:Y$80)","v":2865},{"$f":"Y85/D85","v":1.0429559519475793},{"$f":"SUMIF($A$3:$A$80,\"Sul\",AA$3:AA$80)","v":1439},{"$f":"AA85/D85","v":0.52384419366581725},null,null,{"$f":"cálculos1!P84","v":7},0.70000000000000007,{"$f":"cálculos1!Q84","v":4},1]
[null,"Total Espírito Santo",{"$f":"SUM(C3:C80)","v":51426},{"$f":"SUM(D3:D80)","v":17247},{"$f":"SUM(E82:E85)","v":15411},{"$f":"E86/D86","v":0.89354670377456946},{"$f":"SUM(G82:G85)","v":15966},{"$f":"G86/D86","v":0.92572621325447901},{"$f":"SUM(I82:I85)","v":15563},{"$f":"I86/D86","v":0.90235983069519332},{"$f":"SUM(K82:K85)","v":15481},{"$f":"K86/D86","v":0.89760538064590945},{"$f":"SUM(M82:M85)","v":14961},{"$f":"M86/D86","v":0.86745520960166989},{"$f":"SUM(O82:O85)","v":14765},{"$f":"O86/D86","v":0.85609091436191798},{"$f":"SUM(Q82:Q85)","v":14922},{"$f":"Q86/D86","v":0.86519394677335193},{"$f":"SUM(S82:S85)","v":13197},{"$f":"S86/D86","v":0.76517655244390326},{"$f":"SUM(U82:U85)","v":230},{"$f":"U86/D86","v":1.3335652577259813E-2},{"$f":"SUM(W82:W85)","v":10573},{"$f":"W86/D86","v":0.61303415086681745},{"$f":"SUM(Y82:Y85)","v":15741},{"$f":"Y86/D86","v":0.91268046616802923},{"$f":"SUM(AA82:AA85)","v":8506},{"$f":"AA86/D86","v":0.49318722096596512},null,null,{"$f":"cálculos1!P85","v":1},0.1,{"$f":"cálculos1!Q85","v":0},0]
[null,null,null,null,{"$f":"COUNTIF(F3:F80,\">=0,95\")","v":32},null,{"$f":"COUNTIF(H3:H80,\">=0,9\")","v":41},null,{"$f":"COUNTIF(J3:J80,\">=0,95\")","v":42},null,{"$f":"COUNTIF(L3:L80,\">=0,95\")","v":42},null,{"$f":"COUNTIF(N3:N80,\">=0,95\")","v":36},null,{"$f":"COUNTIF(P3:P80,\">=0,9\")","v":41},null,{"$f":"COUNTIF(R3:R80,\">=0,95\")","v":35},null,{"$f":"COUNTIF(T3:T80,\">=0,95\")","v":32},null,{"$f":"COUNTIF(V3:V80,\">=0,95\")","v":0},null,{"$f":"COUNTIF(X3:X80,\">=0,95\")","v":8},null,{"$f":"COUNTIF(Z3:Z80,\">=0,95\")","v":51},null,{"$f":"COUNTIF(AB3:AB80,\">=0,95\")","v":4}]
[null,"HOMOGENEIDADE ENTRE MUNICÍPIOS",null,null,{"$f":"E87/78","v":0.41025641025641024},null,{"$f":"G87/78","v":0.52564102564102566},null,{"$f":"I87/78","v":0.53846153846153844},null,{"$f":"K87/78","v":0.53846153846153844},null,{"$f":"M87/78","v":0.46153846153846156},null,{"$f":"O87/78","v":0.52564102564102566},null,{"$f":"Q87/78","v":0.44871794871794873},null,{"$f":"S87/78","v":0.41025641025641024},null,{"$f":"U87/78","v":0},null,{"$f":"W87/78","v":0.10256410256410256},null,{"$f":"Y87/78","v":0.65384615384615385},null,{"$f":"AA87/78","v":5.128205128205128E-2}]
[]
[" FonteVacina e Confia, em 09 de Maio de 2024.**"]
["**Dados referente às doses aplicadas no período de Abril de 2024"]
["Cobertura Calculada por município de residência do cidadão (no Vacina e Confia, a origem da informação é o endereço que consta no cadastro do cidadão preenchido manualmente por meio do autocadastro ou pelo cadastro realizado por um profissional de saúde no momento do atendimento)."]
[]
["1 População anual extraída do MS/SVS/DASIS - SINASC/DASIS/SVS/MS 2023 (hoje preliminares) referente ao período de março a dezembro de 2023 e SINASC/DASIS/SVS/MS 2024 referente ao período de janeiro a fevereiro de 2024."]
[]
["² População proporcional extraída do MS/SVS/DASIS - SINASC/DASIS/SVS/MS 2023 (hoje preliminares) referente ao período de março  e abril de 2023 somada a população extraída do SINASC/DASIS/SVS/MS 2024 referente ao período de janeiro e fevereiro de 2024."]
[]
["Observações:"]
["Imunobiológicos que foram recebidos parcialmente pelo estado no mês da análise, sendo distribuídos em quantidades reduzidas às regionais e municípios: Varicela, Febre Amarela e HPV Quadrivalente."]
["Imunobiológicos que não foram recebidos pelo estado no mês da análise, não sendo possível a distribuição às regionais e municípios: Meningo C, Hepatite A (CRIE), HIB, Hepatite A Rotina Pediátrica, DTPa (CRIE)."]
["Imunobiológicos com indisponibilidade de aquisição e distribuição no mês da análise: Tetra Viral."]

{"sheet":"CV REF 1A e 4A - procedência","index":2,"n_rows":101,"n_cols":24,"rows_kept":101,"cut":false,"hidden":false,"merged":[[94,0,94,12],[92,0,93,12],[0,18,0,23],[89,0,89,12],[91,0,91,12],[90,0,90,12],[0,10,0,17],[0,6,0,9]]}
[null,null,null,null,null,null,"D2",null,null,null,"REFORÇOS 1 ANO",null,null,null,null,null,null,null,"REFORÇOS 4 ANOS"]
["Regional ","Município","¹População 1 ano anual ","²População 1 ano proporcional ","³População 4 anos anual ","³População 4 anos proporcional ","DOSES APLICADAS D2 TRÍPLICE VIRAL","COBERTURA D2 TRÍPLICE VIRAL","DOSES APLICADAS D2 VARICELA","COBERTURA D2 VARICELA","DOSES APLICADAS REF PNEUMO ","COBERTURA REF PNEUMO","DOSES APLICADAS REF MENINGO","COBERTURA REF MENINGO","DOSES APLICADAS R1 POLIO","COBERTURA R1 POLIO","DOSES APLICADAS R1 TRÍPLICE BACTERIANA","COBERTURA R1 TRÍPLICE BACTERIANA","DOSES APLICADAS REF FEBRE AMARELA","COBERTURA REF FEBRE AMARELA","DOSES APLICADAS R2 POLIO","COBERTURA R2 POLIO","DOSES APLICADAS R2 TRÍPLICE BACTERIANA","COBERTURA R2 TRÍPLICE BACTERIANA"]
["Metropolitana","Afonso Cláudio",384,126,416,{"$f":"E3/12*4","v":138.66666666666666},110,{"$f":"G3/D3","v":0.87301587301587302},65,{"$f":"I3/F3","v":0.46875000000000006},132,{"$f":"K3/D3","v":1.0476190476190477},132,{"$f":"M3/D3","v":1.0476190476190477},118,{"$f":"O3/D3","v":0.93650793650793651},118,{"$f":"Q3/D3","v":0.93650793650793651},84,{"$f":"S3/F3","v":0.60576923076923084},87,{"$f":"U3/F3","v":0.62740384615384615},87,{"$f":"W3/F3","v":0.62740384615384615}]
["Norte","Água Doce do Norte",170,61,151,{"$f":"E4/12*4","v":50.333333333333336},35,0.57377049180327866,32,0.63576158940397343,49,0.80327868852459017,50,0.81967213114754101,38,0.62295081967213117,45,0.73770491803278693,42,0.83443708609271516,45,0.89403973509933765,41,0.814569536423841]
["Central","Águia Branca",149,39,129,43,24,0.61538461538461542,21,0.48837209302325579,32,0.82051282051282048,33,0.84615384615384615,33,0.84615384615384615,35,0.89743589743589747,33,0.76744186046511631,39,0.90697674418604646,41,0.95348837209302328]
["Sul","Alegre",327,93,372,124,81,0.87096774193548387,88,0.70967741935483875,94,1.010752688172043,94,1.010752688172043,83,0.89247311827956988,89,0.956989247311828,109,0.87903225806451613,109,0.87903225806451613,118,0.95161290322580649]
["Sul","Alfredo Chaves",146,46,138,46,44,0.95652173913043481,33,0.71739130434782605,48,1.0434782608695652,50,1.0869565217391304,42,0.91304347826086951,43,0.93478260869565222,32,0.69565217391304346,35,0.76086956521739135,34,0.73913043478260865]
["Central","Alto Rio Novo",80,21,102,34,30,1.4285714285714286,17,0.5,32,1.5238095238095237,32,1.5238095238095237,34,1.6190476190476191,31,1.4761904761904763,22,0.6470588235294118,22,0.6470588235294118,22,0.6470588235294118]
["Sul","Anchieta",365,109,390,130,107,0.98165137614678899,80,0.61538461538461542,130,1.1926605504587156,135,1.238532110091743,123,1.128440366972477,128,1.1743119266055047,103,0.79230769230769227,134,1.0307692307692307,148,1.1384615384615384]
["Sul","Apiacá",64,20,90,30,9,0.45,21,0.7,18,0.9,19,0.95,10,0.5,9,0.45,3,0.1,26,0.8666666666666667,24,0.8]
["Metropolitana","Aracruz",1456,490,1420,473.33333333333331,437,0.89183673469387759,322,0.68028169014084505,510,1.0408163265306123,537,1.0959183673469388,476,0.97142857142857142,483,0.98571428571428577,326,0.68873239436619726,416,0.87887323943661977,442,0.93380281690140854]
["Sul","Atilio Vivacqua",133,42,138,46,40,0.95238095238095233,20,0.43478260869565216,53,1.2619047619047619,54,1.2857142857142858,49,1.1666666666666667,50,1.1904761904761905,34,0.73913043478260865,40,0.86956521739130432,40,0.86956521739130432]
["Central","Baixo Guandu",364,105,427,142.33333333333334,110,1.0476190476190477,70,0.49180327868852458,150,1.4285714285714286,149,1.4190476190476191,130,1.2380952380952381,134,1.2761904761904761,105,0.73770491803278682,140,0.98360655737704916,132,0.92740046838407486]
["Norte","Barra de São Francisco",534,166,589,196.33333333333334,159,0.95783132530120485,117,0.59592529711375208,188,1.1325301204819278,191,1.1506024096385543,164,0.98795180722891562,170,1.0240963855421688,149,0.75891341256366718,148,0.75382003395585739,149,0.75891341256366718]
["Norte","Boa Esperança",199,72,200,66.666666666666671,53,0.73611111111111116,42,0.63,75,1.0416666666666667,77,1.0694444444444444,61,0.84722222222222221,57,0.79166666666666663,38,0.56999999999999995,48,0.72,50,0.75]
["Sul","Bom Jesus do Norte",83,23,146,48.666666666666664,30,1.3043478260869565,17,0.34931506849315069,48,2.0869565217391304,49,2.1304347826086958,34,1.4782608695652173,34,1.4782608695652173,33,0.67808219178082196,43,0.88356164383561653,41,0.84246575342465757]
["Metropolitana","Brejetuba",212,70,169,56.333333333333336,60,0.8571428571428571,44,0.78106508875739644,60,0.8571428571428571,64,0.91428571428571426,58,0.82857142857142863,60,0.8571428571428571,58,1.029585798816568,61,1.0828402366863905,61,1.0828402366863905]
["Sul","Cachoeiro de Itapemirim",2473,863,2417,805.66666666666663,602,0.69756662804171499,369,0.45800579230450972,786,0.91077636152954811,817,0.94669756662804172,717,0.83082271147161069,710,0.82271147161066049,450,0.55854364915184118,613,0.76086057095573023,646,0.80182043856019858]
["Metropolitana","Cariacica",4917,1679,5005,1668.3333333333333,1034,0.615842763549732,859,0.5148851148851149,1539,0.91661703394877903,1586,0.94460988683740321,1310,0.7802263251935676,1308,0.77903513996426443,1192,0.71448551448551456,1546,0.92667332667332669,1513,0.90689310689310698]
["Sul","Castelo",454,160,399,133,123,0.76875000000000004,70,0.52631578947368418,154,0.96250000000000002,156,0.97499999999999998,136,0.85,136,0.85,96,0.72180451127819545,112,0.84210526315789469,112,0.84210526315789469]
["Central","Colatina",1532,496,1561,520.33333333333337,329,0.66330645161290325,184,0.35361947469570787,437,0.88104838709677424,468,0.94354838709677424,370,0.74596774193548387,379,0.76411290322580649,257,0.49391415759128759,348,0.66880204996796921,357,0.68609865470852016]
["Norte","Conceição da Barra",389,136,391,130.33333333333334,108,0.79411764705882348,94,0.72122762148337594,124,0.91176470588235292,127,0.93382352941176472,121,0.88970588235294112,115,0.84558823529411764,105,0.80562659846547313,140,1.074168797953964,142,1.0895140664961636]
["Metropolitana","Conceição do Castelo",168,60,144,48,42,0.7,24,0.5,31,0.51666666666666672,33,0.55000000000000004,44,0.73333333333333328,43,0.71666666666666667,36,0.75,38,0.79166666666666663,39,0.8125]
["Sul","Divino de São Lourenço",65,21,68,22.666666666666668,19,0.90476190476190477,15,0.66176470588235292,16,0.76190476190476186,16,0.76190476190476186,21,1,20,0.95238095238095233,30,1.3235294117647058,21,0.92647058823529405,21,0.92647058823529405]
["Metropolitana","Domingos Martins",411,133,411,137,144,1.0827067669172932,119,0.86861313868613144,137,1.0300751879699248,127,0.95488721804511278,145,1.0902255639097744,144,1.0827067669172932,112,0.81751824817518248,139,1.0145985401459854,141,1.0291970802919708]
["Sul","Dores do Rio Preto",97,36,92,30.666666666666668,21,0.58333333333333337,14,0.45652173913043476,41,1.1388888888888888,42,1.1666666666666667,27,0.75,24,0.66666666666666663,17,0.55434782608695654,23,0.75,24,0.78260869565217384]
["Norte","Ecoporanga",256,89,283,94.333333333333329,74,0.8314606741573034,62,0.65724381625441697,84,0.9438202247191011,88,0.9887640449438202,72,0.8089887640449438,71,0.797752808988764,65,0.68904593639575973,69,0.73144876325088348,72,0.76325088339222613]
["Metropolitana","Fundão",220,81,218,72.666666666666671,58,0.71604938271604934,54,0.74311926605504586,71,0.87654320987654322,76,0.93827160493827155,69,0.85185185185185186,64,0.79012345679012341,46,0.6330275229357798,56,0.77064220183486232,52,0.71559633027522929]
["Central","Governador Lindenberg",147,52,142,47.333333333333336,34,0.65384615384615385,31,0.65492957746478875,41,0.78846153846153844,42,0.80769230769230771,37,0.71153846153846156,37,0.71153846153846156,30,0.63380281690140838,33,0.69718309859154926,33,0.69718309859154926]
["Sul","Guaçuí",406,131,407,135.66666666666666,132,1.0076335877862594,42,0.30958230958230959,139,1.0610687022900764,148,1.1297709923664123,134,1.0229007633587786,123,0.93893129770992367,94,0.69287469287469294,88,0.64864864864864868,83,0.6117936117936118]
["Metropolitana","Guarapari",1741,578,1557,519,368,0.63667820069204151,268,0.51637764932562624,539,0.93252595155709339,537,0.9290657439446367,453,0.7837370242214533,473,0.81833910034602075,313,0.60308285163776498,418,0.80539499036608864,470,0.90558766859344897]
["Metropolitana","Ibatiba",361,112,354,118,70,0.625,38,0.32203389830508472,104,0.9285714285714286,113,1.0089285714285714,111,0.9910714285714286,113,1.0089285714285714,82,0.69491525423728817,98,0.83050847457627119,99,0.83898305084745761]
["Metropolitana","Ibiraçu",153,58,160,53.333333333333336,24,0.41379310344827586,34,0.63749999999999996,39,0.67241379310344829,40,0.68965517241379315,24,0.41379310344827586,23,0.39655172413793105,30,0.5625,35,0.65625,36,0.67499999999999993]
["Sul","Ibitirama",127,37,148,49.333333333333336,35,0.94594594594594594,12,0.24324324324324323,44,1.1891891891891893,46,1.2432432432432432,38,1.027027027027027,35,0.94594594594594594,10,0.20270270270270269,17,0.34459459459459457,12,0.24324324324324323]
["Sul","Iconha",115,36,156,52,41,{"$f":"G35/D35","v":1.1388888888888888},13,{"$f":"I35/F35","v":0.25},56,{"$f":"K35/D35","v":1.5555555555555556},57,{"$f":"M35/D35","v":1.5833333333333333},35,{"$f":"O35/D35","v":0.97222222222222221},35,{"$f":"Q35/D35","v":0.97222222222222221},40,{"$f":"S35/F35","v":0.76923076923076927},41,{"$f":"U35/F35","v":0.78846153846153844},39,{"$f":"W35/F35","v":0.75}]
["Sul","Irupi",195,59,200,66.666666666666671,44,0.74576271186440679,39,0.58499999999999996,88,1.4915254237288136,89,1.5084745762711864,62,1.0508474576271187,61,1.0338983050847457,64,0.96,69,1.0349999999999999,76,1.1399999999999999]
["Metropolitana","Itaguaçu",129,37,154,51.333333333333336,57,1.5405405405405406,22,0.42857142857142855,43,1.1621621621621621,46,1.2432432432432432,50,1.3513513513513513,49,1.3243243243243243,35,0.68181818181818177,39,0.75974025974025972,41,0.79870129870129869]
["Sul","Itapemirim",543,157,556,185.33333333333334,105,0.66878980891719741,80,0.43165467625899279,175,1.1146496815286624,185,1.1783439490445859,153,0.97452229299363058,157,1,71,0.38309352517985612,161,0.86870503597122295,156,0.84172661870503596]
["Metropolitana","Itarana",143,51,128,42.666666666666664,34,0.66666666666666663,38,0.890625,40,0.78431372549019607,40,0.78431372549019607,35,0.68627450980392157,34,0.66666666666666663,35,0.8203125,37,0.8671875,33,0.7734375]
["Sul","Iúna",481,154,410,136.66666666666666,114,0.74025974025974028,81,0.59268292682926838,155,1.0064935064935066,166,1.0779220779220779,117,0.75974025974025972,118,0.76623376623376627,97,0.70975609756097569,132,0.96585365853658545,132,0.96585365853658545]
["Norte","Jaguaré",487,154,445,148.33333333333334,139,0.90259740259740262,80,0.5393258426966292,158,1.025974025974026,158,1.025974025974026,146,0.94805194805194803,150,0.97402597402597402,110,0.74157303370786509,134,0.90337078651685387,161,1.0853932584269663]
["Sul","Jerônimo Monteiro",160,49,157,52.333333333333336,39,0.79591836734693877,12,0.22929936305732482,56,1.1428571428571428,56,1.1428571428571428,47,0.95918367346938771,48,0.97959183673469385,32,0.61146496815286622,39,0.74522292993630568,40,0.76433121019108274]
["Metropolitana","João Neiva",180,59,142,47.333333333333336,38,0.64406779661016944,25,0.528169014084507,63,1.0677966101694916,66,1.1186440677966101,43,0.72881355932203384,43,0.72881355932203384,36,0.76056338028169013,38,0.80281690140845063,38,0.80281690140845063]
["Metropolitana","Laranja da Terra",98,37,133,44.333333333333336,31,0.83783783783783783,33,0.74436090225563911,52,1.4054054054054055,52,1.4054054054054055,32,0.86486486486486491,31,0.83783783783783783,31,0.6992481203007519,32,0.72180451127819545,32,0.72180451127819545]
["Central","Linhares",2574,863,2452,817.33333333333337,583,0.67555040556199308,379,0.46370309951060357,679,0.78679026651216688,673,0.77983777520278097,649,0.75202780996523755,684,0.7925840092699884,519,0.6349918433931484,668,0.81729200652528544,710,0.86867862969004894]
["Central","Mantenópolis",156,51,166,55.333333333333336,41,0.80392156862745101,29,0.52409638554216864,60,1.1764705882352942,56,1.0980392156862746,46,0.90196078431372551,48,0.94117647058823528,35,0.63253012048192769,49,0.8855421686746987,48,0.86746987951807231]
["Sul","Marataízes",556,206,579,193,157,0.76213592233009708,97,0.50259067357512954,208,1.0097087378640777,206,1,183,0.88834951456310685,192,0.93203883495145634,97,0.50259067357512954,166,0.86010362694300513,170,0.88082901554404147]
["Metropolitana","Marechal Floriano",237,88,236,78.666666666666671,58,0.65909090909090906,56,0.71186440677966101,77,0.875,74,0.84090909090909094,63,0.71590909090909094,58,0.65909090909090906,44,0.55932203389830504,53,0.67372881355932202,50,0.63559322033898302]
["Central","Marilândia",157,37,164,54.666666666666664,42,1.1351351351351351,36,0.65853658536585369,43,1.1621621621621621,45,1.2162162162162162,40,1.0810810810810811,39,1.0540540540540539,41,0.75,43,0.78658536585365857,44,0.80487804878048785]
["Sul","Mimoso do Sul",254,71,276,92,37,0.52112676056338025,59,0.64130434782608692,63,0.88732394366197187,67,0.94366197183098588,52,0.73239436619718312,53,0.74647887323943662,63,0.68478260869565222,67,0.72826086956521741,68,0.73913043478260865]
["Norte","Montanha",259,77,278,92.666666666666671,76,0.98701298701298701,59,0.63669064748201432,81,1.051948051948052,84,1.0909090909090908,83,1.0779220779220779,85,1.1038961038961039,76,0.82014388489208634,86,0.92805755395683454,88,0.94964028776978415]
["Norte","Mucurici",73,19,97,32.333333333333336,13,0.68421052631578949,20,0.61855670103092775,31,1.631578947368421,31,1.631578947368421,13,0.68421052631578949,13,0.68421052631578949,21,0.64948453608247414,24,0.74226804123711332,24,0.74226804123711332]
["Sul","Muniz Freire",221,72,275,91.666666666666671,77,1.0694444444444444,27,0.29454545454545455,90,1.25,88,1.2222222222222223,77,1.0694444444444444,75,1.0416666666666667,75,0.81818181818181812,74,0.80727272727272725,68,0.74181818181818182]
["Sul","Muqui",165,43,152,50.666666666666664,39,0.90697674418604646,41,0.80921052631578949,47,1.0930232558139534,46,1.069767441860465,36,0.83720930232558144,35,0.81395348837209303,41,0.80921052631578949,42,0.82894736842105265,42,0.82894736842105265]
["Norte","Nova Venécia",683,225,656,218.66666666666666,205,0.91111111111111109,104,0.47560975609756101,208,0.9244444444444444,216,0.96,201,0.89333333333333331,211,0.93777777777777782,136,0.62195121951219512,171,0.7820121951219513,175,0.80030487804878048]
["Central","Pancas",208,56,244,81.333333333333329,72,1.2857142857142858,39,0.47950819672131151,66,1.1785714285714286,70,1.25,73,1.3035714285714286,74,1.3214285714285714,60,0.73770491803278693,59,0.72540983606557385,61,0.75]
["Norte","Pedro Canário",335,129,338,112.66666666666667,96,0.7441860465116279,84,0.74556213017751471,122,0.94573643410852715,121,0.93798449612403101,115,0.89147286821705429,120,0.93023255813953487,102,0.90532544378698221,111,0.9852071005917159,114,1.0118343195266273]
["Norte","Pinheiros",330,109,383,127.66666666666667,63,0.57798165137614677,64,0.50130548302872058,100,0.91743119266055051,96,0.88073394495412849,69,0.6330275229357798,68,0.62385321100917435,83,0.65013054830287209,100,0.7832898172323759,100,0.7832898172323759]
["Sul","Piúma",292,83,311,103.66666666666667,59,0.71084337349397586,41,0.39549839228295819,98,1.1807228915662651,92,1.1084337349397591,90,1.0843373493975903,90,1.0843373493975903,47,0.45337620578778132,75,0.72347266881028938,86,0.82958199356913176]
["Norte","Ponto Belo",81,21,85,28.333333333333332,14,0.66666666666666663,16,0.56470588235294117,21,1,22,1.0476190476190477,14,0.66666666666666663,13,0.61904761904761907,15,0.52941176470588236,15,0.52941176470588236,16,0.56470588235294117]
["Sul","Presidente Kennedy",193,73,239,79.666666666666671,66,0.90410958904109584,32,0.40167364016736401,82,1.1232876712328768,83,1.1369863013698631,63,0.86301369863013699,63,0.86301369863013699,56,0.70292887029288698,72,0.90376569037656895,72,0.90376569037656895]
["Central","Rio Bananal",297,99,229,76.333333333333329,88,0.88888888888888884,62,0.81222707423580787,98,0.98989898989898994,108,1.0909090909090908,95,0.95959595959595956,92,0.92929292929292928,77,1.0087336244541485,78,1.0218340611353713,75,0.98253275109170313]
["Sul","Rio Novo do Sul",121,35,144,48,35,1,31,0.64583333333333337,43,1.2285714285714286,44,1.2571428571428571,36,1.0285714285714285,37,1.0571428571428572,27,0.5625,36,0.75,38,0.79166666666666663]
["Metropolitana","Santa Leopoldina",100,32,155,51.666666666666664,22,0.6875,15,0.29032258064516131,43,1.34375,43,1.34375,27,0.84375,28,0.875,27,0.52258064516129032,32,0.61935483870967745,34,0.65806451612903227]
["Metropolitana","Santa Maria de Jetibá",667,234,685,228.33333333333334,186,0.79487179487179482,98,0.42919708029197079,226,0.96581196581196582,235,1.0042735042735043,219,0.9358974358974359,209,0.89316239316239321,145,0.63503649635036497,184,0.80583941605839415,185,0.81021897810218979]
["Metropolitana","Santa Teresa",293,87,260,86.666666666666671,64,0.73563218390804597,59,0.68076923076923068,80,0.91954022988505746,87,1,66,0.75862068965517238,65,0.74712643678160917,67,0.77307692307692299,67,0.77307692307692299,63,0.72692307692307689]
["Central","São Domingos do Norte",125,44,117,39,20,{"$f":"G67/D67","v":0.45454545454545453},16,{"$f":"I67/F67","v":0.41025641025641024},26,{"$f":"K67/D67","v":0.59090909090909094},25,{"$f":"M67/D67","v":0.56818181818181823},19,{"$f":"O67/D67","v":0.43181818181818182},19,{"$f":"Q67/D67","v":0.43181818181818182},28,{"$f":"S67/F67","v":0.71794871794871795},26,{"$f":"U67/F67","v":0.66666666666666663},27,{"$f":"W67/F67","v":0.69230769230769229}]
["Central","São Gabriel da Palha",430,132,426,{"$f":"E68/12*4","v":142},106,0.80303030303030298,78,0.54929577464788737,124,0.93939393939393945,128,0.96969696969696972,112,0.84848484848484851,111,0.84090909090909094,125,0.88028169014084512,119,0.8380281690140845,120,0.84507042253521125]
["Sul","São José do Calçado",106,39,150,50,39,1,19,0.38,46,1.1794871794871795,46,1.1794871794871795,43,1.1025641025641026,40,1.0256410256410255,46,0.92,48,0.96,46,0.92]
["Norte","São Mateus",1931,650,1766,588.66666666666663,323,0.49692307692307691,329,0.55889014722536812,533,0.82,521,0.80153846153846153,454,0.69846153846153847,442,0.68,388,0.65911664779161949,479,0.8137032842582107,471,0.80011325028312574]
["Central","São Roque do Canaã",122,50,100,33.333333333333336,35,0.7,34,1.02,42,0.84,47,0.94,33,0.66,32,0.64,36,1.0799999999999998,37,1.1099999999999999,38,1.1399999999999999]
["Metropolitana","Serra",7437,2622,7550,2516.6666666666665,1466,0.559115179252479,1014,0.40291390728476822,2037,0.77688787185354691,2065,0.78756674294431728,1853,0.70671243325705568,1852,0.70633104500381383,1960,0.77880794701986755,2217,0.88092715231788088,2193,0.8713907284768212]
["Central","Sooretama",432,150,415,138.33333333333334,107,0.71333333333333337,81,0.58554216867469877,122,0.81333333333333335,120,0.8,126,0.84,126,0.84,144,1.0409638554216867,133,0.96144578313253004,141,1.0192771084337349]
["Sul","Vargem Alta",256,89,278,92.666666666666671,69,0.7752808988764045,50,0.53956834532374098,98,1.101123595505618,97,1.0898876404494382,79,0.88764044943820219,83,0.93258426966292129,65,0.70143884892086328,77,0.83093525179856109,78,0.84172661870503596]
["Metropolitana","Venda Nova do Imigrante",406,130,328,109.33333333333333,104,0.8,45,0.41158536585365857,139,1.0692307692307692,142,1.0923076923076922,107,0.82307692307692304,107,0.82307692307692304,58,0.53048780487804881,63,0.57621951219512202,67,0.61280487804878048]
["Metropolitana","Viana",1005,360,1064,354.66666666666669,139,0.38611111111111113,139,0.39191729323308266,319,0.88611111111111107,325,0.90277777777777779,236,0.65555555555555556,241,0.6694444444444444,230,0.64849624060150368,288,0.81203007518796988,298,0.84022556390977443]
["Norte","Vila Pavão",88,34,127,42.333333333333336,33,0.97058823529411764,21,0.4960629921259842,44,1.2941176470588236,47,1.3823529411764706,33,0.97058823529411764,31,0.91176470588235292,43,1.015748031496063,46,1.0866141732283463,45,1.0629921259842519]
["Central","Vila Valério",241,79,169,56.333333333333336,56,0.70886075949367089,37,0.65680473372781067,57,0.72151898734177211,53,0.67088607594936711,66,0.83544303797468356,69,0.87341772151898733,45,0.79881656804733725,68,1.2071005917159763,64,1.136094674556213]
["Metropolitana","Vila Velha",5756,1942,5675,1891.6666666666667,1188,0.611740473738414,753,0.39806167400881054,1560,0.8032955715756952,1642,0.84552008238928944,1347,0.69361483007209068,1340,0.69001029866117403,1385,0.73215859030837005,1501,0.79348017621145372,1462,0.77286343612334796]
["Metropolitana","Vitória",3725,1218,3833,1277.6666666666667,722,0.59277504105090317,528,0.4132533263762066,1045,0.85796387520525452,1106,0.90804597701149425,1062,0.8719211822660099,1048,0.86042692939244658,901,0.7051917558048526,1139,0.89146882337594568,1153,0.90242629793895113]
[]
[null,"Total Norte",{"$f":"SUMIF($A$3:$A$80,\"Norte\",C$3:C$80)","v":5815},{"$f":"SUMIF($A$3:$A$80,\"Norte\",D$3:D$80)","v":1942},{"$f":"SUMIF($A$3:$A$80,\"Norte\",E$3:E$80)","v":5789},{"$f":"SUMIF($A$3:$A$80,\"Norte\",F$3:F$80)","v":1929.6666666666667},{"$f":"SUMIF($A$3:$A$80,\"Norte\",G$3:G$80)","v":1391},{"$f":"G82/D82","v":0.71627188465499481},{"$f":"SUMIF($A$3:$A$80,\"Norte\",I$3:I$80)","v":1124},{"$f":"I82/F82","v":0.58248402141993438},{"$f":"SUMIF($A$3:$A$80,\"Norte\",K$3:K$80)","v":1818},{"$f":"K82/D82","v":0.93614830072090627},{"$f":"SUMIF($A$3:$A$80,\"Norte\",M$3:M$80)","v":1829},{"$f":"M82/D82","v":0.9418125643666323},{"$f":"SUMIF($A$3:$A$80,\"Norte\",O$3:O$80)","v":1584},{"$f":"O82/D82","v":0.815653964984552},{"$f":"SUMIF($A$3:$A$80,\"Norte\",Q$3:Q$80)","v":1591},{"$f":"Q82/D82","v":0.81925849639546855},{"$f":"SUMIF($A$3:$A$80,\"Norte\",S$3:S$80)","v":1373},{"$f":"S82/F82","v":0.71152185178787353},{"$f":"SUMIF($A$3:$A$80,\"Norte\",U$3:U$80)","v":1616},{"$f":"U82/F82","v":0.83745033684574188},{"$f":"SUMIF($A$3:$A$80,\"Norte\",W$3:W$80)","v":1648},{"$f":"W82/F82","v":0.85403351183278631}]
[null,"Total Central",{"$f":"SUMIF($A$3:$A$80,\"Central\",C$3:C$80)","v":7014},{"$f":"SUMIF($A$3:$A$80,\"Central\",D$3:D$80)","v":2274},{"$f":"SUMIF($A$3:$A$80,\"Central\",E$3:E$80)","v":6843},{"$f":"SUMIF($A$3:$A$80,\"Central\",F$3:F$80)","v":2281.0000000000005},{"$f":"SUMIF($A$3:$A$80,\"Central\",G$3:G$80)","v":1677},{"$f":"G83/D83","v":0.73746701846965701},{"$f":"SUMIF($A$3:$A$80,\"Central\",I$3:I$80)","v":1114},{"$f":"I83/F83","v":0.48838228846996923},{"$f":"SUMIF($A$3:$A$80,\"Central\",K$3:K$80)","v":2009},{"$f":"K83/D83","v":0.88346525945470533},{"$f":"SUMIF($A$3:$A$80,\"Central\",M$3:M$80)","v":2049},{"$f":"M83/D83","v":0.90105540897097625},{"$f":"SUMIF($A$3:$A$80,\"Central\",O$3:O$80)","v":1863},{"$f":"O83/D83","v":0.81926121372031657},{"$f":"SUMIF($A$3:$A$80,\"Central\",Q$3:Q$80)","v":1910},{"$f":"Q83/D83","v":0.83992963940193488},{"$f":"SUMIF($A$3:$A$80,\"Central\",S$3:S$80)","v":1557},{"$f":"S83/F83","v":0.68259535291538787},{"$f":"SUMIF($A$3:$A$80,\"Central\",U$3:U$80)","v":1862},{"$f":"U83/F83","v":0.81630863656291086},{"$f":"SUMIF($A$3:$A$80,\"Central\",W$3:W$80)","v":1913},{"$f":"W83/F83","v":0.83866725120561136}]
[null,"Total Metropolitana",{"$f":"SUMIF($A$3:$A$80,\"Metropolitana\",C$3:C$80)","v":30199},{"$f":"SUMIF($A$3:$A$80,\"Metropolitana\",D$3:D$80)","v":10284},{"$f":"SUMIF($A$3:$A$80,\"Metropolitana\",E$3:E$80)","v":30197},{"$f":"SUMIF($A$3:$A$80,\"Metropolitana\",F$3:F$80)","v":10065.666666666666},{"$f":"SUMIF($A$3:$A$80,\"Metropolitana\",G$3:G$80)","v":6456},{"$f":"G84/D84","v":0.62777129521586927},{"$f":"SUMIF($A$3:$A$80,\"Metropolitana\",I$3:I$80)","v":4652},{"$f":"I84/F84","v":0.46216511573997421},{"$f":"SUMIF($A$3:$A$80,\"Metropolitana\",K$3:K$80)","v":8886},{"$f":"K84/D84","v":0.8640606767794633},{"$f":"SUMIF($A$3:$A$80,\"Metropolitana\",M$3:M$80)","v":9168},{"$f":"M84/D84","v":0.89148191365227536},{"$f":"SUMIF($A$3:$A$80,\"Metropolitana\",O$3:O$80)","v":7948},{"$f":"O84/D84","v":0.7728510307273434},{"$f":"SUMIF($A$3:$A$80,\"Metropolitana\",Q$3:Q$80)","v":7934},{"$f":"Q84/D84","v":0.77148969272656553},{"$f":"SUMIF($A$3:$A$80,\"Metropolitana\",S$3:S$80)","v":7233},{"$f":"S84/F84","v":0.71858131602477071},{"$f":"SUMIF($A$3:$A$80,\"Metropolitana\",U$3:U$80)","v":8584},{"$f":"U84/F84","v":0.85279994701460415},{"$f":"SUMIF($A$3:$A$80,\"Metropolitana\",W$3:W$80)","v":8589},{"$f":"W84/F84","v":0.85329668510116907}]
[null,"Total Sul",{"$f":"SUMIF($A$3:$A$80,\"sul\",C$3:C$80)","v":8398},{"$f":"SUMIF($A$3:$A$80,\"sul\",D$3:D$80)","v":2747},{"$f":"SUMIF($A$3:$A$80,\"sul\",E$3:E$80)","v":8688},{"$f":"SUMIF($A$3:$A$80,\"sul\",F$3:F$80)","v":2895.9999999999995},{"$f":"SUMIF($A$3:$A$80,\"sul\",G$3:G$80)","v":2164},{"$f":"G85/D85","v":0.78776847469967237},{"$f":"SUMIF($A$3:$A$80,\"sul\",I$3:I$80)","v":1403},{"$f":"I85/F85","v":0.48446132596685093},{"$f":"SUMIF($A$3:$A$80,\"sul\",K$3:K$80)","v":2876},{"$f":"K85/D85","v":1.0469603203494722},{"$f":"SUMIF($A$3:$A$80,\"sul\",M$3:M$80)","v":2948},{"$f":"M85/D85","v":1.0731707317073171},{"$f":"SUMIF($A$3:$A$80,\"sul\",O$3:O$80)","v":2487},{"$f":"O85/D85","v":0.90535129231889333},{"$f":"SUMIF($A$3:$A$80,\"sul\",Q$3:Q$80)","v":2488},{"$f":"Q85/D85","v":0.90571532580997449},{"$f":"SUMIF($A$3:$A$80,\"sul\",S$3:S$80)","v":1832},{"$f":"S85/F85","v":0.63259668508287303},{"$f":"SUMIF($A$3:$A$80,\"sul\",U$3:U$80)","v":2360},{"$f":"U85/F85","v":0.81491712707182329},{"$f":"SUMIF($A$3:$A$80,\"sul\",W$3:W$80)","v":2414},{"$f":"W85/F85","v":0.83356353591160237}]
[null,"Total Espírito Santo",{"$f":"SUM(C3:C80)","v":51426},{"$f":"SUM(D3:D80)","v":17247},{"$f":"SUM(E3:E80)","v":51517},{"$f":"SUM(F3:F80)","v":17172.333333333328},{"$f":"SUM(G3:G80)","v":11688},{"$f":"G86/D86","v":0.67768307531744654},{"$f":"SUM(I3:I80)","v":8293},{"$f":"I86/F86","v":0.48292796552594303},{"$f":"SUM(K3:K80)","v":15589},{"$f":"K86/D86","v":0.90386733924740537},{"$f":"SUM(M3:M80)","v":15994},{"$f":"M86/D86","v":0.92734968400301498},{"$f":"SUM(O3:O80)","v":13882},{"$f":"O86/D86","v":0.8048936046848727},{"$f":"SUM(Q3:Q80)","v":13923},{"$f":"Q86/D86","v":0.80727082970951469},{"$f":"SUM(S3:S80)","v":11995},{"$f":"S86/F86","v":0.69850728885610591},{"$f":"SUM(U3:U80)","v":14422},{"$f":"U86/F86","v":0.83983927635537803},{"$f":"SUM(W3:W80)","v":14564},{"$f":"W86/F86","v":0.84810839140477923}]
[]
[]
[]
[" FonteVacina e Confia, em 09 de Maio de 2024.**"]
["**Dados referente às doses aplicadas no período de Abril de 2024"]
["Cobertura Calculada por município de procedência da vacinação"]
["1 População anual extraída do MS/SVS/DASIS - SINASC/DASIS/SVS/MS 2023 (hoje preliminares) referente ao período de março a dezembro de 2023 e SINASC/DASIS/SVS/MS 2024 referente ao período de janeiro a fevereiro de 2024."]
[]
["² População proporcional extraída do MS/SVS/DASIS - SINASC/DASIS/SVS/MS 2023 (hoje preliminares) referente ao período de março e abril de 2023 somada a população extraída do SINASC/DASIS/SVS/MS 2024 referente ao período de janeiro e fevereiro de 2024."]
["³ População anual e proporcional extraída do Censo IBGE 2022."]
[]
["Observações:"]
["Imunobiológicos que foram recebidos parcialmente pelo estado no mês da análise, sendo distribuídos em quantidades reduzidas às regionais e municípios: Varicela, Febre Amarela e HPV Quadrivalente."]
["Imunobiológicos que não foram recebidos pelo estado no mês da análise, não sendo possível a distribuição às regionais e municípios: Meningo C, Hepatite A (CRIE), HIB, Hepatite A Rotina Pediátrica, DTPa (CRIE)."]
["Imunobiológicos com indisponibilidade de aquisição e distribuição no mês da análise: Tetra Viral."]

{"sheet":"CV REF 1A e 4A - residência","index":3,"n_rows":102,"n_cols":24,"rows_kept":102,"cut":false,"hidden":false,"merged":[[95,0,95,12],[93,0,94,12],[91,0,92,12],[88,0,88,11],[0,18,0,23],[89,0,89,12],[90,0,90,12],[0,10,0,17],[0,6,0,9]]}
[null,null,null,null,null,null,"D2",null,null,null,"REFORÇOS 1 ANO",null,null,null,null,null,null,null,"REFORÇOS 4 ANOS"]
["Regional ","Município","¹População 1 ano anual ","²População 1 ano proporcional ","³População 4 anos anual ","³População 4 anos proporcional ","DOSES APLICADAS D2 TRÍPLICE VIRAL","COBERTURA D2 TRÍPLICE VIRAL","DOSES APLICADAS D2 VARICELA","COBERTURA D2 VARICELA","DOSES APLICADAS REF PNEUMO ","COBERTURA REF PNEUMO","DOSES APLICADAS REF MENINGO","COBERTURA REF MENINGO","DOSES APLICADAS R1 POLIO","COBERTURA R1 POLIO","DOSES APLICADAS R1 TRÍPLICE BACTERIANA","COBERTURA R1 TRÍPLICE BACTERIANA","DOSES APLICADAS REF FEBRE AMARELA","COBERTURA REF FEBRE AMARELA","DOSES APLICADAS R2 POLIO","COBERTURA R2 POLIO","DOSES APLICADAS R2 TRÍPLICE BACTERIANA","COBERTURA R2 TRÍPLICE BACTERIANA"]
["Metropolitana","Afonso Cláudio",384,126,416,{"$f":"E3/12*4","v":138.66666666666666},117,{"$f":"G3/D3","v":0.9285714285714286},71,{"$f":"I3/F3","v":0.51201923076923084},145,{"$f":"K3/D3","v":1.1507936507936507},144,{"$f":"M3/D3","v":1.1428571428571428},129,{"$f":"O3/D3","v":1.0238095238095237},131,{"$f":"Q3/D3","v":1.0396825396825398},87,{"$f":"S3/F3","v":0.62740384615384615},95,{"$f":"U3/F3","v":0.68509615384615385},95,{"$f":"W3/F3","v":0.68509615384615385}]
["Norte","Água Doce do Norte",170,61,151,{"$f":"E4/12*4","v":50.333333333333336},31,0.50819672131147542,29,0.57615894039735094,51,0.83606557377049184,51,0.83606557377049184,36,0.5901639344262295,41,0.67213114754098358,38,0.75496688741721851,40,0.79470198675496684,36,0.71523178807947019]
["Central","Águia Branca",149,39,129,43,27,0.69230769230769229,21,0.48837209302325579,36,0.92307692307692313,38,0.97435897435897434,36,0.92307692307692313,38,0.97435897435897434,27,0.62790697674418605,33,0.76744186046511631,35,0.81395348837209303]
["Sul","Alegre",327,93,372,124,79,0.84946236559139787,83,0.66935483870967738,96,1.032258064516129,97,1.043010752688172,80,0.86021505376344087,86,0.92473118279569888,109,0.87903225806451613,113,0.91129032258064513,120,0.967741935483871]
["Sul","Alfredo Chaves",146,46,138,46,38,0.82608695652173914,35,0.76086956521739135,49,1.0652173913043479,52,1.1304347826086956,43,0.93478260869565222,42,0.91304347826086951,36,0.78260869565217395,41,0.89130434782608692,37,0.80434782608695654]
["Central","Alto Rio Novo",80,21,102,34,23,1.0952380952380953,17,0.5,31,1.4761904761904763,30,1.4285714285714286,25,1.1904761904761905,22,1.0476190476190477,25,0.73529411764705888,24,0.70588235294117652,23,0.67647058823529416]
["Sul","Anchieta",365,109,390,130,100,0.91743119266055051,83,0.63846153846153841,130,1.1926605504587156,132,1.2110091743119267,118,1.0825688073394495,123,1.128440366972477,102,0.7846153846153846,134,1.0307692307692307,146,1.1230769230769231]
["Sul","Apiacá",64,20,90,30,4,0.2,20,0.66666666666666663,15,0.75,16,0.8,5,0.25,5,0.25,6,0.2,27,0.9,26,0.8666666666666667]
["Metropolitana","Aracruz",1456,490,1420,473.33333333333331,407,0.83061224489795915,298,0.62957746478873244,491,1.0020408163265306,520,1.0612244897959184,464,0.94693877551020411,466,0.95102040816326527,307,0.64859154929577467,394,0.8323943661971831,415,0.87676056338028174]
["Sul","Atilio Vivacqua",133,42,138,46,37,0.88095238095238093,19,0.41304347826086957,45,1.0714285714285714,47,1.1190476190476191,45,1.0714285714285714,46,1.0952380952380953,33,0.71739130434782605,38,0.82608695652173914,37,0.80434782608695654]
["Central","Baixo Guandu",364,105,427,142.33333333333334,115,1.0952380952380953,70,0.49180327868852458,144,1.3714285714285714,145,1.3809523809523809,129,1.2285714285714286,133,1.2666666666666666,98,0.68852459016393441,136,0.95550351288056201,128,0.89929742388758771]
["Norte","Barra de São Francisco",534,166,589,196.33333333333334,161,0.96987951807228912,109,0.55517826825127337,185,1.1144578313253013,186,1.1204819277108433,162,0.97590361445783136,169,1.0180722891566265,146,0.7436332767402376,143,0.72835314091680814,144,0.73344651952461792]
["Norte","Boa Esperança",199,72,200,66.666666666666671,51,0.70833333333333337,43,0.64499999999999991,74,1.0277777777777777,76,1.0555555555555556,59,0.81944444444444442,53,0.73611111111111116,38,0.56999999999999995,50,0.75,51,0.7649999999999999]
["Sul","Bom Jesus do Norte",83,23,146,48.666666666666664,13,0.56521739130434778,8,0.16438356164383564,34,1.4782608695652173,34,1.4782608695652173,16,0.69565217391304346,15,0.65217391304347827,16,0.32876712328767127,23,0.4726027397260274,21,0.4315068493150685]
["Metropolitana","Brejetuba",212,70,169,56.333333333333336,67,0.95714285714285718,40,0.7100591715976331,62,0.88571428571428568,64,0.91428571428571426,65,0.9285714285714286,68,0.97142857142857142,56,0.99408284023668636,59,1.0473372781065089,60,1.0650887573964496]
["Sul","Cachoeiro de Itapemirim",2473,863,2417,805.66666666666663,612,0.70915411355735802,377,0.46793545717832025,808,0.93626882966396296,827,0.95828505214368487,736,0.85283893395133259,728,0.84356894553881812,463,0.57467935457178321,636,0.78940835746793547,663,0.82292097641704598]
["Metropolitana","Cariacica",4917,1679,5005,1668.3333333333333,1041,0.62001191185229299,855,0.51248751248751256,1544,0.91959499702203695,1578,0.93984514592019064,1338,0.79690291840381178,1330,0.7921381774865992,1191,0.71388611388611389,1534,0.91948051948051956,1504,0.90149850149850153]
["Sul","Castelo",454,160,399,133,122,0.76249999999999996,72,0.54135338345864659,146,0.91249999999999998,149,0.93125000000000002,130,0.8125,131,0.81874999999999998,92,0.69172932330827064,109,0.81954887218045114,111,0.83458646616541354]
["Central","Colatina",1532,496,1561,520.33333333333337,355,0.71572580645161288,180,0.34593209481101855,439,0.88508064516129037,474,0.95564516129032262,389,0.78427419354838712,395,0.7963709677419355,247,0.47469570787956433,337,0.64766175528507364,345,0.66303651505445227]
["Norte","Conceição da Barra",389,136,391,130.33333333333334,105,0.7720588235294118,87,0.66751918158567769,129,0.94852941176470584,133,0.9779411764705882,123,0.90441176470588236,115,0.84558823529411764,99,0.75959079283887465,142,1.0895140664961636,144,1.1048593350383631]
["Metropolitana","Conceição do Castelo",168,60,144,48,35,0.58333333333333337,22,0.45833333333333331,35,0.58333333333333337,38,0.6333333333333333,40,0.66666666666666663,38,0.6333333333333333,34,0.70833333333333337,35,0.72916666666666663,37,0.77083333333333337]
["Sul","Divino de São Lourenço",65,21,68,22.666666666666668,14,0.66666666666666663,12,0.52941176470588236,14,0.66666666666666663,15,0.7142857142857143,18,0.8571428571428571,18,0.8571428571428571,26,1.1470588235294117,20,0.88235294117647056,19,0.83823529411764697]
["Metropolitana","Domingos Martins",411,133,411,137,141,1.0601503759398496,109,0.79562043795620441,137,1.0300751879699248,127,0.95488721804511278,142,1.0676691729323309,142,1.0676691729323309,106,0.77372262773722633,129,0.94160583941605835,131,0.95620437956204385]
["Sul","Dores do Rio Preto",97,36,92,30.666666666666668,19,0.52777777777777779,11,0.35869565217391303,36,1,37,1.0277777777777777,23,0.63888888888888884,20,0.55555555555555558,13,0.42391304347826086,15,0.4891304347826087,16,0.52173913043478259]
["Norte","Ecoporanga",256,89,283,94.333333333333329,78,0.8764044943820225,61,0.64664310954063609,84,0.9438202247191011,88,0.9887640449438202,80,0.898876404494382,78,0.8764044943820225,62,0.65724381625441697,67,0.71024734982332161,70,0.74204946996466437]
["Metropolitana","Fundão",220,81,218,72.666666666666671,58,0.71604938271604934,38,0.52293577981651373,69,0.85185185185185186,75,0.92592592592592593,65,0.80246913580246915,65,0.80246913580246915,36,0.49541284403669722,44,0.60550458715596323,43,0.59174311926605505]
["Central","Governador Lindenberg",147,52,142,47.333333333333336,33,0.63461538461538458,29,0.61267605633802813,34,0.65384615384615385,35,0.67307692307692313,34,0.65384615384615385,34,0.65384615384615385,29,0.61267605633802813,35,0.73943661971830987,35,0.73943661971830987]
["Sul","Guaçuí",406,131,407,135.66666666666666,138,1.0534351145038168,42,0.30958230958230959,145,1.1068702290076335,153,1.16793893129771,141,1.0763358778625953,130,0.99236641221374045,91,0.67076167076167081,86,0.63390663390663393,81,0.59705159705159705]
["Metropolitana","Guarapari",1741,578,1557,519,370,0.64013840830449831,258,0.49710982658959535,530,0.91695501730103801,540,0.93425605536332179,456,0.78892733564013839,473,0.81833910034602075,305,0.58766859344894029,404,0.77842003853564545,452,0.87090558766859349]
["Metropolitana","Ibatiba",361,112,354,118,68,0.6071428571428571,39,0.33050847457627119,107,0.9553571428571429,116,1.0357142857142858,104,0.9285714285714286,106,0.9464285714285714,74,0.6271186440677966,95,0.80508474576271183,97,0.82203389830508478]
["Metropolitana","Ibiraçu",153,58,160,53.333333333333336,19,0.32758620689655171,33,0.61875000000000002,42,0.72413793103448276,42,0.72413793103448276,25,0.43103448275862066,25,0.43103448275862066,32,0.6,38,0.71250000000000002,38,0.71250000000000002]
["Sul","Ibitirama",127,37,148,49.333333333333336,33,0.89189189189189189,19,0.38513513513513514,40,1.0810810810810811,41,1.1081081081081081,36,0.97297297297297303,34,0.91891891891891897,19,0.38513513513513514,24,0.48648648648648646,23,0.46621621621621617]
["Sul","Iconha",115,36,156,52,39,{"$f":"G35/D35","v":1.0833333333333333},14,{"$f":"I35/F35","v":0.26923076923076922},59,{"$f":"K35/D35","v":1.6388888888888888},62,{"$f":"M35/D35","v":1.7222222222222223},36,{"$f":"O35/D35","v":1},36,{"$f":"Q35/D35","v":1},37,{"$f":"S35/F35","v":0.71153846153846156},36,{"$f":"U35/F35","v":0.69230769230769229},35,{"$f":"W35/F35","v":0.67307692307692313}]
["Sul","Irupi",195,59,200,66.666666666666671,48,0.81355932203389836,41,0.61499999999999999,90,1.5254237288135593,90,1.5254237288135593,64,1.0847457627118644,64,1.0847457627118644,62,0.92999999999999994,65,0.97499999999999998,71,1.0649999999999999]
["Metropolitana","Itaguaçu",129,37,154,51.333333333333336,56,1.5135135135135136,20,0.38961038961038957,49,1.3243243243243243,50,1.3513513513513513,50,1.3513513513513513,51,1.3783783783783783,35,0.68181818181818177,37,0.72077922077922074,37,0.72077922077922074]
["Sul","Itapemirim",543,157,556,185.33333333333334,123,0.78343949044585992,82,0.4424460431654676,183,1.1656050955414012,190,1.2101910828025477,167,1.0636942675159236,173,1.1019108280254777,85,0.45863309352517984,172,0.92805755395683454,169,0.91187050359712229]
["Metropolitana","Itarana",143,51,128,42.666666666666664,34,0.66666666666666663,35,0.8203125,38,0.74509803921568629,37,0.72549019607843135,36,0.70588235294117652,34,0.66666666666666663,31,0.7265625,39,0.9140625,36,0.84375]
["Sul","Iúna",481,154,410,136.66666666666666,112,0.72727272727272729,71,0.51951219512195124,155,1.0064935064935066,169,1.0974025974025974,116,0.75324675324675328,115,0.74675324675324672,86,0.62926829268292683,123,0.9,118,0.86341463414634156]
["Norte","Jaguaré",487,154,445,148.33333333333334,134,0.87012987012987009,78,0.52584269662921346,152,0.98701298701298701,151,0.98051948051948057,143,0.9285714285714286,145,0.94155844155844159,113,0.76179775280898876,128,0.86292134831460665,154,1.0382022471910111]
["Sul","Jerônimo Monteiro",160,49,157,52.333333333333336,36,0.73469387755102045,19,0.36305732484076431,52,1.0612244897959184,52,1.0612244897959184,40,0.81632653061224492,41,0.83673469387755106,33,0.63057324840764328,35,0.66878980891719741,38,0.72611464968152861]
["Metropolitana","João Neiva",180,59,142,47.333333333333336,38,0.64406779661016944,27,0.57042253521126762,59,1,64,1.0847457627118644,41,0.69491525423728817,41,0.69491525423728817,35,0.73943661971830987,40,0.84507042253521125,40,0.84507042253521125]
["Metropolitana","Laranja da Terra",98,37,133,44.333333333333336,28,0.7567567567567568,28,0.63157894736842102,49,1.3243243243243243,48,1.2972972972972974,30,0.81081081081081086,29,0.78378378378378377,30,0.67669172932330823,32,0.72180451127819545,31,0.6992481203007519]
["Central","Linhares",2574,863,2452,817.33333333333337,600,0.69524913093858631,419,0.51264274061990212,715,0.82850521436848201,711,0.82387022016222478,650,0.75318655851680183,689,0.79837775202780992,562,0.68760195758564435,718,0.87846655791190864,772,0.94453507340946163]
["Central","Mantenópolis",156,51,166,55.333333333333336,40,0.78431372549019607,29,0.52409638554216864,58,1.1372549019607843,53,1.0392156862745099,46,0.90196078431372551,48,0.94117647058823528,31,0.56024096385542166,45,0.81325301204819278,44,0.79518072289156627]
["Sul","Marataízes",556,206,579,193,142,0.68932038834951459,87,0.45077720207253885,189,0.91747572815533984,192,0.93203883495145634,161,0.78155339805825241,165,0.80097087378640774,87,0.45077720207253885,143,0.7409326424870466,151,0.78238341968911918]
["Metropolitana","Marechal Floriano",237,88,236,78.666666666666671,56,0.63636363636363635,44,0.55932203389830504,80,0.90909090909090906,76,0.86363636363636365,58,0.65909090909090906,58,0.65909090909090906,40,0.50847457627118642,46,0.5847457627118644,49,0.6228813559322034]
["Central","Marilândia",157,37,164,54.666666666666664,43,1.1621621621621621,38,0.69512195121951226,49,1.3243243243243243,49,1.3243243243243243,48,1.2972972972972974,48,1.2972972972972974,41,0.75,42,0.76829268292682928,45,0.82317073170731714]
["Sul","Mimoso do Sul",254,71,276,92,44,0.61971830985915488,68,0.73913043478260865,64,0.90140845070422537,70,0.9859154929577465,55,0.77464788732394363,58,0.81690140845070425,72,0.78260869565217395,76,0.82608695652173914,78,0.84782608695652173]
["Norte","Montanha",259,77,278,92.666666666666671,74,0.96103896103896103,56,0.60431654676258995,77,1,81,1.051948051948052,82,1.0649350649350648,85,1.1038961038961039,74,0.79856115107913661,80,0.86330935251798557,83,0.89568345323741005]
["Norte","Mucurici",73,19,97,32.333333333333336,15,0.78947368421052633,23,0.71134020618556693,31,1.631578947368421,31,1.631578947368421,16,0.84210526315789469,16,0.84210526315789469,23,0.71134020618556693,27,0.8350515463917525,27,0.8350515463917525]
["Sul","Muniz Freire",221,72,275,91.666666666666671,73,1.0138888888888888,31,0.33818181818181814,83,1.1527777777777777,82,1.1388888888888888,71,0.98611111111111116,72,1,73,0.79636363636363627,75,0.81818181818181812,71,0.77454545454545454]
["Sul","Muqui",165,43,152,50.666666666666664,38,0.88372093023255816,34,0.67105263157894735,51,1.1860465116279071,52,1.2093023255813953,37,0.86046511627906974,36,0.83720930232558144,34,0.67105263157894735,36,0.71052631578947367,37,0.73026315789473684]
["Norte","Nova Venécia",683,225,656,218.66666666666666,194,0.86222222222222222,99,0.4527439024390244,214,0.95111111111111113,210,0.93333333333333335,199,0.88444444444444448,207,0.92,137,0.6265243902439025,168,0.76829268292682928,173,0.79115853658536583]
["Central","Pancas",208,56,244,81.333333333333329,73,1.3035714285714286,45,0.55327868852459017,77,1.375,78,1.3928571428571428,73,1.3035714285714286,74,1.3214285714285714,67,0.82377049180327877,67,0.82377049180327877,68,0.83606557377049184]
["Norte","Pedro Canário",335,129,338,112.66666666666667,96,0.7441860465116279,84,0.74556213017751471,130,1.0077519379844961,129,1,111,0.86046511627906974,116,0.89922480620155043,98,0.86982248520710059,111,0.9852071005917159,117,1.0384615384615383]
["Norte","Pinheiros",330,109,383,127.66666666666667,60,0.55045871559633031,61,0.47780678851174935,98,0.8990825688073395,92,0.84403669724770647,77,0.70642201834862384,74,0.67889908256880738,82,0.64229765013054829,97,0.75979112271540472,95,0.74412532637075712]
["Sul","Piúma",292,83,311,103.66666666666667,57,0.68674698795180722,36,0.34726688102893888,101,1.2168674698795181,96,1.1566265060240963,90,1.0843373493975903,91,1.0963855421686748,40,0.38585209003215432,63,0.60771704180064301,74,0.7138263665594855]
["Norte","Ponto Belo",81,21,85,28.333333333333332,13,0.61904761904761907,15,0.52941176470588236,19,0.90476190476190477,19,0.90476190476190477,14,0.66666666666666663,13,0.61904761904761907,12,0.42352941176470588,14,0.49411764705882355,15,0.52941176470588236]
["Sul","Presidente Kennedy",193,73,239,79.666666666666671,65,0.8904109589041096,34,0.42677824267782422,82,1.1232876712328768,83,1.1369863013698631,62,0.84931506849315064,63,0.86301369863013699,63,0.79079497907949781,75,0.94142259414225937,76,0.95397489539748948]
["Central","Rio Bananal",297,99,229,76.333333333333329,80,0.80808080808080807,60,0.7860262008733625,91,0.91919191919191923,101,1.0202020202020201,88,0.88888888888888884,88,0.88888888888888884,80,1.0480349344978166,84,1.1004366812227075,80,1.0480349344978166]
["Sul","Rio Novo do Sul",121,35,144,48,27,0.77142857142857146,32,0.66666666666666663,38,1.0857142857142856,40,1.1428571428571428,27,0.77142857142857146,28,0.8,30,0.625,39,0.8125,39,0.8125]
["Metropolitana","Santa Leopoldina",100,32,155,51.666666666666664,21,0.65625,16,0.30967741935483872,49,1.53125,51,1.59375,28,0.875,29,0.90625,34,0.65806451612903227,38,0.73548387096774193,39,0.75483870967741939]
["Metropolitana","Santa Maria de Jetibá",667,234,685,228.33333333333334,180,0.76923076923076927,99,0.43357664233576643,214,0.9145299145299145,222,0.94871794871794868,213,0.91025641025641024,203,0.86752136752136755,137,0.6,177,0.7751824817518248,180,0.7883211678832116]
["Metropolitana","Santa Teresa",293,87,260,86.666666666666671,69,0.7931034482758621,57,0.65769230769230769,85,0.97701149425287359,95,1.0919540229885059,73,0.83908045977011492,70,0.8045977011494253,70,0.8076923076923076,72,0.8307692307692307,67,0.77307692307692299]
["Central","São Domingos do Norte",125,44,117,39,22,{"$f":"G67/D67","v":0.5},15,{"$f":"I67/F67","v":0.38461538461538464},27,{"$f":"K67/D67","v":0.61363636363636365},27,{"$f":"M67/D67","v":0.61363636363636365},21,{"$f":"O67/D67","v":0.47727272727272729},22,{"$f":"Q67/D67","v":0.5},26,{"$f":"S67/F67","v":0.66666666666666663},26,{"$f":"U67/F67","v":0.66666666666666663},28,{"$f":"W67/F67","v":0.71794871794871795}]
["Central","São Gabriel da Palha",430,132,426,{"$f":"E68/12*4","v":142},91,0.68939393939393945,78,0.54929577464788737,121,0.91666666666666663,125,0.94696969696969702,100,0.75757575757575757,99,0.75,113,0.79577464788732399,110,0.77464788732394363,110,0.77464788732394363]
["Sul","São José do Calçado",106,39,150,50,37,0.94871794871794868,15,0.3,45,1.1538461538461537,45,1.1538461538461537,43,1.1025641025641026,40,1.0256410256410255,43,0.86,43,0.86,43,0.86]
["Norte","São Mateus",1931,650,1766,588.66666666666663,342,0.52615384615384619,338,0.57417893544733867,528,0.81230769230769229,535,0.82307692307692304,459,0.70615384615384613,450,0.69230769230769229,395,0.67100792751981886,476,0.80860702151755381,464,0.78822197055492649]
["Central","São Roque do Canaã",122,50,100,33.333333333333336,30,0.6,30,0.89999999999999991,39,0.78,43,0.86,31,0.62,31,0.62,30,0.89999999999999991,31,0.92999999999999994,33,0.98999999999999988]
["Metropolitana","Serra",7437,2622,7550,2516.6666666666665,1506,0.57437070938215107,1008,0.40052980132450333,2062,0.78642257818459194,2084,0.79481311975591151,1899,0.72425629290617854,1895,0.72273073989321124,1920,0.76291390728476827,2161,0.85867549668874177,2139,0.84993377483443711]
["Central","Sooretama",432,150,415,138.33333333333334,103,0.68666666666666665,82,0.59277108433734937,116,0.77333333333333332,109,0.72666666666666668,129,0.86,128,0.85333333333333339,138,0.99759036144578306,135,0.97590361445783125,142,1.0265060240963855]
["Sul","Vargem Alta",256,89,278,92.666666666666671,69,0.7752808988764045,52,0.5611510791366906,97,1.0898876404494382,97,1.0898876404494382,84,0.9438202247191011,87,0.97752808988764039,62,0.6690647482014388,78,0.84172661870503596,80,0.86330935251798557]
["Metropolitana","Venda Nova do Imigrante",406,130,328,109.33333333333333,113,0.86923076923076925,48,0.43902439024390244,121,0.93076923076923079,124,0.9538461538461539,112,0.86153846153846159,111,0.85384615384615381,62,0.56707317073170738,66,0.60365853658536583,71,0.64939024390243905]
["Metropolitana","Viana",1005,360,1064,354.66666666666669,148,0.41111111111111109,155,0.43703007518796988,331,0.9194444444444444,336,0.93333333333333335,244,0.67777777777777781,253,0.70277777777777772,251,0.70770676691729317,304,0.8571428571428571,309,0.87124060150375937]
["Norte","Vila Pavão",88,34,127,42.333333333333336,26,0.76470588235294112,20,0.47244094488188976,41,1.2058823529411764,41,1.2058823529411764,28,0.82352941176470584,25,0.73529411764705888,41,0.96850393700787396,44,1.0393700787401574,44,1.0393700787401574]
["Central","Vila Valério",241,79,169,56.333333333333336,59,0.74683544303797467,29,0.51479289940828399,58,0.73417721518987344,54,0.68354430379746833,65,0.82278481012658233,70,0.88607594936708856,37,0.65680473372781067,55,0.97633136094674555,55,0.97633136094674555]
["Metropolitana","Vila Velha",5756,1942,5675,1891.6666666666667,1181,0.60813594232749746,746,0.39436123348017621,1579,0.8130792996910402,1659,0.8542739443872297,1358,0.69927909371781671,1343,0.6915550978372812,1363,0.72052863436123349,1510,0.79823788546255503,1470,0.77709251101321586]
["Metropolitana","Vitória",3725,1218,3833,1277.6666666666667,655,0.5377668308702791,502,0.39290373075919643,936,0.76847290640394084,1008,0.82758620689655171,911,0.7479474548440066,900,0.73891625615763545,864,0.67623271588833811,1077,0.84294286459692147,1075,0.84137751108792069]
[]
[null,"Total Norte",{"$f":"SUMIF($A$3:$A$80,\"Norte\",C$3:C$80)","v":5815},{"$f":"SUMIF($A$3:$A$80,\"Norte\",D$3:D$80)","v":1942},{"$f":"SUMIF($A$3:$A$80,\"Norte\",E$3:E$80)","v":5789},{"$f":"SUMIF($A$3:$A$80,\"Norte\",F$3:F$80)","v":1929.6666666666667},{"$f":"SUMIF($A$3:$A$80,\"Norte\",G$3:G$80)","v":1380},{"$f":"G82/D82","v":0.71060762100926878},{"$f":"SUMIF($A$3:$A$80,\"Norte\",I$3:I$80)","v":1103},{"$f":"I82/F82","v":0.5716013128346864},{"$f":"SUMIF($A$3:$A$80,\"Norte\",K$3:K$80)","v":1813},{"$f":"K82/D82","v":0.93357363542739447},{"$f":"SUMIF($A$3:$A$80,\"Norte\",M$3:M$80)","v":1823},{"$f":"M82/D82","v":0.93872296601441818},{"$f":"SUMIF($A$3:$A$80,\"Norte\",O$3:O$80)","v":1589},{"$f":"O82/D82","v":0.81822863027806381},{"$f":"SUMIF($A$3:$A$80,\"Norte\",Q$3:Q$80)","v":1587},{"$f":"Q82/D82","v":0.81719876416065906},{"$f":"SUMIF($A$3:$A$80,\"Norte\",S$3:S$80)","v":1358},{"$f":"S82/F82","v":0.70374848851269645},{"$f":"SUMIF($A$3:$A$80,\"Norte\",U$3:U$80)","v":1587},{"$f":"U82/F82","v":0.82242183451373296},{"$f":"SUMIF($A$3:$A$80,\"Norte\",W$3:W$80)","v":1617},{"$f":"W82/F82","v":0.83796856106408701}]
[null,"Total Central",{"$f":"SUMIF($A$3:$A$80,\"Central\",C$3:C$80)","v":7014},{"$f":"SUMIF($A$3:$A$80,\"Central\",D$3:D$80)","v":2274},{"$f":"SUMIF($A$3:$A$80,\"Central\",E$3:E$80)","v":6843},{"$f":"SUMIF($A$3:$A$80,\"Central\",F$3:F$80)","v":2281.0000000000005},{"$f":"SUMIF($A$3:$A$80,\"Central\",G$3:G$80)","v":1694},{"$f":"G83/D83","v":0.74494283201407208},{"$f":"SUMIF($A$3:$A$80,\"Central\",I$3:I$80)","v":1142},{"$f":"I83/F83","v":0.50065760631302048},{"$f":"SUMIF($A$3:$A$80,\"Central\",K$3:K$80)","v":2035},{"$f":"K83/D83","v":0.89489885664028146},{"$f":"SUMIF($A$3:$A$80,\"Central\",M$3:M$80)","v":2072},{"$f":"M83/D83","v":0.91116974494283198},{"$f":"SUMIF($A$3:$A$80,\"Central\",O$3:O$80)","v":1864},{"$f":"O83/D83","v":0.81970096745822341},{"$f":"SUMIF($A$3:$A$80,\"Central\",Q$3:Q$80)","v":1919},{"$f":"Q83/D83","v":0.84388742304309583},{"$f":"SUMIF($A$3:$A$80,\"Central\",S$3:S$80)","v":1551},{"$f":"S83/F83","v":0.67996492766330541},{"$f":"SUMIF($A$3:$A$80,\"Central\",U$3:U$80)","v":1878},{"$f":"U83/F83","v":0.8233231039017973},{"$f":"SUMIF($A$3:$A$80,\"Central\",W$3:W$80)","v":1943},{"$f":"W83/F83","v":0.85181937746602354}]
[null,"Total Metropolitana",{"$f":"SUMIF($A$3:$A$80,\"Metropolitana\",C$3:C$80)","v":30199},{"$f":"SUMIF($A$3:$A$80,\"Metropolitana\",D$3:D$80)","v":10284},{"$f":"SUMIF($A$3:$A$80,\"Metropolitana\",E$3:E$80)","v":30197},{"$f":"SUMIF($A$3:$A$80,\"Metropolitana\",F$3:F$80)","v":10065.666666666666},{"$f":"SUMIF($A$3:$A$80,\"Metropolitana\",G$3:G$80)","v":6408},{"$f":"G84/D84","v":0.62310385064177365},{"$f":"SUMIF($A$3:$A$80,\"Metropolitana\",I$3:I$80)","v":4548},{"$f":"I84/F84","v":0.45183296353942448},{"$f":"SUMIF($A$3:$A$80,\"Metropolitana\",K$3:K$80)","v":8814},{"$f":"K84/D84","v":0.8570595099183197},{"$f":"SUMIF($A$3:$A$80,\"Metropolitana\",M$3:M$80)","v":9098},{"$f":"M84/D84","v":0.8846752236483858},{"$f":"SUMIF($A$3:$A$80,\"Metropolitana\",O$3:O$80)","v":7881},{"$f":"O84/D84","v":0.76633605600933485},{"$f":"SUMIF($A$3:$A$80,\"Metropolitana\",Q$3:Q$80)","v":7861},{"$f":"Q84/D84","v":0.76439128743679507},{"$f":"SUMIF($A$3:$A$80,\"Metropolitana\",S$3:S$80)","v":7100},{"$f":"S84/F84","v":0.70536808292214459},{"$f":"SUMIF($A$3:$A$80,\"Metropolitana\",U$3:U$80)","v":8426},{"$f":"U84/F84","v":0.83710302347915366},{"$f":"SUMIF($A$3:$A$80,\"Metropolitana\",W$3:W$80)","v":8415},{"$f":"W84/F84","v":0.83601019968871082}]
[null,"Total Sul",{"$f":"SUMIF($A$3:$A$80,\"sul\",C$3:C$80)","v":8398},{"$f":"SUMIF($A$3:$A$80,\"sul\",D$3:D$80)","v":2747},{"$f":"SUMIF($A$3:$A$80,\"sul\",E$3:E$80)","v":8688},{"$f":"SUMIF($A$3:$A$80,\"sul\",F$3:F$80)","v":2895.9999999999995},{"$f":"SUMIF($A$3:$A$80,\"sul\",G$3:G$80)","v":2119},{"$f":"G85/D85","v":0.77138696760101932},{"$f":"SUMIF($A$3:$A$80,\"sul\",I$3:I$80)","v":1397},{"$f":"I85/F85","v":0.48238950276243103},{"$f":"SUMIF($A$3:$A$80,\"sul\",K$3:K$80)","v":2847},{"$f":"K85/D85","v":1.0364033491081179},{"$f":"SUMIF($A$3:$A$80,\"sul\",M$3:M$80)","v":2920},{"$f":"M85/D85","v":1.0629777939570439},{"$f":"SUMIF($A$3:$A$80,\"sul\",O$3:O$80)","v":2444},{"$f":"O85/D85","v":0.88969785220240261},{"$f":"SUMIF($A$3:$A$80,\"sul\",Q$3:Q$80)","v":2447},{"$f":"Q85/D85","v":0.8907899526756462},{"$f":"SUMIF($A$3:$A$80,\"sul\",S$3:S$80)","v":1813},{"$f":"S85/F85","v":0.62603591160221006},{"$f":"SUMIF($A$3:$A$80,\"sul\",U$3:U$80)","v":2325},{"$f":"U85/F85","v":0.80283149171270729},{"$f":"SUMIF($A$3:$A$80,\"sul\",W$3:W$80)","v":2380},{"$f":"W85/F85","v":0.82182320441988965}]
[null,"Total Espírito Santo",{"$f":"SUM(C3:C80)","v":51426},{"$f":"SUM(D3:D80)","v":17247},{"$f":"SUM(E3:E80)","v":51517},{"$f":"SUM(F3:F80)","v":17172.333333333328},{"$f":"SUM(G3:G80)","v":11601},{"$f":"G86/D86","v":0.67263871977735257},{"$f":"SUM(I3:I80)","v":8190},{"$f":"I86/F86","v":0.47692994545489853},{"$f":"SUM(K3:K80)","v":15509},{"$f":"K86/D86","v":0.89922885139444542},{"$f":"SUM(M3:M80)","v":15913},{"$f":"M86/D86","v":0.92265321505189313},{"$f":"SUM(O3:O80)","v":13778},{"$f":"O86/D86","v":0.79886357047602485},{"$f":"SUM(Q3:Q80)","v":13814},{"$f":"Q86/D86","v":0.80095089000985675},{"$f":"SUM(S3:S80)","v":11822},{"$f":"S86/F86","v":0.68843294446493408},{"$f":"SUM(U3:U80)","v":14216},{"$f":"U86/F86","v":0.82784323621328904},{"$f":"SUM(W3:W80)","v":14355},{"$f":"W86/F86","v":0.83593765164897049}]
[]
[]
[]
[" FonteVacina e Confia, em 09 de Maio de 2024.**"]
["**Dados referente às doses aplicadas no período de Abril de 2024"]
["Cobertura Calculada por município de residência do cidadão (no Vacina e Confia, a origem da informação é o endereço que consta no cadastro do cidadão preenchido manualmente por meio do autocadastro ou pelo cadastro realizado por um profissional de saúde no momento do atendimento)."]
[]
["1 População anual extraída do MS/SVS/DASIS - SINASC/DASIS/SVS/MS 2023 (hoje preliminares) referente ao período de março a dezembro de 2023 e SINASC/DASIS/SVS/MS 2024 referente ao período de janeiro a fevereiro de 2024."]
[]
["² População proporcional extraída do MS/SVS/DASIS - SINASC/DASIS/SVS/MS 2023 (hoje preliminares) referente ao período de março e abril de 2023 somada a população extraída do SINASC/DASIS/SVS/MS 2024 referente ao período de janeiro e fevereiro de 2024."]
["³ População anual e proporcional extraída do Censo IBGE 2022."]
[]
["Observações:"]
["Imunobiológicos que foram recebidos parcialmente pelo estado no mês da análise, sendo distribuídos em quantidades reduzidas às regionais e municípios: Varicela, Febre Amarela e HPV Quadrivalente."]
["Imunobiológicos que não foram recebidos pelo estado no mês da análise, não sendo possível a distribuição às regionais e municípios: Meningo C, Hepatite A (CRIE), HIB, Hepatite A Rotina Pediátrica, DTPa (CRIE)."]
["Imunobiológicos com indisponibilidade de aquisição e distribuição no mês da análise: Tetra Viral."]

{"sheet":"Cobert. COVID-19 Menores 4 anos","index":4,"n_rows":92,"n_cols":3,"rows_kept":92,"cut":false,"hidden":true,"merged":[[90,0,90,9],[91,0,91,9],[86,0,86,9],[87,0,87,9],[88,0,88,9],[89,0,89,9]]}
["Regional ","Município","Série Histórica "]
["Região Metropolitana","Afonso Cláudio"]
["Região Norte","Água Doce do Norte"]
["Região Central","Águia Branca"]
["Região Sul","Alegre"]
["Região Sul","Alfredo Chaves"]
["Região Central","Alto Rio Novo"]
["Região Sul","Anchieta"]
["Região Sul","Apiacá"]
["Região Metropolitana","Aracruz"]
["Região Sul","Atilio Vivacqua"]
["Região Central","Baixo Guandu"]
["Região Norte","Barra de São Francisco"]
["Região Norte","Boa Esperança"]
["Região Sul","Bom Jesus do Norte"]
["Região Metropolitana","Brejetuba"]
["Região Sul","Cachoeiro de Itapemirim"]
["Região Metropolitana","Cariacica"]
["Região Sul","Castelo"]
["Região Central","Colatina"]
["Região Norte","Conceição da Barra"]
["Região Metropolitana","Conceição do Castelo"]
["Região Sul","Divino de São Lourenço"]
["Região Metropolitana","Domingos Martins"]
["Região Sul","Dores do Rio Preto"]
["Região Norte","Ecoporanga"]
["Região Metropolitana","Fundão"]
["Região Central","Governador Lindenberg"]
["Região Sul","Guaçuí"]
["Região Metropolitana","Guarapari"]
["Região Metropolitana","Ibatiba"]
["Região Metropolitana","Ibiraçu"]
["Região Sul","Ibitirama"]
["Região Sul","Iconha"]
["Região Sul","Irupi"]
["Região Metropolitana","Itaguaçu"]
["Região Sul","Itapemirim"]
["Região Metropolitana","Itarana"]
["Região Sul","Iúna"]
["Região Norte","Jaguaré"]
["Região Sul","Jerônimo Monteiro"]
["Região Metropolitana","João Neiva"]
["Região Metropolitana","Laranja da Terra"]
["Região Central","Linhares"]
["Região Central","Mantenópolis"]
["Região Sul","Marataízes"]
["Região Metropolitana","Marechal Floriano"]
["Região Central","Marilândia"]
["Região Sul","Mimoso do Sul"]
["Região Norte","Montanha"]
["Região Norte","Mucurici"]
["Região Sul","Muniz Freire"]
["Região Sul","Muqui"]
["Região Norte","Nova Venécia"]
["Região Central","Pancas"]
["Região Norte","Pedro Canário"]
["Região Norte","Pinheiros"]
["Região Sul","Piúma"]
["Região Norte","Ponto Belo"]
["Região Sul","Presidente Kennedy"]
["Região Central","Rio Bananal"]
["Região Sul","Rio Novo do Sul"]
["Região Metropolitana","Santa Leopoldina"]
["Região Metropolitana","Santa Maria de Jetibá"]
["Região Metropolitana","Santa Teresa"]
["Região Central","São Domingos do Norte"]
["Região Central","São Gabriel da Palha"]
["Região Sul","São José do Calçado"]
["Região Norte","São Mateus"]
["Região Central","São Roque do Canaã"]
["Região Metropolitana","Serra"]
["Região Central","Sooretama"]
["Região Sul","Vargem Alta"]
["Região Metropolitana","Venda Nova do Imigrante"]
["Região Metropolitana","Viana"]
["Região Norte","Vila Pavão"]
["Região Central","Vila Valério"]
["Região Metropolitana","Vila Velha"]
["Região Metropolitana","Vitória"]
[]
[null,"Espírito Santo"]
[null,"Região Norte"]
[null,"Região Central"]
[null,"Região Metropolitana"]
[null,"Região Sul"]
[]
["Pfizer Pediátrica Menor de 5 anos e Coronavac"]
["Período avaliado: 2021-2024"]
["Fonte: https://www.vacinaeconfia.es.gov.br"]
["*Dados de janeiro/2024 extraídos do Vacina e Confia em 04/01/2024"]
["População proporcional extraída do SINASC 2022 (menores de 1 ano) e Censo IBGE 2022 (demais idades)"]
["Cobertura Calculada por município de procedência da vacinação"]

{"sheet":"Cobert. Meningo C Adolescentes","index":5,"n_rows":93,"n_cols":3,"rows_kept":93,"cut":false,"hidden":false,"merged":[[79,0,79,1]]}
["Regional ","Município","Série Histórica "]
["Metropolitana","Afonso Cláudio",55.255070682237253]
["Central Norte","Água Doce do Norte",62.349397590361441]
["Central Norte","Águia Branca",55.952380952380956]
["Sul","Alegre",66.987416728349373]
["Sul","Alfredo Chaves",37.183544303797468]
["Central Norte","Alto Rio Novo",82.766990291262132]
["Sul","Anchieta",71.759259259259252]
["Sul","Apiacá",29.395604395604398]
["Metropolitana","Aracruz",73.545757688032609]
["Sul","Atilio Vivacqua",71.09375]
["Central Norte","Baixo Guandu",57.687253613666236]
["Central Norte","Barra de São Francisco",62.228967909800524]
["Central Norte","Boa Esperança",54.978962131837307]
["Sul","Bom Jesus do Norte",47.792706333973129]
["Metropolitana","Brejetuba",75.962815405046484]
["Sul","Cachoeiro de Itapemirim",72.801681229952436]
["Metropolitana","Cariacica",66.619454701805864]
["Sul","Castelo",73.86649874055415]
["Central Norte","Colatina",56.67026249550522]
["Central Norte","Conceição da Barra",51.607347876004596]
["Metropolitana","Conceição do Castelo",70.608108108108098]
["Sul","Divino de São Lourenço",54.044117647058819]
["Metropolitana","Domingos Martins",73.054587688734031]
["Sul","Dores do Rio Preto",72.178477690288716]
["Central Norte","Ecoporanga",57.78364116094987]
["Metropolitana","Fundão",69.811320754716974]
["Central Norte","Governador Lindenberg",68.545454545454547]
["Sul","Guaçuí",61.140583554376661]
["Metropolitana","Guarapari",64.086120018323413]
["Metropolitana","Ibatiba",67.72334293948127]
["Metropolitana","Ibiraçu",71.254355400696866]
["Sul","Ibitirama",64.397905759162299]
["Sul","Iconha",69.29133858267717]
["Sul","Irupi",62.284196547144752]
["Metropolitana","Itaguaçu",61.201298701298704]
["Sul","Itapemirim",54.300385109114245]
["Metropolitana","Itarana",60.981308411214954]
["Sul","Iúna",58.567774936061376]
["Central Norte","Jaguaré",56.298773690078043]
["Sul","Jerônimo Monteiro",76.554174067495566]
["Metropolitana","João Neiva",69.044006069802734]
["Metropolitana","Laranja da Terra",61.885245901639344]
["Central Norte","Linhares",65.569375938237187]
["Central Norte","Mantenópolis",75.492957746478879]
["Sul","Marataízes",76.50736936132202]
["Metropolitana","Marechal Floriano",73.31887201735357]
["Central Norte","Marilândia",66.363636363636374]
["Sul","Mimoso do Sul",62.467644521138908]
["Central Norte","Montanha",70.38095238095238]
["Central Norte","Mucurici",62.055335968379445]
["Sul","Muniz Freire",60.173160173160177]
["Sul","Muqui",61.933534743202415]
["Central Norte","Nova Venécia",46.597938144329895]
["Central Norte","Pancas",63.530655391120504]
["Central Norte","Pedro Canário",68.236233040702317]
["Central Norte","Pinheiros",57.727593507410027]
["Sul","Piúma",62.615101289134437]
["Central Norte","Ponto Belo",55.555555555555557]
["Sul","Presidente Kennedy",82.328767123287676]
["Central Norte","Rio Bananal",72.727272727272734]
["Sul","Rio Novo do Sul",54.406130268199234]
["Metropolitana","Santa Leopoldina",45.826771653543311]
["Metropolitana","Santa Maria de Jetibá",68.887846081651801]
["Metropolitana","Santa Teresa",72.296015180265655]
["Central Norte","São Domingos do Norte",67.560975609756099]
["Central Norte","São Gabriel da Palha",52.042079207920786]
["Sul","São José do Calçado",62.862318840579711]
["Central Norte","São Mateus",55.478208232445525]
["Central Norte","São Roque do Canaã",76.129032258064512]
["Metropolitana","Serra",62.969077838544351]
["Central Norte","Sooretama",73.877551020408163]
["Sul","Vargem Alta",68.629343629343637]
["Metropolitana","Venda Nova do Imigrante",67.112299465240639]
["Metropolitana","Viana",67.194570135746616]
["Central Norte","Vila Pavão",78.165938864628828]
["Central Norte","Vila Valério",80.678466076696168]
["Metropolitana","Vila Velha",70.150406688780848]
["Metropolitana","Vitória",73.759361657450825]
["Total",null,71.5695593261472]
[]
["Meningocócica Conjudada C e Meningocócica ACWY"]
["Período avaliado: 2016-2024"]
["Fonte: http://tabnet.datasus.gov.br/ e https://www.vacinaeconfia.es.gov.br"]
["*Dados parciais. Dados de janeiro/2022 a abril/2022 extraídos do TABNET em 10/05/2024"]
["*Dados de Abril/2024 extraídos do Vacina e Confia em Maio/2024"]
["População proporcional extraída do Censo IBGE 2022"]
["Cobertura Calculada por município de procedência da vacinação"]
[]
["Observações:"]
["Imunobiológicos que foram recebidos parcialmente pelo estado no mês da análise, sendo distribuídos em quantidades reduzidas às regionais e municípios: Varicela, Febre Amarela e HPV Quadrivalente."]
["Imunobiológicos que não foram recebidos pelo estado no mês da análise, não sendo possível a distribuição às regionais e municípios: Meningo C, Hepatite A (CRIE), HIB, Hepatite A Rotina Pediátrica, DTPa (CRIE)."]
["Imunobiológicos com indisponibilidade de aquisição e distribuição no mês da análise: Tetra Viral."]

{"sheet":"Cobert. HPV ","index":6,"n_rows":94,"n_cols":4,"rows_kept":94,"cut":false,"hidden":false,"merged":[[86,0,86,6],[87,0,87,6],[88,0,88,6],[79,0,79,1],[82,0,82,6],[83,0,83,6],[84,0,84,6],[85,0,85,6]]}
["REGIONAL","MUNICÍPIO","HPV* Quadrivalente D1 Total - Feminino","HPV* Quadrivalente D1 Total - Masculino"]
["METROPOLITANA","Afonso Cláudio",83.116883116883116,78.927524088814422]
["CENTRAL-NORTE","Água Doce do Norte",84.903748733535963,57.750759878419458]
["CENTRAL-NORTE","Águia Branca",69.220246238030086,73.324213406292742]
["SUL","Alegre",81.253059226627514,60.499265785609403]
["SUL","Alfredo Chaves",78.674948240165634,56.935817805383024]
["CENTRAL-NORTE","Alto Rio Novo",101.16086235489222,88.557213930348254]
["SUL","Anchieta",91.396454820579336,79.896238651102465]
["SUL","Apiacá",68.292682926829272,49.530956848030016]
["METROPOLITANA","Aracruz",83.251833740831287,71.662591687041569]
["SUL","Atílio Vivácqua",100.50251256281406,91.206030150753776]
["CENTRAL-NORTE","Baixo Guandu",80.593109463584824,63.235935455734847]
["CENTRAL-NORTE","Barra de São Francisco",73.74173137762439,57.405809605982171]
["CENTRAL-NORTE","Boa Esperança",86.558627264061002,48.236415633937085]
["SUL","Bom Jesus do Norte",82.291666666666657,61.979166666666664]
["METROPOLITANA","Brejetuba",89.667250437828372,73.555166374781095]
["SUL","Cachoeiro de Itapemirim",86.346592162341011,84.376148812587317]
["METROPOLITANA","Cariacica",80.726518597805736,48.782445812148787]
["SUL","Castelo",92.013311148086515,84.775374376039935]
["CENTRAL-NORTE","Colatina",51.943082625851964,42.233648212363981]
["CENTRAL-NORTE","Conceição da Barra",81.04524180967239,66.380655226209058]
["METROPOLITANA","Conceição do Castelo",97.261774370208116,84.337349397590373]
["SUL","Divino de São Lourenço",76.26262626262627,82.828282828282823]
["METROPOLITANA","Domingos Martins",90.81122645136486,78.046905036524421]
["SUL","Dores do Rio Preto",92.844036697247716,82.935779816513772]
["CENTRAL-NORTE","Ecoporanga",81.684981684981679,65.811965811965806]
["METROPOLITANA","Fundão",81.289418360196223,65.031534688156981]
["CENTRAL-NORTE","Governador Lindenberg",86.945812807881779,79.802955665024626]
["SUL","Guaçuí",83.413990321161464,64.496260448746142]
["METROPOLITANA","Guarapari",75.538760085793072,44.08129915228271]
["METROPOLITANA","Ibatiba",86.803519061583572,77.810361681329425]
["METROPOLITANA","Ibiraçu",89.763779527559052,67.041619797525314]
["SUL","Ibitirama",49.234393404004713,59.363957597173147]
["SUL","Iconha",92.544987146529564,85.861182519280206]
["SUL","Irupi",67.673179396092365,81.882770870337467]
["METROPOLITANA","Itaguaçu",92.081447963800898,47.285067873303163]
["SUL","Itapemirim",67.266395821242014,66.511897852582706]
["METROPOLITANA","Itarana",82.298136645962742,77.639751552795033]
["SUL","Iúna",75.353621945992288,79.554222031718808]
["CENTRAL-NORTE","Jaguaré",89.469753547423451,73.935772964899186]
["SUL","Jerônimo Monteiro",90.377588306942755,80.146163215590732]
["METROPOLITANA","João Neiva",94.605809128630696,75.103734439834028]
["METROPOLITANA","Laranja da Terra",79.245283018867923,64.959568733153645]
["CENTRAL-NORTE","Linhares",75.615851481613703,59.207425919314524]
["CENTRAL-NORTE","Mantenópolis",89.721421709894329,58.597502401536985]
["SUL","Marataízes",93.669366936693663,94.749474947494747]
["METROPOLITANA","Marechal Floriano",94.776119402985074,67.910447761194021]
["CENTRAL-NORTE","Marilândia",100.24937655860349,87.281795511221944]
["SUL","Mimoso do Sul",79.072532699167652,69.322235434007126]
["CENTRAL-NORTE","Montanha",92.445582586427662,83.738796414852757]
["CENTRAL-NORTE","Mucurici",96.089385474860336,73.743016759776538]
["SUL","Muniz Freire",90.988372093023244,89.680232558139537]
["SUL","Muqui",80.561122244488985,69.138276553106209]
["CENTRAL-NORTE","Nova Venécia",86.496850178033412,76.855655984661738]
["CENTRAL-NORTE","Pancas",85.694050991501413,75.63739376770539]
["CENTRAL-NORTE","Pedro Canário",89.592274678111579,74.678111587982826]
["CENTRAL-NORTE","Pinheiros",78.19047619047619,57.714285714285715]
["SUL","Piúma",70.986573263280789,60.828955049620546]
["CENTRAL-NORTE","Ponto Belo",91.578947368421055,77.192982456140342]
["SUL","Presidente Kennedy",84.801381692573415,83.419689119170982]
["CENTRAL-NORTE","Rio Bananal",98.347653668208864,96.761401189689352]
["SUL","Rio Novo do Sul",72.081218274111677,80.456852791878177]
["METROPOLITANA","Santa Leopoldina",61.587301587301589,36.82539682539683]
["METROPOLITANA","Santa Maria de Jetibá",88.867983693947949,54.876136719974909]
["METROPOLITANA","Santa Teresa",101.2491781722551,74.161735700197241]
["CENTRAL-NORTE","São Domingos do Norte",96.859504132231393,78.67768595041322]
["CENTRAL-NORTE","São Gabriel da Palha",79.374471682164,70.583262890955197]
["SUL","São José do Calçado",80.633373934226555,83.069427527405608]
["CENTRAL-NORTE","São Mateus",82.134617313672393,60.266827164209047]
["CENTRAL-NORTE","São Roque do Canaã",103.75722543352602,74.27745664739885]
["METROPOLITANA","Serra",78.325893362942139,41.059572636015503]
["CENTRAL-NORTE","Sooretama",81.821720513818605,76.372129233164657]
["SUL","Vargem Alta",85.524568393094285,85.126162018592296]
["METROPOLITANA","Venda Nova do Imigrante",96.984615384615381,88.615384615384613]
["METROPOLITANA","Viana",88.365837256220587,68.594485541358438]
["CENTRAL-NORTE","Vila Pavão",95.389048991354457,68.876080691642656]
["CENTRAL-NORTE","Vila Valério",102.78884462151395,80.677290836653384]
["METROPOLITANA","Vila Velha",87.45251733494122,64.558335845643654]
["METROPOLITANA","Vitória",97.516571748669591,65.297357856409306]
["TOTAL",null,83.04,76.67]
[]
[]
["Cobertura Vacinal HPV 2024"]
["Período avaliado: 2013-2024"]
["Fonte: http://tabnet.datasus.gov.br/"]
["Fonte: https://www.vacinaeconfia.es.gov.br"]
["*Dados parciais gerados em 10/05/2024 (TABNET) e Maio/2024 (VeC)"]
["População proporcional extraída do Censo IBGE 2022"]
["Cobertura Calculada por município de procedência da vacinação"]
[]
["Observações:"]
["Imunobiológicos que foram recebidos parcialmente pelo estado no mês da análise, sendo distribuídos em quantidades reduzidas às regionais e municípios: Varicela, Febre Amarela e HPV Quadrivalente."]
["Imunobiológicos que não foram recebidos pelo estado no mês da análise, não sendo possível a distribuição às regionais e municípios: Meningo C, Hepatite A (CRIE), HIB, Hepatite A Rotina Pediátrica, DTPa (CRIE)."]
["Imunobiológicos com indisponibilidade de aquisição e distribuição no mês da análise: Tetra Viral."]

{"sheet":"dTpa gestantes - procedência","index":7,"n_rows":99,"n_cols":6,"rows_kept":99,"cut":false,"hidden":false,"merged":[[90,0,90,11],[85,1,85,3],[91,0,92,12],[93,0,94,12]]}
["REGIONAL","MUNICÍPIO","¹POPULAÇÃO GESTANTE ANUAL","²POPULAÇÃO PROPORCIONAL","DOSES APLICADAS dTpa GESTANTES","COBERTURA VACINAL dTpa GESTANTES"]
["Metropolitana","Afonso Cláudio",384,126,103,{"$f":"E2/D2","v":0.81746031746031744}]
["Norte","Água Doce do Norte",170,61,70,{"$f":"E3/D3","v":1.1475409836065573}]
["Central","Águia Branca",149,39,45,1.1538461538461537]
["Sul","Alegre",327,93,109,1.1720430107526882]
["Sul","Alfredo Chaves",146,46,45,0.97826086956521741]
["Central","Alto Rio Novo",80,21,31,1.4761904761904763]
["Sul","Anchieta",365,109,116,1.0642201834862386]
["Sul","Apiacá",64,20,24,1.2]
["Metropolitana","Aracruz",1456,490,434,0.88571428571428568]
["Sul","Atilio Vivacqua",133,42,51,1.2142857142857142]
["Central","Baixo Guandu",364,105,110,1.0476190476190477]
["Norte","Barra de São Francisco",534,166,164,0.98795180722891562]
["Norte","Boa Esperança",199,72,62,0.86111111111111116]
["Sul","Bom Jesus do Norte",83,23,34,1.4782608695652173]
["Metropolitana","Brejetuba",212,70,61,0.87142857142857144]
["Sul","Cachoeiro de Itapemirim",2473,863,716,0.82966396292004641]
["Metropolitana","Cariacica",4917,1679,1339,0.79749851101846336]
["Sul","Castelo",454,160,127,0.79374999999999996]
["Central","Colatina",1532,496,483,0.97379032258064513]
["Norte","Conceição da Barra",389,136,136,1]
["Metropolitana","Conceição do Castelo",168,60,46,0.76666666666666672]
["Sul","Divino de São Lourenço",65,21,14,0.66666666666666663]
["Metropolitana","Domingos Martins",411,133,155,1.1654135338345866]
["Sul","Dores do Rio Preto",97,36,25,0.69444444444444442]
["Norte","Ecoporanga",256,89,81,0.9101123595505618]
["Metropolitana","Fundão",220,81,62,0.76543209876543206]
["Central","Governador Lindenberg",147,52,42,0.80769230769230771]
["Sul","Guaçuí",406,131,97,0.74045801526717558]
["Metropolitana","Guarapari",1741,578,521,0.90138408304498274]
["Metropolitana","Ibatiba",361,112,129,1.1517857142857142]
["Metropolitana","Ibiraçu",153,58,55,0.94827586206896552]
["Sul","Ibitirama",127,37,39,1.0540540540540539]
["Sul","Iconha",115,36,36,1]
["Sul","Irupi",195,59,78,1.3220338983050848]
["Metropolitana","Itaguaçu",129,37,47,1.2702702702702702]
["Sul","Itapemirim",543,157,147,0.93630573248407645]
["Metropolitana","Itarana",143,51,54,1.0588235294117647]
["Sul","Iúna",481,154,127,0.82467532467532467]
["Norte","Jaguaré",487,154,158,1.025974025974026]
["Sul","Jerônimo Monteiro",160,49,41,0.83673469387755106]
["Metropolitana","João Neiva",180,59,50,0.84745762711864403]
["Metropolitana","Laranja da Terra",98,37,29,0.78378378378378377]
["Central","Linhares",2574,863,742,0.85979142526071839]
["Central","Mantenópolis",156,51,49,0.96078431372549022]
["Sul","Marataízes",556,206,167,0.81067961165048541]
["Metropolitana","Marechal Floriano",237,88,72,0.81818181818181823]
["Central","Marilândia",157,37,47,1.2702702702702702]
["Sul","Mimoso do Sul",254,71,76,1.0704225352112675]
["Norte","Montanha",259,77,68,0.88311688311688308]
["Norte","Mucurici",73,19,27,1.4210526315789473]
["Sul","Muniz Freire",221,72,73,1.0138888888888888]
["Sul","Muqui",165,43,57,1.3255813953488371]
["Norte","Nova Venécia",683,225,187,0.83111111111111113]
["Central","Pancas",208,56,60,1.0714285714285714]
["Norte","Pedro Canário",335,129,95,0.73643410852713176]
["Norte","Pinheiros",330,109,87,0.79816513761467889]
["Sul","Piúma",292,83,103,1.2409638554216869]
["Norte","Ponto Belo",81,21,25,1.1904761904761905]
["Sul","Presidente Kennedy",193,73,66,0.90410958904109584]
["Central","Rio Bananal",297,99,96,0.96969696969696972]
["Sul","Rio Novo do Sul",121,35,31,0.88571428571428568]
["Metropolitana","Santa Leopoldina",100,32,26,0.8125]
["Metropolitana","Santa Maria de Jetibá",667,234,206,0.88034188034188032]
["Metropolitana","Santa Teresa",293,87,80,0.91954022988505746]
["Central","São Domingos do Norte",125,44,25,0.56818181818181823]
["Central","São Gabriel da Palha",430,132,150,{"$f":"E67/D67","v":1.1363636363636365}]
["Sul","São José do Calçado",106,39,27,0.69230769230769229]
["Norte","São Mateus",1931,650,476,0.73230769230769233]
["Central","São Roque do Canaã",122,50,41,0.82]
["Metropolitana","Serra",7437,2622,2004,0.76430205949656749]
["Central","Sooretama",432,150,144,0.96]
["Sul","Vargem Alta",256,89,85,0.9550561797752809]
["Metropolitana","Venda Nova do Imigrante",406,130,96,0.7384615384615385]
["Metropolitana","Viana",1005,360,281,0.78055555555555556]
["Norte","Vila Pavão",88,34,41,1.2058823529411764]
["Central","Vila Valério",241,79,68,0.86075949367088611]
["Metropolitana","Vila Velha",5756,1942,1538,0.79196704428424303]
["Metropolitana","Vitória",3725,1218,1128,0.92610837438423643]
[]
[null,"Total Norte",{"$f":"SUMIF($A$2:$A$79,\"Norte\",C$2:C$79)","v":5815},{"$f":"SUMIF($A$2:$A$79,\"Norte\",D$2:D$79)","v":1942},{"$f":"SUMIF($A$2:$A$79,\"Norte\",E$2:E$79)","v":1677},0.86354273944387228]
[null,"Total Central",{"$f":"SUMIF($A$2:$A$79,\"CENTRAL\",C$2:C$79)","v":7014},{"$f":"SUMIF($A$2:$A$79,\"CENTRAL\",D$2:D$79)","v":2274},{"$f":"SUMIF($A$2:$A$79,\"CENTRAL\",E$2:E$79)","v":2133},0.93799472295514508]
[null,"Total Metropolitana",{"$f":"SUMIF($A$2:$A$79,\"METROPOLITANA\",C$2:C$79)","v":30199},{"$f":"SUMIF($A$2:$A$79,\"METROPOLITANA\",D$2:D$79)","v":10284},{"$f":"SUMIF($A$2:$A$79,\"METROPOLITANA\",E$2:E$79)","v":8516},0.82808245818747572]
[null,"Total Sul",{"$f":"SUMIF($A$2:$A$79,\"SUL\",C$2:C$79)","v":8398},{"$f":"SUMIF($A$2:$A$79,\"SUL\",D$2:D$79)","v":2747},{"$f":"SUMIF($A$2:$A$79,\"SUL\",E$2:E$79)","v":2511},0.91408809610484165]
[null,"TOTAL ES",{"$f":"SUM(C2:C79)","v":51426},{"$f":"SUM(D2:D79)","v":17247},{"$f":"SUM(E2:E79)","v":14837},{"$f":"E85/D85","v":0.860265553429582}]
[null,"HOMOGENEIDADE ENTRE MUNICÍPIOS",null,null,{"$f":"COUNTIF(F2:F79,\">=0,95\")","v":35},{"$f":"E86/78","v":0.44871794871794873}]
[]
[]
[" Vacina e Confia, em 10 de Maio de 2024.**"]
["**Dados referente às doses aplicadas no período de Abril de 2024"]
["Cobertura Calculada por município de procedência da vacinação"]
["1 População anual extraída do MS/SVS/DASIS - SINASC/DASIS/SVS/MS 2023 (hoje preliminares) referente ao período de março a dezembro de 2023 e SINASC/DASIS/SVS/MS 2024 referente ao período de janeiro a fevereiro de 2024."]
[]
["² População proporcional extraída do MS/SVS/DASIS - SINASC/DASIS/SVS/MS 2023 (hoje preliminares) referente ao período de março  e abril de 2023 somada a população extraída do SINASC/DASIS/SVS/MS 2024 referente ao período de janeiro e fevereiro de 2024."]
[]
["Observações:"]
["Imunobiológicos que foram recebidos parcialmente pelo estado no mês da análise, sendo distribuídos em quantidades reduzidas às regionais e municípios: Varicela, Febre Amarela e HPV Quadrivalente."]
["Imunobiológicos que não foram recebidos pelo estado no mês da análise, não sendo possível a distribuição às regionais e municípios: Meningo C, Hepatite A (CRIE), HIB, Hepatite A Rotina Pediátrica, DTPa (CRIE)."]
["Imunobiológicos com indisponibilidade de aquisição e distribuição no mês da análise: Tetra Viral."]

{"sheet":"dTpa gestantes - residência","index":8,"n_rows":99,"n_cols":6,"rows_kept":99,"cut":false,"hidden":false,"merged":[[85,1,85,3],[90,0,90,11],[91,0,92,12],[93,0,94,12]]}
["REGIONAL","MUNICÍPIO","¹POPULAÇÃO GESTANTE ANUAL","¹POPULAÇÃO PROPORCIONAL","DOSES APLICADAS dTpa GESTANTES","COBERTURA VACINAL dTpa GESTANTES"]
["Metropolitana","Afonso Cláudio",384,110,104,{"$f":"E2/D2","v":0.94545454545454544}]
["Norte","Água Doce do Norte",170,33,48,{"$f":"E3/D3","v":1.4545454545454546}]
["Central","Águia Branca",149,31,34,1.096774193548387]
["Sul","Alegre",327,78,121,1.5512820512820513]
["Sul","Alfredo Chaves",146,40,56,1.4]
["Central","Alto Rio Novo",80,24,32,1.3333333333333333]
["Sul","Anchieta",365,84,109,1.2976190476190477]
["Sul","Apiacá",64,13,20,1.5384615384615385]
["Metropolitana","Aracruz",1456,355,392,1.1042253521126761]
["Sul","Atilio Vivacqua",133,37,44,1.1891891891891893]
["Central","Baixo Guandu",364,76,105,1.381578947368421]
["Norte","Barra de São Francisco",534,122,168,1.3770491803278688]
["Norte","Boa Esperança",199,54,52,0.96296296296296291]
["Sul","Bom Jesus do Norte",83,14,24,1.7142857142857142]
["Metropolitana","Brejetuba",212,39,50,1.2820512820512822]
["Sul","Cachoeiro de Itapemirim",2473,639,713,1.1158059467918622]
["Metropolitana","Cariacica",4917,1168,1518,1.2996575342465753]
["Sul","Castelo",454,125,134,1.0720000000000001]
["Central","Colatina",1532,360,430,1.1944444444444444]
["Norte","Conceição da Barra",389,88,126,1.4318181818181819]
["Metropolitana","Conceição do Castelo",168,29,52,1.7931034482758621]
["Sul","Divino de São Lourenço",65,9,13,1.4444444444444444]
["Metropolitana","Domingos Martins",411,94,173,1.8404255319148937]
["Sul","Dores do Rio Preto",97,28,21,0.75]
["Norte","Ecoporanga",256,48,89,1.8541666666666667]
["Metropolitana","Fundão",220,58,53,0.91379310344827591]
["Central","Governador Lindenberg",147,27,48,1.7777777777777777]
["Sul","Guaçuí",406,78,84,1.0769230769230769]
["Metropolitana","Guarapari",1741,452,480,1.0619469026548674]
["Metropolitana","Ibatiba",361,66,131,1.9848484848484849]
["Metropolitana","Ibiraçu",153,41,60,1.4634146341463414]
["Sul","Ibitirama",127,27,38,1.4074074074074074]
["Sul","Iconha",115,36,43,1.1944444444444444]
["Sul","Irupi",195,47,57,1.2127659574468086]
["Metropolitana","Itaguaçu",129,30,41,1.3666666666666667]
["Sul","Itapemirim",543,142,159,1.119718309859155]
["Metropolitana","Itarana",143,33,46,1.393939393939394]
["Sul","Iúna",481,103,130,1.2621359223300972]
["Norte","Jaguaré",487,114,153,1.3421052631578947]
["Sul","Jerônimo Monteiro",160,41,32,0.78048780487804881]
["Metropolitana","João Neiva",180,41,48,1.1707317073170731]
["Metropolitana","Laranja da Terra",98,25,25,1]
["Central","Linhares",2574,648,710,1.095679012345679]
["Central","Mantenópolis",156,34,45,1.3235294117647058]
["Sul","Marataízes",556,156,154,0.98717948717948723]
["Metropolitana","Marechal Floriano",237,65,71,1.0923076923076922]
["Central","Marilândia",157,28,56,2]
["Sul","Mimoso do Sul",254,56,78,1.3928571428571428]
["Norte","Montanha",259,55,67,1.2181818181818183]
["Norte","Mucurici",73,12,33,2.75]
["Sul","Muniz Freire",221,43,60,1.3953488372093024]
["Sul","Muqui",165,44,62,1.4090909090909092]
["Norte","Nova Venécia",683,163,214,1.3128834355828221]
["Central","Pancas",208,42,65,1.5476190476190477]
["Norte","Pedro Canário",335,78,104,1.3333333333333333]
["Norte","Pinheiros",330,70,79,1.1285714285714286]
["Sul","Piúma",292,67,97,1.4477611940298507]
["Norte","Ponto Belo",81,19,30,1.5789473684210527]
["Sul","Presidente Kennedy",193,57,57,1]
["Central","Rio Bananal",297,77,98,1.2727272727272727]
["Sul","Rio Novo do Sul",121,34,29,0.8529411764705882]
["Metropolitana","Santa Leopoldina",100,32,26,0.8125]
["Metropolitana","Santa Maria de Jetibá",667,163,174,1.0674846625766872]
["Metropolitana","Santa Teresa",293,63,95,1.5079365079365079]
["Central","São Domingos do Norte",125,23,26,1.1304347826086956]
["Central","São Gabriel da Palha",430,88,138,{"$f":"E67/D67","v":1.5681818181818181}]
["Sul","São José do Calçado",106,23,29,1.2608695652173914]
["Norte","São Mateus",1931,396,416,1.0505050505050506]
["Central","São Roque do Canaã",122,40,47,1.175]
["Metropolitana","Serra",7437,1921,1896,0.98698594482040602]
["Central","Sooretama",432,110,148,1.3454545454545455]
["Sul","Vargem Alta",256,64,83,1.296875]
["Metropolitana","Venda Nova do Imigrante",406,82,92,1.1219512195121952]
["Metropolitana","Viana",1005,241,280,1.1618257261410789]
["Norte","Vila Pavão",88,21,41,1.9523809523809523]
["Central","Vila Valério",241,54,71,1.3148148148148149]
["Metropolitana","Vila Velha",5756,1472,1374,0.93342391304347827]
["Metropolitana","Vitória",3725,910,983,1.0802197802197802]
[]
[null,"Total Norte",{"$f":"SUMIF($A$2:$A$79,\"Norte\",C$2:C$79)","v":5815},{"$f":"SUMIF($A$2:$A$79,\"Norte\",D$2:D$79)","v":1273},{"$f":"SUMIF($A$2:$A$79,\"Norte\",E$2:E$79)","v":1620},1.2725844461901021]
[null,"Total Central",{"$f":"SUMIF($A$2:$A$79,\"CENTRAL\",C$2:C$79)","v":7014},{"$f":"SUMIF($A$2:$A$79,\"CENTRAL\",D$2:D$79)","v":1662},{"$f":"SUMIF($A$2:$A$79,\"CENTRAL\",E$2:E$79)","v":2053},1.2352587244283995]
[null,"Total Metropolitana",{"$f":"SUMIF($A$2:$A$79,\"METROPOLITANA\",C$2:C$79)","v":30199},{"$f":"SUMIF($A$2:$A$79,\"METROPOLITANA\",D$2:D$79)","v":7490},{"$f":"SUMIF($A$2:$A$79,\"METROPOLITANA\",E$2:E$79)","v":8164},1.0899866488651535]
[null,"Total Sul",{"$f":"SUMIF($A$2:$A$79,\"SUL\",C$2:C$79)","v":8398},{"$f":"SUMIF($A$2:$A$79,\"SUL\",D$2:D$79)","v":2085},{"$f":"SUMIF($A$2:$A$79,\"SUL\",E$2:E$79)","v":2447},1.1736211031175059]
[null,"TOTAL ES",{"$f":"SUM(C2:C79)","v":51426},{"$f":"SUM(D2:D79)","v":12510},{"$f":"SUM(E2:E79)","v":14284},{"$f":"E85/D85","v":1.1418065547561951}]
[null,"HOMOGENEIDADE ENTRE MUNICÍPIOS",null,null,{"$f":"COUNTIF(F2:F79,\">=0,95\")","v":71},{"$f":"E86/78","v":0.91025641025641024}]
[]
[]
[" Vacina e Confia, em 10 de Maio de 2024.**"]
["**Dados referente às doses aplicadas no período de Abril de 2024"]
["Cobertura Calculada por município de procedência da vacinação"]
["1 População anual extraída do MS/SVS/DASIS - SINASC/DASIS/SVS/MS 2023 (hoje preliminares) referente ao período de março a dezembro de 2023 e SINASC/DASIS/SVS/MS 2024 referente ao período de janeiro a fevereiro de 2024."]
[]
["² População proporcional extraída do MS/SVS/DASIS - SINASC/DASIS/SVS/MS 2023 (hoje preliminares) referente ao período de março  e abril de 2023 somada a população extraída do SINASC/DASIS/SVS/MS 2024 referente ao período de janeiro e fevereiro de 2024."]
[]
["Observações:"]
["Imunobiológicos que foram recebidos parcialmente pelo estado no mês da análise, sendo distribuídos em quantidades reduzidas às regionais e municípios: Varicela, Febre Amarela e HPV Quadrivalente."]
["Imunobiológicos que não foram recebidos pelo estado no mês da análise, não sendo possível a distribuição às regionais e municípios: Meningo C, Hepatite A (CRIE), HIB, Hepatite A Rotina Pediátrica, DTPa (CRIE)."]
["Imunobiológicos com indisponibilidade de aquisição e distribuição no mês da análise: Tetra Viral."]

{"sheet":"PROTEÇÃO","index":9,"n_rows":0,"n_cols":0,"rows_kept":0,"cut":false,"hidden":false,"merged":[]}

{"sheet":"cálculos1","index":10,"n_rows":95,"n_cols":17,"rows_kept":95,"cut":false,"hidden":true,"merged":[]}
["Regional ","Município","Cobertura Vacinal BCG","Cobertura Vacinal Rotavírus","Cobertura Vacinal COVID-19","Cobertura Vacinal Pentavalente","Cobertura Vacinal Poliomielite ","Cobertura Vacinal Pneumo 10","Cobertura Vacinal Tríplice Viral","Cobertura Vacinal Meningo C","Cobertura Vacinal Febre Amarela","Cobertura Vacinal Hepatite A","Cobertura Varicela","META 90%","META 95%","ATINGIRAM META","PQA-VS"]
["Metropolitana","Afonso Cláudio",{"$f":"'CV Rotina <2A - procedência'!H3","v":0.7857142857142857},{"$f":"'CV Rotina <2A - procedência'!P3","v":0.8571428571428571},{"$f":"'CV Rotina <2A - procedência'!V3","v":0},{"$f":"'CV Rotina <2A - procedência'!J3","v":0.99206349206349209},{"$f":"'CV Rotina <2A - procedência'!L3","v":0.99206349206349209},{"$f":"'CV Rotina <2A - procedência'!N3","v":0.82539682539682535},{"$f":"'CV Rotina <2A - procedência'!Z3","v":1.1031746031746033},{"$f":"'CV Rotina <2A - procedência'!R3","v":0.96825396825396826},{"$f":"'CV Rotina <2A - procedência'!T3","v":0.86507936507936511},{"$f":"'CV Rotina <2A - procedência'!X3","v":0.7857142857142857},{"$f":"'CV Rotina <2A - procedência'!AB3","v":0.56349206349206349},{"$f":"COUNTIF(C2:E2,\">=0,9\")","v":0},{"$f":"COUNTIFS(F2:M2,\">=0,95\")","v":4},{"$f":"SUM(N2:O2)","v":4},{"$f":"COUNTIF(F2:I2,\">=0,95\")","v":3}]
["Norte","Água Doce do Norte",{"$f":"'CV Rotina <2A - procedência'!H4","v":0.44262295081967212},{"$f":"'CV Rotina <2A - procedência'!P4","v":0.75409836065573765},{"$f":"'CV Rotina <2A - procedência'!V4","v":0},{"$f":"'CV Rotina <2A - procedência'!J4","v":0.88524590163934425},{"$f":"'CV Rotina <2A - procedência'!L4","v":0.91803278688524592},{"$f":"'CV Rotina <2A - procedência'!N4","v":0.81967213114754101},{"$f":"'CV Rotina <2A - procedência'!Z4","v":0.75409836065573765},{"$f":"'CV Rotina <2A - procedência'!R4","v":0.85245901639344257},{"$f":"'CV Rotina <2A - procedência'!T4","v":0.78688524590163933},{"$f":"'CV Rotina <2A - procedência'!X4","v":0.75409836065573765},{"$f":"'CV Rotina <2A - procedência'!AB4","v":0.42622950819672129},{"$f":"COUNTIF(C3:E3,\">=0,9\")","v":0},0,{"$f":"SUM(N3:O3)","v":0},{"$f":"COUNTIF(F3:I3,\">=0,95\")","v":0}]
["Central","Águia Branca",{"$f":"'CV Rotina <2A - procedência'!H5","v":0.87179487179487181},{"$f":"'CV Rotina <2A - procedência'!P5","v":1.358974358974359},{"$f":"'CV Rotina <2A - procedência'!V5","v":0},{"$f":"'CV Rotina <2A - procedência'!J5","v":1.5897435897435896},{"$f":"'CV Rotina <2A - procedência'!L5","v":1.5641025641025641},{"$f":"'CV Rotina <2A - procedência'!N5","v":1.3333333333333333},{"$f":"'CV Rotina <2A - procedência'!Z5","v":0.87179487179487181},{"$f":"'CV Rotina <2A - procedência'!R5","v":1.6666666666666667},{"$f":"'CV Rotina <2A - procedência'!T5","v":1.1794871794871795},{"$f":"'CV Rotina <2A - procedência'!X5","v":0.89743589743589747},{"$f":"'CV Rotina <2A - procedência'!AB5","v":0.5641025641025641},1,5,6,3]
["Sul","Alegre",{"$f":"'CV Rotina <2A - procedência'!H6","v":0.79569892473118276},{"$f":"'CV Rotina <2A - procedência'!P6","v":1.1612903225806452},{"$f":"'CV Rotina <2A - procedência'!V6","v":1.0752688172043012E-2},{"$f":"'CV Rotina <2A - procedência'!J6","v":1.1720430107526882},{"$f":"'CV Rotina <2A - procedência'!L6","v":1.2473118279569892},{"$f":"'CV Rotina <2A - procedência'!N6","v":1.2150537634408602},{"$f":"'CV Rotina <2A - procedência'!Z6","v":1.021505376344086},{"$f":"'CV Rotina <2A - procedência'!R6","v":1.1720430107526882},{"$f":"'CV Rotina <2A - procedência'!T6","v":1.1720430107526882},{"$f":"'CV Rotina <2A - procedência'!X6","v":0.91397849462365588},{"$f":"'CV Rotina <2A - procedência'!AB6","v":0.4838709677419355},1,6,7,4]
["Sul","Alfredo Chaves",{"$f":"'CV Rotina <2A - procedência'!H7","v":0.58695652173913049},{"$f":"'CV Rotina <2A - procedência'!P7","v":1.3478260869565217},{"$f":"'CV Rotina <2A - procedência'!V7","v":0},{"$f":"'CV Rotina <2A - procedência'!J7","v":1.1521739130434783},{"$f":"'CV Rotina <2A - procedência'!L7","v":1.1086956521739131},{"$f":"'CV Rotina <2A - procedência'!N7","v":1.2826086956521738},{"$f":"'CV Rotina <2A - procedência'!Z7","v":1.0869565217391304},{"$f":"'CV Rotina <2A - procedência'!R7","v":1.3478260869565217},{"$f":"'CV Rotina <2A - procedência'!T7","v":1},{"$f":"'CV Rotina <2A - procedência'!X7","v":1.0217391304347827},{"$f":"'CV Rotina <2A - procedência'!AB7","v":0.93478260869565222},1,7,8,4]
["Central","Alto Rio Novo",{"$f":"'CV Rotina <2A - procedência'!H8","v":0.47619047619047616},{"$f":"'CV Rotina <2A - procedência'!P8","v":1.6190476190476191},{"$f":"'CV Rotina <2A - procedência'!V8","v":0},{"$f":"'CV Rotina <2A - procedência'!J8","v":1.6666666666666667},{"$f":"'CV Rotina <2A - procedência'!L8","v":1.5714285714285714},{"$f":"'CV Rotina <2A - procedência'!N8","v":1.5714285714285714},{"$f":"'CV Rotina <2A - procedência'!Z8","v":1.5238095238095237},{"$f":"'CV Rotina <2A - procedência'!R8","v":1.7619047619047619},{"$f":"'CV Rotina <2A - procedência'!T8","v":1.3809523809523809},{"$f":"'CV Rotina <2A - procedência'!X8","v":1.6190476190476191},{"$f":"'CV Rotina <2A - procedência'!AB8","v":1.0476190476190477},1,8,9,4]
["Sul","Anchieta",{"$f":"'CV Rotina <2A - procedência'!H9","v":0.69724770642201839},{"$f":"'CV Rotina <2A - procedência'!P9","v":1.2844036697247707},{"$f":"'CV Rotina <2A - procedência'!V9","v":4.5871559633027525E-2},{"$f":"'CV Rotina <2A - procedência'!J9","v":1.1834862385321101},{"$f":"'CV Rotina <2A - procedência'!L9","v":1.201834862385321},{"$f":"'CV Rotina <2A - procedência'!N9","v":1.3119266055045871},{"$f":"'CV Rotina <2A - procedência'!Z9","v":1.1834862385321101},{"$f":"'CV Rotina <2A - procedência'!R9","v":1.2660550458715596},{"$f":"'CV Rotina <2A - procedência'!T9","v":0.77981651376146788},{"$f":"'CV Rotina <2A - procedência'!X9","v":1},{"$f":"'CV Rotina <2A - procedência'!AB9","v":0.7155963302752294},1,6,7,4]
["Sul","Apiacá",{"$f":"'CV Rotina <2A - procedência'!H10","v":0.7},{"$f":"'CV Rotina <2A - procedência'!P10","v":1.1499999999999999},{"$f":"'CV Rotina <2A - procedência'!V10","v":0},{"$f":"'CV Rotina <2A - procedência'!J10","v":0.8},{"$f":"'CV Rotina <2A - procedência'!L10","v":0.85},{"$f":"'CV Rotina <2A - procedência'!N10","v":1.2},{"$f":"'CV Rotina <2A - procedência'!Z10","v":0.85},{"$f":"'CV Rotina <2A - procedência'!R10","v":0.9},{"$f":"'CV Rotina <2A - procedência'!T10","v":1},{"$f":"'CV Rotina <2A - procedência'!X10","v":0.45},{"$f":"'CV Rotina <2A - procedência'!AB10","v":0.3},1,2,3,1]
["Metropolitana","Aracruz",{"$f":"'CV Rotina <2A - procedência'!H11","v":0.93673469387755104},{"$f":"'CV Rotina <2A - procedência'!P11","v":0.91020408163265309},{"$f":"'CV Rotina <2A - procedência'!V11","v":3.2653061224489799E-2},{"$f":"'CV Rotina <2A - procedência'!J11","v":0.88775510204081631},{"$f":"'CV Rotina <2A - procedência'!L11","v":0.89183673469387759},{"$f":"'CV Rotina <2A - procedência'!N11","v":0.91224489795918362},{"$f":"'CV Rotina <2A - procedência'!Z11","v":1.0795918367346939},{"$f":"'CV Rotina <2A - procedência'!R11","v":0.92448979591836733},{"$f":"'CV Rotina <2A - procedência'!T11","v":0.83877551020408159},{"$f":"'CV Rotina <2A - procedência'!X11","v":0.92653061224489797},{"$f":"'CV Rotina <2A - procedência'!AB11","v":0.7081632653061225},2,1,3,1]
["Sul","Atilio Vivacqua",{"$f":"'CV Rotina <2A - procedência'!H12","v":0},{"$f":"'CV Rotina <2A - procedência'!P12","v":0.95238095238095233},{"$f":"'CV Rotina <2A - procedência'!V12","v":0},{"$f":"'CV Rotina <2A - procedência'!J12","v":1},{"$f":"'CV Rotina <2A - procedência'!L12","v":0.97619047619047616},{"$f":"'CV Rotina <2A - procedência'!N12","v":0.95238095238095233},{"$f":"'CV Rotina <2A - procedência'!Z12","v":1.1666666666666667},{"$f":"'CV Rotina <2A - procedência'!R12","v":1},{"$f":"'CV Rotina <2A - procedência'!T12","v":0.88095238095238093},{"$f":"'CV Rotina <2A - procedência'!X12","v":0.80952380952380953},{"$f":"'CV Rotina <2A - procedência'!AB12","v":0.83333333333333337},1,5,6,4]
["Central","Baixo Guandu",{"$f":"'CV Rotina <2A - procedência'!H13","v":0.68571428571428572},{"$f":"'CV Rotina <2A - procedência'!P13","v":1.3238095238095238},{"$f":"'CV Rotina <2A - procedência'!V13","v":0},{"$f":"'CV Rotina <2A - procedência'!J13","v":1.3904761904761904},{"$f":"'CV Rotina <2A - procedência'!L13","v":1.4},{"$f":"'CV Rotina <2A - procedência'!N13","v":1.3523809523809525},{"$f":"'CV Rotina <2A - procedência'!Z13","v":1.6190476190476191},{"$f":"'CV Rotina <2A - procedência'!R13","v":1.3238095238095238},{"$f":"'CV Rotina <2A - procedência'!T13","v":0.99047619047619051},{"$f":"'CV Rotina <2A - procedência'!X13","v":1.1714285714285715},{"$f":"'CV Rotina <2A - procedência'!AB13","v":0.90476190476190477},1,7,8,4]
["Norte","Barra de São Francisco",{"$f":"'CV Rotina <2A - procedência'!H14","v":0.7831325301204819},{"$f":"'CV Rotina <2A - procedência'!P14","v":1.0240963855421688},{"$f":"'CV Rotina <2A - procedência'!V14","v":0},{"$f":"'CV Rotina <2A - procedência'!J14","v":0.95180722891566261},{"$f":"'CV Rotina <2A - procedência'!L14","v":0.9337349397590361},{"$f":"'CV Rotina <2A - procedência'!N14","v":1.0602409638554218},{"$f":"'CV Rotina <2A - procedência'!Z14","v":1.1927710843373494},{"$f":"'CV Rotina <2A - procedência'!R14","v":1.0240963855421688},{"$f":"'CV Rotina <2A - procedência'!T14","v":1.0060240963855422},{"$f":"'CV Rotina <2A - procedência'!X14","v":0.81927710843373491},{"$f":"'CV Rotina <2A - procedência'!AB14","v":0.83734939759036142},1,5,6,3]
["Norte","Boa Esperança",{"$f":"'CV Rotina <2A - procedência'!H15","v":0.3888888888888889},{"$f":"'CV Rotina <2A - procedência'!P15","v":0.94444444444444442},{"$f":"'CV Rotina <2A - procedência'!V15","v":1.3888888888888888E-2},{"$f":"'CV Rotina <2A - procedência'!J15","v":0.69444444444444442},{"$f":"'CV Rotina <2A - procedência'!L15","v":0.81944444444444442},{"$f":"'CV Rotina <2A - procedência'!N15","v":0.875},{"$f":"'CV Rotina <2A - procedência'!Z15","v":1.0277777777777777},{"$f":"'CV Rotina <2A - procedência'!R15","v":0.83333333333333337},{"$f":"'CV Rotina <2A - procedência'!T15","v":0.72222222222222221},{"$f":"'CV Rotina <2A - procedência'!X15","v":0.61111111111111116},{"$f":"'CV Rotina <2A - procedência'!AB15","v":0.73611111111111116},1,1,2,1]
["Sul","Bom Jesus do Norte",{"$f":"'CV Rotina <2A - procedência'!H16","v":1.3478260869565217},{"$f":"'CV Rotina <2A - procedência'!P16","v":1.6086956521739131},{"$f":"'CV Rotina <2A - procedência'!V16","v":0.17391304347826086},{"$f":"'CV Rotina <2A - procedência'!J16","v":2.1304347826086958},{"$f":"'CV Rotina <2A - procedência'!L16","v":2.0434782608695654},{"$f":"'CV Rotina <2A - procedência'!N16","v":1.6521739130434783},{"$f":"'CV Rotina <2A - procedência'!Z16","v":2.1739130434782608},{"$f":"'CV Rotina <2A - procedência'!R16","v":1.7391304347826086},{"$f":"'CV Rotina <2A - procedência'!T16","v":1.7391304347826086},{"$f":"'CV Rotina <2A - procedência'!X16","v":0.43478260869565216},{"$f":"'CV Rotina <2A - procedência'!AB16","v":0.73913043478260865},2,6,8,4]
["Metropolitana","Brejetuba",{"$f":"'CV Rotina <2A - procedência'!H17","v":0.84285714285714286},{"$f":"'CV Rotina <2A - procedência'!P17","v":0.95714285714285718},{"$f":"'CV Rotina <2A - procedência'!V17","v":0},{"$f":"'CV Rotina <2A - procedência'!J17","v":0.97142857142857142},{"$f":"'CV Rotina <2A - procedência'!L17","v":0.97142857142857142},{"$f":"'CV Rotina <2A - procedência'!N17","v":0.91428571428571426},{"$f":"'CV Rotina <2A - procedência'!Z17","v":0.91428571428571426},{"$f":"'CV Rotina <2A - procedência'!R17","v":0.84285714285714286},{"$f":"'CV Rotina <2A - procedência'!T17","v":1},{"$f":"'CV Rotina <2A - procedência'!X17","v":0.81428571428571428},{"$f":"'CV Rotina <2A - procedência'!AB17","v":0.61428571428571432},1,3,4,2]
["Sul","Cachoeiro de Itapemirim",{"$f":"'CV Rotina <2A - procedência'!H18","v":2.0081112398609502},{"$f":"'CV Rotina <2A - procedência'!P18","v":0.79721900347624564},{"$f":"'CV Rotina <2A - procedência'!V18","v":5.7937427578215531E-3},{"$f":"'CV Rotina <2A - procedência'!J18","v":0.84820393974507535},{"$f":"'CV Rotina <2A - procedência'!L18","v":0.83545770567786792},{"$f":"'CV Rotina <2A - procedência'!N18","v":0.80880648899188878},{"$f":"'CV Rotina <2A - procedência'!Z18","v":0.91425260718424106},{"$f":"'CV Rotina <2A - procedência'!R18","v":0.81691772885283898},{"$f":"'CV Rotina <2A - procedência'!T18","v":0.65005793742757823},{"$f":"'CV Rotina <2A - procedência'!X18","v":0.69409038238702203},{"$f":"'CV Rotina <2A - procedência'!AB18","v":0.40440324449594439},1,0,1,0]
["Metropolitana","Cariacica",{"$f":"'CV Rotina <2A - procedência'!H19","v":0.52888624181060151},{"$f":"'CV Rotina <2A - procedência'!P19","v":0.82430017867778438},{"$f":"'CV Rotina <2A - procedência'!V19","v":2.0250148898153662E-2},{"$f":"'CV Rotina <2A - procedência'!J19","v":0.86956521739130432},{"$f":"'CV Rotina <2A - procedência'!L19","v":0.85646217986896966},{"$f":"'CV Rotina <2A - procedência'!N19","v":0.86539606908874334},{"$f":"'CV Rotina <2A - procedência'!Z19","v":0.9100655151876117},{"$f":"'CV Rotina <2A - procedência'!R19","v":0.84276354973198331},{"$f":"'CV Rotina <2A - procedência'!T19","v":0.71292435973793922},{"$f":"'CV Rotina <2A - procedência'!X19","v":0.47528290649195948},{"$f":"'CV Rotina <2A - procedência'!AB19","v":0.44550327575938059},0,0,0,0]
["Sul","Castelo",{"$f":"'CV Rotina <2A - procedência'!H20","v":0.57499999999999996},{"$f":"'CV Rotina <2A - procedência'!P20","v":0.8},{"$f":"'CV Rotina <2A - procedência'!V20","v":0},{"$f":"'CV Rotina <2A - procedência'!J20","v":0.83125000000000004},{"$f":"'CV Rotina <2A - procedência'!L20","v":0.83125000000000004},{"$f":"'CV Rotina <2A - procedência'!N20","v":0.82499999999999996},{"$f":"'CV Rotina <2A - procedência'!Z20","v":1.0062500000000001},{"$f":"'CV Rotina <2A - procedência'!R20","v":0.77500000000000002},{"$f":"'CV Rotina <2A - procedência'!T20","v":0.85624999999999996},{"$f":"'CV Rotina <2A - procedência'!X20","v":0.43125000000000002},{"$f":"'CV Rotina <2A - procedência'!AB20","v":0.55000000000000004},0,1,1,1]
["Central","Colatina",{"$f":"'CV Rotina <2A - procedência'!H21","v":2.3346774193548385},{"$f":"'CV Rotina <2A - procedência'!P21","v":0.83669354838709675},{"$f":"'CV Rotina <2A - procedência'!V21","v":1.0080645161290322E-2},{"$f":"'CV Rotina <2A - procedência'!J21","v":0.9536290322580645},{"$f":"'CV Rotina <2A - procedência'!L21","v":0.92943548387096775},{"$f":"'CV Rotina <2A - procedência'!N21","v":0.844758064516129},{"$f":"'CV Rotina <2A - procedência'!Z21","v":0.95161290322580649},{"$f":"'CV Rotina <2A - procedência'!R21","v":0.86895161290322576},{"$f":"'CV Rotina <2A - procedência'!T21","v":0.78629032258064513},{"$f":"'CV Rotina <2A - procedência'!X21","v":0.38104838709677419},{"$f":"'CV Rotina <2A - procedência'!AB21","v":0.52620967741935487},1,2,3,2]
["Norte","Conceição da Barra",{"$f":"'CV Rotina <2A - procedência'!H22","v":7.3529411764705885E-2},{"$f":"'CV Rotina <2A - procedência'!P22","v":0.88235294117647056},{"$f":"'CV Rotina <2A - procedência'!V22","v":0},{"$f":"'CV Rotina <2A - procedência'!J22","v":0.80147058823529416},{"$f":"'CV Rotina <2A - procedência'!L22","v":0.80147058823529416},{"$f":"'CV Rotina <2A - procedência'!N22","v":0.90441176470588236},{"$f":"'CV Rotina <2A - procedência'!Z22","v":0.97058823529411764},{"$f":"'CV Rotina <2A - procedência'!R22","v":0.83823529411764708},{"$f":"'CV Rotina <2A - procedência'!T22","v":0.92647058823529416},{"$f":"'CV Rotina <2A - procedência'!X22","v":0.58823529411764708},{"$f":"'CV Rotina <2A - procedência'!AB22","v":0.58823529411764708},0,1,1,1]
["Metropolitana","Conceição do Castelo",{"$f":"'CV Rotina <2A - procedência'!H23","v":0},{"$f":"'CV Rotina <2A - procedência'!P23","v":0.65},{"$f":"'CV Rotina <2A - procedência'!V23","v":0},{"$f":"'CV Rotina <2A - procedência'!J23","v":0.78333333333333333},{"$f":"'CV Rotina <2A - procedência'!L23","v":0.76666666666666672},{"$f":"'CV Rotina <2A - procedência'!N23","v":0.66666666666666663},{"$f":"'CV Rotina <2A - procedência'!Z23","v":0.6333333333333333},{"$f":"'CV Rotina <2A - procedência'!R23","v":0.76666666666666672},{"$f":"'CV Rotina <2A - procedência'!T23","v":0.96666666666666667},{"$f":"'CV Rotina <2A - procedência'!X23","v":0.7},{"$f":"'CV Rotina <2A - procedência'!AB23","v":0.53333333333333333},0,1,1,0]
["Sul","Divino de São Lourenço",{"$f":"'CV Rotina <2A - procedência'!H24","v":0.95238095238095233},{"$f":"'CV Rotina <2A - procedência'!P24","v":1.1428571428571428},{"$f":"'CV Rotina <2A - procedência'!V24","v":0},{"$f":"'CV Rotina <2A - procedência'!J24","v":1.2857142857142858},{"$f":"'CV Rotina <2A - procedência'!L24","v":1.2857142857142858},{"$f":"'CV Rotina <2A - procedência'!N24","v":1.1428571428571428},{"$f":"'CV Rotina <2A - procedência'!Z24","v":0.61904761904761907},{"$f":"'CV Rotina <2A - procedência'!R24","v":1.3809523809523809},{"$f":"'CV Rotina <2A - procedência'!T24","v":0.95238095238095233},{"$f":"'CV Rotina <2A - procedência'!X24","v":0.95238095238095233},{"$f":"'CV Rotina <2A - procedência'!AB24","v":0.80952380952380953},2,6,8,3]
["Metropolitana","Domingos Martins",{"$f":"'CV Rotina <2A - procedência'!H25","v":0.17293233082706766},{"$f":"'CV Rotina <2A - procedência'!P25","v":1.0075187969924813},{"$f":"'CV Rotina <2A - procedência'!V25","v":2.2556390977443608E-2},{"$f":"'CV Rotina <2A - procedência'!J25","v":0.80451127819548873},{"$f":"'CV Rotina <2A - procedência'!L25","v":0.78947368421052633},{"$f":"'CV Rotina <2A - procedência'!N25","v":1.0526315789473684},{"$f":"'CV Rotina <2A - procedência'!Z25","v":1.0526315789473684},{"$f":"'CV Rotina <2A - procedência'!R25","v":0.98496240601503759},{"$f":"'CV Rotina <2A - procedência'!T25","v":0.93984962406015038},{"$f":"'CV Rotina <2A - procedência'!X25","v":0.54887218045112784},{"$f":"'CV Rotina <2A - procedência'!AB25","v":1.0075187969924813},1,4,5,2]
["Sul","Dores do Rio Preto",{"$f":"'CV Rotina <2A - procedência'!H26","v":0.63888888888888884},{"$f":"'CV Rotina <2A - procedência'!P26","v":1.0555555555555556},{"$f":"'CV Rotina <2A - procedência'!V26","v":2.7777777777777776E-2},{"$f":"'CV Rotina <2A - procedência'!J26","v":1},{"$f":"'CV Rotina <2A - procedência'!L26","v":1.0833333333333333},{"$f":"'CV Rotina <2A - procedência'!N26","v":1.1111111111111112},{"$f":"'CV Rotina <2A - procedência'!Z26","v":1.0833333333333333},{"$f":"'CV Rotina <2A - procedência'!R26","v":1.1111111111111112},{"$f":"'CV Rotina <2A - procedência'!T26","v":0.88888888888888884},{"$f":"'CV Rotina <2A - procedência'!X26","v":0.52777777777777779},{"$f":"'CV Rotina <2A - procedência'!AB26","v":0.47222222222222221},1,5,6,4]
["Norte","Ecoporanga",{"$f":"'CV Rotina <2A - procedência'!H27","v":0.5617977528089888},{"$f":"'CV Rotina <2A - procedência'!P27","v":0.7865168539325843},{"$f":"'CV Rotina <2A - procedência'!V27","v":0},{"$f":"'CV Rotina <2A - procedência'!J27","v":1.0337078651685394},{"$f":"'CV Rotina <2A - procedência'!L27","v":1.0224719101123596},{"$f":"'CV Rotina <2A - procedência'!N27","v":0.8089887640449438},{"$f":"'CV Rotina <2A - procedência'!Z27","v":1},{"$f":"'CV Rotina <2A - procedência'!R27","v":0.8089887640449438},{"$f":"'CV Rotina <2A - procedência'!T27","v":0.8651685393258427},{"$f":"'CV Rotina <2A - procedência'!X27","v":0.6853932584269663},{"$f":"'CV Rotina <2A - procedência'!AB27","v":0.797752808988764},0,3,3,3]
["Metropolitana","Fundão",{"$f":"'CV Rotina <2A - procedência'!H28","v":0.40740740740740738},{"$f":"'CV Rotina <2A - procedência'!P28","v":0.98765432098765427},{"$f":"'CV Rotina <2A - procedência'!V28","v":2.4691358024691357E-2},{"$f":"'CV Rotina <2A - procedência'!J28","v":0.97530864197530864},{"$f":"'CV Rotina <2A - procedência'!L28","v":0.96296296296296291},{"$f":"'CV Rotina <2A - procedência'!N28","v":0.95061728395061729},{"$f":"'CV Rotina <2A - procedência'!Z28","v":0.72839506172839508},{"$f":"'CV Rotina <2A - procedência'!R28","v":0.9135802469135802},{"$f":"'CV Rotina <2A - procedência'!T28","v":0.8271604938271605},{"$f":"'CV Rotina <2A - procedência'!X28","v":0.87654320987654322},{"$f":"'CV Rotina <2A - procedência'!AB28","v":0.80246913580246915},1,3,4,3]
["Central","Governador Lindenberg",{"$f":"'CV Rotina <2A - procedência'!H29","v":0.25},{"$f":"'CV Rotina <2A - procedência'!P29","v":0.84615384615384615},{"$f":"'CV Rotina <2A - procedência'!V29","v":1.9230769230769232E-2},{"$f":"'CV Rotina <2A - procedência'!J29","v":0.78846153846153844},{"$f":"'CV Rotina <2A - procedência'!L29","v":0.73076923076923073},{"$f":"'CV Rotina <2A - procedência'!N29","v":0.82692307692307687},{"$f":"'CV Rotina <2A - procedência'!Z29","v":0.69230769230769229},{"$f":"'CV Rotina <2A - procedência'!R29","v":0.80769230769230771},{"$f":"'CV Rotina <2A - procedência'!T29","v":0.84615384615384615},{"$f":"'CV Rotina <2A - procedência'!X29","v":0.73076923076923073},{"$f":"'CV Rotina <2A - procedência'!AB29","v":0.59615384615384615},0,0,0,0]
["Sul","Guaçuí",{"$f":"'CV Rotina <2A - procedência'!H30","v":0.58015267175572516},{"$f":"'CV Rotina <2A - procedência'!P30","v":0.90839694656488545},{"$f":"'CV Rotina <2A - procedência'!V30","v":0},{"$f":"'CV Rotina <2A - procedência'!J30","v":1.1068702290076335},{"$f":"'CV Rotina <2A - procedência'!L30","v":1.0687022900763359},{"$f":"'CV Rotina <2A - procedência'!N30","v":0.98473282442748089},{"$f":"'CV Rotina <2A - procedência'!Z30","v":1.1145038167938932},{"$f":"'CV Rotina <2A - procedência'!R30","v":0.96946564885496178},{"$f":"'CV Rotina <2A - procedência'!T30","v":0.87786259541984735},{"$f":"'CV Rotina <2A - procedência'!X30","v":0.80152671755725191},{"$f":"'CV Rotina <2A - procedência'!AB30","v":0.53435114503816794},1,5,6,4]
["Metropolitana","Guarapari",{"$f":"'CV Rotina <2A - procedência'!H31","v":0.83564013840830453},{"$f":"'CV Rotina <2A - procedência'!P31","v":0.83217993079584773},{"$f":"'CV Rotina <2A - procedência'!V31","v":3.4602076124567475E-3},{"$f":"'CV Rotina <2A - procedência'!J31","v":0.8546712802768166},{"$f":"'CV Rotina <2A - procedência'!L31","v":0.82179930795847755},{"$f":"'CV Rotina <2A - procedência'!N31","v":0.87024221453287198},{"$f":"'CV Rotina <2A - procedência'!Z31","v":0.8529411764705882},{"$f":"'CV Rotina <2A - procedência'!R31","v":0.8546712802768166},{"$f":"'CV Rotina <2A - procedência'!T31","v":0.63494809688581311},{"$f":"'CV Rotina <2A - procedência'!X31","v":0.65916955017301038},{"$f":"'CV Rotina <2A - procedência'!AB31","v":0.55536332179930792},0,0,0,0]
["Metropolitana","Ibatiba",{"$f":"'CV Rotina <2A - procedência'!H32","v":1.0357142857142858},{"$f":"'CV Rotina <2A - procedência'!P32","v":0.9910714285714286},{"$f":"'CV Rotina <2A - procedência'!V32","v":4.4642857142857144E-2},{"$f":"'CV Rotina <2A - procedência'!J32","v":1.1428571428571428},{"$f":"'CV Rotina <2A - procedência'!L32","v":1.125},{"$f":"'CV Rotina <2A - procedência'!N32","v":1.0803571428571428},{"$f":"'CV Rotina <2A - procedência'!Z32","v":0.9732142857142857},{"$f":"'CV Rotina <2A - procedência'!R32","v":1.2053571428571428},{"$f":"'CV Rotina <2A - procedência'!T32","v":0.9375},{"$f":"'CV Rotina <2A - procedência'!X32","v":0.7857142857142857},{"$f":"'CV Rotina <2A - procedência'!AB32","v":0.25892857142857145},2,5,7,4]
["Metropolitana","Ibiraçu",{"$f":"'CV Rotina <2A - procedência'!H33","v":0.15517241379310345},{"$f":"'CV Rotina <2A - procedência'!P33","v":0.63793103448275867},{"$f":"'CV Rotina <2A - procedência'!V33","v":5.1724137931034482E-2},{"$f":"'CV Rotina <2A - procedência'!J33","v":0.72413793103448276},{"$f":"'CV Rotina <2A - procedência'!L33","v":0.7068965517241379},{"$f":"'CV Rotina <2A - procedência'!N33","v":0.67241379310344829},{"$f":"'CV Rotina <2A - procedência'!Z33","v":0.68965517241379315},{"$f":"'CV Rotina <2A - procedência'!R33","v":0.75862068965517238},{"$f":"'CV Rotina <2A - procedência'!T33","v":0.82758620689655171},{"$f":"'CV Rotina <2A - procedência'!X33","v":0.44827586206896552},{"$f":"'CV Rotina <2A - procedência'!AB33","v":0.48275862068965519},0,0,0,0]
["Sul","Ibitirama",{"$f":"'CV Rotina <2A - procedência'!H34","v":0.7567567567567568},{"$f":"'CV Rotina <2A - procedência'!P34","v":1.1621621621621621},{"$f":"'CV Rotina <2A - procedência'!V34","v":0},{"$f":"'CV Rotina <2A - procedência'!J34","v":1.027027027027027},{"$f":"'CV Rotina <2A - procedência'!L34","v":1.0540540540540539},{"$f":"'CV Rotina <2A - procedência'!N34","v":1.1081081081081081},{"$f":"'CV Rotina <2A - procedência'!Z34","v":1.3513513513513513},{"$f":"'CV Rotina <2A - procedência'!R34","v":0.94594594594594594},{"$f":"'CV Rotina <2A - procedência'!T34","v":0.67567567567567566},{"$f":"'CV Rotina <2A - procedência'!X34","v":0.83783783783783783},{"$f":"'CV Rotina <2A - procedência'!AB34","v":0.89189189189189189},1,4,5,4]
["Sul","Iconha",{"$f":"'CV Rotina <2A - procedência'!H35","v":0.44444444444444442},{"$f":"'CV Rotina <2A - procedência'!P35","v":1.1111111111111112},{"$f":"'CV Rotina <2A - procedência'!V35","v":2.7777777777777776E-2},{"$f":"'CV Rotina <2A - procedência'!J35","v":1.0833333333333333},{"$f":"'CV Rotina <2A - procedência'!L35","v":1.0277777777777777},{"$f":"'CV Rotina <2A - procedência'!N35","v":1.0833333333333333},{"$f":"'CV Rotina <2A - procedência'!Z35","v":1.5833333333333333},{"$f":"'CV Rotina <2A - procedência'!R35","v":1.0277777777777777},{"$f":"'CV Rotina <2A - procedência'!T35","v":1.3333333333333333},{"$f":"'CV Rotina <2A - procedência'!X35","v":0.75},{"$f":"'CV Rotina <2A - procedência'!AB35","v":0.30555555555555558},1,{"$f":"COUNTIFS(F34:M34,\">=0,95\")","v":6},7,4]
["Sul","Irupi",{"$f":"'CV Rotina <2A - procedência'!H36","v":0.69491525423728817},{"$f":"'CV Rotina <2A - procedência'!P36","v":1.3220338983050848},{"$f":"'CV Rotina <2A - procedência'!V36","v":6.7796610169491525E-2},{"$f":"'CV Rotina <2A - procedência'!J36","v":1.2203389830508475},{"$f":"'CV Rotina <2A - procedência'!L36","v":1.2033898305084745},{"$f":"'CV Rotina <2A - procedência'!N36","v":1.4067796610169492},{"$f":"'CV Rotina <2A - procedência'!Z36","v":1.5932203389830508},{"$f":"'CV Rotina <2A - procedência'!R36","v":1.3898305084745763},{"$f":"'CV Rotina <2A - procedência'!T36","v":0.93220338983050843},{"$f":"'CV Rotina <2A - procedência'!X36","v":1.0338983050847457},{"$f":"'CV Rotina <2A - procedência'!AB36","v":0.3559322033898305},1,6,7,4]
["Metropolitana","Itaguaçu",{"$f":"'CV Rotina <2A - procedência'!H37","v":0.89189189189189189},{"$f":"'CV Rotina <2A - procedência'!P37","v":1.1081081081081081},{"$f":"'CV Rotina <2A - procedência'!V37","v":0},{"$f":"'CV Rotina <2A - procedência'!J37","v":1.0810810810810811},{"$f":"'CV Rotina <2A - procedência'!L37","v":1.0810810810810811},{"$f":"'CV Rotina <2A - procedência'!N37","v":1.1081081081081081},{"$f":"'CV Rotina <2A - procedência'!Z37","v":1.2972972972972974},{"$f":"'CV Rotina <2A - procedência'!R37","v":1.1621621621621621},{"$f":"'CV Rotina <2A - procedência'!T37","v":1.2432432432432432},{"$f":"'CV Rotina <2A - procedência'!X37","v":1.3513513513513513},{"$f":"'CV Rotina <2A - procedência'!AB37","v":1.2432432432432432},1,8,9,4]
["Sul","Itapemirim",{"$f":"'CV Rotina <2A - procedência'!H38","v":0.5286624203821656},{"$f":"'CV Rotina <2A - procedência'!P38","v":1.0063694267515924},{"$f":"'CV Rotina <2A - procedência'!V38","v":0},{"$f":"'CV Rotina <2A - procedência'!J38","v":0.9426751592356688},{"$f":"'CV Rotina <2A - procedência'!L38","v":0.92356687898089174},{"$f":"'CV Rotina <2A - procedência'!N38","v":1.1210191082802548},{"$f":"'CV Rotina <2A - procedência'!Z38","v":1.1146496815286624},{"$f":"'CV Rotina <2A - procedência'!R38","v":0.91082802547770703},{"$f":"'CV Rotina <2A - procedência'!T38","v":0.60509554140127386},{"$f":"'CV Rotina <2A - procedência'!X38","v":0.84713375796178347},{"$f":"'CV Rotina <2A - procedência'!AB38","v":0.60509554140127386},1,2,3,2]
["Metropolitana","Itarana",{"$f":"'CV Rotina <2A - procedência'!H39","v":0.88235294117647056},{"$f":"'CV Rotina <2A - procedência'!P39","v":0.78431372549019607},{"$f":"'CV Rotina <2A - procedência'!V39","v":0},{"$f":"'CV Rotina <2A - procedência'!J39","v":0.82352941176470584},{"$f":"'CV Rotina <2A - procedência'!L39","v":0.84313725490196079},{"$f":"'CV Rotina <2A - procedência'!N39","v":0.74509803921568629},{"$f":"'CV Rotina <2A - procedência'!Z39","v":0.82352941176470584},{"$f":"'CV Rotina <2A - procedência'!R39","v":0.68627450980392157},{"$f":"'CV Rotina <2A - procedência'!T39","v":1.0196078431372548},{"$f":"'CV Rotina <2A - procedência'!X39","v":0.23529411764705882},{"$f":"'CV Rotina <2A - procedência'!AB39","v":0.74509803921568629},0,1,1,0]
["Sul","Iúna",{"$f":"'CV Rotina <2A - procedência'!H40","v":0.67532467532467533},{"$f":"'CV Rotina <2A - procedência'!P40","v":1.0389610389610389},{"$f":"'CV Rotina <2A - procedência'!V40","v":6.4935064935064939E-3},{"$f":"'CV Rotina <2A - procedência'!J40","v":1.0324675324675325},{"$f":"'CV Rotina <2A - procedência'!L40","v":1.0129870129870129},{"$f":"'CV Rotina <2A - procedência'!N40","v":1.0454545454545454},{"$f":"'CV Rotina <2A - procedência'!Z40","v":1.025974025974026},{"$f":"'CV Rotina <2A - procedência'!R40","v":1.0389610389610389},{"$f":"'CV Rotina <2A - procedência'!T40","v":0.91558441558441561},{"$f":"'CV Rotina <2A - procedência'!X40","v":0.5714285714285714},{"$f":"'CV Rotina <2A - procedência'!AB40","v":0.56493506493506496},1,5,6,4]
["Norte","Jaguaré",{"$f":"'CV Rotina <2A - procedência'!H41","v":0.70779220779220775},{"$f":"'CV Rotina <2A - procedência'!P41","v":1},{"$f":"'CV Rotina <2A - procedência'!V41","v":1.948051948051948E-2},{"$f":"'CV Rotina <2A - procedência'!J41","v":0.98051948051948057},{"$f":"'CV Rotina <2A - procedência'!L41","v":1.0389610389610389},{"$f":"'CV Rotina <2A - procedência'!N41","v":1.0129870129870129},{"$f":"'CV Rotina <2A - procedência'!Z41","v":1.051948051948052},{"$f":"'CV Rotina <2A - procedência'!R41","v":0.97402597402597402},{"$f":"'CV Rotina <2A - procedência'!T41","v":1.0129870129870129},{"$f":"'CV Rotina <2A - procedência'!X41","v":0.70129870129870131},{"$f":"'CV Rotina <2A - procedência'!AB41","v":0.62987012987012991},1,6,7,4]
["Sul","Jerônimo Monteiro",{"$f":"'CV Rotina <2A - procedência'!H42","v":0.12244897959183673},{"$f":"'CV Rotina <2A - procedência'!P42","v":1.0204081632653061},{"$f":"'CV Rotina <2A - procedência'!V42","v":4.0816326530612242E-2},{"$f":"'CV Rotina <2A - procedência'!J42","v":1.2857142857142858},{"$f":"'CV Rotina <2A - procedência'!L42","v":1.2857142857142858},{"$f":"'CV Rotina <2A - procedência'!N42","v":0.97959183673469385},{"$f":"'CV Rotina <2A - procedência'!Z42","v":0.95918367346938771},{"$f":"'CV Rotina <2A - procedência'!R42","v":0.95918367346938771},{"$f":"'CV Rotina <2A - procedência'!T42","v":0.97959183673469385},{"$f":"'CV Rotina <2A - procedência'!X42","v":0.67346938775510201},{"$f":"'CV Rotina <2A - procedência'!AB42","v":0.36734693877551022},1,6,7,4]
["Metropolitana","João Neiva",{"$f":"'CV Rotina <2A - procedência'!H43","v":0.30508474576271188},{"$f":"'CV Rotina <2A - procedência'!P43","v":0.93220338983050843},{"$f":"'CV Rotina <2A - procedência'!V43","v":1.6949152542372881E-2},{"$f":"'CV Rotina <2A - procedência'!J43","v":1.0338983050847457},{"$f":"'CV Rotina <2A - procedência'!L43","v":1.0169491525423728},{"$f":"'CV Rotina <2A - procedência'!N43","v":0.98305084745762716},{"$f":"'CV Rotina <2A - procedência'!Z43","v":1.1864406779661016},{"$f":"'CV Rotina <2A - procedência'!R43","v":0.94915254237288138},{"$f":"'CV Rotina <2A - procedência'!T43","v":1.0508474576271187},{"$f":"'CV Rotina <2A - procedência'!X43","v":0.72881355932203384},{"$f":"'CV Rotina <2A - procedência'!AB43","v":0.5423728813559322},1,5,6,4]
["Metropolitana","Laranja da Terra",{"$f":"'CV Rotina <2A - procedência'!H44","v":0.6216216216216216},{"$f":"'CV Rotina <2A - procedência'!P44","v":0.70270270270270274},{"$f":"'CV Rotina <2A - procedência'!V44","v":0.13513513513513514},{"$f":"'CV Rotina <2A - procedência'!J44","v":0.94594594594594594},{"$f":"'CV Rotina <2A - procedência'!L44","v":0.97297297297297303},{"$f":"'CV Rotina <2A - procedência'!N44","v":0.67567567567567566},{"$f":"'CV Rotina <2A - procedência'!Z44","v":1.4324324324324325},{"$f":"'CV Rotina <2A - procedência'!R44","v":0.83783783783783783},{"$f":"'CV Rotina <2A - procedência'!T44","v":1.1621621621621621},{"$f":"'CV Rotina <2A - procedência'!X44","v":0.81081081081081086},{"$f":"'CV Rotina <2A - procedência'!AB44","v":0.81081081081081086},0,3,3,2]
["Central","Linhares",{"$f":"'CV Rotina <2A - procedência'!H45","v":1.115874855156431},{"$f":"'CV Rotina <2A - procedência'!P45","v":0.82734646581691773},{"$f":"'CV Rotina <2A - procedência'!V45","v":0},{"$f":"'CV Rotina <2A - procedência'!J45","v":0.8366164542294322},{"$f":"'CV Rotina <2A - procedência'!L45","v":0.83082271147161069},{"$f":"'CV Rotina <2A - procedência'!N45","v":0.80648899188876011},{"$f":"'CV Rotina <2A - procedência'!Z45","v":0.82618771726535345},{"$f":"'CV Rotina <2A - procedência'!R45","v":0.77636152954808801},{"$f":"'CV Rotina <2A - procedência'!T45","v":0.73696407879490156},{"$f":"'CV Rotina <2A - procedência'!X45","v":0.51448435689455385},{"$f":"'CV Rotina <2A - procedência'!AB45","v":0.51448435689455385},1,0,1,0]
["Central","Mantenópolis",{"$f":"'CV Rotina <2A - procedência'!H46","v":0.50980392156862742},{"$f":"'CV Rotina <2A - procedência'!P46","v":0.78431372549019607},{"$f":"'CV Rotina <2A - procedência'!V46","v":0},{"$f":"'CV Rotina <2A - procedência'!J46","v":1.0196078431372548},{"$f":"'CV Rotina <2A - procedência'!L46","v":1.1176470588235294},{"$f":"'CV Rotina <2A - procedência'!N46","v":0.82352941176470584},{"$f":"'CV Rotina <2A - procedência'!Z46","v":1.0980392156862746},{"$f":"'CV Rotina <2A - procedência'!R46","v":0.76470588235294112},{"$f":"'CV Rotina <2A - procedência'!T46","v":0.96078431372549022},{"$f":"'CV Rotina <2A - procedência'!X46","v":0.84313725490196079},{"$f":"'CV Rotina <2A - procedência'!AB46","v":0.66666666666666663},0,4,4,3]
["Sul","Marataízes",{"$f":"'CV Rotina <2A - procedência'!H47","v":0.40291262135922329},{"$f":"'CV Rotina <2A - procedência'!P47","v":0.85436893203883491},{"$f":"'CV Rotina <2A - procedência'!V47","v":0},{"$f":"'CV Rotina <2A - procedência'!J47","v":0.89805825242718451},{"$f":"'CV Rotina <2A - procedência'!L47","v":0.92233009708737868},{"$f":"'CV Rotina <2A - procedência'!N47","v":0.8689320388349514},{"$f":"'CV Rotina <2A - procedência'!Z47","v":0.95145631067961167},{"$f":"'CV Rotina <2A - procedência'!R47","v":0.90776699029126218},{"$f":"'CV Rotina <2A - procedência'!T47","v":0.67475728155339809},{"$f":"'CV Rotina <2A - procedência'!X47","v":0.90776699029126218},{"$f":"'CV Rotina <2A - procedência'!AB47","v":0.5436893203883495},0,1,1,1]
["Metropolitana","Marechal Floriano",{"$f":"'CV Rotina <2A - procedência'!H48","v":0.21590909090909091},{"$f":"'CV Rotina <2A - procedência'!P48","v":0.875},{"$f":"'CV Rotina <2A - procedência'!V48","v":2.2727272727272728E-2},{"$f":"'CV Rotina <2A - procedência'!J48","v":0.61363636363636365},{"$f":"'CV Rotina <2A - procedência'!L48","v":0.625},{"$f":"'CV Rotina <2A - procedência'!N48","v":0.89772727272727271},{"$f":"'CV Rotina <2A - procedência'!Z48","v":0.89772727272727271},{"$f":"'CV Rotina <2A - procedência'!R48","v":0.79545454545454541},{"$f":"'CV Rotina <2A - procedência'!T48","v":0.61363636363636365},{"$f":"'CV Rotina <2A - procedência'!X48","v":0.72727272727272729},{"$f":"'CV Rotina <2A - procedência'!AB48","v":0.61363636363636365},0,0,0,0]
["Central","Marilândia",{"$f":"'CV Rotina <2A - procedência'!H49","v":0.56756756756756754},{"$f":"'CV Rotina <2A - procedência'!P49","v":1.3243243243243243},{"$f":"'CV Rotina <2A - procedência'!V49","v":0},{"$f":"'CV Rotina <2A - procedência'!J49","v":1.3243243243243243},{"$f":"'CV Rotina <2A - procedência'!L49","v":1.3243243243243243},{"$f":"'CV Rotina <2A - procedência'!N49","v":1.2162162162162162},{"$f":"'CV Rotina <2A - procedência'!Z49","v":1.2972972972972974},{"$f":"'CV Rotina <2A - procedência'!R49","v":1.4864864864864864},{"$f":"'CV Rotina <2A - procedência'!T49","v":1.2162162162162162},{"$f":"'CV Rotina <2A - procedência'!X49","v":1.0810810810810811},{"$f":"'CV Rotina <2A - procedência'!AB49","v":1.1621621621621621},1,8,9,4]
["Sul","Mimoso do Sul",{"$f":"'CV Rotina <2A - procedência'!H50","v":0.22535211267605634},{"$f":"'CV Rotina <2A - procedência'!P50","v":0.92957746478873238},{"$f":"'CV Rotina <2A - procedência'!V50","v":0},{"$f":"'CV Rotina <2A - procedência'!J50","v":0.95774647887323938},{"$f":"'CV Rotina <2A - procedência'!L50","v":0.94366197183098588},{"$f":"'CV Rotina <2A - procedência'!N50","v":0.971830985915493},{"$f":"'CV Rotina <2A - procedência'!Z50","v":0.95774647887323938},{"$f":"'CV Rotina <2A - procedência'!R50","v":0.94366197183098588},{"$f":"'CV Rotina <2A - procedência'!T50","v":0.81690140845070425},{"$f":"'CV Rotina <2A - procedência'!X50","v":0.676056338028169},{"$f":"'CV Rotina <2A - procedência'!AB50","v":0.59154929577464788},1,3,4,3]
["Norte","Montanha",{"$f":"'CV Rotina <2A - procedência'!H51","v":0.31168831168831168},{"$f":"'CV Rotina <2A - procedência'!P51","v":1.0649350649350648},{"$f":"'CV Rotina <2A - procedência'!V51","v":1.2987012987012988E-2},{"$f":"'CV Rotina <2A - procedência'!J51","v":1.3116883116883118},{"$f":"'CV Rotina <2A - procedência'!L51","v":1.3376623376623376},{"$f":"'CV Rotina <2A - procedência'!N51","v":1.0649350649350648},{"$f":"'CV Rotina <2A - procedência'!Z51","v":1.1428571428571428},{"$f":"'CV Rotina <2A - procedência'!R51","v":1.1298701298701299},{"$f":"'CV Rotina <2A - procedência'!T51","v":1.0909090909090908},{"$f":"'CV Rotina <2A - procedência'!X51","v":1.0909090909090908},{"$f":"'CV Rotina <2A - procedência'!AB51","v":0.8571428571428571},1,7,8,4]
["Norte","Mucurici",{"$f":"'CV Rotina <2A - procedência'!H52","v":0.21052631578947367},{"$f":"'CV Rotina <2A - procedência'!P52","v":1.5263157894736843},{"$f":"'CV Rotina <2A - procedência'!V52","v":0},{"$f":"'CV Rotina <2A - procedência'!J52","v":1.5263157894736843},{"$f":"'CV Rotina <2A - procedência'!L52","v":1.5263157894736843},{"$f":"'CV Rotina <2A - procedência'!N52","v":1.5789473684210527},{"$f":"'CV Rotina <2A - procedência'!Z52","v":1.631578947368421},{"$f":"'CV Rotina <2A - procedência'!R52","v":1.368421052631579},{"$f":"'CV Rotina <2A - procedência'!T52","v":1.736842105263158},{"$f":"'CV Rotina <2A - procedência'!X52","v":0.68421052631578949},{"$f":"'CV Rotina <2A - procedência'!AB52","v":0.63157894736842102},1,6,7,4]
["Sul","Muniz Freire",{"$f":"'CV Rotina <2A - procedência'!H53","v":0.65277777777777779},{"$f":"'CV Rotina <2A - procedência'!P53","v":1.0555555555555556},{"$f":"'CV Rotina <2A - procedência'!V53","v":0},{"$f":"'CV Rotina <2A - procedência'!J53","v":1.1111111111111112},{"$f":"'CV Rotina <2A - procedência'!L53","v":1.0416666666666667},{"$f":"'CV Rotina <2A - procedência'!N53","v":1.0555555555555556},{"$f":"'CV Rotina <2A - procedência'!Z53","v":1.3055555555555556},{"$f":"'CV Rotina <2A - procedência'!R53","v":1.0416666666666667},{"$f":"'CV Rotina <2A - procedência'!T53","v":1.1388888888888888},{"$f":"'CV Rotina <2A - procedência'!X53","v":0.88888888888888884},{"$f":"'CV Rotina <2A - procedência'!AB53","v":0.56944444444444442},1,6,7,4]
["Sul","Muqui",{"$f":"'CV Rotina <2A - procedência'!H54","v":0.16279069767441862},{"$f":"'CV Rotina <2A - procedência'!P54","v":1.1162790697674418},{"$f":"'CV Rotina <2A - procedência'!V54","v":9.3023255813953487E-2},{"$f":"'CV Rotina <2A - procedência'!J54","v":1.5348837209302326},{"$f":"'CV Rotina <2A - procedência'!L54","v":1.558139534883721},{"$f":"'CV Rotina <2A - procedência'!N54","v":1.1627906976744187},{"$f":"'CV Rotina <2A - procedência'!Z54","v":1.0930232558139534},{"$f":"'CV Rotina <2A - procedência'!R54","v":1.3255813953488371},{"$f":"'CV Rotina <2A - procedência'!T54","v":1.1395348837209303},{"$f":"'CV Rotina <2A - procedência'!X54","v":0.7441860465116279},{"$f":"'CV Rotina <2A - procedência'!AB54","v":0.81395348837209303},1,6,7,4]
["Norte","Nova Venécia",{"$f":"'CV Rotina <2A - procedência'!H55","v":0.55555555555555558},{"$f":"'CV Rotina <2A - procedência'!P55","v":0.78222222222222226},{"$f":"'CV Rotina <2A - procedência'!V55","v":0},{"$f":"'CV Rotina <2A - procedência'!J55","v":1.0088888888888889},{"$f":"'CV Rotina <2A - procedência'!L55","v":1.0088888888888889},{"$f":"'CV Rotina <2A - procedência'!N55","v":0.8},{"$f":"'CV Rotina <2A - procedência'!Z55","v":0.96888888888888891},{"$f":"'CV Rotina <2A - procedência'!R55","v":0.8666666666666667},{"$f":"'CV Rotina <2A - procedência'!T55","v":0.99555555555555553},{"$f":"'CV Rotina <2A - procedência'!X55","v":0.72444444444444445},{"$f":"'CV Rotina <2A - procedência'!AB55","v":0.68444444444444441},0,4,4,3]
["Central","Pancas",{"$f":"'CV Rotina <2A - procedência'!H56","v":0.5357142857142857},{"$f":"'CV Rotina <2A - procedência'!P56","v":1.2678571428571428},{"$f":"'CV Rotina <2A - procedência'!V56","v":1.7857142857142856E-2},{"$f":"'CV Rotina <2A - procedência'!J56","v":1.375},{"$f":"'CV Rotina <2A - procedência'!L56","v":1.3571428571428572},{"$f":"'CV Rotina <2A - procedência'!N56","v":1.3035714285714286},{"$f":"'CV Rotina <2A - procedência'!Z56","v":1.1071428571428572},{"$f":"'CV Rotina <2A - procedência'!R56","v":1.3571428571428572},{"$f":"'CV Rotina <2A - procedência'!T56","v":1.1428571428571428},{"$f":"'CV Rotina <2A - procedência'!X56","v":0.9285714285714286},{"$f":"'CV Rotina <2A - procedência'!AB56","v":1.3035714285714286},1,7,8,4]
["Norte","Pedro Canário",{"$f":"'CV Rotina <2A - procedência'!H57","v":5.4263565891472867E-2},{"$f":"'CV Rotina <2A - procedência'!P57","v":0.68217054263565891},{"$f":"'CV Rotina <2A - procedência'!V57","v":0},{"$f":"'CV Rotina <2A - procedência'!J57","v":0.82170542635658916},{"$f":"'CV Rotina <2A - procedência'!L57","v":0.84496124031007747},{"$f":"'CV Rotina <2A - procedência'!N57","v":0.69767441860465118},{"$f":"'CV Rotina <2A - procedência'!Z57","v":0.97674418604651159},{"$f":"'CV Rotina <2A - procedência'!R57","v":0.71317829457364346},{"$f":"'CV Rotina <2A - procedência'!T57","v":0.82170542635658916},{"$f":"'CV Rotina <2A - procedência'!X57","v":0.48837209302325579},{"$f":"'CV Rotina <2A - procedência'!AB57","v":0.62015503875968991},0,1,1,1]
["Norte","Pinheiros",{"$f":"'CV Rotina <2A - procedência'!H58","v":4.5871559633027525E-2},{"$f":"'CV Rotina <2A - procedência'!P58","v":0.95412844036697253},{"$f":"'CV Rotina <2A - procedência'!V58","v":0},{"$f":"'CV Rotina <2A - procedência'!J58","v":1.0642201834862386},{"$f":"'CV Rotina <2A - procedência'!L58","v":1.0550458715596329},{"$f":"'CV Rotina <2A - procedência'!N58","v":0.97247706422018354},{"$f":"'CV Rotina <2A - procedência'!Z58","v":0.95412844036697253},{"$f":"'CV Rotina <2A - procedência'!R58","v":0.93577981651376152},{"$f":"'CV Rotina <2A - procedência'!T58","v":0.98165137614678899},{"$f":"'CV Rotina <2A - procedência'!X58","v":0.64220183486238536},{"$f":"'CV Rotina <2A - procedência'!AB58","v":0.40366972477064222},1,5,6,4]
["Sul","Piúma",{"$f":"'CV Rotina <2A - procedência'!H59","v":0.74698795180722888},{"$f":"'CV Rotina <2A - procedência'!P59","v":1},{"$f":"'CV Rotina <2A - procedência'!V59","v":1.2048192771084338E-2},{"$f":"'CV Rotina <2A - procedência'!J59","v":1.0963855421686748},{"$f":"'CV Rotina <2A - procedência'!L59","v":1.0963855421686748},{"$f":"'CV Rotina <2A - procedência'!N59","v":1.1084337349397591},{"$f":"'CV Rotina <2A - procedência'!Z59","v":1.1927710843373494},{"$f":"'CV Rotina <2A - procedência'!R59","v":0.85542168674698793},{"$f":"'CV Rotina <2A - procedência'!T59","v":0.74698795180722888},{"$f":"'CV Rotina <2A - procedência'!X59","v":0.86746987951807231},{"$f":"'CV Rotina <2A - procedência'!AB59","v":0.59036144578313254},1,4,5,4]
["Norte","Ponto Belo",{"$f":"'CV Rotina <2A - procedência'!H60","v":0.19047619047619047},{"$f":"'CV Rotina <2A - procedência'!P60","v":1.0476190476190477},{"$f":"'CV Rotina <2A - procedência'!V60","v":0},{"$f":"'CV Rotina <2A - procedência'!J60","v":0.76190476190476186},{"$f":"'CV Rotina <2A - procedência'!L60","v":0.76190476190476186},{"$f":"'CV Rotina <2A - procedência'!N60","v":1.0952380952380953},{"$f":"'CV Rotina <2A - procedência'!Z60","v":1.1428571428571428},{"$f":"'CV Rotina <2A - procedência'!R60","v":0.7142857142857143},{"$f":"'CV Rotina <2A - procedência'!T60","v":1.2380952380952381},{"$f":"'CV Rotina <2A - procedência'!X60","v":0.61904761904761907},{"$f":"'CV Rotina <2A - procedência'!AB60","v":0.76190476190476186},1,3,4,2]
["Sul","Presidente Kennedy",{"$f":"'CV Rotina <2A - procedência'!H61","v":0.1095890410958904},{"$f":"'CV Rotina <2A - procedência'!P61","v":0.56164383561643838},{"$f":"'CV Rotina <2A - procedência'!V61","v":0},{"$f":"'CV Rotina <2A - procedência'!J61","v":0.82191780821917804},{"$f":"'CV Rotina <2A - procedência'!L61","v":0.86301369863013699},{"$f":"'CV Rotina <2A - procedência'!N61","v":0.57534246575342463},{"$f":"'CV Rotina <2A - procedência'!Z61","v":1.1232876712328768},{"$f":"'CV Rotina <2A - procedência'!R61","v":0.69863013698630139},{"$f":"'CV Rotina <2A - procedência'!T61","v":0.69863013698630139},{"$f":"'CV Rotina <2A - procedência'!X61","v":0.64383561643835618},{"$f":"'CV Rotina <2A - procedência'!AB61","v":0.46575342465753422},0,1,1,1]
["Central","Rio Bananal",{"$f":"'CV Rotina <2A - procedência'!H62","v":0.21212121212121213},{"$f":"'CV Rotina <2A - procedência'!P62","v":0.95959595959595956},{"$f":"'CV Rotina <2A - procedência'!V62","v":5.0505050505050504E-2},{"$f":"'CV Rotina <2A - procedência'!J62","v":0.98989898989898994},{"$f":"'CV Rotina <2A - procedência'!L62","v":0.98989898989898994},{"$f":"'CV Rotina <2A - procedência'!N62","v":0.90909090909090906},{"$f":"'CV Rotina <2A - procedência'!Z62","v":1.0606060606060606},{"$f":"'CV Rotina <2A - procedência'!R62","v":0.83838383838383834},{"$f":"'CV Rotina <2A - procedência'!T62","v":1.0505050505050506},{"$f":"'CV Rotina <2A - procedência'!X62","v":0.73737373737373735},{"$f":"'CV Rotina <2A - procedência'!AB62","v":0.73737373737373735},1,4,5,3]
["Sul","Rio Novo do Sul",{"$f":"'CV Rotina <2A - procedência'!H63","v":0.37142857142857144},{"$f":"'CV Rotina <2A - procedência'!P63","v":1.0857142857142856},{"$f":"'CV Rotina <2A - procedência'!V63","v":0},{"$f":"'CV Rotina <2A - procedência'!J63","v":1.4},{"$f":"'CV Rotina <2A - procedência'!L63","v":1.4},{"$f":"'CV Rotina <2A - procedência'!N63","v":1.0571428571428572},{"$f":"'CV Rotina <2A - procedência'!Z63","v":1.1142857142857143},{"$f":"'CV Rotina <2A - procedência'!R63","v":1.2285714285714286},{"$f":"'CV Rotina <2A - procedência'!T63","v":0.94285714285714284},{"$f":"'CV Rotina <2A - procedência'!X63","v":0.74285714285714288},{"$f":"'CV Rotina <2A - procedência'!AB63","v":1},1,6,7,4]
["Metropolitana","Santa Leopoldina",{"$f":"'CV Rotina <2A - procedência'!H64","v":0.15625},{"$f":"'CV Rotina <2A - procedência'!P64","v":1.1875},{"$f":"'CV Rotina <2A - procedência'!V64","v":0},{"$f":"'CV Rotina <2A - procedência'!J64","v":1.03125},{"$f":"'CV Rotina <2A - procedência'!L64","v":1.03125},{"$f":"'CV Rotina <2A - procedência'!N64","v":1.15625},{"$f":"'CV Rotina <2A - procedência'!Z64","v":1.3125},{"$f":"'CV Rotina <2A - procedência'!R64","v":1.21875},{"$f":"'CV Rotina <2A - procedência'!T64","v":1.15625},{"$f":"'CV Rotina <2A - procedência'!X64","v":0.9375},{"$f":"'CV Rotina <2A - procedência'!AB64","v":0.40625},1,6,7,4]
["Metropolitana","Santa Maria de Jetibá",{"$f":"'CV Rotina <2A - procedência'!H65","v":0.73076923076923073},{"$f":"'CV Rotina <2A - procedência'!P65","v":0.86324786324786329},{"$f":"'CV Rotina <2A - procedência'!V65","v":8.5470085470085479E-3},{"$f":"'CV Rotina <2A - procedência'!J65","v":0.79059829059829057},{"$f":"'CV Rotina <2A - procedência'!L65","v":0.79059829059829057},{"$f":"'CV Rotina <2A - procedência'!N65","v":0.84188034188034189},{"$f":"'CV Rotina <2A - procedência'!Z65","v":0.99145299145299148},{"$f":"'CV Rotina <2A - procedência'!R65","v":0.81623931623931623},{"$f":"'CV Rotina <2A - procedência'!T65","v":0.77350427350427353},{"$f":"'CV Rotina <2A - procedência'!X65","v":0.89316239316239321},{"$f":"'CV Rotina <2A - procedência'!AB65","v":0.52991452991452992},0,1,1,1]
["Metropolitana","Santa Teresa",{"$f":"'CV Rotina <2A - procedência'!H66","v":0.87356321839080464},{"$f":"'CV Rotina <2A - procedência'!P66","v":0.97701149425287359},{"$f":"'CV Rotina <2A - procedência'!V66","v":0},{"$f":"'CV Rotina <2A - procedência'!J66","v":1.1954022988505748},{"$f":"'CV Rotina <2A - procedência'!L66","v":1.1954022988505748},{"$f":"'CV Rotina <2A - procedência'!N66","v":1.0114942528735633},{"$f":"'CV Rotina <2A - procedência'!Z66","v":0.96551724137931039},{"$f":"'CV Rotina <2A - procedência'!R66","v":0.95402298850574707},{"$f":"'CV Rotina <2A - procedência'!T66","v":0.88505747126436785},{"$f":"'CV Rotina <2A - procedência'!X66","v":0.77011494252873558},{"$f":"'CV Rotina <2A - procedência'!AB66","v":0.74712643678160917},1,5,6,4]
["Central","São Domingos do Norte",{"$f":"'CV Rotina <2A - procedência'!H67","v":0.40909090909090912},{"$f":"'CV Rotina <2A - procedência'!P67","v":0.88636363636363635},{"$f":"'CV Rotina <2A - procedência'!V67","v":0},{"$f":"'CV Rotina <2A - procedência'!J67","v":0.81818181818181823},{"$f":"'CV Rotina <2A - procedência'!L67","v":0.81818181818181823},{"$f":"'CV Rotina <2A - procedência'!N67","v":0.88636363636363635},{"$f":"'CV Rotina <2A - procedência'!Z67","v":0.5},{"$f":"'CV Rotina <2A - procedência'!R67","v":0.75},{"$f":"'CV Rotina <2A - procedência'!T67","v":0.97727272727272729},{"$f":"'CV Rotina <2A - procedência'!X67","v":0.38636363636363635},{"$f":"'CV Rotina <2A - procedência'!AB67","v":0.47727272727272729},0,{"$f":"COUNTIFS(F66:M66,\">=0,95\")","v":1},1,0]
["Central","São Gabriel da Palha",{"$f":"'CV Rotina <2A - procedência'!H68","v":0.61363636363636365},{"$f":"'CV Rotina <2A - procedência'!P68","v":1.0227272727272727},{"$f":"'CV Rotina <2A - procedência'!V68","v":7.575757575757576E-3},{"$f":"'CV Rotina <2A - procedência'!J68","v":1.0378787878787878},{"$f":"'CV Rotina <2A - procedência'!L68","v":1.053030303030303},{"$f":"'CV Rotina <2A - procedência'!N68","v":1.0757575757575757},{"$f":"'CV Rotina <2A - procedência'!Z68","v":0.98484848484848486},{"$f":"'CV Rotina <2A - procedência'!R68","v":0.97727272727272729},{"$f":"'CV Rotina <2A - procedência'!T68","v":0.9242424242424242},{"$f":"'CV Rotina <2A - procedência'!X68","v":0.56818181818181823},{"$f":"'CV Rotina <2A - procedência'!AB68","v":0.63636363636363635},{"$f":"COUNTIF(C67:E67,\">=0,9\")","v":1},5,{"$f":"SUM(N67:O67)","v":6},{"$f":"COUNTIF(F67:I67,\">=0,95\")","v":4}]
["Sul","São José do Calçado",{"$f":"'CV Rotina <2A - procedência'!H69","v":0.74358974358974361},{"$f":"'CV Rotina <2A - procedência'!P69","v":0.82051282051282048},{"$f":"'CV Rotina <2A - procedência'!V69","v":0},{"$f":"'CV Rotina <2A - procedência'!J69","v":1.358974358974359},{"$f":"'CV Rotina <2A - procedência'!L69","v":1.3333333333333333},{"$f":"'CV Rotina <2A - procedência'!N69","v":0.89743589743589747},{"$f":"'CV Rotina <2A - procedência'!Z69","v":1.1794871794871795},{"$f":"'CV Rotina <2A - procedência'!R69","v":1.1025641025641026},{"$f":"'CV Rotina <2A - procedência'!T69","v":0.79487179487179482},{"$f":"'CV Rotina <2A - procedência'!X69","v":0.82051282051282048},{"$f":"'CV Rotina <2A - procedência'!AB69","v":0.69230769230769229},0,4,4,3]
["Norte","São Mateus",{"$f":"'CV Rotina <2A - procedência'!H70","v":1.3523076923076922},{"$f":"'CV Rotina <2A - procedência'!P70","v":0.81384615384615389},{"$f":"'CV Rotina <2A - procedência'!V70","v":4.6153846153846158E-3},{"$f":"'CV Rotina <2A - procedência'!J70","v":0.93538461538461537},{"$f":"'CV Rotina <2A - procedência'!L70","v":0.91384615384615386},{"$f":"'CV Rotina <2A - procedência'!N70","v":0.86923076923076925},{"$f":"'CV Rotina <2A - procedência'!Z70","v":0.78153846153846152},{"$f":"'CV Rotina <2A - procedência'!R70","v":0.76769230769230767},{"$f":"'CV Rotina <2A - procedência'!T70","v":0.67692307692307696},{"$f":"'CV Rotina <2A - procedência'!X70","v":0.62923076923076926},{"$f":"'CV Rotina <2A - procedência'!AB70","v":0.44923076923076921},1,0,1,0]
["Central","São Roque do Canaã",{"$f":"'CV Rotina <2A - procedência'!H71","v":0.4},{"$f":"'CV Rotina <2A - procedência'!P71","v":0.56000000000000005},{"$f":"'CV Rotina <2A - procedência'!V71","v":0.02},{"$f":"'CV Rotina <2A - procedência'!J71","v":0.66},{"$f":"'CV Rotina <2A - procedência'!L71","v":0.64},{"$f":"'CV Rotina <2A - procedência'!N71","v":0.5},{"$f":"'CV Rotina <2A - procedência'!Z71","v":0.9},{"$f":"'CV Rotina <2A - procedência'!R71","v":0.6},{"$f":"'CV Rotina <2A - procedência'!T71","v":0.86},{"$f":"'CV Rotina <2A - procedência'!X71","v":0.46},{"$f":"'CV Rotina <2A - procedência'!AB71","v":0.56000000000000005},0,0,0,0]
["Metropolitana","Serra",{"$f":"'CV Rotina <2A - procedência'!H72","v":1.0953470633104501},{"$f":"'CV Rotina <2A - procedência'!P72","v":0.76163234172387495},{"$f":"'CV Rotina <2A - procedência'!V72","v":8.771929824561403E-3},{"$f":"'CV Rotina <2A - procedência'!J72","v":0.7978642257818459},{"$f":"'CV Rotina <2A - procedência'!L72","v":0.7993897787948131},{"$f":"'CV Rotina <2A - procedência'!N72","v":0.77726926010678876},{"$f":"'CV Rotina <2A - procedência'!Z72","v":0.76887871853546907},{"$f":"'CV Rotina <2A - procedência'!R72","v":0.76811594202898548},{"$f":"'CV Rotina <2A - procedência'!T72","v":0.67009916094584288},{"$f":"'CV Rotina <2A - procedência'!X72","v":0.39702517162471396},{"$f":"'CV Rotina <2A - procedência'!AB72","v":0.31464530892448511},1,0,1,0]
["Central","Sooretama",{"$f":"'CV Rotina <2A - procedência'!H73","v":0.04},{"$f":"'CV Rotina <2A - procedência'!P73","v":0.76666666666666672},{"$f":"'CV Rotina <2A - procedência'!V73","v":0},{"$f":"'CV Rotina <2A - procedência'!J73","v":0.92},{"$f":"'CV Rotina <2A - procedência'!L73","v":0.92},{"$f":"'CV Rotina <2A - procedência'!N73","v":0.78},{"$f":"'CV Rotina <2A - procedência'!Z73","v":0.84666666666666668},{"$f":"'CV Rotina <2A - procedência'!R73","v":0.74},{"$f":"'CV Rotina <2A - procedência'!T73","v":0.83333333333333337},{"$f":"'CV Rotina <2A - procedência'!X73","v":0.79333333333333333},{"$f":"'CV Rotina <2A - procedência'!AB73","v":0.46},0,0,0,0]
["Sul","Vargem Alta",{"$f":"'CV Rotina <2A - procedência'!H74","v":8.98876404494382E-2},{"$f":"'CV Rotina <2A - procedência'!P74","v":0.9101123595505618},{"$f":"'CV Rotina <2A - procedência'!V74","v":1.1235955056179775E-2},{"$f":"'CV Rotina <2A - procedência'!J74","v":0.8089887640449438},{"$f":"'CV Rotina <2A - procedência'!L74","v":0.8089887640449438},{"$f":"'CV Rotina <2A - procedência'!N74","v":0.88764044943820219},{"$f":"'CV Rotina <2A - procedência'!Z74","v":1.0561797752808988},{"$f":"'CV Rotina <2A - procedência'!R74","v":0.9213483146067416},{"$f":"'CV Rotina <2A - procedência'!T74","v":0.88764044943820219},{"$f":"'CV Rotina <2A - procedência'!X74","v":0.8089887640449438},{"$f":"'CV Rotina <2A - procedência'!AB74","v":0.5730337078651685},1,1,2,1]
["Metropolitana","Venda Nova do Imigrante",{"$f":"'CV Rotina <2A - procedência'!H75","v":1},{"$f":"'CV Rotina <2A - procedência'!P75","v":0.87692307692307692},{"$f":"'CV Rotina <2A - procedência'!V75","v":2.3076923076923078E-2},{"$f":"'CV Rotina <2A - procedência'!J75","v":1.0384615384615385},{"$f":"'CV Rotina <2A - procedência'!L75","v":1.0384615384615385},{"$f":"'CV Rotina <2A - procedência'!N75","v":0.89230769230769236},{"$f":"'CV Rotina <2A - procedência'!Z75","v":1.0692307692307692},{"$f":"'CV Rotina <2A - procedência'!R75","v":0.9538461538461539},{"$f":"'CV Rotina <2A - procedência'!T75","v":0.98461538461538467},{"$f":"'CV Rotina <2A - procedência'!X75","v":0.57692307692307687},{"$f":"'CV Rotina <2A - procedência'!AB75","v":0.48461538461538461},1,5,6,3]
["Metropolitana","Viana",{"$f":"'CV Rotina <2A - procedência'!H76","v":0.18888888888888888},{"$f":"'CV Rotina <2A - procedência'!P76","v":0.73333333333333328},{"$f":"'CV Rotina <2A - procedência'!V76","v":8.3333333333333332E-3},{"$f":"'CV Rotina <2A - procedência'!J76","v":0.85},{"$f":"'CV Rotina <2A - procedência'!L76","v":0.81666666666666665},{"$f":"'CV Rotina <2A - procedência'!N76","v":0.77777777777777779},{"$f":"'CV Rotina <2A - procedência'!Z76","v":0.83611111111111114},{"$f":"'CV Rotina <2A - procedência'!R76","v":0.83333333333333337},{"$f":"'CV Rotina <2A - procedência'!T76","v":0.61111111111111116},{"$f":"'CV Rotina <2A - procedência'!X76","v":0.56388888888888888},{"$f":"'CV Rotina <2A - procedência'!AB76","v":0.3527777777777778},0,0,0,0]
["Norte","Vila Pavão",{"$f":"'CV Rotina <2A - procedência'!H77","v":0.44117647058823528},{"$f":"'CV Rotina <2A - procedência'!P77","v":0.8529411764705882},{"$f":"'CV Rotina <2A - procedência'!V77","v":0},{"$f":"'CV Rotina <2A - procedência'!J77","v":0.97058823529411764},{"$f":"'CV Rotina <2A - procedência'!L77","v":0.94117647058823528},{"$f":"'CV Rotina <2A - procedência'!N77","v":0.8529411764705882},{"$f":"'CV Rotina <2A - procedência'!Z77","v":1.5},{"$f":"'CV Rotina <2A - procedência'!R77","v":0.79411764705882348},{"$f":"'CV Rotina <2A - procedência'!T77","v":1.2352941176470589},{"$f":"'CV Rotina <2A - procedência'!X77","v":0.88235294117647056},{"$f":"'CV Rotina <2A - procedência'!AB77","v":0.8529411764705882},0,3,3,2]
["Central","Vila Valério",{"$f":"'CV Rotina <2A - procedência'!H78","v":0.30379746835443039},{"$f":"'CV Rotina <2A - procedência'!P78","v":0.83544303797468356},{"$f":"'CV Rotina <2A - procedência'!V78","v":0},{"$f":"'CV Rotina <2A - procedência'!J78","v":0.74683544303797467},{"$f":"'CV Rotina <2A - procedência'!L78","v":0.74683544303797467},{"$f":"'CV Rotina <2A - procedência'!N78","v":0.759493670886076},{"$f":"'CV Rotina <2A - procedência'!Z78","v":0.68354430379746833},{"$f":"'CV Rotina <2A - procedência'!R78","v":0.91139240506329111},{"$f":"'CV Rotina <2A - procedência'!T78","v":0.83544303797468356},{"$f":"'CV Rotina <2A - procedência'!X78","v":0.59493670886075944},{"$f":"'CV Rotina <2A - procedência'!AB78","v":0.60759493670886078},0,0,0,0]
["Metropolitana","Vila Velha",{"$f":"'CV Rotina <2A - procedência'!H79","v":0.7476828012358393},{"$f":"'CV Rotina <2A - procedência'!P79","v":0.80432543769309994},{"$f":"'CV Rotina <2A - procedência'!V79","v":1.6992790937178166E-2},{"$f":"'CV Rotina <2A - procedência'!J79","v":0.79248197734294545},{"$f":"'CV Rotina <2A - procedência'!L79","v":0.7888774459320288},{"$f":"'CV Rotina <2A - procedência'!N79","v":0.79145211122554071},{"$f":"'CV Rotina <2A - procedência'!Z79","v":0.82646755921730175},{"$f":"'CV Rotina <2A - procedência'!R79","v":0.79196704428424303},{"$f":"'CV Rotina <2A - procedência'!T79","v":0.67559217301750774},{"$f":"'CV Rotina <2A - procedência'!X79","v":0.42430484037075178},{"$f":"'CV Rotina <2A - procedência'!AB79","v":0.40061791967044286},0,0,0,0]
["Metropolitana","Vitória",{"$f":"'CV Rotina <2A - procedência'!H80","v":1.8932676518883416},{"$f":"'CV Rotina <2A - procedência'!P80","v":0.91625615763546797},{"$f":"'CV Rotina <2A - procedência'!V80","v":3.6124794745484398E-2},{"$f":"'CV Rotina <2A - procedência'!J80","v":1.0541871921182266},{"$f":"'CV Rotina <2A - procedência'!L80","v":1.055008210180624},{"$f":"'CV Rotina <2A - procedência'!N80","v":0.87766830870279144},{"$f":"'CV Rotina <2A - procedência'!Z80","v":0.93021346469622335},{"$f":"'CV Rotina <2A - procedência'!R80","v":0.97619047619047616},{"$f":"'CV Rotina <2A - procedência'!T80","v":0.74958949096880134},{"$f":"'CV Rotina <2A - procedência'!X80","v":0.9622331691297209},{"$f":"'CV Rotina <2A - procedência'!AB80","v":0.49343185550082103},2,4,6,2]
[]
[null,"Total Norte",{"$f":"'CV Rotina <2A - procedência'!H82","v":0.72966014418125646},{"$f":"'CV Rotina <2A - procedência'!P82","v":0.86869207003089599},{"$f":"'CV Rotina <2A - procedência'!V82","v":4.1194644696189494E-3},{"$f":"'CV Rotina <2A - procedência'!J82","v":0.95262615859938204},{"$f":"'CV Rotina <2A - procedência'!L82","v":0.95520082389289396},{"$f":"'CV Rotina <2A - procedência'!N82","v":0.89855818743563332},{"$f":"'CV Rotina <2A - procedência'!Z82","v":0.95314109165808447},{"$f":"'CV Rotina <2A - procedência'!R82","v":0.85530381050463444},{"$f":"'CV Rotina <2A - procedência'!T82","v":0.86920700308959831},{"$f":"'CV Rotina <2A - procedência'!X82","v":0.67971163748712671},{"$f":"'CV Rotina <2A - procedência'!AB82","v":0.59680741503604529},{"$f":"COUNTIF(C81:E81,\">=0,9\")","v":0},{"$f":"COUNTIFS(F81:M81,\">=0,95\")","v":3},{"$f":"SUM(N81:O81)","v":3},{"$f":"COUNTIF(F81:I81,\">=0,95\")","v":3}]
[null,"Total Central",{"$f":"'CV Rotina <2A - procedência'!H83","v":1.0980650835532102},{"$f":"'CV Rotina <2A - procedência'!P83","v":0.89577836411609502},{"$f":"'CV Rotina <2A - procedência'!V83","v":6.156552330694811E-3},{"$f":"'CV Rotina <2A - procedência'!J83","v":0.94898856640281437},{"$f":"'CV Rotina <2A - procedência'!L83","v":0.9415127528583993},{"$f":"'CV Rotina <2A - procedência'!N83","v":0.88742304309586628},{"$f":"'CV Rotina <2A - procedência'!Z83","v":0.92612137203166223},{"$f":"'CV Rotina <2A - procedência'!R83","v":0.88478452066842572},{"$f":"'CV Rotina <2A - procedência'!T83","v":0.83992963940193488},{"$f":"'CV Rotina <2A - procedência'!X83","v":0.59454705364995597},{"$f":"'CV Rotina <2A - procedência'!AB83","v":0.59278803869832897},{"$f":"COUNTIF(C82:E82,\">=0,9\")","v":1},{"$f":"COUNTIFS(F82:M82,\">=0,95\")","v":0},{"$f":"SUM(N82:O82)","v":1},{"$f":"COUNTIF(F82:I82,\">=0,95\")","v":0}]
[null,"Total Metropolitana",{"$f":"'CV Rotina <2A - procedência'!H84","v":0.91277712952158696},{"$f":"'CV Rotina <2A - procedência'!P84","v":0.82691559704395179},{"$f":"'CV Rotina <2A - procedência'!V84","v":1.7600155581485803E-2},{"$f":"'CV Rotina <2A - procedência'!J84","v":0.86493582263710622},{"$f":"'CV Rotina <2A - procedência'!L84","v":0.8592959937767406},{"$f":"'CV Rotina <2A - procedência'!N84","v":0.83537534033450023},{"$f":"'CV Rotina <2A - procedência'!Z84","v":0.87349280435628163},{"$f":"'CV Rotina <2A - procedência'!R84","v":0.84461299105406462},{"$f":"'CV Rotina <2A - procedência'!T84","v":0.72335667055620378},{"$f":"'CV Rotina <2A - procedência'!X84","v":0.57458187475690392},{"$f":"'CV Rotina <2A - procedência'!AB84","v":0.44865810968494751},1,{"$f":"COUNTIFS(F83:M83,\">=0,95\")","v":0},{"$f":"SUM(N83:O83)","v":1},{"$f":"COUNTIF(F83:I83,\">=0,95\")","v":0}]
[null,"Total Sul",{"$f":"'CV Rotina <2A - procedência'!H85","v":0.9890789952675646},{"$f":"'CV Rotina <2A - procedência'!P85","v":0.93811430651619954},{"$f":"'CV Rotina <2A - procedência'!V85","v":1.0921004732435385E-2},{"$f":"'CV Rotina <2A - procedência'!J85","v":0.98798689479432111},{"$f":"'CV Rotina <2A - procedência'!L85","v":0.98289042591918452},{"$f":"'CV Rotina <2A - procedência'!N85","v":0.96359665089188207},{"$f":"'CV Rotina <2A - procedência'!Z85","v":1.0498725882781217},{"$f":"'CV Rotina <2A - procedência'!R85","v":0.95158354568620318},{"$f":"'CV Rotina <2A - procedência'!T85","v":0.80014561339643242},{"$f":"'CV Rotina <2A - procedência'!X85","v":0.74954495813614852},{"$f":"'CV Rotina <2A - procedência'!AB85","v":0.53003276301419733},2,{"$f":"COUNTIFS(F84:M84,\">=0,95\")","v":5},{"$f":"SUM(N84:O84)","v":7},{"$f":"COUNTIF(F84:I84,\">=0,95\")","v":4}]
[null,"Total Espírito Santo",{"$f":"'CV Rotina <2A - procedência'!H86","v":0.92874123035890299},{"$f":"'CV Rotina <2A - procedência'!P86","v":0.85841015828839795},{"$f":"'CV Rotina <2A - procedência'!V86","v":1.350959587174581E-2},{"$f":"'CV Rotina <2A - procedência'!J86","v":0.90549080999594134},{"$f":"'CV Rotina <2A - procedência'!L86","v":0.90062039775033342},{"$f":"'CV Rotina <2A - procedência'!N86","v":0.86977445352814986},{"$f":"'CV Rotina <2A - procedência'!Z86","v":0.91749289731547512},{"$f":"'CV Rotina <2A - procedência'!R86","v":0.86815098277961389},{"$f":"'CV Rotina <2A - procedência'!T86","v":0.76737983417405931},{"$f":"'CV Rotina <2A - procedência'!X86","v":0.61691888444367138},{"$f":"'CV Rotina <2A - procedência'!AB86","v":0.49730387893546701},1,{"$f":"COUNTIFS(F85:M85,\">=0,95\")","v":0},{"$f":"SUM(N85:O85)","v":1},{"$f":"COUNTIF(F85:I85,\">=0,95\")","v":0}]
[]
[]
["Fonte: SIPNI/DATASUS, em 09 de junho de 2023.*"]
[" Vacina e Confia, em 12 de junho de 2023.**"]
["*Dados referentes às doses aplicadas pelas clínicas particulares de janeiro a maio de 2023"]
["**Dados referente às doses aplicadas no período de janeiro a maio de 2023"]
["Cobertura Calculada por município de vacinação"]
["1 População proporcional extraída do MS/SVS/DASIS - Sistema de Informações sobre Nascidos Vivos - SINASC"]
["2000 a 2021 – Estimativas preliminares elaboradas pelo Ministério da Saúde/SVS/DASNT/CGIAE"]
[" Nota: Dados preliminares 2021"]

{"sheet":"cálculos2","index":11,"n_rows":95,"n_cols":17,"rows_kept":95,"cut":false,"hidden":true,"merged":[]}
["Regional ","Município","Cobertura Vacinal BCG","Cobertura Vacinal Rotavírus","Cobertura Vacinal COVID-19","Cobertura Vacinal Pentavalente","Cobertura Vacinal Poliomielite ","Cobertura Vacinal Pneumo 10","Cobertura Vacinal Tríplice Viral","Cobertura Vacinal Meningo C","Cobertura Vacinal Febre Amarela","Cobertura Vacinal Hepatite A","Cobertura Varicela","META 90%","META 95%","ATINGIRAM META","PQA-VS"]
["Metropolitana","Afonso Cláudio",{"$f":"'CV Rotina <2A - residência'!H3","v":0.8571428571428571},{"$f":"'CV Rotina <2A - residência'!P3","v":0.95238095238095233},{"$f":"'CV Rotina <2A - residência'!V3","v":0},{"$f":"'CV Rotina <2A - residência'!J3","v":1.0634920634920635},{"$f":"'CV Rotina <2A - residência'!L3","v":1.0634920634920635},{"$f":"'CV Rotina <2A - residência'!N3","v":0.92063492063492058},{"$f":"'CV Rotina <2A - residência'!Z3","v":1.1984126984126984},{"$f":"'CV Rotina <2A - residência'!R3","v":1.0079365079365079},{"$f":"'CV Rotina <2A - residência'!T3","v":0.91269841269841268},{"$f":"'CV Rotina <2A - residência'!X3","v":0.8571428571428571},{"$f":"'CV Rotina <2A - residência'!AB3","v":0.60317460317460314},{"$f":"COUNTIF(C2:E2,\">=0,9\")","v":1},{"$f":"COUNTIFS(F2:M2,\">=0,95\")","v":4},{"$f":"SUM(N2:O2)","v":5},{"$f":"COUNTIF(F2:I2,\">=0,95\")","v":3}]
["Norte","Água Doce do Norte",{"$f":"'CV Rotina <2A - residência'!H4","v":1.1639344262295082},{"$f":"'CV Rotina <2A - residência'!P4","v":0.80327868852459017},{"$f":"'CV Rotina <2A - residência'!V4","v":0},{"$f":"'CV Rotina <2A - residência'!J4","v":0.90163934426229508},{"$f":"'CV Rotina <2A - residência'!L4","v":0.93442622950819676},{"$f":"'CV Rotina <2A - residência'!N4","v":0.86885245901639341},{"$f":"'CV Rotina <2A - residência'!Z4","v":0.77049180327868849},{"$f":"'CV Rotina <2A - residência'!R4","v":0.93442622950819676},{"$f":"'CV Rotina <2A - residência'!T4","v":0.81967213114754101},{"$f":"'CV Rotina <2A - residência'!X4","v":0.68852459016393441},{"$f":"'CV Rotina <2A - residência'!AB4","v":0.36065573770491804},{"$f":"COUNTIF(C3:E3,\">=0,9\")","v":1},0,{"$f":"SUM(N3:O3)","v":1},{"$f":"COUNTIF(F3:I3,\">=0,95\")","v":0}]
["Central","Águia Branca",{"$f":"'CV Rotina <2A - residência'!H5","v":1.358974358974359},{"$f":"'CV Rotina <2A - residência'!P5","v":1.3333333333333333},{"$f":"'CV Rotina <2A - residência'!V5","v":0},{"$f":"'CV Rotina <2A - residência'!J5","v":1.5641025641025641},{"$f":"'CV Rotina <2A - residência'!L5","v":1.5641025641025641},{"$f":"'CV Rotina <2A - residência'!N5","v":1.358974358974359},{"$f":"'CV Rotina <2A - residência'!Z5","v":0.97435897435897434},{"$f":"'CV Rotina <2A - residência'!R5","v":1.6153846153846154},{"$f":"'CV Rotina <2A - residência'!T5","v":1.2051282051282051},{"$f":"'CV Rotina <2A - residência'!X5","v":0.89743589743589747},{"$f":"'CV Rotina <2A - residência'!AB5","v":0.5641025641025641},2,6,8,4]
["Sul","Alegre",{"$f":"'CV Rotina <2A - residência'!H6","v":1.096774193548387},{"$f":"'CV Rotina <2A - residência'!P6","v":1.1505376344086022},{"$f":"'CV Rotina <2A - residência'!V6","v":1.0752688172043012E-2},{"$f":"'CV Rotina <2A - residência'!J6","v":1.086021505376344},{"$f":"'CV Rotina <2A - residência'!L6","v":1.1505376344086022},{"$f":"'CV Rotina <2A - residência'!N6","v":1.1827956989247312},{"$f":"'CV Rotina <2A - residência'!Z6","v":1.086021505376344},{"$f":"'CV Rotina <2A - residência'!R6","v":1.1290322580645162},{"$f":"'CV Rotina <2A - residência'!T6","v":1.1612903225806452},{"$f":"'CV Rotina <2A - residência'!X6","v":0.86021505376344087},{"$f":"'CV Rotina <2A - residência'!AB6","v":0.4731182795698925},2,6,8,4]
["Sul","Alfredo Chaves",{"$f":"'CV Rotina <2A - residência'!H7","v":0.71739130434782605},{"$f":"'CV Rotina <2A - residência'!P7","v":1.3043478260869565},{"$f":"'CV Rotina <2A - residência'!V7","v":0},{"$f":"'CV Rotina <2A - residência'!J7","v":1.1304347826086956},{"$f":"'CV Rotina <2A - residência'!L7","v":1.0869565217391304},{"$f":"'CV Rotina <2A - residência'!N7","v":1.2391304347826086},{"$f":"'CV Rotina <2A - residência'!Z7","v":1.0652173913043479},{"$f":"'CV Rotina <2A - residência'!R7","v":1.326086956521739},{"$f":"'CV Rotina <2A - residência'!T7","v":1.0434782608695652},{"$f":"'CV Rotina <2A - residência'!X7","v":0.89130434782608692},{"$f":"'CV Rotina <2A - residência'!AB7","v":0.78260869565217395},1,6,7,4]
["Central","Alto Rio Novo",{"$f":"'CV Rotina <2A - residência'!H8","v":1.0476190476190477},{"$f":"'CV Rotina <2A - residência'!P8","v":1.5238095238095237},{"$f":"'CV Rotina <2A - residência'!V8","v":0},{"$f":"'CV Rotina <2A - residência'!J8","v":1.5714285714285714},{"$f":"'CV Rotina <2A - residência'!L8","v":1.5238095238095237},{"$f":"'CV Rotina <2A - residência'!N8","v":1.4761904761904763},{"$f":"'CV Rotina <2A - residência'!Z8","v":1.4761904761904763},{"$f":"'CV Rotina <2A - residência'!R8","v":1.4761904761904763},{"$f":"'CV Rotina <2A - residência'!T8","v":1.2380952380952381},{"$f":"'CV Rotina <2A - residência'!X8","v":1.1904761904761905},{"$f":"'CV Rotina <2A - residência'!AB8","v":0.76190476190476186},2,7,9,4]
["Sul","Anchieta",{"$f":"'CV Rotina <2A - residência'!H9","v":1.1009174311926606},{"$f":"'CV Rotina <2A - residência'!P9","v":1.2477064220183487},{"$f":"'CV Rotina <2A - residência'!V9","v":4.5871559633027525E-2},{"$f":"'CV Rotina <2A - residência'!J9","v":1.2293577981651376},{"$f":"'CV Rotina <2A - residência'!L9","v":1.2477064220183487},{"$f":"'CV Rotina <2A - residência'!N9","v":1.2477064220183487},{"$f":"'CV Rotina <2A - residência'!Z9","v":1.201834862385321},{"$f":"'CV Rotina <2A - residência'!R9","v":1.2568807339449541},{"$f":"'CV Rotina <2A - residência'!T9","v":0.85321100917431192},{"$f":"'CV Rotina <2A - residência'!X9","v":0.96330275229357798},{"$f":"'CV Rotina <2A - residência'!AB9","v":0.7155963302752294},2,6,8,4]
["Sul","Apiacá",{"$f":"'CV Rotina <2A - residência'!H10","v":1},{"$f":"'CV Rotina <2A - residência'!P10","v":1.05},{"$f":"'CV Rotina <2A - residência'!V10","v":0},{"$f":"'CV Rotina <2A - residência'!J10","v":0.85},{"$f":"'CV Rotina <2A - residência'!L10","v":0.85},{"$f":"'CV Rotina <2A - residência'!N10","v":1.1000000000000001},{"$f":"'CV Rotina <2A - residência'!Z10","v":0.75},{"$f":"'CV Rotina <2A - residência'!R10","v":0.85},{"$f":"'CV Rotina <2A - residência'!T10","v":1},{"$f":"'CV Rotina <2A - residência'!X10","v":0.2},{"$f":"'CV Rotina <2A - residência'!AB10","v":0.2},2,2,4,1]
["Metropolitana","Aracruz",{"$f":"'CV Rotina <2A - residência'!H11","v":0.97959183673469385},{"$f":"'CV Rotina <2A - residência'!P11","v":0.90408163265306118},{"$f":"'CV Rotina <2A - residência'!V11","v":2.4489795918367346E-2},{"$f":"'CV Rotina <2A - residência'!J11","v":0.8693877551020408},{"$f":"'CV Rotina <2A - residência'!L11","v":0.87346938775510208},{"$f":"'CV Rotina <2A - residência'!N11","v":0.90612244897959182},{"$f":"'CV Rotina <2A - residência'!Z11","v":1.0551020408163265},{"$f":"'CV Rotina <2A - residência'!R11","v":0.90408163265306118},{"$f":"'CV Rotina <2A - residência'!T11","v":0.81632653061224492},{"$f":"'CV Rotina <2A - residência'!X11","v":0.87755102040816324},{"$f":"'CV Rotina <2A - residência'!AB11","v":0.68163265306122445},2,1,3,1]
["Sul","Atilio Vivacqua",{"$f":"'CV Rotina <2A - residência'!H12","v":0.90476190476190477},{"$f":"'CV Rotina <2A - residência'!P12","v":0.9285714285714286},{"$f":"'CV Rotina <2A - residência'!V12","v":0},{"$f":"'CV Rotina <2A - residência'!J12","v":0.90476190476190477},{"$f":"'CV Rotina <2A - residência'!L12","v":0.88095238095238093},{"$f":"'CV Rotina <2A - residência'!N12","v":0.9285714285714286},{"$f":"'CV Rotina <2A - residência'!Z12","v":1.0238095238095237},{"$f":"'CV Rotina <2A - residência'!R12","v":1},{"$f":"'CV Rotina <2A - residência'!T12","v":0.76190476190476186},{"$f":"'CV Rotina <2A - residência'!X12","v":0.7142857142857143},{"$f":"'CV Rotina <2A - residência'!AB12","v":0.73809523809523814},2,2,4,1]
["Central","Baixo Guandu",{"$f":"'CV Rotina <2A - residência'!H13","v":1.2380952380952381},{"$f":"'CV Rotina <2A - residência'!P13","v":1.2476190476190476},{"$f":"'CV Rotina <2A - residência'!V13","v":0},{"$f":"'CV Rotina <2A - residência'!J13","v":1.3428571428571427},{"$f":"'CV Rotina <2A - residência'!L13","v":1.3523809523809525},{"$f":"'CV Rotina <2A - residência'!N13","v":1.2666666666666666},{"$f":"'CV Rotina <2A - residência'!Z13","v":1.5619047619047619},{"$f":"'CV Rotina <2A - residência'!R13","v":1.3047619047619048},{"$f":"'CV Rotina <2A - residência'!T13","v":1.019047619047619},{"$f":"'CV Rotina <2A - residência'!X13","v":1.1428571428571428},{"$f":"'CV Rotina <2A - residência'!AB13","v":0.91428571428571426},2,7,9,4]
["Norte","Barra de São Francisco",{"$f":"'CV Rotina <2A - residência'!H14","v":0.94578313253012047},{"$f":"'CV Rotina <2A - residência'!P14","v":1},{"$f":"'CV Rotina <2A - residência'!V14","v":0},{"$f":"'CV Rotina <2A - residência'!J14","v":0.98795180722891562},{"$f":"'CV Rotina <2A - residência'!L14","v":0.95783132530120485},{"$f":"'CV Rotina <2A - residência'!N14","v":1.036144578313253},{"$f":"'CV Rotina <2A - residência'!Z14","v":1.1746987951807228},{"$f":"'CV Rotina <2A - residência'!R14","v":1.0602409638554218},{"$f":"'CV Rotina <2A - residência'!T14","v":1.0240963855421688},{"$f":"'CV Rotina <2A - residência'!X14","v":0.86144578313253017},{"$f":"'CV Rotina <2A - residência'!AB14","v":0.84337349397590367},2,6,8,4]
["Norte","Boa Esperança",{"$f":"'CV Rotina <2A - residência'!H15","v":0.79166666666666663},{"$f":"'CV Rotina <2A - residência'!P15","v":0.98611111111111116},{"$f":"'CV Rotina <2A - residência'!V15","v":1.3888888888888888E-2},{"$f":"'CV Rotina <2A - residência'!J15","v":0.70833333333333337},{"$f":"'CV Rotina <2A - residência'!L15","v":0.84722222222222221},{"$f":"'CV Rotina <2A - residência'!N15","v":0.94444444444444442},{"$f":"'CV Rotina <2A - residência'!Z15","v":1.0138888888888888},{"$f":"'CV Rotina <2A - residência'!R15","v":0.88888888888888884},{"$f":"'CV Rotina <2A - residência'!T15","v":0.79166666666666663},{"$f":"'CV Rotina <2A - residência'!X15","v":0.61111111111111116},{"$f":"'CV Rotina <2A - residência'!AB15","v":0.68055555555555558},1,1,2,1]
["Sul","Bom Jesus do Norte",{"$f":"'CV Rotina <2A - residência'!H16","v":1.0869565217391304},{"$f":"'CV Rotina <2A - residência'!P16","v":1.5217391304347827},{"$f":"'CV Rotina <2A - residência'!V16","v":0.17391304347826086},{"$f":"'CV Rotina <2A - residência'!J16","v":2.0434782608695654},{"$f":"'CV Rotina <2A - residência'!L16","v":1.9565217391304348},{"$f":"'CV Rotina <2A - residência'!N16","v":1.5652173913043479},{"$f":"'CV Rotina <2A - residência'!Z16","v":1.5217391304347827},{"$f":"'CV Rotina <2A - residência'!R16","v":1.5217391304347827},{"$f":"'CV Rotina <2A - residência'!T16","v":1.6521739130434783},{"$f":"'CV Rotina <2A - residência'!X16","v":0.21739130434782608},{"$f":"'CV Rotina <2A - residência'!AB16","v":0.21739130434782608},2,6,8,4]
["Metropolitana","Brejetuba",{"$f":"'CV Rotina <2A - residência'!H17","v":1},{"$f":"'CV Rotina <2A - residência'!P17","v":0.88571428571428568},{"$f":"'CV Rotina <2A - residência'!V17","v":0},{"$f":"'CV Rotina <2A - residência'!J17","v":0.95714285714285718},{"$f":"'CV Rotina <2A - residência'!L17","v":0.95714285714285718},{"$f":"'CV Rotina <2A - residência'!N17","v":0.8571428571428571},{"$f":"'CV Rotina <2A - residência'!Z17","v":0.94285714285714284},{"$f":"'CV Rotina <2A - residência'!R17","v":0.81428571428571428},{"$f":"'CV Rotina <2A - residência'!T17","v":0.98571428571428577},{"$f":"'CV Rotina <2A - residência'!X17","v":0.84285714285714286},{"$f":"'CV Rotina <2A - residência'!AB17","v":0.58571428571428574},1,3,4,2]
["Sul","Cachoeiro de Itapemirim",{"$f":"'CV Rotina <2A - residência'!H18","v":1.104287369640788},{"$f":"'CV Rotina <2A - residência'!P18","v":0.79026651216685984},{"$f":"'CV Rotina <2A - residência'!V18","v":5.7937427578215531E-3},{"$f":"'CV Rotina <2A - residência'!J18","v":0.85052143684820392},{"$f":"'CV Rotina <2A - residência'!L18","v":0.83545770567786792},{"$f":"'CV Rotina <2A - residência'!N18","v":0.80185399768250287},{"$f":"'CV Rotina <2A - residência'!Z18","v":0.93858632676709153},{"$f":"'CV Rotina <2A - residência'!R18","v":0.80069524913093859},{"$f":"'CV Rotina <2A - residência'!T18","v":0.67902665121668593},{"$f":"'CV Rotina <2A - residência'!X18","v":0.7114716106604867},{"$f":"'CV Rotina <2A - residência'!AB18","v":0.43105446118192353},1,0,1,0]
["Metropolitana","Cariacica",{"$f":"'CV Rotina <2A - residência'!H19","v":0.86896962477665274},{"$f":"'CV Rotina <2A - residência'!P19","v":0.83918999404407391},{"$f":"'CV Rotina <2A - residência'!V19","v":1.9058963668850508E-2},{"$f":"'CV Rotina <2A - residência'!J19","v":0.89696247766527692},{"$f":"'CV Rotina <2A - residência'!L19","v":0.88207266229898751},{"$f":"'CV Rotina <2A - residência'!N19","v":0.87909469922572958},{"$f":"'CV Rotina <2A - residência'!Z19","v":0.90708755211435377},{"$f":"'CV Rotina <2A - residência'!R19","v":0.85527099463966649},{"$f":"'CV Rotina <2A - residência'!T19","v":0.71411554496724239},{"$f":"'CV Rotina <2A - residência'!X19","v":0.50804050029779635},{"$f":"'CV Rotina <2A - residência'!AB19","v":0.45503275759380585},0,0,0,0]
["Sul","Castelo",{"$f":"'CV Rotina <2A - residência'!H20","v":0.81874999999999998},{"$f":"'CV Rotina <2A - residência'!P20","v":0.82499999999999996},{"$f":"'CV Rotina <2A - residência'!V20","v":0},{"$f":"'CV Rotina <2A - residência'!J20","v":0.875},{"$f":"'CV Rotina <2A - residência'!L20","v":0.88124999999999998},{"$f":"'CV Rotina <2A - residência'!N20","v":0.85624999999999996},{"$f":"'CV Rotina <2A - residência'!Z20","v":0.96875},{"$f":"'CV Rotina <2A - residência'!R20","v":0.8125},{"$f":"'CV Rotina <2A - residência'!T20","v":0.83750000000000002},{"$f":"'CV Rotina <2A - residência'!X20","v":0.4375},{"$f":"'CV Rotina <2A - residência'!AB20","v":0.52500000000000002},0,1,1,1]
["Central","Colatina",{"$f":"'CV Rotina <2A - residência'!H21","v":1.064516129032258},{"$f":"'CV Rotina <2A - residência'!P21","v":0.86491935483870963},{"$f":"'CV Rotina <2A - residência'!V21","v":1.0080645161290322E-2},{"$f":"'CV Rotina <2A - residência'!J21","v":0.97580645161290325},{"$f":"'CV Rotina <2A - residência'!L21","v":0.94959677419354838},{"$f":"'CV Rotina <2A - residência'!N21","v":0.8588709677419355},{"$f":"'CV Rotina <2A - residência'!Z21","v":0.97177419354838712},{"$f":"'CV Rotina <2A - residência'!R21","v":0.91129032258064513},{"$f":"'CV Rotina <2A - residência'!T21","v":0.81854838709677424},{"$f":"'CV Rotina <2A - residência'!X21","v":0.44354838709677419},{"$f":"'CV Rotina <2A - residência'!AB21","v":0.57258064516129037},1,2,3,2]
["Norte","Conceição da Barra",{"$f":"'CV Rotina <2A - residência'!H22","v":0.5},{"$f":"'CV Rotina <2A - residência'!P22","v":0.8529411764705882},{"$f":"'CV Rotina <2A - residência'!V22","v":0},{"$f":"'CV Rotina <2A - residência'!J22","v":0.79411764705882348},{"$f":"'CV Rotina <2A - residência'!L22","v":0.80882352941176472},{"$f":"'CV Rotina <2A - residência'!N22","v":0.90441176470588236},{"$f":"'CV Rotina <2A - residência'!Z22","v":0.97058823529411764},{"$f":"'CV Rotina <2A - residência'!R22","v":0.83088235294117652},{"$f":"'CV Rotina <2A - residência'!T22","v":0.94117647058823528},{"$f":"'CV Rotina <2A - residência'!X22","v":0.58823529411764708},{"$f":"'CV Rotina <2A - residência'!AB22","v":0.57352941176470584},0,1,1,1]
["Metropolitana","Conceição do Castelo",{"$f":"'CV Rotina <2A - residência'!H23","v":0.8},{"$f":"'CV Rotina <2A - residência'!P23","v":0.56666666666666665},{"$f":"'CV Rotina <2A - residência'!V23","v":0},{"$f":"'CV Rotina <2A - residência'!J23","v":0.71666666666666667},{"$f":"'CV Rotina <2A - residência'!L23","v":0.68333333333333335},{"$f":"'CV Rotina <2A - residência'!N23","v":0.58333333333333337},{"$f":"'CV Rotina <2A - residência'!Z23","v":0.7},{"$f":"'CV Rotina <2A - residência'!R23","v":0.6333333333333333},{"$f":"'CV Rotina <2A - residência'!T23","v":0.85},{"$f":"'CV Rotina <2A - residência'!X23","v":0.6166666666666667},{"$f":"'CV Rotina <2A - residência'!AB23","v":0.46666666666666667},0,0,0,0]
["Sul","Divino de São Lourenço",{"$f":"'CV Rotina <2A - residência'!H24","v":1.2380952380952381},{"$f":"'CV Rotina <2A - residência'!P24","v":1.2857142857142858},{"$f":"'CV Rotina <2A - residência'!V24","v":0},{"$f":"'CV Rotina <2A - residência'!J24","v":1.1904761904761905},{"$f":"'CV Rotina <2A - residência'!L24","v":1.1904761904761905},{"$f":"'CV Rotina <2A - residência'!N24","v":1.2857142857142858},{"$f":"'CV Rotina <2A - residência'!Z24","v":0.61904761904761907},{"$f":"'CV Rotina <2A - residência'!R24","v":1.2380952380952381},{"$f":"'CV Rotina <2A - residência'!T24","v":0.90476190476190477},{"$f":"'CV Rotina <2A - residência'!X24","v":0.80952380952380953},{"$f":"'CV Rotina <2A - residência'!AB24","v":0.61904761904761907},2,4,6,3]
["Metropolitana","Domingos Martins",{"$f":"'CV Rotina <2A - residência'!H25","v":0.92481203007518797},{"$f":"'CV Rotina <2A - residência'!P25","v":0.96240601503759393},{"$f":"'CV Rotina <2A - residência'!V25","v":2.2556390977443608E-2},{"$f":"'CV Rotina <2A - residência'!J25","v":0.84210526315789469},{"$f":"'CV Rotina <2A - residência'!L25","v":0.83458646616541354},{"$f":"'CV Rotina <2A - residência'!N25","v":0.99248120300751874},{"$f":"'CV Rotina <2A - residência'!Z25","v":1.0601503759398496},{"$f":"'CV Rotina <2A - residência'!R25","v":0.93984962406015038},{"$f":"'CV Rotina <2A - residência'!T25","v":0.91729323308270672},{"$f":"'CV Rotina <2A - residência'!X25","v":0.63157894736842102},{"$f":"'CV Rotina <2A - residência'!AB25","v":1.0225563909774436},2,3,5,2]
["Sul","Dores do Rio Preto",{"$f":"'CV Rotina <2A - residência'!H26","v":0.55555555555555558},{"$f":"'CV Rotina <2A - residência'!P26","v":0.94444444444444442},{"$f":"'CV Rotina <2A - residência'!V26","v":2.7777777777777776E-2},{"$f":"'CV Rotina <2A - residência'!J26","v":0.88888888888888884},{"$f":"'CV Rotina <2A - residência'!L26","v":0.97222222222222221},{"$f":"'CV Rotina <2A - residência'!N26","v":1},{"$f":"'CV Rotina <2A - residência'!Z26","v":0.94444444444444442},{"$f":"'CV Rotina <2A - residência'!R26","v":1},{"$f":"'CV Rotina <2A - residência'!T26","v":0.83333333333333337},{"$f":"'CV Rotina <2A - residência'!X26","v":0.44444444444444442},{"$f":"'CV Rotina <2A - residência'!AB26","v":0.3611111111111111},1,3,4,2]
["Norte","Ecoporanga",{"$f":"'CV Rotina <2A - residência'!H27","v":1.1797752808988764},{"$f":"'CV Rotina <2A - residência'!P27","v":0.8202247191011236},{"$f":"'CV Rotina <2A - residência'!V27","v":0},{"$f":"'CV Rotina <2A - residência'!J27","v":1.0561797752808988},{"$f":"'CV Rotina <2A - residência'!L27","v":1.0337078651685394},{"$f":"'CV Rotina <2A - residência'!N27","v":0.84269662921348309},{"$f":"'CV Rotina <2A - residência'!Z27","v":0.9438202247191011},{"$f":"'CV Rotina <2A - residência'!R27","v":0.8314606741573034},{"$f":"'CV Rotina <2A - residência'!T27","v":0.88764044943820219},{"$f":"'CV Rotina <2A - residência'!X27","v":0.6966292134831461},{"$f":"'CV Rotina <2A - residência'!AB27","v":0.797752808988764},1,2,3,2]
["Metropolitana","Fundão",{"$f":"'CV Rotina <2A - residência'!H28","v":0.77777777777777779},{"$f":"'CV Rotina <2A - residência'!P28","v":0.86419753086419748},{"$f":"'CV Rotina <2A - residência'!V28","v":1.2345679012345678E-2},{"$f":"'CV Rotina <2A - residência'!J28","v":1.0246913580246915},{"$f":"'CV Rotina <2A - residência'!L28","v":1},{"$f":"'CV Rotina <2A - residência'!N28","v":0.83950617283950613},{"$f":"'CV Rotina <2A - residência'!Z28","v":0.8271604938271605},{"$f":"'CV Rotina <2A - residência'!R28","v":0.88888888888888884},{"$f":"'CV Rotina <2A - residência'!T28","v":0.83950617283950613},{"$f":"'CV Rotina <2A - residência'!X28","v":0.80246913580246915},{"$f":"'CV Rotina <2A - residência'!AB28","v":0.72839506172839508},0,2,2,2]
["Central","Governador Lindenberg",{"$f":"'CV Rotina <2A - residência'!H29","v":0.69230769230769229},{"$f":"'CV Rotina <2A - residência'!P29","v":0.88461538461538458},{"$f":"'CV Rotina <2A - residência'!V29","v":1.9230769230769232E-2},{"$f":"'CV Rotina <2A - residência'!J29","v":0.86538461538461542},{"$f":"'CV Rotina <2A - residência'!L29","v":0.82692307692307687},{"$f":"'CV Rotina <2A - residência'!N29","v":0.86538461538461542},{"$f":"'CV Rotina <2A - residência'!Z29","v":0.61538461538461542},{"$f":"'CV Rotina <2A - residência'!R29","v":0.84615384615384615},{"$f":"'CV Rotina <2A - residência'!T29","v":0.96153846153846156},{"$f":"'CV Rotina <2A - residência'!X29","v":0.63461538461538458},{"$f":"'CV Rotina <2A - residência'!AB29","v":0.59615384615384615},0,1,1,0]
["Sul","Guaçuí",{"$f":"'CV Rotina <2A - residência'!H30","v":0.87022900763358779},{"$f":"'CV Rotina <2A - residência'!P30","v":0.93893129770992367},{"$f":"'CV Rotina <2A - residência'!V30","v":0},{"$f":"'CV Rotina <2A - residência'!J30","v":1.1374045801526718},{"$f":"'CV Rotina <2A - residência'!L30","v":1.1068702290076335},{"$f":"'CV Rotina <2A - residência'!N30","v":1.0152671755725191},{"$f":"'CV Rotina <2A - residência'!Z30","v":1.0992366412213741},{"$f":"'CV Rotina <2A - residência'!R30","v":1.0381679389312977},{"$f":"'CV Rotina <2A - residência'!T30","v":0.87022900763358779},{"$f":"'CV Rotina <2A - residência'!X30","v":0.85496183206106868},{"$f":"'CV Rotina <2A - residência'!AB30","v":0.58778625954198471},1,5,6,4]
["Metropolitana","Guarapari",{"$f":"'CV Rotina <2A - residência'!H31","v":0.93425605536332179},{"$f":"'CV Rotina <2A - residência'!P31","v":0.87197231833910038},{"$f":"'CV Rotina <2A - residência'!V31","v":3.4602076124567475E-3},{"$f":"'CV Rotina <2A - residência'!J31","v":0.87197231833910038},{"$f":"'CV Rotina <2A - residência'!L31","v":0.84256055363321802},{"$f":"'CV Rotina <2A - residência'!N31","v":0.89792387543252594},{"$f":"'CV Rotina <2A - residência'!Z31","v":0.84775086505190311},{"$f":"'CV Rotina <2A - residência'!R31","v":0.87716262975778547},{"$f":"'CV Rotina <2A - residência'!T31","v":0.66089965397923878},{"$f":"'CV Rotina <2A - residência'!X31","v":0.66089965397923878},{"$f":"'CV Rotina <2A - residência'!AB31","v":0.54152249134948094},1,0,1,0]
["Metropolitana","Ibatiba",{"$f":"'CV Rotina <2A - residência'!H32","v":1.1339285714285714},{"$f":"'CV Rotina <2A - residência'!P32","v":0.9821428571428571},{"$f":"'CV Rotina <2A - residência'!V32","v":3.5714285714285712E-2},{"$f":"'CV Rotina <2A - residência'!J32","v":1.1428571428571428},{"$f":"'CV Rotina <2A - residência'!L32","v":1.1339285714285714},{"$f":"'CV Rotina <2A - residência'!N32","v":1.0625},{"$f":"'CV Rotina <2A - residência'!Z32","v":0.9821428571428571},{"$f":"'CV Rotina <2A - residência'!R32","v":1.1964285714285714},{"$f":"'CV Rotina <2A - residência'!T32","v":0.9285714285714286},{"$f":"'CV Rotina <2A - residência'!X32","v":0.7321428571428571},{"$f":"'CV Rotina <2A - residência'!AB32","v":0.29464285714285715},2,5,7,4]
["Metropolitana","Ibiraçu",{"$f":"'CV Rotina <2A - residência'!H33","v":0.74137931034482762},{"$f":"'CV Rotina <2A - residência'!P33","v":0.63793103448275867},{"$f":"'CV Rotina <2A - residência'!V33","v":5.1724137931034482E-2},{"$f":"'CV Rotina <2A - residência'!J33","v":0.74137931034482762},{"$f":"'CV Rotina <2A - residência'!L33","v":0.7068965517241379},{"$f":"'CV Rotina <2A - residência'!N33","v":0.67241379310344829},{"$f":"'CV Rotina <2A - residência'!Z33","v":0.7068965517241379},{"$f":"'CV Rotina <2A - residência'!R33","v":0.75862068965517238},{"$f":"'CV Rotina <2A - residência'!T33","v":0.81034482758620685},{"$f":"'CV Rotina <2A - residência'!X33","v":0.43103448275862066},{"$f":"'CV Rotina <2A - residência'!AB33","v":0.36206896551724138},0,0,0,0]
["Sul","Ibitirama",{"$f":"'CV Rotina <2A - residência'!H34","v":1.1081081081081081},{"$f":"'CV Rotina <2A - residência'!P34","v":1.0810810810810811},{"$f":"'CV Rotina <2A - residência'!V34","v":0},{"$f":"'CV Rotina <2A - residência'!J34","v":1},{"$f":"'CV Rotina <2A - residência'!L34","v":1},{"$f":"'CV Rotina <2A - residência'!N34","v":1.027027027027027},{"$f":"'CV Rotina <2A - residência'!Z34","v":1.1351351351351351},{"$f":"'CV Rotina <2A - residência'!R34","v":0.97297297297297303},{"$f":"'CV Rotina <2A - residência'!T34","v":0.6216216216216216},{"$f":"'CV Rotina <2A - residência'!X34","v":0.78378378378378377},{"$f":"'CV Rotina <2A - residência'!AB34","v":0.7567567567567568},2,5,7,4]
["Sul","Iconha",{"$f":"'CV Rotina <2A - residência'!H35","v":0.77777777777777779},{"$f":"'CV Rotina <2A - residência'!P35","v":1.1666666666666667},{"$f":"'CV Rotina <2A - residência'!V35","v":2.7777777777777776E-2},{"$f":"'CV Rotina <2A - residência'!J35","v":1.0833333333333333},{"$f":"'CV Rotina <2A - residência'!L35","v":1},{"$f":"'CV Rotina <2A - residência'!N35","v":1.1666666666666667},{"$f":"'CV Rotina <2A - residência'!Z35","v":1.6388888888888888},{"$f":"'CV Rotina <2A - residência'!R35","v":0.91666666666666663},{"$f":"'CV Rotina <2A - residência'!T35","v":1.1666666666666667},{"$f":"'CV Rotina <2A - residência'!X35","v":0.77777777777777779},{"$f":"'CV Rotina <2A - residência'!AB35","v":0.47222222222222221},1,5,{"$f":"SUM(N34:O34)","v":6},4]
["Sul","Irupi",{"$f":"'CV Rotina <2A - residência'!H36","v":0.93220338983050843},{"$f":"'CV Rotina <2A - residência'!P36","v":1.2203389830508475},{"$f":"'CV Rotina <2A - residência'!V36","v":8.4745762711864403E-2},{"$f":"'CV Rotina <2A - residência'!J36","v":1.152542372881356},{"$f":"'CV Rotina <2A - residência'!L36","v":1.1355932203389831},{"$f":"'CV Rotina <2A - residência'!N36","v":1.3050847457627119},{"$f":"'CV Rotina <2A - residência'!Z36","v":1.5932203389830508},{"$f":"'CV Rotina <2A - residência'!R36","v":1.3220338983050848},{"$f":"'CV Rotina <2A - residência'!T36","v":0.96610169491525422},{"$f":"'CV Rotina <2A - residência'!X36","v":0.98305084745762716},{"$f":"'CV Rotina <2A - residência'!AB36","v":0.44067796610169491},2,7,9,4]
["Metropolitana","Itaguaçu",{"$f":"'CV Rotina <2A - residência'!H37","v":1.3513513513513513},{"$f":"'CV Rotina <2A - residência'!P37","v":1.0810810810810811},{"$f":"'CV Rotina <2A - residência'!V37","v":0},{"$f":"'CV Rotina <2A - residência'!J37","v":1.1351351351351351},{"$f":"'CV Rotina <2A - residência'!L37","v":1.1081081081081081},{"$f":"'CV Rotina <2A - residência'!N37","v":1.0810810810810811},{"$f":"'CV Rotina <2A - residência'!Z37","v":1.2972972972972974},{"$f":"'CV Rotina <2A - residência'!R37","v":1.2162162162162162},{"$f":"'CV Rotina <2A - residência'!T37","v":1.1351351351351351},{"$f":"'CV Rotina <2A - residência'!X37","v":1.2702702702702702},{"$f":"'CV Rotina <2A - residência'!AB37","v":1.1621621621621621},2,8,10,4]
["Sul","Itapemirim",{"$f":"'CV Rotina <2A - residência'!H38","v":0.92993630573248409},{"$f":"'CV Rotina <2A - residência'!P38","v":1.0191082802547771},{"$f":"'CV Rotina <2A - residência'!V38","v":0},{"$f":"'CV Rotina <2A - residência'!J38","v":0.98089171974522293},{"$f":"'CV Rotina <2A - residência'!L38","v":0.97452229299363058},{"$f":"'CV Rotina <2A - residência'!N38","v":1.1401273885350318},{"$f":"'CV Rotina <2A - residência'!Z38","v":1.1337579617834395},{"$f":"'CV Rotina <2A - residência'!R38","v":0.98726114649681529},{"$f":"'CV Rotina <2A - residência'!T38","v":0.68789808917197448},{"$f":"'CV Rotina <2A - residência'!X38","v":0.98726114649681529},{"$f":"'CV Rotina <2A - residência'!AB38","v":0.63694267515923564},2,6,8,4]
["Metropolitana","Itarana",{"$f":"'CV Rotina <2A - residência'!H39","v":1.0980392156862746},{"$f":"'CV Rotina <2A - residência'!P39","v":0.72549019607843135},{"$f":"'CV Rotina <2A - residência'!V39","v":0},{"$f":"'CV Rotina <2A - residência'!J39","v":0.78431372549019607},{"$f":"'CV Rotina <2A - residência'!L39","v":0.80392156862745101},{"$f":"'CV Rotina <2A - residência'!N39","v":0.72549019607843135},{"$f":"'CV Rotina <2A - residência'!Z39","v":0.78431372549019607},{"$f":"'CV Rotina <2A - residência'!R39","v":0.66666666666666663},{"$f":"'CV Rotina <2A - residência'!T39","v":1.0392156862745099},{"$f":"'CV Rotina <2A - residência'!X39","v":0.37254901960784315},{"$f":"'CV Rotina <2A - residência'!AB39","v":0.70588235294117652},1,1,2,0]
["Sul","Iúna",{"$f":"'CV Rotina <2A - residência'!H40","v":0.68181818181818177},{"$f":"'CV Rotina <2A - residência'!P40","v":1.0389610389610389},{"$f":"'CV Rotina <2A - residência'!V40","v":0},{"$f":"'CV Rotina <2A - residência'!J40","v":1.0324675324675325},{"$f":"'CV Rotina <2A - residência'!L40","v":1.0064935064935066},{"$f":"'CV Rotina <2A - residência'!N40","v":1.051948051948052},{"$f":"'CV Rotina <2A - residência'!Z40","v":1.051948051948052},{"$f":"'CV Rotina <2A - residência'!R40","v":1.0194805194805194},{"$f":"'CV Rotina <2A - residência'!T40","v":0.92207792207792205},{"$f":"'CV Rotina <2A - residência'!X40","v":0.59090909090909094},{"$f":"'CV Rotina <2A - residência'!AB40","v":0.52597402597402598},1,5,6,4]
["Norte","Jaguaré",{"$f":"'CV Rotina <2A - residência'!H41","v":0.9285714285714286},{"$f":"'CV Rotina <2A - residência'!P41","v":0.99350649350649356},{"$f":"'CV Rotina <2A - residência'!V41","v":1.948051948051948E-2},{"$f":"'CV Rotina <2A - residência'!J41","v":1.0194805194805194},{"$f":"'CV Rotina <2A - residência'!L41","v":1.0779220779220779},{"$f":"'CV Rotina <2A - residência'!N41","v":1.0194805194805194},{"$f":"'CV Rotina <2A - residência'!Z41","v":1.0064935064935066},{"$f":"'CV Rotina <2A - residência'!R41","v":0.97402597402597402},{"$f":"'CV Rotina <2A - residência'!T41","v":0.97402597402597402},{"$f":"'CV Rotina <2A - residência'!X41","v":0.68181818181818177},{"$f":"'CV Rotina <2A - residência'!AB41","v":0.61038961038961037},2,6,8,4]
["Sul","Jerônimo Monteiro",{"$f":"'CV Rotina <2A - residência'!H42","v":1.0408163265306123},{"$f":"'CV Rotina <2A - residência'!P42","v":1.1020408163265305},{"$f":"'CV Rotina <2A - residência'!V42","v":4.0816326530612242E-2},{"$f":"'CV Rotina <2A - residência'!J42","v":1.3061224489795917},{"$f":"'CV Rotina <2A - residência'!L42","v":1.3061224489795917},{"$f":"'CV Rotina <2A - residência'!N42","v":1.1020408163265305},{"$f":"'CV Rotina <2A - residência'!Z42","v":0.95918367346938771},{"$f":"'CV Rotina <2A - residência'!R42","v":0.95918367346938771},{"$f":"'CV Rotina <2A - residência'!T42","v":1.0204081632653061},{"$f":"'CV Rotina <2A - residência'!X42","v":0.59183673469387754},{"$f":"'CV Rotina <2A - residência'!AB42","v":0.36734693877551022},2,6,8,4]
["Metropolitana","João Neiva",{"$f":"'CV Rotina <2A - residência'!H43","v":0.76271186440677963},{"$f":"'CV Rotina <2A - residência'!P43","v":0.98305084745762716},{"$f":"'CV Rotina <2A - residência'!V43","v":1.6949152542372881E-2},{"$f":"'CV Rotina <2A - residência'!J43","v":1},{"$f":"'CV Rotina <2A - residência'!L43","v":0.96610169491525422},{"$f":"'CV Rotina <2A - residência'!N43","v":1},{"$f":"'CV Rotina <2A - residência'!Z43","v":1.1355932203389831},{"$f":"'CV Rotina <2A - residência'!R43","v":0.93220338983050843},{"$f":"'CV Rotina <2A - residência'!T43","v":0.96610169491525422},{"$f":"'CV Rotina <2A - residência'!X43","v":0.64406779661016944},{"$f":"'CV Rotina <2A - residência'!AB43","v":0.50847457627118642},1,5,6,4]
["Metropolitana","Laranja da Terra",{"$f":"'CV Rotina <2A - residência'!H44","v":0.7567567567567568},{"$f":"'CV Rotina <2A - residência'!P44","v":0.6216216216216216},{"$f":"'CV Rotina <2A - residência'!V44","v":0.13513513513513514},{"$f":"'CV Rotina <2A - residência'!J44","v":0.78378378378378377},{"$f":"'CV Rotina <2A - residência'!L44","v":0.78378378378378377},{"$f":"'CV Rotina <2A - residência'!N44","v":0.59459459459459463},{"$f":"'CV Rotina <2A - residência'!Z44","v":1.3513513513513513},{"$f":"'CV Rotina <2A - residência'!R44","v":0.72972972972972971},{"$f":"'CV Rotina <2A - residência'!T44","v":1.0810810810810811},{"$f":"'CV Rotina <2A - residência'!X44","v":0.78378378378378377},{"$f":"'CV Rotina <2A - residência'!AB44","v":0.7567567567567568},0,2,2,1]
["Central","Linhares",{"$f":"'CV Rotina <2A - residência'!H45","v":0.85052143684820392},{"$f":"'CV Rotina <2A - residência'!P45","v":0.84936268829663963},{"$f":"'CV Rotina <2A - residência'!V45","v":1.1587485515643105E-3},{"$f":"'CV Rotina <2A - residência'!J45","v":0.8516801853997682},{"$f":"'CV Rotina <2A - residência'!L45","v":0.84820393974507535},{"$f":"'CV Rotina <2A - residência'!N45","v":0.81575898030127458},{"$f":"'CV Rotina <2A - residência'!Z45","v":0.86558516801854002},{"$f":"'CV Rotina <2A - residência'!R45","v":0.79490150637311707},{"$f":"'CV Rotina <2A - residência'!T45","v":0.7624565469293163},{"$f":"'CV Rotina <2A - residência'!X45","v":0.53070683661645424},{"$f":"'CV Rotina <2A - residência'!AB45","v":0.51564310544611824},0,0,0,0]
["Central","Mantenópolis",{"$f":"'CV Rotina <2A - residência'!H46","v":1.0784313725490196},{"$f":"'CV Rotina <2A - residência'!P46","v":0.78431372549019607},{"$f":"'CV Rotina <2A - residência'!V46","v":0},{"$f":"'CV Rotina <2A - residência'!J46","v":0.96078431372549022},{"$f":"'CV Rotina <2A - residência'!L46","v":1.0392156862745099},{"$f":"'CV Rotina <2A - residência'!N46","v":0.82352941176470584},{"$f":"'CV Rotina <2A - residência'!Z46","v":1.0588235294117647},{"$f":"'CV Rotina <2A - residência'!R46","v":0.78431372549019607},{"$f":"'CV Rotina <2A - residência'!T46","v":0.94117647058823528},{"$f":"'CV Rotina <2A - residência'!X46","v":0.80392156862745101},{"$f":"'CV Rotina <2A - residência'!AB46","v":0.66666666666666663},1,3,4,3]
["Sul","Marataízes",{"$f":"'CV Rotina <2A - residência'!H47","v":0.86407766990291257},{"$f":"'CV Rotina <2A - residência'!P47","v":0.83495145631067957},{"$f":"'CV Rotina <2A - residência'!V47","v":0},{"$f":"'CV Rotina <2A - residência'!J47","v":0.83009708737864074},{"$f":"'CV Rotina <2A - residência'!L47","v":0.84951456310679607},{"$f":"'CV Rotina <2A - residência'!N47","v":0.84951456310679607},{"$f":"'CV Rotina <2A - residência'!Z47","v":0.87378640776699024},{"$f":"'CV Rotina <2A - residência'!R47","v":0.8689320388349514},{"$f":"'CV Rotina <2A - residência'!T47","v":0.60194174757281549},{"$f":"'CV Rotina <2A - residência'!X47","v":0.74271844660194175},{"$f":"'CV Rotina <2A - residência'!AB47","v":0.46601941747572817},0,0,0,0]
["Metropolitana","Marechal Floriano",{"$f":"'CV Rotina <2A - residência'!H48","v":0.67045454545454541},{"$f":"'CV Rotina <2A - residência'!P48","v":0.86363636363636365},{"$f":"'CV Rotina <2A - residência'!V48","v":2.2727272727272728E-2},{"$f":"'CV Rotina <2A - residência'!J48","v":0.64772727272727271},{"$f":"'CV Rotina <2A - residência'!L48","v":0.65909090909090906},{"$f":"'CV Rotina <2A - residência'!N48","v":0.875},{"$f":"'CV Rotina <2A - residência'!Z48","v":0.90909090909090906},{"$f":"'CV Rotina <2A - residência'!R48","v":0.81818181818181823},{"$f":"'CV Rotina <2A - residência'!T48","v":0.56818181818181823},{"$f":"'CV Rotina <2A - residência'!X48","v":0.625},{"$f":"'CV Rotina <2A - residência'!AB48","v":0.53409090909090906},0,0,0,0]
["Central","Marilândia",{"$f":"'CV Rotina <2A - residência'!H49","v":1.3243243243243243},{"$f":"'CV Rotina <2A - residência'!P49","v":1.3243243243243243},{"$f":"'CV Rotina <2A - residência'!V49","v":0},{"$f":"'CV Rotina <2A - residência'!J49","v":1.5405405405405406},{"$f":"'CV Rotina <2A - residência'!L49","v":1.5405405405405406},{"$f":"'CV Rotina <2A - residência'!N49","v":1.2972972972972974},{"$f":"'CV Rotina <2A - residência'!Z49","v":1.3783783783783783},{"$f":"'CV Rotina <2A - residência'!R49","v":1.5945945945945945},{"$f":"'CV Rotina <2A - residência'!T49","v":1.2702702702702702},{"$f":"'CV Rotina <2A - residência'!X49","v":1.1351351351351351},{"$f":"'CV Rotina <2A - residência'!AB49","v":1.1621621621621621},2,8,10,4]
["Sul","Mimoso do Sul",{"$f":"'CV Rotina <2A - residência'!H50","v":0.9859154929577465},{"$f":"'CV Rotina <2A - residência'!P50","v":1.0845070422535212},{"$f":"'CV Rotina <2A - residência'!V50","v":0},{"$f":"'CV Rotina <2A - residência'!J50","v":1.1126760563380282},{"$f":"'CV Rotina <2A - residência'!L50","v":1.1126760563380282},{"$f":"'CV Rotina <2A - residência'!N50","v":1.1267605633802817},{"$f":"'CV Rotina <2A - residência'!Z50","v":1},{"$f":"'CV Rotina <2A - residência'!R50","v":1.0985915492957747},{"$f":"'CV Rotina <2A - residência'!T50","v":0.83098591549295775},{"$f":"'CV Rotina <2A - residência'!X50","v":0.76056338028169013},{"$f":"'CV Rotina <2A - residência'!AB50","v":0.61971830985915488},2,5,7,4]
["Norte","Montanha",{"$f":"'CV Rotina <2A - residência'!H51","v":0.59740259740259738},{"$f":"'CV Rotina <2A - residência'!P51","v":1.0649350649350648},{"$f":"'CV Rotina <2A - residência'!V51","v":1.2987012987012988E-2},{"$f":"'CV Rotina <2A - residência'!J51","v":1.2597402597402598},{"$f":"'CV Rotina <2A - residência'!L51","v":1.2857142857142858},{"$f":"'CV Rotina <2A - residência'!N51","v":1.051948051948052},{"$f":"'CV Rotina <2A - residência'!Z51","v":1.0909090909090908},{"$f":"'CV Rotina <2A - residência'!R51","v":1.0649350649350648},{"$f":"'CV Rotina <2A - residência'!T51","v":1.0389610389610389},{"$f":"'CV Rotina <2A - residência'!X51","v":1.025974025974026},{"$f":"'CV Rotina <2A - residência'!AB51","v":0.83116883116883122},1,7,8,4]
["Norte","Mucurici",{"$f":"'CV Rotina <2A - residência'!H52","v":0.63157894736842102},{"$f":"'CV Rotina <2A - residência'!P52","v":1.5789473684210527},{"$f":"'CV Rotina <2A - residência'!V52","v":0},{"$f":"'CV Rotina <2A - residência'!J52","v":1.4736842105263157},{"$f":"'CV Rotina <2A - residência'!L52","v":1.4736842105263157},{"$f":"'CV Rotina <2A - residência'!N52","v":1.5789473684210527},{"$f":"'CV Rotina <2A - residência'!Z52","v":1.631578947368421},{"$f":"'CV Rotina <2A - residência'!R52","v":1.263157894736842},{"$f":"'CV Rotina <2A - residência'!T52","v":1.6842105263157894},{"$f":"'CV Rotina <2A - residência'!X52","v":0.84210526315789469},{"$f":"'CV Rotina <2A - residência'!AB52","v":0.78947368421052633},1,6,7,4]
["Sul","Muniz Freire",{"$f":"'CV Rotina <2A - residência'!H53","v":0.88888888888888884},{"$f":"'CV Rotina <2A - residência'!P53","v":1.0277777777777777},{"$f":"'CV Rotina <2A - residência'!V53","v":0},{"$f":"'CV Rotina <2A - residência'!J53","v":1.1527777777777777},{"$f":"'CV Rotina <2A - residência'!L53","v":1.0833333333333333},{"$f":"'CV Rotina <2A - residência'!N53","v":1.0694444444444444},{"$f":"'CV Rotina <2A - residência'!Z53","v":1.1944444444444444},{"$f":"'CV Rotina <2A - residência'!R53","v":1.0555555555555556},{"$f":"'CV Rotina <2A - residência'!T53","v":1.125},{"$f":"'CV Rotina <2A - residência'!X53","v":0.86111111111111116},{"$f":"'CV Rotina <2A - residência'!AB53","v":0.54166666666666663},1,6,7,4]
["Sul","Muqui",{"$f":"'CV Rotina <2A - residência'!H54","v":1},{"$f":"'CV Rotina <2A - residência'!P54","v":1},{"$f":"'CV Rotina <2A - residência'!V54","v":9.3023255813953487E-2},{"$f":"'CV Rotina <2A - residência'!J54","v":1.4651162790697674},{"$f":"'CV Rotina <2A - residência'!L54","v":1.4883720930232558},{"$f":"'CV Rotina <2A - residência'!N54","v":1.0465116279069768},{"$f":"'CV Rotina <2A - residência'!Z54","v":1.2325581395348837},{"$f":"'CV Rotina <2A - residência'!R54","v":1.2558139534883721},{"$f":"'CV Rotina <2A - residência'!T54","v":1.1162790697674418},{"$f":"'CV Rotina <2A - residência'!X54","v":0.7441860465116279},{"$f":"'CV Rotina <2A - residência'!AB54","v":0.7441860465116279},2,6,8,4]
["Norte","Nova Venécia",{"$f":"'CV Rotina <2A - residência'!H55","v":0.88444444444444448},{"$f":"'CV Rotina <2A - residência'!P55","v":0.84444444444444444},{"$f":"'CV Rotina <2A - residência'!V55","v":0},{"$f":"'CV Rotina <2A - residência'!J55","v":1.08},{"$f":"'CV Rotina <2A - residência'!L55","v":1.0844444444444445},{"$f":"'CV Rotina <2A - residência'!N55","v":0.88},{"$f":"'CV Rotina <2A - residência'!Z55","v":0.96},{"$f":"'CV Rotina <2A - residência'!R55","v":0.94222222222222218},{"$f":"'CV Rotina <2A - residência'!T55","v":0.9555555555555556},{"$f":"'CV Rotina <2A - residência'!X55","v":0.73333333333333328},{"$f":"'CV Rotina <2A - residência'!AB55","v":0.68},0,4,4,3]
["Central","Pancas",{"$f":"'CV Rotina <2A - residência'!H56","v":1.1071428571428572},{"$f":"'CV Rotina <2A - residência'!P56","v":1.375},{"$f":"'CV Rotina <2A - residência'!V56","v":1.7857142857142856E-2},{"$f":"'CV Rotina <2A - residência'!J56","v":1.5178571428571428},{"$f":"'CV Rotina <2A - residência'!L56","v":1.5},{"$f":"'CV Rotina <2A - residência'!N56","v":1.4285714285714286},{"$f":"'CV Rotina <2A - residência'!Z56","v":1.2142857142857142},{"$f":"'CV Rotina <2A - residência'!R56","v":1.4642857142857142},{"$f":"'CV Rotina <2A - residência'!T56","v":1.1607142857142858},{"$f":"'CV Rotina <2A - residência'!X56","v":0.8928571428571429},{"$f":"'CV Rotina <2A - residência'!AB56","v":1.3392857142857142},2,7,9,4]
["Norte","Pedro Canário",{"$f":"'CV Rotina <2A - residência'!H57","v":0.51162790697674421},{"$f":"'CV Rotina <2A - residência'!P57","v":0.65116279069767447},{"$f":"'CV Rotina <2A - residência'!V57","v":0},{"$f":"'CV Rotina <2A - residência'!J57","v":0.83720930232558144},{"$f":"'CV Rotina <2A - residência'!L57","v":0.84496124031007747},{"$f":"'CV Rotina <2A - residência'!N57","v":0.68217054263565891},{"$f":"'CV Rotina <2A - residência'!Z57","v":1.0310077519379846},{"$f":"'CV Rotina <2A - residência'!R57","v":0.68217054263565891},{"$f":"'CV Rotina <2A - residência'!T57","v":0.79844961240310075},{"$f":"'CV Rotina <2A - residência'!X57","v":0.51162790697674421},{"$f":"'CV Rotina <2A - residência'!AB57","v":0.64341085271317833},0,1,1,1]
["Norte","Pinheiros",{"$f":"'CV Rotina <2A - residência'!H58","v":0.43119266055045874},{"$f":"'CV Rotina <2A - residência'!P58","v":0.85321100917431192},{"$f":"'CV Rotina <2A - residência'!V58","v":0},{"$f":"'CV Rotina <2A - residência'!J58","v":1},{"$f":"'CV Rotina <2A - residência'!L58","v":0.99082568807339455},{"$f":"'CV Rotina <2A - residência'!N58","v":0.88990825688073394},{"$f":"'CV Rotina <2A - residência'!Z58","v":0.98165137614678899},{"$f":"'CV Rotina <2A - residência'!R58","v":0.88073394495412849},{"$f":"'CV Rotina <2A - residência'!T58","v":0.92660550458715596},{"$f":"'CV Rotina <2A - residência'!X58","v":0.66055045871559637},{"$f":"'CV Rotina <2A - residência'!AB58","v":0.40366972477064222},0,3,3,3]
["Sul","Piúma",{"$f":"'CV Rotina <2A - residência'!H59","v":1},{"$f":"'CV Rotina <2A - residência'!P59","v":1.0481927710843373},{"$f":"'CV Rotina <2A - residência'!V59","v":2.4096385542168676E-2},{"$f":"'CV Rotina <2A - residência'!J59","v":1.1325301204819278},{"$f":"'CV Rotina <2A - residência'!L59","v":1.1204819277108433},{"$f":"'CV Rotina <2A - residência'!N59","v":1.1566265060240963},{"$f":"'CV Rotina <2A - residência'!Z59","v":1.2891566265060241},{"$f":"'CV Rotina <2A - residência'!R59","v":0.95180722891566261},{"$f":"'CV Rotina <2A - residência'!T59","v":0.77108433734939763},{"$f":"'CV Rotina <2A - residência'!X59","v":0.90361445783132532},{"$f":"'CV Rotina <2A - residência'!AB59","v":0.6506024096385542},2,5,7,4]
["Norte","Ponto Belo",{"$f":"'CV Rotina <2A - residência'!H60","v":0.61904761904761907},{"$f":"'CV Rotina <2A - residência'!P60","v":1.0476190476190477},{"$f":"'CV Rotina <2A - residência'!V60","v":0},{"$f":"'CV Rotina <2A - residência'!J60","v":0.61904761904761907},{"$f":"'CV Rotina <2A - residência'!L60","v":0.61904761904761907},{"$f":"'CV Rotina <2A - residência'!N60","v":1.0952380952380953},{"$f":"'CV Rotina <2A - residência'!Z60","v":1.0476190476190477},{"$f":"'CV Rotina <2A - residência'!R60","v":0.76190476190476186},{"$f":"'CV Rotina <2A - residência'!T60","v":1.2380952380952381},{"$f":"'CV Rotina <2A - residência'!X60","v":0.61904761904761907},{"$f":"'CV Rotina <2A - residência'!AB60","v":0.7142857142857143},1,3,4,2]
["Sul","Presidente Kennedy",{"$f":"'CV Rotina <2A - residência'!H61","v":1.0821917808219179},{"$f":"'CV Rotina <2A - residência'!P61","v":0.61643835616438358},{"$f":"'CV Rotina <2A - residência'!V61","v":0},{"$f":"'CV Rotina <2A - residência'!J61","v":0.84931506849315064},{"$f":"'CV Rotina <2A - residência'!L61","v":0.90410958904109584},{"$f":"'CV Rotina <2A - residência'!N61","v":0.58904109589041098},{"$f":"'CV Rotina <2A - residência'!Z61","v":1.1095890410958904},{"$f":"'CV Rotina <2A - residência'!R61","v":0.72602739726027399},{"$f":"'CV Rotina <2A - residência'!T61","v":0.69863013698630139},{"$f":"'CV Rotina <2A - residência'!X61","v":0.71232876712328763},{"$f":"'CV Rotina <2A - residência'!AB61","v":0.53424657534246578},1,1,2,1]
["Central","Rio Bananal",{"$f":"'CV Rotina <2A - residência'!H62","v":0.87878787878787878},{"$f":"'CV Rotina <2A - residência'!P62","v":0.86868686868686873},{"$f":"'CV Rotina <2A - residência'!V62","v":5.0505050505050504E-2},{"$f":"'CV Rotina <2A - residência'!J62","v":0.90909090909090906},{"$f":"'CV Rotina <2A - residência'!L62","v":0.90909090909090906},{"$f":"'CV Rotina <2A - residência'!N62","v":0.79797979797979801},{"$f":"'CV Rotina <2A - residência'!Z62","v":0.96969696969696972},{"$f":"'CV Rotina <2A - residência'!R62","v":0.80808080808080807},{"$f":"'CV Rotina <2A - residência'!T62","v":1},{"$f":"'CV Rotina <2A - residência'!X62","v":0.70707070707070707},{"$f":"'CV Rotina <2A - residência'!AB62","v":0.68686868686868685},0,2,2,1]
["Sul","Rio Novo do Sul",{"$f":"'CV Rotina <2A - residência'!H63","v":0.82857142857142863},{"$f":"'CV Rotina <2A - residência'!P63","v":1.0857142857142856},{"$f":"'CV Rotina <2A - residência'!V63","v":0},{"$f":"'CV Rotina <2A - residência'!J63","v":1.2},{"$f":"'CV Rotina <2A - residência'!L63","v":1.1714285714285715},{"$f":"'CV Rotina <2A - residência'!N63","v":1.0285714285714285},{"$f":"'CV Rotina <2A - residência'!Z63","v":1.0857142857142856},{"$f":"'CV Rotina <2A - residência'!R63","v":1.1142857142857143},{"$f":"'CV Rotina <2A - residência'!T63","v":1.0571428571428572},{"$f":"'CV Rotina <2A - residência'!X63","v":0.5714285714285714},{"$f":"'CV Rotina <2A - residência'!AB63","v":0.82857142857142863},1,6,7,4]
["Metropolitana","Santa Leopoldina",{"$f":"'CV Rotina <2A - residência'!H64","v":0.34375},{"$f":"'CV Rotina <2A - residência'!P64","v":1.15625},{"$f":"'CV Rotina <2A - residência'!V64","v":0},{"$f":"'CV Rotina <2A - residência'!J64","v":1.15625},{"$f":"'CV Rotina <2A - residência'!L64","v":1.15625},{"$f":"'CV Rotina <2A - residência'!N64","v":1.125},{"$f":"'CV Rotina <2A - residência'!Z64","v":1.53125},{"$f":"'CV Rotina <2A - residência'!R64","v":1.21875},{"$f":"'CV Rotina <2A - residência'!T64","v":1.125},{"$f":"'CV Rotina <2A - residência'!X64","v":0.90625},{"$f":"'CV Rotina <2A - residência'!AB64","v":0.4375},1,6,7,4]
["Metropolitana","Santa Maria de Jetibá",{"$f":"'CV Rotina <2A - residência'!H65","v":0.84615384615384615},{"$f":"'CV Rotina <2A - residência'!P65","v":0.8504273504273504},{"$f":"'CV Rotina <2A - residência'!V65","v":1.282051282051282E-2},{"$f":"'CV Rotina <2A - residência'!J65","v":0.74786324786324787},{"$f":"'CV Rotina <2A - residência'!L65","v":0.75213675213675213},{"$f":"'CV Rotina <2A - residência'!N65","v":0.83760683760683763},{"$f":"'CV Rotina <2A - residência'!Z65","v":0.94871794871794868},{"$f":"'CV Rotina <2A - residência'!R65","v":0.79487179487179482},{"$f":"'CV Rotina <2A - residência'!T65","v":0.71794871794871795},{"$f":"'CV Rotina <2A - residência'!X65","v":0.83760683760683763},{"$f":"'CV Rotina <2A - residência'!AB65","v":0.5213675213675214},0,0,0,0]
["Metropolitana","Santa Teresa",{"$f":"'CV Rotina <2A - residência'!H66","v":1.1264367816091954},{"$f":"'CV Rotina <2A - residência'!P66","v":1.0919540229885059},{"$f":"'CV Rotina <2A - residência'!V66","v":0},{"$f":"'CV Rotina <2A - residência'!J66","v":1.2413793103448276},{"$f":"'CV Rotina <2A - residência'!L66","v":1.2298850574712643},{"$f":"'CV Rotina <2A - residência'!N66","v":1.0804597701149425},{"$f":"'CV Rotina <2A - residência'!Z66","v":1.0459770114942528},{"$f":"'CV Rotina <2A - residência'!R66","v":1.0344827586206897},{"$f":"'CV Rotina <2A - residência'!T66","v":1.0344827586206897},{"$f":"'CV Rotina <2A - residência'!X66","v":0.8045977011494253},{"$f":"'CV Rotina <2A - residência'!AB66","v":0.75862068965517238},2,6,8,4]
["Central","São Domingos do Norte",{"$f":"'CV Rotina <2A - residência'!H67","v":0.88636363636363635},{"$f":"'CV Rotina <2A - residência'!P67","v":0.84090909090909094},{"$f":"'CV Rotina <2A - residência'!V67","v":0},{"$f":"'CV Rotina <2A - residência'!J67","v":0.86363636363636365},{"$f":"'CV Rotina <2A - residência'!L67","v":0.86363636363636365},{"$f":"'CV Rotina <2A - residência'!N67","v":0.88636363636363635},{"$f":"'CV Rotina <2A - residência'!Z67","v":0.52272727272727271},{"$f":"'CV Rotina <2A - residência'!R67","v":0.79545454545454541},{"$f":"'CV Rotina <2A - residência'!T67","v":0.84090909090909094},{"$f":"'CV Rotina <2A - residência'!X67","v":0.40909090909090912},{"$f":"'CV Rotina <2A - residência'!AB67","v":0.47727272727272729},0,{"$f":"COUNTIFS(F66:M66,\">=0,95\")","v":0},0,0]
["Central","São Gabriel da Palha",{"$f":"'CV Rotina <2A - residência'!H68","v":1.0909090909090908},{"$f":"'CV Rotina <2A - residência'!P68","v":1.0454545454545454},{"$f":"'CV Rotina <2A - residência'!V68","v":7.575757575757576E-3},{"$f":"'CV Rotina <2A - residência'!J68","v":0.97727272727272729},{"$f":"'CV Rotina <2A - residência'!L68","v":0.98484848484848486},{"$f":"'CV Rotina <2A - residência'!N68","v":1.0454545454545454},{"$f":"'CV Rotina <2A - residência'!Z68","v":0.95454545454545459},{"$f":"'CV Rotina <2A - residência'!R68","v":0.97727272727272729},{"$f":"'CV Rotina <2A - residência'!T68","v":0.89393939393939392},{"$f":"'CV Rotina <2A - residência'!X68","v":0.49242424242424243},{"$f":"'CV Rotina <2A - residência'!AB68","v":0.56060606060606055},{"$f":"COUNTIF(C67:E67,\">=0,9\")","v":2},5,{"$f":"SUM(N67:O67)","v":7},{"$f":"COUNTIF(F67:I67,\">=0,95\")","v":4}]
["Sul","São José do Calçado",{"$f":"'CV Rotina <2A - residência'!H69","v":1.1025641025641026},{"$f":"'CV Rotina <2A - residência'!P69","v":0.84615384615384615},{"$f":"'CV Rotina <2A - residência'!V69","v":0},{"$f":"'CV Rotina <2A - residência'!J69","v":1.3076923076923077},{"$f":"'CV Rotina <2A - residência'!L69","v":1.2820512820512822},{"$f":"'CV Rotina <2A - residência'!N69","v":0.94871794871794868},{"$f":"'CV Rotina <2A - residência'!Z69","v":1.1282051282051282},{"$f":"'CV Rotina <2A - residência'!R69","v":1.1025641025641026},{"$f":"'CV Rotina <2A - residência'!T69","v":0.82051282051282048},{"$f":"'CV Rotina <2A - residência'!X69","v":0.82051282051282048},{"$f":"'CV Rotina <2A - residência'!AB69","v":0.69230769230769229},1,4,5,3]
["Norte","São Mateus",{"$f":"'CV Rotina <2A - residência'!H70","v":1.0692307692307692},{"$f":"'CV Rotina <2A - residência'!P70","v":0.83846153846153848},{"$f":"'CV Rotina <2A - residência'!V70","v":4.6153846153846158E-3},{"$f":"'CV Rotina <2A - residência'!J70","v":0.9276923076923077},{"$f":"'CV Rotina <2A - residência'!L70","v":0.9061538461538462},{"$f":"'CV Rotina <2A - residência'!N70","v":0.87230769230769234},{"$f":"'CV Rotina <2A - residência'!Z70","v":0.77846153846153843},{"$f":"'CV Rotina <2A - residência'!R70","v":0.77538461538461534},{"$f":"'CV Rotina <2A - residência'!T70","v":0.69538461538461538},{"$f":"'CV Rotina <2A - residência'!X70","v":0.62923076923076926},{"$f":"'CV Rotina <2A - residência'!AB70","v":0.44615384615384618},1,0,1,0]
["Central","São Roque do Canaã",{"$f":"'CV Rotina <2A - residência'!H71","v":1.1200000000000001},{"$f":"'CV Rotina <2A - residência'!P71","v":0.52},{"$f":"'CV Rotina <2A - residência'!V71","v":0.02},{"$f":"'CV Rotina <2A - residência'!J71","v":0.57999999999999996},{"$f":"'CV Rotina <2A - residência'!L71","v":0.56000000000000005},{"$f":"'CV Rotina <2A - residência'!N71","v":0.48},{"$f":"'CV Rotina <2A - residência'!Z71","v":0.86},{"$f":"'CV Rotina <2A - residência'!R71","v":0.54},{"$f":"'CV Rotina <2A - residência'!T71","v":0.74},{"$f":"'CV Rotina <2A - residência'!X71","v":0.48},{"$f":"'CV Rotina <2A - residência'!AB71","v":0.54},1,0,1,0]
["Metropolitana","Serra",{"$f":"'CV Rotina <2A - residência'!H72","v":0.87681159420289856},{"$f":"'CV Rotina <2A - residência'!P72","v":0.76582761250953468},{"$f":"'CV Rotina <2A - residência'!V72","v":9.5347063310450043E-3},{"$f":"'CV Rotina <2A - residência'!J72","v":0.81159420289855078},{"$f":"'CV Rotina <2A - residência'!L72","v":0.81350114416475972},{"$f":"'CV Rotina <2A - residência'!N72","v":0.78146453089244849},{"$f":"'CV Rotina <2A - residência'!Z72","v":0.78718535469107553},{"$f":"'CV Rotina <2A - residência'!R72","v":0.77650648360030516},{"$f":"'CV Rotina <2A - residência'!T72","v":0.67505720823798632},{"$f":"'CV Rotina <2A - residência'!X72","v":0.43401983218916856},{"$f":"'CV Rotina <2A - residência'!AB72","v":0.34172387490465295},0,0,0,0]
["Central","Sooretama",{"$f":"'CV Rotina <2A - residência'!H73","v":0.82666666666666666},{"$f":"'CV Rotina <2A - residência'!P73","v":0.7466666666666667},{"$f":"'CV Rotina <2A - residência'!V73","v":0},{"$f":"'CV Rotina <2A - residência'!J73","v":0.91333333333333333},{"$f":"'CV Rotina <2A - residência'!L73","v":0.92},{"$f":"'CV Rotina <2A - residência'!N73","v":0.76666666666666672},{"$f":"'CV Rotina <2A - residência'!Z73","v":0.81333333333333335},{"$f":"'CV Rotina <2A - residência'!R73","v":0.71333333333333337},{"$f":"'CV Rotina <2A - residência'!T73","v":0.77333333333333332},{"$f":"'CV Rotina <2A - residência'!X73","v":0.74},{"$f":"'CV Rotina <2A - residência'!AB73","v":0.51333333333333331},0,0,0,0]
["Sul","Vargem Alta",{"$f":"'CV Rotina <2A - residência'!H74","v":0.9662921348314607},{"$f":"'CV Rotina <2A - residência'!P74","v":0.88764044943820219},{"$f":"'CV Rotina <2A - residência'!V74","v":1.1235955056179775E-2},{"$f":"'CV Rotina <2A - residência'!J74","v":0.84269662921348309},{"$f":"'CV Rotina <2A - residência'!L74","v":0.84269662921348309},{"$f":"'CV Rotina <2A - residência'!N74","v":0.88764044943820219},{"$f":"'CV Rotina <2A - residência'!Z74","v":1.0449438202247192},{"$f":"'CV Rotina <2A - residência'!R74","v":0.9213483146067416},{"$f":"'CV Rotina <2A - residência'!T74","v":0.8314606741573034},{"$f":"'CV Rotina <2A - residência'!X74","v":0.8314606741573034},{"$f":"'CV Rotina <2A - residência'!AB74","v":0.5842696629213483},1,1,2,1]
["Metropolitana","Venda Nova do Imigrante",{"$f":"'CV Rotina <2A - residência'!H75","v":0.7846153846153846},{"$f":"'CV Rotina <2A - residência'!P75","v":0.90769230769230769},{"$f":"'CV Rotina <2A - residência'!V75","v":2.3076923076923078E-2},{"$f":"'CV Rotina <2A - residência'!J75","v":0.98461538461538467},{"$f":"'CV Rotina <2A - residência'!L75","v":0.98461538461538467},{"$f":"'CV Rotina <2A - residência'!N75","v":0.9},{"$f":"'CV Rotina <2A - residência'!Z75","v":0.9538461538461539},{"$f":"'CV Rotina <2A - residência'!R75","v":0.97692307692307689},{"$f":"'CV Rotina <2A - residência'!T75","v":0.96153846153846156},{"$f":"'CV Rotina <2A - residência'!X75","v":0.63076923076923075},{"$f":"'CV Rotina <2A - residência'!AB75","v":0.51538461538461533},1,5,6,3]
["Metropolitana","Viana",{"$f":"'CV Rotina <2A - residência'!H76","v":0.72777777777777775},{"$f":"'CV Rotina <2A - residência'!P76","v":0.74722222222222223},{"$f":"'CV Rotina <2A - residência'!V76","v":1.1111111111111112E-2},{"$f":"'CV Rotina <2A - residência'!J76","v":0.85277777777777775},{"$f":"'CV Rotina <2A - residência'!L76","v":0.8305555555555556},{"$f":"'CV Rotina <2A - residência'!N76","v":0.7944444444444444},{"$f":"'CV Rotina <2A - residência'!Z76","v":0.8666666666666667},{"$f":"'CV Rotina <2A - residência'!R76","v":0.78888888888888886},{"$f":"'CV Rotina <2A - residência'!T76","v":0.625},{"$f":"'CV Rotina <2A - residência'!X76","v":0.57222222222222219},{"$f":"'CV Rotina <2A - residência'!AB76","v":0.3611111111111111},0,0,0,0]
["Norte","Vila Pavão",{"$f":"'CV Rotina <2A - residência'!H77","v":0.8529411764705882},{"$f":"'CV Rotina <2A - residência'!P77","v":0.8529411764705882},{"$f":"'CV Rotina <2A - residência'!V77","v":0},{"$f":"'CV Rotina <2A - residência'!J77","v":0.91176470588235292},{"$f":"'CV Rotina <2A - residência'!L77","v":0.91176470588235292},{"$f":"'CV Rotina <2A - residência'!N77","v":0.88235294117647056},{"$f":"'CV Rotina <2A - residência'!Z77","v":1.2941176470588236},{"$f":"'CV Rotina <2A - residência'!R77","v":0.76470588235294112},{"$f":"'CV Rotina <2A - residência'!T77","v":1.1470588235294117},{"$f":"'CV Rotina <2A - residência'!X77","v":0.82352941176470584},{"$f":"'CV Rotina <2A - residência'!AB77","v":0.67647058823529416},0,2,2,1]
["Central","Vila Valério",{"$f":"'CV Rotina <2A - residência'!H78","v":0.91139240506329111},{"$f":"'CV Rotina <2A - residência'!P78","v":0.83544303797468356},{"$f":"'CV Rotina <2A - residência'!V78","v":0},{"$f":"'CV Rotina <2A - residência'!J78","v":0.810126582278481},{"$f":"'CV Rotina <2A - residência'!L78","v":0.82278481012658233},{"$f":"'CV Rotina <2A - residência'!N78","v":0.78481012658227844},{"$f":"'CV Rotina <2A - residência'!Z78","v":0.67088607594936711},{"$f":"'CV Rotina <2A - residência'!R78","v":0.89873417721518989},{"$f":"'CV Rotina <2A - residência'!T78","v":0.84810126582278478},{"$f":"'CV Rotina <2A - residência'!X78","v":0.58227848101265822},{"$f":"'CV Rotina <2A - residência'!AB78","v":0.60759493670886078},1,0,1,0]
["Metropolitana","Vila Velha",{"$f":"'CV Rotina <2A - residência'!H79","v":0.82286302780638521},{"$f":"'CV Rotina <2A - residência'!P79","v":0.805870236869207},{"$f":"'CV Rotina <2A - residência'!V79","v":1.6477857878475798E-2},{"$f":"'CV Rotina <2A - residência'!J79","v":0.8130792996910402},{"$f":"'CV Rotina <2A - residência'!L79","v":0.80998970133882597},{"$f":"'CV Rotina <2A - residência'!N79","v":0.79763130792996906},{"$f":"'CV Rotina <2A - residência'!Z79","v":0.82801235839340881},{"$f":"'CV Rotina <2A - residência'!R79","v":0.80638516992790932},{"$f":"'CV Rotina <2A - residência'!T79","v":0.68074150360453145},{"$f":"'CV Rotina <2A - residência'!X79","v":0.43666323377960864},{"$f":"'CV Rotina <2A - residência'!AB79","v":0.40061791967044286},0,0,0,0]
["Metropolitana","Vitória",{"$f":"'CV Rotina <2A - residência'!H80","v":1.2454844006568144},{"$f":"'CV Rotina <2A - residência'!P80","v":0.81609195402298851},{"$f":"'CV Rotina <2A - residência'!V80","v":3.6124794745484398E-2},{"$f":"'CV Rotina <2A - residência'!J80","v":0.88669950738916259},{"$f":"'CV Rotina <2A - residência'!L80","v":0.88834154351395733},{"$f":"'CV Rotina <2A - residência'!N80","v":0.79228243021346467},{"$f":"'CV Rotina <2A - residência'!Z80","v":0.83251231527093594},{"$f":"'CV Rotina <2A - residência'!R80","v":0.86042692939244658},{"$f":"'CV Rotina <2A - residência'!T80","v":0.68801313628899841},{"$f":"'CV Rotina <2A - residência'!X80","v":0.7972085385878489},{"$f":"'CV Rotina <2A - residência'!AB80","v":0.41297208538587848},1,0,1,0]
[]
[null,"Total Norte",{"$f":"'CV Rotina <2A - procedência'!H82","v":0.72966014418125646},{"$f":"'CV Rotina <2A - procedência'!P82","v":0.86869207003089599},{"$f":"'CV Rotina <2A - residência'!V82","v":4.1194644696189494E-3},{"$f":"'CV Rotina <2A - procedência'!J82","v":0.95262615859938204},{"$f":"'CV Rotina <2A - procedência'!L82","v":0.95520082389289396},{"$f":"'CV Rotina <2A - procedência'!N82","v":0.89855818743563332},{"$f":"'CV Rotina <2A - procedência'!Z82","v":0.95314109165808447},{"$f":"'CV Rotina <2A - procedência'!R82","v":0.85530381050463444},{"$f":"'CV Rotina <2A - procedência'!T82","v":0.86920700308959831},{"$f":"'CV Rotina <2A - procedência'!X82","v":0.67971163748712671},{"$f":"'CV Rotina <2A - procedência'!AB82","v":0.59680741503604529},{"$f":"COUNTIF(C81:E81,\">=0,9\")","v":0},{"$f":"COUNTIFS(F81:M81,\">=0,95\")","v":3},{"$f":"SUM(N81:O81)","v":3},{"$f":"COUNTIF(F81:I81,\">=0,95\")","v":3}]
[null,"Total Central",{"$f":"'CV Rotina <2A - procedência'!H83","v":1.0980650835532102},{"$f":"'CV Rotina <2A - procedência'!P83","v":0.89577836411609502},{"$f":"'CV Rotina <2A - residência'!V83","v":6.5963060686015833E-3},{"$f":"'CV Rotina <2A - procedência'!J83","v":0.94898856640281437},{"$f":"'CV Rotina <2A - procedência'!L83","v":0.9415127528583993},{"$f":"'CV Rotina <2A - procedência'!N83","v":0.88742304309586628},{"$f":"'CV Rotina <2A - procedência'!Z83","v":0.92612137203166223},{"$f":"'CV Rotina <2A - procedência'!R83","v":0.88478452066842572},{"$f":"'CV Rotina <2A - procedência'!T83","v":0.83992963940193488},{"$f":"'CV Rotina <2A - procedência'!X83","v":0.59454705364995597},{"$f":"'CV Rotina <2A - procedência'!AB83","v":0.59278803869832897},{"$f":"COUNTIF(C82:E82,\">=0,9\")","v":1},{"$f":"COUNTIFS(F82:M82,\">=0,95\")","v":0},{"$f":"SUM(N82:O82)","v":1},{"$f":"COUNTIF(F82:I82,\">=0,95\")","v":0}]
[null,"Total Metropolitana",{"$f":"'CV Rotina <2A - procedência'!H84","v":0.91277712952158696},{"$f":"'CV Rotina <2A - procedência'!P84","v":0.82691559704395179},{"$f":"'CV Rotina <2A - residência'!V84","v":1.7113963438350838E-2},{"$f":"'CV Rotina <2A - procedência'!J84","v":0.86493582263710622},{"$f":"'CV Rotina <2A - procedência'!L84","v":0.8592959937767406},{"$f":"'CV Rotina <2A - procedência'!N84","v":0.83537534033450023},{"$f":"'CV Rotina <2A - procedência'!Z84","v":0.87349280435628163},{"$f":"'CV Rotina <2A - procedência'!R84","v":0.84461299105406462},{"$f":"'CV Rotina <2A - procedência'!T84","v":0.72335667055620378},{"$f":"'CV Rotina <2A - procedência'!X84","v":0.57458187475690392},{"$f":"'CV Rotina <2A - procedência'!AB84","v":0.44865810968494751},1,{"$f":"COUNTIFS(F83:M83,\">=0,95\")","v":0},{"$f":"SUM(N83:O83)","v":1},{"$f":"COUNTIF(F83:I83,\">=0,95\")","v":0}]
[null,"Total Sul",{"$f":"'CV Rotina <2A - procedência'!H85","v":0.9890789952675646},{"$f":"'CV Rotina <2A - procedência'!P85","v":0.93811430651619954},{"$f":"'CV Rotina <2A - residência'!V85","v":1.1285038223516564E-2},{"$f":"'CV Rotina <2A - procedência'!J85","v":0.98798689479432111},{"$f":"'CV Rotina <2A - procedência'!L85","v":0.98289042591918452},{"$f":"'CV Rotina <2A - procedência'!N85","v":0.96359665089188207},{"$f":"'CV Rotina <2A - procedência'!Z85","v":1.0498725882781217},{"$f":"'CV Rotina <2A - procedência'!R85","v":0.95158354568620318},{"$f":"'CV Rotina <2A - procedência'!T85","v":0.80014561339643242},{"$f":"'CV Rotina <2A - procedência'!X85","v":0.74954495813614852},{"$f":"'CV Rotina <2A - procedência'!AB85","v":0.53003276301419733},2,{"$f":"COUNTIFS(F84:M84,\">=0,95\")","v":5},{"$f":"SUM(N84:O84)","v":7},{"$f":"COUNTIF(F84:I84,\">=0,95\")","v":4}]
[null,"Total Espírito Santo",{"$f":"'CV Rotina <2A - procedência'!H86","v":0.92874123035890299},{"$f":"'CV Rotina <2A - procedência'!P86","v":0.85841015828839795},{"$f":"'CV Rotina <2A - residência'!V86","v":1.3335652577259813E-2},{"$f":"'CV Rotina <2A - procedência'!J86","v":0.90549080999594134},{"$f":"'CV Rotina <2A - procedência'!L86","v":0.90062039775033342},{"$f":"'CV Rotina <2A - procedência'!N86","v":0.86977445352814986},{"$f":"'CV Rotina <2A - procedência'!Z86","v":0.91749289731547512},{"$f":"'CV Rotina <2A - procedência'!R86","v":0.86815098277961389},{"$f":"'CV Rotina <2A - procedência'!T86","v":0.76737983417405931},{"$f":"'CV Rotina <2A - procedência'!X86","v":0.61691888444367138},{"$f":"'CV Rotina <2A - procedência'!AB86","v":0.49730387893546701},1,{"$f":"COUNTIFS(F85:M85,\">=0,95\")","v":0},{"$f":"SUM(N85:O85)","v":1},{"$f":"COUNTIF(F85:I85,\">=0,95\")","v":0}]
[]
[]
["Fonte: SIPNI/DATASUS, em 09 de junho de 2023.*"]
[" Vacina e Confia, em 12 de junho de 2023.**"]
["*Dados referentes às doses aplicadas pelas clínicas particulares de janeiro a maio de 2023"]
["**Dados referente às doses aplicadas no período de janeiro a maio de 2023"]
["Cobertura Calculada por município de vacinação"]
["1 População proporcional extraída do MS/SVS/DASIS - Sistema de Informações sobre Nascidos Vivos - SINASC"]
["2000 a 2021 – Estimativas preliminares elaboradas pelo Ministério da Saúde/SVS/DASNT/CGIAE"]
[" Nota: Dados preliminares 2021"]