{"text_format":"1","workbook":"xlsx","n_sheets":12,"sheets":["CV Rotina <2A - procedência","CV Rotina <2A - residência","CV REF 1A e 4A - procedência","CV REF 1A e 4A - residência","Cobert. COVID-19 Menores 4 anos","Cobert. Meningo C Adolescentes","Cobert. HPV ","dTpa gestantes - procedência","dTpa gestantes - residência","PROTEÇÃO","cálculos1","cálculos2"],"not_rendered":{"charts":0,"images":0,"macros":1,"external_links":0,"defined_names":26,"comments":2,"pivot_tables":0},"unopened":[],"bounds":{"document_bytes":16777216,"sheet_cells":100000,"rows_first":2000,"rows_last":500,"rows_between":2000,"halvings":0,"cell_chars":16384,"cell_head_chars":4096},"cells_cut":0,"cells_raw":0,"read":"whole","date_system":"1900"}

{"sheet":"CV Rotina <2A - procedência","index":0,"n_rows":100,"n_cols":35,"rows_kept":100,"cut":false,"hidden":false,"merged":[[2,33,2,34],[11,33,11,34],[87,16,87,17],[86,16,86,17],[87,24,87,25],[86,24,86,25],[86,20,86,21],[86,22,86,23],[87,20,87,21],[0,20,0,25],[87,22,87,23],[87,18,87,19],[86,18,86,19],[86,14,86,15],[0,8,0,19],[87,14,87,15],[86,8,86,9],[87,8,87,9],[86,10,86,11],[94,0,94,12],[0,4,0,7],[87,10,87,11],[86,12,86,13],[87,12,87,13],[87,1,87,3],[86,6,86,7],[87,6,87,7],[86,4,86,5],[87,4,87,5],[90,0,90,12],[92,0,93,12],[91,0,91,12],[89,0,89,12]]}
[null,null,null,null,"AO NASCER",null,null,null,"MENOR DE 1 ANO",null,null,null,null,null,null,null,null,null,null,null,"1 ANO"]
["Regional ","Município","¹População < 1 ano e 1 ano anual ","²População < 1 ano e 1 ano proporcional ","Doses Aplicadas HB\n< 30 dias","Cobertura Vacinal HB\naté 30 dias","Doses Aplicadas BCG","Cobertura Vacinal BCG","Doses Aplicadas Pentavalente ","Cobertura Vacinal Pentavalente","Doses Aplicadas Poliomielite ","Cobertura Vacinal Poliomielite ","Doses Aplicadas Pneumo 10","Cobertura Vacinal Pneumo 10","Doses Aplicadas Rotavírus","Cobertura Vacinal Rotavírus","Doses Aplicadas Meningo C","Cobertura Vacinal Meningo C","Doses Aplicadas Febre Amarela","Cobertura Vacinal Febre Amarela","Doses Aplicadas Hepatite A","Cobertura Vacinal Hepatite A","Doses Aplicadas de Tríplice Viral","Cobertura Vacinal Tríplice Viral","Doses Aplicadas Varicela","Cobertura Varicela",null,null,"VACINAS QUE ATINGIRAM A META DE CV","HOMOGENEIDADE ENTRE AS 10 VACINAS","VACINAS DO PQA-VS QUE ATINGIRAM A META DE CV","HOMOGENEIDADE ENTRE AS VACINAS DO PQA-VS"]
["Metropolitana","Afonso Cláudio",374,180,143,{"$f":"E3/D3","v":0.7944444444444444},158,{"$f":"G3/D3","v":0.87777777777777777},175,{"$f":"I3/D3","v":0.97222222222222221},173,{"$f":"K3/D3","v":0.96111111111111114},178,{"$f":"M3/D3","v":0.98888888888888893},180,{"$f":"O3/D3","v":1},179,{"$f":"Q3/D3","v":0.99444444444444446},181,{"$f":"S3/D3","v":1.0055555555555555},204,{"$f":"U3/D3","v":1.1333333333333333},201,{"$f":"W3/D3","v":1.1166666666666667},74,{"$f":"Y3/D3","v":0.41111111111111109},null,null,{"$f":"cálculos1!P2","v":8},{"$f":"AC3*0.1","v":0.8},{"$f":"cálculos1!Q2","v":4},{"$f":"AE3*0.25","v":1},null,"LEGENDA / HOMOGENEIDADE PQA-VS"]
["Norte","Água Doce do Norte",181,107,31,0.28971962616822428,47,0.43925233644859812,79,0.73831775700934577,77,0.71962616822429903,86,0.80373831775700932,81,0.7570093457943925,78,0.7289719626168224,66,0.61682242990654201,75,0.7009345794392523,72,0.67289719626168221,28,0.26168224299065418,null,null,{"$f":"cálculos1!P3","v":0},{"$f":"AC4*0.1","v":0},{"$f":"cálculos1!Q3","v":0},{"$f":"AE4*0.25","v":0},null,"PERCENTUAL","Nº DE MUNICÍPIOS"]
["Central","Águia Branca",167,82,34,0.41463414634146339,46,0.56097560975609762,85,1.0365853658536586,84,1.024390243902439,74,0.90243902439024393,74,0.90243902439024393,85,1.0365853658536586,73,0.8902439024390244,55,0.67073170731707321,58,0.70731707317073167,23,0.28048780487804881,null,null,{"$f":"cálculos1!P4","v":4},0.4,{"$f":"cálculos1!Q4","v":2},0.5,null,0,{"$f":"COUNTIF($AF$3:$AF$80,\"=0\")","v":31}]
["Sul","Alegre",335,164,86,0.52439024390243905,108,0.65853658536585369,171,1.0426829268292683,175,1.0670731707317074,155,0.94512195121951215,151,0.92073170731707321,172,1.0487804878048781,156,0.95121951219512191,148,0.90243902439024393,158,0.96341463414634143,55,0.33536585365853661,null,null,{"$f":"cálculos1!P5","v":6},0.60000000000000009,{"$f":"cálculos1!Q5","v":3},0.75,null,0.25,{"$f":"COUNTIF($AF$3:$AF$80,\"=0,25\")","v":12}]
["Sul","Alfredo Chaves",142,66,10,0.15151515151515152,35,0.53030303030303028,80,1.2121212121212122,79,1.196969696969697,80,1.2121212121212122,82,1.2424242424242424,88,1.3333333333333333,70,1.0606060606060606,71,1.0757575757575757,77,1.1666666666666667,49,0.74242424242424243,null,null,{"$f":"cálculos1!P6","v":8},0.8,{"$f":"cálculos1!Q6","v":4},1,null,0.5,{"$f":"COUNTIF($AF$3:$AF$80,\"=0,5\")","v":6}]
["Central","Alto Rio Novo",81,36,6,0.16666666666666666,18,0.5,46,1.2777777777777777,45,1.25,44,1.2222222222222223,45,1.25,51,1.4166666666666667,39,1.0833333333333333,55,1.5277777777777777,44,1.2222222222222223,22,0.61111111111111116,null,null,{"$f":"cálculos1!P7","v":8},0.8,{"$f":"cálculos1!Q7","v":4},1,null,0.75,{"$f":"COUNTIF($AF$3:$AF$80,\"=0,75\")","v":11}]
["Sul","Anchieta",382,194,12,6.1855670103092786E-2,111,0.57216494845360821,194,1,196,1.0103092783505154,195,1.0051546391752577,194,1,197,1.0154639175257731,154,0.79381443298969068,186,0.95876288659793818,200,1.0309278350515463,85,0.43814432989690721,null,null,{"$f":"cálculos1!P8","v":7},0.70000000000000007,{"$f":"cálculos1!Q8","v":4},1,null,1,{"$f":"COUNTIF($AF$3:$AF$80,\"=1,0\")","v":18}]
["Sul","Apiacá",61,45,17,0.37777777777777777,28,0.62222222222222223,25,0.55555555555555558,26,0.57777777777777772,32,0.71111111111111114,31,0.68888888888888888,29,0.64444444444444449,30,0.66666666666666663,22,0.48888888888888887,39,0.8666666666666667,8,0.17777777777777778,null,null,{"$f":"cálculos1!P9","v":0},0,{"$f":"cálculos1!Q9","v":0},0]
["Metropolitana","Aracruz",1456,765,568,0.74248366013071898,694,0.90718954248366013,659,0.86143790849673207,656,0.857516339869281,682,0.89150326797385626,672,0.8784313725490196,658,0.86013071895424842,604,0.78954248366013069,763,0.99738562091503269,779,1.0183006535947712,386,0.50457516339869279,null,null,{"$f":"cálculos1!P10","v":3},0.30000000000000004,{"$f":"cálculos1!Q10","v":1},0.25]
["Sul","Atilio Vivacqua",136,73,0,0,1,1.3698630136986301E-2,66,0.90410958904109584,65,0.8904109589041096,65,0.8904109589041096,64,0.87671232876712324,64,0.87671232876712324,54,0.73972602739726023,74,1.0136986301369864,85,1.1643835616438356,35,0.47945205479452052,null,null,{"$f":"cálculos1!P11","v":2},0.2,{"$f":"cálculos1!Q11","v":1},0.25,null,"LEGENDA / HOMOGENEIDADE 10 VACINAS"]
["Central","Baixo Guandu",325,181,37,0.20441988950276244,101,0.55801104972375692,195,1.0773480662983426,195,1.0773480662983426,205,1.132596685082873,197,1.0883977900552486,201,1.1104972375690607,150,0.82872928176795579,209,1.1546961325966851,220,1.2154696132596685,96,0.53038674033149169,null,null,{"$f":"cálculos1!P12","v":7},0.70000000000000007,{"$f":"cálculos1!Q12","v":4},1,null,"PERCENTUAL","Nº DE MUNICÍPIOS"]
["Norte","Barra de São Francisco",564,303,162,0.53465346534653468,259,0.8547854785478548,255,0.84158415841584155,253,0.83498349834983498,266,0.87788778877887785,261,0.86138613861386137,263,0.86798679867986794,245,0.8085808580858086,226,0.74587458745874591,287,0.94719471947194722,149,0.49174917491749176,null,null,{"$f":"cálculos1!P13","v":0},0,{"$f":"cálculos1!Q13","v":0},0,null,0,{"$f":"COUNTIF($AD$3:$AD$80,\"=0\")","v":23}]
["Norte","Boa Esperança",200,104,6,5.7692307692307696E-2,38,0.36538461538461536,84,0.80769230769230771,91,0.875,91,0.875,95,0.91346153846153844,92,0.88461538461538458,77,0.74038461538461542,80,0.76923076923076927,107,1.0288461538461537,57,0.54807692307692313,null,null,{"$f":"cálculos1!P14","v":2},0.2,{"$f":"cálculos1!Q14","v":1},0.25,null,0.1,{"$f":"COUNTIFS($AD$3:$AD$80,\">=0,10\",$AD$3:$AD$80,\"<0,20\")","v":11}]
["Sul","Bom Jesus do Norte",68,41,22,0.53658536585365857,44,1.0731707317073171,62,1.5121951219512195,60,1.4634146341463414,53,1.2926829268292683,51,1.2439024390243902,56,1.3658536585365855,50,1.2195121951219512,30,0.73170731707317072,76,1.8536585365853659,17,0.41463414634146339,null,null,{"$f":"cálculos1!P15","v":8},0.8,{"$f":"cálculos1!Q15","v":4},1,null,0.2,{"$f":"COUNTIFS($AD$3:$AD$80,\">=0,20\",$AD$3:$AD$80,\"<0,30\")","v":7}]
["Metropolitana","Brejetuba",205,112,17,0.15178571428571427,81,0.7232142857142857,95,0.8482142857142857,95,0.8482142857142857,101,0.9017857142857143,106,0.9464285714285714,95,0.8482142857142857,97,0.8660714285714286,83,0.7410714285714286,98,0.875,43,0.38392857142857145,null,null,{"$f":"cálculos1!P16","v":1},0.1,{"$f":"cálculos1!Q16","v":0},0,null,0.3,{"$f":"COUNTIFS($AD$3:$AD$80,\">=0,30\",$AD$3:$AD$80,\"<0,40\")","v":6}]
["Sul","Cachoeiro de Itapemirim",2481,1354,2218,1.638109305760709,2552,1.8847858197932053,1058,0.78138847858197935,1044,0.77104874446085669,1089,0.80428360413589361,1057,0.78064992614475626,1058,0.78138847858197935,833,0.61521418020679464,995,0.73485967503692762,1172,0.86558345642540624,414,0.30576070901033975,null,null,{"$f":"cálculos1!P17","v":1},0.1,{"$f":"cálculos1!Q17","v":0},0,null,0.4,{"$f":"COUNTIFS($AD$3:$AD$80,\">=0,40\",$AD$3:$AD$80,\"<0,50\")","v":5}]
["Metropolitana","Cariacica",4900,2550,1042,0.40862745098039216,1270,0.49803921568627452,2061,0.80823529411764705,2035,0.79803921568627456,2138,0.83843137254901956,2044,0.80156862745098034,2097,0.82235294117647062,1721,0.67490196078431375,1607,0.6301960784313726,2332,0.91450980392156866,809,0.31725490196078432,null,null,{"$f":"cálculos1!P18","v":0},0,{"$f":"cálculos1!Q18","v":0},0,null,0.5,{"$f":"COUNTIFS($AD$3:$AD$80,\">=0,50\",$AD$3:$AD$80,\"<0,60\")","v":4}]
["Sul","Castelo",451,235,102,0.43404255319148938,130,0.55319148936170215,203,0.86382978723404258,203,0.86382978723404258,201,0.85531914893617023,197,0.83829787234042552,195,0.82978723404255317,185,0.78723404255319152,170,0.72340425531914898,244,1.0382978723404255,99,0.42127659574468085,null,null,{"$f":"cálculos1!P19","v":1},0.1,{"$f":"cálculos1!Q19","v":1},0.25,null,0.6,{"$f":"COUNTIFS($AD$3:$AD$80,\">=0,60\",$AD$3:$AD$80,\"<0,70\")","v":2}]
["Central","Colatina",1544,806,1644,2.0397022332506203,1715,2.1277915632754341,697,0.86476426799007444,688,0.85359801488833742,707,0.87717121588089331,688,0.85359801488833742,675,0.83746898263027292,621,0.77047146401985112,465,0.57692307692307687,736,0.91315136476426795,307,0.38089330024813894,null,null,{"$f":"cálculos1!P20","v":1},0.1,{"$f":"cálculos1!Q20","v":0},0,null,0.7,{"$f":"COUNTIFS($AD$3:$AD$80,\">=0,70\",$AD$3:$AD$80,\"<0,80\")","v":9}]
["Norte","Conceição da Barra",383,197,6,3.0456852791878174E-2,14,7.1065989847715741E-2,170,0.86294416243654826,172,0.87309644670050757,187,0.949238578680203,184,0.93401015228426398,180,0.91370558375634514,164,0.8324873096446701,146,0.74111675126903553,184,0.93401015228426398,88,0.4467005076142132,null,null,{"$f":"cálculos1!P21","v":1},0.1,{"$f":"cálculos1!Q21","v":0},0,null,0.8,{"$f":"COUNTIFS($AD$3:$AD$80,\">=0,80\",$AD$3:$AD$80,\"<0,90\")","v":10}]
["Metropolitana","Conceição do Castelo",162,92,0,0,0,0,66,0.71739130434782605,64,0.69565217391304346,71,0.77173913043478259,69,0.75,61,0.66304347826086951,84,0.91304347826086951,70,0.76086956521739135,72,0.78260869565217395,45,0.4891304347826087,null,null,{"$f":"cálculos1!P22","v":0},0,{"$f":"cálculos1!Q22","v":0},0,null,0.9,{"$f":"COUNTIFS($AD$3:$AD$80,\">=0,90\",$AD$3:$AD$80,\"<1,0\")","v":1}]
["Sul","Divino de São Lourenço",69,39,28,0.71794871794871795,30,0.76923076923076927,38,0.97435897435897434,38,0.97435897435897434,40,1.0256410256410255,40,1.0256410256410255,45,1.1538461538461537,31,0.79487179487179482,25,0.64102564102564108,26,0.66666666666666663,23,0.58974358974358976,null,null,{"$f":"cálculos1!P23","v":5},0.5,{"$f":"cálculos1!Q23","v":3},0.75,null,1,{"$f":"COUNTIF($AD$3:$AD$80,\">=1,0\")","v":0}]
["Metropolitana","Domingos Martins",423,226,11,4.8672566371681415E-2,42,0.18584070796460178,186,0.82300884955752207,186,0.82300884955752207,206,0.91150442477876104,204,0.90265486725663713,200,0.88495575221238942,166,0.73451327433628322,179,0.79203539823008851,220,0.97345132743362828,144,0.63716814159292035,null,null,{"$f":"cálculos1!P24","v":2},0.2,{"$f":"cálculos1!Q24","v":1},0.25]
["Sul","Dores do Rio Preto",73,42,15,0.35714285714285715,34,0.80952380952380953,52,1.2380952380952381,55,1.3095238095238095,57,1.3571428571428572,56,1.3333333333333333,53,1.2619047619047619,48,1.1428571428571428,41,0.97619047619047616,57,1.3571428571428572,18,0.42857142857142855,null,null,{"$f":"cálculos1!P25","v":8},0.8,{"$f":"cálculos1!Q25","v":4},1]
["Norte","Ecoporanga",269,147,59,0.40136054421768708,68,0.46258503401360546,118,0.80272108843537415,117,0.79591836734693877,111,0.75510204081632648,110,0.74829931972789121,104,0.70748299319727892,108,0.73469387755102045,117,0.79591836734693877,131,0.891156462585034,76,0.51700680272108845,null,null,{"$f":"cálculos1!P26","v":0},0,{"$f":"cálculos1!Q26","v":0},0]
["Metropolitana","Fundão",223,121,6,4.9586776859504134E-2,49,0.4049586776859504,118,0.97520661157024791,117,0.96694214876033058,115,0.95041322314049592,116,0.95867768595041325,106,0.87603305785123964,99,0.81818181818181823,108,0.8925619834710744,94,0.77685950413223137,66,0.54545454545454541,null,null,{"$f":"cálculos1!P27","v":4},0.4,{"$f":"cálculos1!Q27","v":3},0.75]
["Central","Governador Lindenberg",139,71,8,0.11267605633802817,15,0.21126760563380281,62,0.87323943661971826,59,0.83098591549295775,61,0.85915492957746475,62,0.87323943661971826,60,0.84507042253521125,73,1.028169014084507,59,0.83098591549295775,77,1.0845070422535212,35,0.49295774647887325,null,null,{"$f":"cálculos1!P28","v":2},0.2,{"$f":"cálculos1!Q28","v":1},0.25]
["Sul","Guaçuí",415,213,69,0.323943661971831,108,0.50704225352112675,197,0.92488262910798125,191,0.89671361502347413,184,0.863849765258216,170,0.7981220657276995,168,0.78873239436619713,151,0.70892018779342725,165,0.77464788732394363,207,0.971830985915493,79,0.37089201877934275,null,null,{"$f":"cálculos1!P29","v":1},0.1,{"$f":"cálculos1!Q29","v":1},0.25]
["Metropolitana","Guarapari",1752,932,487,0.52253218884120167,719,0.77145922746781115,713,0.76502145922746778,691,0.74141630901287559,756,0.81115879828326176,717,0.76931330472102999,725,0.77789699570815452,549,0.58905579399141628,678,0.72746781115879833,774,0.83047210300429186,392,0.42060085836909872,null,null,{"$f":"cálculos1!P30","v":0},0,{"$f":"cálculos1!Q30","v":0},0]
["Metropolitana","Ibatiba",285,170,74,0.43529411764705883,164,0.96470588235294119,181,1.0647058823529412,182,1.0705882352941176,182,1.0705882352941176,173,1.0176470588235293,185,1.088235294117647,174,1.0235294117647058,162,0.95294117647058818,189,1.111764705882353,29,0.17058823529411765,null,null,{"$f":"cálculos1!P31","v":9},0.9,{"$f":"cálculos1!Q31","v":4},1]
["Metropolitana","Ibiraçu",155,86,18,0.20930232558139536,15,0.1744186046511628,59,0.68604651162790697,58,0.67441860465116277,62,0.72093023255813948,61,0.70930232558139539,66,0.76744186046511631,67,0.77906976744186052,51,0.59302325581395354,74,0.86046511627906974,29,0.33720930232558138,null,null,{"$f":"cálculos1!P32","v":0},0,{"$f":"cálculos1!Q32","v":0},0]
["Sul","Ibitirama",130,65,33,0.50769230769230766,39,0.6,63,0.96923076923076923,63,0.96923076923076923,58,0.89230769230769236,60,0.92307692307692313,52,0.8,51,0.7846153846153846,62,0.9538461538461539,78,1.2,37,0.56923076923076921,null,null,{"$f":"cálculos1!P33","v":5},0.5,{"$f":"cálculos1!Q33","v":3},0.75]
["Sul","Iconha",119,61,4,{"$f":"E35/D35","v":6.5573770491803282E-2},19,{"$f":"G35/D35","v":0.31147540983606559},59,{"$f":"I35/D35","v":0.96721311475409832},57,{"$f":"K35/D35","v":0.93442622950819676},57,{"$f":"M35/D35","v":0.93442622950819676},58,{"$f":"O35/D35","v":0.95081967213114749},57,{"$f":"Q35/D35","v":0.93442622950819676},68,{"$f":"S35/D35","v":1.1147540983606556},71,{"$f":"U35/D35","v":1.1639344262295082},78,{"$f":"W35/D35","v":1.278688524590164},18,{"$f":"Y35/D35","v":0.29508196721311475},null,null,{"$f":"cálculos1!P34","v":5},0.5,{"$f":"cálculos1!Q34","v":2},0.5]
["Sul","Irupi",149,81,46,0.5679012345679012,70,0.86419753086419748,105,1.2962962962962963,104,1.2839506172839505,116,1.4320987654320987,113,1.3950617283950617,111,1.3703703703703705,90,1.1111111111111112,99,1.2222222222222223,133,1.6419753086419753,23,0.2839506172839506,null,null,{"$f":"cálculos1!P35","v":8},0.8,{"$f":"cálculos1!Q35","v":4},1]
["Metropolitana","Itaguaçu",137,78,7,8.9743589743589744E-2,53,0.67948717948717952,61,0.78205128205128205,61,0.78205128205128205,62,0.79487179487179482,62,0.79487179487179482,62,0.79487179487179482,76,0.97435897435897434,76,0.97435897435897434,70,0.89743589743589747,46,0.58974358974358976,null,null,{"$f":"cálculos1!P36","v":2},0.2,{"$f":"cálculos1!Q36","v":0},0]
["Sul","Itapemirim",540,243,427,1.7572016460905351,136,0.55967078189300412,231,0.95061728395061729,228,0.93827160493827155,251,1.0329218106995885,230,0.94650205761316875,224,0.92181069958847739,152,0.62551440329218111,210,0.86419753086419748,249,1.0246913580246915,109,0.44855967078189302,null,null,{"$f":"cálculos1!P37","v":4},0.4,{"$f":"cálculos1!Q37","v":3},0.75]
["Metropolitana","Itarana",147,85,5,5.8823529411764705E-2,63,0.74117647058823533,62,0.72941176470588232,62,0.72941176470588232,56,0.6588235294117647,62,0.72941176470588232,54,0.63529411764705879,68,0.8,43,0.50588235294117645,69,0.81176470588235294,38,0.44705882352941179,null,null,{"$f":"cálculos1!P38","v":0},0,{"$f":"cálculos1!Q38","v":0},0]
["Sul","Iúna",406,186,116,0.62365591397849462,158,0.84946236559139787,239,1.2849462365591398,237,1.2741935483870968,216,1.1612903225806452,213,1.1451612903225807,222,1.1935483870967742,210,1.1290322580645162,169,0.90860215053763438,215,1.1559139784946237,95,0.510752688172043,null,null,{"$f":"cálculos1!P39","v":7},0.70000000000000007,{"$f":"cálculos1!Q39","v":4},1]
["Norte","Jaguaré",510,291,163,0.56013745704467355,192,0.65979381443298968,228,0.78350515463917525,233,0.80068728522336774,213,0.73195876288659789,211,0.72508591065292094,215,0.73883161512027495,207,0.71134020618556704,173,0.59450171821305842,235,0.80756013745704469,103,0.35395189003436428,null,null,{"$f":"cálculos1!P40","v":0},0,{"$f":"cálculos1!Q40","v":0},0]
["Sul","Jerônimo Monteiro",161,82,7,8.5365853658536592E-2,9,0.10975609756097561,84,1.024390243902439,85,1.0365853658536586,74,0.90243902439024393,73,0.8902439024390244,71,0.86585365853658536,79,0.96341463414634143,75,0.91463414634146345,74,0.90243902439024393,19,0.23170731707317074,null,null,{"$f":"cálculos1!P41","v":3},0.30000000000000004,{"$f":"cálculos1!Q41","v":2},0.5]
["Metropolitana","João Neiva",172,84,15,0.17857142857142858,26,0.30952380952380953,86,1.0238095238095237,85,1.0119047619047619,80,0.95238095238095233,78,0.9285714285714286,78,0.9285714285714286,89,1.0595238095238095,80,0.95238095238095233,100,1.1904761904761905,32,0.38095238095238093,null,null,{"$f":"cálculos1!P42","v":7},0.70000000000000007,{"$f":"cálculos1!Q42","v":4},1]
["Metropolitana","Laranja da Terra",92,48,0,0,36,0.75,50,1.0416666666666667,50,1.0416666666666667,39,0.8125,38,0.79166666666666663,49,1.0208333333333333,64,1.3333333333333333,62,1.2916666666666667,75,1.5625,55,1.1458333333333333,null,null,{"$f":"cálculos1!P43","v":7},0.70000000000000007,{"$f":"cálculos1!Q43","v":3},0.75]
["Central","Linhares",2598,1358,973,0.71649484536082475,1165,0.85787923416789391,1062,0.78203240058910162,1049,0.77245949926362301,1074,0.79086892488954341,1087,0.80044182621502213,1074,0.79086892488954341,966,0.71134020618556704,904,0.66568483063328421,1098,0.80854197349042711,473,0.3483063328424153,null,null,{"$f":"cálculos1!P44","v":0},0,{"$f":"cálculos1!Q44","v":0},0]
["Central","Mantenópolis",151,83,24,0.28915662650602408,39,0.46987951807228917,72,0.86746987951807231,76,0.91566265060240959,62,0.74698795180722888,59,0.71084337349397586,64,0.77108433734939763,75,0.90361445783132532,66,0.79518072289156627,79,0.95180722891566261,38,0.45783132530120479,null,null,{"$f":"cálculos1!P45","v":1},0.1,{"$f":"cálculos1!Q45","v":1},0.25]
["Sul","Marataízes",553,297,8,2.6936026936026935E-2,127,0.42760942760942761,272,0.91582491582491588,271,0.91245791245791241,288,0.96969696969696972,281,0.94612794612794615,267,0.89898989898989901,203,0.6835016835016835,270,0.90909090909090906,294,0.98989898989898994,116,0.39057239057239057,null,null,{"$f":"cálculos1!P46","v":3},0.30000000000000004,{"$f":"cálculos1!Q46","v":2},0.5]
["Metropolitana","Marechal Floriano",224,113,18,0.15929203539823009,26,0.23008849557522124,97,0.8584070796460177,96,0.84955752212389379,113,1,110,0.97345132743362828,107,0.94690265486725667,78,0.69026548672566368,106,0.93805309734513276,117,1.0353982300884956,75,0.66371681415929207,null,null,{"$f":"cálculos1!P47","v":3},0.30000000000000004,{"$f":"cálculos1!Q47","v":2},0.5]
["Central","Marilândia",171,83,19,0.2289156626506024,35,0.42168674698795183,69,0.83132530120481929,69,0.83132530120481929,61,0.73493975903614461,69,0.83132530120481929,72,0.86746987951807231,74,0.89156626506024095,64,0.77108433734939763,67,0.80722891566265065,45,0.54216867469879515,null,null,{"$f":"cálculos1!P48","v":0},0,{"$f":"cálculos1!Q48","v":0},0]
["Sul","Mimoso do Sul",267,139,16,0.11510791366906475,20,0.14388489208633093,98,0.70503597122302153,97,0.69784172661870503,91,0.65467625899280579,88,0.63309352517985606,93,0.6690647482014388,95,0.68345323741007191,84,0.60431654676258995,110,0.79136690647482011,57,0.41007194244604317,null,null,{"$f":"cálculos1!P49","v":0},0,{"$f":"cálculos1!Q49","v":0},0]
["Norte","Montanha",232,113,29,0.25663716814159293,41,0.36283185840707965,152,1.345132743362832,154,1.3628318584070795,119,1.0530973451327434,125,1.1061946902654867,130,1.1504424778761062,143,1.2654867256637168,129,1.1415929203539823,132,1.168141592920354,72,0.63716814159292035,null,null,{"$f":"cálculos1!P50","v":8},0.8,{"$f":"cálculos1!Q50","v":4},1]
["Norte","Mucurici",66,31,5,0.16129032258064516,6,0.19354838709677419,47,1.5161290322580645,47,1.5161290322580645,41,1.3225806451612903,40,1.2903225806451613,43,1.3870967741935485,46,1.4838709677419355,26,0.83870967741935487,45,1.4516129032258065,17,0.54838709677419351,null,null,{"$f":"cálculos1!P51","v":7},0.70000000000000007,{"$f":"cálculos1!Q51","v":4},1]
["Sul","Muniz Freire",204,103,57,0.55339805825242716,76,0.73786407766990292,113,1.0970873786407767,108,1.0485436893203883,112,1.087378640776699,114,1.1067961165048543,113,1.0970873786407767,116,1.1262135922330097,106,1.029126213592233,133,1.2912621359223302,50,0.4854368932038835,null,null,{"$f":"cálculos1!P52","v":8},0.8,{"$f":"cálculos1!Q52","v":4},1]
["Sul","Muqui",164,78,2,2.564102564102564E-2,9,0.11538461538461539,90,1.1538461538461537,91,1.1666666666666667,68,0.87179487179487181,68,0.87179487179487181,80,1.0256410256410255,83,1.0641025641025641,65,0.83333333333333337,72,0.92307692307692313,37,0.47435897435897434,null,null,{"$f":"cálculos1!P53","v":4},0.4,{"$f":"cálculos1!Q53","v":2},0.5]
["Norte","Nova Venécia",678,374,34,9.0909090909090912E-2,198,0.52941176470588236,312,0.83422459893048129,314,0.83957219251336901,293,0.78342245989304815,292,0.78074866310160429,307,0.82085561497326198,321,0.85828877005347592,291,0.77807486631016043,353,0.94385026737967914,166,0.44385026737967914,null,null,{"$f":"cálculos1!P54","v":0},0,{"$f":"cálculos1!Q54","v":0},0]
["Central","Pancas",217,106,18,0.16981132075471697,53,0.5,107,1.0094339622641511,107,1.0094339622641511,105,0.99056603773584906,101,0.95283018867924529,104,0.98113207547169812,107,1.0094339622641511,100,0.94339622641509435,92,0.86792452830188682,73,0.68867924528301883,null,null,{"$f":"cálculos1!P55","v":6},0.60000000000000009,{"$f":"cálculos1!Q55","v":3},0.75]
["Norte","Pedro Canário",305,163,11,6.7484662576687116E-2,10,6.1349693251533742E-2,165,1.0122699386503067,164,1.0061349693251533,146,0.89570552147239269,142,0.87116564417177911,153,0.93865030674846628,144,0.8834355828220859,124,0.76073619631901845,185,1.1349693251533743,95,0.58282208588957052,null,null,{"$f":"cálculos1!P56","v":3},0.30000000000000004,{"$f":"cálculos1!Q56","v":3},0.75]
["Norte","Pinheiros",325,168,6,3.5714285714285712E-2,9,5.3571428571428568E-2,166,0.98809523809523814,164,0.97619047619047616,162,0.9642857142857143,160,0.95238095238095233,151,0.89880952380952384,144,0.8571428571428571,117,0.6964285714285714,155,0.92261904761904767,50,0.29761904761904762,null,null,{"$f":"cálculos1!P57","v":4},0.4,{"$f":"cálculos1!Q57","v":3},0.75]
["Sul","Piúma",303,151,5,3.3112582781456956E-2,94,0.62251655629139069,135,0.89403973509933776,134,0.88741721854304634,137,0.9072847682119205,126,0.83443708609271527,122,0.80794701986754969,97,0.64238410596026485,110,0.72847682119205293,140,0.92715231788079466,58,0.38410596026490068,null,null,{"$f":"cálculos1!P58","v":0},0,{"$f":"cálculos1!Q58","v":0},0]
["Norte","Ponto Belo",75,35,8,0.22857142857142856,4,0.11428571428571428,34,0.97142857142857142,34,0.97142857142857142,33,0.94285714285714284,34,0.97142857142857142,27,0.77142857142857146,39,1.1142857142857143,23,0.65714285714285714,42,1.2,18,0.51428571428571423,null,null,{"$f":"cálculos1!P59","v":5},0.5,{"$f":"cálculos1!Q59","v":3},0.75]
["Sul","Presidente Kennedy",196,115,3,2.6086956521739129E-2,10,8.6956521739130432E-2,73,0.63478260869565217,74,0.64347826086956517,79,0.68695652173913047,78,0.67826086956521736,74,0.64347826086956517,80,0.69565217391304346,97,0.84347826086956523,122,1.0608695652173914,43,0.37391304347826088,null,null,{"$f":"cálculos1!P60","v":1},0.1,{"$f":"cálculos1!Q60","v":1},0.25]
["Central","Rio Bananal",301,167,35,0.20958083832335328,30,0.17964071856287425,143,0.85628742514970058,142,0.85029940119760483,130,0.77844311377245512,137,0.82035928143712578,123,0.73652694610778446,152,0.91017964071856283,150,0.89820359281437123,165,0.9880239520958084,76,0.45508982035928142,null,null,{"$f":"cálculos1!P61","v":1},0.1,{"$f":"cálculos1!Q61","v":1},0.25]
["Sul","Rio Novo do Sul",118,56,3,5.3571428571428568E-2,22,0.39285714285714285,68,1.2142857142857142,67,1.1964285714285714,56,1,57,1.0178571428571428,60,1.0714285714285714,52,0.9285714285714286,65,1.1607142857142858,56,1,40,0.7142857142857143,null,null,{"$f":"cálculos1!P62","v":7},0.70000000000000007,{"$f":"cálculos1!Q62","v":4},1]
["Metropolitana","Santa Leopoldina",95,38,1,2.6315789473684209E-2,14,0.36842105263157893,60,1.5789473684210527,60,1.5789473684210527,49,1.2894736842105263,52,1.368421052631579,58,1.5263157894736843,52,1.368421052631579,66,1.736842105263158,66,1.736842105263158,13,0.34210526315789475,null,null,{"$f":"cálculos1!P63","v":8},0.8,{"$f":"cálculos1!Q63","v":4},1]
["Metropolitana","Santa Maria de Jetibá",640,319,211,0.66144200626959249,260,0.8150470219435737,287,0.89968652037617558,287,0.89968652037617558,287,0.89968652037617558,293,0.91849529780564265,290,0.90909090909090906,257,0.80564263322884011,326,1.0219435736677116,344,1.0783699059561129,132,0.41379310344827586,null,null,{"$f":"cálculos1!P64","v":3},0.30000000000000004,{"$f":"cálculos1!Q64","v":1},0.25]
["Metropolitana","Santa Teresa",306,158,276,1.7468354430379747,116,0.73417721518987344,131,0.82911392405063289,132,0.83544303797468356,146,0.92405063291139244,140,0.88607594936708856,130,0.82278481012658233,114,0.72151898734177211,109,0.689873417721519,131,0.82911392405063289,84,0.53164556962025311,null,null,{"$f":"cálculos1!P65","v":0},0,{"$f":"cálculos1!Q65","v":0},0]
["Central","São Domingos do Norte",121,65,12,{"$f":"E67/D67","v":0.18461538461538463},23,{"$f":"G67/D67","v":0.35384615384615387},53,{"$f":"I67/D67","v":0.81538461538461537},53,{"$f":"K67/D67","v":0.81538461538461537},54,{"$f":"M67/D67","v":0.83076923076923082},55,{"$f":"O67/D67","v":0.84615384615384615},55,{"$f":"Q67/D67","v":0.84615384615384615},55,{"$f":"S67/D67","v":0.84615384615384615},31,{"$f":"U67/D67","v":0.47692307692307695},51,{"$f":"W67/D67","v":0.7846153846153846},24,{"$f":"Y67/D67","v":0.36923076923076925},null,null,{"$f":"cálculos1!P66","v":0},0,{"$f":"cálculos1!Q66","v":0},0]
["Central","São Gabriel da Palha",457,234,57,0.24358974358974358,128,0.54700854700854706,204,0.87179487179487181,206,0.88034188034188032,203,0.86752136752136755,197,0.84188034188034189,198,0.84615384615384615,173,0.73931623931623935,164,0.70085470085470081,204,0.87179487179487181,88,0.37606837606837606,null,null,{"$f":"cálculos1!P67","v":0},{"$f":"AC68*0.1","v":0},{"$f":"cálculos1!Q67","v":0},{"$f":"AE68*0.25","v":0}]
["Sul","São José do Calçado",80,44,32,0.72727272727272729,38,0.86363636363636365,67,1.5227272727272727,66,1.5,57,1.2954545454545454,49,1.1136363636363635,59,1.3409090909090908,49,1.1136363636363635,51,1.1590909090909092,63,1.4318181818181819,34,0.77272727272727271,null,null,{"$f":"cálculos1!P68","v":8},0.8,{"$f":"cálculos1!Q68","v":4},1]
["Norte","São Mateus",1923,972,1280,1.3168724279835391,1481,1.5236625514403292,861,0.88580246913580252,843,0.86728395061728392,854,0.87860082304526754,796,0.81893004115226342,802,0.82510288065843618,669,0.68827160493827155,715,0.73559670781893005,829,0.85288065843621397,352,0.36213991769547327,null,null,{"$f":"cálculos1!P69","v":1},0.1,{"$f":"cálculos1!Q69","v":0},0]
["Central","São Roque do Canaã",130,84,22,0.26190476190476192,25,0.29761904761904762,49,0.58333333333333337,48,0.5714285714285714,50,0.59523809523809523,55,0.65476190476190477,53,0.63095238095238093,62,0.73809523809523814,57,0.6785714285714286,77,0.91666666666666663,28,0.33333333333333331,null,null,{"$f":"cálculos1!P70","v":0},0,{"$f":"cálculos1!Q70","v":0},0]
["Metropolitana","Serra",7354,3900,3793,0.97256410256410253,4143,1.0623076923076924,3045,0.78076923076923077,3018,0.77384615384615385,3105,0.7961538461538461,3017,0.77358974358974364,2973,0.76230769230769235,2572,0.6594871794871795,1670,0.42820512820512818,3086,0.79128205128205131,884,0.22666666666666666,null,null,{"$f":"cálculos1!P71","v":1},0.1,{"$f":"cálculos1!Q71","v":0},0]
["Central","Sooretama",442,245,14,5.7142857142857141E-2,17,6.9387755102040816E-2,187,0.76326530612244903,189,0.77142857142857146,188,0.76734693877551019,187,0.76326530612244903,174,0.71020408163265303,189,0.77142857142857146,196,0.8,215,0.87755102040816324,72,0.29387755102040819,null,null,{"$f":"cálculos1!P72","v":0},0,{"$f":"cálculos1!Q72","v":0},0]
["Sul","Vargem Alta",264,141,3,2.1276595744680851E-2,13,9.2198581560283682E-2,108,0.76595744680851063,108,0.76595744680851063,111,0.78723404255319152,116,0.82269503546099287,116,0.82269503546099287,102,0.72340425531914898,122,0.86524822695035464,133,0.94326241134751776,55,0.39007092198581561,null,null,{"$f":"cálculos1!P73","v":0},0,{"$f":"cálculos1!Q73","v":0},0]
["Metropolitana","Venda Nova do Imigrante",400,211,18,8.5308056872037921E-2,214,1.014218009478673,194,0.91943127962085303,194,0.91943127962085303,178,0.84360189573459721,173,0.81990521327014221,182,0.86255924170616116,184,0.87203791469194314,142,0.67298578199052128,208,0.98578199052132698,66,0.3127962085308057,null,null,{"$f":"cálculos1!P74","v":2},0.2,{"$f":"cálculos1!Q74","v":1},0.25]
["Metropolitana","Viana",955,495,87,0.17575757575757575,94,0.1898989898989899,407,0.82222222222222219,396,0.8,441,0.89090909090909087,423,0.8545454545454545,448,0.90505050505050511,326,0.65858585858585861,378,0.76363636363636367,466,0.94141414141414137,136,0.27474747474747474,null,null,{"$f":"cálculos1!P75","v":0},0,{"$f":"cálculos1!Q75","v":0},0]
["Norte","Vila Pavão",86,47,11,0.23404255319148937,27,0.57446808510638303,46,0.97872340425531912,45,0.95744680851063835,45,0.95744680851063835,45,0.95744680851063835,43,0.91489361702127658,53,1.1276595744680851,63,1.3404255319148937,69,1.4680851063829787,29,0.61702127659574468,null,null,{"$f":"cálculos1!P76","v":7},0.70000000000000007,{"$f":"cálculos1!Q76","v":4},1]
["Central","Vila Valério",249,125,12,9.6000000000000002E-2,34,0.27200000000000002,106,0.84799999999999998,100,0.8,108,0.86399999999999999,113,0.90400000000000003,120,0.96,107,0.85599999999999998,107,0.85599999999999998,116,0.92800000000000005,53,0.42399999999999999,null,null,{"$f":"cálculos1!P77","v":2},0.2,{"$f":"cálculos1!Q77","v":0},0]
["Metropolitana","Vila Velha",5702,2920,1873,0.64143835616438361,2169,0.74280821917808215,2268,0.77671232876712326,2264,0.77534246575342469,2324,0.79589041095890412,2335,0.79965753424657537,2313,0.79212328767123286,1957,0.67020547945205478,1970,0.67465753424657537,2465,0.84417808219178081,881,0.30171232876712328,null,null,{"$f":"cálculos1!P78","v":0},0,{"$f":"cálculos1!Q78","v":0},0]
["Metropolitana","Vitória",3704,1886,2764,1.4655355249204667,3547,1.8806998939554613,1947,1.0323435843054083,1948,1.0328738069989396,1797,0.95281018027571585,1752,0.92895015906680811,1837,0.97401908801696713,1379,0.7311770943796394,1890,1.002120890774125,1790,0.94909862142099677,835,0.44273594909862141,null,null,{"$f":"cálculos1!P79","v":7},0.70000000000000007,{"$f":"cálculos1!Q79","v":3},0.75]
[]
[null,"Total Norte",{"$f":"SUMIF($A$3:$A$80,\"Norte\",C$3:C$80)","v":5797},{"$f":"SUMIF($A$3:$A$80,\"Norte\",D$3:D$80)","v":3052},{"$f":"SUMIF($A$3:$A$80,\"Norte\",E$3:E$80)","v":1811},{"$f":"E82/D82","v":0.59338138925294892},{"$f":"SUMIF($A$3:$A$80,\"Norte\",G$3:G$80)","v":2394},{"$f":"G82/D82","v":0.7844036697247706},{"$f":"SUMIF($A$3:$A$80,\"Norte\",I$3:I$80)","v":2717},{"$f":"I82/D82","v":0.89023591087811271},{"$f":"SUMIF($A$3:$A$80,\"Norte\",K$3:K$80)","v":2708},{"$f":"K82/D82","v":0.88728702490170375},{"$f":"SUMIF($A$3:$A$80,\"Norte\",M$3:M$80)","v":2647},{"$f":"M82/D82","v":0.86730013106159898},{"$f":"SUMIF($A$3:$A$80,\"Norte\",O$3:O$80)","v":2576},{"$f":"O82/D82","v":0.84403669724770647},{"$f":"SUMIF($A$3:$A$80,\"Norte\",Q$3:Q$80)","v":2588},{"$f":"Q82/D82","v":0.84796854521625165},{"$f":"SUMIF($A$3:$A$80,\"Norte\",S$3:S$80)","v":2426},{"$f":"S82/D82","v":0.79488859764089126},{"$f":"SUMIF($A$3:$A$80,\"Norte\",U$3:U$80)","v":2305},{"$f":"U82/D82","v":0.75524246395806027},{"$f":"SUMIF($A$3:$A$80,\"Norte\",W$3:W$80)","v":2826},{"$f":"W82/D82","v":0.92595019659239841},{"$f":"SUMIF($A$3:$A$80,\"Norte\",Y$3:Y$80)","v":1300},{"$f":"Y82/D82","v":0.42595019659239841},null,null,{"$f":"cálculos1!P81","v":0},{"$f":"AC82*0.1","v":0},{"$f":"cálculos1!Q81","v":0},0]
[null,"Total Central",{"$f":"SUMIF($A$3:$A$80,\"Central\",C$3:C$80)","v":7093},{"$f":"SUMIF($A$3:$A$80,\"Central\",D$3:D$80)","v":3726},{"$f":"SUMIF($A$3:$A$80,\"Central\",E$3:E$80)","v":2915},{"$f":"E83/D83","v":0.7823403113258186},{"$f":"SUMIF($A$3:$A$80,\"Central\",G$3:G$80)","v":3444},{"$f":"G83/D83","v":0.92431561996779388},{"$f":"SUMIF($A$3:$A$80,\"Central\",I$3:I$80)","v":3137},{"$f":"I83/D83","v":0.8419216317767042},{"$f":"SUMIF($A$3:$A$80,\"Central\",K$3:K$80)","v":3110},{"$f":"K83/D83","v":0.83467525496511008},{"$f":"SUMIF($A$3:$A$80,\"Central\",M$3:M$80)","v":3126},{"$f":"M83/D83","v":0.83896940418679544},{"$f":"SUMIF($A$3:$A$80,\"Central\",O$3:O$80)","v":3126},{"$f":"O83/D83","v":0.83896940418679544},{"$f":"SUMIF($A$3:$A$80,\"Central\",Q$3:Q$80)","v":3109},{"$f":"Q83/D83","v":0.83440687063875474},{"$f":"SUMIF($A$3:$A$80,\"Central\",S$3:S$80)","v":2916},{"$f":"S83/D83","v":0.78260869565217395},{"$f":"SUMIF($A$3:$A$80,\"Central\",U$3:U$80)","v":2682},{"$f":"U83/D83","v":0.71980676328502413},{"$f":"SUMIF($A$3:$A$80,\"Central\",W$3:W$80)","v":3299},{"$f":"W83/D83","v":0.8853998926462695},{"$f":"SUMIF($A$3:$A$80,\"Central\",Y$3:Y$80)","v":1453},{"$f":"Y83/D83","v":0.38996242619431026},null,null,{"$f":"cálculos1!P82","v":1},{"$f":"AC83*0.1","v":0.1},{"$f":"cálculos1!Q82","v":0},0]
[null,"Total Metropolitana",{"$f":"SUMIF($A$3:$A$80,\"Metropolitana\",C$3:C$80)","v":29863},{"$f":"SUMIF($A$3:$A$80,\"Metropolitana\",D$3:D$80)","v":15569},{"$f":"SUMIF($A$3:$A$80,\"Metropolitana\",E$3:E$80)","v":11434},{"$f":"E84/D84","v":0.73440811869741152},{"$f":"SUMIF($A$3:$A$80,\"Metropolitana\",G$3:G$80)","v":13953},{"$f":"G84/D84","v":0.89620399511850468},{"$f":"SUMIF($A$3:$A$80,\"Metropolitana\",I$3:I$80)","v":13008},{"$f":"I84/D84","v":0.83550645513520461},{"$f":"SUMIF($A$3:$A$80,\"Metropolitana\",K$3:K$80)","v":12910},{"$f":"K84/D84","v":0.8292118954332327},{"$f":"SUMIF($A$3:$A$80,\"Metropolitana\",M$3:M$80)","v":13168},{"$f":"M84/D84","v":0.84578328730168928},{"$f":"SUMIF($A$3:$A$80,\"Metropolitana\",O$3:O$80)","v":12877},{"$f":"O84/D84","v":0.82709229879889523},{"$f":"SUMIF($A$3:$A$80,\"Metropolitana\",Q$3:Q$80)","v":12953},{"$f":"Q84/D84","v":0.83197379407797545},{"$f":"SUMIF($A$3:$A$80,\"Metropolitana\",S$3:S$80)","v":10958},{"$f":"S84/D84","v":0.70383454300211956},{"$f":"SUMIF($A$3:$A$80,\"Metropolitana\",U$3:U$80)","v":10823},{"$f":"U84/D84","v":0.69516346586164812},{"$f":"SUMIF($A$3:$A$80,\"Metropolitana\",W$3:W$80)","v":13820},{"$f":"W84/D84","v":0.88766137838011427},{"$f":"SUMIF($A$3:$A$80,\"Metropolitana\",Y$3:Y$80)","v":5294},{"$f":"Y84/D84","v":0.34003468430856187},null,null,{"$f":"cálculos1!P83","v":0},0,{"$f":"cálculos1!Q83","v":0},0]
[null,"Total Sul",{"$f":"SUMIF($A$3:$A$80,\"sul\",C$3:C$80)","v":8267},{"$f":"SUMIF($A$3:$A$80,\"sul\",D$3:D$80)","v":4308},{"$f":"SUMIF($A$3:$A$80,\"Sul\",E$3:E$80)","v":3341},{"$f":"E85/D85","v":0.77553389043639742},{"$f":"SUMIF($A$3:$A$80,\"Sul\",G$3:G$80)","v":4021},{"$f":"G85/D85","v":0.93337975858867228},{"$f":"SUMIF($A$3:$A$80,\"Sul\",I$3:I$80)","v":3951},{"$f":"I85/D85","v":0.91713091922005574},{"$f":"SUMIF($A$3:$A$80,\"Sul\",K$3:K$80)","v":3922},{"$f":"K85/D85","v":0.91039925719591452},{"$f":"SUMIF($A$3:$A$80,\"Sul\",M$3:M$80)","v":3922},{"$f":"M85/D85","v":0.91039925719591452},{"$f":"SUMIF($A$3:$A$80,\"Sul\",O$3:O$80)","v":3817},{"$f":"O85/D85","v":0.88602599814298977},{"$f":"SUMIF($A$3:$A$80,\"Sul\",Q$3:Q$80)","v":3846},{"$f":"Q85/D85","v":0.89275766016713087},{"$f":"SUMIF($A$3:$A$80,\"Sul\",S$3:S$80)","v":3289},{"$f":"S85/D85","v":0.76346332404828221},{"$f":"SUMIF($A$3:$A$80,\"Sul\",U$3:U$80)","v":3583},{"$f":"U85/D85","v":0.83170844939647171},{"$f":"SUMIF($A$3:$A$80,\"Sul\",W$3:W$80)","v":4291},{"$f":"W85/D85","v":0.99605385329619311},{"$f":"SUMIF($A$3:$A$80,\"Sul\",Y$3:Y$80)","v":1673},{"$f":"Y85/D85","v":0.38834726090993499},null,null,{"$f":"cálculos1!P84","v":2},0.2,{"$f":"cálculos1!Q84","v":1},0.25]
[null,"Total Espírito Santo",{"$f":"SUM(C3:C80)","v":51020},{"$f":"SUM(D3:D80)","v":26655},{"$f":"SUM(E82:E85)","v":19501},{"$f":"E86/D86","v":0.73160757831551304},{"$f":"SUM(G82:G85)","v":23812},{"$f":"G86/D86","v":0.89334083661601948},{"$f":"SUM(I82:I85)","v":22813},{"$f":"I86/D86","v":0.85586193959857437},{"$f":"SUM(K82:K85)","v":22650},{"$f":"K86/D86","v":0.84974676420934159},{"$f":"SUM(M82:M85)","v":22863},{"$f":"M86/D86","v":0.85773776027011817},{"$f":"SUM(O82:O85)","v":22396},{"$f":"O86/D86","v":0.84021759519789907},{"$f":"SUM(Q82:Q85)","v":22496},{"$f":"Q86/D86","v":0.84396923654098666},{"$f":"SUM(S82:S85)","v":19589},{"$f":"S86/D86","v":0.73490902269743008},{"$f":"SUM(U82:U85)","v":19393},{"$f":"U86/D86","v":0.72755580566497846},{"$f":"SUM(W82:W85)","v":24236},{"$f":"W86/D86","v":0.90924779591071092},{"$f":"SUM(Y82:Y85)","v":9720},{"$f":"Y86/D86","v":0.36465953854811478},null,null,{"$f":"cálculos1!P85","v":0},0,{"$f":"cálculos1!Q85","v":0},0]
[null,null,null,null,{"$f":"COUNTIF(F3:F80,\">=0,95\")","v":7},null,{"$f":"COUNTIF(H3:H80,\">=0,9\")","v":9},null,{"$f":"COUNTIF(J3:J80,\">=0,95\")","v":33},null,{"$f":"COUNTIF(L3:L80,\">=0,95\")","v":31},null,{"$f":"COUNTIF(N3:N80,\">=0,95\")","v":26},null,{"$f":"COUNTIF(P3:P80,\">=0,9\")","v":37},null,{"$f":"COUNTIF(R3:R80,\">=0,95\")","v":24},null,{"$f":"COUNTIF(T3:T80,\">=0,95\")","v":24},null,{"$f":"COUNTIF(V3:V80,\">=0,95\")","v":23},null,{"$f":"COUNTIF(X3:X80,\">=0,95\")","v":39},null,{"$f":"COUNTIF(Z3:Z80,\">=0,95\")","v":1}]
[null,"HOMOGENEIDADE ENTRE MUNICÍPIOS",null,null,{"$f":"E87/78","v":8.9743589743589744E-2},null,{"$f":"G87/78","v":0.11538461538461539},null,{"$f":"I87/78","v":0.42307692307692307},null,{"$f":"K87/78","v":0.39743589743589741},null,{"$f":"M87/78","v":0.33333333333333331},null,{"$f":"O87/78","v":0.47435897435897434},null,{"$f":"Q87/78","v":0.30769230769230771},null,{"$f":"S87/78","v":0.30769230769230771},null,{"$f":"U87/78","v":0.29487179487179488},null,{"$f":"W87/78","v":0.5},null,{"$f":"Y87/78","v":1.282051282051282E-2}]
[]
[" FonteVacina e Confia, em 03 de Julho de 2024.**"]
["**Dados referente às doses aplicadas no período de Janeiro a Junho de 2024"]
["Cobertura Calculada por município de procedência da vacinação"]
["1 População anual extraída do MS/SVS/DASIS - SINASC/DASIS/SVS/MS 2023 (hoje preliminares) referente ao período de março a dezembro de 2023 e SINASC/DASIS/SVS/MS 2024 referente ao período de janeiro a fevereiro de 2024."]
[]
["² População proporcional extraída do MS/SVS/DASIS - SINASC/DASIS/SVS/MS 2023 (hoje preliminares) referente ao período de março  e abril de 2023 somada a população extraída do SINASC/DASIS/SVS/MS 2024 referente ao período de janeiro e fevereiro de 2024."]
["Sinasc, em 10 de Julho de 2024."]
["Observações:"]
["Imunobiológicos que foram recebidos parcialmente pelo estado no mês da análise, sendo distribuídos em quantidades reduzidas às regionais e municípios: Varicela, Febre Amarela e HPV Quadrivalente."]
["Imunobiológicos que não foram recebidos pelo estado no mês da análise, não sendo possível a distribuição às regionais e municípios: Meningo C, Hepatite A (CRIE), HIB, Hepatite A Rotina Pediátrica, DTPa (CRIE)."]
["Imunobiológicos com indisponibilidade de aquisição e distribuição no mês da análise: Tetra Viral."]

{"sheet":"CV Rotina <2A - residência","index":1,"n_rows":101,"n_cols":35,"rows_kept":101,"cut":false,"hidden":false,"merged":[[91,0,92,12],[87,16,87,17],[93,0,94,12],[87,10,87,11],[87,12,87,13],[90,0,90,12],[87,18,87,19],[2,33,2,34],[11,33,11,34],[86,14,86,15],[86,16,86,17],[86,18,86,19],[86,20,86,21],[86,22,86,23],[86,24,86,25],[87,20,87,21],[87,22,87,23],[95,0,95,12],[0,4,0,7],[0,8,0,19],[0,20,0,25],[89,0,89,12],[87,1,87,3],[86,6,86,7],[87,6,87,7],[86,8,86,9],[87,8,87,9],[86,4,86,5],[86,10,86,11],[86,12,86,13],[87,24,87,25],[87,4,87,5],[87,14,87,15]]}
[null,null,null,null,"AO NASCER",null,null,null,"MENOR DE 1 ANO",null,null,null,null,null,null,null,null,null,null,null,"1 ANO"]
["Regional ","Município","¹População < 1 ano e 1 ano anual ","²População < 1 ano e 1 ano proporcional ","Doses Aplicadas HB\n< 30 dias","Cobertura Vacinal HB\naté 30 dias","Doses Aplicadas BCG","Cobertura Vacinal BCG","Doses Aplicadas Pentavalente ","Cobertura Vacinal Pentavalente","Doses Aplicadas Poliomielite ","Cobertura Vacinal Poliomielite ","Doses Aplicadas Pneumo 10","Cobertura Vacinal Pneumo 10","Doses Aplicadas Rotavírus","Cobertura Vacinal Rotavírus","Doses Aplicadas Meningo C","Cobertura Vacinal Meningo C","Doses Aplicadas Febre Amarela","Cobertura Vacinal Febre Amarela","Doses Aplicadas Hepatite A","Cobertura Vacinal Hepatite A","Doses Aplicadas de Tríplice Viral","Cobertura Vacinal Tríplice Viral","Doses Aplicadas Varicela","Cobertura Varicela",null,null,"VACINAS QUE ATINGIRAM A META DE CV","HOMOGENEIDADE ENTRE AS 10 VACINAS","VACINAS DO PQA-VS QUE ATINGIRAM A META DE CV","HOMOGENEIDADE ENTRE AS VACINAS DO PQA-VS"]
["Metropolitana","Afonso Cláudio",374,180,149,{"$f":"E3/D3","v":0.82777777777777772},170,{"$f":"G3/D3","v":0.94444444444444442},192,{"$f":"I3/D3","v":1.0666666666666667},190,{"$f":"K3/D3","v":1.0555555555555556},188,{"$f":"M3/D3","v":1.0444444444444445},189,{"$f":"O3/D3","v":1.05},190,{"$f":"Q3/D3","v":1.0555555555555556},198,{"$f":"S3/D3","v":1.1000000000000001},211,{"$f":"U3/D3","v":1.1722222222222223},215,{"$f":"W3/D3","v":1.1944444444444444},81,{"$f":"Y3/D3","v":0.45},null,null,{"$f":"cálculos2!P2","v":9},{"$f":"AC3*0.1","v":0.9},{"$f":"cálculos2!Q2","v":4},{"$f":"AE3*0.25","v":1},null,"LEGENDA / HOMOGENEIDADE PQA-VS"]
["Norte","Água Doce do Norte",181,107,86,0.80373831775700932,112,{"$f":"G4/D4","v":1.0467289719626167},82,{"$f":"I4/D4","v":0.76635514018691586},82,{"$f":"K4/D4","v":0.76635514018691586},91,{"$f":"M4/D4","v":0.85046728971962615},87,{"$f":"O4/D4","v":0.81308411214953269},86,{"$f":"Q4/D4","v":0.80373831775700932},70,{"$f":"S4/D4","v":0.65420560747663548},68,0.63551401869158874,70,0.65420560747663548,23,0.21495327102803738,null,null,{"$f":"cálculos2!P3","v":1},{"$f":"AC4*0.1","v":0.1},{"$f":"cálculos2!Q3","v":0},{"$f":"AE4*0.25","v":0},null,"PERCENTUAL","Nº DE MUNICÍPIOS"]
["Central","Águia Branca",167,82,55,0.67073170731707321,79,0.96341463414634143,84,1.024390243902439,83,1.0121951219512195,79,0.96341463414634143,77,0.93902439024390238,80,0.97560975609756095,70,0.85365853658536583,59,0.71951219512195119,58,0.70731707317073167,23,0.28048780487804881,null,null,{"$f":"cálculos2!P4","v":6},0.60000000000000009,{"$f":"cálculos2!Q4","v":3},0.75,null,0,{"$f":"COUNTIF($AF$3:$AF$80,\"=0\")","v":32}]
["Sul","Alegre",335,164,119,0.72560975609756095,146,0.8902439024390244,160,0.97560975609756095,164,1,150,0.91463414634146345,148,0.90243902439024393,166,1.0121951219512195,153,0.93292682926829273,143,0.87195121951219512,165,1.0060975609756098,53,0.32317073170731708,null,null,{"$f":"cálculos2!P5","v":5},0.5,{"$f":"cálculos2!Q5","v":3},0.75,null,0.25,{"$f":"COUNTIF($AF$3:$AF$80,\"=0,25\")","v":12}]
["Sul","Alfredo Chaves",142,66,38,0.5757575757575758,52,0.78787878787878785,74,1.1212121212121211,73,1.106060606060606,76,1.1515151515151516,78,1.1818181818181819,83,1.2575757575757576,73,1.106060606060606,59,0.89393939393939392,78,1.1818181818181819,42,0.63636363636363635,null,null,{"$f":"cálculos2!P6","v":7},0.70000000000000007,{"$f":"cálculos2!Q6","v":4},1,null,0.5,{"$f":"COUNTIF($AF$3:$AF$80,\"=0,5\")","v":8}]
["Central","Alto Rio Novo",81,36,30,0.83333333333333337,42,1.1666666666666667,46,1.2777777777777777,46,1.2777777777777777,43,1.1944444444444444,43,1.1944444444444444,47,1.3055555555555556,36,1,44,1.2222222222222223,43,1.1944444444444444,16,0.44444444444444442,null,null,{"$f":"cálculos2!P7","v":9},0.9,{"$f":"cálculos2!Q7","v":4},1,null,0.75,{"$f":"COUNTIF($AF$3:$AF$80,\"=0,75\")","v":7}]
["Sul","Anchieta",382,194,145,0.74742268041237114,177,0.91237113402061853,212,1.0927835051546391,214,1.1030927835051547,202,1.0412371134020619,201,1.0360824742268042,207,1.0670103092783505,167,0.86082474226804129,182,0.93814432989690721,209,1.0773195876288659,89,0.45876288659793812,null,null,{"$f":"cálculos2!P8","v":7},0.70000000000000007,{"$f":"cálculos2!Q8","v":4},1,null,1,{"$f":"COUNTIF($AF$3:$AF$80,\"=1,0\")","v":19}]
["Sul","Apiacá",61,45,21,0.46666666666666667,37,0.82222222222222219,26,0.57777777777777772,26,0.57777777777777772,30,0.66666666666666663,29,0.64444444444444449,31,0.68888888888888888,27,0.6,18,0.4,35,0.77777777777777779,6,0.13333333333333333,null,null,{"$f":"cálculos2!P9","v":0},0,{"$f":"cálculos2!Q9","v":0},0]
["Metropolitana","Aracruz",1456,765,604,0.78954248366013069,701,0.91633986928104572,644,0.84183006535947713,642,0.83921568627450982,677,0.88496732026143787,669,0.87450980392156863,649,0.84836601307189541,580,0.75816993464052285,717,0.93725490196078431,764,0.99869281045751634,368,0.48104575163398694,null,null,{"$f":"cálculos2!P10","v":2},0.2,{"$f":"cálculos2!Q10","v":1},0.25]
["Sul","Atilio Vivacqua",136,73,55,0.75342465753424659,65,0.8904109589041096,64,0.87671232876712324,63,0.86301369863013699,62,0.84931506849315064,61,0.83561643835616439,64,0.87671232876712324,45,0.61643835616438358,64,0.87671232876712324,78,1.0684931506849316,31,0.42465753424657532,null,null,{"$f":"cálculos2!P11","v":1},0.1,{"$f":"cálculos2!Q11","v":1},0.25,null,"LEGENDA / HOMOGENEIDADE 10 VACINAS"]
["Central","Baixo Guandu",325,181,126,0.69613259668508287,186,1.0276243093922652,189,1.0441988950276244,189,1.0441988950276244,195,1.0773480662983426,190,1.0497237569060773,195,1.0773480662983426,153,0.84530386740331487,206,1.1381215469613259,215,1.1878453038674033,98,0.54143646408839774,null,null,{"$f":"cálculos2!P12","v":8},0.8,{"$f":"cálculos2!Q12","v":4},1,null,"PERCENTUAL","Nº DE MUNICÍPIOS"]
["Norte","Barra de São Francisco",564,303,215,0.70957095709570961,267,0.88118811881188119,266,0.87788778877887785,261,0.86138613861386137,255,0.84158415841584155,248,0.81848184818481851,263,0.86798679867986794,252,0.83168316831683164,231,0.76237623762376239,285,0.94059405940594054,156,0.51485148514851486,null,null,{"$f":"cálculos2!P13","v":0},0,{"$f":"cálculos2!Q13","v":0},0,null,0,{"$f":"COUNTIF($AD$3:$AD$80,\"=0\")","v":21}]
["Norte","Boa Esperança",200,104,51,0.49038461538461536,79,0.75961538461538458,85,0.81730769230769229,93,0.89423076923076927,100,0.96153846153846156,104,1,96,0.92307692307692313,81,0.77884615384615385,78,0.75,108,1.0384615384615385,54,0.51923076923076927,null,null,{"$f":"cálculos2!P14","v":3},0.30000000000000004,{"$f":"cálculos2!Q14","v":2},0.5,null,0.1,{"$f":"COUNTIFS($AD$3:$AD$80,\">=0,10\",$AD$3:$AD$80,\"<0,20\")","v":16}]
["Sul","Bom Jesus do Norte",68,41,25,0.6097560975609756,37,0.90243902439024393,58,1.4146341463414633,56,1.3658536585365855,46,1.1219512195121952,44,1.0731707317073171,47,1.1463414634146341,48,1.1707317073170731,14,0.34146341463414637,58,1.4146341463414633,5,0.12195121951219512,null,null,{"$f":"cálculos2!P15","v":8},0.8,{"$f":"cálculos2!Q15","v":4},1,null,0.2,{"$f":"COUNTIFS($AD$3:$AD$80,\">=0,20\",$AD$3:$AD$80,\"<0,30\")","v":4}]
["Metropolitana","Brejetuba",205,112,32,0.2857142857142857,93,0.8303571428571429,92,0.8214285714285714,92,0.8214285714285714,95,0.8482142857142857,99,0.8839285714285714,92,0.8214285714285714,93,0.8303571428571429,88,0.7857142857142857,98,0.875,40,0.35714285714285715,null,null,{"$f":"cálculos2!P16","v":0},0,{"$f":"cálculos2!Q16","v":0},0,null,0.3,{"$f":"COUNTIFS($AD$3:$AD$80,\">=0,30\",$AD$3:$AD$80,\"<0,40\")","v":5}]
["Sul","Cachoeiro de Itapemirim",2481,1354,1199,0.88552437223042835,1402,1.0354505169867061,1042,0.76957163958641062,1027,0.75849335302806498,1067,0.78803545051698676,1042,0.76957163958641062,1029,0.75997045790251105,857,0.63293943870014768,1022,0.75480059084194973,1204,0.8892171344165436,426,0.31462333825701627,null,null,{"$f":"cálculos2!P17","v":1},0.1,{"$f":"cálculos2!Q17","v":0},0,null,0.4,{"$f":"COUNTIFS($AD$3:$AD$80,\">=0,40\",$AD$3:$AD$80,\"<0,50\")","v":5}]
["Metropolitana","Cariacica",4900,2550,1802,0.70666666666666667,2108,0.82666666666666666,2119,0.8309803921568627,2093,0.82078431372549021,2196,0.86117647058823532,2087,0.81843137254901965,2121,0.83176470588235296,1721,0.67490196078431375,1705,0.66862745098039211,2363,0.92666666666666664,851,0.33372549019607844,null,null,{"$f":"cálculos2!P18","v":0},0,{"$f":"cálculos2!Q18","v":0},0,null,0.5,{"$f":"COUNTIFS($AD$3:$AD$80,\">=0,50\",$AD$3:$AD$80,\"<0,60\")","v":3}]
["Sul","Castelo",451,235,165,0.7021276595744681,187,0.79574468085106387,211,0.89787234042553188,211,0.89787234042553188,212,0.90212765957446805,206,0.87659574468085111,204,0.86808510638297876,186,0.79148936170212769,168,0.71489361702127663,232,0.98723404255319147,98,0.41702127659574467,null,null,{"$f":"cálculos2!P19","v":1},0.1,{"$f":"cálculos2!Q19","v":1},0.25,null,0.6,{"$f":"COUNTIFS($AD$3:$AD$80,\">=0,60\",$AD$3:$AD$80,\"<0,70\")","v":5}]
["Central","Colatina",1544,806,682,0.84615384615384615,798,0.99007444168734493,697,0.86476426799007444,686,0.85111662531017374,699,0.86724565756823824,699,0.86724565756823824,696,0.8635235732009926,636,0.78908188585607941,497,0.61662531017369726,747,0.92679900744416877,324,0.40198511166253104,null,null,{"$f":"cálculos2!P20","v":1},0.1,{"$f":"cálculos2!Q20","v":0},0,null,0.7,{"$f":"COUNTIFS($AD$3:$AD$80,\">=0,70\",$AD$3:$AD$80,\"<0,80\")","v":6}]
["Norte","Conceição da Barra",383,197,79,0.40101522842639592,84,0.42639593908629442,173,0.87817258883248728,177,0.89847715736040612,188,0.95431472081218272,181,0.91878172588832485,182,0.92385786802030456,170,0.86294416243654826,147,0.74619289340101524,194,0.98477157360406087,87,0.44162436548223349,null,null,{"$f":"cálculos2!P21","v":3},0.30000000000000004,{"$f":"cálculos2!Q21","v":2},0.5,null,0.8,{"$f":"COUNTIFS($AD$3:$AD$80,\">=0,80\",$AD$3:$AD$80,\"<0,90\")","v":7}]
["Metropolitana","Conceição do Castelo",162,92,13,0.14130434782608695,70,0.76086956521739135,58,0.63043478260869568,55,0.59782608695652173,63,0.68478260869565222,62,0.67391304347826086,52,0.56521739130434778,71,0.77173913043478259,63,0.68478260869565222,69,0.75,41,0.44565217391304346,null,null,{"$f":"cálculos2!P22","v":0},0,{"$f":"cálculos2!Q22","v":0},0,null,0.9,{"$f":"COUNTIFS($AD$3:$AD$80,\">=0,90\",$AD$3:$AD$80,\"<1,0\")","v":6}]
["Sul","Divino de São Lourenço",69,39,33,0.84615384615384615,39,1,38,0.97435897435897434,38,0.97435897435897434,40,1.0256410256410255,41,1.0512820512820513,43,1.1025641025641026,29,0.74358974358974361,23,0.58974358974358976,25,0.64102564102564108,19,0.48717948717948717,null,null,{"$f":"cálculos2!P23","v":6},0.60000000000000009,{"$f":"cálculos2!Q23","v":3},0.75,null,1,{"$f":"COUNTIF($AD$3:$AD$80,\">=1,0\")","v":0}]
["Metropolitana","Domingos Martins",423,226,127,0.56194690265486724,180,0.79646017699115046,184,0.81415929203539827,182,0.80530973451327437,202,0.89380530973451322,201,0.88938053097345138,194,0.8584070796460177,158,0.69911504424778759,184,0.81415929203539827,215,0.95132743362831862,146,0.64601769911504425,null,null,{"$f":"cálculos2!P24","v":1},0.1,{"$f":"cálculos2!Q24","v":1},0.25]
["Sul","Dores do Rio Preto",73,42,23,0.54761904761904767,31,0.73809523809523814,43,1.0238095238095237,46,1.0952380952380953,50,1.1904761904761905,48,1.1428571428571428,49,1.1666666666666667,42,1,34,0.80952380952380953,51,1.2142857142857142,13,0.30952380952380953,null,null,{"$f":"cálculos2!P25","v":7},0.70000000000000007,{"$f":"cálculos2!Q25","v":4},1]
["Norte","Ecoporanga",269,147,120,0.81632653061224492,145,0.98639455782312924,119,0.80952380952380953,117,0.79591836734693877,113,0.76870748299319724,112,0.76190476190476186,104,0.70748299319727892,109,0.74149659863945583,119,0.80952380952380953,128,0.87074829931972786,73,0.49659863945578231,null,null,{"$f":"cálculos2!P26","v":1},0.1,{"$f":"cálculos2!Q26","v":0},0]
["Metropolitana","Fundão",223,121,74,0.61157024793388426,90,0.74380165289256195,113,0.93388429752066116,111,0.9173553719008265,101,0.83471074380165289,101,0.83471074380165289,97,0.80165289256198347,102,0.84297520661157022,99,0.81818181818181823,101,0.83471074380165289,61,0.50413223140495866,null,null,{"$f":"cálculos2!P27","v":0},0,{"$f":"cálculos2!Q27","v":0},0]
["Central","Governador Lindenberg",139,71,39,0.54929577464788737,52,0.73239436619718312,64,0.90140845070422537,62,0.87323943661971826,66,0.92957746478873238,66,0.92957746478873238,58,0.81690140845070425,80,1.1267605633802817,56,0.78873239436619713,71,1,36,0.50704225352112675,null,null,{"$f":"cálculos2!P28","v":3},0.30000000000000004,{"$f":"cálculos2!Q28","v":1},0.25]
["Sul","Guaçuí",415,213,120,0.56338028169014087,159,0.74647887323943662,205,0.96244131455399062,200,0.93896713615023475,190,0.892018779342723,175,0.82159624413145538,178,0.83568075117370888,154,0.72300469483568075,173,0.81220657276995301,208,0.97652582159624413,88,0.41314553990610331,null,null,{"$f":"cálculos2!P29","v":2},0.2,{"$f":"cálculos2!Q29","v":2},0.5]
["Metropolitana","Guarapari",1752,932,565,0.60622317596566522,803,0.86158798283261806,742,0.79613733905579398,721,0.77360515021459231,784,0.84120171673819744,747,0.80150214592274682,756,0.81115879828326176,578,0.62017167381974247,686,0.73605150214592274,787,0.84442060085836912,383,0.41094420600858367,null,null,{"$f":"cálculos2!P30","v":0},0,{"$f":"cálculos2!Q30","v":0},0]
["Metropolitana","Ibatiba",285,170,93,0.54705882352941182,185,1.088235294117647,182,1.0705882352941176,182,1.0705882352941176,178,1.0470588235294118,168,0.9882352941176471,180,1.0588235294117647,171,1.0058823529411764,159,0.93529411764705883,186,1.0941176470588236,34,0.2,null,null,{"$f":"cálculos2!P31","v":8},0.8,{"$f":"cálculos2!Q31","v":4},1]
["Metropolitana","Ibiraçu",155,86,62,0.72093023255813948,73,0.84883720930232553,62,0.72093023255813948,60,0.69767441860465118,62,0.72093023255813948,61,0.70930232558139539,62,0.72093023255813948,62,0.72093023255813948,49,0.56976744186046513,70,0.81395348837209303,22,0.2558139534883721,null,null,{"$f":"cálculos2!P32","v":0},0,{"$f":"cálculos2!Q32","v":0},0]
["Sul","Ibitirama",130,65,53,0.81538461538461537,60,0.92307692307692313,62,0.9538461538461539,61,0.93846153846153846,60,0.92307692307692313,62,0.9538461538461539,53,0.81538461538461537,49,0.75384615384615383,56,0.86153846153846159,68,1.0461538461538462,31,0.47692307692307695,null,null,{"$f":"cálculos2!P33","v":4},0.4,{"$f":"cálculos2!Q33","v":2},0.5]
["Sul","Iconha",119,61,40,{"$f":"E35/D35","v":0.65573770491803274},37,0.60655737704918034,61,1,57,0.93442622950819676,60,0.98360655737704916,59,0.96721311475409832,53,0.86885245901639341,57,0.93442622950819676,69,{"$f":"U35/D35","v":1.1311475409836065},76,{"$f":"W35/D35","v":1.2459016393442623},28,{"$f":"Y35/D35","v":0.45901639344262296},null,null,{"$f":"cálculos2!P34","v":5},0.5,{"$f":"cálculos2!Q34","v":3},0.75]
["Sul","Irupi",149,81,62,0.76543209876543206,87,1.0740740740740742,100,1.2345679012345678,99,1.2222222222222223,106,1.308641975308642,103,1.271604938271605,104,1.2839506172839505,88,1.0864197530864197,99,1.2222222222222223,130,1.6049382716049383,30,0.37037037037037035,null,null,{"$f":"cálculos2!P35","v":9},0.9,{"$f":"cálculos2!Q35","v":4},1]
["Metropolitana","Itaguaçu",137,78,65,0.83333333333333337,73,0.9358974358974359,62,0.79487179487179482,60,0.76923076923076927,62,0.79487179487179482,62,0.79487179487179482,63,0.80769230769230771,70,0.89743589743589747,75,0.96153846153846156,70,0.89743589743589747,43,0.55128205128205132,null,null,{"$f":"cálculos2!P36","v":2},0.2,{"$f":"cálculos2!Q36","v":0},0]
["Sul","Itapemirim",540,243,182,0.74897119341563789,228,0.93827160493827155,241,0.99176954732510292,243,1,256,1.0534979423868314,231,0.95061728395061729,234,0.96296296296296291,161,0.66255144032921809,232,0.95473251028806583,252,1.037037037037037,113,0.46502057613168724,null,null,{"$f":"cálculos2!P37","v":8},0.8,{"$f":"cálculos2!Q37","v":4},1]
["Metropolitana","Itarana",147,85,64,0.75294117647058822,79,0.92941176470588238,61,0.71764705882352942,61,0.71764705882352942,60,0.70588235294117652,62,0.72941176470588232,53,0.62352941176470589,69,0.81176470588235294,45,0.52941176470588236,64,0.75294117647058822,38,0.44705882352941179,null,null,{"$f":"cálculos2!P38","v":1},0.1,{"$f":"cálculos2!Q38","v":0},0]
["Sul","Iúna",406,186,137,0.73655913978494625,165,0.88709677419354838,232,1.2473118279569892,230,1.2365591397849462,219,1.1774193548387097,216,1.1612903225806452,220,1.1827956989247312,207,1.1129032258064515,173,0.93010752688172038,225,1.2096774193548387,88,0.4731182795698925,null,null,{"$f":"cálculos2!P39","v":7},0.70000000000000007,{"$f":"cálculos2!Q39","v":4},1]
["Norte","Jaguaré",510,291,196,0.67353951890034369,234,0.80412371134020622,241,0.82817869415807566,247,0.84879725085910651,227,0.78006872852233677,221,0.75945017182130581,225,0.77319587628865982,210,0.72164948453608246,175,0.60137457044673537,232,0.79725085910652926,106,0.36426116838487971,null,null,{"$f":"cálculos2!P40","v":0},0,{"$f":"cálculos2!Q40","v":0},0]
["Sul","Jerônimo Monteiro",161,82,61,0.74390243902439024,75,0.91463414634146345,82,1,83,1.0121951219512195,79,0.96341463414634143,77,0.93902439024390238,69,0.84146341463414631,81,0.98780487804878048,70,0.85365853658536583,77,0.93902439024390238,20,0.24390243902439024,null,null,{"$f":"cálculos2!P41","v":6},0.60000000000000009,{"$f":"cálculos2!Q41","v":3},0.75]
["Metropolitana","João Neiva",172,84,57,0.6785714285714286,66,0.7857142857142857,84,1,82,0.97619047619047616,82,0.97619047619047616,80,0.95238095238095233,79,0.94047619047619047,81,0.9642857142857143,80,0.95238095238095233,97,1.1547619047619047,32,0.38095238095238093,null,null,{"$f":"cálculos2!P42","v":7},0.70000000000000007,{"$f":"cálculos2!Q42","v":4},1]
["Metropolitana","Laranja da Terra",92,48,30,0.625,41,0.85416666666666663,43,0.89583333333333337,43,0.89583333333333337,34,0.70833333333333337,34,0.70833333333333337,44,0.91666666666666663,53,1.1041666666666667,60,1.25,72,1.5,51,1.0625,null,null,{"$f":"cálculos2!P43","v":4},0.4,{"$f":"cálculos2!Q43","v":1},0.25]
["Central","Linhares",2598,1358,768,0.56553755522827687,919,0.67673048600883656,1082,0.79675994108983794,1071,0.78865979381443296,1073,0.7901325478645066,1093,0.80486008836524303,1084,0.79823269513991169,987,0.72680412371134018,930,0.68483063328424154,1136,0.83652430044182624,472,0.34756995581737848,null,null,{"$f":"cálculos2!P44","v":0},0,{"$f":"cálculos2!Q44","v":0},0]
["Central","Mantenópolis",151,83,64,0.77108433734939763,82,0.98795180722891562,70,0.84337349397590367,72,0.86746987951807231,64,0.77108433734939763,61,0.73493975903614461,65,0.7831325301204819,75,0.90361445783132532,61,0.73493975903614461,78,0.93975903614457834,35,0.42168674698795183,null,null,{"$f":"cálculos2!P45","v":1},0.1,{"$f":"cálculos2!Q45","v":0},0]
["Sul","Marataízes",553,297,231,0.77777777777777779,261,0.87878787878787878,262,0.88215488215488214,260,0.87542087542087543,282,0.9494949494949495,278,0.93602693602693599,263,0.88552188552188549,188,0.632996632996633,235,0.7912457912457912,282,0.9494949494949495,103,0.34680134680134678,null,null,{"$f":"cálculos2!P46","v":1},0.1,{"$f":"cálculos2!Q46","v":0},0]
["Metropolitana","Marechal Floriano",224,113,73,0.64601769911504425,91,0.80530973451327437,103,0.91150442477876104,102,0.90265486725663713,117,1.0353982300884956,114,1.0088495575221239,112,0.99115044247787609,77,0.68141592920353977,98,0.86725663716814161,116,1.0265486725663717,68,0.60176991150442483,null,null,{"$f":"cálculos2!P47","v":4},0.4,{"$f":"cálculos2!Q47","v":2},0.5]
["Central","Marilândia",171,83,63,0.75903614457831325,73,0.87951807228915657,82,0.98795180722891562,82,0.98795180722891562,69,0.83132530120481929,72,0.86746987951807231,80,0.96385542168674698,79,0.95180722891566261,70,0.84337349397590367,72,0.86746987951807231,46,0.55421686746987953,null,null,{"$f":"cálculos2!P48","v":4},0.4,{"$f":"cálculos2!Q48","v":2},0.5]
["Sul","Mimoso do Sul",267,139,83,0.59712230215827333,107,0.76978417266187049,117,0.84172661870503596,116,0.83453237410071945,105,0.75539568345323738,104,0.74820143884892087,108,0.7769784172661871,97,0.69784172661870503,94,0.67625899280575541,116,0.83453237410071945,58,0.41726618705035973,null,null,{"$f":"cálculos2!P49","v":0},0,{"$f":"cálculos2!Q49","v":0},0]
["Norte","Montanha",232,113,64,0.5663716814159292,69,0.61061946902654862,138,1.2212389380530972,139,1.2300884955752212,116,1.0265486725663717,119,1.0530973451327434,117,1.0353982300884956,136,1.2035398230088497,118,1.0442477876106195,126,1.1150442477876106,68,0.60176991150442483,null,null,{"$f":"cálculos2!P50","v":8},0.8,{"$f":"cálculos2!Q50","v":4},1]
["Norte","Mucurici",66,31,17,0.54838709677419351,21,0.67741935483870963,49,1.5806451612903225,49,1.5806451612903225,43,1.3870967741935485,43,1.3870967741935485,43,1.3870967741935485,44,1.4193548387096775,28,0.90322580645161288,44,1.4193548387096775,20,0.64516129032258063,null,null,{"$f":"cálculos2!P51","v":7},0.70000000000000007,{"$f":"cálculos2!Q51","v":4},1]
["Sul","Muniz Freire",204,103,82,0.79611650485436891,107,1.0388349514563107,115,1.116504854368932,110,1.0679611650485437,114,1.1067961165048543,112,1.087378640776699,115,1.116504854368932,116,1.1262135922330097,101,0.98058252427184467,120,1.1650485436893203,45,0.43689320388349512,null,null,{"$f":"cálculos2!P52","v":9},0.9,{"$f":"cálculos2!Q52","v":4},1]
["Sul","Muqui",164,78,60,0.76923076923076927,75,0.96153846153846156,82,1.0512820512820513,83,1.0641025641025641,65,0.83333333333333337,64,0.82051282051282048,75,0.96153846153846156,84,1.0769230769230769,69,0.88461538461538458,74,0.94871794871794868,34,0.4358974358974359,null,null,{"$f":"cálculos2!P53","v":5},0.5,{"$f":"cálculos2!Q53","v":2},0.5]
["Norte","Nova Venécia",678,374,147,0.39304812834224601,315,0.84224598930481287,335,0.89572192513368987,337,0.90106951871657759,316,0.84491978609625673,308,0.82352941176470584,321,0.85828877005347592,324,0.86631016042780751,291,0.77807486631016043,343,0.91711229946524064,172,0.45989304812834225,null,null,{"$f":"cálculos2!P54","v":0},0,{"$f":"cálculos2!Q54","v":0},0]
["Central","Pancas",217,106,83,0.78301886792452835,97,0.91509433962264153,119,1.1226415094339623,119,1.1226415094339623,111,1.0471698113207548,108,1.0188679245283019,112,1.0566037735849056,106,1,106,1,102,0.96226415094339623,76,0.71698113207547165,null,null,{"$f":"cálculos2!P55","v":9},0.9,{"$f":"cálculos2!Q55","v":4},1]
["Norte","Pedro Canário",305,163,76,0.46625766871165641,86,0.52760736196319014,163,1,160,0.98159509202453987,143,0.87730061349693256,138,0.84662576687116564,146,0.89570552147239269,140,0.85889570552147243,134,0.82208588957055218,192,1.1779141104294479,99,0.6073619631901841,null,null,{"$f":"cálculos2!P56","v":3},0.30000000000000004,{"$f":"cálculos2!Q56","v":3},0.75]
["Norte","Pinheiros",325,168,67,0.39880952380952384,67,0.39880952380952384,158,0.94047619047619047,156,0.9285714285714286,148,0.88095238095238093,143,0.85119047619047616,140,0.83333333333333337,136,0.80952380952380953,120,0.7142857142857143,164,0.97619047619047616,54,0.32142857142857145,null,null,{"$f":"cálculos2!P57","v":1},0.1,{"$f":"cálculos2!Q57","v":1},0.25]
["Sul","Piúma",303,151,106,0.70198675496688745,127,0.84105960264900659,137,0.9072847682119205,136,0.90066225165562919,138,0.91390728476821192,126,0.83443708609271527,131,0.86754966887417218,100,0.66225165562913912,113,0.7483443708609272,145,0.96026490066225167,64,0.42384105960264901,null,null,{"$f":"cálculos2!P58","v":1},0.1,{"$f":"cálculos2!Q58","v":1},0.25]
["Norte","Ponto Belo",75,35,17,0.48571428571428571,21,0.6,36,1.0285714285714285,36,1.0285714285714285,33,0.94285714285714284,34,0.97142857142857142,34,0.97142857142857142,40,1.1428571428571428,25,0.7142857142857143,43,1.2285714285714286,18,0.51428571428571423,null,null,{"$f":"cálculos2!P59","v":6},0.60000000000000009,{"$f":"cálculos2!Q59","v":3},0.75]
["Sul","Presidente Kennedy",196,115,99,0.86086956521739133,110,0.95652173913043481,79,0.68695652173913047,81,0.70434782608695656,81,0.70434782608695656,81,0.70434782608695656,75,0.65217391304347827,80,0.69565217391304346,99,0.86086956521739133,115,1,47,0.40869565217391307,null,null,{"$f":"cálculos2!P60","v":2},0.2,{"$f":"cálculos2!Q60","v":1},0.25]
["Central","Rio Bananal",301,167,94,0.56287425149700598,107,0.64071856287425155,137,0.82035928143712578,136,0.81437125748502992,122,0.73053892215568861,131,0.78443113772455086,121,0.72455089820359286,150,0.89820359281437123,143,0.85628742514970058,154,0.92215568862275454,71,0.42514970059880242,null,null,{"$f":"cálculos2!P61","v":0},0,{"$f":"cálculos2!Q61","v":0},0]
["Sul","Rio Novo do Sul",118,56,40,0.7142857142857143,42,0.75,61,1.0892857142857142,59,1.0535714285714286,57,1.0178571428571428,59,1.0535714285714286,61,1.0892857142857142,58,1.0357142857142858,57,1.0178571428571428,58,1.0357142857142858,31,0.5535714285714286,null,null,{"$f":"cálculos2!P62","v":8},0.8,{"$f":"cálculos2!Q62","v":4},1]
["Metropolitana","Santa Leopoldina",95,38,20,0.52631578947368418,29,0.76315789473684215,57,1.5,57,1.5,49,1.2894736842105263,50,1.3157894736842106,55,1.4473684210526316,51,1.3421052631578947,60,1.5789473684210527,69,1.8157894736842106,14,0.36842105263157893,null,null,{"$f":"cálculos2!P63","v":8},0.8,{"$f":"cálculos2!Q63","v":4},1]
["Metropolitana","Santa Maria de Jetibá",640,319,256,0.80250783699059558,294,0.92163009404388718,267,0.8369905956112853,268,0.84012539184952983,293,0.91849529780564265,295,0.92476489028213171,286,0.89655172413793105,246,0.7711598746081505,317,0.99373040752351094,341,1.0689655172413792,134,0.42006269592476492,null,null,{"$f":"cálculos2!P64","v":4},0.4,{"$f":"cálculos2!Q64","v":1},0.25]
["Metropolitana","Santa Teresa",306,158,120,0.759493670886076,148,0.93670886075949367,144,0.91139240506329111,144,0.91139240506329111,152,0.96202531645569622,151,0.95569620253164556,142,0.89873417721518989,133,0.84177215189873422,117,0.740506329113924,138,0.87341772151898733,85,0.53797468354430378,null,null,{"$f":"cálculos2!P65","v":3},0.30000000000000004,{"$f":"cálculos2!Q65","v":1},0.25]
["Central","São Domingos do Norte",121,65,48,{"$f":"E67/D67","v":0.7384615384615385},55,0.84615384615384615,59,0.90769230769230769,59,0.90769230769230769,56,0.86153846153846159,54,0.83076923076923082,60,0.92307692307692313,52,0.8,31,{"$f":"U67/D67","v":0.47692307692307695},49,{"$f":"W67/D67","v":0.75384615384615383},26,{"$f":"Y67/D67","v":0.4},null,null,{"$f":"cálculos2!P66","v":0},0,{"$f":"cálculos2!Q66","v":0},0]
["Central","São Gabriel da Palha",457,234,170,0.72649572649572647,225,{"$f":"G68/D68","v":0.96153846153846156},200,{"$f":"I68/D68","v":0.85470085470085466},199,{"$f":"K68/D68","v":0.8504273504273504},201,{"$f":"M68/D68","v":0.85897435897435892},202,{"$f":"O68/D68","v":0.86324786324786329},201,{"$f":"Q68/D68","v":0.85897435897435892},172,{"$f":"S68/D68","v":0.7350427350427351},155,0.66239316239316237,200,0.85470085470085466,78,0.33333333333333331,null,null,{"$f":"cálculos2!P67","v":1},{"$f":"AC68*0.1","v":0.1},{"$f":"cálculos2!Q67","v":0},{"$f":"AE68*0.25","v":0}]
["Sul","São José do Calçado",80,44,47,1.0681818181818181,53,1.2045454545454546,64,1.4545454545454546,63,1.4318181818181819,56,1.2727272727272727,48,1.0909090909090908,58,1.3181818181818181,50,1.1363636363636365,53,1.2045454545454546,62,1.4090909090909092,36,0.81818181818181823,null,null,{"$f":"cálculos2!P68","v":9},0.9,{"$f":"cálculos2!Q68","v":4},1]
["Norte","São Mateus",1923,972,1028,1.0576131687242798,1226,1.2613168724279835,851,0.87551440329218111,833,0.85699588477366251,863,0.88786008230452673,819,0.84259259259259256,813,0.8364197530864198,666,0.68518518518518523,703,0.72325102880658432,820,0.84362139917695478,335,0.34465020576131689,null,null,{"$f":"cálculos2!P69","v":1},0.1,{"$f":"cálculos2!Q69","v":0},0]
["Central","São Roque do Canaã",130,84,67,0.79761904761904767,72,0.8571428571428571,44,0.52380952380952384,43,0.51190476190476186,49,0.58333333333333337,51,0.6071428571428571,46,0.54761904761904767,54,0.6428571428571429,55,0.65476190476190477,70,0.83333333333333337,27,0.32142857142857145,null,null,{"$f":"cálculos2!P70","v":0},0,{"$f":"cálculos2!Q70","v":0},0]
["Metropolitana","Serra",7354,3900,3003,0.77,3426,0.87846153846153852,3119,0.79974358974358972,3090,0.79230769230769227,3134,0.80358974358974355,3045,0.78076923076923077,3017,0.77358974358974364,2577,0.66076923076923078,1844,0.47282051282051279,3159,0.81,983,0.25205128205128208,null,null,{"$f":"cálculos2!P71","v":0},0,{"$f":"cálculos2!Q71","v":0},0]
["Central","Sooretama",442,245,129,0.52653061224489794,147,0.6,186,0.75918367346938775,189,0.77142857142857146,184,0.75102040816326532,182,0.74285714285714288,170,0.69387755102040816,178,0.72653061224489801,185,0.75510204081632648,201,0.82040816326530608,80,0.32653061224489793,null,null,{"$f":"cálculos2!P72","v":0},0,{"$f":"cálculos2!Q72","v":0},0]
["Sul","Vargem Alta",264,141,104,0.73758865248226946,126,0.8936170212765957,109,0.77304964539007093,109,0.77304964539007093,113,0.8014184397163121,116,0.82269503546099287,115,0.81560283687943258,101,0.71631205673758869,127,0.900709219858156,133,0.94326241134751776,61,0.43262411347517732,null,null,{"$f":"cálculos2!P73","v":0},0,{"$f":"cálculos2!Q73","v":0},0]
["Metropolitana","Venda Nova do Imigrante",400,211,35,0.16587677725118483,160,0.75829383886255919,191,0.90521327014218012,193,0.91469194312796209,176,0.83412322274881512,175,0.82938388625592419,184,0.87203791469194314,187,0.88625592417061616,152,0.72037914691943128,197,0.93364928909952605,71,0.33649289099526064,null,null,{"$f":"cálculos2!P74","v":0},0,{"$f":"cálculos2!Q74","v":0},0]
["Metropolitana","Viana",955,495,345,0.69696969696969702,391,0.78989898989898988,425,0.85858585858585856,418,0.84444444444444444,442,0.89292929292929291,420,0.84848484848484851,435,0.87878787878787878,326,0.65858585858585861,379,0.7656565656565657,480,0.96969696969696972,142,0.28686868686868688,null,null,{"$f":"cálculos2!P75","v":1},0.1,{"$f":"cálculos2!Q75","v":1},0.25]
["Norte","Vila Pavão",86,47,34,0.72340425531914898,52,1.1063829787234043,43,0.91489361702127658,43,0.91489361702127658,45,0.95744680851063835,44,0.93617021276595747,41,0.87234042553191493,49,1.0425531914893618,54,1.1489361702127661,59,1.2553191489361701,23,0.48936170212765956,null,null,{"$f":"cálculos2!P76","v":6},0.60000000000000009,{"$f":"cálculos2!Q76","v":2},0.5]
["Central","Vila Valério",249,125,89,0.71199999999999997,111,0.88800000000000001,106,0.84799999999999998,103,0.82399999999999995,108,0.86399999999999999,111,0.88800000000000001,117,0.93600000000000005,103,0.82399999999999995,100,0.8,111,0.88800000000000001,51,0.40799999999999997,null,null,{"$f":"cálculos2!P77","v":0},0,{"$f":"cálculos2!Q77","v":0},0]
["Metropolitana","Vila Velha",5702,2920,2078,0.7116438356164384,2409,0.82499999999999996,2337,0.8003424657534246,2335,0.79965753424657537,2351,0.80513698630136987,2349,0.80445205479452053,2357,0.80719178082191778,1993,0.68253424657534245,2018,0.69109589041095887,2496,0.85479452054794525,902,0.30890410958904108,null,null,{"$f":"cálculos2!P78","v":0},0,{"$f":"cálculos2!Q78","v":0},0]
["Metropolitana","Vitória",3704,1886,1748,0.92682926829268297,2242,1.1887592788971368,1616,0.8568398727465536,1618,0.85790031813361611,1575,0.83510074231177089,1554,0.823966065747614,1622,0.86002120890774125,1279,0.67815482502651114,1544,0.8186638388123012,1569,0.83191940615058324,648,0.34358430540827145,null,null,{"$f":"cálculos2!P79","v":1},0.1,{"$f":"cálculos2!Q79","v":0},0]
[]
[null,"Total Norte",{"$f":"SUMIF($A$3:$A$80,\"Norte\",C$3:C$80)","v":5797},{"$f":"SUMIF($A$3:$A$80,\"Norte\",D$3:D$80)","v":3052},{"$f":"SUMIF($A$3:$A$80,\"Norte\",E$3:E$80)","v":2197},{"$f":"E82/D82","v":0.71985583224115335},{"$f":"SUMIF($A$3:$A$80,\"Norte\",G$3:G$80)","v":2778},{"$f":"G82/D82","v":0.91022280471821759},{"$f":"SUMIF($A$3:$A$80,\"Norte\",I$3:I$80)","v":2739},{"$f":"I82/D82","v":0.89744429882044563},{"$f":"SUMIF($A$3:$A$80,\"Norte\",K$3:K$80)","v":2730},{"$f":"K82/D82","v":0.89449541284403666},{"$f":"SUMIF($A$3:$A$80,\"Norte\",M$3:M$80)","v":2681},{"$f":"M82/D82","v":0.87844036697247707},{"$f":"SUMIF($A$3:$A$80,\"Norte\",O$3:O$80)","v":2601},{"$f":"O82/D82","v":0.8522280471821756},{"$f":"SUMIF($A$3:$A$80,\"Norte\",Q$3:Q$80)","v":2611},{"$f":"Q82/D82","v":0.85550458715596334},{"$f":"SUMIF($A$3:$A$80,\"Norte\",S$3:S$80)","v":2427},{"$f":"S82/D82","v":0.79521625163827003},{"$f":"SUMIF($A$3:$A$80,\"Norte\",U$3:U$80)","v":2291},{"$f":"U82/D82","v":0.75065530799475755},{"$f":"SUMIF($A$3:$A$80,\"Norte\",W$3:W$80)","v":2808},{"$f":"W82/D82","v":0.92005242463958059},{"$f":"SUMIF($A$3:$A$80,\"Norte\",Y$3:Y$80)","v":1288},{"$f":"Y82/D82","v":0.42201834862385323},null,null,{"$f":"cálculos1!P81","v":0},{"$f":"AC82*0.1","v":0},{"$f":"cálculos1!Q81","v":0},0]
[null,"Total Central",{"$f":"SUMIF($A$3:$A$80,\"Central\",C$3:C$80)","v":7093},{"$f":"SUMIF($A$3:$A$80,\"Central\",D$3:D$80)","v":3726},{"$f":"SUMIF($A$3:$A$80,\"Central\",E$3:E$80)","v":2507},{"$f":"E83/D83","v":0.6728395061728395},{"$f":"SUMIF($A$3:$A$80,\"Central\",G$3:G$80)","v":3045},{"$f":"G83/D83","v":0.81723027375201285},{"$f":"SUMIF($A$3:$A$80,\"Central\",I$3:I$80)","v":3165},{"$f":"I83/D83","v":0.84943639291465378},{"$f":"SUMIF($A$3:$A$80,\"Central\",K$3:K$80)","v":3139},{"$f":"K83/D83","v":0.84245840042941489},{"$f":"SUMIF($A$3:$A$80,\"Central\",M$3:M$80)","v":3119},{"$f":"M83/D83","v":0.83709071390230816},{"$f":"SUMIF($A$3:$A$80,\"Central\",O$3:O$80)","v":3140},{"$f":"O83/D83","v":0.84272678475577023},{"$f":"SUMIF($A$3:$A$80,\"Central\",Q$3:Q$80)","v":3132},{"$f":"Q83/D83","v":0.84057971014492749},{"$f":"SUMIF($A$3:$A$80,\"Central\",S$3:S$80)","v":2931},{"$f":"S83/D83","v":0.78663446054750408},{"$f":"SUMIF($A$3:$A$80,\"Central\",U$3:U$80)","v":2698},{"$f":"U83/D83","v":0.7241009125067096},{"$f":"SUMIF($A$3:$A$80,\"Central\",W$3:W$80)","v":3307},{"$f":"W83/D83","v":0.88754696725711213},{"$f":"SUMIF($A$3:$A$80,\"Central\",Y$3:Y$80)","v":1459},{"$f":"Y83/D83","v":0.39157273215244232},null,null,{"$f":"cálculos1!P82","v":1},0.1,{"$f":"cálculos1!Q82","v":0},0]
[null,"Total Metropolitana",{"$f":"SUMIF($A$3:$A$80,\"Metropolitana\",C$3:C$80)","v":29863},{"$f":"SUMIF($A$3:$A$80,\"Metropolitana\",D$3:D$80)","v":15569},{"$f":"SUMIF($A$3:$A$80,\"Metropolitana\",E$3:E$80)","v":11415},{"$f":"E84/D84","v":0.73318774487764149},{"$f":"SUMIF($A$3:$A$80,\"Metropolitana\",G$3:G$80)","v":13922},{"$f":"G84/D84","v":0.89421285888624835},{"$f":"SUMIF($A$3:$A$80,\"Metropolitana\",I$3:I$80)","v":12897},{"$f":"I84/D84","v":0.82837690281970577},{"$f":"SUMIF($A$3:$A$80,\"Metropolitana\",K$3:K$80)","v":12799},{"$f":"K84/D84","v":0.82208234311773398},{"$f":"SUMIF($A$3:$A$80,\"Metropolitana\",M$3:M$80)","v":13073},{"$f":"M84/D84","v":0.83968141820283893},{"$f":"SUMIF($A$3:$A$80,\"Metropolitana\",O$3:O$80)","v":12775},{"$f":"O84/D84","v":0.82054081829276126},{"$f":"SUMIF($A$3:$A$80,\"Metropolitana\",Q$3:Q$80)","v":12842},{"$f":"Q84/D84","v":0.82484424176247673},{"$f":"SUMIF($A$3:$A$80,\"Metropolitana\",S$3:S$80)","v":10876},{"$f":"S84/D84","v":0.69856766651679625},{"$f":"SUMIF($A$3:$A$80,\"Metropolitana\",U$3:U$80)","v":10750},{"$f":"U84/D84","v":0.69047466118568956},{"$f":"SUMIF($A$3:$A$80,\"Metropolitana\",W$3:W$80)","v":13736},{"$f":"W84/D84","v":0.88226604149270982},{"$f":"SUMIF($A$3:$A$80,\"Metropolitana\",Y$3:Y$80)","v":5238},{"$f":"Y84/D84","v":0.33643779305029226},null,null,{"$f":"cálculos1!P83","v":0},0,{"$f":"cálculos1!Q83","v":0},0]
[null,"Total Sul",{"$f":"SUMIF($A$3:$A$80,\"sul\",C$3:C$80)","v":8267},{"$f":"SUMIF($A$3:$A$80,\"sul\",D$3:D$80)","v":4308},{"$f":"SUMIF($A$3:$A$80,\"Sul\",E$3:E$80)","v":3330},{"$f":"E85/D85","v":0.77298050139275765},{"$f":"SUMIF($A$3:$A$80,\"Sul\",G$3:G$80)","v":3992},{"$f":"G85/D85","v":0.92664809656453107},{"$f":"SUMIF($A$3:$A$80,\"Sul\",I$3:I$80)","v":3937},{"$f":"I85/D85","v":0.91388115134633241},{"$f":"SUMIF($A$3:$A$80,\"Sul\",K$3:K$80)","v":3908},{"$f":"K85/D85","v":0.9071494893221913},{"$f":"SUMIF($A$3:$A$80,\"Sul\",M$3:M$80)","v":3916},{"$f":"M85/D85","v":0.90900649953574741},{"$f":"SUMIF($A$3:$A$80,\"Sul\",O$3:O$80)","v":3809},{"$f":"O85/D85","v":0.88416898792943366},{"$f":"SUMIF($A$3:$A$80,\"Sul\",Q$3:Q$80)","v":3835},{"$f":"Q85/D85","v":0.89020427112349121},{"$f":"SUMIF($A$3:$A$80,\"Sul\",S$3:S$80)","v":3298},{"$f":"S85/D85","v":0.76555246053853299},{"$f":"SUMIF($A$3:$A$80,\"Sul\",U$3:U$80)","v":3547},{"$f":"U85/D85","v":0.82335190343546893},{"$f":"SUMIF($A$3:$A$80,\"Sul\",W$3:W$80)","v":4276},{"$f":"W85/D85","v":0.99257195914577534},{"$f":"SUMIF($A$3:$A$80,\"Sul\",Y$3:Y$80)","v":1659},{"$f":"Y85/D85","v":0.38509749303621171},null,null,{"$f":"cálculos1!P84","v":2},0.2,{"$f":"cálculos1!Q84","v":1},0.25]
[null,"Total Espírito Santo",{"$f":"SUM(C3:C80)","v":51020},{"$f":"SUM(D3:D80)","v":26655},{"$f":"SUM(E82:E85)","v":19449},{"$f":"E86/D86","v":0.72965672481710753},{"$f":"SUM(G82:G85)","v":23737},{"$f":"G86/D86","v":0.89052710560870385},{"$f":"SUM(I82:I85)","v":22738},{"$f":"I86/D86","v":0.85304820859125863},{"$f":"SUM(K82:K85)","v":22576},{"$f":"K86/D86","v":0.84697054961545681},{"$f":"SUM(M82:M85)","v":22789},{"$f":"M86/D86","v":0.85496154567623339},{"$f":"SUM(O82:O85)","v":22325},{"$f":"O86/D86","v":0.83755392984430688},{"$f":"SUM(Q82:Q85)","v":22420},{"$f":"Q86/D86","v":0.84111798912024005},{"$f":"SUM(S82:S85)","v":19532},{"$f":"S86/D86","v":0.73277058713187015},{"$f":"SUM(U82:U85)","v":19286},{"$f":"U86/D86","v":0.72354154942787474},{"$f":"SUM(W82:W85)","v":24127},{"$f":"W86/D86","v":0.90515850684674548},{"$f":"SUM(Y82:Y85)","v":9644},{"$f":"Y86/D86","v":0.36180829112736823},null,null,{"$f":"cálculos1!P85","v":0},0,{"$f":"cálculos1!Q85","v":0},0]
[null,null,null,null,{"$f":"COUNTIF(F3:F80,\">=0,95\")","v":2},null,{"$f":"COUNTIF(H3:H80,\">=0,9\")","v":31},null,{"$f":"COUNTIF(J3:J80,\">=0,95\")","v":30},null,{"$f":"COUNTIF(L3:L80,\">=0,95\")","v":27},null,{"$f":"COUNTIF(N3:N80,\">=0,95\")","v":28},null,{"$f":"COUNTIF(P3:P80,\">=0,9\")","v":34},null,{"$f":"COUNTIF(R3:R80,\">=0,95\")","v":25},null,{"$f":"COUNTIF(T3:T80,\">=0,95\")","v":23},null,{"$f":"COUNTIF(V3:V80,\">=0,95\")","v":17},null,{"$f":"COUNTIF(X3:X80,\">=0,95\")","v":40},null,{"$f":"COUNTIF(Z3:Z80,\">=0,95\")","v":1}]
[null,"HOMOGENEIDADE ENTRE MUNICÍPIOS",null,null,{"$f":"E87/78","v":2.564102564102564E-2},null,{"$f":"G87/78","v":0.39743589743589741},null,{"$f":"I87/78","v":0.38461538461538464},null,{"$f":"K87/78","v":0.34615384615384615},null,{"$f":"M87/78","v":0.35897435897435898},null,{"$f":"O87/78","v":0.4358974358974359},null,{"$f":"Q87/78","v":0.32051282051282054},null,{"$f":"S87/78","v":0.29487179487179488},null,{"$f":"U87/78","v":0.21794871794871795},null,{"$f":"W87/78","v":0.51282051282051277},null,{"$f":"Y87/78","v":1.282051282051282E-2}]
[]
[" FonteVacina e Confia, em 03 de Julho de 2024.**"]
["**Dados referente às doses aplicadas no período de Janeiro a Junho de 2024"]
["Cobertura Calculada por município de residência do cidadão (no Vacina e Confia, a origem da informação é o endereço que consta no cadastro do cidadão preenchido manualmente por meio do autocadastro ou pelo cadastro realizado por um profissional de saúde no momento do atendimento)."]
[]
["1 População anual extraída do MS/SVS/DASIS - SINASC/DASIS/SVS/MS 2023 (hoje preliminares) referente ao período de março a dezembro de 2023 e SINASC/DASIS/SVS/MS 2024 referente ao período de janeiro a fevereiro de 2024."]
[]
["² População proporcional extraída do MS/SVS/DASIS - SINASC/DASIS/SVS/MS 2023 (hoje preliminares) referente ao período de março  e abril de 2023 somada a população extraída do SINASC/DASIS/SVS/MS 2024 referente ao período de janeiro e fevereiro de 2024."]
["Sinasc, em 10 de Julho de 2024."]
["Observações:"]
["Imunobiológicos que foram recebidos parcialmente pelo estado no mês da análise, sendo distribuídos em quantidades reduzidas às regionais e municípios: Varicela, Haemophilus influenzae tipo B, Soro Antirrábico Humano."]
["Imunobiológicos que não foram recebidos pelo estado no mês da análise, não sendo possível a distribuição às regionais e municípios: Meningo C, Tetra viral, Sars-cov-10 Bivalente, DTPa (CRIE) e Sars-Cov2-10 Doses Pediátricas."]
["Imunobiológicos com indisponibilidade de aquisição e distribuição no mês da análise: "]

{"sheet":"CV REF 1A e 4A - procedência","index":2,"n_rows":101,"n_cols":24,"rows_kept":101,"cut":false,"hidden":false,"merged":[[94,0,94,12],[92,0,93,12],[0,18,0,23],[89,0,89,12],[91,0,91,12],[90,0,90,12],[0,10,0,17],[0,6,0,9]]}
[null,null,null,null,null,null,"D2",null,null,null,"REFORÇOS 1 ANO",null,null,null,null,null,null,null,"REFORÇOS 4 ANOS"]
["Regional ","Município","¹População 1 ano anual ","²População 1 ano proporcional ","³População 4 anos anual ","³População 4 anos proporcional ","DOSES APLICADAS D2 TRÍPLICE VIRAL","COBERTURA D2 TRÍPLICE VIRAL","DOSES APLICADAS D2 VARICELA","COBERTURA D2 VARICELA","DOSES APLICADAS REF PNEUMO ","COBERTURA REF PNEUMO","DOSES APLICADAS REF MENINGO","COBERTURA REF MENINGO","DOSES APLICADAS R1 POLIO","COBERTURA R1 POLIO","DOSES APLICADAS R1 TRÍPLICE BACTERIANA","COBERTURA R1 TRÍPLICE BACTERIANA","DOSES APLICADAS REF FEBRE AMARELA","COBERTURA REF FEBRE AMARELA","DOSES APLICADAS R2 POLIO","COBERTURA R2 POLIO","DOSES APLICADAS R2 TRÍPLICE BACTERIANA","COBERTURA R2 TRÍPLICE BACTERIANA"]
["Metropolitana","Afonso Cláudio",374,180,416,{"$f":"E3/12*6","v":208},184,{"$f":"G3/D3","v":1.0222222222222221},66,{"$f":"I3/F3","v":0.31730769230769229},184,{"$f":"K3/D3","v":1.0222222222222221},188,{"$f":"M3/D3","v":1.0444444444444445},502,{"$f":"O3/D3","v":2.7888888888888888},195,{"$f":"Q3/D3","v":1.0833333333333333},148,{"$f":"S3/F3","v":0.71153846153846156},138,{"$f":"U3/F3","v":0.66346153846153844},164,{"$f":"W3/F3","v":0.78846153846153844}]
["Norte","Água Doce do Norte",181,107,151,{"$f":"E4/12*6","v":75.5},61,0.57009345794392519,33,0.4370860927152318,74,0.69158878504672894,75,0.7009345794392523,137,1.280373831775701,71,0.66355140186915884,56,0.74172185430463577,78,1.0331125827814569,71,0.94039735099337751]
["Central","Águia Branca",167,82,129,64.5,41,0.5,21,0.32558139534883723,54,0.65853658536585369,57,0.69512195121951215,80,0.97560975609756095,55,0.67073170731707321,49,0.75968992248062017,60,0.93023255813953487,61,0.94573643410852715]
["Sul","Alegre",335,164,372,186,133,0.81097560975609762,97,0.521505376344086,157,0.95731707317073167,161,0.98170731707317072,366,2.2317073170731709,151,0.92073170731707321,178,0.956989247311828,207,1.1129032258064515,211,1.1344086021505377]
["Sul","Alfredo Chaves",142,66,138,69,66,1,38,0.55072463768115942,74,1.1212121212121211,78,1.1818181818181819,197,2.9848484848484849,67,1.0151515151515151,61,0.88405797101449279,76,1.1014492753623188,75,1.0869565217391304]
["Central","Alto Rio Novo",81,36,102,51,45,1.25,17,0.33333333333333331,43,1.1944444444444444,43,1.1944444444444444,98,2.7222222222222223,51,1.4166666666666667,35,0.68627450980392157,32,0.62745098039215685,32,0.62745098039215685]
["Sul","Anchieta",382,194,390,195,153,0.78865979381443296,87,0.44615384615384618,212,1.0927835051546391,217,1.1185567010309279,425,2.1907216494845363,196,1.0103092783505154,180,0.92307692307692313,242,1.2410256410256411,245,1.2564102564102564]
["Sul","Apiacá",61,45,90,45,18,0.4,23,0.51111111111111107,39,0.8666666666666667,40,0.88888888888888884,61,1.3555555555555556,23,0.51111111111111107,3,6.6666666666666666E-2,39,0.8666666666666667,38,0.84444444444444444]
["Metropolitana","Aracruz",1456,765,1420,710,665,0.86928104575163401,350,0.49295774647887325,788,1.0300653594771241,820,1.0718954248366013,1340,1.7516339869281046,753,0.98431372549019602,533,0.75070422535211268,654,0.92112676056338028,660,0.92957746478873238]
["Sul","Atilio Vivacqua",136,73,138,69,51,0.69863013698630139,20,0.28985507246376813,85,1.1643835616438356,86,1.178082191780822,161,2.2054794520547945,82,1.1232876712328768,52,0.75362318840579712,56,0.81159420289855078,57,0.82608695652173914]
["Central","Baixo Guandu",325,181,427,213.5,166,0.91712707182320441,71,0.33255269320843089,201,1.1104972375690607,208,1.149171270718232,439,2.4254143646408841,207,1.1436464088397791,161,0.75409836065573765,203,0.95081967213114749,194,0.90866510538641687]
["Norte","Barra de São Francisco",564,303,589,294.5,255,0.84158415841584155,126,0.42784380305602715,278,0.91749174917491749,278,0.91749174917491749,441,1.4554455445544554,263,0.86798679867986794,242,0.82173174872665533,250,0.84889643463497455,255,0.86587436332767398]
["Norte","Boa Esperança",200,104,200,100,58,0.55769230769230771,49,0.49,109,1.0480769230769231,112,1.0769230769230769,220,2.1153846153846154,95,0.91346153846153844,64,0.64,105,1.05,87,0.87]
["Sul","Bom Jesus do Norte",68,41,146,73,39,0.95121951219512191,17,0.23287671232876711,74,1.8048780487804879,75,1.8292682926829269,113,2.7560975609756095,55,1.3414634146341464,55,0.75342465753424659,54,0.73972602739726023,63,0.86301369863013699]
["Metropolitana","Brejetuba",205,112,169,84.5,96,0.8571428571428571,46,0.54437869822485208,94,0.8392857142857143,99,0.8839285714285714,234,2.0892857142857144,94,0.8392857142857143,96,1.136094674556213,106,1.2544378698224852,106,1.2544378698224852]
["Sul","Cachoeiro de Itapemirim",2481,1354,2417,1208.5,887,0.65509601181683896,404,0.33429871741828715,1198,0.88478581979320536,1259,0.92983751846381091,1763,1.3020679468242244,1078,0.79615952732644013,714,0.59081505999172523,930,0.76954902772031442,977,0.80844021514273889]
["Metropolitana","Cariacica",4900,2550,5005,2502.5,1579,0.61921568627450985,907,0.36243756243756242,2382,0.9341176470588235,2449,0.96039215686274515,3112,1.2203921568627452,2082,0.81647058823529417,1906,0.76163836163836163,2437,0.97382617382617387,2435,0.97302697302697305]
["Sul","Castelo",451,235,399,199.5,192,0.81702127659574464,70,0.35087719298245612,236,1.0042553191489361,231,0.98297872340425529,492,2.0936170212765957,216,0.91914893617021276,144,0.72180451127819545,181,0.90726817042606511,189,0.94736842105263153]
["Central","Colatina",1544,806,1561,780.5,505,0.62655086848635233,201,0.25752722613709161,711,0.8821339950372209,751,0.93176178660049624,915,1.1352357320099256,634,0.78660049627791562,429,0.54964766175528512,536,0.68673926969891097,546,0.69955156950672648]
["Norte","Conceição da Barra",383,197,391,195.5,150,0.76142131979695427,100,0.51150895140664965,195,0.98984771573604058,197,1,406,2.0609137055837565,179,0.90862944162436543,168,0.85933503836317138,227,1.1611253196930946,237,1.2122762148337596]
["Metropolitana","Conceição do Castelo",162,92,144,72,66,0.71739130434782605,37,0.51388888888888884,62,0.67391304347826086,66,0.71739130434782605,172,1.8695652173913044,67,0.72826086956521741,60,0.83333333333333337,66,0.91666666666666663,65,0.90277777777777779]
["Sul","Divino de São Lourenço",69,39,68,34,24,0.61538461538461542,16,0.47058823529411764,26,0.66666666666666663,26,0.66666666666666663,63,1.6153846153846154,25,0.64102564102564108,42,1.2352941176470589,39,1.1470588235294117,36,1.0588235294117647]
["Metropolitana","Domingos Martins",423,226,411,205.5,190,0.84070796460176989,121,0.58880778588807781,216,0.95575221238938057,206,0.91150442477876104,454,2.0088495575221237,217,0.96017699115044253,177,0.86131386861313863,208,1.0121654501216546,217,1.0559610705596107]
["Sul","Dores do Rio Preto",73,42,92,46,32,0.76190476190476186,16,0.34782608695652173,63,1.5,65,1.5476190476190477,87,2.0714285714285716,41,0.97619047619047616,39,0.84782608695652173,38,0.82608695652173914,41,0.89130434782608692]
["Norte","Ecoporanga",269,147,283,141.5,109,0.74149659863945583,68,0.48056537102473496,123,0.83673469387755106,127,0.86394557823129248,214,1.4557823129251701,110,0.74829931972789121,113,0.79858657243816256,116,0.81978798586572443,119,0.8409893992932862]
["Metropolitana","Fundão",223,121,218,109,89,0.73553719008264462,56,0.51376146788990829,110,0.90909090909090906,115,0.95041322314049592,207,1.7107438016528926,98,0.80991735537190079,85,0.77981651376146788,102,0.93577981651376152,99,0.90825688073394495]
["Central","Governador Lindenberg",139,71,142,71,52,0.73239436619718312,32,0.45070422535211269,78,1.0985915492957747,80,1.1267605633802817,143,2.0140845070422535,58,0.81690140845070425,57,0.80281690140845074,64,0.90140845070422537,67,0.94366197183098588]
["Sul","Guaçuí",415,213,407,203.5,180,0.84507042253521125,43,0.2113022113022113,198,0.92957746478873238,203,0.95305164319248825,367,1.7230046948356808,175,0.82159624413145538,136,0.66830466830466828,154,0.7567567567567568,150,0.73710073710073709]
["Metropolitana","Guarapari",1752,932,1557,778.5,521,0.55901287553648071,311,0.39948619139370584,848,0.90987124463519309,829,0.88948497854077258,1123,1.2049356223175967,721,0.77360515021459231,501,0.64354527938342965,702,0.90173410404624277,729,0.93641618497109824]
["Metropolitana","Ibatiba",285,170,354,177,161,0.94705882352941173,38,0.21468926553672316,191,1.1235294117647059,195,1.1470588235294117,314,1.8470588235294119,174,1.0235294117647058,140,0.79096045197740117,143,0.80790960451977401,156,0.88135593220338981]
["Metropolitana","Ibiraçu",155,86,160,80,40,0.46511627906976744,40,0.5,68,0.79069767441860461,71,0.82558139534883723,156,1.8139534883720929,47,0.54651162790697672,54,0.67500000000000004,63,0.78749999999999998,65,0.8125]
["Sul","Ibitirama",130,65,148,74,58,0.89230769230769236,13,0.17567567567567569,71,1.0923076923076922,73,1.1230769230769231,126,1.9384615384615385,65,1,16,0.21621621621621623,29,0.39189189189189189,20,0.27027027027027029]
["Sul","Iconha",119,61,156,78,76,{"$f":"G35/D35","v":1.2459016393442623},24,{"$f":"I35/F35","v":0.30769230769230771},76,{"$f":"K35/D35","v":1.2459016393442623},81,{"$f":"M35/D35","v":1.3278688524590163},118,{"$f":"O35/D35","v":1.9344262295081966},64,{"$f":"Q35/D35","v":1.0491803278688525},66,{"$f":"S35/F35","v":0.84615384615384615},63,{"$f":"U35/F35","v":0.80769230769230771},65,{"$f":"W35/F35","v":0.83333333333333337}]
["Sul","Irupi",149,81,200,100,78,0.96296296296296291,41,0.41,124,1.5308641975308641,127,1.5679012345679013,189,2.3333333333333335,96,1.1851851851851851,100,1,103,1.03,115,1.1499999999999999]
["Metropolitana","Itaguaçu",137,78,154,77,76,0.97435897435897434,22,0.2857142857142857,71,0.91025641025641024,77,0.98717948717948723,181,2.3205128205128207,69,0.88461538461538458,56,0.72727272727272729,73,0.94805194805194803,74,0.96103896103896103]
["Sul","Itapemirim",540,243,556,278,174,0.71604938271604934,92,0.33093525179856115,263,1.0823045267489713,277,1.1399176954732511,441,1.8148148148148149,248,1.0205761316872428,128,0.46043165467625902,257,0.92446043165467628,259,0.93165467625899279]
["Metropolitana","Itarana",147,85,128,64,44,0.51764705882352946,41,0.640625,62,0.72941176470588232,69,0.81176470588235294,144,1.6941176470588235,53,0.62352941176470589,52,0.8125,61,0.953125,63,0.984375]
["Sul","Iúna",406,186,410,205,168,0.90322580645161288,87,0.42439024390243901,221,1.1881720430107527,239,1.2849462365591398,352,1.89247311827957,182,0.978494623655914,158,0.77073170731707319,191,0.93170731707317078,192,0.93658536585365859]
["Norte","Jaguaré",510,291,445,222.5,183,0.62886597938144329,89,0.4,251,0.86254295532646053,252,0.865979381443299,422,1.4501718213058419,215,0.73883161512027495,184,0.82696629213483142,244,1.0966292134831461,246,1.1056179775280899]
["Sul","Jerônimo Monteiro",161,82,157,78.5,69,0.84146341463414631,15,0.19108280254777071,78,0.95121951219512191,79,0.96341463414634143,156,1.9024390243902438,84,1.024390243902439,59,0.75159235668789814,69,0.87898089171974525,74,0.9426751592356688]
["Metropolitana","João Neiva",172,84,142,71,73,0.86904761904761907,25,0.352112676056338,93,1.1071428571428572,102,1.2142857142857142,165,1.9642857142857142,73,0.86904761904761907,58,0.81690140845070425,70,0.9859154929577465,65,0.91549295774647887]
["Metropolitana","Laranja da Terra",92,48,133,66.5,60,1.25,45,0.67669172932330823,70,1.4583333333333333,73,1.5208333333333333,162,3.375,62,1.2916666666666667,54,0.81203007518796988,56,0.84210526315789469,56,0.84210526315789469]
["Central","Linhares",2598,1358,2452,1226,810,0.59646539027982326,395,0.32218597063621535,1066,0.78497790868924888,1104,0.81296023564064801,1907,1.4042709867452134,1056,0.77761413843888072,824,0.67210440456769982,994,0.81076672104404568,1100,0.89722675367047311]
["Central","Mantenópolis",151,83,166,83,57,0.68674698795180722,36,0.43373493975903615,84,1.0120481927710843,82,0.98795180722891562,147,1.7710843373493976,70,0.84337349397590367,63,0.75903614457831325,62,0.74698795180722888,73,0.87951807228915657]
["Sul","Marataízes",553,297,579,289.5,229,0.77104377104377109,106,0.36614853195164077,323,1.0875420875420876,323,1.0875420875420876,486,1.6363636363636365,275,0.92592592592592593,157,0.54231433506044902,289,0.99827288428324701,285,0.98445595854922274]
["Metropolitana","Marechal Floriano",224,113,236,118,91,0.80530973451327437,78,0.66101694915254239,118,1.0442477876106195,114,1.0088495575221239,208,1.8407079646017699,99,0.87610619469026552,79,0.66949152542372881,90,0.76271186440677963,89,0.75423728813559321]
["Central","Marilândia",171,83,164,82,63,0.75903614457831325,36,0.43902439024390244,64,0.77108433734939763,69,0.83132530120481929,153,1.8433734939759037,63,0.75903614457831325,65,0.79268292682926833,73,0.8902439024390244,72,0.87804878048780488]
["Sul","Mimoso do Sul",267,139,276,138,76,0.5467625899280576,69,0.5,98,0.70503597122302153,106,0.76258992805755399,160,1.1510791366906474,87,0.62589928057553956,107,0.77536231884057971,99,0.71739130434782605,105,0.76086956521739135]
["Norte","Montanha",232,113,278,139,117,1.0353982300884956,65,0.46762589928057552,125,1.1061946902654867,129,1.1415929203539823,269,2.3805309734513274,126,1.1150442477876106,115,0.82733812949640284,125,0.89928057553956831,131,0.94244604316546765]
["Norte","Mucurici",66,31,97,48.5,27,0.87096774193548387,23,0.47422680412371132,44,1.4193548387096775,46,1.4838709677419355,47,1.5161290322580645,26,0.83870967741935487,35,0.72164948453608246,35,0.72164948453608246,37,0.76288659793814428]
["Sul","Muniz Freire",204,103,275,137.5,109,1.058252427184466,27,0.19636363636363635,132,1.2815533980582525,130,1.2621359223300972,282,2.737864077669903,116,1.1262135922330097,109,0.79272727272727272,125,0.90909090909090906,122,0.88727272727272732]
["Sul","Muqui",164,78,152,76,67,0.85897435897435892,43,0.56578947368421051,72,0.92307692307692313,71,0.91025641025641024,196,2.5128205128205128,63,0.80769230769230771,64,0.84210526315789469,63,0.82894736842105265,64,0.84210526315789469]
["Norte","Nova Venécia",678,374,656,328,323,0.86363636363636365,116,0.35365853658536583,324,0.86631016042780751,351,0.93850267379679142,556,1.4866310160427807,310,0.82887700534759357,254,0.77439024390243905,283,0.86280487804878048,281,0.85670731707317072]
["Central","Pancas",217,106,244,122,104,0.98113207547169812,39,0.31967213114754101,100,0.94339622641509435,106,1,247,2.3301886792452828,104,0.98113207547169812,93,0.76229508196721307,106,0.86885245901639341,105,0.86065573770491799]
["Norte","Pedro Canário",305,163,338,169,148,0.90797546012269936,90,0.53254437869822491,183,1.1226993865030674,183,1.1226993865030674,332,2.03680981595092,185,1.1349693251533743,142,0.84023668639053251,152,0.89940828402366868,161,0.9526627218934911]
["Norte","Pinheiros",325,168,383,191.5,85,0.50595238095238093,76,0.39686684073107048,150,0.8928571428571429,150,0.8928571428571429,218,1.2976190476190477,112,0.66666666666666663,121,0.63185378590078334,142,0.74151436031331597,144,0.75195822454308092]
["Sul","Piúma",303,151,311,155.5,67,0.44370860927152317,46,0.29581993569131831,141,0.93377483443708609,134,0.88741721854304634,249,1.6490066225165563,126,0.83443708609271527,97,0.6237942122186495,147,0.94533762057877813,151,0.97106109324758838]
["Norte","Ponto Belo",75,35,85,42.5,37,1.0571428571428572,16,0.37647058823529411,43,1.2285714285714286,45,1.2857142857142858,99,2.8285714285714287,37,1.0571428571428572,41,0.96470588235294119,36,0.84705882352941175,35,0.82352941176470584]
["Sul","Presidente Kennedy",196,115,239,119.5,104,0.90434782608695652,40,0.33472803347280333,126,1.0956521739130434,126,1.0956521739130434,233,2.026086956521739,103,0.89565217391304353,102,0.85355648535564854,114,0.95397489539748959,115,0.96234309623430958]
["Central","Rio Bananal",301,167,229,114.5,153,0.91616766467065869,62,0.54148471615720528,155,0.92814371257485029,173,1.0359281437125749,394,2.3592814371257487,154,0.92215568862275454,146,1.2751091703056769,139,1.2139737991266375,142,1.240174672489083]
["Sul","Rio Novo do Sul",118,56,144,72,49,0.875,37,0.51388888888888884,62,1.1071428571428572,66,1.1785714285714286,125,2.2321428571428572,62,1.1071428571428572,53,0.73611111111111116,61,0.84722222222222221,63,0.875]
["Metropolitana","Santa Leopoldina",95,38,155,77.5,30,0.78947368421052633,15,0.19354838709677419,69,1.8157894736842106,69,1.8157894736842106,136,3.5789473684210527,60,1.5789473684210527,47,0.6064516129032258,52,0.67096774193548392,58,0.74838709677419357]
["Metropolitana","Santa Maria de Jetibá",640,319,685,342.5,289,0.90595611285266453,104,0.30364963503649633,335,1.0501567398119123,356,1.1159874608150471,574,1.7993730407523512,316,0.99059561128526641,222,0.64817518248175188,293,0.85547445255474452,292,0.85255474452554747]
["Metropolitana","Santa Teresa",306,158,260,130,98,0.620253164556962,84,0.64615384615384619,131,0.82911392405063289,136,0.86075949367088611,242,1.5316455696202531,100,0.63291139240506333,114,0.87692307692307692,123,0.94615384615384612,116,0.89230769230769236]
["Central","São Domingos do Norte",121,65,117,58.5,33,{"$f":"G67/D67","v":0.50769230769230766},17,{"$f":"I67/F67","v":0.29059829059829062},52,{"$f":"K67/D67","v":0.8},55,{"$f":"M67/D67","v":0.84615384615384615},73,{"$f":"O67/D67","v":1.1230769230769231},34,{"$f":"Q67/D67","v":0.52307692307692311},42,{"$f":"S67/F67","v":0.71794871794871795},41,{"$f":"U67/F67","v":0.70085470085470081},42,{"$f":"W67/F67","v":0.71794871794871795}]
["Central","São Gabriel da Palha",457,234,426,{"$f":"E68/12*6","v":213},166,0.70940170940170943,78,0.36619718309859156,202,0.86324786324786329,200,0.85470085470085466,365,1.5598290598290598,174,0.74358974358974361,205,0.96244131455399062,215,1.0093896713615023,204,0.95774647887323938]
["Sul","São José do Calçado",80,44,150,75,54,1.2272727272727273,21,0.28000000000000003,63,1.4318181818181819,63,1.4318181818181819,88,2,54,1.2272727272727273,68,0.90666666666666662,69,0.92,69,0.92]
["Norte","São Mateus",1923,972,1766,883,547,0.56275720164609055,370,0.41902604756511891,858,0.88271604938271608,872,0.89711934156378603,1208,1.2427983539094649,733,0.75411522633744854,624,0.70668176670441674,735,0.83238958097395244,755,0.85503963759909396]
["Central","São Roque do Canaã",130,84,100,50,60,0.7142857142857143,34,0.68,69,0.8214285714285714,73,0.86904761904761907,149,1.7738095238095237,58,0.69047619047619047,47,0.94,53,1.06,54,1.08]
["Metropolitana","Serra",7354,3900,7550,3775,2252,0.57743589743589741,1036,0.27443708609271522,3190,0.81794871794871793,3252,0.83384615384615379,4120,1.0564102564102564,2890,0.74102564102564106,3003,0.79549668874172186,3465,0.9178807947019868,3448,0.91337748344370862]
["Central","Sooretama",442,245,415,207.5,147,0.6,88,0.42409638554216866,220,0.89795918367346939,228,0.93061224489795913,483,1.9714285714285715,194,0.7918367346938775,248,1.1951807228915663,235,1.1325301204819278,238,1.146987951807229]
["Sul","Vargem Alta",264,141,278,139,109,0.77304964539007093,53,0.38129496402877699,140,0.99290780141843971,141,1,283,2.0070921985815602,125,0.88652482269503541,94,0.67625899280575541,116,0.83453237410071945,120,0.86330935251798557]
["Metropolitana","Venda Nova do Imigrante",400,211,328,164,171,0.81042654028436023,49,0.29878048780487804,212,1.0047393364928909,220,1.0426540284360191,448,2.123222748815166,180,0.85308056872037918,119,0.72560975609756095,134,0.81707317073170727,134,0.81707317073170727]
["Metropolitana","Viana",955,495,1064,532,201,0.40606060606060607,146,0.27443609022556392,498,1.0060606060606061,508,1.0262626262626262,626,1.2646464646464646,404,0.8161616161616162,401,0.75375939849624063,469,0.88157894736842102,487,0.91541353383458646]
["Norte","Vila Pavão",86,47,127,63.5,54,1.1489361702127661,24,0.37795275590551181,65,1.3829787234042554,69,1.4680851063829787,130,2.7659574468085109,58,1.2340425531914894,60,0.94488188976377951,69,1.0866141732283465,64,1.0078740157480315]
["Central","Vila Valério",249,125,169,84.5,86,0.68799999999999994,41,0.48520710059171596,114,0.91200000000000003,98,0.78400000000000003,244,1.952,109,0.872,97,1.1479289940828403,138,1.6331360946745561,128,1.514792899408284]
["Metropolitana","Vila Velha",5702,2920,5675,2837.5,1852,0.63424657534246576,802,0.28264317180616738,2401,0.82226027397260271,2506,0.85821917808219184,3352,1.1479452054794521,2157,0.73869863013698633,2153,0.75876651982378851,2356,0.83030837004405289,2347,0.82713656387665202]
["Metropolitana","Vitória",3704,1886,3833,1916.5,1053,0.55832449628844116,601,0.31359248630315678,1708,0.90562036055143158,1731,0.9178154825026511,2497,1.323966065747614,1640,0.86956521739130432,1330,0.693973388990347,1733,0.90425254369945207,1808,0.94338638142447173]
[]
[null,"Total Norte",{"$f":"SUMIF($A$3:$A$80,\"Norte\",C$3:C$80)","v":5797},{"$f":"SUMIF($A$3:$A$80,\"Norte\",D$3:D$80)","v":3052},{"$f":"SUMIF($A$3:$A$80,\"Norte\",E$3:E$80)","v":5789},{"$f":"SUMIF($A$3:$A$80,\"Norte\",F$3:F$80)","v":2894.5},{"$f":"SUMIF($A$3:$A$80,\"Norte\",G$3:G$80)","v":2154},{"$f":"G82/D82","v":0.70576671035386629},{"$f":"SUMIF($A$3:$A$80,\"Norte\",I$3:I$80)","v":1245},{"$f":"I82/F82","v":0.430126101226464},{"$f":"SUMIF($A$3:$A$80,\"Norte\",K$3:K$80)","v":2822},{"$f":"K82/D82","v":0.92463958060288332},{"$f":"SUMIF($A$3:$A$80,\"Norte\",M$3:M$80)","v":2886},{"$f":"M82/D82","v":0.94560943643512452},{"$f":"SUMIF($A$3:$A$80,\"Norte\",O$3:O$80)","v":4699},{"$f":"O82/D82","v":1.5396461336828309},{"$f":"SUMIF($A$3:$A$80,\"Norte\",Q$3:Q$80)","v":2520},{"$f":"Q82/D82","v":0.82568807339449546},{"$f":"SUMIF($A$3:$A$80,\"Norte\",S$3:S$80)","v":2219},{"$f":"S82/F82","v":0.76662636033857312},{"$f":"SUMIF($A$3:$A$80,\"Norte\",U$3:U$80)","v":2597},{"$f":"U82/F82","v":0.89721886336154777},{"$f":"SUMIF($A$3:$A$80,\"Norte\",W$3:W$80)","v":2623},{"$f":"W82/F82","v":0.90620141647953012}]
[null,"Total Central",{"$f":"SUMIF($A$3:$A$80,\"Central\",C$3:C$80)","v":7093},{"$f":"SUMIF($A$3:$A$80,\"Central\",D$3:D$80)","v":3726},{"$f":"SUMIF($A$3:$A$80,\"Central\",E$3:E$80)","v":6843},{"$f":"SUMIF($A$3:$A$80,\"Central\",F$3:F$80)","v":3421.5},{"$f":"SUMIF($A$3:$A$80,\"Central\",G$3:G$80)","v":2488},{"$f":"G83/D83","v":0.667740203972088},{"$f":"SUMIF($A$3:$A$80,\"Central\",I$3:I$80)","v":1168},{"$f":"I83/F83","v":0.3413707438258074},{"$f":"SUMIF($A$3:$A$80,\"Central\",K$3:K$80)","v":3213},{"$f":"K83/D83","v":0.8623188405797102},{"$f":"SUMIF($A$3:$A$80,\"Central\",M$3:M$80)","v":3327},{"$f":"M83/D83","v":0.89291465378421897},{"$f":"SUMIF($A$3:$A$80,\"Central\",O$3:O$80)","v":5837},{"$f":"O83/D83","v":1.5665593129361246},{"$f":"SUMIF($A$3:$A$80,\"Central\",Q$3:Q$80)","v":3021},{"$f":"Q83/D83","v":0.81078904991948475},{"$f":"SUMIF($A$3:$A$80,\"Central\",S$3:S$80)","v":2561},{"$f":"S83/F83","v":0.74850211895367524},{"$f":"SUMIF($A$3:$A$80,\"Central\",U$3:U$80)","v":2951},{"$f":"U83/F83","v":0.86248721321058019},{"$f":"SUMIF($A$3:$A$80,\"Central\",W$3:W$80)","v":3058},{"$f":"W83/F83","v":0.8937600467631156}]
[null,"Total Metropolitana",{"$f":"SUMIF($A$3:$A$80,\"Metropolitana\",C$3:C$80)","v":29863},{"$f":"SUMIF($A$3:$A$80,\"Metropolitana\",D$3:D$80)","v":15569},{"$f":"SUMIF($A$3:$A$80,\"Metropolitana\",E$3:E$80)","v":30197},{"$f":"SUMIF($A$3:$A$80,\"Metropolitana\",F$3:F$80)","v":15098.5},{"$f":"SUMIF($A$3:$A$80,\"Metropolitana\",G$3:G$80)","v":9881},{"$f":"G84/D84","v":0.6346586164814696},{"$f":"SUMIF($A$3:$A$80,\"Metropolitana\",I$3:I$80)","v":5020},{"$f":"I84/F84","v":0.33248335927410005},{"$f":"SUMIF($A$3:$A$80,\"Metropolitana\",K$3:K$80)","v":13901},{"$f":"K84/D84","v":0.89286402466439718},{"$f":"SUMIF($A$3:$A$80,\"Metropolitana\",M$3:M$80)","v":14251},{"$f":"M84/D84","v":0.91534459502858245},{"$f":"SUMIF($A$3:$A$80,\"Metropolitana\",O$3:O$80)","v":20469},{"$f":"O84/D84","v":1.3147279850985933},{"$f":"SUMIF($A$3:$A$80,\"Metropolitana\",Q$3:Q$80)","v":12551},{"$f":"Q84/D84","v":0.80615325325968268},{"$f":"SUMIF($A$3:$A$80,\"Metropolitana\",S$3:S$80)","v":11388},{"$f":"S84/F84","v":0.75424711064012984},{"$f":"SUMIF($A$3:$A$80,\"Metropolitana\",U$3:U$80)","v":13594},{"$f":"U84/F84","v":0.90035433983508295},{"$f":"SUMIF($A$3:$A$80,\"Metropolitana\",W$3:W$80)","v":13733},{"$f":"W84/F84","v":0.90956055237275224}]
[null,"Total Sul",{"$f":"SUMIF($A$3:$A$80,\"sul\",C$3:C$80)","v":8267},{"$f":"SUMIF($A$3:$A$80,\"sul\",D$3:D$80)","v":4308},{"$f":"SUMIF($A$3:$A$80,\"sul\",E$3:E$80)","v":8688},{"$f":"SUMIF($A$3:$A$80,\"sul\",F$3:F$80)","v":4344},{"$f":"SUMIF($A$3:$A$80,\"sul\",G$3:G$80)","v":3262},{"$f":"G85/D85","v":0.75719591457753022},{"$f":"SUMIF($A$3:$A$80,\"sul\",I$3:I$80)","v":1545},{"$f":"I85/F85","v":0.35566298342541436},{"$f":"SUMIF($A$3:$A$80,\"sul\",K$3:K$80)","v":4352},{"$f":"K85/D85","v":1.0102135561745589},{"$f":"SUMIF($A$3:$A$80,\"sul\",M$3:M$80)","v":4477},{"$f":"M85/D85","v":1.0392293407613742},{"$f":"SUMIF($A$3:$A$80,\"sul\",O$3:O$80)","v":7579},{"$f":"O85/D85","v":1.7592850510677809},{"$f":"SUMIF($A$3:$A$80,\"sul\",Q$3:Q$80)","v":3859},{"$f":"Q85/D85","v":0.89577530176415965},{"$f":"SUMIF($A$3:$A$80,\"sul\",S$3:S$80)","v":2982},{"$f":"S85/F85","v":0.68646408839779005},{"$f":"SUMIF($A$3:$A$80,\"sul\",U$3:U$80)","v":3811},{"$f":"U85/F85","v":0.87730202578268879},{"$f":"SUMIF($A$3:$A$80,\"sul\",W$3:W$80)","v":3901},{"$f":"W85/F85","v":0.89802025782688766}]
[null,"Total Espírito Santo",{"$f":"SUM(C3:C80)","v":51020},{"$f":"SUM(D3:D80)","v":26655},{"$f":"SUM(E3:E80)","v":51517},{"$f":"SUM(F3:F80)","v":25758.5},{"$f":"SUM(G3:G80)","v":17785},{"$f":"G86/D86","v":0.66722941286812976},{"$f":"SUM(I3:I80)","v":8978},{"$f":"I86/F86","v":0.34854514043907836},{"$f":"SUM(K3:K80)","v":24288},{"$f":"K86/D86","v":0.91119864940911643},{"$f":"SUM(M3:M80)","v":24941},{"$f":"M86/D86","v":0.93569686737947855},{"$f":"SUM(O3:O80)","v":38584},{"$f":"O86/D86","v":1.4475332958169198},{"$f":"SUM(Q3:Q80)","v":21951},{"$f":"Q86/D86","v":0.82352279122115923},{"$f":"SUM(S3:S80)","v":19150},{"$f":"S86/F86","v":0.74344391171846191},{"$f":"SUM(U3:U80)","v":22953},{"$f":"U86/F86","v":0.89108449637983578},{"$f":"SUM(W3:W80)","v":23315},{"$f":"W86/F86","v":0.9051381097501795}]
[]
[]
[]
[" FonteVacina e Confia, em 03 de Julho de 2024.**"]
["**Dados referente às doses aplicadas no período de Junho de 2024"]
["Cobertura Calculada por município de procedência da vacinação"]
["1 População anual extraída do MS/SVS/DASIS - SINASC/DASIS/SVS/MS 2023 (hoje preliminares) referente ao período de março a dezembro de 2023 e SINASC/DASIS/SVS/MS 2024 referente ao período de janeiro a fevereiro de 2024."]
[]
["² População proporcional extraída do MS/SVS/DASIS - SINASC/DASIS/SVS/MS 2023 (hoje preliminares) referente ao período de março e abril de 2023 somada a população extraída do SINASC/DASIS/SVS/MS 2024 referente ao período de janeiro e fevereiro de 2024."]
["³ População anual e proporcional extraída do Censo IBGE 2022."]
["Sinasc, em 10 de Julho de 2024."]
["Observações:"]
["Imunobiológicos que foram recebidos parcialmente pelo estado no mês da análise, sendo distribuídos em quantidades reduzidas às regionais e municípios: Varicela, Haemophilus influenzae tipo B, Soro Antirrábico Humano."]
["Imunobiológicos que não foram recebidos pelo estado no mês da análise, não sendo possível a distribuição às regionais e municípios: Meningo C, Tetra viral, Sars-cov-10 Bivalente, DTPa (CRIE) e Sars-Cov2-10 Doses Pediátricas."]
["Imunobiológicos com indisponibilidade de aquisição e distribuição no mês da análise: "]

{"sheet":"CV REF 1A e 4A - residência","index":3,"n_rows":102,"n_cols":24,"rows_kept":102,"cut":false,"hidden":false,"merged":[[95,0,95,12],[93,0,94,12],[91,0,92,12],[88,0,88,11],[0,18,0,23],[89,0,89,12],[90,0,90,12],[0,10,0,17],[0,6,0,9]]}
[null,null,null,null,null,null,"D2",null,null,null,"REFORÇOS 1 ANO",null,null,null,null,null,null,null,"REFORÇOS 4 ANOS"]
["Regional ","Município","¹População 1 ano anual ","²População 1 ano proporcional ","³População 4 anos anual ","³População 4 anos proporcional ","DOSES APLICADAS D2 TRÍPLICE VIRAL","COBERTURA D2 TRÍPLICE VIRAL","DOSES APLICADAS D2 VARICELA","COBERTURA D2 VARICELA","DOSES APLICADAS REF PNEUMO ","COBERTURA REF PNEUMO","DOSES APLICADAS REF MENINGO","COBERTURA REF MENINGO","DOSES APLICADAS R1 POLIO","COBERTURA R1 POLIO","DOSES APLICADAS R1 TRÍPLICE BACTERIANA","COBERTURA R1 TRÍPLICE BACTERIANA","DOSES APLICADAS REF FEBRE AMARELA","COBERTURA REF FEBRE AMARELA","DOSES APLICADAS R2 POLIO","COBERTURA R2 POLIO","DOSES APLICADAS R2 TRÍPLICE BACTERIANA","COBERTURA R2 TRÍPLICE BACTERIANA"]
["Metropolitana","Afonso Cláudio",374,180,416,{"$f":"E3/12*6","v":208},197,{"$f":"G3/D3","v":1.0944444444444446},75,{"$f":"I3/F3","v":0.36057692307692307},200,{"$f":"K3/D3","v":1.1111111111111112},203,{"$f":"M3/D3","v":1.1277777777777778},527,{"$f":"O3/D3","v":2.9277777777777776},212,{"$f":"Q3/D3","v":1.1777777777777778},156,{"$f":"S3/F3","v":0.75},464,{"$f":"U3/F3","v":2.2307692307692308},176,{"$f":"W3/F3","v":0.84615384615384615}]
["Norte","Água Doce do Norte",181,107,151,{"$f":"E4/12*6","v":75.5},55,0.51401869158878499,30,0.39735099337748342,73,0.68224299065420557,73,0.68224299065420557,124,1.1588785046728971,64,0.59813084112149528,52,0.6887417218543046,121,1.6026490066225165,66,0.8741721854304636]
["Central","Águia Branca",167,82,129,64.5,45,0.54878048780487809,21,0.32558139534883723,56,0.68292682926829273,57,0.69512195121951215,90,1.0975609756097562,61,0.74390243902439024,41,0.63565891472868219,94,1.4573643410852712,54,0.83720930232558144]
["Sul","Alegre",335,164,372,186,131,0.79878048780487809,93,0.5,160,0.97560975609756095,166,1.0121951219512195,349,2.1280487804878048,146,0.8902439024390244,178,0.956989247311828,427,2.295698924731183,208,1.118279569892473]
["Sul","Alfredo Chaves",142,66,138,69,56,0.84848484848484851,40,0.57971014492753625,73,1.106060606060606,76,1.1515151515151516,174,2.6363636363636362,60,0.90909090909090906,66,0.95652173913043481,226,3.2753623188405796,80,1.1594202898550725]
["Central","Alto Rio Novo",81,36,102,51,37,1.0277777777777777,17,0.33333333333333331,44,1.2222222222222223,43,1.1944444444444444,77,2.1388888888888888,41,1.1388888888888888,36,0.70588235294117652,82,1.607843137254902,33,0.6470588235294118]
["Sul","Anchieta",382,194,390,195,148,0.76288659793814428,88,0.45128205128205129,221,1.1391752577319587,219,1.1288659793814433,416,2.1443298969072164,191,0.98453608247422686,177,0.90769230769230769,434,2.2256410256410257,235,1.2051282051282051]
["Sul","Apiacá",61,45,90,45,13,0.28888888888888886,23,0.51111111111111107,35,0.77777777777777779,36,0.8,50,1.1111111111111112,20,0.44444444444444442,9,0.2,74,1.6444444444444444,38,0.84444444444444444]
["Metropolitana","Aracruz",1456,765,1420,710,622,0.8130718954248366,322,0.45352112676056339,765,1,805,1.0522875816993464,1284,1.6784313725490196,719,0.93986928104575163,503,0.70845070422535217,1101,1.5507042253521126,624,0.87887323943661977]
["Sul","Atilio Vivacqua",136,73,138,69,46,0.63013698630136983,20,0.28985507246376813,78,1.0684931506849316,79,1.0821917808219179,145,1.9863013698630136,72,0.98630136986301364,52,0.75362318840579712,103,1.4927536231884058,58,0.84057971014492749]
["Central","Baixo Guandu",325,181,427,213.5,172,0.95027624309392267,71,0.33255269320843089,194,1.0718232044198894,202,1.1160220994475138,413,2.2817679558011048,205,1.132596685082873,152,0.71194379391100704,403,1.8875878220140516,189,0.88524590163934425]
["Norte","Barra de São Francisco",564,303,589,294.5,252,0.83168316831683164,117,0.39728353140916806,275,0.90759075907590758,276,0.91089108910891092,454,1.4983498349834983,255,0.84158415841584155,235,0.79796264855687604,380,1.2903225806451613,248,0.84210526315789469]
["Norte","Boa Esperança",200,104,200,100,58,0.55769230769230771,49,0.49,107,1.0288461538461537,109,1.0480769230769231,213,2.0480769230769229,93,0.89423076923076927,63,0.63,175,1.75,86,0.86]
["Sul","Bom Jesus do Norte",68,41,146,73,20,0.48780487804878048,8,0.1095890410958904,57,1.3902439024390243,57,1.3902439024390243,74,1.8048780487804879,29,0.70731707317073167,27,0.36986301369863012,70,0.95890410958904104,31,0.42465753424657532]
["Metropolitana","Brejetuba",205,112,169,84.5,102,0.9107142857142857,42,0.49704142011834318,95,0.8482142857142857,98,0.875,236,2.1071428571428572,103,0.9196428571428571,95,1.1242603550295858,247,2.9230769230769229,105,1.2426035502958579]
["Sul","Cachoeiro de Itapemirim",2481,1354,2417,1208.5,907,0.66986706056129985,410,0.33926354985519241,1233,0.91063515509601178,1276,0.94239290989660263,1820,1.3441654357459381,1115,0.82348596750369274,728,0.60239966901117092,1534,1.26934215970211,1001,0.82829954489035995]
["Metropolitana","Cariacica",4900,2550,5005,2502.5,1583,0.62078431372549014,904,0.36123876123876125,2396,0.93960784313725487,2447,0.95960784313725489,3184,1.2486274509803921,2127,0.83411764705882352,1895,0.75724275724275725,3271,1.3070929070929072,2416,0.96543456543456541]
["Sul","Castelo",451,235,399,199.5,187,0.79574468085106387,73,0.36591478696741853,223,0.94893617021276599,218,0.92765957446808511,457,1.9446808510638298,209,0.88936170212765953,136,0.68170426065162903,389,1.949874686716792,185,0.92731829573934832]
["Central","Colatina",1544,806,1561,780.5,532,0.66004962779156329,196,0.25112107623318386,705,0.87468982630272951,755,0.93672456575682383,935,1.1600496277915633,639,0.79280397022332505,415,0.53171044202434337,828,1.0608584240871237,534,0.68417680973734785]
["Norte","Conceição da Barra",383,197,391,195.5,149,0.75634517766497467,93,0.47570332480818417,204,1.0355329949238579,206,1.0456852791878173,410,2.0812182741116749,178,0.90355329949238583,162,0.82864450127877243,431,2.2046035805626598,232,1.1867007672634271]
["Metropolitana","Conceição do Castelo",162,92,144,72,59,0.64130434782608692,34,0.47222222222222221,60,0.65217391304347827,65,0.70652173913043481,151,1.6413043478260869,62,0.67391304347826086,56,0.77777777777777779,170,2.3611111111111112,60,0.83333333333333337]
["Sul","Divino de São Lourenço",69,39,68,34,20,0.51282051282051277,13,0.38235294117647056,25,0.64102564102564108,26,0.66666666666666663,57,1.4615384615384615,23,0.58974358974358976,38,1.1176470588235294,65,1.911764705882353,36,1.0588235294117647]
["Metropolitana","Domingos Martins",423,226,411,205.5,187,0.82743362831858402,112,0.54501216545012166,219,0.96902654867256632,206,0.91150442477876104,442,1.9557522123893805,213,0.94247787610619471,170,0.82725060827250607,425,2.0681265206812651,204,0.99270072992700731]
["Sul","Dores do Rio Preto",73,42,92,46,27,0.6428571428571429,12,0.2608695652173913,56,1.3333333333333333,57,1.3571428571428572,76,1.8095238095238095,34,0.80952380952380953,29,0.63043478260869568,60,1.3043478260869565,30,0.65217391304347827]
["Norte","Ecoporanga",269,147,283,141.5,112,0.76190476190476186,69,0.48763250883392228,127,0.86394557823129248,131,0.891156462585034,223,1.5170068027210883,119,0.80952380952380953,110,0.77738515901060068,200,1.4134275618374559,117,0.82685512367491165]
["Metropolitana","Fundão",223,121,218,109,89,0.73553719008264462,41,0.37614678899082571,108,0.8925619834710744,112,0.92561983471074383,195,1.6115702479338843,95,0.78512396694214881,68,0.62385321100917435,137,1.2568807339449541,80,0.73394495412844041]
["Central","Governador Lindenberg",139,71,142,71,51,0.71830985915492962,31,0.43661971830985913,70,0.9859154929577465,71,1,128,1.8028169014084507,56,0.78873239436619713,58,0.81690140845070425,128,1.8028169014084507,72,1.0140845070422535]
["Sul","Guaçuí",415,213,407,203.5,184,0.863849765258216,44,0.21621621621621623,206,0.96713615023474175,210,0.9859154929577465,382,1.7934272300469483,184,0.863849765258216,129,0.63390663390663393,295,1.4496314496314497,142,0.69778869778869779]
["Metropolitana","Guarapari",1752,932,1557,778.5,524,0.5622317596566524,300,0.38535645472061658,852,0.91416309012875541,849,0.91094420600858372,1120,1.201716738197425,721,0.77360515021459231,498,0.63969171483622356,996,1.2793834296724471,710,0.91201027617212593]
["Metropolitana","Ibatiba",285,170,354,177,160,0.94117647058823528,40,0.22598870056497175,191,1.1235294117647059,194,1.1411764705882352,321,1.888235294117647,170,1,131,0.74011299435028244,232,1.3107344632768361,154,0.87005649717514122]
["Metropolitana","Ibiraçu",155,86,160,80,34,0.39534883720930231,39,0.48749999999999999,71,0.82558139534883723,71,0.82558139534883723,141,1.6395348837209303,48,0.55813953488372092,55,0.6875,187,2.3374999999999999,69,0.86250000000000004]
["Sul","Ibitirama",130,65,148,74,55,0.84615384615384615,20,0.27027027027027029,66,1.0153846153846153,67,1.0307692307692307,114,1.7538461538461538,61,0.93846153846153846,27,0.36486486486486486,105,1.4189189189189189,32,0.43243243243243246]
["Sul","Iconha",119,61,156,78,70,{"$f":"G35/D35","v":1.1475409836065573},23,{"$f":"I35/F35","v":0.29487179487179488},74,{"$f":"K35/D35","v":1.2131147540983607},83,{"$f":"M35/D35","v":1.360655737704918},110,{"$f":"O35/D35","v":1.8032786885245902},63,{"$f":"Q35/D35","v":1.0327868852459017},64,{"$f":"S35/F35","v":0.82051282051282048},103,{"$f":"U35/F35","v":1.3205128205128205},61,{"$f":"W35/F35","v":0.78205128205128205}]
["Sul","Irupi",149,81,200,100,82,1.0123456790123457,44,0.44,122,1.5061728395061729,124,1.5308641975308641,191,2.3580246913580245,95,1.1728395061728396,102,1.02,185,1.85,113,1.1299999999999999]
["Metropolitana","Itaguaçu",137,78,154,77,76,0.97435897435897434,20,0.25974025974025972,78,1,81,1.0384615384615385,183,2.3461538461538463,72,0.92307692307692313,57,0.74025974025974028,152,1.974025974025974,70,0.90909090909090906]
["Sul","Itapemirim",540,243,556,278,197,0.81069958847736623,97,0.34892086330935251,272,1.1193415637860082,283,1.1646090534979423,461,1.8971193415637859,267,1.0987654320987654,144,0.51798561151079137,439,1.579136690647482,276,0.9928057553956835]
["Metropolitana","Itarana",147,85,128,64,42,0.49411764705882355,37,0.578125,55,0.6470588235294118,59,0.69411764705882351,127,1.4941176470588236,50,0.58823529411764708,45,0.703125,138,2.15625,56,0.875]
["Sul","Iúna",406,186,410,205,167,0.89784946236559138,76,0.37073170731707317,227,1.2204301075268817,249,1.3387096774193548,359,1.9301075268817205,188,1.010752688172043,141,0.68780487804878043,347,1.6926829268292682,175,0.85365853658536583]
["Norte","Jaguaré",510,291,445,222.5,182,0.62542955326460481,85,0.38202247191011235,248,0.85223367697594499,250,0.85910652920962194,424,1.4570446735395188,220,0.75601374570446733,183,0.82247191011235954,433,1.946067415730337,236,1.0606741573033709]
["Sul","Jerônimo Monteiro",161,82,157,78.5,65,0.79268292682926833,22,0.28025477707006369,76,0.92682926829268297,80,0.97560975609756095,146,1.7804878048780488,75,0.91463414634146345,56,0.7133757961783439,131,1.6687898089171975,70,0.89171974522292996]
["Metropolitana","João Neiva",172,84,142,71,76,0.90476190476190477,28,0.39436619718309857,89,1.0595238095238095,96,1.1428571428571428,162,1.9285714285714286,78,0.9285714285714286,61,0.85915492957746475,135,1.9014084507042253,69,0.971830985915493]
["Metropolitana","Laranja da Terra",92,48,133,66.5,55,1.1458333333333333,37,0.55639097744360899,69,1.4375,71,1.4791666666666667,155,3.2291666666666665,59,1.2291666666666667,52,0.78195488721804507,147,2.2105263157894739,54,0.81203007518796988]
["Central","Linhares",2598,1358,2452,1226,845,0.62223858615611194,436,0.35562805872756931,1111,0.81811487481590572,1142,0.84094256259204714,1933,1.4234167893961709,1076,0.79234167893961704,875,0.71370309951060362,1894,1.5448613376835236,1173,0.95676998368678634]
["Central","Mantenópolis",151,83,166,83,52,0.62650602409638556,35,0.42168674698795183,83,1,79,0.95180722891566261,141,1.6987951807228916,67,0.80722891566265065,58,0.6987951807228916,128,1.5421686746987953,65,0.7831325301204819]
["Sul","Marataízes",553,297,579,289.5,204,0.68686868686868685,96,0.33160621761658032,300,1.0101010101010102,307,1.0336700336700337,437,1.4713804713804715,243,0.81818181818181823,148,0.51122625215889461,401,1.3851468048359241,260,0.89810017271157172]
["Metropolitana","Marechal Floriano",224,113,236,118,88,0.77876106194690264,62,0.52542372881355937,115,1.0176991150442478,112,0.99115044247787609,194,1.7168141592920354,99,0.87610619469026552,71,0.60169491525423724,179,1.5169491525423728,84,0.71186440677966101]
["Central","Marilândia",171,83,164,82,68,0.81927710843373491,38,0.46341463414634149,74,0.89156626506024095,75,0.90361445783132532,161,1.9397590361445782,75,0.90361445783132532,61,0.74390243902439024,162,1.975609756097561,69,0.84146341463414631]
["Sul","Mimoso do Sul",267,139,276,138,85,0.61151079136690645,77,0.55797101449275366,102,0.73381294964028776,112,0.80575539568345322,181,1.3021582733812949,96,0.69064748201438853,124,0.89855072463768115,211,1.5289855072463767,124,0.89855072463768115]
["Norte","Montanha",232,113,278,139,112,0.99115044247787609,61,0.43884892086330934,121,1.0707964601769913,126,1.1150442477876106,253,2.2389380530973453,122,1.0796460176991149,114,0.82014388489208634,268,1.9280575539568345,126,0.90647482014388492]
["Norte","Mucurici",66,31,97,48.5,29,0.93548387096774188,26,0.53608247422680411,44,1.4193548387096775,44,1.4193548387096775,54,1.7419354838709677,28,0.90322580645161288,38,0.78350515463917525,76,1.5670103092783505,41,0.84536082474226804]
["Sul","Muniz Freire",204,103,275,137.5,107,1.0388349514563107,35,0.25454545454545452,120,1.1650485436893203,118,1.145631067961165,260,2.5242718446601944,110,1.0679611650485437,114,0.8290909090909091,301,2.189090909090909,128,0.93090909090909091]
["Sul","Muqui",164,78,152,76,68,0.87179487179487181,35,0.46052631578947367,72,0.92307692307692313,73,0.9358974358974359,190,2.4358974358974357,66,0.84615384615384615,49,0.64473684210526316,154,2.0263157894736841,52,0.68421052631578949]
["Norte","Nova Venécia",678,374,656,328,307,0.82085561497326198,108,0.32926829268292684,330,0.88235294117647056,340,0.90909090909090906,540,1.4438502673796791,310,0.82887700534759357,250,0.76219512195121952,472,1.4390243902439024,283,0.86280487804878048]
["Central","Pancas",217,106,244,122,110,1.0377358490566038,46,0.37704918032786883,116,1.0943396226415094,120,1.1320754716981132,242,2.2830188679245285,110,1.0377358490566038,99,0.81147540983606559,236,1.9344262295081966,111,0.9098360655737705]
["Norte","Pedro Canário",305,163,338,169,149,0.91411042944785281,91,0.53846153846153844,192,1.1779141104294479,193,1.1840490797546013,325,1.9938650306748467,191,1.1717791411042944,134,0.79289940828402372,296,1.7514792899408285,163,0.96449704142011838]
["Norte","Pinheiros",325,168,383,191.5,87,0.5178571428571429,74,0.38642297650130547,155,0.92261904761904767,150,0.8928571428571429,221,1.3154761904761905,124,0.73809523809523814,122,0.63707571801566576,228,1.1906005221932114,142,0.74151436031331597]
["Sul","Piúma",303,151,311,155.5,71,0.47019867549668876,43,0.27652733118971062,146,0.9668874172185431,140,0.92715231788079466,239,1.5827814569536425,128,0.84768211920529801,87,0.55948553054662375,218,1.4019292604501608,137,0.88102893890675238]
["Norte","Ponto Belo",75,35,85,42.5,35,1,15,0.35294117647058826,43,1.2285714285714286,46,1.3142857142857143,96,2.7428571428571429,38,1.0857142857142856,34,0.8,80,1.8823529411764706,34,0.8]
["Sul","Presidente Kennedy",196,115,239,119.5,101,0.87826086956521743,40,0.33472803347280333,121,1.0521739130434782,122,1.0608695652173914,226,1.9652173913043478,101,0.87826086956521743,110,0.92050209205020916,213,1.7824267782426779,119,0.99581589958159]
["Central","Rio Bananal",301,167,229,114.5,136,0.81437125748502992,61,0.53275109170305679,147,0.88023952095808389,164,0.98203592814371254,348,2.0838323353293413,144,0.86227544910179643,152,1.3275109170305677,340,2.9694323144104802,150,1.3100436681222707]
["Sul","Rio Novo do Sul",118,56,144,72,36,0.6428571428571429,38,0.52777777777777779,60,1.0714285714285714,65,1.1607142857142858,112,2,53,0.9464285714285714,57,0.79166666666666663,133,1.8472222222222223,64,0.88888888888888884]
["Metropolitana","Santa Leopoldina",95,38,155,77.5,28,0.73684210526315785,17,0.21935483870967742,72,1.8947368421052631,73,1.9210526315789473,123,3.236842105263158,58,1.5263157894736843,50,0.64516129032258063,126,1.6258064516129032,59,0.76129032258064511]
["Metropolitana","Santa Maria de Jetibá",640,319,685,342.5,279,0.87460815047021945,110,0.32116788321167883,328,1.0282131661442007,341,1.0689655172413792,580,1.8181818181818181,307,0.96238244514106586,219,0.6394160583941606,482,1.4072992700729927,287,0.83795620437956209]
["Metropolitana","Santa Teresa",306,158,260,130,107,0.67721518987341767,81,0.62307692307692308,137,0.86708860759493667,147,0.930379746835443,248,1.5696202531645569,111,0.70253164556962022,119,0.91538461538461535,256,1.9692307692307693,121,0.93076923076923079]
["Central","São Domingos do Norte",121,65,117,58.5,34,{"$f":"G67/D67","v":0.52307692307692311},16,{"$f":"I67/F67","v":0.27350427350427353},50,{"$f":"K67/D67","v":0.76923076923076927},54,{"$f":"M67/D67","v":0.83076923076923082},71,{"$f":"O67/D67","v":1.0923076923076922},36,{"$f":"Q67/D67","v":0.55384615384615388},48,{"$f":"S67/F67","v":0.82051282051282048},85,{"$f":"U67/F67","v":1.4529914529914529},50,{"$f":"W67/F67","v":0.85470085470085466}]
["Central","São Gabriel da Palha",457,234,426,{"$f":"E68/12*6","v":213},153,0.65384615384615385,79,0.37089201877934275,195,0.83333333333333337,196,0.83760683760683763,344,1.4700854700854702,167,0.71367521367521369,187,0.8779342723004695,378,1.7746478873239437,185,0.86854460093896713]
["Sul","São José do Calçado",80,44,150,75,55,1.25,16,0.21333333333333335,62,1.4090909090909092,62,1.4090909090909092,90,2.0454545454545454,58,1.3181818181818181,64,0.85333333333333339,109,1.4533333333333334,64,0.85333333333333339]
["Norte","São Mateus",1923,972,1766,883,566,0.58230452674897115,378,0.42808607021517553,842,0.86625514403292181,881,0.90637860082304522,1190,1.2242798353909465,723,0.74382716049382713,630,0.71347678369195922,1136,1.2865232163080407,751,0.85050962627406568]
["Central","São Roque do Canaã",130,84,100,50,51,0.6071428571428571,30,0.6,63,0.75,67,0.79761904761904767,134,1.5952380952380953,57,0.6785714285714286,46,0.92,139,2.78,53,1.06]
["Metropolitana","Serra",7354,3900,7550,3775,2297,0.58897435897435901,1043,0.2762913907284768,3234,0.82923076923076922,3286,0.84256410256410252,4239,1.0869230769230769,2966,0.76051282051282054,2939,0.77854304635761584,4389,1.1626490066225166,3396,0.89960264900662257]
["Central","Sooretama",442,245,415,207.5,142,0.57959183673469383,92,0.44337349397590359,206,0.84081632653061222,210,0.8571428571428571,449,1.8326530612244898,190,0.77551020408163263,246,1.1855421686746987,573,2.7614457831325301,241,1.1614457831325302]
["Sul","Vargem Alta",264,141,278,139,115,0.81560283687943258,56,0.40287769784172661,143,1.0141843971631206,144,1.0212765957446808,282,2,132,0.93617021276595747,94,0.67625899280575541,287,2.064748201438849,124,0.8920863309352518]
["Metropolitana","Venda Nova do Imigrante",400,211,328,164,180,0.85308056872037918,50,0.3048780487804878,194,0.91943127962085303,203,0.96208530805687209,459,2.175355450236967,182,0.86255924170616116,119,0.72560975609756095,350,2.1341463414634148,136,0.82926829268292679]
["Metropolitana","Viana",955,495,1064,532,223,0.45050505050505052,161,0.30263157894736842,516,1.0424242424242425,521,1.0525252525252524,638,1.288888888888889,414,0.83636363636363631,431,0.81015037593984962,758,1.4248120300751879,505,0.9492481203007519]
["Norte","Vila Pavão",86,47,127,63.5,43,0.91489361702127658,23,0.36220472440944884,59,1.2553191489361701,60,1.2765957446808511,103,2.1914893617021276,46,0.97872340425531912,60,0.94488188976377951,150,2.3622047244094486,62,0.97637795275590555]
["Central","Vila Valério",249,125,169,84.5,86,0.68799999999999994,32,0.378698224852071,116,0.92800000000000005,100,0.8,231,1.8480000000000001,101,0.80800000000000005,86,1.0177514792899409,231,2.7337278106508878,116,1.3727810650887573]
["Metropolitana","Vila Velha",5702,2920,5675,2837.5,1838,0.6294520547945206,794,0.2798237885462555,2445,0.83732876712328763,2541,0.87020547945205484,3335,1.1421232876712328,2177,0.7455479452054794,2119,0.74678414096916301,3388,1.1940088105726872,2363,0.83277533039647578]
["Metropolitana","Vitória",3704,1886,3833,1916.5,959,0.50848356309650056,560,0.29219932168014612,1511,0.80116648992576878,1577,0.83616118769883352,2111,1.1193001060445387,1411,0.74814422057264052,1276,0.66579702582833289,2333,1.2173232454996086,1668,0.87033655100443519]
[]
[null,"Total Norte",{"$f":"SUMIF($A$3:$A$80,\"Norte\",C$3:C$80)","v":5797},{"$f":"SUMIF($A$3:$A$80,\"Norte\",D$3:D$80)","v":3052},{"$f":"SUMIF($A$3:$A$80,\"Norte\",E$3:E$80)","v":5789},{"$f":"SUMIF($A$3:$A$80,\"Norte\",F$3:F$80)","v":2894.5},{"$f":"SUMIF($A$3:$A$80,\"Norte\",G$3:G$80)","v":2136},{"$f":"G82/D82","v":0.69986893840104847},{"$f":"SUMIF($A$3:$A$80,\"Norte\",I$3:I$80)","v":1219},{"$f":"I82/F82","v":0.42114354810848159},{"$f":"SUMIF($A$3:$A$80,\"Norte\",K$3:K$80)","v":2820},{"$f":"K82/D82","v":0.92398427260812577},{"$f":"SUMIF($A$3:$A$80,\"Norte\",M$3:M$80)","v":2885},{"$f":"M82/D82","v":0.94528178243774574},{"$f":"SUMIF($A$3:$A$80,\"Norte\",O$3:O$80)","v":4630},{"$f":"O82/D82","v":1.517038007863696},{"$f":"SUMIF($A$3:$A$80,\"Norte\",Q$3:Q$80)","v":2511},{"$f":"Q82/D82","v":0.82273918741808649},{"$f":"SUMIF($A$3:$A$80,\"Norte\",S$3:S$80)","v":2187},{"$f":"S82/F82","v":0.75557091034721025},{"$f":"SUMIF($A$3:$A$80,\"Norte\",U$3:U$80)","v":4446},{"$f":"U82/F82","v":1.536016583174987},{"$f":"SUMIF($A$3:$A$80,\"Norte\",W$3:W$80)","v":2587},{"$f":"W82/F82","v":0.89376403523924686}]
[null,"Total Central",{"$f":"SUMIF($A$3:$A$80,\"Central\",C$3:C$80)","v":7093},{"$f":"SUMIF($A$3:$A$80,\"Central\",D$3:D$80)","v":3726},{"$f":"SUMIF($A$3:$A$80,\"Central\",E$3:E$80)","v":6843},{"$f":"SUMIF($A$3:$A$80,\"Central\",F$3:F$80)","v":3421.5},{"$f":"SUMIF($A$3:$A$80,\"Central\",G$3:G$80)","v":2514},{"$f":"G83/D83","v":0.67471819645732689},{"$f":"SUMIF($A$3:$A$80,\"Central\",I$3:I$80)","v":1201},{"$f":"I83/F83","v":0.35101563641677624},{"$f":"SUMIF($A$3:$A$80,\"Central\",K$3:K$80)","v":3230},{"$f":"K83/D83","v":0.8668813741277509},{"$f":"SUMIF($A$3:$A$80,\"Central\",M$3:M$80)","v":3335},{"$f":"M83/D83","v":0.89506172839506171},{"$f":"SUMIF($A$3:$A$80,\"Central\",O$3:O$80)","v":5697},{"$f":"O83/D83","v":1.5289855072463767},{"$f":"SUMIF($A$3:$A$80,\"Central\",Q$3:Q$80)","v":3025},{"$f":"Q83/D83","v":0.81186258722490612},{"$f":"SUMIF($A$3:$A$80,\"Central\",S$3:S$80)","v":2560},{"$f":"S83/F83","v":0.74820984948122171},{"$f":"SUMIF($A$3:$A$80,\"Central\",U$3:U$80)","v":5701},{"$f":"U83/F83","v":1.6662282624579863},{"$f":"SUMIF($A$3:$A$80,\"Central\",W$3:W$80)","v":3095},{"$f":"W83/F83","v":0.90457401724389885}]
[null,"Total Metropolitana",{"$f":"SUMIF($A$3:$A$80,\"Metropolitana\",C$3:C$80)","v":29863},{"$f":"SUMIF($A$3:$A$80,\"Metropolitana\",D$3:D$80)","v":15569},{"$f":"SUMIF($A$3:$A$80,\"Metropolitana\",E$3:E$80)","v":30197},{"$f":"SUMIF($A$3:$A$80,\"Metropolitana\",F$3:F$80)","v":15098.5},{"$f":"SUMIF($A$3:$A$80,\"Metropolitana\",G$3:G$80)","v":9805},{"$f":"G84/D84","v":0.62977712120238938},{"$f":"SUMIF($A$3:$A$80,\"Metropolitana\",I$3:I$80)","v":4909},{"$f":"I84/F84","v":0.32513163559293967},{"$f":"SUMIF($A$3:$A$80,\"Metropolitana\",K$3:K$80)","v":13800},{"$f":"K84/D84","v":0.88637677435930373},{"$f":"SUMIF($A$3:$A$80,\"Metropolitana\",M$3:M$80)","v":14158},{"$f":"M84/D84","v":0.90937118633181324},{"$f":"SUMIF($A$3:$A$80,\"Metropolitana\",O$3:O$80)","v":20155},{"$f":"O84/D84","v":1.2945597019718671},{"$f":"SUMIF($A$3:$A$80,\"Metropolitana\",Q$3:Q$80)","v":12454},{"$f":"Q84/D84","v":0.7999229237587514},{"$f":"SUMIF($A$3:$A$80,\"Metropolitana\",S$3:S$80)","v":11185},{"$f":"S84/F84","v":0.74080206643044011},{"$f":"SUMIF($A$3:$A$80,\"Metropolitana\",U$3:U$80)","v":20063},{"$f":"U84/F84","v":1.3288074974335198},{"$f":"SUMIF($A$3:$A$80,\"Metropolitana\",W$3:W$80)","v":13466},{"$f":"W84/F84","v":0.89187667649104219}]
[null,"Total Sul",{"$f":"SUMIF($A$3:$A$80,\"sul\",C$3:C$80)","v":8267},{"$f":"SUMIF($A$3:$A$80,\"sul\",D$3:D$80)","v":4308},{"$f":"SUMIF($A$3:$A$80,\"sul\",E$3:E$80)","v":8688},{"$f":"SUMIF($A$3:$A$80,\"sul\",F$3:F$80)","v":4344},{"$f":"SUMIF($A$3:$A$80,\"sul\",G$3:G$80)","v":3217},{"$f":"G85/D85","v":0.74675023212627667},{"$f":"SUMIF($A$3:$A$80,\"sul\",I$3:I$80)","v":1542},{"$f":"I85/F85","v":0.35497237569060774},{"$f":"SUMIF($A$3:$A$80,\"sul\",K$3:K$80)","v":4330},{"$f":"K85/D85","v":1.0051067780872796},{"$f":"SUMIF($A$3:$A$80,\"sul\",M$3:M$80)","v":4449},{"$f":"M85/D85","v":1.0327298050139275},{"$f":"SUMIF($A$3:$A$80,\"sul\",O$3:O$80)","v":7398},{"$f":"O85/D85","v":1.7172701949860725},{"$f":"SUMIF($A$3:$A$80,\"sul\",Q$3:Q$80)","v":3819},{"$f":"Q85/D85","v":0.88649025069637888},{"$f":"SUMIF($A$3:$A$80,\"sul\",S$3:S$80)","v":2950},{"$f":"S85/F85","v":0.67909760589318602},{"$f":"SUMIF($A$3:$A$80,\"sul\",U$3:U$80)","v":7014},{"$f":"U85/F85","v":1.6146408839779005},{"$f":"SUMIF($A$3:$A$80,\"sul\",W$3:W$80)","v":3843},{"$f":"W85/F85","v":0.88466850828729282}]
[null,"Total Espírito Santo",{"$f":"SUM(C3:C80)","v":51020},{"$f":"SUM(D3:D80)","v":26655},{"$f":"SUM(E3:E80)","v":51517},{"$f":"SUM(F3:F80)","v":25758.5},{"$f":"SUM(G3:G80)","v":17672},{"$f":"G86/D86","v":0.66299005815044076},{"$f":"SUM(I3:I80)","v":8871},{"$f":"I86/F86","v":0.34439117184618667},{"$f":"SUM(K3:K80)","v":24180},{"$f":"K86/D86","v":0.90714687675858185},{"$f":"SUM(M3:M80)","v":24827},{"$f":"M86/D86","v":0.93141999624835869},{"$f":"SUM(O3:O80)","v":37880},{"$f":"O86/D86","v":1.4211217407615833},{"$f":"SUM(Q3:Q80)","v":21809},{"$f":"Q86/D86","v":0.81819546051397485},{"$f":"SUM(S3:S80)","v":18882},{"$f":"S86/F86","v":0.73303957916804163},{"$f":"SUM(U3:U80)","v":37224},{"$f":"U86/F86","v":1.445115204689714},{"$f":"SUM(W3:W80)","v":22991},{"$f":"W86/F86","v":0.89255973756235807}]
[]
[]
[]
[" Fonte: Vacina e Confia, em 03 de Julho de 2024.**"]
["**Dados referente às doses aplicadas no período de Junho de 2024"]
["Cobertura Calculada por município de residência do cidadão (no Vacina e Confia, a origem da informação é o endereço que consta no cadastro do cidadão preenchido manualmente por meio do autocadastro ou pelo cadastro realizado por um profissional de saúde no momento do atendimento)."]
[]
["1 População anual extraída do MS/SVS/DASIS - SINASC/DASIS/SVS/MS 2023 (hoje preliminares) referente ao período de março a dezembro de 2023 e SINASC/DASIS/SVS/MS 2024 referente ao período de janeiro a fevereiro de 2024."]
[]
["² População proporcional extraída do MS/SVS/DASIS - SINASC/DASIS/SVS/MS 2023 (hoje preliminares) referente ao período de março e abril de 2023 somada a população extraída do SINASC/DASIS/SVS/MS 2024 referente ao período de janeiro e fevereiro de 2024."]
["Sinasc, em 10 de Julho de 2024."]
["Observações:"]
["Imunobiológicos que foram recebidos parcialmente pelo estado no mês da análise, sendo distribuídos em quantidades reduzidas às regionais e municípios: Varicela, Haemophilus influenzae tipo B, Soro Antirrábico Humano."]
["Imunobiológicos que não foram recebidos pelo estado no mês da análise, não sendo possível a distribuição às regionais e municípios: Meningo C, Tetra viral, Sars-cov-10 Bivalente, DTPa (CRIE) e Sars-Cov2-10 Doses Pediátricas."]
["Imunobiológicos com indisponibilidade de aquisição e distribuição no mês da análise: "]
["Imunobiológicos com indisponibilidade de aquisição e distribuição no mês da análise: Tetra Viral."]

{"sheet":"Cobert. COVID-19 Menores 4 anos","index":4,"n_rows":92,"n_cols":3,"rows_kept":92,"cut":false,"hidden":true,"merged":[[90,0,90,9],[91,0,91,9],[86,0,86,9],[87,0,87,9],[88,0,88,9],[89,0,89,9]]}
["Regional ","Município","Série Histórica "]
["Região Metropolitana","Afonso Cláudio"]
["Região Norte","Água Doce do Norte"]
["Região Central","Águia Branca"]
["Região Sul","Alegre"]
["Região Sul","Alfredo Chaves"]
["Região Central","Alto Rio Novo"]
["Região Sul","Anchieta"]
["Região Sul","Apiacá"]
["Região Metropolitana","Aracruz"]
["Região Sul","Atilio Vivacqua"]
["Região Central","Baixo Guandu"]
["Região Norte","Barra de São Francisco"]
["Região Norte","Boa Esperança"]
["Região Sul","Bom Jesus do Norte"]
["Região Metropolitana","Brejetuba"]
["Região Sul","Cachoeiro de Itapemirim"]
["Região Metropolitana","Cariacica"]
["Região Sul","Castelo"]
["Região Central","Colatina"]
["Região Norte","Conceição da Barra"]
["Região Metropolitana","Conceição do Castelo"]
["Região Sul","Divino de São Lourenço"]
["Região Metropolitana","Domingos Martins"]
["Região Sul","Dores do Rio Preto"]
["Região Norte","Ecoporanga"]
["Região Metropolitana","Fundão"]
["Região Central","Governador Lindenberg"]
["Região Sul","Guaçuí"]
["Região Metropolitana","Guarapari"]
["Região Metropolitana","Ibatiba"]
["Região Metropolitana","Ibiraçu"]
["Região Sul","Ibitirama"]
["Região Sul","Iconha"]
["Região Sul","Irupi"]
["Região Metropolitana","Itaguaçu"]
["Região Sul","Itapemirim"]
["Região Metropolitana","Itarana"]
["Região Sul","Iúna"]
["Região Norte","Jaguaré"]
["Região Sul","Jerônimo Monteiro"]
["Região Metropolitana","João Neiva"]
["Região Metropolitana","Laranja da Terra"]
["Região Central","Linhares"]
["Região Central","Mantenópolis"]
["Região Sul","Marataízes"]
["Região Metropolitana","Marechal Floriano"]
["Região Central","Marilândia"]
["Região Sul","Mimoso do Sul"]
["Região Norte","Montanha"]
["Região Norte","Mucurici"]
["Região Sul","Muniz Freire"]
["Região Sul","Muqui"]
["Região Norte","Nova Venécia"]
["Região Central","Pancas"]
["Região Norte","Pedro Canário"]
["Região Norte","Pinheiros"]
["Região Sul","Piúma"]
["Região Norte","Ponto Belo"]
["Região Sul","Presidente Kennedy"]
["Região Central","Rio Bananal"]
["Região Sul","Rio Novo do Sul"]
["Região Metropolitana","Santa Leopoldina"]
["Região Metropolitana","Santa Maria de Jetibá"]
["Região Metropolitana","Santa Teresa"]
["Região Central","São Domingos do Norte"]
["Região Central","São Gabriel da Palha"]
["Região Sul","São José do Calçado"]
["Região Norte","São Mateus"]
["Região Central","São Roque do Canaã"]
["Região Metropolitana","Serra"]
["Região Central","Sooretama"]
["Região Sul","Vargem Alta"]
["Região Metropolitana","Venda Nova do Imigrante"]
["Região Metropolitana","Viana"]
["Região Norte","Vila Pavão"]
["Região Central","Vila Valério"]
["Região Metropolitana","Vila Velha"]
["Região Metropolitana","Vitória"]
[]
[null,"Espírito Santo"]
[null,"Região Norte"]
[null,"Região Central"]
[null,"Região Metropolitana"]
[null,"Região Sul"]
[]
["Pfizer Pediátrica Menor de 5 anos e Coronavac"]
["Período avaliado: 2021-2024"]
["Fonte: https://www.vacinaeconfia.es.gov.br"]
["*Dados de janeiro/2024 extraídos do Vacina e Confia em 04/01/2024"]
["População proporcional extraída do SINASC 2022 (menores de 1 ano) e Censo IBGE 2022 (demais idades)"]
["Cobertura Calculada por município de procedência da vacinação"]

{"sheet":"Cobert. Meningo C Adolescentes","index":5,"n_rows":101,"n_cols":3,"rows_kept":101,"cut":false,"hidden":false,"merged":[[79,0,79,1]]}
["Regional ","Município","Série Histórica "]
["Metropolitana","Afonso Cláudio",56.48432698217578]
["Central Norte","Água Doce do Norte",65.361445783132538]
["Central Norte","Águia Branca",59.126984126984127]
["Sul","Alegre",70.244263508512219]
["Sul","Alfredo Chaves",40.506329113924053]
["Central Norte","Alto Rio Novo",86.165048543689309]
["Sul","Anchieta",76.388888888888886]
["Sul","Apiacá",29.395604395604398]
["Metropolitana","Aracruz",76.60244535012967]
["Sul","Atilio Vivacqua",75.9765625]
["Central Norte","Baixo Guandu",62.155059132720105]
["Central Norte","Barra de São Francisco",64.91760624457936]
["Central Norte","Boa Esperança",57.784011220196355]
["Sul","Bom Jesus do Norte",51.055662188099802]
["Metropolitana","Brejetuba",80.345285524568382]
["Sul","Cachoeiro de Itapemirim",75.434133392323858]
["Metropolitana","Cariacica",70.787596742374433]
["Sul","Castelo",76.511335012594458]
["Central Norte","Colatina",60.104279036317877]
["Central Norte","Conceição da Barra",54.477611940298509]
["Metropolitana","Conceição do Castelo",74.324324324324323]
["Sul","Divino de São Lourenço",59.92647058823529]
["Metropolitana","Domingos Martins",75.842044134727061]
["Sul","Dores do Rio Preto",73.490813648293965]
["Central Norte","Ecoporanga",60.422163588390497]
["Metropolitana","Fundão",73.794549266247373]
["Central Norte","Governador Lindenberg",73.27272727272728]
["Sul","Guaçuí",65.782493368700273]
["Metropolitana","Guarapari",66.590319132692017]
["Metropolitana","Ibatiba",69.884726224783861]
["Metropolitana","Ibiraçu",72.99651567944251]
["Sul","Ibitirama",67.713787085514838]
["Sul","Iconha",71.850393700787393]
["Sul","Irupi",64.674634794156702]
["Metropolitana","Itaguaçu",63.961038961038966]
["Sul","Itapemirim",57.16730851519042]
["Metropolitana","Itarana",63.317757009345797]
["Sul","Iúna",61.125319693094625]
["Central Norte","Jaguaré",59.197324414715723]
["Sul","Jerônimo Monteiro",80.106571936056838]
["Metropolitana","João Neiva",70.864946889226104]
["Metropolitana","Laranja da Terra",64.754098360655746]
["Central Norte","Linhares",68.164271927943389]
["Central Norte","Mantenópolis",76.338028169014081]
["Sul","Marataízes",80.035730236712823]
["Metropolitana","Marechal Floriano",75.379609544468551]
["Central Norte","Marilândia",70.545454545454547]
["Sul","Mimoso do Sul",65.056082830025886]
["Central Norte","Montanha",72.38095238095238]
["Central Norte","Mucurici",63.636363636363633]
["Sul","Muniz Freire",64.285714285714292]
["Sul","Muqui",66.314199395770387]
["Central Norte","Nova Venécia",50.432989690721655]
["Central Norte","Pancas",65.856236786469353]
["Central Norte","Pedro Canário",69.912210694333595]
["Central Norte","Pinheiros",60.056457304163722]
["Sul","Piúma",65.101289134438304]
["Central Norte","Ponto Belo",57.323232323232318]
["Sul","Presidente Kennedy",84.657534246575338]
["Central Norte","Rio Bananal",76.868686868686865]
["Sul","Rio Novo do Sul",58.045977011494251]
["Metropolitana","Santa Leopoldina",49.291338582677163]
["Metropolitana","Santa Maria de Jetibá",71.75035194744251]
["Metropolitana","Santa Teresa",75.047438330170777]
["Central Norte","São Domingos do Norte",69.268292682926827]
["Central Norte","São Gabriel da Palha",54.084158415841586]
["Sul","São José do Calçado",64.673913043478265]
["Central Norte","São Mateus",60.230024213075062]
["Central Norte","São Roque do Canaã",77.849462365591393]
["Metropolitana","Serra",66.811130602277018]
["Central Norte","Sooretama",76.851311953352777]
["Sul","Vargem Alta",71.235521235521233]
["Metropolitana","Venda Nova do Imigrante",69.34046345811052]
["Metropolitana","Viana",70.035193564605322]
["Central Norte","Vila Pavão",81.004366812227062]
["Central Norte","Vila Valério",84.513274336283189]
["Metropolitana","Vila Velha",73.267596673785619]
["Metropolitana","Vitória",76.97907188353048]
["Total",null,74.113697494286811]
[]
["Meningocócica Conjudada C e Meningocócica ACWY"]
["Período avaliado: 2016-2024"]
["Fonte: http://tabnet.datasus.gov.br/ e https://www.vacinaeconfia.es.gov.br"]
["*Dados parciais. Dados de janeiro/2022 a abril/2022 extraídos do TABNET em 10/05/2024"]
["*Dados de Maio/2024 extraídos do Vacina e Confia em Junho/2024"]
["População proporcional extraída do Censo IBGE 2022"]
["Cobertura Calculada por município de procedência da vacinação"]
[]
["Observações:"]
["Imunobiológicos que foram recebidos parcialmente pelo estado no mês da análise, sendo distribuídos em quantidades reduzidas às regionais e municípios: Varicela, Febre Amarela e HPV Quadrivalente."]
["Imunobiológicos que não foram recebidos pelo estado no mês da análise, não sendo possível a distribuição às regionais e municípios: Meningo C, Hepatite A (CRIE), HIB, Hepatite A Rotina Pediátrica, DTPa (CRIE)."]
["Imunobiológicos com indisponibilidade de aquisição e distribuição no mês da análise: Tetra Viral."]
[]
[]
[]
[]
["Observações:"]
["Imunobiológicos que foram recebidos parcialmente pelo estado no mês da análise, sendo distribuídos em quantidades reduzidas às regionais e municípios: Varicela, Haemophilus influenzae tipo B, Soro Antirrábico Humano."]
["Imunobiológicos que não foram recebidos pelo estado no mês da análise, não sendo possível a distribuição às regionais e municípios: Meningo C, Tetra viral, Sars-cov-10 Bivalente, DTPa (CRIE) e Sars-Cov2-10 Doses Pediátricas."]
["Imunobiológicos com indisponibilidade de aquisição e distribuição no mês da análise:"]

{"sheet":"Cobert. HPV ","index":6,"n_rows":94,"n_cols":4,"rows_kept":94,"cut":false,"hidden":false,"merged":[[86,0,86,5],[87,0,87,5],[88,0,88,5],[79,0,79,1],[82,0,82,5],[83,0,83,5],[84,0,84,5],[85,0,85,5]]}
["REGIONAL","MUNICÍPIO","HPV* Quadrivalente D1 Total - Feminino","HPV* Quadrivalente D1 Total - Masculino"]
["METROPOLITANA","Afonso Cláudio",85.295349811478843,78.927524088814422]
["CENTRAL-NORTE","Água Doce do Norte",86.119554204660588,60.99290780141844]
["CENTRAL-NORTE","Águia Branca",71.135430916552664,76.607387140902873]
["SUL","Alegre",84.679393049437095,67.156142927068046]
["SUL","Alfredo Chaves",82.194616977225678,60.041407867494826]
["CENTRAL-NORTE","Alto Rio Novo",103.15091210613599,91.873963515754568]
["SUL","Anchieta",94.336359706009503,83.960224816255945]
["SUL","Apiacá",71.669793621013127,50.656660412757972]
["METROPOLITANA","Aracruz",85.867970660146696,72.004889975550128]
["SUL","Atílio Vivácqua",103.26633165829146,92.462311557788951]
["CENTRAL-NORTE","Baixo Guandu",84.605320540776276,68.12036633231574]
["CENTRAL-NORTE","Barra de São Francisco",76.847857348288755,60.454414725337934]
["CENTRAL-NORTE","Boa Esperança",87.51191611058151,51.286939942802668]
["SUL","Bom Jesus do Norte",86.458333333333343,66.666666666666657]
["METROPOLITANA","Brejetuba",92.294220665499125,74.255691768826608]
["SUL","Cachoeiro de Itapemirim",88.434673921035227,87.214175428277329]
["METROPOLITANA","Cariacica",84.606636339309603,49.8996521273749]
["SUL","Castelo",94.093178036605664,87.603993344425959]
["CENTRAL-NORTE","Colatina",54.621547291641761,45.629558770776036]
["CENTRAL-NORTE","Conceição da Barra",82.683307332293282,69.73478939157566]
["METROPOLITANA","Conceição do Castelo",99.014238773274926,84.337349397590373]
["SUL","Divino de São Lourenço",77.777777777777786,88.888888888888886]
["METROPOLITANA","Domingos Martins",93.271818531334105,78.123798539023454]
["SUL","Dores do Rio Preto",96.88073394495413,85.87155963302753]
["CENTRAL-NORTE","Ecoporanga",84.493284493284492,68.376068376068375]
["METROPOLITANA","Fundão",83.3917309039944,65.31184302733007]
["CENTRAL-NORTE","Governador Lindenberg",90.394088669950733,83.251231527093594]
["SUL","Guaçuí",89.221293444786625,72.503299604047513]
["METROPOLITANA","Guarapari",77.41803697273005,44.591972219385148]
["METROPOLITANA","Ibatiba",89.54056695992179,78.005865102639291]
["METROPOLITANA","Ibiraçu",91.788526434195731,67.041619797525314]
["SUL","Ibitirama",50.647820965842172,61.719670200235569]
["SUL","Iconha",95.372750642673523,88.688946015424165]
["SUL","Irupi",70.159857904085257,84.547069271758431]
["METROPOLITANA","Itaguaçu",94.570135746606326,47.285067873303163]
["SUL","Itapemirim",69.936157864190363,70.284387695879275]
["METROPOLITANA","Itarana",85.403726708074529,78.260869565217391]
["SUL","Iúna",77.925417916845262,81.440205743677666]
["CENTRAL-NORTE","Jaguaré",92.606422703510077,76.624346527259149]
["SUL","Jerônimo Monteiro",95.73690621193667,87.210718635809997]
["METROPOLITANA","João Neiva",96.887966804979257,75.31120331950207]
["METROPOLITANA","Laranja da Terra",81.132075471698116,65.229110512129381]
["CENTRAL-NORTE","Linhares",78.229203855765789,62.149232416993925]
["CENTRAL-NORTE","Mantenópolis",90.874159462055715,60.902977905859743]
["SUL","Marataízes",96.9096909690969,98.049804980498038]
["METROPOLITANA","Marechal Floriano",96.567164179104481,68.059701492537314]
["CENTRAL-NORTE","Marilândia",102.24438902743142,91.271820448877804]
["SUL","Mimoso do Sul",81.450653983353149,71.343638525564799]
["CENTRAL-NORTE","Montanha",95.13444302176697,86.171574903969272]
["CENTRAL-NORTE","Mucurici",98.324022346368707,76.536312849162016]
["SUL","Muniz Freire",92.441860465116278,92.877906976744185]
["SUL","Muqui",84.569138276553105,75.350701402805612]
["CENTRAL-NORTE","Nova Venécia",88.907148726376334,80.032867707477408]
["CENTRAL-NORTE","Pancas",88.951841359773383,79.745042492917847]
["CENTRAL-NORTE","Pedro Canário",91.523605150214593,77.038626609442062]
["CENTRAL-NORTE","Pinheiros",79.80952380952381,60.38095238095238]
["SUL","Piúma",72.737886748394629,63.981319322825449]
["CENTRAL-NORTE","Ponto Belo",92.982456140350877,77.543859649122808]
["SUL","Presidente Kennedy",86.701208981001727,85.146804835924002]
["CENTRAL-NORTE","Rio Bananal",102.4454725710509,101.25578321216126]
["SUL","Rio Novo do Sul",74.365482233502533,84.263959390862937]
["METROPOLITANA","Santa Leopoldina",65.396825396825392,38.306878306878303]
["METROPOLITANA","Santa Maria de Jetibá",90.874882408278452,55.001567889620574]
["METROPOLITANA","Santa Teresa",103.61604207758054,74.556213017751489]
["CENTRAL-NORTE","São Domingos do Norte",98.84297520661157,80.661157024793383]
["CENTRAL-NORTE","São Gabriel da Palha",82.417582417582409,72.781065088757401]
["SUL","São José do Calçado",83.800243605359313,86.723507917174175]
["CENTRAL-NORTE","São Mateus",85.344568161300032,64.459825458922666]
["CENTRAL-NORTE","São Roque do Canaã",106.06936416184971,75.433526011560687]
["METROPOLITANA","Serra",82.191656658584662,42.614035485259791]
["CENTRAL-NORTE","Sooretama",85.013623978201636,79.174776177500974]
["SUL","Vargem Alta",87.64940239043824,87.915006640106242]
["METROPOLITANA","Venda Nova do Imigrante",99.938461538461539,88.73846153846155]
["METROPOLITANA","Viana",90.786819098856768,69.199731002017487]
["CENTRAL-NORTE","Vila Pavão",97.406340057636882,71.181556195965427]
["CENTRAL-NORTE","Vila Valério",104.9800796812749,85.856573705179287]
["METROPOLITANA","Vila Velha",90.003014772384688,65.336147120892377]
["METROPOLITANA","Vitória",101.30706750070021,66.632433946410231]
["TOTAL",null,86.028909418277891,80.307604287613373]
[]
[]
["Cobertura Vacinal HPV 2024"]
["Período avaliado: 2013-2024"]
["Fonte: http://tabnet.datasus.gov.br/"]
["Fonte: https://www.vacinaeconfia.es.gov.br"]
["*Dados parciais gerados em 10/05/2024 (TABNET) e Junho/2024 (VeC)"]
["População proporcional extraída do Censo IBGE 2022"]
["Cobertura Calculada por município de procedência da vacinação"]
[]
["Observações:"]
["Imunobiológicos que foram recebidos parcialmente pelo estado no mês da análise, sendo distribuídos em quantidades reduzidas às regionais e municípios: Varicela, Haemophilus influenzae tipo B, Soro Antirrábico Humano."]
["Imunobiológicos que não foram recebidos pelo estado no mês da análise, não sendo possível a distribuição às regionais e municípios: Meningo C, Tetra viral, Sars-cov-10 Bivalente, DTPa (CRIE) e Sars-Cov2-10 Doses Pediátricas."]
["Imunobiológicos com indisponibilidade de aquisição e distribuição no mês da análise:"]

{"sheet":"dTpa gestantes - procedência","index":7,"n_rows":100,"n_cols":6,"rows_kept":100,"cut":false,"hidden":false,"merged":[[90,0,90,11],[85,1,85,3],[91,0,92,12],[93,0,94,12]]}
["REGIONAL","MUNICÍPIO","¹POPULAÇÃO GESTANTE ANUAL","²POPULAÇÃO PROPORCIONAL","DOSES APLICADAS dTpa GESTANTES","COBERTURA VACINAL dTpa GESTANTES"]
["Metropolitana","Afonso Cláudio",374,146,134,{"$f":"E2/D2","v":0.9178082191780822}]
["Norte","Água Doce do Norte",185,90,81,{"$f":"E3/D3","v":0.9}]
["Central","Águia Branca",165,67,61,0.91044776119402981]
["Sul","Alegre",330,135,150,1.1111111111111112]
["Sul","Alfredo Chaves",148,59,57,0.96610169491525422]
["Central","Alto Rio Novo",84,27,44,1.6296296296296295]
["Sul","Anchieta",389,169,175,1.0355029585798816]
["Sul","Apiacá",71,37,31,0.83783783783783783]
["Metropolitana","Aracruz",1465,634,644,1.0157728706624605]
["Sul","Atilio Vivacqua",138,64,81,1.265625]
["Central","Baixo Guandu",388,163,146,0.89570552147239269]
["Norte","Barra de São Francisco",553,241,227,0.94190871369294604]
["Norte","Boa Esperança",189,77,90,1.1688311688311688]
["Sul","Bom Jesus do Norte",84,37,44,1.1891891891891893]
["Metropolitana","Brejetuba",214,87,96,1.103448275862069]
["Sul","Cachoeiro de Itapemirim",2460,1105,1009,0.91312217194570133]
["Metropolitana","Cariacica",4873,2069,1954,0.94441759304011597]
["Sul","Castelo",443,192,195,1.015625]
["Central","Colatina",1561,669,717,1.0717488789237668]
["Norte","Conceição da Barra",342,131,185,1.4122137404580153]
["Metropolitana","Conceição do Castelo",169,78,67,0.85897435897435892]
["Sul","Divino de São Lourenço",65,25,18,0.72]
["Metropolitana","Domingos Martins",417,186,205,1.1021505376344085]
["Sul","Dores do Rio Preto",89,34,43,1.2647058823529411]
["Norte","Ecoporanga",266,125,118,0.94399999999999995]
["Metropolitana","Fundão",221,94,97,1.0319148936170213]
["Central","Governador Lindenberg",150,72,58,0.80555555555555558]
["Sul","Guaçuí",396,150,144,0.96]
["Metropolitana","Guarapari",1732,752,728,0.96808510638297873]
["Metropolitana","Ibatiba",362,153,198,1.2941176470588236]
["Metropolitana","Ibiraçu",154,70,85,1.2142857142857142]
["Sul","Ibitirama",127,52,72,1.3846153846153846]
["Sul","Iconha",118,47,57,1.2127659574468086]
["Sul","Irupi",197,75,102,1.36]
["Metropolitana","Itaguaçu",135,59,75,1.271186440677966]
["Sul","Itapemirim",541,201,223,1.1094527363184079]
["Metropolitana","Itarana",140,65,68,1.0461538461538462]
["Sul","Iúna",474,189,183,0.96825396825396826]
["Norte","Jaguaré",489,212,226,1.0660377358490567]
["Sul","Jerônimo Monteiro",156,59,64,1.0847457627118644]
["Metropolitana","João Neiva",178,70,70,1]
["Metropolitana","Laranja da Terra",96,43,52,1.2093023255813953]
["Central","Linhares",2598,1125,1089,0.96799999999999997]
["Central","Mantenópolis",161,78,71,0.91025641025641024]
["Sul","Marataízes",570,266,260,0.97744360902255634]
["Metropolitana","Marechal Floriano",227,102,100,0.98039215686274506]
["Central","Marilândia",167,61,62,1.0163934426229508]
["Sul","Mimoso do Sul",262,105,111,1.0571428571428572]
["Norte","Montanha",233,76,97,1.2763157894736843]
["Norte","Mucurici",68,21,37,1.7619047619047619]
["Sul","Muniz Freire",210,86,113,1.3139534883720929]
["Sul","Muqui",163,60,82,1.3666666666666667]
["Norte","Nova Venécia",681,301,289,0.96013289036544847]
["Central","Pancas",216,91,89,0.97802197802197799]
["Norte","Pedro Canário",305,132,139,1.053030303030303]
["Norte","Pinheiros",301,109,137,1.2568807339449541]
["Sul","Piúma",309,122,141,1.1557377049180328]
["Norte","Ponto Belo",75,25,37,1.48]
["Sul","Presidente Kennedy",194,94,94,1]
["Central","Rio Bananal",299,130,137,1.0538461538461539]
["Sul","Rio Novo do Sul",120,47,47,1]
["Metropolitana","Santa Leopoldina",93,32,35,1.09375]
["Metropolitana","Santa Maria de Jetibá",682,302,300,0.99337748344370858]
["Metropolitana","Santa Teresa",299,120,126,1.05]
["Central","São Domingos do Norte",126,58,44,0.75862068965517238]
["Central","São Gabriel da Palha",440,172,205,{"$f":"E67/D67","v":1.191860465116279}]
["Sul","São José do Calçado",101,44,42,0.95454545454545459]
["Norte","São Mateus",1742,613,691,1.1272430668841762]
["Central","São Roque do Canaã",131,77,63,0.81818181818181823]
["Metropolitana","Serra",7393,3287,2931,0.89169455430483724]
["Central","Sooretama",439,196,216,1.1020408163265305]
["Sul","Vargem Alta",265,121,122,1.0082644628099173]
["Metropolitana","Venda Nova do Imigrante",392,162,164,1.0123456790123457]
["Metropolitana","Viana",980,430,430,1]
["Norte","Vila Pavão",91,43,70,1.6279069767441861]
["Central","Vila Valério",259,121,106,0.87603305785123964]
["Metropolitana","Vila Velha",5698,2372,2191,0.92369308600337263]
["Metropolitana","Vitória",3748,1596,1694,1.0614035087719298]
[]
[null,"Total Norte",{"$f":"SUMIF($A$2:$A$79,\"Norte\",C$2:C$79)","v":5520},{"$f":"SUMIF($A$2:$A$79,\"Norte\",D$2:D$79)","v":2196},{"$f":"SUMIF($A$2:$A$79,\"Norte\",E$2:E$79)","v":2424},1.1038251366120218]
[null,"Total Central",{"$f":"SUMIF($A$2:$A$79,\"CENTRAL\",C$2:C$79)","v":7184},{"$f":"SUMIF($A$2:$A$79,\"CENTRAL\",D$2:D$79)","v":3107},{"$f":"SUMIF($A$2:$A$79,\"CENTRAL\",E$2:E$79)","v":3108},1.0003218538783392]
[null,"Total Metropolitana",{"$f":"SUMIF($A$2:$A$79,\"METROPOLITANA\",C$2:C$79)","v":30042},{"$f":"SUMIF($A$2:$A$79,\"METROPOLITANA\",D$2:D$79)","v":12909},{"$f":"SUMIF($A$2:$A$79,\"METROPOLITANA\",E$2:E$79)","v":12444},0.96397861956774344]
[null,"Total Sul",{"$f":"SUMIF($A$2:$A$79,\"SUL\",C$2:C$79)","v":8420},{"$f":"SUMIF($A$2:$A$79,\"SUL\",D$2:D$79)","v":3575},{"$f":"SUMIF($A$2:$A$79,\"SUL\",E$2:E$79)","v":3660},1.0237762237762238]
[null,"TOTAL ES",{"$f":"SUM(C2:C79)","v":51166},{"$f":"SUM(D2:D79)","v":21787},{"$f":"SUM(E2:E79)","v":21636},{"$f":"E85/D85","v":0.99306926148620733}]
[null,"HOMOGENEIDADE ENTRE MUNICÍPIOS",null,null,{"$f":"COUNTIF(F2:F79,\">=0,95\")","v":60},{"$f":"E86/78","v":0.76923076923076927}]
[]
[]
[" Vacina e Confia, em 04 de Junho de 2024.**"]
["**Dados referente às doses aplicadas no período de Maio de 2024"]
["Cobertura Calculada por município de procedência da vacinação"]
["1 População anual extraída do MS/SVS/DASIS - SINASC/DASIS/SVS/MS 2023 (hoje preliminares) referente ao período de março a dezembro de 2023 e SINASC/DASIS/SVS/MS 2024 referente ao período de janeiro a fevereiro de 2024."]
[]
["² População proporcional extraída do MS/SVS/DASIS - SINASC/DASIS/SVS/MS 2023 (hoje preliminares) referente ao período de março  e abril de 2023 somada a população extraída do SINASC/DASIS/SVS/MS 2024 referente ao período de janeiro e fevereiro de 2024."]
[]
["Sinasc, em 10 de Julho de 2024."]
["Observações:"]
["Imunobiológicos que foram recebidos parcialmente pelo estado no mês da análise, sendo distribuídos em quantidades reduzidas às regionais e municípios: Varicela, Haemophilus influenzae tipo B, Soro Antirrábico Humano."]
["Imunobiológicos que não foram recebidos pelo estado no mês da análise, não sendo possível a distribuição às regionais e municípios: Meningo C, Tetra viral, Sars-cov-10 Bivalente, DTPa (CRIE) e Sars-Cov2-10 Doses Pediátricas."]
["Imunobiológicos com indisponibilidade de aquisição e distribuição no mês da análise:"]

{"sheet":"dTpa gestantes - residência","index":8,"n_rows":100,"n_cols":6,"rows_kept":100,"cut":false,"hidden":false,"merged":[[85,1,85,3],[90,0,90,11],[91,0,92,12],[93,0,94,12]]}
["REGIONAL","MUNICÍPIO","¹POPULAÇÃO GESTANTE ANUAL","¹POPULAÇÃO PROPORCIONAL","DOSES APLICADAS dTpa GESTANTES","COBERTURA VACINAL dTpa GESTANTES"]
["Metropolitana","Afonso Cláudio",374,146,146,{"$f":"E2/D2","v":1}]
["Norte","Água Doce do Norte",185,90,63,{"$f":"E3/D3","v":0.7}]
["Central","Águia Branca",165,67,49,0.73134328358208955]
["Sul","Alegre",330,135,171,1.2666666666666666]
["Sul","Alfredo Chaves",148,59,69,1.1694915254237288]
["Central","Alto Rio Novo",84,27,44,1.6296296296296295]
["Sul","Anchieta",389,169,166,0.98224852071005919]
["Sul","Apiacá",71,37,27,0.72972972972972971]
["Metropolitana","Aracruz",1465,634,575,0.90694006309148267]
["Sul","Atilio Vivacqua",138,64,66,1.03125]
["Central","Baixo Guandu",388,163,142,0.87116564417177911]
["Norte","Barra de São Francisco",553,241,228,0.94605809128630702]
["Norte","Boa Esperança",189,77,82,1.0649350649350648]
["Sul","Bom Jesus do Norte",84,37,32,0.86486486486486491]
["Metropolitana","Brejetuba",214,87,83,0.95402298850574707]
["Sul","Cachoeiro de Itapemirim",2460,1105,1002,0.90678733031674208]
["Metropolitana","Cariacica",4873,2069,2216,1.0710488158530691]
["Sul","Castelo",443,192,202,1.0520833333333333]
["Central","Colatina",1561,669,647,0.96711509715994026]
["Norte","Conceição da Barra",342,131,168,1.282442748091603]
["Metropolitana","Conceição do Castelo",169,78,76,0.97435897435897434]
["Sul","Divino de São Lourenço",65,25,22,0.88]
["Metropolitana","Domingos Martins",417,186,226,1.2150537634408602]
["Sul","Dores do Rio Preto",89,34,32,0.94117647058823528]
["Norte","Ecoporanga",266,125,124,0.99199999999999999]
["Metropolitana","Fundão",221,94,89,0.94680851063829785]
["Central","Governador Lindenberg",150,72,70,0.97222222222222221]
["Sul","Guaçuí",396,150,127,0.84666666666666668]
["Metropolitana","Guarapari",1732,752,680,0.9042553191489362]
["Metropolitana","Ibatiba",362,153,195,1.2745098039215685]
["Metropolitana","Ibiraçu",154,70,91,1.3]
["Sul","Ibitirama",127,52,64,1.2307692307692308]
["Sul","Iconha",118,47,68,1.446808510638298]
["Sul","Irupi",197,75,77,1.0266666666666666]
["Metropolitana","Itaguaçu",135,59,66,1.1186440677966101]
["Sul","Itapemirim",541,201,240,1.1940298507462686]
["Metropolitana","Itarana",140,65,62,0.9538461538461539]
["Sul","Iúna",474,189,187,0.98941798941798942]
["Norte","Jaguaré",489,212,217,1.0235849056603774]
["Sul","Jerônimo Monteiro",156,59,52,0.88135593220338981]
["Metropolitana","João Neiva",178,70,68,0.97142857142857142]
["Metropolitana","Laranja da Terra",96,43,48,1.1162790697674418]
["Central","Linhares",2598,1125,1062,0.94399999999999995]
["Central","Mantenópolis",161,78,63,0.80769230769230771]
["Sul","Marataízes",570,266,234,0.87969924812030076]
["Metropolitana","Marechal Floriano",227,102,96,0.94117647058823528]
["Central","Marilândia",167,61,69,1.1311475409836065]
["Sul","Mimoso do Sul",262,105,117,1.1142857142857143]
["Norte","Montanha",233,76,102,1.3421052631578947]
["Norte","Mucurici",68,21,40,1.9047619047619047]
["Sul","Muniz Freire",210,86,90,1.0465116279069768]
["Sul","Muqui",163,60,88,1.4666666666666666]
["Norte","Nova Venécia",681,301,321,1.0664451827242525]
["Central","Pancas",216,91,99,1.0879120879120878]
["Norte","Pedro Canário",305,132,153,1.1590909090909092]
["Norte","Pinheiros",301,109,125,1.1467889908256881]
["Sul","Piúma",309,122,133,1.0901639344262295]
["Norte","Ponto Belo",75,25,47,1.88]
["Sul","Presidente Kennedy",194,94,92,0.97872340425531912]
["Central","Rio Bananal",299,130,145,1.1153846153846154]
["Sul","Rio Novo do Sul",120,47,48,1.0212765957446808]
["Metropolitana","Santa Leopoldina",93,32,42,1.3125]
["Metropolitana","Santa Maria de Jetibá",682,302,253,0.83774834437086088]
["Metropolitana","Santa Teresa",299,120,139,1.1583333333333334]
["Central","São Domingos do Norte",126,58,46,0.7931034482758621]
["Central","São Gabriel da Palha",440,172,191,{"$f":"E67/D67","v":1.1104651162790697}]
["Sul","São José do Calçado",101,44,43,0.97727272727272729]
["Norte","São Mateus",1742,613,608,0.99184339314845027]
["Central","São Roque do Canaã",131,77,71,0.92207792207792205]
["Metropolitana","Serra",7393,3287,2745,0.83510800121691509]
["Central","Sooretama",439,196,223,1.1377551020408163]
["Sul","Vargem Alta",265,121,117,0.96694214876033058]
["Metropolitana","Venda Nova do Imigrante",392,162,159,0.98148148148148151]
["Metropolitana","Viana",980,430,445,1.0348837209302326]
["Norte","Vila Pavão",91,43,66,1.5348837209302326]
["Central","Vila Valério",259,121,100,0.82644628099173556]
["Metropolitana","Vila Velha",5698,2372,1988,0.83811129848229338]
["Metropolitana","Vitória",3748,1596,1461,0.91541353383458646]
[]
[null,"Total Norte",{"$f":"SUMIF($A$2:$A$79,\"Norte\",C$2:C$79)","v":5520},{"$f":"SUMIF($A$2:$A$79,\"Norte\",D$2:D$79)","v":2196},{"$f":"SUMIF($A$2:$A$79,\"Norte\",E$2:E$79)","v":2344},1.0673952641165756]
[null,"Total Central",{"$f":"SUMIF($A$2:$A$79,\"CENTRAL\",C$2:C$79)","v":7184},{"$f":"SUMIF($A$2:$A$79,\"CENTRAL\",D$2:D$79)","v":3107},{"$f":"SUMIF($A$2:$A$79,\"CENTRAL\",E$2:E$79)","v":3021},0.97232056646282583]
[null,"Total Metropolitana",{"$f":"SUMIF($A$2:$A$79,\"METROPOLITANA\",C$2:C$79)","v":30042},{"$f":"SUMIF($A$2:$A$79,\"METROPOLITANA\",D$2:D$79)","v":12909},{"$f":"SUMIF($A$2:$A$79,\"METROPOLITANA\",E$2:E$79)","v":11949},0.92563327910759929]
[null,"Total Sul",{"$f":"SUMIF($A$2:$A$79,\"SUL\",C$2:C$79)","v":8420},{"$f":"SUMIF($A$2:$A$79,\"SUL\",D$2:D$79)","v":3575},{"$f":"SUMIF($A$2:$A$79,\"SUL\",E$2:E$79)","v":3566},0.99748251748251748]
[null,"TOTAL ES",{"$f":"SUM(C2:C79)","v":51166},{"$f":"SUM(D2:D79)","v":21787},{"$f":"SUM(E2:E79)","v":20880},{"$f":"E85/D85","v":0.95836966998668927}]
[null,"HOMOGENEIDADE ENTRE MUNICÍPIOS",null,null,{"$f":"COUNTIF(F2:F79,\">=0,95\")","v":53},{"$f":"E86/78","v":0.67948717948717952}]
[]
[]
[" Vacina e Confia, em 04 de Junho de 2024.**"]
["**Dados referente às doses aplicadas no período de Maio de 2024"]
["Cobertura Calculada por município de procedência da vacinação"]
["1 População anual extraída do MS/SVS/DASIS - SINASC/DASIS/SVS/MS 2023 (hoje preliminares) referente ao período de março a dezembro de 2023 e SINASC/DASIS/SVS/MS 2024 referente ao período de janeiro a fevereiro de 2024."]
[]
["² População proporcional extraída do MS/SVS/DASIS - SINASC/DASIS/SVS/MS 2023 (hoje preliminares) referente ao período de março  e abril de 2023 somada a população extraída do SINASC/DASIS/SVS/MS 2024 referente ao período de janeiro e fevereiro de 2024."]
[]
["Sinasc, em 10 de Julho de 2024."]
["Observações:"]
["Imunobiológicos que foram recebidos parcialmente pelo estado no mês da análise, sendo distribuídos em quantidades reduzidas às regionais e municípios: Varicela, Haemophilus influenzae tipo B, Soro Antirrábico Humano."]
["Imunobiológicos que não foram recebidos pelo estado no mês da análise, não sendo possível a distribuição às regionais e municípios: Meningo C, Tetra viral, Sars-cov-10 Bivalente, DTPa (CRIE) e Sars-Cov2-10 Doses Pediátricas."]
["Imunobiológicos com indisponibilidade de aquisição e distribuição no mês da análise:"]

{"sheet":"PROTEÇÃO","index":9,"n_rows":0,"n_cols":0,"rows_kept":0,"cut":false,"hidden":false,"merged":[]}

{"sheet":"cálculos1","index":10,"n_rows":95,"n_cols":17,"rows_kept":95,"cut":false,"hidden":true,"merged":[]}
["Regional ","Município","Cobertura Vacinal BCG","Cobertura Vacinal Rotavírus","Cobertura Vacinal COVID-19","Cobertura Vacinal Pentavalente","Cobertura Vacinal Poliomielite ","Cobertura Vacinal Pneumo 10","Cobertura Vacinal Tríplice Viral","Cobertura Vacinal Meningo C","Cobertura Vacinal Febre Amarela","Cobertura Vacinal Hepatite A","Cobertura Varicela","META 90%","META 95%","ATINGIRAM META","PQA-VS"]
["Metropolitana","Afonso Cláudio",{"$f":"'CV Rotina <2A - procedência'!H3","v":0.87777777777777777},{"$f":"'CV Rotina <2A - procedência'!P3","v":1},{"$f":"'CV Rotina <2A - procedência'!#REF!","v":{"$error":"#REF!"}},{"$f":"'CV Rotina <2A - procedência'!J3","v":0.97222222222222221},{"$f":"'CV Rotina <2A - procedência'!L3","v":0.96111111111111114},{"$f":"'CV Rotina <2A - procedência'!N3","v":0.98888888888888893},{"$f":"'CV Rotina <2A - procedência'!X3","v":1.1166666666666667},{"$f":"'CV Rotina <2A - procedência'!R3","v":0.99444444444444446},{"$f":"'CV Rotina <2A - procedência'!T3","v":1.0055555555555555},{"$f":"'CV Rotina <2A - procedência'!V3","v":1.1333333333333333},{"$f":"'CV Rotina <2A - procedência'!Z3","v":0.41111111111111109},{"$f":"COUNTIF(C2:E2,\">=0,9\")","v":1},{"$f":"COUNTIFS(F2:M2,\">=0,95\")","v":7},{"$f":"SUM(N2:O2)","v":8},{"$f":"COUNTIF(F2:I2,\">=0,95\")","v":4}]
["Norte","Água Doce do Norte",{"$f":"'CV Rotina <2A - procedência'!H4","v":0.43925233644859812},{"$f":"'CV Rotina <2A - procedência'!P4","v":0.7570093457943925},{"$f":"'CV Rotina <2A - procedência'!#REF!","v":{"$error":"#REF!"}},{"$f":"'CV Rotina <2A - procedência'!J4","v":0.73831775700934577},{"$f":"'CV Rotina <2A - procedência'!L4","v":0.71962616822429903},{"$f":"'CV Rotina <2A - procedência'!N4","v":0.80373831775700932},{"$f":"'CV Rotina <2A - procedência'!X4","v":0.67289719626168221},{"$f":"'CV Rotina <2A - procedência'!R4","v":0.7289719626168224},{"$f":"'CV Rotina <2A - procedência'!T4","v":0.61682242990654201},{"$f":"'CV Rotina <2A - procedência'!V4","v":0.7009345794392523},{"$f":"'CV Rotina <2A - procedência'!Z4","v":0.26168224299065418},{"$f":"COUNTIF(C3:E3,\">=0,9\")","v":0},0,{"$f":"SUM(N3:O3)","v":0},{"$f":"COUNTIF(F3:I3,\">=0,95\")","v":0}]
["Central","Águia Branca",{"$f":"'CV Rotina <2A - procedência'!H5","v":0.56097560975609762},{"$f":"'CV Rotina <2A - procedência'!P5","v":0.90243902439024393},{"$f":"'CV Rotina <2A - procedência'!#REF!","v":{"$error":"#REF!"}},{"$f":"'CV Rotina <2A - procedência'!J5","v":1.0365853658536586},{"$f":"'CV Rotina <2A - procedência'!L5","v":1.024390243902439},{"$f":"'CV Rotina <2A - procedência'!N5","v":0.90243902439024393},{"$f":"'CV Rotina <2A - procedência'!X5","v":0.70731707317073167},{"$f":"'CV Rotina <2A - procedência'!R5","v":1.0365853658536586},{"$f":"'CV Rotina <2A - procedência'!T5","v":0.8902439024390244},{"$f":"'CV Rotina <2A - procedência'!V5","v":0.67073170731707321},{"$f":"'CV Rotina <2A - procedência'!Z5","v":0.28048780487804881},1,3,4,2]
["Sul","Alegre",{"$f":"'CV Rotina <2A - procedência'!H6","v":0.65853658536585369},{"$f":"'CV Rotina <2A - procedência'!P6","v":0.92073170731707321},{"$f":"'CV Rotina <2A - procedência'!#REF!","v":{"$error":"#REF!"}},{"$f":"'CV Rotina <2A - procedência'!J6","v":1.0426829268292683},{"$f":"'CV Rotina <2A - procedência'!L6","v":1.0670731707317074},{"$f":"'CV Rotina <2A - procedência'!N6","v":0.94512195121951215},{"$f":"'CV Rotina <2A - procedência'!X6","v":0.96341463414634143},{"$f":"'CV Rotina <2A - procedência'!R6","v":1.0487804878048781},{"$f":"'CV Rotina <2A - procedência'!T6","v":0.95121951219512191},{"$f":"'CV Rotina <2A - procedência'!V6","v":0.90243902439024393},{"$f":"'CV Rotina <2A - procedência'!Z6","v":0.33536585365853661},1,5,6,3]
["Sul","Alfredo Chaves",{"$f":"'CV Rotina <2A - procedência'!H7","v":0.53030303030303028},{"$f":"'CV Rotina <2A - procedência'!P7","v":1.2424242424242424},{"$f":"'CV Rotina <2A - procedência'!#REF!","v":{"$error":"#REF!"}},{"$f":"'CV Rotina <2A - procedência'!J7","v":1.2121212121212122},{"$f":"'CV Rotina <2A - procedência'!L7","v":1.196969696969697},{"$f":"'CV Rotina <2A - procedência'!N7","v":1.2121212121212122},{"$f":"'CV Rotina <2A - procedência'!X7","v":1.1666666666666667},{"$f":"'CV Rotina <2A - procedência'!R7","v":1.3333333333333333},{"$f":"'CV Rotina <2A - procedência'!T7","v":1.0606060606060606},{"$f":"'CV Rotina <2A - procedência'!V7","v":1.0757575757575757},{"$f":"'CV Rotina <2A - procedência'!Z7","v":0.74242424242424243},1,7,8,4]
["Central","Alto Rio Novo",{"$f":"'CV Rotina <2A - procedência'!H8","v":0.5},{"$f":"'CV Rotina <2A - procedência'!P8","v":1.25},{"$f":"'CV Rotina <2A - procedência'!#REF!","v":{"$error":"#REF!"}},{"$f":"'CV Rotina <2A - procedência'!J8","v":1.2777777777777777},{"$f":"'CV Rotina <2A - procedência'!L8","v":1.25},{"$f":"'CV Rotina <2A - procedência'!N8","v":1.2222222222222223},{"$f":"'CV Rotina <2A - procedência'!X8","v":1.2222222222222223},{"$f":"'CV Rotina <2A - procedência'!R8","v":1.4166666666666667},{"$f":"'CV Rotina <2A - procedência'!T8","v":1.0833333333333333},{"$f":"'CV Rotina <2A - procedência'!V8","v":1.5277777777777777},{"$f":"'CV Rotina <2A - procedência'!Z8","v":0.61111111111111116},1,7,8,4]
["Sul","Anchieta",{"$f":"'CV Rotina <2A - procedência'!H9","v":0.57216494845360821},{"$f":"'CV Rotina <2A - procedência'!P9","v":1},{"$f":"'CV Rotina <2A - procedência'!#REF!","v":{"$error":"#REF!"}},{"$f":"'CV Rotina <2A - procedência'!J9","v":1},{"$f":"'CV Rotina <2A - procedência'!L9","v":1.0103092783505154},{"$f":"'CV Rotina <2A - procedência'!N9","v":1.0051546391752577},{"$f":"'CV Rotina <2A - procedência'!X9","v":1.0309278350515463},{"$f":"'CV Rotina <2A - procedência'!R9","v":1.0154639175257731},{"$f":"'CV Rotina <2A - procedência'!T9","v":0.79381443298969068},{"$f":"'CV Rotina <2A - procedência'!V9","v":0.95876288659793818},{"$f":"'CV Rotina <2A - procedência'!Z9","v":0.43814432989690721},1,6,7,4]
["Sul","Apiacá",{"$f":"'CV Rotina <2A - procedência'!H10","v":0.62222222222222223},{"$f":"'CV Rotina <2A - procedência'!P10","v":0.68888888888888888},{"$f":"'CV Rotina <2A - procedência'!#REF!","v":{"$error":"#REF!"}},{"$f":"'CV Rotina <2A - procedência'!J10","v":0.55555555555555558},{"$f":"'CV Rotina <2A - procedência'!L10","v":0.57777777777777772},{"$f":"'CV Rotina <2A - procedência'!N10","v":0.71111111111111114},{"$f":"'CV Rotina <2A - procedência'!X10","v":0.8666666666666667},{"$f":"'CV Rotina <2A - procedência'!R10","v":0.64444444444444449},{"$f":"'CV Rotina <2A - procedência'!T10","v":0.66666666666666663},{"$f":"'CV Rotina <2A - procedência'!V10","v":0.48888888888888887},{"$f":"'CV Rotina <2A - procedência'!Z10","v":0.17777777777777778},0,0,0,0]
["Metropolitana","Aracruz",{"$f":"'CV Rotina <2A - procedência'!H11","v":0.90718954248366013},{"$f":"'CV Rotina <2A - procedência'!P11","v":0.8784313725490196},{"$f":"'CV Rotina <2A - procedência'!#REF!","v":{"$error":"#REF!"}},{"$f":"'CV Rotina <2A - procedência'!J11","v":0.86143790849673207},{"$f":"'CV Rotina <2A - procedência'!L11","v":0.857516339869281},{"$f":"'CV Rotina <2A - procedência'!N11","v":0.89150326797385626},{"$f":"'CV Rotina <2A - procedência'!X11","v":1.0183006535947712},{"$f":"'CV Rotina <2A - procedência'!R11","v":0.86013071895424842},{"$f":"'CV Rotina <2A - procedência'!T11","v":0.78954248366013069},{"$f":"'CV Rotina <2A - procedência'!V11","v":0.99738562091503269},{"$f":"'CV Rotina <2A - procedência'!Z11","v":0.50457516339869279},1,2,3,1]
["Sul","Atilio Vivacqua",{"$f":"'CV Rotina <2A - procedência'!H12","v":1.3698630136986301E-2},{"$f":"'CV Rotina <2A - procedência'!P12","v":0.87671232876712324},{"$f":"'CV Rotina <2A - procedência'!#REF!","v":{"$error":"#REF!"}},{"$f":"'CV Rotina <2A - procedência'!J12","v":0.90410958904109584},{"$f":"'CV Rotina <2A - procedência'!L12","v":0.8904109589041096},{"$f":"'CV Rotina <2A - procedência'!N12","v":0.8904109589041096},{"$f":"'CV Rotina <2A - procedência'!X12","v":1.1643835616438356},{"$f":"'CV Rotina <2A - procedência'!R12","v":0.87671232876712324},{"$f":"'CV Rotina <2A - procedência'!T12","v":0.73972602739726023},{"$f":"'CV Rotina <2A - procedência'!V12","v":1.0136986301369864},{"$f":"'CV Rotina <2A - procedência'!Z12","v":0.47945205479452052},0,2,2,1]
["Central","Baixo Guandu",{"$f":"'CV Rotina <2A - procedência'!H13","v":0.55801104972375692},{"$f":"'CV Rotina <2A - procedência'!P13","v":1.0883977900552486},{"$f":"'CV Rotina <2A - procedência'!#REF!","v":{"$error":"#REF!"}},{"$f":"'CV Rotina <2A - procedência'!J13","v":1.0773480662983426},{"$f":"'CV Rotina <2A - procedência'!L13","v":1.0773480662983426},{"$f":"'CV Rotina <2A - procedência'!N13","v":1.132596685082873},{"$f":"'CV Rotina <2A - procedência'!X13","v":1.2154696132596685},{"$f":"'CV Rotina <2A - procedência'!R13","v":1.1104972375690607},{"$f":"'CV Rotina <2A - procedência'!T13","v":0.82872928176795579},{"$f":"'CV Rotina <2A - procedência'!V13","v":1.1546961325966851},{"$f":"'CV Rotina <2A - procedência'!Z13","v":0.53038674033149169},1,6,7,4]
["Norte","Barra de São Francisco",{"$f":"'CV Rotina <2A - procedência'!H14","v":0.8547854785478548},{"$f":"'CV Rotina <2A - procedência'!P14","v":0.86138613861386137},{"$f":"'CV Rotina <2A - procedência'!#REF!","v":{"$error":"#REF!"}},{"$f":"'CV Rotina <2A - procedência'!J14","v":0.84158415841584155},{"$f":"'CV Rotina <2A - procedência'!L14","v":0.83498349834983498},{"$f":"'CV Rotina <2A - procedência'!N14","v":0.87788778877887785},{"$f":"'CV Rotina <2A - procedência'!X14","v":0.94719471947194722},{"$f":"'CV Rotina <2A - procedência'!R14","v":0.86798679867986794},{"$f":"'CV Rotina <2A - procedência'!T14","v":0.8085808580858086},{"$f":"'CV Rotina <2A - procedência'!V14","v":0.74587458745874591},{"$f":"'CV Rotina <2A - procedência'!Z14","v":0.49174917491749176},0,0,0,0]
["Norte","Boa Esperança",{"$f":"'CV Rotina <2A - procedência'!H15","v":0.36538461538461536},{"$f":"'CV Rotina <2A - procedência'!P15","v":0.91346153846153844},{"$f":"'CV Rotina <2A - procedência'!#REF!","v":{"$error":"#REF!"}},{"$f":"'CV Rotina <2A - procedência'!J15","v":0.80769230769230771},{"$f":"'CV Rotina <2A - procedência'!L15","v":0.875},{"$f":"'CV Rotina <2A - procedência'!N15","v":0.875},{"$f":"'CV Rotina <2A - procedência'!X15","v":1.0288461538461537},{"$f":"'CV Rotina <2A - procedência'!R15","v":0.88461538461538458},{"$f":"'CV Rotina <2A - procedência'!T15","v":0.74038461538461542},{"$f":"'CV Rotina <2A - procedência'!V15","v":0.76923076923076927},{"$f":"'CV Rotina <2A - procedência'!Z15","v":0.54807692307692313},1,1,2,1]
["Sul","Bom Jesus do Norte",{"$f":"'CV Rotina <2A - procedência'!H16","v":1.0731707317073171},{"$f":"'CV Rotina <2A - procedência'!P16","v":1.2439024390243902},{"$f":"'CV Rotina <2A - procedência'!#REF!","v":{"$error":"#REF!"}},{"$f":"'CV Rotina <2A - procedência'!J16","v":1.5121951219512195},{"$f":"'CV Rotina <2A - procedência'!L16","v":1.4634146341463414},{"$f":"'CV Rotina <2A - procedência'!N16","v":1.2926829268292683},{"$f":"'CV Rotina <2A - procedência'!X16","v":1.8536585365853659},{"$f":"'CV Rotina <2A - procedência'!R16","v":1.3658536585365855},{"$f":"'CV Rotina <2A - procedência'!T16","v":1.2195121951219512},{"$f":"'CV Rotina <2A - procedência'!V16","v":0.73170731707317072},{"$f":"'CV Rotina <2A - procedência'!Z16","v":0.41463414634146339},2,6,8,4]
["Metropolitana","Brejetuba",{"$f":"'CV Rotina <2A - procedência'!H17","v":0.7232142857142857},{"$f":"'CV Rotina <2A - procedência'!P17","v":0.9464285714285714},{"$f":"'CV Rotina <2A - procedência'!#REF!","v":{"$error":"#REF!"}},{"$f":"'CV Rotina <2A - procedência'!J17","v":0.8482142857142857},{"$f":"'CV Rotina <2A - procedência'!L17","v":0.8482142857142857},{"$f":"'CV Rotina <2A - procedência'!N17","v":0.9017857142857143},{"$f":"'CV Rotina <2A - procedência'!X17","v":0.875},{"$f":"'CV Rotina <2A - procedência'!R17","v":0.8482142857142857},{"$f":"'CV Rotina <2A - procedência'!T17","v":0.8660714285714286},{"$f":"'CV Rotina <2A - procedência'!V17","v":0.7410714285714286},{"$f":"'CV Rotina <2A - procedência'!Z17","v":0.38392857142857145},1,0,1,0]
["Sul","Cachoeiro de Itapemirim",{"$f":"'CV Rotina <2A - procedência'!H18","v":1.8847858197932053},{"$f":"'CV Rotina <2A - procedência'!P18","v":0.78064992614475626},{"$f":"'CV Rotina <2A - procedência'!#REF!","v":{"$error":"#REF!"}},{"$f":"'CV Rotina <2A - procedência'!J18","v":0.78138847858197935},{"$f":"'CV Rotina <2A - procedência'!L18","v":0.77104874446085669},{"$f":"'CV Rotina <2A - procedência'!N18","v":0.80428360413589361},{"$f":"'CV Rotina <2A - procedência'!X18","v":0.86558345642540624},{"$f":"'CV Rotina <2A - procedência'!R18","v":0.78138847858197935},{"$f":"'CV Rotina <2A - procedência'!T18","v":0.61521418020679464},{"$f":"'CV Rotina <2A - procedência'!V18","v":0.73485967503692762},{"$f":"'CV Rotina <2A - procedência'!Z18","v":0.30576070901033975},1,0,1,0]
["Metropolitana","Cariacica",{"$f":"'CV Rotina <2A - procedência'!H19","v":0.49803921568627452},{"$f":"'CV Rotina <2A - procedência'!P19","v":0.80156862745098034},{"$f":"'CV Rotina <2A - procedência'!#REF!","v":{"$error":"#REF!"}},{"$f":"'CV Rotina <2A - procedência'!J19","v":0.80823529411764705},{"$f":"'CV Rotina <2A - procedência'!L19","v":0.79803921568627456},{"$f":"'CV Rotina <2A - procedência'!N19","v":0.83843137254901956},{"$f":"'CV Rotina <2A - procedência'!X19","v":0.91450980392156866},{"$f":"'CV Rotina <2A - procedência'!R19","v":0.82235294117647062},{"$f":"'CV Rotina <2A - procedência'!T19","v":0.67490196078431375},{"$f":"'CV Rotina <2A - procedência'!V19","v":0.6301960784313726},{"$f":"'CV Rotina <2A - procedência'!Z19","v":0.31725490196078432},0,0,0,0]
["Sul","Castelo",{"$f":"'CV Rotina <2A - procedência'!H20","v":0.55319148936170215},{"$f":"'CV Rotina <2A - procedência'!P20","v":0.83829787234042552},{"$f":"'CV Rotina <2A - procedência'!#REF!","v":{"$error":"#REF!"}},{"$f":"'CV Rotina <2A - procedência'!J20","v":0.86382978723404258},{"$f":"'CV Rotina <2A - procedência'!L20","v":0.86382978723404258},{"$f":"'CV Rotina <2A - procedência'!N20","v":0.85531914893617023},{"$f":"'CV Rotina <2A - procedência'!X20","v":1.0382978723404255},{"$f":"'CV Rotina <2A - procedência'!R20","v":0.82978723404255317},{"$f":"'CV Rotina <2A - procedência'!T20","v":0.78723404255319152},{"$f":"'CV Rotina <2A - procedência'!V20","v":0.72340425531914898},{"$f":"'CV Rotina <2A - procedência'!Z20","v":0.42127659574468085},0,1,1,1]
["Central","Colatina",{"$f":"'CV Rotina <2A - procedência'!H21","v":2.1277915632754341},{"$f":"'CV Rotina <2A - procedência'!P21","v":0.85359801488833742},{"$f":"'CV Rotina <2A - procedência'!#REF!","v":{"$error":"#REF!"}},{"$f":"'CV Rotina <2A - procedência'!J21","v":0.86476426799007444},{"$f":"'CV Rotina <2A - procedência'!L21","v":0.85359801488833742},{"$f":"'CV Rotina <2A - procedência'!N21","v":0.87717121588089331},{"$f":"'CV Rotina <2A - procedência'!X21","v":0.91315136476426795},{"$f":"'CV Rotina <2A - procedência'!R21","v":0.83746898263027292},{"$f":"'CV Rotina <2A - procedência'!T21","v":0.77047146401985112},{"$f":"'CV Rotina <2A - procedência'!V21","v":0.57692307692307687},{"$f":"'CV Rotina <2A - procedência'!Z21","v":0.38089330024813894},1,0,1,0]
["Norte","Conceição da Barra",{"$f":"'CV Rotina <2A - procedência'!H22","v":7.1065989847715741E-2},{"$f":"'CV Rotina <2A - procedência'!P22","v":0.93401015228426398},{"$f":"'CV Rotina <2A - procedência'!#REF!","v":{"$error":"#REF!"}},{"$f":"'CV Rotina <2A - procedência'!J22","v":0.86294416243654826},{"$f":"'CV Rotina <2A - procedência'!L22","v":0.87309644670050757},{"$f":"'CV Rotina <2A - procedência'!N22","v":0.949238578680203},{"$f":"'CV Rotina <2A - procedência'!X22","v":0.93401015228426398},{"$f":"'CV Rotina <2A - procedência'!R22","v":0.91370558375634514},{"$f":"'CV Rotina <2A - procedência'!T22","v":0.8324873096446701},{"$f":"'CV Rotina <2A - procedência'!V22","v":0.74111675126903553},{"$f":"'CV Rotina <2A - procedência'!Z22","v":0.4467005076142132},1,0,1,0]
["Metropolitana","Conceição do Castelo",{"$f":"'CV Rotina <2A - procedência'!H23","v":0},{"$f":"'CV Rotina <2A - procedência'!P23","v":0.75},{"$f":"'CV Rotina <2A - procedência'!#REF!","v":{"$error":"#REF!"}},{"$f":"'CV Rotina <2A - procedência'!J23","v":0.71739130434782605},{"$f":"'CV Rotina <2A - procedência'!L23","v":0.69565217391304346},{"$f":"'CV Rotina <2A - procedência'!N23","v":0.77173913043478259},{"$f":"'CV Rotina <2A - procedência'!X23","v":0.78260869565217395},{"$f":"'CV Rotina <2A - procedência'!R23","v":0.66304347826086951},{"$f":"'CV Rotina <2A - procedência'!T23","v":0.91304347826086951},{"$f":"'CV Rotina <2A - procedência'!V23","v":0.76086956521739135},{"$f":"'CV Rotina <2A - procedência'!Z23","v":0.4891304347826087},0,0,0,0]
["Sul","Divino de São Lourenço",{"$f":"'CV Rotina <2A - procedência'!H24","v":0.76923076923076927},{"$f":"'CV Rotina <2A - procedência'!P24","v":1.0256410256410255},{"$f":"'CV Rotina <2A - procedência'!#REF!","v":{"$error":"#REF!"}},{"$f":"'CV Rotina <2A - procedência'!J24","v":0.97435897435897434},{"$f":"'CV Rotina <2A - procedência'!L24","v":0.97435897435897434},{"$f":"'CV Rotina <2A - procedência'!N24","v":1.0256410256410255},{"$f":"'CV Rotina <2A - procedência'!X24","v":0.66666666666666663},{"$f":"'CV Rotina <2A - procedência'!R24","v":1.1538461538461537},{"$f":"'CV Rotina <2A - procedência'!T24","v":0.79487179487179482},{"$f":"'CV Rotina <2A - procedência'!V24","v":0.64102564102564108},{"$f":"'CV Rotina <2A - procedência'!Z24","v":0.58974358974358976},1,4,5,3]
["Metropolitana","Domingos Martins",{"$f":"'CV Rotina <2A - procedência'!H25","v":0.18584070796460178},{"$f":"'CV Rotina <2A - procedência'!P25","v":0.90265486725663713},{"$f":"'CV Rotina <2A - procedência'!#REF!","v":{"$error":"#REF!"}},{"$f":"'CV Rotina <2A - procedência'!J25","v":0.82300884955752207},{"$f":"'CV Rotina <2A - procedência'!L25","v":0.82300884955752207},{"$f":"'CV Rotina <2A - procedência'!N25","v":0.91150442477876104},{"$f":"'CV Rotina <2A - procedência'!X25","v":0.97345132743362828},{"$f":"'CV Rotina <2A - procedência'!R25","v":0.88495575221238942},{"$f":"'CV Rotina <2A - procedência'!T25","v":0.73451327433628322},{"$f":"'CV Rotina <2A - procedência'!V25","v":0.79203539823008851},{"$f":"'CV Rotina <2A - procedência'!Z25","v":0.63716814159292035},1,1,2,1]
["Sul","Dores do Rio Preto",{"$f":"'CV Rotina <2A - procedência'!H26","v":0.80952380952380953},{"$f":"'CV Rotina <2A - procedência'!P26","v":1.3333333333333333},{"$f":"'CV Rotina <2A - procedência'!#REF!","v":{"$error":"#REF!"}},{"$f":"'CV Rotina <2A - procedência'!J26","v":1.2380952380952381},{"$f":"'CV Rotina <2A - procedência'!L26","v":1.3095238095238095},{"$f":"'CV Rotina <2A - procedência'!N26","v":1.3571428571428572},{"$f":"'CV Rotina <2A - procedência'!X26","v":1.3571428571428572},{"$f":"'CV Rotina <2A - procedência'!R26","v":1.2619047619047619},{"$f":"'CV Rotina <2A - procedência'!T26","v":1.1428571428571428},{"$f":"'CV Rotina <2A - procedência'!V26","v":0.97619047619047616},{"$f":"'CV Rotina <2A - procedência'!Z26","v":0.42857142857142855},1,7,8,4]
["Norte","Ecoporanga",{"$f":"'CV Rotina <2A - procedência'!H27","v":0.46258503401360546},{"$f":"'CV Rotina <2A - procedência'!P27","v":0.74829931972789121},{"$f":"'CV Rotina <2A - procedência'!#REF!","v":{"$error":"#REF!"}},{"$f":"'CV Rotina <2A - procedência'!J27","v":0.80272108843537415},{"$f":"'CV Rotina <2A - procedência'!L27","v":0.79591836734693877},{"$f":"'CV Rotina <2A - procedência'!N27","v":0.75510204081632648},{"$f":"'CV Rotina <2A - procedência'!X27","v":0.891156462585034},{"$f":"'CV Rotina <2A - procedência'!R27","v":0.70748299319727892},{"$f":"'CV Rotina <2A - procedência'!T27","v":0.73469387755102045},{"$f":"'CV Rotina <2A - procedência'!V27","v":0.79591836734693877},{"$f":"'CV Rotina <2A - procedência'!Z27","v":0.51700680272108845},0,0,0,0]
["Metropolitana","Fundão",{"$f":"'CV Rotina <2A - procedência'!H28","v":0.4049586776859504},{"$f":"'CV Rotina <2A - procedência'!P28","v":0.95867768595041325},{"$f":"'CV Rotina <2A - procedência'!#REF!","v":{"$error":"#REF!"}},{"$f":"'CV Rotina <2A - procedência'!J28","v":0.97520661157024791},{"$f":"'CV Rotina <2A - procedência'!L28","v":0.96694214876033058},{"$f":"'CV Rotina <2A - procedência'!N28","v":0.95041322314049592},{"$f":"'CV Rotina <2A - procedência'!X28","v":0.77685950413223137},{"$f":"'CV Rotina <2A - procedência'!R28","v":0.87603305785123964},{"$f":"'CV Rotina <2A - procedência'!T28","v":0.81818181818181823},{"$f":"'CV Rotina <2A - procedência'!V28","v":0.8925619834710744},{"$f":"'CV Rotina <2A - procedência'!Z28","v":0.54545454545454541},1,3,4,3]
["Central","Governador Lindenberg",{"$f":"'CV Rotina <2A - procedência'!H29","v":0.21126760563380281},{"$f":"'CV Rotina <2A - procedência'!P29","v":0.87323943661971826},{"$f":"'CV Rotina <2A - procedência'!#REF!","v":{"$error":"#REF!"}},{"$f":"'CV Rotina <2A - procedência'!J29","v":0.87323943661971826},{"$f":"'CV Rotina <2A - procedência'!L29","v":0.83098591549295775},{"$f":"'CV Rotina <2A - procedência'!N29","v":0.85915492957746475},{"$f":"'CV Rotina <2A - procedência'!X29","v":1.0845070422535212},{"$f":"'CV Rotina <2A - procedência'!R29","v":0.84507042253521125},{"$f":"'CV Rotina <2A - procedência'!T29","v":1.028169014084507},{"$f":"'CV Rotina <2A - procedência'!V29","v":0.83098591549295775},{"$f":"'CV Rotina <2A - procedência'!Z29","v":0.49295774647887325},0,2,2,1]
["Sul","Guaçuí",{"$f":"'CV Rotina <2A - procedência'!H30","v":0.50704225352112675},{"$f":"'CV Rotina <2A - procedência'!P30","v":0.7981220657276995},{"$f":"'CV Rotina <2A - procedência'!#REF!","v":{"$error":"#REF!"}},{"$f":"'CV Rotina <2A - procedência'!J30","v":0.92488262910798125},{"$f":"'CV Rotina <2A - procedência'!L30","v":0.89671361502347413},{"$f":"'CV Rotina <2A - procedência'!N30","v":0.863849765258216},{"$f":"'CV Rotina <2A - procedência'!X30","v":0.971830985915493},{"$f":"'CV Rotina <2A - procedência'!R30","v":0.78873239436619713},{"$f":"'CV Rotina <2A - procedência'!T30","v":0.70892018779342725},{"$f":"'CV Rotina <2A - procedência'!V30","v":0.77464788732394363},{"$f":"'CV Rotina <2A - procedência'!Z30","v":0.37089201877934275},0,1,1,1]
["Metropolitana","Guarapari",{"$f":"'CV Rotina <2A - procedência'!H31","v":0.77145922746781115},{"$f":"'CV Rotina <2A - procedência'!P31","v":0.76931330472102999},{"$f":"'CV Rotina <2A - procedência'!#REF!","v":{"$error":"#REF!"}},{"$f":"'CV Rotina <2A - procedência'!J31","v":0.76502145922746778},{"$f":"'CV Rotina <2A - procedência'!L31","v":0.74141630901287559},{"$f":"'CV Rotina <2A - procedência'!N31","v":0.81115879828326176},{"$f":"'CV Rotina <2A - procedência'!X31","v":0.83047210300429186},{"$f":"'CV Rotina <2A - procedência'!R31","v":0.77789699570815452},{"$f":"'CV Rotina <2A - procedência'!T31","v":0.58905579399141628},{"$f":"'CV Rotina <2A - procedência'!V31","v":0.72746781115879833},{"$f":"'CV Rotina <2A - procedência'!Z31","v":0.42060085836909872},0,0,0,0]
["Metropolitana","Ibatiba",{"$f":"'CV Rotina <2A - procedência'!H32","v":0.96470588235294119},{"$f":"'CV Rotina <2A - procedência'!P32","v":1.0176470588235293},{"$f":"'CV Rotina <2A - procedência'!#REF!","v":{"$error":"#REF!"}},{"$f":"'CV Rotina <2A - procedência'!J32","v":1.0647058823529412},{"$f":"'CV Rotina <2A - procedência'!L32","v":1.0705882352941176},{"$f":"'CV Rotina <2A - procedência'!N32","v":1.0705882352941176},{"$f":"'CV Rotina <2A - procedência'!X32","v":1.111764705882353},{"$f":"'CV Rotina <2A - procedência'!R32","v":1.088235294117647},{"$f":"'CV Rotina <2A - procedência'!T32","v":1.0235294117647058},{"$f":"'CV Rotina <2A - procedência'!V32","v":0.95294117647058818},{"$f":"'CV Rotina <2A - procedência'!Z32","v":0.17058823529411765},2,7,9,4]
["Metropolitana","Ibiraçu",{"$f":"'CV Rotina <2A - procedência'!H33","v":0.1744186046511628},{"$f":"'CV Rotina <2A - procedência'!P33","v":0.70930232558139539},{"$f":"'CV Rotina <2A - procedência'!#REF!","v":{"$error":"#REF!"}},{"$f":"'CV Rotina <2A - procedência'!J33","v":0.68604651162790697},{"$f":"'CV Rotina <2A - procedência'!L33","v":0.67441860465116277},{"$f":"'CV Rotina <2A - procedência'!N33","v":0.72093023255813948},{"$f":"'CV Rotina <2A - procedência'!X33","v":0.86046511627906974},{"$f":"'CV Rotina <2A - procedência'!R33","v":0.76744186046511631},{"$f":"'CV Rotina <2A - procedência'!T33","v":0.77906976744186052},{"$f":"'CV Rotina <2A - procedência'!V33","v":0.59302325581395354},{"$f":"'CV Rotina <2A - procedência'!Z33","v":0.33720930232558138},0,0,0,0]
["Sul","Ibitirama",{"$f":"'CV Rotina <2A - procedência'!H34","v":0.6},{"$f":"'CV Rotina <2A - procedência'!P34","v":0.92307692307692313},{"$f":"'CV Rotina <2A - procedência'!#REF!","v":{"$error":"#REF!"}},{"$f":"'CV Rotina <2A - procedência'!J34","v":0.96923076923076923},{"$f":"'CV Rotina <2A - procedência'!L34","v":0.96923076923076923},{"$f":"'CV Rotina <2A - procedência'!N34","v":0.89230769230769236},{"$f":"'CV Rotina <2A - procedência'!X34","v":1.2},{"$f":"'CV Rotina <2A - procedência'!R34","v":0.8},{"$f":"'CV Rotina <2A - procedência'!T34","v":0.7846153846153846},{"$f":"'CV Rotina <2A - procedência'!V34","v":0.9538461538461539},{"$f":"'CV Rotina <2A - procedência'!Z34","v":0.56923076923076921},1,4,5,3]
["Sul","Iconha",{"$f":"'CV Rotina <2A - procedência'!H35","v":0.31147540983606559},{"$f":"'CV Rotina <2A - procedência'!P35","v":0.95081967213114749},{"$f":"'CV Rotina <2A - procedência'!#REF!","v":{"$error":"#REF!"}},{"$f":"'CV Rotina <2A - procedência'!J35","v":0.96721311475409832},{"$f":"'CV Rotina <2A - procedência'!L35","v":0.93442622950819676},{"$f":"'CV Rotina <2A - procedência'!N35","v":0.93442622950819676},{"$f":"'CV Rotina <2A - procedência'!X35","v":1.278688524590164},{"$f":"'CV Rotina <2A - procedência'!R35","v":0.93442622950819676},{"$f":"'CV Rotina <2A - procedência'!T35","v":1.1147540983606556},{"$f":"'CV Rotina <2A - procedência'!V35","v":1.1639344262295082},{"$f":"'CV Rotina <2A - procedência'!Z35","v":0.29508196721311475},1,{"$f":"COUNTIFS(F34:M34,\">=0,95\")","v":4},5,2]
["Sul","Irupi",{"$f":"'CV Rotina <2A - procedência'!H36","v":0.86419753086419748},{"$f":"'CV Rotina <2A - procedência'!P36","v":1.3950617283950617},{"$f":"'CV Rotina <2A - procedência'!#REF!","v":{"$error":"#REF!"}},{"$f":"'CV Rotina <2A - procedência'!J36","v":1.2962962962962963},{"$f":"'CV Rotina <2A - procedência'!L36","v":1.2839506172839505},{"$f":"'CV Rotina <2A - procedência'!N36","v":1.4320987654320987},{"$f":"'CV Rotina <2A - procedência'!X36","v":1.6419753086419753},{"$f":"'CV Rotina <2A - procedência'!R36","v":1.3703703703703705},{"$f":"'CV Rotina <2A - procedência'!T36","v":1.1111111111111112},{"$f":"'CV Rotina <2A - procedência'!V36","v":1.2222222222222223},{"$f":"'CV Rotina <2A - procedência'!Z36","v":0.2839506172839506},1,7,8,4]
["Metropolitana","Itaguaçu",{"$f":"'CV Rotina <2A - procedência'!H37","v":0.67948717948717952},{"$f":"'CV Rotina <2A - procedência'!P37","v":0.79487179487179482},{"$f":"'CV Rotina <2A - procedência'!#REF!","v":{"$error":"#REF!"}},{"$f":"'CV Rotina <2A - procedência'!J37","v":0.78205128205128205},{"$f":"'CV Rotina <2A - procedência'!L37","v":0.78205128205128205},{"$f":"'CV Rotina <2A - procedência'!N37","v":0.79487179487179482},{"$f":"'CV Rotina <2A - procedência'!X37","v":0.89743589743589747},{"$f":"'CV Rotina <2A - procedência'!R37","v":0.79487179487179482},{"$f":"'CV Rotina <2A - procedência'!T37","v":0.97435897435897434},{"$f":"'CV Rotina <2A - procedência'!V37","v":0.97435897435897434},{"$f":"'CV Rotina <2A - procedência'!Z37","v":0.58974358974358976},0,2,2,0]
["Sul","Itapemirim",{"$f":"'CV Rotina <2A - procedência'!H38","v":0.55967078189300412},{"$f":"'CV Rotina <2A - procedência'!P38","v":0.94650205761316875},{"$f":"'CV Rotina <2A - procedência'!#REF!","v":{"$error":"#REF!"}},{"$f":"'CV Rotina <2A - procedência'!J38","v":0.95061728395061729},{"$f":"'CV Rotina <2A - procedência'!L38","v":0.93827160493827155},{"$f":"'CV Rotina <2A - procedência'!N38","v":1.0329218106995885},{"$f":"'CV Rotina <2A - procedência'!X38","v":1.0246913580246915},{"$f":"'CV Rotina <2A - procedência'!R38","v":0.92181069958847739},{"$f":"'CV Rotina <2A - procedência'!T38","v":0.62551440329218111},{"$f":"'CV Rotina <2A - procedência'!V38","v":0.86419753086419748},{"$f":"'CV Rotina <2A - procedência'!Z38","v":0.44855967078189302},1,3,4,3]
["Metropolitana","Itarana",{"$f":"'CV Rotina <2A - procedência'!H39","v":0.74117647058823533},{"$f":"'CV Rotina <2A - procedência'!P39","v":0.72941176470588232},{"$f":"'CV Rotina <2A - procedência'!#REF!","v":{"$error":"#REF!"}},{"$f":"'CV Rotina <2A - procedência'!J39","v":0.72941176470588232},{"$f":"'CV Rotina <2A - procedência'!L39","v":0.72941176470588232},{"$f":"'CV Rotina <2A - procedência'!N39","v":0.6588235294117647},{"$f":"'CV Rotina <2A - procedência'!X39","v":0.81176470588235294},{"$f":"'CV Rotina <2A - procedência'!R39","v":0.63529411764705879},{"$f":"'CV Rotina <2A - procedência'!T39","v":0.8},{"$f":"'CV Rotina <2A - procedência'!V39","v":0.50588235294117645},{"$f":"'CV Rotina <2A - procedência'!Z39","v":0.44705882352941179},0,0,0,0]
["Sul","Iúna",{"$f":"'CV Rotina <2A - procedência'!H40","v":0.84946236559139787},{"$f":"'CV Rotina <2A - procedência'!P40","v":1.1451612903225807},{"$f":"'CV Rotina <2A - procedência'!#REF!","v":{"$error":"#REF!"}},{"$f":"'CV Rotina <2A - procedência'!J40","v":1.2849462365591398},{"$f":"'CV Rotina <2A - procedência'!L40","v":1.2741935483870968},{"$f":"'CV Rotina <2A - procedência'!N40","v":1.1612903225806452},{"$f":"'CV Rotina <2A - procedência'!X40","v":1.1559139784946237},{"$f":"'CV Rotina <2A - procedência'!R40","v":1.1935483870967742},{"$f":"'CV Rotina <2A - procedência'!T40","v":1.1290322580645162},{"$f":"'CV Rotina <2A - procedência'!V40","v":0.90860215053763438},{"$f":"'CV Rotina <2A - procedência'!Z40","v":0.510752688172043},1,6,7,4]
["Norte","Jaguaré",{"$f":"'CV Rotina <2A - procedência'!H41","v":0.65979381443298968},{"$f":"'CV Rotina <2A - procedência'!P41","v":0.72508591065292094},{"$f":"'CV Rotina <2A - procedência'!#REF!","v":{"$error":"#REF!"}},{"$f":"'CV Rotina <2A - procedência'!J41","v":0.78350515463917525},{"$f":"'CV Rotina <2A - procedência'!L41","v":0.80068728522336774},{"$f":"'CV Rotina <2A - procedência'!N41","v":0.73195876288659789},{"$f":"'CV Rotina <2A - procedência'!X41","v":0.80756013745704469},{"$f":"'CV Rotina <2A - procedência'!R41","v":0.73883161512027495},{"$f":"'CV Rotina <2A - procedência'!T41","v":0.71134020618556704},{"$f":"'CV Rotina <2A - procedência'!V41","v":0.59450171821305842},{"$f":"'CV Rotina <2A - procedência'!Z41","v":0.35395189003436428},0,0,0,0]
["Sul","Jerônimo Monteiro",{"$f":"'CV Rotina <2A - procedência'!H42","v":0.10975609756097561},{"$f":"'CV Rotina <2A - procedência'!P42","v":0.8902439024390244},{"$f":"'CV Rotina <2A - procedência'!#REF!","v":{"$error":"#REF!"}},{"$f":"'CV Rotina <2A - procedência'!J42","v":1.024390243902439},{"$f":"'CV Rotina <2A - procedência'!L42","v":1.0365853658536586},{"$f":"'CV Rotina <2A - procedência'!N42","v":0.90243902439024393},{"$f":"'CV Rotina <2A - procedência'!X42","v":0.90243902439024393},{"$f":"'CV Rotina <2A - procedência'!R42","v":0.86585365853658536},{"$f":"'CV Rotina <2A - procedência'!T42","v":0.96341463414634143},{"$f":"'CV Rotina <2A - procedência'!V42","v":0.91463414634146345},{"$f":"'CV Rotina <2A - procedência'!Z42","v":0.23170731707317074},0,3,3,2]
["Metropolitana","João Neiva",{"$f":"'CV Rotina <2A - procedência'!H43","v":0.30952380952380953},{"$f":"'CV Rotina <2A - procedência'!P43","v":0.9285714285714286},{"$f":"'CV Rotina <2A - procedência'!#REF!","v":{"$error":"#REF!"}},{"$f":"'CV Rotina <2A - procedência'!J43","v":1.0238095238095237},{"$f":"'CV Rotina <2A - procedência'!L43","v":1.0119047619047619},{"$f":"'CV Rotina <2A - procedência'!N43","v":0.95238095238095233},{"$f":"'CV Rotina <2A - procedência'!X43","v":1.1904761904761905},{"$f":"'CV Rotina <2A - procedência'!R43","v":0.9285714285714286},{"$f":"'CV Rotina <2A - procedência'!T43","v":1.0595238095238095},{"$f":"'CV Rotina <2A - procedência'!V43","v":0.95238095238095233},{"$f":"'CV Rotina <2A - procedência'!Z43","v":0.38095238095238093},1,6,7,4]
["Metropolitana","Laranja da Terra",{"$f":"'CV Rotina <2A - procedência'!H44","v":0.75},{"$f":"'CV Rotina <2A - procedência'!P44","v":0.79166666666666663},{"$f":"'CV Rotina <2A - procedência'!#REF!","v":{"$error":"#REF!"}},{"$f":"'CV Rotina <2A - procedência'!J44","v":1.0416666666666667},{"$f":"'CV Rotina <2A - procedência'!L44","v":1.0416666666666667},{"$f":"'CV Rotina <2A - procedência'!N44","v":0.8125},{"$f":"'CV Rotina <2A - procedência'!X44","v":1.5625},{"$f":"'CV Rotina <2A - procedência'!R44","v":1.0208333333333333},{"$f":"'CV Rotina <2A - procedência'!T44","v":1.3333333333333333},{"$f":"'CV Rotina <2A - procedência'!V44","v":1.2916666666666667},{"$f":"'CV Rotina <2A - procedência'!Z44","v":1.1458333333333333},0,7,7,3]
["Central","Linhares",{"$f":"'CV Rotina <2A - procedência'!H45","v":0.85787923416789391},{"$f":"'CV Rotina <2A - procedência'!P45","v":0.80044182621502213},{"$f":"'CV Rotina <2A - procedência'!#REF!","v":{"$error":"#REF!"}},{"$f":"'CV Rotina <2A - procedência'!J45","v":0.78203240058910162},{"$f":"'CV Rotina <2A - procedência'!L45","v":0.77245949926362301},{"$f":"'CV Rotina <2A - procedência'!N45","v":0.79086892488954341},{"$f":"'CV Rotina <2A - procedência'!X45","v":0.80854197349042711},{"$f":"'CV Rotina <2A - procedência'!R45","v":0.79086892488954341},{"$f":"'CV Rotina <2A - procedência'!T45","v":0.71134020618556704},{"$f":"'CV Rotina <2A - procedência'!V45","v":0.66568483063328421},{"$f":"'CV Rotina <2A - procedência'!Z45","v":0.3483063328424153},0,0,0,0]
["Central","Mantenópolis",{"$f":"'CV Rotina <2A - procedência'!H46","v":0.46987951807228917},{"$f":"'CV Rotina <2A - procedência'!P46","v":0.71084337349397586},{"$f":"'CV Rotina <2A - procedência'!#REF!","v":{"$error":"#REF!"}},{"$f":"'CV Rotina <2A - procedência'!J46","v":0.86746987951807231},{"$f":"'CV Rotina <2A - procedência'!L46","v":0.91566265060240959},{"$f":"'CV Rotina <2A - procedência'!N46","v":0.74698795180722888},{"$f":"'CV Rotina <2A - procedência'!X46","v":0.95180722891566261},{"$f":"'CV Rotina <2A - procedência'!R46","v":0.77108433734939763},{"$f":"'CV Rotina <2A - procedência'!T46","v":0.90361445783132532},{"$f":"'CV Rotina <2A - procedência'!V46","v":0.79518072289156627},{"$f":"'CV Rotina <2A - procedência'!Z46","v":0.45783132530120479},0,1,1,1]
["Sul","Marataízes",{"$f":"'CV Rotina <2A - procedência'!H47","v":0.42760942760942761},{"$f":"'CV Rotina <2A - procedência'!P47","v":0.94612794612794615},{"$f":"'CV Rotina <2A - procedência'!#REF!","v":{"$error":"#REF!"}},{"$f":"'CV Rotina <2A - procedência'!J47","v":0.91582491582491588},{"$f":"'CV Rotina <2A - procedência'!L47","v":0.91245791245791241},{"$f":"'CV Rotina <2A - procedência'!N47","v":0.96969696969696972},{"$f":"'CV Rotina <2A - procedência'!X47","v":0.98989898989898994},{"$f":"'CV Rotina <2A - procedência'!R47","v":0.89898989898989901},{"$f":"'CV Rotina <2A - procedência'!T47","v":0.6835016835016835},{"$f":"'CV Rotina <2A - procedência'!V47","v":0.90909090909090906},{"$f":"'CV Rotina <2A - procedência'!Z47","v":0.39057239057239057},1,2,3,2]
["Metropolitana","Marechal Floriano",{"$f":"'CV Rotina <2A - procedência'!H48","v":0.23008849557522124},{"$f":"'CV Rotina <2A - procedência'!P48","v":0.97345132743362828},{"$f":"'CV Rotina <2A - procedência'!#REF!","v":{"$error":"#REF!"}},{"$f":"'CV Rotina <2A - procedência'!J48","v":0.8584070796460177},{"$f":"'CV Rotina <2A - procedência'!L48","v":0.84955752212389379},{"$f":"'CV Rotina <2A - procedência'!N48","v":1},{"$f":"'CV Rotina <2A - procedência'!X48","v":1.0353982300884956},{"$f":"'CV Rotina <2A - procedência'!R48","v":0.94690265486725667},{"$f":"'CV Rotina <2A - procedência'!T48","v":0.69026548672566368},{"$f":"'CV Rotina <2A - procedência'!V48","v":0.93805309734513276},{"$f":"'CV Rotina <2A - procedência'!Z48","v":0.66371681415929207},1,2,3,2]
["Central","Marilândia",{"$f":"'CV Rotina <2A - procedência'!H49","v":0.42168674698795183},{"$f":"'CV Rotina <2A - procedência'!P49","v":0.83132530120481929},{"$f":"'CV Rotina <2A - procedência'!#REF!","v":{"$error":"#REF!"}},{"$f":"'CV Rotina <2A - procedência'!J49","v":0.83132530120481929},{"$f":"'CV Rotina <2A - procedência'!L49","v":0.83132530120481929},{"$f":"'CV Rotina <2A - procedência'!N49","v":0.73493975903614461},{"$f":"'CV Rotina <2A - procedência'!X49","v":0.80722891566265065},{"$f":"'CV Rotina <2A - procedência'!R49","v":0.86746987951807231},{"$f":"'CV Rotina <2A - procedência'!T49","v":0.89156626506024095},{"$f":"'CV Rotina <2A - procedência'!V49","v":0.77108433734939763},{"$f":"'CV Rotina <2A - procedência'!Z49","v":0.54216867469879515},0,0,0,0]
["Sul","Mimoso do Sul",{"$f":"'CV Rotina <2A - procedência'!H50","v":0.14388489208633093},{"$f":"'CV Rotina <2A - procedência'!P50","v":0.63309352517985606},{"$f":"'CV Rotina <2A - procedência'!#REF!","v":{"$error":"#REF!"}},{"$f":"'CV Rotina <2A - procedência'!J50","v":0.70503597122302153},{"$f":"'CV Rotina <2A - procedência'!L50","v":0.69784172661870503},{"$f":"'CV Rotina <2A - procedência'!N50","v":0.65467625899280579},{"$f":"'CV Rotina <2A - procedência'!X50","v":0.79136690647482011},{"$f":"'CV Rotina <2A - procedência'!R50","v":0.6690647482014388},{"$f":"'CV Rotina <2A - procedência'!T50","v":0.68345323741007191},{"$f":"'CV Rotina <2A - procedência'!V50","v":0.60431654676258995},{"$f":"'CV Rotina <2A - procedência'!Z50","v":0.41007194244604317},0,0,0,0]
["Norte","Montanha",{"$f":"'CV Rotina <2A - procedência'!H51","v":0.36283185840707965},{"$f":"'CV Rotina <2A - procedência'!P51","v":1.1061946902654867},{"$f":"'CV Rotina <2A - procedência'!#REF!","v":{"$error":"#REF!"}},{"$f":"'CV Rotina <2A - procedência'!J51","v":1.345132743362832},{"$f":"'CV Rotina <2A - procedência'!L51","v":1.3628318584070795},{"$f":"'CV Rotina <2A - procedência'!N51","v":1.0530973451327434},{"$f":"'CV Rotina <2A - procedência'!X51","v":1.168141592920354},{"$f":"'CV Rotina <2A - procedência'!R51","v":1.1504424778761062},{"$f":"'CV Rotina <2A - procedência'!T51","v":1.2654867256637168},{"$f":"'CV Rotina <2A - procedência'!V51","v":1.1415929203539823},{"$f":"'CV Rotina <2A - procedência'!Z51","v":0.63716814159292035},1,7,8,4]
["Norte","Mucurici",{"$f":"'CV Rotina <2A - procedência'!H52","v":0.19354838709677419},{"$f":"'CV Rotina <2A - procedência'!P52","v":1.2903225806451613},{"$f":"'CV Rotina <2A - procedência'!#REF!","v":{"$error":"#REF!"}},{"$f":"'CV Rotina <2A - procedência'!J52","v":1.5161290322580645},{"$f":"'CV Rotina <2A - procedência'!L52","v":1.5161290322580645},{"$f":"'CV Rotina <2A - procedência'!N52","v":1.3225806451612903},{"$f":"'CV Rotina <2A - procedência'!X52","v":1.4516129032258065},{"$f":"'CV Rotina <2A - procedência'!R52","v":1.3870967741935485},{"$f":"'CV Rotina <2A - procedência'!T52","v":1.4838709677419355},{"$f":"'CV Rotina <2A - procedência'!V52","v":0.83870967741935487},{"$f":"'CV Rotina <2A - procedência'!Z52","v":0.54838709677419351},1,6,7,4]
["Sul","Muniz Freire",{"$f":"'CV Rotina <2A - procedência'!H53","v":0.73786407766990292},{"$f":"'CV Rotina <2A - procedência'!P53","v":1.1067961165048543},{"$f":"'CV Rotina <2A - procedência'!#REF!","v":{"$error":"#REF!"}},{"$f":"'CV Rotina <2A - procedência'!J53","v":1.0970873786407767},{"$f":"'CV Rotina <2A - procedência'!L53","v":1.0485436893203883},{"$f":"'CV Rotina <2A - procedência'!N53","v":1.087378640776699},{"$f":"'CV Rotina <2A - procedência'!X53","v":1.2912621359223302},{"$f":"'CV Rotina <2A - procedência'!R53","v":1.0970873786407767},{"$f":"'CV Rotina <2A - procedência'!T53","v":1.1262135922330097},{"$f":"'CV Rotina <2A - procedência'!V53","v":1.029126213592233},{"$f":"'CV Rotina <2A - procedência'!Z53","v":0.4854368932038835},1,7,8,4]
["Sul","Muqui",{"$f":"'CV Rotina <2A - procedência'!H54","v":0.11538461538461539},{"$f":"'CV Rotina <2A - procedência'!P54","v":0.87179487179487181},{"$f":"'CV Rotina <2A - procedência'!#REF!","v":{"$error":"#REF!"}},{"$f":"'CV Rotina <2A - procedência'!J54","v":1.1538461538461537},{"$f":"'CV Rotina <2A - procedência'!L54","v":1.1666666666666667},{"$f":"'CV Rotina <2A - procedência'!N54","v":0.87179487179487181},{"$f":"'CV Rotina <2A - procedência'!X54","v":0.92307692307692313},{"$f":"'CV Rotina <2A - procedência'!R54","v":1.0256410256410255},{"$f":"'CV Rotina <2A - procedência'!T54","v":1.0641025641025641},{"$f":"'CV Rotina <2A - procedência'!V54","v":0.83333333333333337},{"$f":"'CV Rotina <2A - procedência'!Z54","v":0.47435897435897434},0,4,4,2]
["Norte","Nova Venécia",{"$f":"'CV Rotina <2A - procedência'!H55","v":0.52941176470588236},{"$f":"'CV Rotina <2A - procedência'!P55","v":0.78074866310160429},{"$f":"'CV Rotina <2A - procedência'!#REF!","v":{"$error":"#REF!"}},{"$f":"'CV Rotina <2A - procedência'!J55","v":0.83422459893048129},{"$f":"'CV Rotina <2A - procedência'!L55","v":0.83957219251336901},{"$f":"'CV Rotina <2A - procedência'!N55","v":0.78342245989304815},{"$f":"'CV Rotina <2A - procedência'!X55","v":0.94385026737967914},{"$f":"'CV Rotina <2A - procedência'!R55","v":0.82085561497326198},{"$f":"'CV Rotina <2A - procedência'!T55","v":0.85828877005347592},{"$f":"'CV Rotina <2A - procedência'!V55","v":0.77807486631016043},{"$f":"'CV Rotina <2A - procedência'!Z55","v":0.44385026737967914},0,0,0,0]
["Central","Pancas",{"$f":"'CV Rotina <2A - procedência'!H56","v":0.5},{"$f":"'CV Rotina <2A - procedência'!P56","v":0.95283018867924529},{"$f":"'CV Rotina <2A - procedência'!#REF!","v":{"$error":"#REF!"}},{"$f":"'CV Rotina <2A - procedência'!J56","v":1.0094339622641511},{"$f":"'CV Rotina <2A - procedência'!L56","v":1.0094339622641511},{"$f":"'CV Rotina <2A - procedência'!N56","v":0.99056603773584906},{"$f":"'CV Rotina <2A - procedência'!X56","v":0.86792452830188682},{"$f":"'CV Rotina <2A - procedência'!R56","v":0.98113207547169812},{"$f":"'CV Rotina <2A - procedência'!T56","v":1.0094339622641511},{"$f":"'CV Rotina <2A - procedência'!V56","v":0.94339622641509435},{"$f":"'CV Rotina <2A - procedência'!Z56","v":0.68867924528301883},1,5,6,3]
["Norte","Pedro Canário",{"$f":"'CV Rotina <2A - procedência'!H57","v":6.1349693251533742E-2},{"$f":"'CV Rotina <2A - procedência'!P57","v":0.87116564417177911},{"$f":"'CV Rotina <2A - procedência'!#REF!","v":{"$error":"#REF!"}},{"$f":"'CV Rotina <2A - procedência'!J57","v":1.0122699386503067},{"$f":"'CV Rotina <2A - procedência'!L57","v":1.0061349693251533},{"$f":"'CV Rotina <2A - procedência'!N57","v":0.89570552147239269},{"$f":"'CV Rotina <2A - procedência'!X57","v":1.1349693251533743},{"$f":"'CV Rotina <2A - procedência'!R57","v":0.93865030674846628},{"$f":"'CV Rotina <2A - procedência'!T57","v":0.8834355828220859},{"$f":"'CV Rotina <2A - procedência'!V57","v":0.76073619631901845},{"$f":"'CV Rotina <2A - procedência'!Z57","v":0.58282208588957052},0,3,3,3]
["Norte","Pinheiros",{"$f":"'CV Rotina <2A - procedência'!H58","v":5.3571428571428568E-2},{"$f":"'CV Rotina <2A - procedência'!P58","v":0.95238095238095233},{"$f":"'CV Rotina <2A - procedência'!#REF!","v":{"$error":"#REF!"}},{"$f":"'CV Rotina <2A - procedência'!J58","v":0.98809523809523814},{"$f":"'CV Rotina <2A - procedência'!L58","v":0.97619047619047616},{"$f":"'CV Rotina <2A - procedência'!N58","v":0.9642857142857143},{"$f":"'CV Rotina <2A - procedência'!X58","v":0.92261904761904767},{"$f":"'CV Rotina <2A - procedência'!R58","v":0.89880952380952384},{"$f":"'CV Rotina <2A - procedência'!T58","v":0.8571428571428571},{"$f":"'CV Rotina <2A - procedência'!V58","v":0.6964285714285714},{"$f":"'CV Rotina <2A - procedência'!Z58","v":0.29761904761904762},1,3,4,3]
["Sul","Piúma",{"$f":"'CV Rotina <2A - procedência'!H59","v":0.62251655629139069},{"$f":"'CV Rotina <2A - procedência'!P59","v":0.83443708609271527},{"$f":"'CV Rotina <2A - procedência'!#REF!","v":{"$error":"#REF!"}},{"$f":"'CV Rotina <2A - procedência'!J59","v":0.89403973509933776},{"$f":"'CV Rotina <2A - procedência'!L59","v":0.88741721854304634},{"$f":"'CV Rotina <2A - procedência'!N59","v":0.9072847682119205},{"$f":"'CV Rotina <2A - procedência'!X59","v":0.92715231788079466},{"$f":"'CV Rotina <2A - procedência'!R59","v":0.80794701986754969},{"$f":"'CV Rotina <2A - procedência'!T59","v":0.64238410596026485},{"$f":"'CV Rotina <2A - procedência'!V59","v":0.72847682119205293},{"$f":"'CV Rotina <2A - procedência'!Z59","v":0.38410596026490068},0,0,0,0]
["Norte","Ponto Belo",{"$f":"'CV Rotina <2A - procedência'!H60","v":0.11428571428571428},{"$f":"'CV Rotina <2A - procedência'!P60","v":0.97142857142857142},{"$f":"'CV Rotina <2A - procedência'!#REF!","v":{"$error":"#REF!"}},{"$f":"'CV Rotina <2A - procedência'!J60","v":0.97142857142857142},{"$f":"'CV Rotina <2A - procedência'!L60","v":0.97142857142857142},{"$f":"'CV Rotina <2A - procedência'!N60","v":0.94285714285714284},{"$f":"'CV Rotina <2A - procedência'!X60","v":1.2},{"$f":"'CV Rotina <2A - procedência'!R60","v":0.77142857142857146},{"$f":"'CV Rotina <2A - procedência'!T60","v":1.1142857142857143},{"$f":"'CV Rotina <2A - procedência'!V60","v":0.65714285714285714},{"$f":"'CV Rotina <2A - procedência'!Z60","v":0.51428571428571423},1,4,5,3]
["Sul","Presidente Kennedy",{"$f":"'CV Rotina <2A - procedência'!H61","v":8.6956521739130432E-2},{"$f":"'CV Rotina <2A - procedência'!P61","v":0.67826086956521736},{"$f":"'CV Rotina <2A - procedência'!#REF!","v":{"$error":"#REF!"}},{"$f":"'CV Rotina <2A - procedência'!J61","v":0.63478260869565217},{"$f":"'CV Rotina <2A - procedência'!L61","v":0.64347826086956517},{"$f":"'CV Rotina <2A - procedência'!N61","v":0.68695652173913047},{"$f":"'CV Rotina <2A - procedência'!X61","v":1.0608695652173914},{"$f":"'CV Rotina <2A - procedência'!R61","v":0.64347826086956517},{"$f":"'CV Rotina <2A - procedência'!T61","v":0.69565217391304346},{"$f":"'CV Rotina <2A - procedência'!V61","v":0.84347826086956523},{"$f":"'CV Rotina <2A - procedência'!Z61","v":0.37391304347826088},0,1,1,1]
["Central","Rio Bananal",{"$f":"'CV Rotina <2A - procedência'!H62","v":0.17964071856287425},{"$f":"'CV Rotina <2A - procedência'!P62","v":0.82035928143712578},{"$f":"'CV Rotina <2A - procedência'!#REF!","v":{"$error":"#REF!"}},{"$f":"'CV Rotina <2A - procedência'!J62","v":0.85628742514970058},{"$f":"'CV Rotina <2A - procedência'!L62","v":0.85029940119760483},{"$f":"'CV Rotina <2A - procedência'!N62","v":0.77844311377245512},{"$f":"'CV Rotina <2A - procedência'!X62","v":0.9880239520958084},{"$f":"'CV Rotina <2A - procedência'!R62","v":0.73652694610778446},{"$f":"'CV Rotina <2A - procedência'!T62","v":0.91017964071856283},{"$f":"'CV Rotina <2A - procedência'!V62","v":0.89820359281437123},{"$f":"'CV Rotina <2A - procedência'!Z62","v":0.45508982035928142},0,1,1,1]
["Sul","Rio Novo do Sul",{"$f":"'CV Rotina <2A - procedência'!H63","v":0.39285714285714285},{"$f":"'CV Rotina <2A - procedência'!P63","v":1.0178571428571428},{"$f":"'CV Rotina <2A - procedência'!#REF!","v":{"$error":"#REF!"}},{"$f":"'CV Rotina <2A - procedência'!J63","v":1.2142857142857142},{"$f":"'CV Rotina <2A - procedência'!L63","v":1.1964285714285714},{"$f":"'CV Rotina <2A - procedência'!N63","v":1},{"$f":"'CV Rotina <2A - procedência'!X63","v":1},{"$f":"'CV Rotina <2A - procedência'!R63","v":1.0714285714285714},{"$f":"'CV Rotina <2A - procedência'!T63","v":0.9285714285714286},{"$f":"'CV Rotina <2A - procedência'!V63","v":1.1607142857142858},{"$f":"'CV Rotina <2A - procedência'!Z63","v":0.7142857142857143},1,6,7,4]
["Metropolitana","Santa Leopoldina",{"$f":"'CV Rotina <2A - procedência'!H64","v":0.36842105263157893},{"$f":"'CV Rotina <2A - procedência'!P64","v":1.368421052631579},{"$f":"'CV Rotina <2A - procedência'!#REF!","v":{"$error":"#REF!"}},{"$f":"'CV Rotina <2A - procedência'!J64","v":1.5789473684210527},{"$f":"'CV Rotina <2A - procedência'!L64","v":1.5789473684210527},{"$f":"'CV Rotina <2A - procedência'!N64","v":1.2894736842105263},{"$f":"'CV Rotina <2A - procedência'!X64","v":1.736842105263158},{"$f":"'CV Rotina <2A - procedência'!R64","v":1.5263157894736843},{"$f":"'CV Rotina <2A - procedência'!T64","v":1.368421052631579},{"$f":"'CV Rotina <2A - procedência'!V64","v":1.736842105263158},{"$f":"'CV Rotina <2A - procedência'!Z64","v":0.34210526315789475},1,7,8,4]
["Metropolitana","Santa Maria de Jetibá",{"$f":"'CV Rotina <2A - procedência'!H65","v":0.8150470219435737},{"$f":"'CV Rotina <2A - procedência'!P65","v":0.91849529780564265},{"$f":"'CV Rotina <2A - procedência'!#REF!","v":{"$error":"#REF!"}},{"$f":"'CV Rotina <2A - procedência'!J65","v":0.89968652037617558},{"$f":"'CV Rotina <2A - procedência'!L65","v":0.89968652037617558},{"$f":"'CV Rotina <2A - procedência'!N65","v":0.89968652037617558},{"$f":"'CV Rotina <2A - procedência'!X65","v":1.0783699059561129},{"$f":"'CV Rotina <2A - procedência'!R65","v":0.90909090909090906},{"$f":"'CV Rotina <2A - procedência'!T65","v":0.80564263322884011},{"$f":"'CV Rotina <2A - procedência'!V65","v":1.0219435736677116},{"$f":"'CV Rotina <2A - procedência'!Z65","v":0.41379310344827586},1,2,3,1]
["Metropolitana","Santa Teresa",{"$f":"'CV Rotina <2A - procedência'!H66","v":0.73417721518987344},{"$f":"'CV Rotina <2A - procedência'!P66","v":0.88607594936708856},{"$f":"'CV Rotina <2A - procedência'!#REF!","v":{"$error":"#REF!"}},{"$f":"'CV Rotina <2A - procedência'!J66","v":0.82911392405063289},{"$f":"'CV Rotina <2A - procedência'!L66","v":0.83544303797468356},{"$f":"'CV Rotina <2A - procedência'!N66","v":0.92405063291139244},{"$f":"'CV Rotina <2A - procedência'!X66","v":0.82911392405063289},{"$f":"'CV Rotina <2A - procedência'!R66","v":0.82278481012658233},{"$f":"'CV Rotina <2A - procedência'!T66","v":0.72151898734177211},{"$f":"'CV Rotina <2A - procedência'!V66","v":0.689873417721519},{"$f":"'CV Rotina <2A - procedência'!Z66","v":0.53164556962025311},0,0,0,0]
["Central","São Domingos do Norte",{"$f":"'CV Rotina <2A - procedência'!H67","v":0.35384615384615387},{"$f":"'CV Rotina <2A - procedência'!P67","v":0.84615384615384615},{"$f":"'CV Rotina <2A - procedência'!#REF!","v":{"$error":"#REF!"}},{"$f":"'CV Rotina <2A - procedência'!J67","v":0.81538461538461537},{"$f":"'CV Rotina <2A - procedência'!L67","v":0.81538461538461537},{"$f":"'CV Rotina <2A - procedência'!N67","v":0.83076923076923082},{"$f":"'CV Rotina <2A - procedência'!X67","v":0.7846153846153846},{"$f":"'CV Rotina <2A - procedência'!R67","v":0.84615384615384615},{"$f":"'CV Rotina <2A - procedência'!T67","v":0.84615384615384615},{"$f":"'CV Rotina <2A - procedência'!V67","v":0.47692307692307695},{"$f":"'CV Rotina <2A - procedência'!Z67","v":0.36923076923076925},0,{"$f":"COUNTIFS(F66:M66,\">=0,95\")","v":0},0,0]
["Central","São Gabriel da Palha",{"$f":"'CV Rotina <2A - procedência'!H68","v":0.54700854700854706},{"$f":"'CV Rotina <2A - procedência'!P68","v":0.84188034188034189},{"$f":"'CV Rotina <2A - procedência'!#REF!","v":{"$error":"#REF!"}},{"$f":"'CV Rotina <2A - procedência'!J68","v":0.87179487179487181},{"$f":"'CV Rotina <2A - procedência'!L68","v":0.88034188034188032},{"$f":"'CV Rotina <2A - procedência'!N68","v":0.86752136752136755},{"$f":"'CV Rotina <2A - procedência'!X68","v":0.87179487179487181},{"$f":"'CV Rotina <2A - procedência'!R68","v":0.84615384615384615},{"$f":"'CV Rotina <2A - procedência'!T68","v":0.73931623931623935},{"$f":"'CV Rotina <2A - procedência'!V68","v":0.70085470085470081},{"$f":"'CV Rotina <2A - procedência'!Z68","v":0.37606837606837606},{"$f":"COUNTIF(C67:E67,\">=0,9\")","v":0},0,{"$f":"SUM(N67:O67)","v":0},{"$f":"COUNTIF(F67:I67,\">=0,95\")","v":0}]
["Sul","São José do Calçado",{"$f":"'CV Rotina <2A - procedência'!H69","v":0.86363636363636365},{"$f":"'CV Rotina <2A - procedência'!P69","v":1.1136363636363635},{"$f":"'CV Rotina <2A - procedência'!#REF!","v":{"$error":"#REF!"}},{"$f":"'CV Rotina <2A - procedência'!J69","v":1.5227272727272727},{"$f":"'CV Rotina <2A - procedência'!L69","v":1.5},{"$f":"'CV Rotina <2A - procedência'!N69","v":1.2954545454545454},{"$f":"'CV Rotina <2A - procedência'!X69","v":1.4318181818181819},{"$f":"'CV Rotina <2A - procedência'!R69","v":1.3409090909090908},{"$f":"'CV Rotina <2A - procedência'!T69","v":1.1136363636363635},{"$f":"'CV Rotina <2A - procedência'!V69","v":1.1590909090909092},{"$f":"'CV Rotina <2A - procedência'!Z69","v":0.77272727272727271},1,7,8,4]
["Norte","São Mateus",{"$f":"'CV Rotina <2A - procedência'!H70","v":1.5236625514403292},{"$f":"'CV Rotina <2A - procedência'!P70","v":0.81893004115226342},{"$f":"'CV Rotina <2A - procedência'!#REF!","v":{"$error":"#REF!"}},{"$f":"'CV Rotina <2A - procedência'!J70","v":0.88580246913580252},{"$f":"'CV Rotina <2A - procedência'!L70","v":0.86728395061728392},{"$f":"'CV Rotina <2A - procedência'!N70","v":0.87860082304526754},{"$f":"'CV Rotina <2A - procedência'!X70","v":0.85288065843621397},{"$f":"'CV Rotina <2A - procedência'!R70","v":0.82510288065843618},{"$f":"'CV Rotina <2A - procedência'!T70","v":0.68827160493827155},{"$f":"'CV Rotina <2A - procedência'!V70","v":0.73559670781893005},{"$f":"'CV Rotina <2A - procedência'!Z70","v":0.36213991769547327},1,0,1,0]
["Central","São Roque do Canaã",{"$f":"'CV Rotina <2A - procedência'!H71","v":0.29761904761904762},{"$f":"'CV Rotina <2A - procedência'!P71","v":0.65476190476190477},{"$f":"'CV Rotina <2A - procedência'!#REF!","v":{"$error":"#REF!"}},{"$f":"'CV Rotina <2A - procedência'!J71","v":0.58333333333333337},{"$f":"'CV Rotina <2A - procedência'!L71","v":0.5714285714285714},{"$f":"'CV Rotina <2A - procedência'!N71","v":0.59523809523809523},{"$f":"'CV Rotina <2A - procedência'!X71","v":0.91666666666666663},{"$f":"'CV Rotina <2A - procedência'!R71","v":0.63095238095238093},{"$f":"'CV Rotina <2A - procedência'!T71","v":0.73809523809523814},{"$f":"'CV Rotina <2A - procedência'!V71","v":0.6785714285714286},{"$f":"'CV Rotina <2A - procedência'!Z71","v":0.33333333333333331},0,0,0,0]
["Metropolitana","Serra",{"$f":"'CV Rotina <2A - procedência'!H72","v":1.0623076923076924},{"$f":"'CV Rotina <2A - procedência'!P72","v":0.77358974358974364},{"$f":"'CV Rotina <2A - procedência'!#REF!","v":{"$error":"#REF!"}},{"$f":"'CV Rotina <2A - procedência'!J72","v":0.78076923076923077},{"$f":"'CV Rotina <2A - procedência'!L72","v":0.77384615384615385},{"$f":"'CV Rotina <2A - procedência'!N72","v":0.7961538461538461},{"$f":"'CV Rotina <2A - procedência'!X72","v":0.79128205128205131},{"$f":"'CV Rotina <2A - procedência'!R72","v":0.76230769230769235},{"$f":"'CV Rotina <2A - procedência'!T72","v":0.6594871794871795},{"$f":"'CV Rotina <2A - procedência'!V72","v":0.42820512820512818},{"$f":"'CV Rotina <2A - procedência'!Z72","v":0.22666666666666666},1,0,1,0]
["Central","Sooretama",{"$f":"'CV Rotina <2A - procedência'!H73","v":6.9387755102040816E-2},{"$f":"'CV Rotina <2A - procedência'!P73","v":0.76326530612244903},{"$f":"'CV Rotina <2A - procedência'!#REF!","v":{"$error":"#REF!"}},{"$f":"'CV Rotina <2A - procedência'!J73","v":0.76326530612244903},{"$f":"'CV Rotina <2A - procedência'!L73","v":0.77142857142857146},{"$f":"'CV Rotina <2A - procedência'!N73","v":0.76734693877551019},{"$f":"'CV Rotina <2A - procedência'!X73","v":0.87755102040816324},{"$f":"'CV Rotina <2A - procedência'!R73","v":0.71020408163265303},{"$f":"'CV Rotina <2A - procedência'!T73","v":0.77142857142857146},{"$f":"'CV Rotina <2A - procedência'!V73","v":0.8},{"$f":"'CV Rotina <2A - procedência'!Z73","v":0.29387755102040819},0,0,0,0]
["Sul","Vargem Alta",{"$f":"'CV Rotina <2A - procedência'!H74","v":9.2198581560283682E-2},{"$f":"'CV Rotina <2A - procedência'!P74","v":0.82269503546099287},{"$f":"'CV Rotina <2A - procedência'!#REF!","v":{"$error":"#REF!"}},{"$f":"'CV Rotina <2A - procedência'!J74","v":0.76595744680851063},{"$f":"'CV Rotina <2A - procedência'!L74","v":0.76595744680851063},{"$f":"'CV Rotina <2A - procedência'!N74","v":0.78723404255319152},{"$f":"'CV Rotina <2A - procedência'!X74","v":0.94326241134751776},{"$f":"'CV Rotina <2A - procedência'!R74","v":0.82269503546099287},{"$f":"'CV Rotina <2A - procedência'!T74","v":0.72340425531914898},{"$f":"'CV Rotina <2A - procedência'!V74","v":0.86524822695035464},{"$f":"'CV Rotina <2A - procedência'!Z74","v":0.39007092198581561},0,0,0,0]
["Metropolitana","Venda Nova do Imigrante",{"$f":"'CV Rotina <2A - procedência'!H75","v":1.014218009478673},{"$f":"'CV Rotina <2A - procedência'!P75","v":0.81990521327014221},{"$f":"'CV Rotina <2A - procedência'!#REF!","v":{"$error":"#REF!"}},{"$f":"'CV Rotina <2A - procedência'!J75","v":0.91943127962085303},{"$f":"'CV Rotina <2A - procedência'!L75","v":0.91943127962085303},{"$f":"'CV Rotina <2A - procedência'!N75","v":0.84360189573459721},{"$f":"'CV Rotina <2A - procedência'!X75","v":0.98578199052132698},{"$f":"'CV Rotina <2A - procedência'!R75","v":0.86255924170616116},{"$f":"'CV Rotina <2A - procedência'!T75","v":0.87203791469194314},{"$f":"'CV Rotina <2A - procedência'!V75","v":0.67298578199052128},{"$f":"'CV Rotina <2A - procedência'!Z75","v":0.3127962085308057},1,1,2,1]
["Metropolitana","Viana",{"$f":"'CV Rotina <2A - procedência'!H76","v":0.1898989898989899},{"$f":"'CV Rotina <2A - procedência'!P76","v":0.8545454545454545},{"$f":"'CV Rotina <2A - procedência'!#REF!","v":{"$error":"#REF!"}},{"$f":"'CV Rotina <2A - procedência'!J76","v":0.82222222222222219},{"$f":"'CV Rotina <2A - procedência'!L76","v":0.8},{"$f":"'CV Rotina <2A - procedência'!N76","v":0.89090909090909087},{"$f":"'CV Rotina <2A - procedência'!X76","v":0.94141414141414137},{"$f":"'CV Rotina <2A - procedência'!R76","v":0.90505050505050511},{"$f":"'CV Rotina <2A - procedência'!T76","v":0.65858585858585861},{"$f":"'CV Rotina <2A - procedência'!V76","v":0.76363636363636367},{"$f":"'CV Rotina <2A - procedência'!Z76","v":0.27474747474747474},0,0,0,0]
["Norte","Vila Pavão",{"$f":"'CV Rotina <2A - procedência'!H77","v":0.57446808510638303},{"$f":"'CV Rotina <2A - procedência'!P77","v":0.95744680851063835},{"$f":"'CV Rotina <2A - procedência'!#REF!","v":{"$error":"#REF!"}},{"$f":"'CV Rotina <2A - procedência'!J77","v":0.97872340425531912},{"$f":"'CV Rotina <2A - procedência'!L77","v":0.95744680851063835},{"$f":"'CV Rotina <2A - procedência'!N77","v":0.95744680851063835},{"$f":"'CV Rotina <2A - procedência'!X77","v":1.4680851063829787},{"$f":"'CV Rotina <2A - procedência'!R77","v":0.91489361702127658},{"$f":"'CV Rotina <2A - procedência'!T77","v":1.1276595744680851},{"$f":"'CV Rotina <2A - procedência'!V77","v":1.3404255319148937},{"$f":"'CV Rotina <2A - procedência'!Z77","v":0.61702127659574468},1,6,7,4]
["Central","Vila Valério",{"$f":"'CV Rotina <2A - procedência'!H78","v":0.27200000000000002},{"$f":"'CV Rotina <2A - procedência'!P78","v":0.90400000000000003},{"$f":"'CV Rotina <2A - procedência'!#REF!","v":{"$error":"#REF!"}},{"$f":"'CV Rotina <2A - procedência'!J78","v":0.84799999999999998},{"$f":"'CV Rotina <2A - procedência'!L78","v":0.8},{"$f":"'CV Rotina <2A - procedência'!N78","v":0.86399999999999999},{"$f":"'CV Rotina <2A - procedência'!X78","v":0.92800000000000005},{"$f":"'CV Rotina <2A - procedência'!R78","v":0.96},{"$f":"'CV Rotina <2A - procedência'!T78","v":0.85599999999999998},{"$f":"'CV Rotina <2A - procedência'!V78","v":0.85599999999999998},{"$f":"'CV Rotina <2A - procedência'!Z78","v":0.42399999999999999},1,1,2,0]
["Metropolitana","Vila Velha",{"$f":"'CV Rotina <2A - procedência'!H79","v":0.74280821917808215},{"$f":"'CV Rotina <2A - procedência'!P79","v":0.79965753424657537},{"$f":"'CV Rotina <2A - procedência'!#REF!","v":{"$error":"#REF!"}},{"$f":"'CV Rotina <2A - procedência'!J79","v":0.77671232876712326},{"$f":"'CV Rotina <2A - procedência'!L79","v":0.77534246575342469},{"$f":"'CV Rotina <2A - procedência'!N79","v":0.79589041095890412},{"$f":"'CV Rotina <2A - procedência'!X79","v":0.84417808219178081},{"$f":"'CV Rotina <2A - procedência'!R79","v":0.79212328767123286},{"$f":"'CV Rotina <2A - procedência'!T79","v":0.67020547945205478},{"$f":"'CV Rotina <2A - procedência'!V79","v":0.67465753424657537},{"$f":"'CV Rotina <2A - procedência'!Z79","v":0.30171232876712328},0,0,0,0]
["Metropolitana","Vitória",{"$f":"'CV Rotina <2A - procedência'!H80","v":1.8806998939554613},{"$f":"'CV Rotina <2A - procedência'!P80","v":0.92895015906680811},{"$f":"'CV Rotina <2A - procedência'!#REF!","v":{"$error":"#REF!"}},{"$f":"'CV Rotina <2A - procedência'!J80","v":1.0323435843054083},{"$f":"'CV Rotina <2A - procedência'!L80","v":1.0328738069989396},{"$f":"'CV Rotina <2A - procedência'!N80","v":0.95281018027571585},{"$f":"'CV Rotina <2A - procedência'!X80","v":0.94909862142099677},{"$f":"'CV Rotina <2A - procedência'!R80","v":0.97401908801696713},{"$f":"'CV Rotina <2A - procedência'!T80","v":0.7311770943796394},{"$f":"'CV Rotina <2A - procedência'!V80","v":1.002120890774125},{"$f":"'CV Rotina <2A - procedência'!Z80","v":0.44273594909862141},2,5,7,3]
[]
[null,"Total Norte",{"$f":"'CV Rotina <2A - procedência'!H82","v":0.7844036697247706},{"$f":"'CV Rotina <2A - procedência'!P82","v":0.84403669724770647},{"$f":"'CV Rotina <2A - procedência'!#REF!","v":{"$error":"#REF!"}},{"$f":"'CV Rotina <2A - procedência'!J82","v":0.89023591087811271},{"$f":"'CV Rotina <2A - procedência'!L82","v":0.88728702490170375},{"$f":"'CV Rotina <2A - procedência'!N82","v":0.86730013106159898},{"$f":"'CV Rotina <2A - procedência'!X82","v":0.92595019659239841},{"$f":"'CV Rotina <2A - procedência'!R82","v":0.84796854521625165},{"$f":"'CV Rotina <2A - procedência'!T82","v":0.79488859764089126},{"$f":"'CV Rotina <2A - procedência'!V82","v":0.75524246395806027},{"$f":"'CV Rotina <2A - procedência'!Z82","v":0.42595019659239841},{"$f":"COUNTIF(C81:E81,\">=0,9\")","v":0},{"$f":"COUNTIFS(F81:M81,\">=0,95\")","v":0},{"$f":"SUM(N81:O81)","v":0},{"$f":"COUNTIF(F81:I81,\">=0,95\")","v":0}]
[null,"Total Central",{"$f":"'CV Rotina <2A - procedência'!H83","v":0.92431561996779388},{"$f":"'CV Rotina <2A - procedência'!P83","v":0.83896940418679544},{"$f":"'CV Rotina <2A - procedência'!#REF!","v":{"$error":"#REF!"}},{"$f":"'CV Rotina <2A - procedência'!J83","v":0.8419216317767042},{"$f":"'CV Rotina <2A - procedência'!L83","v":0.83467525496511008},{"$f":"'CV Rotina <2A - procedência'!N83","v":0.83896940418679544},{"$f":"'CV Rotina <2A - procedência'!X83","v":0.8853998926462695},{"$f":"'CV Rotina <2A - procedência'!R83","v":0.83440687063875474},{"$f":"'CV Rotina <2A - procedência'!T83","v":0.78260869565217395},{"$f":"'CV Rotina <2A - procedência'!V83","v":0.71980676328502413},{"$f":"'CV Rotina <2A - procedência'!Z83","v":0.38996242619431026},{"$f":"COUNTIF(C82:E82,\">=0,9\")","v":1},{"$f":"COUNTIFS(F82:M82,\">=0,95\")","v":0},{"$f":"SUM(N82:O82)","v":1},{"$f":"COUNTIF(F82:I82,\">=0,95\")","v":0}]
[null,"Total Metropolitana",{"$f":"'CV Rotina <2A - procedência'!H84","v":0.89620399511850468},{"$f":"'CV Rotina <2A - procedência'!P84","v":0.82709229879889523},{"$f":"'CV Rotina <2A - procedência'!#REF!","v":{"$error":"#REF!"}},{"$f":"'CV Rotina <2A - procedência'!J84","v":0.83550645513520461},{"$f":"'CV Rotina <2A - procedência'!L84","v":0.8292118954332327},{"$f":"'CV Rotina <2A - procedência'!N84","v":0.84578328730168928},{"$f":"'CV Rotina <2A - procedência'!X84","v":0.88766137838011427},{"$f":"'CV Rotina <2A - procedência'!R84","v":0.83197379407797545},{"$f":"'CV Rotina <2A - procedência'!T84","v":0.70383454300211956},{"$f":"'CV Rotina <2A - procedência'!V84","v":0.69516346586164812},{"$f":"'CV Rotina <2A - procedência'!Z84","v":0.34003468430856187},0,{"$f":"COUNTIFS(F83:M83,\">=0,95\")","v":0},{"$f":"SUM(N83:O83)","v":0},{"$f":"COUNTIF(F83:I83,\">=0,95\")","v":0}]
[null,"Total Sul",{"$f":"'CV Rotina <2A - procedência'!H85","v":0.93337975858867228},{"$f":"'CV Rotina <2A - procedência'!P85","v":0.88602599814298977},{"$f":"'CV Rotina <2A - procedência'!#REF!","v":{"$error":"#REF!"}},{"$f":"'CV Rotina <2A - procedência'!J85","v":0.91713091922005574},{"$f":"'CV Rotina <2A - procedência'!L85","v":0.91039925719591452},{"$f":"'CV Rotina <2A - procedência'!N85","v":0.91039925719591452},{"$f":"'CV Rotina <2A - procedência'!X85","v":0.99605385329619311},{"$f":"'CV Rotina <2A - procedência'!R85","v":0.89275766016713087},{"$f":"'CV Rotina <2A - procedência'!T85","v":0.76346332404828221},{"$f":"'CV Rotina <2A - procedência'!V85","v":0.83170844939647171},{"$f":"'CV Rotina <2A - procedência'!Z85","v":0.38834726090993499},1,{"$f":"COUNTIFS(F84:M84,\">=0,95\")","v":1},{"$f":"SUM(N84:O84)","v":2},{"$f":"COUNTIF(F84:I84,\">=0,95\")","v":1}]
[null,"Total Espírito Santo",{"$f":"'CV Rotina <2A - procedência'!H86","v":0.89334083661601948},{"$f":"'CV Rotina <2A - procedência'!P86","v":0.84021759519789907},{"$f":"'CV Rotina <2A - procedência'!#REF!","v":{"$error":"#REF!"}},{"$f":"'CV Rotina <2A - procedência'!J86","v":0.85586193959857437},{"$f":"'CV Rotina <2A - procedência'!L86","v":0.84974676420934159},{"$f":"'CV Rotina <2A - procedência'!N86","v":0.85773776027011817},{"$f":"'CV Rotina <2A - procedência'!X86","v":0.90924779591071092},{"$f":"'CV Rotina <2A - procedência'!R86","v":0.84396923654098666},{"$f":"'CV Rotina <2A - procedência'!T86","v":0.73490902269743008},{"$f":"'CV Rotina <2A - procedência'!V86","v":0.72755580566497846},{"$f":"'CV Rotina <2A - procedência'!Z86","v":0.36465953854811478},0,{"$f":"COUNTIFS(F85:M85,\">=0,95\")","v":0},{"$f":"SUM(N85:O85)","v":0},{"$f":"COUNTIF(F85:I85,\">=0,95\")","v":0}]
[]
[]
["Fonte: SIPNI/DATASUS, em 09 de junho de 2023.*"]
[" Vacina e Confia, em 12 de junho de 2023.**"]
["*Dados referentes às doses aplicadas pelas clínicas particulares de janeiro a maio de 2023"]
["**Dados referente às doses aplicadas no período de janeiro a maio de 2023"]
["Cobertura Calculada por município de vacinação"]
["1 População proporcional extraída do MS/SVS/DASIS - Sistema de Informações sobre Nascidos Vivos - SINASC"]
["2000 a 2021 – Estimativas preliminares elaboradas pelo Ministério da Saúde/SVS/DASNT/CGIAE"]
[" Nota: Dados preliminares 2021"]

{"sheet":"cálculos2","index":11,"n_rows":95,"n_cols":17,"rows_kept":95,"cut":false,"hidden":true,"merged":[]}
["Regional ","Município","Cobertura Vacinal BCG","Cobertura Vacinal Rotavírus","Cobertura Vacinal COVID-19","Cobertura Vacinal Pentavalente","Cobertura Vacinal Poliomielite ","Cobertura Vacinal Pneumo 10","Cobertura Vacinal Tríplice Viral","Cobertura Vacinal Meningo C","Cobertura Vacinal Febre Amarela","Cobertura Vacinal Hepatite A","Cobertura Varicela","META 90%","META 95%","ATINGIRAM META","PQA-VS"]
["Metropolitana","Afonso Cláudio",{"$f":"'CV Rotina <2A - residência'!H3","v":0.94444444444444442},{"$f":"'CV Rotina <2A - residência'!P3","v":1.05},{"$f":"'CV Rotina <2A - residência'!#REF!","v":{"$error":"#REF!"}},{"$f":"'CV Rotina <2A - residência'!J3","v":1.0666666666666667},{"$f":"'CV Rotina <2A - residência'!L3","v":1.0555555555555556},{"$f":"'CV Rotina <2A - residência'!N3","v":1.0444444444444445},{"$f":"'CV Rotina <2A - residência'!X3","v":1.1944444444444444},{"$f":"'CV Rotina <2A - residência'!R3","v":1.0555555555555556},{"$f":"'CV Rotina <2A - residência'!T3","v":1.1000000000000001},{"$f":"'CV Rotina <2A - residência'!V3","v":1.1722222222222223},{"$f":"'CV Rotina <2A - residência'!Z3","v":0.45},{"$f":"COUNTIF(C2:E2,\">=0,9\")","v":2},{"$f":"COUNTIFS(F2:M2,\">=0,95\")","v":7},{"$f":"SUM(N2:O2)","v":9},{"$f":"COUNTIF(F2:I2,\">=0,95\")","v":4}]
["Norte","Água Doce do Norte",{"$f":"'CV Rotina <2A - residência'!H4","v":1.0467289719626167},{"$f":"'CV Rotina <2A - residência'!P4","v":0.81308411214953269},{"$f":"'CV Rotina <2A - residência'!#REF!","v":{"$error":"#REF!"}},{"$f":"'CV Rotina <2A - residência'!J4","v":0.76635514018691586},{"$f":"'CV Rotina <2A - residência'!L4","v":0.76635514018691586},{"$f":"'CV Rotina <2A - residência'!N4","v":0.85046728971962615},{"$f":"'CV Rotina <2A - residência'!X4","v":0.65420560747663548},{"$f":"'CV Rotina <2A - residência'!R4","v":0.80373831775700932},{"$f":"'CV Rotina <2A - residência'!T4","v":0.65420560747663548},{"$f":"'CV Rotina <2A - residência'!V4","v":0.63551401869158874},{"$f":"'CV Rotina <2A - residência'!Z4","v":0.21495327102803738},{"$f":"COUNTIF(C3:E3,\">=0,9\")","v":1},0,{"$f":"SUM(N3:O3)","v":1},{"$f":"COUNTIF(F3:I3,\">=0,95\")","v":0}]
["Central","Águia Branca",{"$f":"'CV Rotina <2A - residência'!H5","v":0.96341463414634143},{"$f":"'CV Rotina <2A - residência'!P5","v":0.93902439024390238},{"$f":"'CV Rotina <2A - residência'!#REF!","v":{"$error":"#REF!"}},{"$f":"'CV Rotina <2A - residência'!J5","v":1.024390243902439},{"$f":"'CV Rotina <2A - residência'!L5","v":1.0121951219512195},{"$f":"'CV Rotina <2A - residência'!N5","v":0.96341463414634143},{"$f":"'CV Rotina <2A - residência'!X5","v":0.70731707317073167},{"$f":"'CV Rotina <2A - residência'!R5","v":0.97560975609756095},{"$f":"'CV Rotina <2A - residência'!T5","v":0.85365853658536583},{"$f":"'CV Rotina <2A - residência'!V5","v":0.71951219512195119},{"$f":"'CV Rotina <2A - residência'!Z5","v":0.28048780487804881},2,4,6,3]
["Sul","Alegre",{"$f":"'CV Rotina <2A - residência'!H6","v":0.8902439024390244},{"$f":"'CV Rotina <2A - residência'!P6","v":0.90243902439024393},{"$f":"'CV Rotina <2A - residência'!#REF!","v":{"$error":"#REF!"}},{"$f":"'CV Rotina <2A - residência'!J6","v":0.97560975609756095},{"$f":"'CV Rotina <2A - residência'!L6","v":1},{"$f":"'CV Rotina <2A - residência'!N6","v":0.91463414634146345},{"$f":"'CV Rotina <2A - residência'!X6","v":1.0060975609756098},{"$f":"'CV Rotina <2A - residência'!R6","v":1.0121951219512195},{"$f":"'CV Rotina <2A - residência'!T6","v":0.93292682926829273},{"$f":"'CV Rotina <2A - residência'!V6","v":0.87195121951219512},{"$f":"'CV Rotina <2A - residência'!Z6","v":0.32317073170731708},1,4,5,3]
["Sul","Alfredo Chaves",{"$f":"'CV Rotina <2A - residência'!H7","v":0.78787878787878785},{"$f":"'CV Rotina <2A - residência'!P7","v":1.1818181818181819},{"$f":"'CV Rotina <2A - residência'!#REF!","v":{"$error":"#REF!"}},{"$f":"'CV Rotina <2A - residência'!J7","v":1.1212121212121211},{"$f":"'CV Rotina <2A - residência'!L7","v":1.106060606060606},{"$f":"'CV Rotina <2A - residência'!N7","v":1.1515151515151516},{"$f":"'CV Rotina <2A - residência'!X7","v":1.1818181818181819},{"$f":"'CV Rotina <2A - residência'!R7","v":1.2575757575757576},{"$f":"'CV Rotina <2A - residência'!T7","v":1.106060606060606},{"$f":"'CV Rotina <2A - residência'!V7","v":0.89393939393939392},{"$f":"'CV Rotina <2A - residência'!Z7","v":0.63636363636363635},1,6,7,4]
["Central","Alto Rio Novo",{"$f":"'CV Rotina <2A - residência'!H8","v":1.1666666666666667},{"$f":"'CV Rotina <2A - residência'!P8","v":1.1944444444444444},{"$f":"'CV Rotina <2A - residência'!#REF!","v":{"$error":"#REF!"}},{"$f":"'CV Rotina <2A - residência'!J8","v":1.2777777777777777},{"$f":"'CV Rotina <2A - residência'!L8","v":1.2777777777777777},{"$f":"'CV Rotina <2A - residência'!N8","v":1.1944444444444444},{"$f":"'CV Rotina <2A - residência'!X8","v":1.1944444444444444},{"$f":"'CV Rotina <2A - residência'!R8","v":1.3055555555555556},{"$f":"'CV Rotina <2A - residência'!T8","v":1},{"$f":"'CV Rotina <2A - residência'!V8","v":1.2222222222222223},{"$f":"'CV Rotina <2A - residência'!Z8","v":0.44444444444444442},2,7,9,4]
["Sul","Anchieta",{"$f":"'CV Rotina <2A - residência'!H9","v":0.91237113402061853},{"$f":"'CV Rotina <2A - residência'!P9","v":1.0360824742268042},{"$f":"'CV Rotina <2A - residência'!#REF!","v":{"$error":"#REF!"}},{"$f":"'CV Rotina <2A - residência'!J9","v":1.0927835051546391},{"$f":"'CV Rotina <2A - residência'!L9","v":1.1030927835051547},{"$f":"'CV Rotina <2A - residência'!N9","v":1.0412371134020619},{"$f":"'CV Rotina <2A - residência'!X9","v":1.0773195876288659},{"$f":"'CV Rotina <2A - residência'!R9","v":1.0670103092783505},{"$f":"'CV Rotina <2A - residência'!T9","v":0.86082474226804129},{"$f":"'CV Rotina <2A - residência'!V9","v":0.93814432989690721},{"$f":"'CV Rotina <2A - residência'!Z9","v":0.45876288659793812},2,5,7,4]
["Sul","Apiacá",{"$f":"'CV Rotina <2A - residência'!H10","v":0.82222222222222219},{"$f":"'CV Rotina <2A - residência'!P10","v":0.64444444444444449},{"$f":"'CV Rotina <2A - residência'!#REF!","v":{"$error":"#REF!"}},{"$f":"'CV Rotina <2A - residência'!J10","v":0.57777777777777772},{"$f":"'CV Rotina <2A - residência'!L10","v":0.57777777777777772},{"$f":"'CV Rotina <2A - residência'!N10","v":0.66666666666666663},{"$f":"'CV Rotina <2A - residência'!X10","v":0.77777777777777779},{"$f":"'CV Rotina <2A - residência'!R10","v":0.68888888888888888},{"$f":"'CV Rotina <2A - residência'!T10","v":0.6},{"$f":"'CV Rotina <2A - residência'!V10","v":0.4},{"$f":"'CV Rotina <2A - residência'!Z10","v":0.13333333333333333},0,0,0,0]
["Metropolitana","Aracruz",{"$f":"'CV Rotina <2A - residência'!H11","v":0.91633986928104572},{"$f":"'CV Rotina <2A - residência'!P11","v":0.87450980392156863},{"$f":"'CV Rotina <2A - residência'!#REF!","v":{"$error":"#REF!"}},{"$f":"'CV Rotina <2A - residência'!J11","v":0.84183006535947713},{"$f":"'CV Rotina <2A - residência'!L11","v":0.83921568627450982},{"$f":"'CV Rotina <2A - residência'!N11","v":0.88496732026143787},{"$f":"'CV Rotina <2A - residência'!X11","v":0.99869281045751634},{"$f":"'CV Rotina <2A - residência'!R11","v":0.84836601307189541},{"$f":"'CV Rotina <2A - residência'!T11","v":0.75816993464052285},{"$f":"'CV Rotina <2A - residência'!V11","v":0.93725490196078431},{"$f":"'CV Rotina <2A - residência'!Z11","v":0.48104575163398694},1,1,2,1]
["Sul","Atilio Vivacqua",{"$f":"'CV Rotina <2A - residência'!H12","v":0.8904109589041096},{"$f":"'CV Rotina <2A - residência'!P12","v":0.83561643835616439},{"$f":"'CV Rotina <2A - residência'!#REF!","v":{"$error":"#REF!"}},{"$f":"'CV Rotina <2A - residência'!J12","v":0.87671232876712324},{"$f":"'CV Rotina <2A - residência'!L12","v":0.86301369863013699},{"$f":"'CV Rotina <2A - residência'!N12","v":0.84931506849315064},{"$f":"'CV Rotina <2A - residência'!X12","v":1.0684931506849316},{"$f":"'CV Rotina <2A - residência'!R12","v":0.87671232876712324},{"$f":"'CV Rotina <2A - residência'!T12","v":0.61643835616438358},{"$f":"'CV Rotina <2A - residência'!V12","v":0.87671232876712324},{"$f":"'CV Rotina <2A - residência'!Z12","v":0.42465753424657532},0,1,1,1]
["Central","Baixo Guandu",{"$f":"'CV Rotina <2A - residência'!H13","v":1.0276243093922652},{"$f":"'CV Rotina <2A - residência'!P13","v":1.0497237569060773},{"$f":"'CV Rotina <2A - residência'!#REF!","v":{"$error":"#REF!"}},{"$f":"'CV Rotina <2A - residência'!J13","v":1.0441988950276244},{"$f":"'CV Rotina <2A - residência'!L13","v":1.0441988950276244},{"$f":"'CV Rotina <2A - residência'!N13","v":1.0773480662983426},{"$f":"'CV Rotina <2A - residência'!X13","v":1.1878453038674033},{"$f":"'CV Rotina <2A - residência'!R13","v":1.0773480662983426},{"$f":"'CV Rotina <2A - residência'!T13","v":0.84530386740331487},{"$f":"'CV Rotina <2A - residência'!V13","v":1.1381215469613259},{"$f":"'CV Rotina <2A - residência'!Z13","v":0.54143646408839774},2,6,8,4]
["Norte","Barra de São Francisco",{"$f":"'CV Rotina <2A - residência'!H14","v":0.88118811881188119},{"$f":"'CV Rotina <2A - residência'!P14","v":0.81848184818481851},{"$f":"'CV Rotina <2A - residência'!#REF!","v":{"$error":"#REF!"}},{"$f":"'CV Rotina <2A - residência'!J14","v":0.87788778877887785},{"$f":"'CV Rotina <2A - residência'!L14","v":0.86138613861386137},{"$f":"'CV Rotina <2A - residência'!N14","v":0.84158415841584155},{"$f":"'CV Rotina <2A - residência'!X14","v":0.94059405940594054},{"$f":"'CV Rotina <2A - residência'!R14","v":0.86798679867986794},{"$f":"'CV Rotina <2A - residência'!T14","v":0.83168316831683164},{"$f":"'CV Rotina <2A - residência'!V14","v":0.76237623762376239},{"$f":"'CV Rotina <2A - residência'!Z14","v":0.51485148514851486},0,0,0,0]
["Norte","Boa Esperança",{"$f":"'CV Rotina <2A - residência'!H15","v":0.75961538461538458},{"$f":"'CV Rotina <2A - residência'!P15","v":1},{"$f":"'CV Rotina <2A - residência'!#REF!","v":{"$error":"#REF!"}},{"$f":"'CV Rotina <2A - residência'!J15","v":0.81730769230769229},{"$f":"'CV Rotina <2A - residência'!L15","v":0.89423076923076927},{"$f":"'CV Rotina <2A - residência'!N15","v":0.96153846153846156},{"$f":"'CV Rotina <2A - residência'!X15","v":1.0384615384615385},{"$f":"'CV Rotina <2A - residência'!R15","v":0.92307692307692313},{"$f":"'CV Rotina <2A - residência'!T15","v":0.77884615384615385},{"$f":"'CV Rotina <2A - residência'!V15","v":0.75},{"$f":"'CV Rotina <2A - residência'!Z15","v":0.51923076923076927},1,2,3,2]
["Sul","Bom Jesus do Norte",{"$f":"'CV Rotina <2A - residência'!H16","v":0.90243902439024393},{"$f":"'CV Rotina <2A - residência'!P16","v":1.0731707317073171},{"$f":"'CV Rotina <2A - residência'!#REF!","v":{"$error":"#REF!"}},{"$f":"'CV Rotina <2A - residência'!J16","v":1.4146341463414633},{"$f":"'CV Rotina <2A - residência'!L16","v":1.3658536585365855},{"$f":"'CV Rotina <2A - residência'!N16","v":1.1219512195121952},{"$f":"'CV Rotina <2A - residência'!X16","v":1.4146341463414633},{"$f":"'CV Rotina <2A - residência'!R16","v":1.1463414634146341},{"$f":"'CV Rotina <2A - residência'!T16","v":1.1707317073170731},{"$f":"'CV Rotina <2A - residência'!V16","v":0.34146341463414637},{"$f":"'CV Rotina <2A - residência'!Z16","v":0.12195121951219512},2,6,8,4]
["Metropolitana","Brejetuba",{"$f":"'CV Rotina <2A - residência'!H17","v":0.8303571428571429},{"$f":"'CV Rotina <2A - residência'!P17","v":0.8839285714285714},{"$f":"'CV Rotina <2A - residência'!#REF!","v":{"$error":"#REF!"}},{"$f":"'CV Rotina <2A - residência'!J17","v":0.8214285714285714},{"$f":"'CV Rotina <2A - residência'!L17","v":0.8214285714285714},{"$f":"'CV Rotina <2A - residência'!N17","v":0.8482142857142857},{"$f":"'CV Rotina <2A - residência'!X17","v":0.875},{"$f":"'CV Rotina <2A - residência'!R17","v":0.8214285714285714},{"$f":"'CV Rotina <2A - residência'!T17","v":0.8303571428571429},{"$f":"'CV Rotina <2A - residência'!V17","v":0.7857142857142857},{"$f":"'CV Rotina <2A - residência'!Z17","v":0.35714285714285715},0,0,0,0]
["Sul","Cachoeiro de Itapemirim",{"$f":"'CV Rotina <2A - residência'!H18","v":1.0354505169867061},{"$f":"'CV Rotina <2A - residência'!P18","v":0.76957163958641062},{"$f":"'CV Rotina <2A - residência'!#REF!","v":{"$error":"#REF!"}},{"$f":"'CV Rotina <2A - residência'!J18","v":0.76957163958641062},{"$f":"'CV Rotina <2A - residência'!L18","v":0.75849335302806498},{"$f":"'CV Rotina <2A - residência'!N18","v":0.78803545051698676},{"$f":"'CV Rotina <2A - residência'!X18","v":0.8892171344165436},{"$f":"'CV Rotina <2A - residência'!R18","v":0.75997045790251105},{"$f":"'CV Rotina <2A - residência'!T18","v":0.63293943870014768},{"$f":"'CV Rotina <2A - residência'!V18","v":0.75480059084194973},{"$f":"'CV Rotina <2A - residência'!Z18","v":0.31462333825701627},1,0,1,0]
["Metropolitana","Cariacica",{"$f":"'CV Rotina <2A - residência'!H19","v":0.82666666666666666},{"$f":"'CV Rotina <2A - residência'!P19","v":0.81843137254901965},{"$f":"'CV Rotina <2A - residência'!#REF!","v":{"$error":"#REF!"}},{"$f":"'CV Rotina <2A - residência'!J19","v":0.8309803921568627},{"$f":"'CV Rotina <2A - residência'!L19","v":0.82078431372549021},{"$f":"'CV Rotina <2A - residência'!N19","v":0.86117647058823532},{"$f":"'CV Rotina <2A - residência'!X19","v":0.92666666666666664},{"$f":"'CV Rotina <2A - residência'!R19","v":0.83176470588235296},{"$f":"'CV Rotina <2A - residência'!T19","v":0.67490196078431375},{"$f":"'CV Rotina <2A - residência'!V19","v":0.66862745098039211},{"$f":"'CV Rotina <2A - residência'!Z19","v":0.33372549019607844},0,0,0,0]
["Sul","Castelo",{"$f":"'CV Rotina <2A - residência'!H20","v":0.79574468085106387},{"$f":"'CV Rotina <2A - residência'!P20","v":0.87659574468085111},{"$f":"'CV Rotina <2A - residência'!#REF!","v":{"$error":"#REF!"}},{"$f":"'CV Rotina <2A - residência'!J20","v":0.89787234042553188},{"$f":"'CV Rotina <2A - residência'!L20","v":0.89787234042553188},{"$f":"'CV Rotina <2A - residência'!N20","v":0.90212765957446805},{"$f":"'CV Rotina <2A - residência'!X20","v":0.98723404255319147},{"$f":"'CV Rotina <2A - residência'!R20","v":0.86808510638297876},{"$f":"'CV Rotina <2A - residência'!T20","v":0.79148936170212769},{"$f":"'CV Rotina <2A - residência'!V20","v":0.71489361702127663},{"$f":"'CV Rotina <2A - residência'!Z20","v":0.41702127659574467},0,1,1,1]
["Central","Colatina",{"$f":"'CV Rotina <2A - residência'!H21","v":0.99007444168734493},{"$f":"'CV Rotina <2A - residência'!P21","v":0.86724565756823824},{"$f":"'CV Rotina <2A - residência'!#REF!","v":{"$error":"#REF!"}},{"$f":"'CV Rotina <2A - residência'!J21","v":0.86476426799007444},{"$f":"'CV Rotina <2A - residência'!L21","v":0.85111662531017374},{"$f":"'CV Rotina <2A - residência'!N21","v":0.86724565756823824},{"$f":"'CV Rotina <2A - residência'!X21","v":0.92679900744416877},{"$f":"'CV Rotina <2A - residência'!R21","v":0.8635235732009926},{"$f":"'CV Rotina <2A - residência'!T21","v":0.78908188585607941},{"$f":"'CV Rotina <2A - residência'!V21","v":0.61662531017369726},{"$f":"'CV Rotina <2A - residência'!Z21","v":0.40198511166253104},1,0,1,0]
["Norte","Conceição da Barra",{"$f":"'CV Rotina <2A - residência'!H22","v":0.42639593908629442},{"$f":"'CV Rotina <2A - residência'!P22","v":0.91878172588832485},{"$f":"'CV Rotina <2A - residência'!#REF!","v":{"$error":"#REF!"}},{"$f":"'CV Rotina <2A - residência'!J22","v":0.87817258883248728},{"$f":"'CV Rotina <2A - residência'!L22","v":0.89847715736040612},{"$f":"'CV Rotina <2A - residência'!N22","v":0.95431472081218272},{"$f":"'CV Rotina <2A - residência'!X22","v":0.98477157360406087},{"$f":"'CV Rotina <2A - residência'!R22","v":0.92385786802030456},{"$f":"'CV Rotina <2A - residência'!T22","v":0.86294416243654826},{"$f":"'CV Rotina <2A - residência'!V22","v":0.74619289340101524},{"$f":"'CV Rotina <2A - residência'!Z22","v":0.44162436548223349},1,2,3,2]
["Metropolitana","Conceição do Castelo",{"$f":"'CV Rotina <2A - residência'!H23","v":0.76086956521739135},{"$f":"'CV Rotina <2A - residência'!P23","v":0.67391304347826086},{"$f":"'CV Rotina <2A - residência'!#REF!","v":{"$error":"#REF!"}},{"$f":"'CV Rotina <2A - residência'!J23","v":0.63043478260869568},{"$f":"'CV Rotina <2A - residência'!L23","v":0.59782608695652173},{"$f":"'CV Rotina <2A - residência'!N23","v":0.68478260869565222},{"$f":"'CV Rotina <2A - residência'!X23","v":0.75},{"$f":"'CV Rotina <2A - residência'!R23","v":0.56521739130434778},{"$f":"'CV Rotina <2A - residência'!T23","v":0.77173913043478259},{"$f":"'CV Rotina <2A - residência'!V23","v":0.68478260869565222},{"$f":"'CV Rotina <2A - residência'!Z23","v":0.44565217391304346},0,0,0,0]
["Sul","Divino de São Lourenço",{"$f":"'CV Rotina <2A - residência'!H24","v":1},{"$f":"'CV Rotina <2A - residência'!P24","v":1.0512820512820513},{"$f":"'CV Rotina <2A - residência'!#REF!","v":{"$error":"#REF!"}},{"$f":"'CV Rotina <2A - residência'!J24","v":0.97435897435897434},{"$f":"'CV Rotina <2A - residência'!L24","v":0.97435897435897434},{"$f":"'CV Rotina <2A - residência'!N24","v":1.0256410256410255},{"$f":"'CV Rotina <2A - residência'!X24","v":0.64102564102564108},{"$f":"'CV Rotina <2A - residência'!R24","v":1.1025641025641026},{"$f":"'CV Rotina <2A - residência'!T24","v":0.74358974358974361},{"$f":"'CV Rotina <2A - residência'!V24","v":0.58974358974358976},{"$f":"'CV Rotina <2A - residência'!Z24","v":0.48717948717948717},2,4,6,3]
["Metropolitana","Domingos Martins",{"$f":"'CV Rotina <2A - residência'!H25","v":0.79646017699115046},{"$f":"'CV Rotina <2A - residência'!P25","v":0.88938053097345138},{"$f":"'CV Rotina <2A - residência'!#REF!","v":{"$error":"#REF!"}},{"$f":"'CV Rotina <2A - residência'!J25","v":0.81415929203539827},{"$f":"'CV Rotina <2A - residência'!L25","v":0.80530973451327437},{"$f":"'CV Rotina <2A - residência'!N25","v":0.89380530973451322},{"$f":"'CV Rotina <2A - residência'!X25","v":0.95132743362831862},{"$f":"'CV Rotina <2A - residência'!R25","v":0.8584070796460177},{"$f":"'CV Rotina <2A - residência'!T25","v":0.69911504424778759},{"$f":"'CV Rotina <2A - residência'!V25","v":0.81415929203539827},{"$f":"'CV Rotina <2A - residência'!Z25","v":0.64601769911504425},0,1,1,1]
["Sul","Dores do Rio Preto",{"$f":"'CV Rotina <2A - residência'!H26","v":0.73809523809523814},{"$f":"'CV Rotina <2A - residência'!P26","v":1.1428571428571428},{"$f":"'CV Rotina <2A - residência'!#REF!","v":{"$error":"#REF!"}},{"$f":"'CV Rotina <2A - residência'!J26","v":1.0238095238095237},{"$f":"'CV Rotina <2A - residência'!L26","v":1.0952380952380953},{"$f":"'CV Rotina <2A - residência'!N26","v":1.1904761904761905},{"$f":"'CV Rotina <2A - residência'!X26","v":1.2142857142857142},{"$f":"'CV Rotina <2A - residência'!R26","v":1.1666666666666667},{"$f":"'CV Rotina <2A - residência'!T26","v":1},{"$f":"'CV Rotina <2A - residência'!V26","v":0.80952380952380953},{"$f":"'CV Rotina <2A - residência'!Z26","v":0.30952380952380953},1,6,7,4]
["Norte","Ecoporanga",{"$f":"'CV Rotina <2A - residência'!H27","v":0.98639455782312924},{"$f":"'CV Rotina <2A - residência'!P27","v":0.76190476190476186},{"$f":"'CV Rotina <2A - residência'!#REF!","v":{"$error":"#REF!"}},{"$f":"'CV Rotina <2A - residência'!J27","v":0.80952380952380953},{"$f":"'CV Rotina <2A - residência'!L27","v":0.79591836734693877},{"$f":"'CV Rotina <2A - residência'!N27","v":0.76870748299319724},{"$f":"'CV Rotina <2A - residência'!X27","v":0.87074829931972786},{"$f":"'CV Rotina <2A - residência'!R27","v":0.70748299319727892},{"$f":"'CV Rotina <2A - residência'!T27","v":0.74149659863945583},{"$f":"'CV Rotina <2A - residência'!V27","v":0.80952380952380953},{"$f":"'CV Rotina <2A - residência'!Z27","v":0.49659863945578231},1,0,1,0]
["Metropolitana","Fundão",{"$f":"'CV Rotina <2A - residência'!H28","v":0.74380165289256195},{"$f":"'CV Rotina <2A - residência'!P28","v":0.83471074380165289},{"$f":"'CV Rotina <2A - residência'!#REF!","v":{"$error":"#REF!"}},{"$f":"'CV Rotina <2A - residência'!J28","v":0.93388429752066116},{"$f":"'CV Rotina <2A - residência'!L28","v":0.9173553719008265},{"$f":"'CV Rotina <2A - residência'!N28","v":0.83471074380165289},{"$f":"'CV Rotina <2A - residência'!X28","v":0.83471074380165289},{"$f":"'CV Rotina <2A - residência'!R28","v":0.80165289256198347},{"$f":"'CV Rotina <2A - residência'!T28","v":0.84297520661157022},{"$f":"'CV Rotina <2A - residência'!V28","v":0.81818181818181823},{"$f":"'CV Rotina <2A - residência'!Z28","v":0.50413223140495866},0,0,0,0]
["Central","Governador Lindenberg",{"$f":"'CV Rotina <2A - residência'!H29","v":0.73239436619718312},{"$f":"'CV Rotina <2A - residência'!P29","v":0.92957746478873238},{"$f":"'CV Rotina <2A - residência'!#REF!","v":{"$error":"#REF!"}},{"$f":"'CV Rotina <2A - residência'!J29","v":0.90140845070422537},{"$f":"'CV Rotina <2A - residência'!L29","v":0.87323943661971826},{"$f":"'CV Rotina <2A - residência'!N29","v":0.92957746478873238},{"$f":"'CV Rotina <2A - residência'!X29","v":1},{"$f":"'CV Rotina <2A - residência'!R29","v":0.81690140845070425},{"$f":"'CV Rotina <2A - residência'!T29","v":1.1267605633802817},{"$f":"'CV Rotina <2A - residência'!V29","v":0.78873239436619713},{"$f":"'CV Rotina <2A - residência'!Z29","v":0.50704225352112675},1,2,3,1]
["Sul","Guaçuí",{"$f":"'CV Rotina <2A - residência'!H30","v":0.74647887323943662},{"$f":"'CV Rotina <2A - residência'!P30","v":0.82159624413145538},{"$f":"'CV Rotina <2A - residência'!#REF!","v":{"$error":"#REF!"}},{"$f":"'CV Rotina <2A - residência'!J30","v":0.96244131455399062},{"$f":"'CV Rotina <2A - residência'!L30","v":0.93896713615023475},{"$f":"'CV Rotina <2A - residência'!N30","v":0.892018779342723},{"$f":"'CV Rotina <2A - residência'!X30","v":0.97652582159624413},{"$f":"'CV Rotina <2A - residência'!R30","v":0.83568075117370888},{"$f":"'CV Rotina <2A - residência'!T30","v":0.72300469483568075},{"$f":"'CV Rotina <2A - residência'!V30","v":0.81220657276995301},{"$f":"'CV Rotina <2A - residência'!Z30","v":0.41314553990610331},0,2,2,2]
["Metropolitana","Guarapari",{"$f":"'CV Rotina <2A - residência'!H31","v":0.86158798283261806},{"$f":"'CV Rotina <2A - residência'!P31","v":0.80150214592274682},{"$f":"'CV Rotina <2A - residência'!#REF!","v":{"$error":"#REF!"}},{"$f":"'CV Rotina <2A - residência'!J31","v":0.79613733905579398},{"$f":"'CV Rotina <2A - residência'!L31","v":0.77360515021459231},{"$f":"'CV Rotina <2A - residência'!N31","v":0.84120171673819744},{"$f":"'CV Rotina <2A - residência'!X31","v":0.84442060085836912},{"$f":"'CV Rotina <2A - residência'!R31","v":0.81115879828326176},{"$f":"'CV Rotina <2A - residência'!T31","v":0.62017167381974247},{"$f":"'CV Rotina <2A - residência'!V31","v":0.73605150214592274},{"$f":"'CV Rotina <2A - residência'!Z31","v":0.41094420600858367},0,0,0,0]
["Metropolitana","Ibatiba",{"$f":"'CV Rotina <2A - residência'!H32","v":1.088235294117647},{"$f":"'CV Rotina <2A - residência'!P32","v":0.9882352941176471},{"$f":"'CV Rotina <2A - residência'!#REF!","v":{"$error":"#REF!"}},{"$f":"'CV Rotina <2A - residência'!J32","v":1.0705882352941176},{"$f":"'CV Rotina <2A - residência'!L32","v":1.0705882352941176},{"$f":"'CV Rotina <2A - residência'!N32","v":1.0470588235294118},{"$f":"'CV Rotina <2A - residência'!X32","v":1.0941176470588236},{"$f":"'CV Rotina <2A - residência'!R32","v":1.0588235294117647},{"$f":"'CV Rotina <2A - residência'!T32","v":1.0058823529411764},{"$f":"'CV Rotina <2A - residência'!V32","v":0.93529411764705883},{"$f":"'CV Rotina <2A - residência'!Z32","v":0.2},2,6,8,4]
["Metropolitana","Ibiraçu",{"$f":"'CV Rotina <2A - residência'!H33","v":0.84883720930232553},{"$f":"'CV Rotina <2A - residência'!P33","v":0.70930232558139539},{"$f":"'CV Rotina <2A - residência'!#REF!","v":{"$error":"#REF!"}},{"$f":"'CV Rotina <2A - residência'!J33","v":0.72093023255813948},{"$f":"'CV Rotina <2A - residência'!L33","v":0.69767441860465118},{"$f":"'CV Rotina <2A - residência'!N33","v":0.72093023255813948},{"$f":"'CV Rotina <2A - residência'!X33","v":0.81395348837209303},{"$f":"'CV Rotina <2A - residência'!R33","v":0.72093023255813948},{"$f":"'CV Rotina <2A - residência'!T33","v":0.72093023255813948},{"$f":"'CV Rotina <2A - residência'!V33","v":0.56976744186046513},{"$f":"'CV Rotina <2A - residência'!Z33","v":0.2558139534883721},0,0,0,0]
["Sul","Ibitirama",{"$f":"'CV Rotina <2A - residência'!H34","v":0.92307692307692313},{"$f":"'CV Rotina <2A - residência'!P34","v":0.9538461538461539},{"$f":"'CV Rotina <2A - residência'!#REF!","v":{"$error":"#REF!"}},{"$f":"'CV Rotina <2A - residência'!J34","v":0.9538461538461539},{"$f":"'CV Rotina <2A - residência'!L34","v":0.93846153846153846},{"$f":"'CV Rotina <2A - residência'!N34","v":0.92307692307692313},{"$f":"'CV Rotina <2A - residência'!X34","v":1.0461538461538462},{"$f":"'CV Rotina <2A - residência'!R34","v":0.81538461538461537},{"$f":"'CV Rotina <2A - residência'!T34","v":0.75384615384615383},{"$f":"'CV Rotina <2A - residência'!V34","v":0.86153846153846159},{"$f":"'CV Rotina <2A - residência'!Z34","v":0.47692307692307695},2,2,4,2]
["Sul","Iconha",{"$f":"'CV Rotina <2A - residência'!H35","v":0.60655737704918034},{"$f":"'CV Rotina <2A - residência'!P35","v":0.96721311475409832},{"$f":"'CV Rotina <2A - residência'!#REF!","v":{"$error":"#REF!"}},{"$f":"'CV Rotina <2A - residência'!J35","v":1},{"$f":"'CV Rotina <2A - residência'!L35","v":0.93442622950819676},{"$f":"'CV Rotina <2A - residência'!N35","v":0.98360655737704916},{"$f":"'CV Rotina <2A - residência'!X35","v":1.2459016393442623},{"$f":"'CV Rotina <2A - residência'!R35","v":0.86885245901639341},{"$f":"'CV Rotina <2A - residência'!T35","v":0.93442622950819676},{"$f":"'CV Rotina <2A - residência'!V35","v":1.1311475409836065},{"$f":"'CV Rotina <2A - residência'!Z35","v":0.45901639344262296},1,4,{"$f":"SUM(N34:O34)","v":5},3]
["Sul","Irupi",{"$f":"'CV Rotina <2A - residência'!H36","v":1.0740740740740742},{"$f":"'CV Rotina <2A - residência'!P36","v":1.271604938271605},{"$f":"'CV Rotina <2A - residência'!#REF!","v":{"$error":"#REF!"}},{"$f":"'CV Rotina <2A - residência'!J36","v":1.2345679012345678},{"$f":"'CV Rotina <2A - residência'!L36","v":1.2222222222222223},{"$f":"'CV Rotina <2A - residência'!N36","v":1.308641975308642},{"$f":"'CV Rotina <2A - residência'!X36","v":1.6049382716049383},{"$f":"'CV Rotina <2A - residência'!R36","v":1.2839506172839505},{"$f":"'CV Rotina <2A - residência'!T36","v":1.0864197530864197},{"$f":"'CV Rotina <2A - residência'!V36","v":1.2222222222222223},{"$f":"'CV Rotina <2A - residência'!Z36","v":0.37037037037037035},2,7,9,4]
["Metropolitana","Itaguaçu",{"$f":"'CV Rotina <2A - residência'!H37","v":0.9358974358974359},{"$f":"'CV Rotina <2A - residência'!P37","v":0.79487179487179482},{"$f":"'CV Rotina <2A - residência'!#REF!","v":{"$error":"#REF!"}},{"$f":"'CV Rotina <2A - residência'!J37","v":0.79487179487179482},{"$f":"'CV Rotina <2A - residência'!L37","v":0.76923076923076927},{"$f":"'CV Rotina <2A - residência'!N37","v":0.79487179487179482},{"$f":"'CV Rotina <2A - residência'!X37","v":0.89743589743589747},{"$f":"'CV Rotina <2A - residência'!R37","v":0.80769230769230771},{"$f":"'CV Rotina <2A - residência'!T37","v":0.89743589743589747},{"$f":"'CV Rotina <2A - residência'!V37","v":0.96153846153846156},{"$f":"'CV Rotina <2A - residência'!Z37","v":0.55128205128205132},1,1,2,0]
["Sul","Itapemirim",{"$f":"'CV Rotina <2A - residência'!H38","v":0.93827160493827155},{"$f":"'CV Rotina <2A - residência'!P38","v":0.95061728395061729},{"$f":"'CV Rotina <2A - residência'!#REF!","v":{"$error":"#REF!"}},{"$f":"'CV Rotina <2A - residência'!J38","v":0.99176954732510292},{"$f":"'CV Rotina <2A - residência'!L38","v":1},{"$f":"'CV Rotina <2A - residência'!N38","v":1.0534979423868314},{"$f":"'CV Rotina <2A - residência'!X38","v":1.037037037037037},{"$f":"'CV Rotina <2A - residência'!R38","v":0.96296296296296291},{"$f":"'CV Rotina <2A - residência'!T38","v":0.66255144032921809},{"$f":"'CV Rotina <2A - residência'!V38","v":0.95473251028806583},{"$f":"'CV Rotina <2A - residência'!Z38","v":0.46502057613168724},2,6,8,4]
["Metropolitana","Itarana",{"$f":"'CV Rotina <2A - residência'!H39","v":0.92941176470588238},{"$f":"'CV Rotina <2A - residência'!P39","v":0.72941176470588232},{"$f":"'CV Rotina <2A - residência'!#REF!","v":{"$error":"#REF!"}},{"$f":"'CV Rotina <2A - residência'!J39","v":0.71764705882352942},{"$f":"'CV Rotina <2A - residência'!L39","v":0.71764705882352942},{"$f":"'CV Rotina <2A - residência'!N39","v":0.70588235294117652},{"$f":"'CV Rotina <2A - residência'!X39","v":0.75294117647058822},{"$f":"'CV Rotina <2A - residência'!R39","v":0.62352941176470589},{"$f":"'CV Rotina <2A - residência'!T39","v":0.81176470588235294},{"$f":"'CV Rotina <2A - residência'!V39","v":0.52941176470588236},{"$f":"'CV Rotina <2A - residência'!Z39","v":0.44705882352941179},1,0,1,0]
["Sul","Iúna",{"$f":"'CV Rotina <2A - residência'!H40","v":0.88709677419354838},{"$f":"'CV Rotina <2A - residência'!P40","v":1.1612903225806452},{"$f":"'CV Rotina <2A - residência'!#REF!","v":{"$error":"#REF!"}},{"$f":"'CV Rotina <2A - residência'!J40","v":1.2473118279569892},{"$f":"'CV Rotina <2A - residência'!L40","v":1.2365591397849462},{"$f":"'CV Rotina <2A - residência'!N40","v":1.1774193548387097},{"$f":"'CV Rotina <2A - residência'!X40","v":1.2096774193548387},{"$f":"'CV Rotina <2A - residência'!R40","v":1.1827956989247312},{"$f":"'CV Rotina <2A - residência'!T40","v":1.1129032258064515},{"$f":"'CV Rotina <2A - residência'!V40","v":0.93010752688172038},{"$f":"'CV Rotina <2A - residência'!Z40","v":0.4731182795698925},1,6,7,4]
["Norte","Jaguaré",{"$f":"'CV Rotina <2A - residência'!H41","v":0.80412371134020622},{"$f":"'CV Rotina <2A - residência'!P41","v":0.75945017182130581},{"$f":"'CV Rotina <2A - residência'!#REF!","v":{"$error":"#REF!"}},{"$f":"'CV Rotina <2A - residência'!J41","v":0.82817869415807566},{"$f":"'CV Rotina <2A - residência'!L41","v":0.84879725085910651},{"$f":"'CV Rotina <2A - residência'!N41","v":0.78006872852233677},{"$f":"'CV Rotina <2A - residência'!X41","v":0.79725085910652926},{"$f":"'CV Rotina <2A - residência'!R41","v":0.77319587628865982},{"$f":"'CV Rotina <2A - residência'!T41","v":0.72164948453608246},{"$f":"'CV Rotina <2A - residência'!V41","v":0.60137457044673537},{"$f":"'CV Rotina <2A - residência'!Z41","v":0.36426116838487971},0,0,0,0]
["Sul","Jerônimo Monteiro",{"$f":"'CV Rotina <2A - residência'!H42","v":0.91463414634146345},{"$f":"'CV Rotina <2A - residência'!P42","v":0.93902439024390238},{"$f":"'CV Rotina <2A - residência'!#REF!","v":{"$error":"#REF!"}},{"$f":"'CV Rotina <2A - residência'!J42","v":1},{"$f":"'CV Rotina <2A - residência'!L42","v":1.0121951219512195},{"$f":"'CV Rotina <2A - residência'!N42","v":0.96341463414634143},{"$f":"'CV Rotina <2A - residência'!X42","v":0.93902439024390238},{"$f":"'CV Rotina <2A - residência'!R42","v":0.84146341463414631},{"$f":"'CV Rotina <2A - residência'!T42","v":0.98780487804878048},{"$f":"'CV Rotina <2A - residência'!V42","v":0.85365853658536583},{"$f":"'CV Rotina <2A - residência'!Z42","v":0.24390243902439024},2,4,6,3]
["Metropolitana","João Neiva",{"$f":"'CV Rotina <2A - residência'!H43","v":0.7857142857142857},{"$f":"'CV Rotina <2A - residência'!P43","v":0.95238095238095233},{"$f":"'CV Rotina <2A - residência'!#REF!","v":{"$error":"#REF!"}},{"$f":"'CV Rotina <2A - residência'!J43","v":1},{"$f":"'CV Rotina <2A - residência'!L43","v":0.97619047619047616},{"$f":"'CV Rotina <2A - residência'!N43","v":0.97619047619047616},{"$f":"'CV Rotina <2A - residência'!X43","v":1.1547619047619047},{"$f":"'CV Rotina <2A - residência'!R43","v":0.94047619047619047},{"$f":"'CV Rotina <2A - residência'!T43","v":0.9642857142857143},{"$f":"'CV Rotina <2A - residência'!V43","v":0.95238095238095233},{"$f":"'CV Rotina <2A - residência'!Z43","v":0.38095238095238093},1,6,7,4]
["Metropolitana","Laranja da Terra",{"$f":"'CV Rotina <2A - residência'!H44","v":0.85416666666666663},{"$f":"'CV Rotina <2A - residência'!P44","v":0.70833333333333337},{"$f":"'CV Rotina <2A - residência'!#REF!","v":{"$error":"#REF!"}},{"$f":"'CV Rotina <2A - residência'!J44","v":0.89583333333333337},{"$f":"'CV Rotina <2A - residência'!L44","v":0.89583333333333337},{"$f":"'CV Rotina <2A - residência'!N44","v":0.70833333333333337},{"$f":"'CV Rotina <2A - residência'!X44","v":1.5},{"$f":"'CV Rotina <2A - residência'!R44","v":0.91666666666666663},{"$f":"'CV Rotina <2A - residência'!T44","v":1.1041666666666667},{"$f":"'CV Rotina <2A - residência'!V44","v":1.25},{"$f":"'CV Rotina <2A - residência'!Z44","v":1.0625},0,4,4,1]
["Central","Linhares",{"$f":"'CV Rotina <2A - residência'!H45","v":0.67673048600883656},{"$f":"'CV Rotina <2A - residência'!P45","v":0.80486008836524303},{"$f":"'CV Rotina <2A - residência'!#REF!","v":{"$error":"#REF!"}},{"$f":"'CV Rotina <2A - residência'!J45","v":0.79675994108983794},{"$f":"'CV Rotina <2A - residência'!L45","v":0.78865979381443296},{"$f":"'CV Rotina <2A - residência'!N45","v":0.7901325478645066},{"$f":"'CV Rotina <2A - residência'!X45","v":0.83652430044182624},{"$f":"'CV Rotina <2A - residência'!R45","v":0.79823269513991169},{"$f":"'CV Rotina <2A - residência'!T45","v":0.72680412371134018},{"$f":"'CV Rotina <2A - residência'!V45","v":0.68483063328424154},{"$f":"'CV Rotina <2A - residência'!Z45","v":0.34756995581737848},0,0,0,0]
["Central","Mantenópolis",{"$f":"'CV Rotina <2A - residência'!H46","v":0.98795180722891562},{"$f":"'CV Rotina <2A - residência'!P46","v":0.73493975903614461},{"$f":"'CV Rotina <2A - residência'!#REF!","v":{"$error":"#REF!"}},{"$f":"'CV Rotina <2A - residência'!J46","v":0.84337349397590367},{"$f":"'CV Rotina <2A - residência'!L46","v":0.86746987951807231},{"$f":"'CV Rotina <2A - residência'!N46","v":0.77108433734939763},{"$f":"'CV Rotina <2A - residência'!X46","v":0.93975903614457834},{"$f":"'CV Rotina <2A - residência'!R46","v":0.7831325301204819},{"$f":"'CV Rotina <2A - residência'!T46","v":0.90361445783132532},{"$f":"'CV Rotina <2A - residência'!V46","v":0.73493975903614461},{"$f":"'CV Rotina <2A - residência'!Z46","v":0.42168674698795183},1,0,1,0]
["Sul","Marataízes",{"$f":"'CV Rotina <2A - residência'!H47","v":0.87878787878787878},{"$f":"'CV Rotina <2A - residência'!P47","v":0.93602693602693599},{"$f":"'CV Rotina <2A - residência'!#REF!","v":{"$error":"#REF!"}},{"$f":"'CV Rotina <2A - residência'!J47","v":0.88215488215488214},{"$f":"'CV Rotina <2A - residência'!L47","v":0.87542087542087543},{"$f":"'CV Rotina <2A - residência'!N47","v":0.9494949494949495},{"$f":"'CV Rotina <2A - residência'!X47","v":0.9494949494949495},{"$f":"'CV Rotina <2A - residência'!R47","v":0.88552188552188549},{"$f":"'CV Rotina <2A - residência'!T47","v":0.632996632996633},{"$f":"'CV Rotina <2A - residência'!V47","v":0.7912457912457912},{"$f":"'CV Rotina <2A - residência'!Z47","v":0.34680134680134678},1,0,1,0]
["Metropolitana","Marechal Floriano",{"$f":"'CV Rotina <2A - residência'!H48","v":0.80530973451327437},{"$f":"'CV Rotina <2A - residência'!P48","v":1.0088495575221239},{"$f":"'CV Rotina <2A - residência'!#REF!","v":{"$error":"#REF!"}},{"$f":"'CV Rotina <2A - residência'!J48","v":0.91150442477876104},{"$f":"'CV Rotina <2A - residência'!L48","v":0.90265486725663713},{"$f":"'CV Rotina <2A - residência'!N48","v":1.0353982300884956},{"$f":"'CV Rotina <2A - residência'!X48","v":1.0265486725663717},{"$f":"'CV Rotina <2A - residência'!R48","v":0.99115044247787609},{"$f":"'CV Rotina <2A - residência'!T48","v":0.68141592920353977},{"$f":"'CV Rotina <2A - residência'!V48","v":0.86725663716814161},{"$f":"'CV Rotina <2A - residência'!Z48","v":0.60176991150442483},1,3,4,2]
["Central","Marilândia",{"$f":"'CV Rotina <2A - residência'!H49","v":0.87951807228915657},{"$f":"'CV Rotina <2A - residência'!P49","v":0.86746987951807231},{"$f":"'CV Rotina <2A - residência'!#REF!","v":{"$error":"#REF!"}},{"$f":"'CV Rotina <2A - residência'!J49","v":0.98795180722891562},{"$f":"'CV Rotina <2A - residência'!L49","v":0.98795180722891562},{"$f":"'CV Rotina <2A - residência'!N49","v":0.83132530120481929},{"$f":"'CV Rotina <2A - residência'!X49","v":0.86746987951807231},{"$f":"'CV Rotina <2A - residência'!R49","v":0.96385542168674698},{"$f":"'CV Rotina <2A - residência'!T49","v":0.95180722891566261},{"$f":"'CV Rotina <2A - residência'!V49","v":0.84337349397590367},{"$f":"'CV Rotina <2A - residência'!Z49","v":0.55421686746987953},0,4,4,2]
["Sul","Mimoso do Sul",{"$f":"'CV Rotina <2A - residência'!H50","v":0.76978417266187049},{"$f":"'CV Rotina <2A - residência'!P50","v":0.74820143884892087},{"$f":"'CV Rotina <2A - residência'!#REF!","v":{"$error":"#REF!"}},{"$f":"'CV Rotina <2A - residência'!J50","v":0.84172661870503596},{"$f":"'CV Rotina <2A - residência'!L50","v":0.83453237410071945},{"$f":"'CV Rotina <2A - residência'!N50","v":0.75539568345323738},{"$f":"'CV Rotina <2A - residência'!X50","v":0.83453237410071945},{"$f":"'CV Rotina <2A - residência'!R50","v":0.7769784172661871},{"$f":"'CV Rotina <2A - residência'!T50","v":0.69784172661870503},{"$f":"'CV Rotina <2A - residência'!V50","v":0.67625899280575541},{"$f":"'CV Rotina <2A - residência'!Z50","v":0.41726618705035973},0,0,0,0]
["Norte","Montanha",{"$f":"'CV Rotina <2A - residência'!H51","v":0.61061946902654862},{"$f":"'CV Rotina <2A - residência'!P51","v":1.0530973451327434},{"$f":"'CV Rotina <2A - residência'!#REF!","v":{"$error":"#REF!"}},{"$f":"'CV Rotina <2A - residência'!J51","v":1.2212389380530972},{"$f":"'CV Rotina <2A - residência'!L51","v":1.2300884955752212},{"$f":"'CV Rotina <2A - residência'!N51","v":1.0265486725663717},{"$f":"'CV Rotina <2A - residência'!X51","v":1.1150442477876106},{"$f":"'CV Rotina <2A - residência'!R51","v":1.0353982300884956},{"$f":"'CV Rotina <2A - residência'!T51","v":1.2035398230088497},{"$f":"'CV Rotina <2A - residência'!V51","v":1.0442477876106195},{"$f":"'CV Rotina <2A - residência'!Z51","v":0.60176991150442483},1,7,8,4]
["Norte","Mucurici",{"$f":"'CV Rotina <2A - residência'!H52","v":0.67741935483870963},{"$f":"'CV Rotina <2A - residência'!P52","v":1.3870967741935485},{"$f":"'CV Rotina <2A - residência'!#REF!","v":{"$error":"#REF!"}},{"$f":"'CV Rotina <2A - residência'!J52","v":1.5806451612903225},{"$f":"'CV Rotina <2A - residência'!L52","v":1.5806451612903225},{"$f":"'CV Rotina <2A - residência'!N52","v":1.3870967741935485},{"$f":"'CV Rotina <2A - residência'!X52","v":1.4193548387096775},{"$f":"'CV Rotina <2A - residência'!R52","v":1.3870967741935485},{"$f":"'CV Rotina <2A - residência'!T52","v":1.4193548387096775},{"$f":"'CV Rotina <2A - residência'!V52","v":0.90322580645161288},{"$f":"'CV Rotina <2A - residência'!Z52","v":0.64516129032258063},1,6,7,4]
["Sul","Muniz Freire",{"$f":"'CV Rotina <2A - residência'!H53","v":1.0388349514563107},{"$f":"'CV Rotina <2A - residência'!P53","v":1.087378640776699},{"$f":"'CV Rotina <2A - residência'!#REF!","v":{"$error":"#REF!"}},{"$f":"'CV Rotina <2A - residência'!J53","v":1.116504854368932},{"$f":"'CV Rotina <2A - residência'!L53","v":1.0679611650485437},{"$f":"'CV Rotina <2A - residência'!N53","v":1.1067961165048543},{"$f":"'CV Rotina <2A - residência'!X53","v":1.1650485436893203},{"$f":"'CV Rotina <2A - residência'!R53","v":1.116504854368932},{"$f":"'CV Rotina <2A - residência'!T53","v":1.1262135922330097},{"$f":"'CV Rotina <2A - residência'!V53","v":0.98058252427184467},{"$f":"'CV Rotina <2A - residência'!Z53","v":0.43689320388349512},2,7,9,4]
["Sul","Muqui",{"$f":"'CV Rotina <2A - residência'!H54","v":0.96153846153846156},{"$f":"'CV Rotina <2A - residência'!P54","v":0.82051282051282048},{"$f":"'CV Rotina <2A - residência'!#REF!","v":{"$error":"#REF!"}},{"$f":"'CV Rotina <2A - residência'!J54","v":1.0512820512820513},{"$f":"'CV Rotina <2A - residência'!L54","v":1.0641025641025641},{"$f":"'CV Rotina <2A - residência'!N54","v":0.83333333333333337},{"$f":"'CV Rotina <2A - residência'!X54","v":0.94871794871794868},{"$f":"'CV Rotina <2A - residência'!R54","v":0.96153846153846156},{"$f":"'CV Rotina <2A - residência'!T54","v":1.0769230769230769},{"$f":"'CV Rotina <2A - residência'!V54","v":0.88461538461538458},{"$f":"'CV Rotina <2A - residência'!Z54","v":0.4358974358974359},1,4,5,2]
["Norte","Nova Venécia",{"$f":"'CV Rotina <2A - residência'!H55","v":0.84224598930481287},{"$f":"'CV Rotina <2A - residência'!P55","v":0.82352941176470584},{"$f":"'CV Rotina <2A - residência'!#REF!","v":{"$error":"#REF!"}},{"$f":"'CV Rotina <2A - residência'!J55","v":0.89572192513368987},{"$f":"'CV Rotina <2A - residência'!L55","v":0.90106951871657759},{"$f":"'CV Rotina <2A - residência'!N55","v":0.84491978609625673},{"$f":"'CV Rotina <2A - residência'!X55","v":0.91711229946524064},{"$f":"'CV Rotina <2A - residência'!R55","v":0.85828877005347592},{"$f":"'CV Rotina <2A - residência'!T55","v":0.86631016042780751},{"$f":"'CV Rotina <2A - residência'!V55","v":0.77807486631016043},{"$f":"'CV Rotina <2A - residência'!Z55","v":0.45989304812834225},0,0,0,0]
["Central","Pancas",{"$f":"'CV Rotina <2A - residência'!H56","v":0.91509433962264153},{"$f":"'CV Rotina <2A - residência'!P56","v":1.0188679245283019},{"$f":"'CV Rotina <2A - residência'!#REF!","v":{"$error":"#REF!"}},{"$f":"'CV Rotina <2A - residência'!J56","v":1.1226415094339623},{"$f":"'CV Rotina <2A - residência'!L56","v":1.1226415094339623},{"$f":"'CV Rotina <2A - residência'!N56","v":1.0471698113207548},{"$f":"'CV Rotina <2A - residência'!X56","v":0.96226415094339623},{"$f":"'CV Rotina <2A - residência'!R56","v":1.0566037735849056},{"$f":"'CV Rotina <2A - residência'!T56","v":1},{"$f":"'CV Rotina <2A - residência'!V56","v":1},{"$f":"'CV Rotina <2A - residência'!Z56","v":0.71698113207547165},2,7,9,4]
["Norte","Pedro Canário",{"$f":"'CV Rotina <2A - residência'!H57","v":0.52760736196319014},{"$f":"'CV Rotina <2A - residência'!P57","v":0.84662576687116564},{"$f":"'CV Rotina <2A - residência'!#REF!","v":{"$error":"#REF!"}},{"$f":"'CV Rotina <2A - residência'!J57","v":1},{"$f":"'CV Rotina <2A - residência'!L57","v":0.98159509202453987},{"$f":"'CV Rotina <2A - residência'!N57","v":0.87730061349693256},{"$f":"'CV Rotina <2A - residência'!X57","v":1.1779141104294479},{"$f":"'CV Rotina <2A - residência'!R57","v":0.89570552147239269},{"$f":"'CV Rotina <2A - residência'!T57","v":0.85889570552147243},{"$f":"'CV Rotina <2A - residência'!V57","v":0.82208588957055218},{"$f":"'CV Rotina <2A - residência'!Z57","v":0.6073619631901841},0,3,3,3]
["Norte","Pinheiros",{"$f":"'CV Rotina <2A - residência'!H58","v":0.39880952380952384},{"$f":"'CV Rotina <2A - residência'!P58","v":0.85119047619047616},{"$f":"'CV Rotina <2A - residência'!#REF!","v":{"$error":"#REF!"}},{"$f":"'CV Rotina <2A - residência'!J58","v":0.94047619047619047},{"$f":"'CV Rotina <2A - residência'!L58","v":0.9285714285714286},{"$f":"'CV Rotina <2A - residência'!N58","v":0.88095238095238093},{"$f":"'CV Rotina <2A - residência'!X58","v":0.97619047619047616},{"$f":"'CV Rotina <2A - residência'!R58","v":0.83333333333333337},{"$f":"'CV Rotina <2A - residência'!T58","v":0.80952380952380953},{"$f":"'CV Rotina <2A - residência'!V58","v":0.7142857142857143},{"$f":"'CV Rotina <2A - residência'!Z58","v":0.32142857142857145},0,1,1,1]
["Sul","Piúma",{"$f":"'CV Rotina <2A - residência'!H59","v":0.84105960264900659},{"$f":"'CV Rotina <2A - residência'!P59","v":0.83443708609271527},{"$f":"'CV Rotina <2A - residência'!#REF!","v":{"$error":"#REF!"}},{"$f":"'CV Rotina <2A - residência'!J59","v":0.9072847682119205},{"$f":"'CV Rotina <2A - residência'!L59","v":0.90066225165562919},{"$f":"'CV Rotina <2A - residência'!N59","v":0.91390728476821192},{"$f":"'CV Rotina <2A - residência'!X59","v":0.96026490066225167},{"$f":"'CV Rotina <2A - residência'!R59","v":0.86754966887417218},{"$f":"'CV Rotina <2A - residência'!T59","v":0.66225165562913912},{"$f":"'CV Rotina <2A - residência'!V59","v":0.7483443708609272},{"$f":"'CV Rotina <2A - residência'!Z59","v":0.42384105960264901},0,1,1,1]
["Norte","Ponto Belo",{"$f":"'CV Rotina <2A - residência'!H60","v":0.6},{"$f":"'CV Rotina <2A - residência'!P60","v":0.97142857142857142},{"$f":"'CV Rotina <2A - residência'!#REF!","v":{"$error":"#REF!"}},{"$f":"'CV Rotina <2A - residência'!J60","v":1.0285714285714285},{"$f":"'CV Rotina <2A - residência'!L60","v":1.0285714285714285},{"$f":"'CV Rotina <2A - residência'!N60","v":0.94285714285714284},{"$f":"'CV Rotina <2A - residência'!X60","v":1.2285714285714286},{"$f":"'CV Rotina <2A - residência'!R60","v":0.97142857142857142},{"$f":"'CV Rotina <2A - residência'!T60","v":1.1428571428571428},{"$f":"'CV Rotina <2A - residência'!V60","v":0.7142857142857143},{"$f":"'CV Rotina <2A - residência'!Z60","v":0.51428571428571423},1,5,6,3]
["Sul","Presidente Kennedy",{"$f":"'CV Rotina <2A - residência'!H61","v":0.95652173913043481},{"$f":"'CV Rotina <2A - residência'!P61","v":0.70434782608695656},{"$f":"'CV Rotina <2A - residência'!#REF!","v":{"$error":"#REF!"}},{"$f":"'CV Rotina <2A - residência'!J61","v":0.68695652173913047},{"$f":"'CV Rotina <2A - residência'!L61","v":0.70434782608695656},{"$f":"'CV Rotina <2A - residência'!N61","v":0.70434782608695656},{"$f":"'CV Rotina <2A - residência'!X61","v":1},{"$f":"'CV Rotina <2A - residência'!R61","v":0.65217391304347827},{"$f":"'CV Rotina <2A - residência'!T61","v":0.69565217391304346},{"$f":"'CV Rotina <2A - residência'!V61","v":0.86086956521739133},{"$f":"'CV Rotina <2A - residência'!Z61","v":0.40869565217391307},1,1,2,1]
["Central","Rio Bananal",{"$f":"'CV Rotina <2A - residência'!H62","v":0.64071856287425155},{"$f":"'CV Rotina <2A - residência'!P62","v":0.78443113772455086},{"$f":"'CV Rotina <2A - residência'!#REF!","v":{"$error":"#REF!"}},{"$f":"'CV Rotina <2A - residência'!J62","v":0.82035928143712578},{"$f":"'CV Rotina <2A - residência'!L62","v":0.81437125748502992},{"$f":"'CV Rotina <2A - residência'!N62","v":0.73053892215568861},{"$f":"'CV Rotina <2A - residência'!X62","v":0.92215568862275454},{"$f":"'CV Rotina <2A - residência'!R62","v":0.72455089820359286},{"$f":"'CV Rotina <2A - residência'!T62","v":0.89820359281437123},{"$f":"'CV Rotina <2A - residência'!V62","v":0.85628742514970058},{"$f":"'CV Rotina <2A - residência'!Z62","v":0.42514970059880242},0,0,0,0]
["Sul","Rio Novo do Sul",{"$f":"'CV Rotina <2A - residência'!H63","v":0.75},{"$f":"'CV Rotina <2A - residência'!P63","v":1.0535714285714286},{"$f":"'CV Rotina <2A - residência'!#REF!","v":{"$error":"#REF!"}},{"$f":"'CV Rotina <2A - residência'!J63","v":1.0892857142857142},{"$f":"'CV Rotina <2A - residência'!L63","v":1.0535714285714286},{"$f":"'CV Rotina <2A - residência'!N63","v":1.0178571428571428},{"$f":"'CV Rotina <2A - residência'!X63","v":1.0357142857142858},{"$f":"'CV Rotina <2A - residência'!R63","v":1.0892857142857142},{"$f":"'CV Rotina <2A - residência'!T63","v":1.0357142857142858},{"$f":"'CV Rotina <2A - residência'!V63","v":1.0178571428571428},{"$f":"'CV Rotina <2A - residência'!Z63","v":0.5535714285714286},1,7,8,4]
["Metropolitana","Santa Leopoldina",{"$f":"'CV Rotina <2A - residência'!H64","v":0.76315789473684215},{"$f":"'CV Rotina <2A - residência'!P64","v":1.3157894736842106},{"$f":"'CV Rotina <2A - residência'!#REF!","v":{"$error":"#REF!"}},{"$f":"'CV Rotina <2A - residência'!J64","v":1.5},{"$f":"'CV Rotina <2A - residência'!L64","v":1.5},{"$f":"'CV Rotina <2A - residência'!N64","v":1.2894736842105263},{"$f":"'CV Rotina <2A - residência'!X64","v":1.8157894736842106},{"$f":"'CV Rotina <2A - residência'!R64","v":1.4473684210526316},{"$f":"'CV Rotina <2A - residência'!T64","v":1.3421052631578947},{"$f":"'CV Rotina <2A - residência'!V64","v":1.5789473684210527},{"$f":"'CV Rotina <2A - residência'!Z64","v":0.36842105263157893},1,7,8,4]
["Metropolitana","Santa Maria de Jetibá",{"$f":"'CV Rotina <2A - residência'!H65","v":0.92163009404388718},{"$f":"'CV Rotina <2A - residência'!P65","v":0.92476489028213171},{"$f":"'CV Rotina <2A - residência'!#REF!","v":{"$error":"#REF!"}},{"$f":"'CV Rotina <2A - residência'!J65","v":0.8369905956112853},{"$f":"'CV Rotina <2A - residência'!L65","v":0.84012539184952983},{"$f":"'CV Rotina <2A - residência'!N65","v":0.91849529780564265},{"$f":"'CV Rotina <2A - residência'!X65","v":1.0689655172413792},{"$f":"'CV Rotina <2A - residência'!R65","v":0.89655172413793105},{"$f":"'CV Rotina <2A - residência'!T65","v":0.7711598746081505},{"$f":"'CV Rotina <2A - residência'!V65","v":0.99373040752351094},{"$f":"'CV Rotina <2A - residência'!Z65","v":0.42006269592476492},2,2,4,1]
["Metropolitana","Santa Teresa",{"$f":"'CV Rotina <2A - residência'!H66","v":0.93670886075949367},{"$f":"'CV Rotina <2A - residência'!P66","v":0.95569620253164556},{"$f":"'CV Rotina <2A - residência'!#REF!","v":{"$error":"#REF!"}},{"$f":"'CV Rotina <2A - residência'!J66","v":0.91139240506329111},{"$f":"'CV Rotina <2A - residência'!L66","v":0.91139240506329111},{"$f":"'CV Rotina <2A - residência'!N66","v":0.96202531645569622},{"$f":"'CV Rotina <2A - residência'!X66","v":0.87341772151898733},{"$f":"'CV Rotina <2A - residência'!R66","v":0.89873417721518989},{"$f":"'CV Rotina <2A - residência'!T66","v":0.84177215189873422},{"$f":"'CV Rotina <2A - residência'!V66","v":0.740506329113924},{"$f":"'CV Rotina <2A - residência'!Z66","v":0.53797468354430378},2,1,3,1]
["Central","São Domingos do Norte",{"$f":"'CV Rotina <2A - residência'!H67","v":0.84615384615384615},{"$f":"'CV Rotina <2A - residência'!P67","v":0.83076923076923082},{"$f":"'CV Rotina <2A - residência'!#REF!","v":{"$error":"#REF!"}},{"$f":"'CV Rotina <2A - residência'!J67","v":0.90769230769230769},{"$f":"'CV Rotina <2A - residência'!L67","v":0.90769230769230769},{"$f":"'CV Rotina <2A - residência'!N67","v":0.86153846153846159},{"$f":"'CV Rotina <2A - residência'!X67","v":0.75384615384615383},{"$f":"'CV Rotina <2A - residência'!R67","v":0.92307692307692313},{"$f":"'CV Rotina <2A - residência'!T67","v":0.8},{"$f":"'CV Rotina <2A - residência'!V67","v":0.47692307692307695},{"$f":"'CV Rotina <2A - residência'!Z67","v":0.4},0,{"$f":"COUNTIFS(F66:M66,\">=0,95\")","v":0},0,0]
["Central","São Gabriel da Palha",{"$f":"'CV Rotina <2A - residência'!H68","v":0.96153846153846156},{"$f":"'CV Rotina <2A - residência'!P68","v":0.86324786324786329},{"$f":"'CV Rotina <2A - residência'!#REF!","v":{"$error":"#REF!"}},{"$f":"'CV Rotina <2A - residência'!J68","v":0.85470085470085466},{"$f":"'CV Rotina <2A - residência'!L68","v":0.8504273504273504},{"$f":"'CV Rotina <2A - residência'!N68","v":0.85897435897435892},{"$f":"'CV Rotina <2A - residência'!X68","v":0.85470085470085466},{"$f":"'CV Rotina <2A - residência'!R68","v":0.85897435897435892},{"$f":"'CV Rotina <2A - residência'!T68","v":0.7350427350427351},{"$f":"'CV Rotina <2A - residência'!V68","v":0.66239316239316237},{"$f":"'CV Rotina <2A - residência'!Z68","v":0.33333333333333331},{"$f":"COUNTIF(C67:E67,\">=0,9\")","v":1},0,{"$f":"SUM(N67:O67)","v":1},{"$f":"COUNTIF(F67:I67,\">=0,95\")","v":0}]
["Sul","São José do Calçado",{"$f":"'CV Rotina <2A - residência'!H69","v":1.2045454545454546},{"$f":"'CV Rotina <2A - residência'!P69","v":1.0909090909090908},{"$f":"'CV Rotina <2A - residência'!#REF!","v":{"$error":"#REF!"}},{"$f":"'CV Rotina <2A - residência'!J69","v":1.4545454545454546},{"$f":"'CV Rotina <2A - residência'!L69","v":1.4318181818181819},{"$f":"'CV Rotina <2A - residência'!N69","v":1.2727272727272727},{"$f":"'CV Rotina <2A - residência'!X69","v":1.4090909090909092},{"$f":"'CV Rotina <2A - residência'!R69","v":1.3181818181818181},{"$f":"'CV Rotina <2A - residência'!T69","v":1.1363636363636365},{"$f":"'CV Rotina <2A - residência'!V69","v":1.2045454545454546},{"$f":"'CV Rotina <2A - residência'!Z69","v":0.81818181818181823},2,7,9,4]
["Norte","São Mateus",{"$f":"'CV Rotina <2A - residência'!H70","v":1.2613168724279835},{"$f":"'CV Rotina <2A - residência'!P70","v":0.84259259259259256},{"$f":"'CV Rotina <2A - residência'!#REF!","v":{"$error":"#REF!"}},{"$f":"'CV Rotina <2A - residência'!J70","v":0.87551440329218111},{"$f":"'CV Rotina <2A - residência'!L70","v":0.85699588477366251},{"$f":"'CV Rotina <2A - residência'!N70","v":0.88786008230452673},{"$f":"'CV Rotina <2A - residência'!X70","v":0.84362139917695478},{"$f":"'CV Rotina <2A - residência'!R70","v":0.8364197530864198},{"$f":"'CV Rotina <2A - residência'!T70","v":0.68518518518518523},{"$f":"'CV Rotina <2A - residência'!V70","v":0.72325102880658432},{"$f":"'CV Rotina <2A - residência'!Z70","v":0.34465020576131689},1,0,1,0]
["Central","São Roque do Canaã",{"$f":"'CV Rotina <2A - residência'!H71","v":0.8571428571428571},{"$f":"'CV Rotina <2A - residência'!P71","v":0.6071428571428571},{"$f":"'CV Rotina <2A - residência'!#REF!","v":{"$error":"#REF!"}},{"$f":"'CV Rotina <2A - residência'!J71","v":0.52380952380952384},{"$f":"'CV Rotina <2A - residência'!L71","v":0.51190476190476186},{"$f":"'CV Rotina <2A - residência'!N71","v":0.58333333333333337},{"$f":"'CV Rotina <2A - residência'!X71","v":0.83333333333333337},{"$f":"'CV Rotina <2A - residência'!R71","v":0.54761904761904767},{"$f":"'CV Rotina <2A - residência'!T71","v":0.6428571428571429},{"$f":"'CV Rotina <2A - residência'!V71","v":0.65476190476190477},{"$f":"'CV Rotina <2A - residência'!Z71","v":0.32142857142857145},0,0,0,0]
["Metropolitana","Serra",{"$f":"'CV Rotina <2A - residência'!H72","v":0.87846153846153852},{"$f":"'CV Rotina <2A - residência'!P72","v":0.78076923076923077},{"$f":"'CV Rotina <2A - residência'!#REF!","v":{"$error":"#REF!"}},{"$f":"'CV Rotina <2A - residência'!J72","v":0.79974358974358972},{"$f":"'CV Rotina <2A - residência'!L72","v":0.79230769230769227},{"$f":"'CV Rotina <2A - residência'!N72","v":0.80358974358974355},{"$f":"'CV Rotina <2A - residência'!X72","v":0.81},{"$f":"'CV Rotina <2A - residência'!R72","v":0.77358974358974364},{"$f":"'CV Rotina <2A - residência'!T72","v":0.66076923076923078},{"$f":"'CV Rotina <2A - residência'!V72","v":0.47282051282051279},{"$f":"'CV Rotina <2A - residência'!Z72","v":0.25205128205128208},0,0,0,0]
["Central","Sooretama",{"$f":"'CV Rotina <2A - residência'!H73","v":0.6},{"$f":"'CV Rotina <2A - residência'!P73","v":0.74285714285714288},{"$f":"'CV Rotina <2A - residência'!#REF!","v":{"$error":"#REF!"}},{"$f":"'CV Rotina <2A - residência'!J73","v":0.75918367346938775},{"$f":"'CV Rotina <2A - residência'!L73","v":0.77142857142857146},{"$f":"'CV Rotina <2A - residência'!N73","v":0.75102040816326532},{"$f":"'CV Rotina <2A - residência'!X73","v":0.82040816326530608},{"$f":"'CV Rotina <2A - residência'!R73","v":0.69387755102040816},{"$f":"'CV Rotina <2A - residência'!T73","v":0.72653061224489801},{"$f":"'CV Rotina <2A - residência'!V73","v":0.75510204081632648},{"$f":"'CV Rotina <2A - residência'!Z73","v":0.32653061224489793},0,0,0,0]
["Sul","Vargem Alta",{"$f":"'CV Rotina <2A - residência'!H74","v":0.8936170212765957},{"$f":"'CV Rotina <2A - residência'!P74","v":0.82269503546099287},{"$f":"'CV Rotina <2A - residência'!#REF!","v":{"$error":"#REF!"}},{"$f":"'CV Rotina <2A - residência'!J74","v":0.77304964539007093},{"$f":"'CV Rotina <2A - residência'!L74","v":0.77304964539007093},{"$f":"'CV Rotina <2A - residência'!N74","v":0.8014184397163121},{"$f":"'CV Rotina <2A - residência'!X74","v":0.94326241134751776},{"$f":"'CV Rotina <2A - residência'!R74","v":0.81560283687943258},{"$f":"'CV Rotina <2A - residência'!T74","v":0.71631205673758869},{"$f":"'CV Rotina <2A - residência'!V74","v":0.900709219858156},{"$f":"'CV Rotina <2A - residência'!Z74","v":0.43262411347517732},0,0,0,0]
["Metropolitana","Venda Nova do Imigrante",{"$f":"'CV Rotina <2A - residência'!H75","v":0.75829383886255919},{"$f":"'CV Rotina <2A - residência'!P75","v":0.82938388625592419},{"$f":"'CV Rotina <2A - residência'!#REF!","v":{"$error":"#REF!"}},{"$f":"'CV Rotina <2A - residência'!J75","v":0.90521327014218012},{"$f":"'CV Rotina <2A - residência'!L75","v":0.91469194312796209},{"$f":"'CV Rotina <2A - residência'!N75","v":0.83412322274881512},{"$f":"'CV Rotina <2A - residência'!X75","v":0.93364928909952605},{"$f":"'CV Rotina <2A - residência'!R75","v":0.87203791469194314},{"$f":"'CV Rotina <2A - residência'!T75","v":0.88625592417061616},{"$f":"'CV Rotina <2A - residência'!V75","v":0.72037914691943128},{"$f":"'CV Rotina <2A - residência'!Z75","v":0.33649289099526064},0,0,0,0]
["Metropolitana","Viana",{"$f":"'CV Rotina <2A - residência'!H76","v":0.78989898989898988},{"$f":"'CV Rotina <2A - residência'!P76","v":0.84848484848484851},{"$f":"'CV Rotina <2A - residência'!#REF!","v":{"$error":"#REF!"}},{"$f":"'CV Rotina <2A - residência'!J76","v":0.85858585858585856},{"$f":"'CV Rotina <2A - residência'!L76","v":0.84444444444444444},{"$f":"'CV Rotina <2A - residência'!N76","v":0.89292929292929291},{"$f":"'CV Rotina <2A - residência'!X76","v":0.96969696969696972},{"$f":"'CV Rotina <2A - residência'!R76","v":0.87878787878787878},{"$f":"'CV Rotina <2A - residência'!T76","v":0.65858585858585861},{"$f":"'CV Rotina <2A - residência'!V76","v":0.7656565656565657},{"$f":"'CV Rotina <2A - residência'!Z76","v":0.28686868686868688},0,1,1,1]
["Norte","Vila Pavão",{"$f":"'CV Rotina <2A - residência'!H77","v":1.1063829787234043},{"$f":"'CV Rotina <2A - residência'!P77","v":0.93617021276595747},{"$f":"'CV Rotina <2A - residência'!#REF!","v":{"$error":"#REF!"}},{"$f":"'CV Rotina <2A - residência'!J77","v":0.91489361702127658},{"$f":"'CV Rotina <2A - residência'!L77","v":0.91489361702127658},{"$f":"'CV Rotina <2A - residência'!N77","v":0.95744680851063835},{"$f":"'CV Rotina <2A - residência'!X77","v":1.2553191489361701},{"$f":"'CV Rotina <2A - residência'!R77","v":0.87234042553191493},{"$f":"'CV Rotina <2A - residência'!T77","v":1.0425531914893618},{"$f":"'CV Rotina <2A - residência'!V77","v":1.1489361702127661},{"$f":"'CV Rotina <2A - residência'!Z77","v":0.48936170212765956},2,4,6,2]
["Central","Vila Valério",{"$f":"'CV Rotina <2A - residência'!H78","v":0.88800000000000001},{"$f":"'CV Rotina <2A - residência'!P78","v":0.88800000000000001},{"$f":"'CV Rotina <2A - residência'!#REF!","v":{"$error":"#REF!"}},{"$f":"'CV Rotina <2A - residência'!J78","v":0.84799999999999998},{"$f":"'CV Rotina <2A - residência'!L78","v":0.82399999999999995},{"$f":"'CV Rotina <2A - residência'!N78","v":0.86399999999999999},{"$f":"'CV Rotina <2A - residência'!X78","v":0.88800000000000001},{"$f":"'CV Rotina <2A - residência'!R78","v":0.93600000000000005},{"$f":"'CV Rotina <2A - residência'!T78","v":0.82399999999999995},{"$f":"'CV Rotina <2A - residência'!V78","v":0.8},{"$f":"'CV Rotina <2A - residência'!Z78","v":0.40799999999999997},0,0,0,0]
["Metropolitana","Vila Velha",{"$f":"'CV Rotina <2A - residência'!H79","v":0.82499999999999996},{"$f":"'CV Rotina <2A - residência'!P79","v":0.80445205479452053},{"$f":"'CV Rotina <2A - residência'!#REF!","v":{"$error":"#REF!"}},{"$f":"'CV Rotina <2A - residência'!J79","v":0.8003424657534246},{"$f":"'CV Rotina <2A - residência'!L79","v":0.79965753424657537},{"$f":"'CV Rotina <2A - residência'!N79","v":0.80513698630136987},{"$f":"'CV Rotina <2A - residência'!X79","v":0.85479452054794525},{"$f":"'CV Rotina <2A - residência'!R79","v":0.80719178082191778},{"$f":"'CV Rotina <2A - residência'!T79","v":0.68253424657534245},{"$f":"'CV Rotina <2A - residência'!V79","v":0.69109589041095887},{"$f":"'CV Rotina <2A - residência'!Z79","v":0.30890410958904108},0,0,0,0]
["Metropolitana","Vitória",{"$f":"'CV Rotina <2A - residência'!H80","v":1.1887592788971368},{"$f":"'CV Rotina <2A - residência'!P80","v":0.823966065747614},{"$f":"'CV Rotina <2A - residência'!#REF!","v":{"$error":"#REF!"}},{"$f":"'CV Rotina <2A - residência'!J80","v":0.8568398727465536},{"$f":"'CV Rotina <2A - residência'!L80","v":0.85790031813361611},{"$f":"'CV Rotina <2A - residência'!N80","v":0.83510074231177089},{"$f":"'CV Rotina <2A - residência'!X80","v":0.83191940615058324},{"$f":"'CV Rotina <2A - residência'!R80","v":0.86002120890774125},{"$f":"'CV Rotina <2A - residência'!T80","v":0.67815482502651114},{"$f":"'CV Rotina <2A - residência'!V80","v":0.8186638388123012},{"$f":"'CV Rotina <2A - residência'!Z80","v":0.34358430540827145},1,0,1,0]
[]
[null,"Total Norte",{"$f":"'CV Rotina <2A - procedência'!H82","v":0.7844036697247706},{"$f":"'CV Rotina <2A - procedência'!P82","v":0.84403669724770647},{"$f":"'CV Rotina <2A - residência'!#REF!","v":{"$error":"#REF!"}},{"$f":"'CV Rotina <2A - procedência'!J82","v":0.89023591087811271},{"$f":"'CV Rotina <2A - procedência'!L82","v":0.88728702490170375},{"$f":"'CV Rotina <2A - procedência'!N82","v":0.86730013106159898},{"$f":"'CV Rotina <2A - procedência'!X82","v":0.92595019659239841},{"$f":"'CV Rotina <2A - procedência'!R82","v":0.84796854521625165},{"$f":"'CV Rotina <2A - procedência'!T82","v":0.79488859764089126},{"$f":"'CV Rotina <2A - procedência'!V82","v":0.75524246395806027},{"$f":"'CV Rotina <2A - procedência'!Z82","v":0.42595019659239841},{"$f":"COUNTIF(C81:E81,\">=0,9\")","v":0},{"$f":"COUNTIFS(F81:M81,\">=0,95\")","v":0},{"$f":"SUM(N81:O81)","v":0},{"$f":"COUNTIF(F81:I81,\">=0,95\")","v":0}]
[null,"Total Central",{"$f":"'CV Rotina <2A - procedência'!H83","v":0.92431561996779388},{"$f":"'CV Rotina <2A - procedência'!P83","v":0.83896940418679544},{"$f":"'CV Rotina <2A - residência'!#REF!","v":{"$error":"#REF!"}},{"$f":"'CV Rotina <2A - procedência'!J83","v":0.8419216317767042},{"$f":"'CV Rotina <2A - procedência'!L83","v":0.83467525496511008},{"$f":"'CV Rotina <2A - procedência'!N83","v":0.83896940418679544},{"$f":"'CV Rotina <2A - procedência'!X83","v":0.8853998926462695},{"$f":"'CV Rotina <2A - procedência'!R83","v":0.83440687063875474},{"$f":"'CV Rotina <2A - procedência'!T83","v":0.78260869565217395},{"$f":"'CV Rotina <2A - procedência'!V83","v":0.71980676328502413},{"$f":"'CV Rotina <2A - procedência'!Z83","v":0.38996242619431026},{"$f":"COUNTIF(C82:E82,\">=0,9\")","v":1},{"$f":"COUNTIFS(F82:M82,\">=0,95\")","v":0},{"$f":"SUM(N82:O82)","v":1},{"$f":"COUNTIF(F82:I82,\">=0,95\")","v":0}]
[null,"Total Metropolitana",{"$f":"'CV Rotina <2A - procedência'!H84","v":0.89620399511850468},{"$f":"'CV Rotina <2A - procedência'!P84","v":0.82709229879889523},{"$f":"'CV Rotina <2A - residência'!#REF!","v":{"$error":"#REF!"}},{"$f":"'CV Rotina <2A - procedência'!J84","v":0.83550645513520461},{"$f":"'CV Rotina <2A - procedência'!L84","v":0.8292118954332327},{"$f":"'CV Rotina <2A - procedência'!N84","v":0.84578328730168928},{"$f":"'CV Rotina <2A - procedência'!X84","v":0.88766137838011427},{"$f":"'CV Rotina <2A - procedência'!R84","v":0.83197379407797545},{"$f":"'CV Rotina <2A - procedência'!T84","v":0.70383454300211956},{"$f":"'CV Rotina <2A - procedência'!V84","v":0.69516346586164812},{"$f":"'CV Rotina <2A - procedência'!Z84","v":0.34003468430856187},0,{"$f":"COUNTIFS(F83:M83,\">=0,95\")","v":0},{"$f":"SUM(N83:O83)","v":0},{"$f":"COUNTIF(F83:I83,\">=0,95\")","v":0}]
[null,"Total Sul",{"$f":"'CV Rotina <2A - procedência'!H85","v":0.93337975858867228},{"$f":"'CV Rotina <2A - procedência'!P85","v":0.88602599814298977},{"$f":"'CV Rotina <2A - residência'!#REF!","v":{"$error":"#REF!"}},{"$f":"'CV Rotina <2A - procedência'!J85","v":0.91713091922005574},{"$f":"'CV Rotina <2A - procedência'!L85","v":0.91039925719591452},{"$f":"'CV Rotina <2A - procedência'!N85","v":0.91039925719591452},{"$f":"'CV Rotina <2A - procedência'!X85","v":0.99605385329619311},{"$f":"'CV Rotina <2A - procedência'!R85","v":0.89275766016713087},{"$f":"'CV Rotina <2A - procedência'!T85","v":0.76346332404828221},{"$f":"'CV Rotina <2A - procedência'!V85","v":0.83170844939647171},{"$f":"'CV Rotina <2A - procedência'!Z85","v":0.38834726090993499},1,{"$f":"COUNTIFS(F84:M84,\">=0,95\")","v":1},{"$f":"SUM(N84:O84)","v":2},{"$f":"COUNTIF(F84:I84,\">=0,95\")","v":1}]
[null,"Total Espírito Santo",{"$f":"'CV Rotina <2A - procedência'!H86","v":0.89334083661601948},{"$f":"'CV Rotina <2A - procedência'!P86","v":0.84021759519789907},{"$f":"'CV Rotina <2A - residência'!#REF!","v":{"$error":"#REF!"}},{"$f":"'CV Rotina <2A - procedência'!J86","v":0.85586193959857437},{"$f":"'CV Rotina <2A - procedência'!L86","v":0.84974676420934159},{"$f":"'CV Rotina <2A - procedência'!N86","v":0.85773776027011817},{"$f":"'CV Rotina <2A - procedência'!X86","v":0.90924779591071092},{"$f":"'CV Rotina <2A - procedência'!R86","v":0.84396923654098666},{"$f":"'CV Rotina <2A - procedência'!T86","v":0.73490902269743008},{"$f":"'CV Rotina <2A - procedência'!V86","v":0.72755580566497846},{"$f":"'CV Rotina <2A - procedência'!Z86","v":0.36465953854811478},0,{"$f":"COUNTIFS(F85:M85,\">=0,95\")","v":0},{"$f":"SUM(N85:O85)","v":0},{"$f":"COUNTIF(F85:I85,\">=0,95\")","v":0}]
[]
[]
["Fonte: SIPNI/DATASUS, em 09 de junho de 2023.*"]
[" Vacina e Confia, em 12 de junho de 2023.**"]
["*Dados referentes às doses aplicadas pelas clínicas particulares de janeiro a maio de 2023"]
["**Dados referente às doses aplicadas no período de janeiro a maio de 2023"]
["Cobertura Calculada por município de vacinação"]
["1 População proporcional extraída do MS/SVS/DASIS - Sistema de Informações sobre Nascidos Vivos - SINASC"]
["2000 a 2021 – Estimativas preliminares elaboradas pelo Ministério da Saúde/SVS/DASNT/CGIAE"]
[" Nota: Dados preliminares 2021"]