{"text_format":"1","workbook":"xlsx","n_sheets":12,"sheets":["CV Rotina <2A - procedência","CV Rotina <2A - residência","CV REF 1A e 4A - procedência","CV REF 1A e 4A - residência","Cobert. COVID-19 Menores 4 anos","Cobert. Meningo C Adolescentes","Cobert. HPV ","dTpa gestantes - procedência","dTpa gestantes - residência","PROTEÇÃO","cálculos1","cálculos2"],"not_rendered":{"charts":0,"images":0,"macros":1,"external_links":2,"defined_names":26,"comments":2,"pivot_tables":0},"unopened":[],"bounds":{"document_bytes":16777216,"sheet_cells":100000,"rows_first":2000,"rows_last":500,"rows_between":2000,"halvings":0,"cell_chars":16384,"cell_head_chars":4096},"cells_cut":0,"cells_raw":0,"read":"whole","date_system":"1900"}

{"sheet":"CV Rotina <2A - procedência","index":0,"n_rows":100,"n_cols":35,"rows_kept":100,"cut":false,"hidden":false,"merged":[[94,0,94,12],[0,4,0,7],[87,10,87,11],[86,12,86,13],[87,12,87,13],[87,1,87,3],[86,6,86,7],[87,6,87,7],[86,4,86,5],[87,4,87,5],[90,0,90,12],[92,0,93,12],[91,0,91,12],[89,0,89,12],[0,20,0,25],[87,22,87,23],[87,18,87,19],[86,18,86,19],[86,14,86,15],[0,8,0,19],[87,14,87,15],[86,8,86,9],[87,8,87,9],[86,10,86,11],[2,33,2,34],[11,33,11,34],[87,16,87,17],[86,16,86,17],[87,24,87,25],[86,24,86,25],[86,20,86,21],[86,22,86,23],[87,20,87,21]]}
[null,null,null,null,"AO NASCER",null,null,null,"MENOR DE 1 ANO",null,null,null,null,null,null,null,null,null,null,null,"1 ANO"]
["Regional ","Município","¹População < 1 ano e 1 ano anual ","²População < 1 ano e 1 ano proporcional ","Doses Aplicadas HB\n< 30 dias","Cobertura Vacinal HB\naté 30 dias","Doses Aplicadas BCG","Cobertura Vacinal BCG","Doses Aplicadas Pentavalente ","Cobertura Vacinal Pentavalente","Doses Aplicadas Poliomielite ","Cobertura Vacinal Poliomielite ","Doses Aplicadas Pneumo 10","Cobertura Vacinal Pneumo 10","Doses Aplicadas Rotavírus","Cobertura Vacinal Rotavírus","Doses Aplicadas Meningo C","Cobertura Vacinal Meningo C","Doses Aplicadas Febre Amarela","Cobertura Vacinal Febre Amarela","Doses Aplicadas Hepatite A","Cobertura Vacinal Hepatite A","Doses Aplicadas de Tríplice Viral","Cobertura Vacinal Tríplice Viral","Doses Aplicadas Varicela","Cobertura Varicela",null,null,"VACINAS QUE ATINGIRAM A META DE CV","HOMOGENEIDADE ENTRE AS 10 VACINAS","VACINAS DO PQA-VS QUE ATINGIRAM A META DE CV","HOMOGENEIDADE ENTRE AS VACINAS DO PQA-VS"]
["Metropolitana","Afonso Cláudio",374,146,102,{"$f":"E3/D3","v":0.69863013698630139},127,{"$f":"G3/D3","v":0.86986301369863017},147,{"$f":"I3/D3","v":1.0068493150684932},147,{"$f":"K3/D3","v":1.0068493150684932},138,{"$f":"M3/D3","v":0.9452054794520548},141,{"$f":"O3/D3","v":0.96575342465753422},151,{"$f":"Q3/D3","v":1.0342465753424657},144,{"$f":"S3/D3","v":0.98630136986301364},146,{"$f":"U3/D3","v":1},170,{"$f":"W3/D3","v":1.1643835616438356},71,{"$f":"Y3/D3","v":0.4863013698630137},null,null,{"$f":"cálculos1!P2","v":7},{"$f":"AC3*0.1","v":0.70000000000000007},{"$f":"cálculos1!Q2","v":3},{"$f":"AE3*0.25","v":0.75},null,"LEGENDA / HOMOGENEIDADE PQA-VS"]
["Norte","Água Doce do Norte",185,90,19,0.21111111111111111,36,0.4,65,0.72222222222222221,65,0.72222222222222221,71,0.78888888888888886,67,0.74444444444444446,62,0.68888888888888888,55,0.61111111111111116,59,0.65555555555555556,56,0.62222222222222223,28,0.31111111111111112,null,null,{"$f":"cálculos1!P3","v":0},{"$f":"AC4*0.1","v":0},{"$f":"cálculos1!Q3","v":0},{"$f":"AE4*0.25","v":0},null,"PERCENTUAL","Nº DE MUNICÍPIOS"]
["Central","Águia Branca",165,67,31,0.46268656716417911,43,0.64179104477611937,73,1.0895522388059702,72,1.0746268656716418,66,0.9850746268656716,66,0.9850746268656716,77,1.1492537313432836,60,0.89552238805970152,46,0.68656716417910446,47,0.70149253731343286,23,0.34328358208955223,null,null,{"$f":"cálculos1!P4","v":5},0.5,{"$f":"cálculos1!Q4","v":3},0.75,null,0,{"$f":"COUNTIF($AF$3:$AF$80,\"=0\")","v":29}]
["Sul","Alegre",330,135,72,0.53333333333333333,91,0.67407407407407405,140,1.037037037037037,148,1.0962962962962963,137,1.0148148148148148,133,0.98518518518518516,136,1.0074074074074073,138,1.0222222222222221,110,0.81481481481481477,125,0.92592592592592593,53,0.3925925925925926,null,null,{"$f":"cálculos1!P5","v":6},0.60000000000000009,{"$f":"cálculos1!Q5","v":3},0.75,null,0.25,{"$f":"COUNTIF($AF$3:$AF$80,\"=0,25\")","v":10}]
["Sul","Alfredo Chaves",148,59,10,0.16949152542372881,31,0.52542372881355937,68,1.152542372881356,67,1.1355932203389831,76,1.2881355932203389,78,1.3220338983050848,69,1.1694915254237288,57,0.96610169491525422,59,1,71,1.2033898305084745,49,0.83050847457627119,null,null,{"$f":"cálculos1!P6","v":8},0.8,{"$f":"cálculos1!Q6","v":4},1,null,0.5,{"$f":"COUNTIF($AF$3:$AF$80,\"=0,5\")","v":6}]
["Central","Alto Rio Novo",84,27,4,0.14814814814814814,12,0.44444444444444442,41,1.5185185185185186,40,1.4814814814814814,39,1.4444444444444444,40,1.4814814814814814,45,1.6666666666666667,34,1.2592592592592593,42,1.5555555555555556,39,1.4444444444444444,22,0.81481481481481477,null,null,{"$f":"cálculos1!P7","v":8},0.8,{"$f":"cálculos1!Q7","v":4},1,null,0.75,{"$f":"COUNTIF($AF$3:$AF$80,\"=0,75\")","v":10}]
["Sul","Anchieta",389,169,10,5.9171597633136092E-2,91,0.53846153846153844,165,0.97633136094674555,167,0.98816568047337283,163,0.96449704142011838,161,0.9526627218934911,167,0.98816568047337283,117,0.69230769230769229,144,0.85207100591715978,161,0.9526627218934911,84,0.49704142011834318,null,null,{"$f":"cálculos1!P8","v":6},0.60000000000000009,{"$f":"cálculos1!Q8","v":4},1,null,1,{"$f":"COUNTIF($AF$3:$AF$80,\"=1,0\")","v":23}]
["Sul","Apiacá",71,37,11,0.29729729729729731,23,0.6216216216216216,22,0.59459459459459463,23,0.6216216216216216,25,0.67567567567567566,24,0.64864864864864868,23,0.6216216216216216,24,0.64864864864864868,15,0.40540540540540543,27,0.72972972972972971,8,0.21621621621621623,null,null,{"$f":"cálculos1!P9","v":0},0,{"$f":"cálculos1!Q9","v":0},0]
["Metropolitana","Aracruz",1465,634,464,0.73186119873817035,580,0.91482649842271291,545,0.85962145110410093,541,0.85331230283911674,555,0.87539432176656151,551,0.86908517350157732,565,0.89116719242902209,516,0.81388012618296535,625,0.98580441640378547,652,1.0283911671924291,380,0.59936908517350163,null,null,{"$f":"cálculos1!P10","v":3},0.30000000000000004,{"$f":"cálculos1!Q10","v":1},0.25]
["Sul","Atilio Vivacqua",138,64,0,0,0,0,52,0.8125,51,0.796875,52,0.8125,52,0.8125,46,0.71875,48,0.75,57,0.890625,68,1.0625,35,0.546875,null,null,{"$f":"cálculos1!P11","v":1},0.1,{"$f":"cálculos1!Q11","v":1},0.25,null,"LEGENDA / HOMOGENEIDADE 10 VACINAS"]
["Central","Baixo Guandu",388,163,27,0.16564417177914109,83,0.50920245398773001,158,0.96932515337423308,159,0.97546012269938653,174,1.0674846625766872,167,1.0245398773006136,174,1.0674846625766872,127,0.77914110429447858,160,0.98159509202453987,191,1.1717791411042944,96,0.58895705521472397,null,null,{"$f":"cálculos1!P12","v":7},0.70000000000000007,{"$f":"cálculos1!Q12","v":4},1,null,"PERCENTUAL","Nº DE MUNICÍPIOS"]
["Norte","Barra de São Francisco",553,241,121,0.50207468879668049,217,0.90041493775933612,201,0.8340248962655602,199,0.82572614107883813,225,0.93360995850622408,220,0.91286307053941906,213,0.88381742738589208,194,0.80497925311203322,178,0.7385892116182573,228,0.94605809128630702,147,0.60995850622406644,null,null,{"$f":"cálculos1!P13","v":2},0.2,{"$f":"cálculos1!Q13","v":0},0,null,0,{"$f":"COUNTIF($AD$3:$AD$80,\"=0\")","v":22}]
["Norte","Boa Esperança",189,77,5,6.4935064935064929E-2,31,0.40259740259740262,67,0.87012987012987009,74,0.96103896103896103,72,0.93506493506493504,76,0.98701298701298701,77,1,69,0.89610389610389607,63,0.81818181818181823,91,1.1818181818181819,57,0.74025974025974028,null,null,{"$f":"cálculos1!P14","v":4},0.4,{"$f":"cálculos1!Q14","v":2},0.5,null,0.1,{"$f":"COUNTIFS($AD$3:$AD$80,\">=0,10\",$AD$3:$AD$80,\"<0,20\")","v":9}]
["Sul","Bom Jesus do Norte",84,37,21,0.56756756756756754,40,1.0810810810810811,56,1.5135135135135136,54,1.4594594594594594,46,1.2432432432432432,44,1.1891891891891893,46,1.2432432432432432,45,1.2162162162162162,16,0.43243243243243246,54,1.4594594594594594,17,0.45945945945945948,null,null,{"$f":"cálculos1!P15","v":8},0.8,{"$f":"cálculos1!Q15","v":4},1,null,0.2,{"$f":"COUNTIFS($AD$3:$AD$80,\">=0,20\",$AD$3:$AD$80,\"<0,30\")","v":4}]
["Metropolitana","Brejetuba",214,87,13,0.14942528735632185,71,0.81609195402298851,81,0.93103448275862066,81,0.93103448275862066,83,0.95402298850574707,89,1.0229885057471264,73,0.83908045977011492,87,1,71,0.81609195402298851,76,0.87356321839080464,43,0.4942528735632184,null,null,{"$f":"cálculos1!P16","v":3},0.30000000000000004,{"$f":"cálculos1!Q16","v":1},0.25,null,0.3,{"$f":"COUNTIFS($AD$3:$AD$80,\">=0,30\",$AD$3:$AD$80,\"<0,40\")","v":5}]
["Sul","Cachoeiro de Itapemirim",2460,1105,1695,1.5339366515837105,2136,1.9330316742081448,902,0.81628959276018098,890,0.80542986425339369,886,0.80180995475113126,877,0.79366515837104068,852,0.77104072398190049,690,0.6244343891402715,760,0.68778280542986425,951,0.86063348416289598,398,0.36018099547511312,null,null,{"$f":"cálculos1!P17","v":1},0.1,{"$f":"cálculos1!Q17","v":0},0,null,0.4,{"$f":"COUNTIFS($AD$3:$AD$80,\">=0,40\",$AD$3:$AD$80,\"<0,50\")","v":7}]
["Metropolitana","Cariacica",4873,2069,811,0.39197680038666022,1043,0.50410826486225224,1765,0.85306911551474141,1741,0.8414693088448526,1791,0.86563557274045433,1711,0.82696955050749155,1737,0.83953600773320447,1468,0.70952150797486713,1161,0.56114064765587235,1896,0.91638472692121797,809,0.39101014983083615,null,null,{"$f":"cálculos1!P18","v":0},0,{"$f":"cálculos1!Q18","v":0},0,null,0.5,{"$f":"COUNTIFS($AD$3:$AD$80,\">=0,50\",$AD$3:$AD$80,\"<0,60\")","v":5}]
["Sul","Castelo",443,192,85,0.44270833333333331,110,0.57291666666666663,166,0.86458333333333337,166,0.86458333333333337,166,0.86458333333333337,162,0.84375,161,0.83854166666666663,160,0.83333333333333337,133,0.69270833333333337,202,1.0520833333333333,94,0.48958333333333331,null,null,{"$f":"cálculos1!P19","v":1},0.1,{"$f":"cálculos1!Q19","v":1},0.25,null,0.6,{"$f":"COUNTIFS($AD$3:$AD$80,\">=0,60\",$AD$3:$AD$80,\"<0,70\")","v":7}]
["Central","Colatina",1561,669,1397,2.0881913303437969,1473,2.2017937219730941,584,0.87294469357249627,572,0.85500747384155451,564,0.84304932735426008,550,0.82212257100149477,538,0.80418535127055302,518,0.77428998505231694,289,0.43198804185351269,585,0.87443946188340804,290,0.43348281016442453,null,null,{"$f":"cálculos1!P20","v":1},0.1,{"$f":"cálculos1!Q20","v":0},0,null,0.7,{"$f":"COUNTIFS($AD$3:$AD$80,\">=0,70\",$AD$3:$AD$80,\"<0,80\")","v":12}]
["Norte","Conceição da Barra",342,131,6,4.5801526717557252E-2,13,9.9236641221374045E-2,143,1.0916030534351144,145,1.1068702290076335,152,1.1603053435114503,150,1.1450381679389312,153,1.16793893129771,145,1.1068702290076335,111,0.84732824427480913,155,1.1832061068702291,88,0.6717557251908397,null,null,{"$f":"cálculos1!P21","v":7},0.70000000000000007,{"$f":"cálculos1!Q21","v":4},1,null,0.8,{"$f":"COUNTIFS($AD$3:$AD$80,\">=0,80\",$AD$3:$AD$80,\"<0,90\")","v":7}]
["Metropolitana","Conceição do Castelo",169,78,0,0,0,0,62,0.79487179487179482,60,0.76923076923076927,52,0.66666666666666663,51,0.65384615384615385,54,0.69230769230769229,65,0.83333333333333337,59,0.75641025641025639,54,0.69230769230769229,45,0.57692307692307687,null,null,{"$f":"cálculos1!P22","v":0},0,{"$f":"cálculos1!Q22","v":0},0,null,0.9,{"$f":"COUNTIFS($AD$3:$AD$80,\">=0,90\",$AD$3:$AD$80,\"<1,0\")","v":0}]
["Sul","Divino de São Lourenço",65,25,23,0.92,25,1,32,1.28,32,1.28,32,1.28,32,1.28,35,1.4,27,1.08,23,0.92,18,0.72,22,0.88,null,null,{"$f":"cálculos1!P23","v":7},0.70000000000000007,{"$f":"cálculos1!Q23","v":3},0.75,null,1,{"$f":"COUNTIF($AD$3:$AD$80,\">=1,0\")","v":0}]
["Metropolitana","Domingos Martins",417,186,8,4.3010752688172046E-2,28,0.15053763440860216,149,0.80107526881720426,150,0.80645161290322576,175,0.94086021505376349,169,0.90860215053763438,161,0.86559139784946237,146,0.78494623655913975,131,0.70430107526881724,176,0.94623655913978499,144,0.77419354838709675,null,null,{"$f":"cálculos1!P24","v":1},0.1,{"$f":"cálculos1!Q24","v":0},0]
["Sul","Dores do Rio Preto",89,34,11,0.3235294117647059,28,0.82352941176470584,42,1.2352941176470589,45,1.3235294117647058,48,1.411764705882353,46,1.3529411764705883,46,1.3529411764705883,38,1.1176470588235294,29,0.8529411764705882,50,1.4705882352941178,18,0.52941176470588236,null,null,{"$f":"cálculos1!P25","v":7},0.70000000000000007,{"$f":"cálculos1!Q25","v":4},1]
["Norte","Ecoporanga",266,125,51,0.40799999999999997,59,0.47199999999999998,101,0.80800000000000005,100,0.8,92,0.73599999999999999,88,0.70399999999999996,95,0.76,96,0.76800000000000002,90,0.72,110,0.88,76,0.60799999999999998,null,null,{"$f":"cálculos1!P26","v":0},0,{"$f":"cálculos1!Q26","v":0},0]
["Metropolitana","Fundão",221,94,4,4.2553191489361701E-2,39,0.41489361702127658,96,1.0212765957446808,94,1,93,0.98936170212765961,95,1.0106382978723405,89,0.94680851063829785,83,0.88297872340425532,84,0.8936170212765957,78,0.82978723404255317,66,0.7021276595744681,null,null,{"$f":"cálculos1!P27","v":4},0.4,{"$f":"cálculos1!Q27","v":3},0.75]
["Central","Governador Lindenberg",150,72,8,0.1111111111111111,15,0.20833333333333334,49,0.68055555555555558,46,0.63888888888888884,51,0.70833333333333337,53,0.73611111111111116,51,0.70833333333333337,53,0.73611111111111116,45,0.625,59,0.81944444444444442,34,0.47222222222222221,null,null,{"$f":"cálculos1!P28","v":0},0,{"$f":"cálculos1!Q28","v":0},0]
["Sul","Guaçuí",396,150,62,0.41333333333333333,98,0.65333333333333332,173,1.1533333333333333,164,1.0933333333333333,157,1.0466666666666666,144,0.96,151,1.0066666666666666,137,0.91333333333333333,135,0.9,179,1.1933333333333334,73,0.48666666666666669,null,null,{"$f":"cálculos1!P29","v":6},0.60000000000000009,{"$f":"cálculos1!Q29","v":4},1]
["Metropolitana","Guarapari",1732,752,419,0.55718085106382975,607,0.80718085106382975,604,0.80319148936170215,582,0.77393617021276595,618,0.82180851063829785,592,0.78723404255319152,612,0.81382978723404253,456,0.6063829787234043,511,0.67952127659574468,618,0.82180851063829785,383,0.50930851063829785,null,null,{"$f":"cálculos1!P30","v":0},0,{"$f":"cálculos1!Q30","v":0},0]
["Metropolitana","Ibatiba",362,153,61,0.39869281045751637,136,0.88888888888888884,154,1.0065359477124183,155,1.0130718954248366,147,0.96078431372549022,142,0.92810457516339873,160,1.0457516339869282,140,0.91503267973856206,122,0.79738562091503273,138,0.90196078431372551,29,0.18954248366013071,null,null,{"$f":"cálculos1!P31","v":5},0.5,{"$f":"cálculos1!Q31","v":3},0.75]
["Metropolitana","Ibiraçu",154,70,12,0.17142857142857143,13,0.18571428571428572,53,0.75714285714285712,52,0.74285714285714288,50,0.7142857142857143,49,0.7,54,0.77142857142857146,60,0.8571428571428571,37,0.52857142857142858,56,0.8,29,0.41428571428571431,null,null,{"$f":"cálculos1!P32","v":0},0,{"$f":"cálculos1!Q32","v":0},0]
["Sul","Ibitirama",127,52,20,0.38461538461538464,33,0.63461538461538458,45,0.86538461538461542,42,0.80769230769230771,49,0.94230769230769229,50,0.96153846153846156,41,0.78846153846153844,36,0.69230769230769229,41,0.78846153846153844,64,1.2307692307692308,37,0.71153846153846156,null,null,{"$f":"cálculos1!P33","v":2},0.2,{"$f":"cálculos1!Q33","v":1},0.25]
["Sul","Iconha",118,47,3,{"$f":"E35/D35","v":6.3829787234042548E-2},17,{"$f":"G35/D35","v":0.36170212765957449},47,{"$f":"I35/D35","v":1},45,{"$f":"K35/D35","v":0.95744680851063835},46,{"$f":"M35/D35","v":0.97872340425531912},47,{"$f":"O35/D35","v":1},46,{"$f":"Q35/D35","v":0.97872340425531912},58,{"$f":"S35/D35","v":1.2340425531914894},44,{"$f":"U35/D35","v":0.93617021276595747},65,{"$f":"W35/D35","v":1.3829787234042554},18,{"$f":"Y35/D35","v":0.38297872340425532},null,null,{"$f":"cálculos1!P34","v":7},0.70000000000000007,{"$f":"cálculos1!Q34","v":4},1]
["Sul","Irupi",197,75,33,0.44,53,0.70666666666666667,86,1.1466666666666667,85,1.1333333333333333,98,1.3066666666666666,93,1.24,94,1.2533333333333334,72,0.96,79,1.0533333333333332,114,1.52,23,0.30666666666666664,null,null,{"$f":"cálculos1!P35","v":8},0.8,{"$f":"cálculos1!Q35","v":4},1]
["Metropolitana","Itaguaçu",135,59,2,3.3898305084745763E-2,44,0.74576271186440679,51,0.86440677966101698,51,0.86440677966101698,50,0.84745762711864403,50,0.84745762711864403,53,0.89830508474576276,60,1.0169491525423728,62,1.0508474576271187,56,0.94915254237288138,46,0.77966101694915257,null,null,{"$f":"cálculos1!P36","v":2},0.2,{"$f":"cálculos1!Q36","v":0},0]
["Sul","Itapemirim",541,201,339,1.6865671641791045,107,0.53233830845771146,180,0.89552238805970152,175,0.87064676616915426,216,1.0746268656716418,192,0.95522388059701491,191,0.95024875621890548,119,0.59203980099502485,171,0.85074626865671643,196,0.97512437810945274,108,0.53731343283582089,null,null,{"$f":"cálculos1!P37","v":4},0.4,{"$f":"cálculos1!Q37","v":2},0.5]
["Metropolitana","Itarana",140,65,4,6.1538461538461542E-2,56,0.86153846153846159,49,0.75384615384615383,49,0.75384615384615383,47,0.72307692307692306,49,0.75384615384615383,47,0.72307692307692306,61,0.93846153846153846,23,0.35384615384615387,51,0.7846153846153846,38,0.58461538461538465,null,null,{"$f":"cálculos1!P38","v":0},0,{"$f":"cálculos1!Q38","v":0},0]
["Sul","Iúna",474,189,91,0.48148148148148145,132,0.69841269841269837,197,1.0423280423280423,196,1.037037037037037,188,0.99470899470899465,187,0.98941798941798942,190,1.0052910052910053,176,0.93121693121693117,132,0.69841269841269837,180,0.95238095238095233,93,0.49206349206349204,null,null,{"$f":"cálculos1!P39","v":6},0.60000000000000009,{"$f":"cálculos1!Q39","v":4},1]
["Norte","Jaguaré",489,212,133,0.62735849056603776,156,0.73584905660377353,201,0.94811320754716977,211,0.99528301886792447,177,0.83490566037735847,176,0.83018867924528306,184,0.86792452830188682,183,0.8632075471698113,146,0.68867924528301883,192,0.90566037735849059,103,0.48584905660377359,null,null,{"$f":"cálculos1!P40","v":1},0.1,{"$f":"cálculos1!Q40","v":1},0.25]
["Sul","Jerônimo Monteiro",156,59,5,8.4745762711864403E-2,7,0.11864406779661017,72,1.2203389830508475,74,1.2542372881355932,65,1.1016949152542372,65,1.1016949152542372,60,1.0169491525423728,62,1.0508474576271187,53,0.89830508474576276,59,1,19,0.32203389830508472,null,null,{"$f":"cálculos1!P41","v":7},0.70000000000000007,{"$f":"cálculos1!Q41","v":4},1]
["Metropolitana","João Neiva",178,70,10,0.14285714285714285,23,0.32857142857142857,72,1.0285714285714285,71,1.0142857142857142,70,1,67,0.95714285714285718,66,0.94285714285714284,76,1.0857142857142856,61,0.87142857142857144,83,1.1857142857142857,32,0.45714285714285713,null,null,{"$f":"cálculos1!P42","v":6},0.60000000000000009,{"$f":"cálculos1!Q42","v":4},1]
["Metropolitana","Laranja da Terra",96,43,0,0,30,0.69767441860465118,42,0.97674418604651159,42,0.97674418604651159,32,0.7441860465116279,32,0.7441860465116279,43,1,58,1.3488372093023255,45,1.0465116279069768,66,1.5348837209302326,45,1.0465116279069768,null,null,{"$f":"cálculos1!P43","v":7},0.70000000000000007,{"$f":"cálculos1!Q43","v":3},0.75]
["Central","Linhares",2598,1125,931,0.8275555555555556,1129,1.0035555555555555,908,0.80711111111111111,894,0.79466666666666663,904,0.80355555555555558,905,0.80444444444444441,878,0.7804444444444445,783,0.69599999999999995,684,0.60799999999999998,890,0.7911111111111111,467,0.4151111111111111,null,null,{"$f":"cálculos1!P44","v":1},0.1,{"$f":"cálculos1!Q44","v":0},0]
["Central","Mantenópolis",161,78,15,0.19230769230769232,30,0.38461538461538464,58,0.74358974358974361,64,0.82051282051282048,52,0.66666666666666663,50,0.64102564102564108,47,0.60256410256410253,64,0.82051282051282048,54,0.69230769230769229,60,0.76923076923076927,38,0.48717948717948717,null,null,{"$f":"cálculos1!P45","v":0},0,{"$f":"cálculos1!Q45","v":0},0]
["Sul","Marataízes",570,266,6,2.2556390977443608E-2,103,0.38721804511278196,223,0.83834586466165417,225,0.84586466165413532,229,0.86090225563909772,219,0.82330827067669177,224,0.84210526315789469,170,0.63909774436090228,218,0.81954887218045114,247,0.9285714285714286,116,0.43609022556390975,null,null,{"$f":"cálculos1!P46","v":0},0,{"$f":"cálculos1!Q46","v":0},0]
["Metropolitana","Marechal Floriano",227,102,18,0.17647058823529413,22,0.21568627450980393,77,0.75490196078431371,77,0.75490196078431371,92,0.90196078431372551,90,0.88235294117647056,95,0.93137254901960786,68,0.66666666666666663,82,0.80392156862745101,96,0.94117647058823528,67,0.65686274509803921,null,null,{"$f":"cálculos1!P47","v":0},0,{"$f":"cálculos1!Q47","v":0},0]
["Central","Marilândia",167,61,12,0.19672131147540983,26,0.42622950819672129,59,0.96721311475409832,59,0.96721311475409832,51,0.83606557377049184,58,0.95081967213114749,67,1.098360655737705,64,1.0491803278688525,55,0.90163934426229508,52,0.85245901639344257,45,0.73770491803278693,null,null,{"$f":"cálculos1!P48","v":5},0.5,{"$f":"cálculos1!Q48","v":2},0.5]
["Sul","Mimoso do Sul",262,105,15,0.14285714285714285,19,0.18095238095238095,84,0.8,83,0.79047619047619044,77,0.73333333333333328,73,0.69523809523809521,85,0.80952380952380953,82,0.78095238095238095,66,0.62857142857142856,90,0.8571428571428571,57,0.54285714285714282,null,null,{"$f":"cálculos1!P49","v":0},0,{"$f":"cálculos1!Q49","v":0},0]
["Norte","Montanha",233,76,23,0.30263157894736842,36,0.47368421052631576,124,1.631578947368421,126,1.6578947368421053,101,1.3289473684210527,103,1.3552631578947369,111,1.4605263157894737,108,1.4210526315789473,103,1.3552631578947369,104,1.368421052631579,71,0.93421052631578949,null,null,{"$f":"cálculos1!P50","v":8},0.8,{"$f":"cálculos1!Q50","v":4},1]
["Norte","Mucurici",68,21,4,0.19047619047619047,4,0.19047619047619047,36,1.7142857142857142,36,1.7142857142857142,36,1.7142857142857142,35,1.6666666666666667,38,1.8095238095238095,37,1.7619047619047619,19,0.90476190476190477,38,1.8095238095238095,17,0.80952380952380953,null,null,{"$f":"cálculos1!P51","v":7},0.70000000000000007,{"$f":"cálculos1!Q51","v":4},1]
["Sul","Muniz Freire",210,86,45,0.52325581395348841,66,0.76744186046511631,97,1.1279069767441861,91,1.058139534883721,98,1.1395348837209303,98,1.1395348837209303,90,1.0465116279069768,90,1.0465116279069768,82,0.95348837209302328,113,1.3139534883720929,49,0.56976744186046513,null,null,{"$f":"cálculos1!P52","v":8},0.8,{"$f":"cálculos1!Q52","v":4},1]
["Sul","Muqui",163,60,2,3.3333333333333333E-2,9,0.15,80,1.3333333333333333,81,1.35,60,1,59,0.98333333333333328,70,1.1666666666666667,70,1.1666666666666667,53,0.8833333333333333,61,1.0166666666666666,37,0.6166666666666667,null,null,{"$f":"cálculos1!P53","v":7},0.70000000000000007,{"$f":"cálculos1!Q53","v":4},1]
["Norte","Nova Venécia",681,301,28,9.3023255813953487E-2,163,0.5415282392026578,269,0.89368770764119598,269,0.89368770764119598,240,0.79734219269102991,235,0.78073089700996678,246,0.81727574750830567,270,0.89700996677740863,219,0.72757475083056478,275,0.91362126245847175,166,0.55149501661129563,null,null,{"$f":"cálculos1!P54","v":0},0,{"$f":"cálculos1!Q54","v":0},0]
["Central","Pancas",216,91,14,0.15384615384615385,45,0.49450549450549453,90,0.98901098901098905,89,0.97802197802197799,83,0.91208791208791207,82,0.90109890109890112,93,1.0219780219780219,86,0.94505494505494503,83,0.91208791208791207,80,0.87912087912087911,73,0.80219780219780223,null,null,{"$f":"cálculos1!P55","v":4},0.4,{"$f":"cálculos1!Q55","v":2},0.5]
["Norte","Pedro Canário",305,132,7,5.3030303030303032E-2,7,5.3030303030303032E-2,141,1.0681818181818181,140,1.0606060606060606,115,0.87121212121212122,111,0.84090909090909094,134,1.0151515151515151,132,1,91,0.68939393939393945,154,1.1666666666666667,93,0.70454545454545459,null,null,{"$f":"cálculos1!P56","v":5},0.5,{"$f":"cálculos1!Q56","v":3},0.75]
["Norte","Pinheiros",301,109,5,4.5871559633027525E-2,8,7.3394495412844041E-2,141,1.2935779816513762,140,1.2844036697247707,135,1.238532110091743,133,1.2201834862385321,123,1.128440366972477,128,1.1743119266055047,92,0.84403669724770647,131,1.201834862385321,48,0.44036697247706424,null,null,{"$f":"cálculos1!P57","v":7},0.70000000000000007,{"$f":"cálculos1!Q57","v":4},1]
["Sul","Piúma",309,122,3,2.4590163934426229E-2,80,0.65573770491803274,120,0.98360655737704916,119,0.97540983606557374,117,0.95901639344262291,108,0.88524590163934425,93,0.76229508196721307,83,0.68032786885245899,89,0.72950819672131151,121,0.99180327868852458,55,0.45081967213114754,null,null,{"$f":"cálculos1!P58","v":4},0.4,{"$f":"cálculos1!Q58","v":4},1]
["Norte","Ponto Belo",75,25,6,0.24,4,0.16,17,0.68,17,0.68,24,0.96,23,0.92,15,0.6,27,1.08,13,0.52,27,1.08,16,0.64,null,null,{"$f":"cálculos1!P59","v":4},0.4,{"$f":"cálculos1!Q59","v":2},0.5]
["Sul","Presidente Kennedy",194,94,3,3.1914893617021274E-2,9,9.5744680851063829E-2,66,0.7021276595744681,69,0.73404255319148937,59,0.62765957446808507,58,0.61702127659574468,59,0.62765957446808507,66,0.7021276595744681,65,0.69148936170212771,100,1.0638297872340425,43,0.45744680851063829,null,null,{"$f":"cálculos1!P60","v":1},0.1,{"$f":"cálculos1!Q60","v":1},0.25]
["Central","Rio Bananal",299,130,30,0.23076923076923078,27,0.2076923076923077,115,0.88461538461538458,115,0.88461538461538458,102,0.7846153846153846,108,0.83076923076923082,104,0.8,124,0.9538461538461539,109,0.83846153846153848,131,1.0076923076923077,75,0.57692307692307687,null,null,{"$f":"cálculos1!P61","v":2},0.2,{"$f":"cálculos1!Q61","v":1},0.25]
["Sul","Rio Novo do Sul",120,47,2,4.2553191489361701E-2,18,0.38297872340425532,58,1.2340425531914894,57,1.2127659574468086,49,1.0425531914893618,50,1.0638297872340425,50,1.0638297872340425,42,0.8936170212765957,44,0.93617021276595747,46,0.97872340425531912,40,0.85106382978723405,null,null,{"$f":"cálculos1!P62","v":6},0.60000000000000009,{"$f":"cálculos1!Q62","v":4},1]
["Metropolitana","Santa Leopoldina",93,32,1,3.125E-2,12,0.375,43,1.34375,42,1.3125,40,1.25,42,1.3125,50,1.5625,41,1.28125,48,1.5,53,1.65625,13,0.40625,null,null,{"$f":"cálculos1!P63","v":8},0.8,{"$f":"cálculos1!Q63","v":4},1]
["Metropolitana","Santa Maria de Jetibá",682,302,139,0.46026490066225167,197,0.65231788079470199,241,0.79801324503311255,240,0.79470198675496684,242,0.80132450331125826,248,0.82119205298013243,237,0.78476821192052981,227,0.7516556291390728,262,0.86754966887417218,274,0.9072847682119205,128,0.42384105960264901,null,null,{"$f":"cálculos1!P64","v":0},0,{"$f":"cálculos1!Q64","v":0},0]
["Metropolitana","Santa Teresa",299,120,225,1.875,95,0.79166666666666663,117,0.97499999999999998,118,0.98333333333333328,119,0.9916666666666667,115,0.95833333333333337,104,0.8666666666666667,96,0.8,87,0.72499999999999998,103,0.85833333333333328,80,0.66666666666666663,null,null,{"$f":"cálculos1!P65","v":4},0.4,{"$f":"cálculos1!Q65","v":3},0.75]
["Central","São Domingos do Norte",126,58,9,{"$f":"E67/D67","v":0.15517241379310345},19,{"$f":"G67/D67","v":0.32758620689655171},44,{"$f":"I67/D67","v":0.75862068965517238},45,{"$f":"K67/D67","v":0.77586206896551724},47,{"$f":"M67/D67","v":0.81034482758620685},48,{"$f":"O67/D67","v":0.82758620689655171},48,{"$f":"Q67/D67","v":0.82758620689655171},50,{"$f":"S67/D67","v":0.86206896551724133},27,{"$f":"U67/D67","v":0.46551724137931033},40,{"$f":"W67/D67","v":0.68965517241379315},24,{"$f":"Y67/D67","v":0.41379310344827586},null,null,{"$f":"cálculos1!P66","v":0},0,{"$f":"cálculos1!Q66","v":0},0]
["Central","São Gabriel da Palha",440,172,36,0.20930232558139536,102,0.59302325581395354,161,0.93604651162790697,163,0.94767441860465118,170,0.98837209302325579,162,0.94186046511627908,169,0.98255813953488369,146,0.84883720930232553,115,0.66860465116279066,153,0.88953488372093026,84,0.48837209302325579,null,null,{"$f":"cálculos1!P67","v":3},{"$f":"AC68*0.1","v":0.30000000000000004},{"$f":"cálculos1!Q67","v":1},{"$f":"AE68*0.25","v":0.25}]
["Sul","São José do Calçado",101,44,26,0.59090909090909094,33,0.75,58,1.3181818181818181,57,1.2954545454545454,45,1.0227272727272727,39,0.88636363636363635,52,1.1818181818181819,39,0.88636363636363635,40,0.90909090909090906,57,1.2954545454545454,34,0.77272727272727271,null,null,{"$f":"cálculos1!P68","v":5},0.5,{"$f":"cálculos1!Q68","v":4},1]
["Norte","São Mateus",1742,613,921,1.5024469820554649,1104,1.8009787928221859,727,1.1859706362153344,715,1.166394779771615,709,1.1566068515497554,658,1.0734094616639478,658,1.0734094616639478,537,0.87601957585644374,527,0.85970636215334417,644,1.0505709624796085,330,0.53833605220228387,null,null,{"$f":"cálculos1!P69","v":7},0.70000000000000007,{"$f":"cálculos1!Q69","v":4},1]
["Central","São Roque do Canaã",131,77,18,0.23376623376623376,22,0.2857142857142857,39,0.50649350649350644,38,0.4935064935064935,38,0.4935064935064935,43,0.55844155844155841,41,0.53246753246753242,54,0.70129870129870131,43,0.55844155844155841,64,0.83116883116883122,28,0.36363636363636365,null,null,{"$f":"cálculos1!P70","v":0},0,{"$f":"cálculos1!Q70","v":0},0]
["Metropolitana","Serra",7393,3287,3023,0.91968360206875566,3412,1.0380285975053241,2600,0.79099482811073929,2585,0.7864313964101004,2507,0.76270155156677821,2458,0.74779434134469125,2481,0.75479160328567085,2159,0.65682993611195617,1081,0.32887131122604196,2536,0.77152418618801344,841,0.25585640401581988,null,null,{"$f":"cálculos1!P71","v":1},0.1,{"$f":"cálculos1!Q71","v":0},0]
["Central","Sooretama",439,196,9,4.5918367346938778E-2,10,5.1020408163265307E-2,166,0.84693877551020413,169,0.86224489795918369,152,0.77551020408163263,150,0.76530612244897955,140,0.7142857142857143,158,0.80612244897959184,160,0.81632653061224492,163,0.83163265306122447,72,0.36734693877551022,null,null,{"$f":"cálculos1!P72","v":0},0,{"$f":"cálculos1!Q72","v":0},0]
["Sul","Vargem Alta",265,121,2,1.6528925619834711E-2,10,8.2644628099173556E-2,90,0.74380165289256195,90,0.74380165289256195,98,0.80991735537190079,102,0.84297520661157022,100,0.82644628099173556,94,0.77685950413223137,94,0.77685950413223137,112,0.92561983471074383,55,0.45454545454545453,null,null,{"$f":"cálculos1!P73","v":0},0,{"$f":"cálculos1!Q73","v":0},0]
["Metropolitana","Venda Nova do Imigrante",392,162,15,9.2592592592592587E-2,172,1.0617283950617284,168,1.037037037037037,168,1.037037037037037,149,0.91975308641975306,145,0.89506172839506171,155,0.95679012345679015,164,1.0123456790123457,106,0.65432098765432101,173,1.0679012345679013,65,0.40123456790123457,null,null,{"$f":"cálculos1!P74","v":6},0.60000000000000009,{"$f":"cálculos1!Q74","v":3},0.75]
["Metropolitana","Viana",980,430,69,0.16046511627906976,81,0.1883720930232558,369,0.85813953488372097,356,0.82790697674418601,373,0.86744186046511629,355,0.82558139534883723,371,0.86279069767441863,265,0.61627906976744184,286,0.66511627906976745,368,0.85581395348837208,134,0.3116279069767442,null,null,{"$f":"cálculos1!P75","v":0},0,{"$f":"cálculos1!Q75","v":0},0]
["Norte","Vila Pavão",91,43,9,0.20930232558139536,26,0.60465116279069764,37,0.86046511627906974,36,0.83720930232558144,33,0.76744186046511631,33,0.76744186046511631,35,0.81395348837209303,47,1.0930232558139534,46,1.069767441860465,61,1.4186046511627908,29,0.67441860465116277,null,null,{"$f":"cálculos1!P76","v":3},0.30000000000000004,{"$f":"cálculos1!Q76","v":1},0.25]
["Central","Vila Valério",259,121,11,9.0909090909090912E-2,28,0.23140495867768596,86,0.71074380165289253,80,0.66115702479338845,81,0.66942148760330578,89,0.73553719008264462,93,0.76859504132231404,87,0.71900826446280997,79,0.65289256198347112,86,0.71074380165289253,53,0.43801652892561982,null,null,{"$f":"cálculos1!P77","v":0},0,{"$f":"cálculos1!Q77","v":0},0]
["Metropolitana","Vila Velha",5698,2372,1504,0.63406408094435074,1819,0.76686340640809447,1876,0.79089376053962901,1874,0.7900505902192243,1870,0.78836424957841489,1903,0.80227655986509272,1907,0.80396290050590224,1598,0.67369308600337263,1321,0.55691399662731866,1959,0.82588532883642496,853,0.35961214165261385,null,null,{"$f":"cálculos1!P78","v":0},0,{"$f":"cálculos1!Q78","v":0},0]
["Metropolitana","Vitória",3748,1596,2063,1.2926065162907268,2814,1.763157894736842,1598,1.0012531328320802,1599,1.0018796992481203,1389,0.87030075187969924,1426,0.89348370927318299,1492,0.93483709273182958,1146,0.71804511278195493,1509,0.94548872180451127,1424,0.89223057644110271,719,0.45050125313283207,null,null,{"$f":"cálculos1!P79","v":3},0.30000000000000004,{"$f":"cálculos1!Q79","v":2},0.5]
[]
[null,"Total Norte",{"$f":"SUMIF($A$3:$A$80,\"Norte\",C$3:C$80)","v":5520},{"$f":"SUMIF($A$3:$A$80,\"Norte\",D$3:D$80)","v":2196},{"$f":"SUMIF($A$3:$A$80,\"Norte\",E$3:E$80)","v":1338},{"$f":"E82/D82","v":0.60928961748633881},{"$f":"SUMIF($A$3:$A$80,\"Norte\",G$3:G$80)","v":1864},{"$f":"G82/D82","v":0.84881602914389798},{"$f":"SUMIF($A$3:$A$80,\"Norte\",I$3:I$80)","v":2270},{"$f":"I82/D82","v":1.0336976320582878},{"$f":"SUMIF($A$3:$A$80,\"Norte\",K$3:K$80)","v":2273},{"$f":"K82/D82","v":1.0350637522768671},{"$f":"SUMIF($A$3:$A$80,\"Norte\",M$3:M$80)","v":2182},{"$f":"M82/D82","v":0.99362477231329693},{"$f":"SUMIF($A$3:$A$80,\"Norte\",O$3:O$80)","v":2108},{"$f":"O82/D82","v":0.95992714025500914},{"$f":"SUMIF($A$3:$A$80,\"Norte\",Q$3:Q$80)","v":2144},{"$f":"Q82/D82","v":0.97632058287795997},{"$f":"SUMIF($A$3:$A$80,\"Norte\",S$3:S$80)","v":2028},{"$f":"S82/D82","v":0.92349726775956287},{"$f":"SUMIF($A$3:$A$80,\"Norte\",U$3:U$80)","v":1757},{"$f":"U82/D82","v":0.80009107468123863},{"$f":"SUMIF($A$3:$A$80,\"Norte\",W$3:W$80)","v":2266},{"$f":"W82/D82","v":1.0318761384335156},{"$f":"SUMIF($A$3:$A$80,\"Norte\",Y$3:Y$80)","v":1269},{"$f":"Y82/D82","v":0.57786885245901642},null,null,{"$f":"cálculos1!P81","v":6},{"$f":"AC82*0.1","v":0.60000000000000009},{"$f":"cálculos1!Q81","v":4},1]
[null,"Total Central",{"$f":"SUMIF($A$3:$A$80,\"Central\",C$3:C$80)","v":7184},{"$f":"SUMIF($A$3:$A$80,\"Central\",D$3:D$80)","v":3107},{"$f":"SUMIF($A$3:$A$80,\"Central\",E$3:E$80)","v":2552},{"$f":"E83/D83","v":0.8213710975217251},{"$f":"SUMIF($A$3:$A$80,\"Central\",G$3:G$80)","v":3064},{"$f":"G83/D83","v":0.98616028323141292},{"$f":"SUMIF($A$3:$A$80,\"Central\",I$3:I$80)","v":2631},{"$f":"I83/D83","v":0.84679755391052458},{"$f":"SUMIF($A$3:$A$80,\"Central\",K$3:K$80)","v":2605},{"$f":"K83/D83","v":0.83842935307370459},{"$f":"SUMIF($A$3:$A$80,\"Central\",M$3:M$80)","v":2574},{"$f":"M83/D83","v":0.82845188284518834},{"$f":"SUMIF($A$3:$A$80,\"Central\",O$3:O$80)","v":2571},{"$f":"O83/D83","v":0.82748632121017063},{"$f":"SUMIF($A$3:$A$80,\"Central\",Q$3:Q$80)","v":2565},{"$f":"Q83/D83","v":0.82555519794013521},{"$f":"SUMIF($A$3:$A$80,\"Central\",S$3:S$80)","v":2408},{"$f":"S83/D83","v":0.77502413904087541},{"$f":"SUMIF($A$3:$A$80,\"Central\",U$3:U$80)","v":1991},{"$f":"U83/D83","v":0.6408110717734149},{"$f":"SUMIF($A$3:$A$80,\"Central\",W$3:W$80)","v":2640},{"$f":"W83/D83","v":0.84969423881557771},{"$f":"SUMIF($A$3:$A$80,\"Central\",Y$3:Y$80)","v":1424},{"$f":"Y83/D83","v":0.45831992275506922},null,null,{"$f":"cálculos1!P82","v":1},{"$f":"AC83*0.1","v":0.1},{"$f":"cálculos1!Q82","v":0},0]
[null,"Total Metropolitana",{"$f":"SUMIF($A$3:$A$80,\"Metropolitana\",C$3:C$80)","v":30042},{"$f":"SUMIF($A$3:$A$80,\"Metropolitana\",D$3:D$80)","v":12909},{"$f":"SUMIF($A$3:$A$80,\"Metropolitana\",E$3:E$80)","v":8967},{"$f":"E84/D84","v":0.69463165233557977},{"$f":"SUMIF($A$3:$A$80,\"Metropolitana\",G$3:G$80)","v":11421},{"$f":"G84/D84","v":0.88473158261677898},{"$f":"SUMIF($A$3:$A$80,\"Metropolitana\",I$3:I$80)","v":10959},{"$f":"I84/D84","v":0.84894259818731121},{"$f":"SUMIF($A$3:$A$80,\"Metropolitana\",K$3:K$80)","v":10875},{"$f":"K84/D84","v":0.84243551010922613},{"$f":"SUMIF($A$3:$A$80,\"Metropolitana\",M$3:M$80)","v":10682},{"$f":"M84/D84","v":0.82748470059648305},{"$f":"SUMIF($A$3:$A$80,\"Metropolitana\",O$3:O$80)","v":10570},{"$f":"O84/D84","v":0.81880858315903637},{"$f":"SUMIF($A$3:$A$80,\"Metropolitana\",Q$3:Q$80)","v":10757},{"$f":"Q84/D84","v":0.83329460066620187},{"$f":"SUMIF($A$3:$A$80,\"Metropolitana\",S$3:S$80)","v":9184},{"$f":"S84/D84","v":0.71144162987063286},{"$f":"SUMIF($A$3:$A$80,\"Metropolitana\",U$3:U$80)","v":7920},{"$f":"U84/D84","v":0.61352544736230541},{"$f":"SUMIF($A$3:$A$80,\"Metropolitana\",W$3:W$80)","v":11156},{"$f":"W84/D84","v":0.86420326903710587},{"$f":"SUMIF($A$3:$A$80,\"Metropolitana\",Y$3:Y$80)","v":5060},{"$f":"Y84/D84","v":0.39197459137036178},null,null,{"$f":"cálculos1!P83","v":0},0,{"$f":"cálculos1!Q83","v":0},0]
[null,"Total Sul",{"$f":"SUMIF($A$3:$A$80,\"sul\",C$3:C$80)","v":8420},{"$f":"SUMIF($A$3:$A$80,\"sul\",D$3:D$80)","v":3575},{"$f":"SUMIF($A$3:$A$80,\"Sul\",E$3:E$80)","v":2595},{"$f":"E85/D85","v":0.72587412587412592},{"$f":"SUMIF($A$3:$A$80,\"Sul\",G$3:G$80)","v":3369},{"$f":"G85/D85","v":0.94237762237762235},{"$f":"SUMIF($A$3:$A$80,\"Sul\",I$3:I$80)","v":3321},{"$f":"I85/D85","v":0.92895104895104896},{"$f":"SUMIF($A$3:$A$80,\"Sul\",K$3:K$80)","v":3296},{"$f":"K85/D85","v":0.92195804195804198},{"$f":"SUMIF($A$3:$A$80,\"Sul\",M$3:M$80)","v":3282},{"$f":"M85/D85","v":0.91804195804195809},{"$f":"SUMIF($A$3:$A$80,\"Sul\",O$3:O$80)","v":3193},{"$f":"O85/D85","v":0.89314685314685316},{"$f":"SUMIF($A$3:$A$80,\"Sul\",Q$3:Q$80)","v":3177},{"$f":"Q85/D85","v":0.8886713286713287},{"$f":"SUMIF($A$3:$A$80,\"Sul\",S$3:S$80)","v":2740},{"$f":"S85/D85","v":0.76643356643356642},{"$f":"SUMIF($A$3:$A$80,\"Sul\",U$3:U$80)","v":2752},{"$f":"U85/D85","v":0.76979020979020985},{"$f":"SUMIF($A$3:$A$80,\"Sul\",W$3:W$80)","v":3531},{"$f":"W85/D85","v":0.98769230769230765},{"$f":"SUMIF($A$3:$A$80,\"Sul\",Y$3:Y$80)","v":1635},{"$f":"Y85/D85","v":0.45734265734265733},null,null,{"$f":"cálculos1!P84","v":2},0.2,{"$f":"cálculos1!Q84","v":1},0.25]
[null,"Total Espírito Santo",{"$f":"SUM(C3:C80)","v":51166},{"$f":"SUM(D3:D80)","v":21787},{"$f":"SUM(E82:E85)","v":15452},{"$f":"E86/D86","v":0.70923027493459401},{"$f":"SUM(G82:G85)","v":19718},{"$f":"G86/D86","v":0.90503511268187453},{"$f":"SUM(I82:I85)","v":19181},{"$f":"I86/D86","v":0.88038738697388352},{"$f":"SUM(K82:K85)","v":19049},{"$f":"K86/D86","v":0.87432872814063434},{"$f":"SUM(M82:M85)","v":18720},{"$f":"M86/D86","v":0.85922797998806633},{"$f":"SUM(O82:O85)","v":18442},{"$f":"O86/D86","v":0.84646807729379903},{"$f":"SUM(Q82:Q85)","v":18643},{"$f":"Q86/D86","v":0.85569376233533756},{"$f":"SUM(S82:S85)","v":16360},{"$f":"S86/D86","v":0.75090650387845959},{"$f":"SUM(U82:U85)","v":14420},{"$f":"U86/D86","v":0.66186257860191855},{"$f":"SUM(W82:W85)","v":19593},{"$f":"W86/D86","v":0.89929774636250981},{"$f":"SUM(Y82:Y85)","v":9388},{"$f":"Y86/D86","v":0.43089916004957085},null,null,{"$f":"cálculos1!P85","v":1},0.1,{"$f":"cálculos1!Q85","v":0},0]
[null,null,null,null,{"$f":"COUNTIF(F3:F80,\">=0,95\")","v":6},null,{"$f":"COUNTIF(H3:H80,\">=0,9\")","v":11},null,{"$f":"COUNTIF(J3:J80,\">=0,95\")","v":36},null,{"$f":"COUNTIF(L3:L80,\">=0,95\")","v":38},null,{"$f":"COUNTIF(N3:N80,\">=0,95\")","v":33},null,{"$f":"COUNTIF(P3:P80,\">=0,9\")","v":38},null,{"$f":"COUNTIF(R3:R80,\">=0,95\")","v":34},null,{"$f":"COUNTIF(T3:T80,\">=0,95\")","v":27},null,{"$f":"COUNTIF(V3:V80,\">=0,95\")","v":12},null,{"$f":"COUNTIF(X3:X80,\">=0,95\")","v":37},null,{"$f":"COUNTIF(Z3:Z80,\">=0,95\")","v":1}]
[null,"HOMOGENEIDADE ENTRE MUNICÍPIOS",null,null,{"$f":"E87/78","v":7.6923076923076927E-2},null,{"$f":"G87/78","v":0.14102564102564102},null,{"$f":"I87/78","v":0.46153846153846156},null,{"$f":"K87/78","v":0.48717948717948717},null,{"$f":"M87/78","v":0.42307692307692307},null,{"$f":"O87/78","v":0.48717948717948717},null,{"$f":"Q87/78","v":0.4358974358974359},null,{"$f":"S87/78","v":0.34615384615384615},null,{"$f":"U87/78","v":0.15384615384615385},null,{"$f":"W87/78","v":0.47435897435897434},null,{"$f":"Y87/78","v":1.282051282051282E-2}]
[]
[" FonteVacina e Confia, em 04 de Junho de 2024.**"]
["**Dados referente às doses aplicadas no período de Maio de 2024"]
["Cobertura Calculada por município de procedência da vacinação"]
["1 População anual extraída do MS/SVS/DASIS - SINASC/DASIS/SVS/MS 2023 (hoje preliminares) referente ao período de março a dezembro de 2023 e SINASC/DASIS/SVS/MS 2024 referente ao período de janeiro a fevereiro de 2024."]
[]
["² População proporcional extraída do MS/SVS/DASIS - SINASC/DASIS/SVS/MS 2023 (hoje preliminares) referente ao período de março  e abril de 2023 somada a população extraída do SINASC/DASIS/SVS/MS 2024 referente ao período de janeiro e fevereiro de 2024."]
[]
["Observações:"]
["Imunobiológicos que foram recebidos parcialmente pelo estado no mês da análise, sendo distribuídos em quantidades reduzidas às regionais e municípios: Varicela, Febre Amarela e HPV Quadrivalente."]
["Imunobiológicos que não foram recebidos pelo estado no mês da análise, não sendo possível a distribuição às regionais e municípios: Meningo C, Hepatite A (CRIE), HIB, Hepatite A Rotina Pediátrica, DTPa (CRIE)."]
["Imunobiológicos com indisponibilidade de aquisição e distribuição no mês da análise: Tetra Viral."]

{"sheet":"CV Rotina <2A - residência","index":1,"n_rows":101,"n_cols":35,"rows_kept":101,"cut":false,"hidden":false,"merged":[[95,0,95,12],[0,4,0,7],[0,8,0,19],[0,20,0,25],[89,0,89,12],[87,1,87,3],[86,6,86,7],[87,6,87,7],[86,8,86,9],[87,8,87,9],[86,4,86,5],[86,10,86,11],[86,12,86,13],[87,24,87,25],[87,4,87,5],[87,14,87,15],[87,18,87,19],[2,33,2,34],[11,33,11,34],[86,14,86,15],[86,16,86,17],[86,18,86,19],[86,20,86,21],[86,22,86,23],[86,24,86,25],[87,20,87,21],[87,22,87,23],[91,0,92,12],[87,16,87,17],[93,0,94,12],[87,10,87,11],[87,12,87,13],[90,0,90,12]]}
[null,null,null,null,"AO NASCER",null,null,null,"MENOR DE 1 ANO",null,null,null,null,null,null,null,null,null,null,null,"1 ANO"]
["Regional ","Município","¹População < 1 ano e 1 ano anual ","²População < 1 ano e 1 ano proporcional ","Doses Aplicadas HB\n< 30 dias","Cobertura Vacinal HB\naté 30 dias","Doses Aplicadas BCG","Cobertura Vacinal BCG","Doses Aplicadas Pentavalente ","Cobertura Vacinal Pentavalente","Doses Aplicadas Poliomielite ","Cobertura Vacinal Poliomielite ","Doses Aplicadas Pneumo 10","Cobertura Vacinal Pneumo 10","Doses Aplicadas Rotavírus","Cobertura Vacinal Rotavírus","Doses Aplicadas Meningo C","Cobertura Vacinal Meningo C","Doses Aplicadas Febre Amarela","Cobertura Vacinal Febre Amarela","Doses Aplicadas Hepatite A","Cobertura Vacinal Hepatite A","Doses Aplicadas de Tríplice Viral","Cobertura Vacinal Tríplice Viral","Doses Aplicadas Varicela","Cobertura Varicela",null,null,"VACINAS QUE ATINGIRAM A META DE CV","HOMOGENEIDADE ENTRE AS 10 VACINAS","VACINAS DO PQA-VS QUE ATINGIRAM A META DE CV","HOMOGENEIDADE ENTRE AS VACINAS DO PQA-VS"]
["Metropolitana","Afonso Cláudio",374,146,101,{"$f":"E3/D3","v":0.69178082191780821},135,{"$f":"G3/D3","v":0.92465753424657537},159,{"$f":"I3/D3","v":1.0890410958904109},160,{"$f":"K3/D3","v":1.095890410958904},153,{"$f":"M3/D3","v":1.047945205479452},155,{"$f":"O3/D3","v":1.0616438356164384},160,{"$f":"Q3/D3","v":1.095890410958904},149,{"$f":"S3/D3","v":1.0205479452054795},152,{"$f":"U3/D3","v":1.0410958904109588},180,{"$f":"W3/D3","v":1.2328767123287672},77,{"$f":"Y3/D3","v":0.5273972602739726},null,null,{"$f":"cálculos2!P2","v":9},{"$f":"AC3*0.1","v":0.9},{"$f":"cálculos2!Q2","v":4},{"$f":"AE3*0.25","v":1},null,"LEGENDA / HOMOGENEIDADE PQA-VS"]
["Norte","Água Doce do Norte",185,90,68,0.75555555555555554,97,{"$f":"G4/D4","v":1.0777777777777777},69,{"$f":"I4/D4","v":0.76666666666666672},70,{"$f":"K4/D4","v":0.77777777777777779},74,{"$f":"M4/D4","v":0.82222222222222219},73,{"$f":"O4/D4","v":0.81111111111111112},68,{"$f":"Q4/D4","v":0.75555555555555554},57,{"$f":"S4/D4","v":0.6333333333333333},54,0.6,55,0.61111111111111116,24,0.26666666666666666,null,null,{"$f":"cálculos2!P3","v":1},{"$f":"AC4*0.1","v":0.1},{"$f":"cálculos2!Q3","v":0},{"$f":"AE4*0.25","v":0},null,"PERCENTUAL","Nº DE MUNICÍPIOS"]
["Central","Águia Branca",165,67,51,0.76119402985074625,73,1.0895522388059702,72,1.0746268656716418,72,1.0746268656716418,70,1.044776119402985,68,1.0149253731343284,73,1.0895522388059702,60,0.89552238805970152,47,0.70149253731343286,49,0.73134328358208955,23,0.34328358208955223,null,null,{"$f":"cálculos2!P4","v":6},0.60000000000000009,{"$f":"cálculos2!Q4","v":3},0.75,null,0,{"$f":"COUNTIF($AF$3:$AF$80,\"=0\")","v":29}]
["Sul","Alegre",330,135,103,0.76296296296296295,125,0.92592592592592593,130,0.96296296296296291,138,1.0222222222222221,133,0.98518518518518516,130,0.96296296296296291,133,0.98518518518518516,135,1,105,0.77777777777777779,132,0.97777777777777775,50,0.37037037037037035,null,null,{"$f":"cálculos2!P5","v":8},0.8,{"$f":"cálculos2!Q5","v":4},1,null,0.25,{"$f":"COUNTIF($AF$3:$AF$80,\"=0,25\")","v":8}]
["Sul","Alfredo Chaves",148,59,30,0.50847457627118642,44,0.74576271186440679,67,1.1355932203389831,66,1.1186440677966101,72,1.2203389830508475,74,1.2542372881355932,66,1.1186440677966101,60,1.0169491525423728,50,0.84745762711864403,71,1.2033898305084745,41,0.69491525423728817,null,null,{"$f":"cálculos2!P6","v":7},0.70000000000000007,{"$f":"cálculos2!Q6","v":4},1,null,0.5,{"$f":"COUNTIF($AF$3:$AF$80,\"=0,5\")","v":9}]
["Central","Alto Rio Novo",84,27,21,0.77777777777777779,33,1.2222222222222223,40,1.4814814814814814,40,1.4814814814814814,37,1.3703703703703705,38,1.4074074074074074,39,1.4444444444444444,31,1.1481481481481481,33,1.2222222222222223,37,1.3703703703703705,16,0.59259259259259256,null,null,{"$f":"cálculos2!P7","v":9},0.9,{"$f":"cálculos2!Q7","v":4},1,null,0.75,{"$f":"COUNTIF($AF$3:$AF$80,\"=0,75\")","v":6}]
["Sul","Anchieta",389,169,114,0.67455621301775148,144,0.85207100591715978,182,1.0769230769230769,184,1.0887573964497042,165,0.97633136094674555,165,0.97633136094674555,176,1.0414201183431953,128,0.75739644970414199,142,0.84023668639053251,165,0.97633136094674555,84,0.49704142011834318,null,null,{"$f":"cálculos2!P8","v":6},0.60000000000000009,{"$f":"cálculos2!Q8","v":4},1,null,1,{"$f":"COUNTIF($AF$3:$AF$80,\"=1,0\")","v":26}]
["Sul","Apiacá",71,37,14,0.3783783783783784,31,0.83783783783783783,23,0.6216216216216216,23,0.6216216216216216,24,0.64864864864864868,23,0.6216216216216216,23,0.6216216216216216,23,0.6216216216216216,10,0.27027027027027029,25,0.67567567567567566,6,0.16216216216216217,null,null,{"$f":"cálculos2!P9","v":0},0,{"$f":"cálculos2!Q9","v":0},0]
["Metropolitana","Aracruz",1465,634,484,0.76340694006309151,590,0.93059936908517349,534,0.8422712933753943,531,0.83753943217665616,549,0.86593059936908512,546,0.86119873817034698,553,0.87223974763406942,494,0.77917981072555209,592,0.93375394321766558,635,1.001577287066246,363,0.5725552050473186,null,null,{"$f":"cálculos2!P10","v":2},0.2,{"$f":"cálculos2!Q10","v":1},0.25]
["Sul","Atilio Vivacqua",138,64,40,0.625,51,0.796875,48,0.75,47,0.734375,50,0.78125,50,0.78125,46,0.71875,40,0.625,49,0.765625,63,0.984375,31,0.484375,null,null,{"$f":"cálculos2!P11","v":1},0.1,{"$f":"cálculos2!Q11","v":1},0.25,null,"LEGENDA / HOMOGENEIDADE 10 VACINAS"]
["Central","Baixo Guandu",388,163,103,0.63190184049079756,156,0.95705521472392641,153,0.93865030674846628,154,0.94478527607361962,164,1.0061349693251533,159,0.97546012269938653,171,1.0490797546012269,130,0.7975460122699386,157,0.96319018404907975,186,1.1411042944785277,97,0.59509202453987731,null,null,{"$f":"cálculos2!P12","v":6},0.60000000000000009,{"$f":"cálculos2!Q12","v":2},0.5,null,"PERCENTUAL","Nº DE MUNICÍPIOS"]
["Norte","Barra de São Francisco",553,241,162,0.67219917012448138,219,0.90871369294605808,209,0.86721991701244816,204,0.84647302904564314,216,0.89626556016597514,207,0.85892116182572609,218,0.9045643153526971,200,0.82987551867219922,182,0.75518672199170123,225,0.93360995850622408,148,0.61410788381742742,null,null,{"$f":"cálculos2!P13","v":1},0.1,{"$f":"cálculos2!Q13","v":0},0,null,0,{"$f":"COUNTIF($AD$3:$AD$80,\"=0\")","v":19}]
["Norte","Boa Esperança",189,77,40,0.51948051948051943,68,0.88311688311688308,69,0.89610389610389607,77,1,79,1.025974025974026,82,1.0649350649350648,82,1.0649350649350648,74,0.96103896103896103,61,0.79220779220779225,90,1.1688311688311688,53,0.68831168831168832,null,null,{"$f":"cálculos2!P14","v":6},0.60000000000000009,{"$f":"cálculos2!Q14","v":3},0.75,null,0.1,{"$f":"COUNTIFS($AD$3:$AD$80,\">=0,10\",$AD$3:$AD$80,\"<0,20\")","v":9}]
["Sul","Bom Jesus do Norte",84,37,22,0.59459459459459463,33,0.89189189189189189,52,1.4054054054054055,50,1.3513513513513513,42,1.1351351351351351,40,1.0810810810810811,40,1.0810810810810811,43,1.1621621621621621,8,0.21621621621621623,39,1.0540540540540539,5,0.13513513513513514,null,null,{"$f":"cálculos2!P15","v":7},0.70000000000000007,{"$f":"cálculos2!Q15","v":4},1,null,0.2,{"$f":"COUNTIFS($AD$3:$AD$80,\">=0,20\",$AD$3:$AD$80,\"<0,30\")","v":7}]
["Metropolitana","Brejetuba",214,87,26,0.2988505747126437,82,0.94252873563218387,78,0.89655172413793105,78,0.89655172413793105,77,0.88505747126436785,82,0.94252873563218387,70,0.8045977011494253,84,0.96551724137931039,74,0.85057471264367812,77,0.88505747126436785,41,0.47126436781609193,null,null,{"$f":"cálculos2!P16","v":3},0.30000000000000004,{"$f":"cálculos2!Q16","v":0},0,null,0.3,{"$f":"COUNTIFS($AD$3:$AD$80,\">=0,30\",$AD$3:$AD$80,\"<0,40\")","v":3}]
["Sul","Cachoeiro de Itapemirim",2460,1105,947,0.85701357466063344,1169,1.0579185520361991,900,0.81447963800904977,886,0.80180995475113126,877,0.79366515837104068,870,0.78733031674208143,834,0.75475113122171944,717,0.64886877828054301,777,0.70316742081447969,977,0.88416289592760178,416,0.37647058823529411,null,null,{"$f":"cálculos2!P17","v":1},0.1,{"$f":"cálculos2!Q17","v":0},0,null,0.4,{"$f":"COUNTIFS($AD$3:$AD$80,\">=0,40\",$AD$3:$AD$80,\"<0,50\")","v":6}]
["Metropolitana","Cariacica",4873,2069,1458,0.70468825519574674,1728,0.83518608023199614,1809,0.87433542774287099,1783,0.86176897051715806,1819,0.87916868052199126,1742,0.84195263412276466,1754,0.84775253745770907,1461,0.70613823102948281,1236,0.59739004349927505,1901,0.91880135331077817,830,0.40115998066698888,null,null,{"$f":"cálculos2!P18","v":0},0,{"$f":"cálculos2!Q18","v":0},0,null,0.5,{"$f":"COUNTIFS($AD$3:$AD$80,\">=0,50\",$AD$3:$AD$80,\"<0,60\")","v":3}]
["Sul","Castelo",443,192,132,0.6875,156,0.8125,173,0.90104166666666663,174,0.90625,174,0.90625,169,0.88020833333333337,167,0.86979166666666663,159,0.828125,134,0.69791666666666663,196,1.0208333333333333,92,0.47916666666666669,null,null,{"$f":"cálculos2!P19","v":1},0.1,{"$f":"cálculos2!Q19","v":1},0.25,null,0.6,{"$f":"COUNTIFS($AD$3:$AD$80,\">=0,60\",$AD$3:$AD$80,\"<0,70\")","v":10}]
["Central","Colatina",1561,669,538,0.80418535127055302,680,1.0164424514200299,581,0.86846038863976083,567,0.84753363228699552,560,0.83707025411061287,560,0.83707025411061287,560,0.83707025411061287,531,0.79372197309417036,322,0.48131539611360241,595,0.88938714499252614,309,0.46188340807174888,null,null,{"$f":"cálculos2!P20","v":1},0.1,{"$f":"cálculos2!Q20","v":0},0,null,0.7,{"$f":"COUNTIFS($AD$3:$AD$80,\">=0,70\",$AD$3:$AD$80,\"<0,80\")","v":9}]
["Norte","Conceição da Barra",342,131,68,0.51908396946564883,78,0.59541984732824427,145,1.1068702290076335,149,1.1374045801526718,154,1.1755725190839694,148,1.1297709923664123,156,1.1908396946564885,147,1.1221374045801527,113,0.86259541984732824,160,1.2213740458015268,87,0.66412213740458015,null,null,{"$f":"cálculos2!P21","v":7},0.70000000000000007,{"$f":"cálculos2!Q21","v":4},1,null,0.8,{"$f":"COUNTIFS($AD$3:$AD$80,\">=0,80\",$AD$3:$AD$80,\"<0,90\")","v":6}]
["Metropolitana","Conceição do Castelo",169,78,13,0.16666666666666666,56,0.71794871794871795,55,0.70512820512820518,52,0.66666666666666663,45,0.57692307692307687,44,0.5641025641025641,45,0.57692307692307687,56,0.71794871794871795,54,0.69230769230769229,54,0.69230769230769229,41,0.52564102564102566,null,null,{"$f":"cálculos2!P22","v":0},0,{"$f":"cálculos2!Q22","v":0},0,null,0.9,{"$f":"COUNTIFS($AD$3:$AD$80,\">=0,90\",$AD$3:$AD$80,\"<1,0\")","v":6}]
["Sul","Divino de São Lourenço",65,25,26,1.04,35,1.4,30,1.2,29,1.1599999999999999,32,1.28,32,1.28,34,1.36,23,0.92,21,0.84,18,0.72,18,0.72,null,null,{"$f":"cálculos2!P23","v":6},0.60000000000000009,{"$f":"cálculos2!Q23","v":3},0.75,null,1,{"$f":"COUNTIF($AD$3:$AD$80,\">=1,0\")","v":0}]
["Metropolitana","Domingos Martins",417,186,102,0.54838709677419351,146,0.78494623655913975,152,0.81720430107526887,151,0.81182795698924726,169,0.90860215053763438,164,0.88172043010752688,155,0.83333333333333337,140,0.75268817204301075,134,0.72043010752688175,173,0.93010752688172038,145,0.77956989247311825,null,null,{"$f":"cálculos2!P24","v":0},0,{"$f":"cálculos2!Q24","v":0},0]
["Sul","Dores do Rio Preto",89,34,16,0.47058823529411764,26,0.76470588235294112,36,1.0588235294117647,39,1.1470588235294117,43,1.2647058823529411,41,1.2058823529411764,41,1.2058823529411764,35,1.0294117647058822,25,0.73529411764705888,44,1.2941176470588236,13,0.38235294117647056,null,null,{"$f":"cálculos2!P25","v":7},0.70000000000000007,{"$f":"cálculos2!Q25","v":4},1]
["Norte","Ecoporanga",266,125,105,0.84,130,1.04,102,0.81599999999999995,100,0.8,95,0.76,91,0.72799999999999998,95,0.76,97,0.77600000000000002,91,0.72799999999999998,107,0.85599999999999998,75,0.6,null,null,{"$f":"cálculos2!P26","v":1},0.1,{"$f":"cálculos2!Q26","v":0},0]
["Metropolitana","Fundão",221,94,60,0.63829787234042556,73,0.77659574468085102,99,1.053191489361702,96,1.0212765957446808,82,0.87234042553191493,83,0.88297872340425532,82,0.87234042553191493,85,0.9042553191489362,74,0.78723404255319152,85,0.9042553191489362,59,0.62765957446808507,null,null,{"$f":"cálculos2!P27","v":2},0.2,{"$f":"cálculos2!Q27","v":2},0.5]
["Central","Governador Lindenberg",150,72,36,0.5,46,0.63888888888888884,54,0.75,52,0.72222222222222221,55,0.76388888888888884,56,0.77777777777777779,51,0.70833333333333337,60,0.83333333333333337,41,0.56944444444444442,53,0.73611111111111116,36,0.5,null,null,{"$f":"cálculos2!P28","v":0},0,{"$f":"cálculos2!Q28","v":0},0]
["Sul","Guaçuí",396,150,103,0.68666666666666665,140,0.93333333333333335,180,1.2,172,1.1466666666666667,163,1.0866666666666667,149,0.99333333333333329,160,1.0666666666666667,137,0.91333333333333333,141,0.94,177,1.18,82,0.54666666666666663,null,null,{"$f":"cálculos2!P29","v":7},0.70000000000000007,{"$f":"cálculos2!Q29","v":4},1]
["Metropolitana","Guarapari",1732,752,480,0.63829787234042556,673,0.89494680851063835,621,0.82579787234042556,601,0.79920212765957444,639,0.84973404255319152,617,0.82047872340425532,633,0.8417553191489362,481,0.6396276595744681,514,0.68351063829787229,624,0.82978723404255317,371,0.49335106382978722,null,null,{"$f":"cálculos2!P30","v":0},0,{"$f":"cálculos2!Q30","v":0},0]
["Metropolitana","Ibatiba",362,153,68,0.44444444444444442,146,0.95424836601307195,153,1,153,1,144,0.94117647058823528,139,0.90849673202614378,159,1.0392156862745099,138,0.90196078431372551,118,0.77124183006535951,138,0.90196078431372551,33,0.21568627450980393,null,null,{"$f":"cálculos2!P31","v":5},0.5,{"$f":"cálculos2!Q31","v":2},0.5]
["Metropolitana","Ibiraçu",154,70,44,0.62857142857142856,56,0.8,55,0.7857142857142857,53,0.75714285714285712,50,0.7142857142857143,49,0.7,53,0.75714285714285712,57,0.81428571428571428,36,0.51428571428571423,53,0.75714285714285712,22,0.31428571428571428,null,null,{"$f":"cálculos2!P32","v":0},0,{"$f":"cálculos2!Q32","v":0},0]
["Sul","Ibitirama",127,52,37,0.71153846153846156,47,0.90384615384615385,46,0.88461538461538458,43,0.82692307692307687,50,0.96153846153846156,51,0.98076923076923073,43,0.82692307692307687,35,0.67307692307692313,39,0.75,56,1.0769230769230769,31,0.59615384615384615,null,null,{"$f":"cálculos2!P33","v":4},0.4,{"$f":"cálculos2!Q33","v":2},0.5]
["Sul","Iconha",118,47,31,{"$f":"E35/D35","v":0.65957446808510634},33,0.7021276595744681,48,1.0212765957446808,45,0.95744680851063835,47,1,48,1.0212765957446808,42,0.8936170212765957,48,1.0212765957446808,46,{"$f":"U35/D35","v":0.97872340425531912},67,{"$f":"W35/D35","v":1.425531914893617},24,{"$f":"Y35/D35","v":0.51063829787234039},null,null,{"$f":"cálculos2!P34","v":7},0.70000000000000007,{"$f":"cálculos2!Q34","v":4},1]
["Sul","Irupi",197,75,48,0.64,69,0.92,81,1.08,80,1.0666666666666667,91,1.2133333333333334,86,1.1466666666666667,87,1.1599999999999999,72,0.96,74,0.98666666666666669,113,1.5066666666666666,29,0.38666666666666666,null,null,{"$f":"cálculos2!P35","v":9},0.9,{"$f":"cálculos2!Q35","v":4},1]
["Metropolitana","Itaguaçu",135,59,48,0.81355932203389836,63,1.0677966101694916,54,0.9152542372881356,52,0.88135593220338981,51,0.86440677966101698,51,0.86440677966101698,53,0.89830508474576276,55,0.93220338983050843,60,1.0169491525423728,56,0.94915254237288138,43,0.72881355932203384,null,null,{"$f":"cálculos2!P36","v":2},0.2,{"$f":"cálculos2!Q36","v":0},0]
["Sul","Itapemirim",541,201,142,0.70646766169154229,183,0.91044776119402981,189,0.94029850746268662,186,0.92537313432835822,218,1.0845771144278606,192,0.95522388059701491,200,0.99502487562189057,128,0.63681592039800994,190,0.94527363184079605,201,1,112,0.55721393034825872,null,null,{"$f":"cálculos2!P37","v":5},0.5,{"$f":"cálculos2!Q37","v":2},0.5]
["Metropolitana","Itarana",140,65,51,0.7846153846153846,69,1.0615384615384615,49,0.75384615384615383,49,0.75384615384615383,48,0.7384615384615385,46,0.70769230769230773,46,0.70769230769230773,64,0.98461538461538467,27,0.41538461538461541,49,0.75384615384615383,37,0.56923076923076921,null,null,{"$f":"cálculos2!P38","v":2},0.2,{"$f":"cálculos2!Q38","v":0},0]
["Sul","Iúna",474,189,104,0.55026455026455023,135,0.7142857142857143,191,1.0105820105820107,190,1.0052910052910053,190,1.0052910052910053,188,0.99470899470899465,188,0.99470899470899465,175,0.92592592592592593,136,0.71957671957671954,183,0.96825396825396826,87,0.46031746031746029,null,null,{"$f":"cálculos2!P39","v":6},0.60000000000000009,{"$f":"cálculos2!Q39","v":4},1]
["Norte","Jaguaré",489,212,161,0.75943396226415094,195,0.91981132075471694,211,0.99528301886792447,223,1.0518867924528301,188,0.8867924528301887,184,0.86792452830188682,190,0.89622641509433965,182,0.85849056603773588,145,0.68396226415094341,185,0.87264150943396224,103,0.48584905660377359,null,null,{"$f":"cálculos2!P40","v":3},0.30000000000000004,{"$f":"cálculos2!Q40","v":2},0.5]
["Sul","Jerônimo Monteiro",156,59,50,0.84745762711864403,65,1.1016949152542372,71,1.2033898305084745,73,1.2372881355932204,70,1.1864406779661016,69,1.1694915254237288,58,0.98305084745762716,64,1.0847457627118644,49,0.83050847457627119,62,1.0508474576271187,20,0.33898305084745761,null,null,{"$f":"cálculos2!P41","v":8},0.8,{"$f":"cálculos2!Q41","v":4},1]
["Metropolitana","João Neiva",178,70,45,0.6428571428571429,56,0.8,70,1,68,0.97142857142857142,70,1,69,0.98571428571428577,65,0.9285714285714286,69,0.98571428571428577,57,0.81428571428571428,84,1.2,31,0.44285714285714284,null,null,{"$f":"cálculos2!P42","v":6},0.60000000000000009,{"$f":"cálculos2!Q42","v":4},1]
["Metropolitana","Laranja da Terra",96,43,27,0.62790697674418605,34,0.79069767441860461,36,0.83720930232558144,36,0.83720930232558144,29,0.67441860465116277,29,0.67441860465116277,39,0.90697674418604646,51,1.1860465116279071,44,1.0232558139534884,63,1.4651162790697674,43,1,null,null,{"$f":"cálculos2!P43","v":4},0.4,{"$f":"cálculos2!Q43","v":1},0.25]
["Central","Linhares",2598,1125,720,0.64,880,0.78222222222222226,922,0.81955555555555559,910,0.80888888888888888,893,0.7937777777777778,909,0.80800000000000005,890,0.7911111111111111,809,0.71911111111111115,698,0.62044444444444447,927,0.82399999999999995,465,0.41333333333333333,null,null,{"$f":"cálculos2!P44","v":0},0,{"$f":"cálculos2!Q44","v":0},0]
["Central","Mantenópolis",161,78,46,0.58974358974358976,65,0.83333333333333337,56,0.71794871794871795,61,0.78205128205128205,53,0.67948717948717952,51,0.65384615384615385,49,0.62820512820512819,65,0.83333333333333337,51,0.65384615384615385,58,0.74358974358974361,36,0.46153846153846156,null,null,{"$f":"cálculos2!P45","v":0},0,{"$f":"cálculos2!Q45","v":0},0]
["Sul","Marataízes",570,266,191,0.71804511278195493,220,0.82706766917293228,210,0.78947368421052633,211,0.79323308270676696,224,0.84210526315789469,215,0.80827067669172936,219,0.82330827067669177,155,0.58270676691729328,189,0.71052631578947367,233,0.87593984962406013,103,0.38721804511278196,null,null,{"$f":"cálculos2!P46","v":0},0,{"$f":"cálculos2!Q46","v":0},0]
["Metropolitana","Marechal Floriano",227,102,56,0.5490196078431373,69,0.67647058823529416,80,0.78431372549019607,80,0.78431372549019607,93,0.91176470588235292,93,0.91176470588235292,94,0.92156862745098034,67,0.65686274509803921,74,0.72549019607843135,97,0.9509803921568627,61,0.59803921568627449,null,null,{"$f":"cálculos2!P47","v":2},0.2,{"$f":"cálculos2!Q47","v":1},0.25]
["Central","Marilândia",167,61,48,0.78688524590163933,61,1,72,1.180327868852459,72,1.180327868852459,59,0.96721311475409832,62,1.0163934426229508,73,1.1967213114754098,68,1.1147540983606556,59,0.96721311475409832,58,0.95081967213114749,46,0.75409836065573765,null,null,{"$f":"cálculos2!P48","v":9},0.9,{"$f":"cálculos2!Q48","v":4},1]
["Sul","Mimoso do Sul",262,105,68,0.64761904761904765,90,0.8571428571428571,102,0.97142857142857142,101,0.96190476190476193,89,0.84761904761904761,86,0.81904761904761902,100,0.95238095238095233,82,0.78095238095238095,73,0.69523809523809521,95,0.90476190476190477,58,0.55238095238095242,null,null,{"$f":"cálculos2!P49","v":3},0.30000000000000004,{"$f":"cálculos2!Q49","v":2},0.5]
["Norte","Montanha",233,76,47,0.61842105263157898,56,0.73684210526315785,117,1.5394736842105263,118,1.5526315789473684,96,1.263157894736842,97,1.2763157894736843,100,1.3157894736842106,101,1.3289473684210527,96,1.263157894736842,99,1.3026315789473684,68,0.89473684210526316,null,null,{"$f":"cálculos2!P50","v":8},0.8,{"$f":"cálculos2!Q50","v":4},1]
["Norte","Mucurici",68,21,11,0.52380952380952384,15,0.7142857142857143,34,1.6190476190476191,34,1.6190476190476191,36,1.7142857142857142,36,1.7142857142857142,34,1.6190476190476191,36,1.7142857142857142,21,1,37,1.7619047619047619,20,0.95238095238095233,null,null,{"$f":"cálculos2!P51","v":9},0.9,{"$f":"cálculos2!Q51","v":4},1]
["Sul","Muniz Freire",210,86,61,0.70930232558139539,89,1.0348837209302326,100,1.1627906976744187,95,1.1046511627906976,99,1.1511627906976745,97,1.1279069767441861,91,1.058139534883721,91,1.058139534883721,82,0.95348837209302328,101,1.1744186046511629,45,0.52325581395348841,null,null,{"$f":"cálculos2!P52","v":9},0.9,{"$f":"cálculos2!Q52","v":4},1]
["Sul","Muqui",163,60,43,0.71666666666666667,64,1.0666666666666667,74,1.2333333333333334,75,1.25,57,0.95,55,0.91666666666666663,64,1.0666666666666667,72,1.2,53,0.8833333333333333,63,1.05,34,0.56666666666666665,null,null,{"$f":"cálculos2!P53","v":8},0.8,{"$f":"cálculos2!Q53","v":4},1]
["Norte","Nova Venécia",681,301,112,0.37209302325581395,264,0.87707641196013286,288,0.95681063122923593,289,0.96013289036544847,258,0.8571428571428571,247,0.82059800664451832,264,0.87707641196013286,269,0.89368770764119598,224,0.7441860465116279,271,0.90033222591362128,169,0.56146179401993357,null,null,{"$f":"cálculos2!P54","v":2},0.2,{"$f":"cálculos2!Q54","v":2},0.5]
["Central","Pancas",216,91,68,0.74725274725274726,87,0.95604395604395609,101,1.1098901098901099,100,1.098901098901099,92,1.0109890109890109,90,0.98901098901098905,100,1.098901098901099,87,0.95604395604395609,84,0.92307692307692313,88,0.96703296703296704,76,0.8351648351648352,null,null,{"$f":"cálculos2!P55","v":8},0.8,{"$f":"cálculos2!Q55","v":4},1]
["Norte","Pedro Canário",305,132,62,0.46969696969696972,72,0.54545454545454541,141,1.0681818181818181,138,1.0454545454545454,113,0.85606060606060608,108,0.81818181818181823,126,0.95454545454545459,127,0.96212121212121215,98,0.74242424242424243,163,1.2348484848484849,97,0.73484848484848486,null,null,{"$f":"cálculos2!P56","v":5},0.5,{"$f":"cálculos2!Q56","v":3},0.75]
["Norte","Pinheiros",301,109,49,0.44954128440366975,53,0.48623853211009177,134,1.2293577981651376,133,1.2201834862385321,122,1.1192660550458715,117,1.073394495412844,116,1.0642201834862386,119,1.0917431192660549,95,0.87155963302752293,137,1.2568807339449541,51,0.46788990825688076,null,null,{"$f":"cálculos2!P57","v":7},0.70000000000000007,{"$f":"cálculos2!Q57","v":4},1]
["Sul","Piúma",309,122,85,0.69672131147540983,106,0.86885245901639341,119,0.97540983606557374,118,0.96721311475409832,117,0.95901639344262291,108,0.88524590163934425,99,0.81147540983606559,87,0.71311475409836067,92,0.75409836065573765,129,1.0573770491803278,62,0.50819672131147542,null,null,{"$f":"cálculos2!P58","v":4},0.4,{"$f":"cálculos2!Q58","v":4},1]
["Norte","Ponto Belo",75,25,13,0.52,19,0.76,18,0.72,18,0.72,26,1.04,25,1,23,0.92,28,1.1200000000000001,15,0.6,26,1.04,15,0.6,null,null,{"$f":"cálculos2!P59","v":4},0.4,{"$f":"cálculos2!Q59","v":2},0.5]
["Sul","Presidente Kennedy",194,94,76,0.80851063829787229,94,1,68,0.72340425531914898,72,0.76595744680851063,60,0.63829787234042556,61,0.64893617021276595,60,0.63829787234042556,66,0.7021276595744681,68,0.72340425531914898,95,1.0106382978723405,47,0.5,null,null,{"$f":"cálculos2!P60","v":2},0.2,{"$f":"cálculos2!Q60","v":1},0.25]
["Central","Rio Bananal",299,130,86,0.66153846153846152,102,0.7846153846153846,106,0.81538461538461537,106,0.81538461538461537,95,0.73076923076923073,101,0.77692307692307694,101,0.77692307692307694,120,0.92307692307692313,107,0.82307692307692304,122,0.93846153846153846,70,0.53846153846153844,null,null,{"$f":"cálculos2!P61","v":0},0,{"$f":"cálculos2!Q61","v":0},0]
["Sul","Rio Novo do Sul",120,47,30,0.63829787234042556,34,0.72340425531914898,49,1.0425531914893618,47,1,49,1.0425531914893618,51,1.0851063829787233,47,1,47,1,36,0.76595744680851063,45,0.95744680851063835,31,0.65957446808510634,null,null,{"$f":"cálculos2!P62","v":7},0.70000000000000007,{"$f":"cálculos2!Q62","v":4},1]
["Metropolitana","Santa Leopoldina",93,32,15,0.46875,22,0.6875,44,1.375,43,1.34375,38,1.1875,40,1.25,49,1.53125,40,1.25,47,1.46875,57,1.78125,14,0.4375,null,null,{"$f":"cálculos2!P63","v":8},0.8,{"$f":"cálculos2!Q63","v":4},1]
["Metropolitana","Santa Maria de Jetibá",682,302,183,0.60596026490066224,225,0.74503311258278149,226,0.7483443708609272,226,0.7483443708609272,240,0.79470198675496684,245,0.8112582781456954,227,0.7516556291390728,216,0.71523178807947019,249,0.82450331125827814,264,0.8741721854304636,126,0.41721854304635764,null,null,{"$f":"cálculos2!P64","v":0},0,{"$f":"cálculos2!Q64","v":0},0]
["Metropolitana","Santa Teresa",299,120,91,0.7583333333333333,116,0.96666666666666667,124,1.0333333333333334,124,1.0333333333333334,127,1.0583333333333333,128,1.0666666666666667,115,0.95833333333333337,113,0.94166666666666665,92,0.76666666666666672,110,0.91666666666666663,81,0.67500000000000004,null,null,{"$f":"cálculos2!P65","v":6},0.60000000000000009,{"$f":"cálculos2!Q65","v":3},0.75]
["Central","São Domingos do Norte",126,58,40,{"$f":"E67/D67","v":0.68965517241379315},46,0.7931034482758621,46,0.7931034482758621,47,0.81034482758620685,48,0.82758620689655171,46,0.7931034482758621,52,0.89655172413793105,46,0.7931034482758621,26,{"$f":"U67/D67","v":0.44827586206896552},39,{"$f":"W67/D67","v":0.67241379310344829},24,{"$f":"Y67/D67","v":0.41379310344827586},null,null,{"$f":"cálculos2!P66","v":0},0,{"$f":"cálculos2!Q66","v":0},0]
["Central","São Gabriel da Palha",440,172,128,0.7441860465116279,188,{"$f":"G68/D68","v":1.0930232558139534},159,{"$f":"I68/D68","v":0.92441860465116277},159,{"$f":"K68/D68","v":0.92441860465116277},167,{"$f":"M68/D68","v":0.97093023255813948},168,{"$f":"O68/D68","v":0.97674418604651159},171,{"$f":"Q68/D68","v":0.9941860465116279},142,{"$f":"S68/D68","v":0.82558139534883723},106,0.61627906976744184,150,0.87209302325581395,75,0.43604651162790697,null,null,{"$f":"cálculos2!P67","v":4},{"$f":"AC68*0.1","v":0.4},{"$f":"cálculos2!Q67","v":1},{"$f":"AE68*0.25","v":0.25}]
["Sul","São José do Calçado",101,44,40,0.90909090909090906,46,1.0454545454545454,56,1.2727272727272727,55,1.25,45,1.0227272727272727,39,0.88636363636363635,50,1.1363636363636365,40,0.90909090909090906,41,0.93181818181818177,54,1.2272727272727273,36,0.81818181818181823,null,null,{"$f":"cálculos2!P68","v":6},0.60000000000000009,{"$f":"cálculos2!Q68","v":4},1]
["Norte","São Mateus",1742,613,730,1.1908646003262642,896,1.4616639477977162,718,1.1712887438825448,705,1.1500815660685155,716,1.1680261011419251,678,1.1060358890701467,662,1.0799347471451877,541,0.88254486133768351,522,0.85154975530179444,642,1.0473083197389885,321,0.52365415986949426,null,null,{"$f":"cálculos2!P69","v":7},0.70000000000000007,{"$f":"cálculos2!Q69","v":4},1]
["Central","São Roque do Canaã",131,77,58,0.75324675324675328,62,0.80519480519480524,35,0.45454545454545453,34,0.44155844155844154,37,0.48051948051948051,39,0.50649350649350644,37,0.48051948051948051,47,0.61038961038961037,42,0.54545454545454541,59,0.76623376623376627,27,0.35064935064935066,null,null,{"$f":"cálculos2!P70","v":0},0,{"$f":"cálculos2!Q70","v":0},0]
["Metropolitana","Serra",7393,3287,2325,0.70733191359902647,2783,0.84666869485853358,2646,0.8049893519926985,2628,0.79951323395193186,2535,0.77121995740797078,2481,0.75479160328567085,2518,0.76604806814724669,2160,0.65713416489199883,1231,0.37450562823243078,2603,0.79190751445086704,935,0.28445390933982356,null,null,{"$f":"cálculos2!P71","v":0},0,{"$f":"cálculos2!Q71","v":0},0]
["Central","Sooretama",439,196,124,0.63265306122448983,139,0.70918367346938771,166,0.84693877551020413,170,0.86734693877551017,152,0.77551020408163263,149,0.76020408163265307,139,0.70918367346938771,150,0.76530612244897955,146,0.74489795918367352,153,0.78061224489795922,80,0.40816326530612246,null,null,{"$f":"cálculos2!P72","v":0},0,{"$f":"cálculos2!Q72","v":0},0]
["Sul","Vargem Alta",265,121,86,0.71074380165289253,109,0.90082644628099173,90,0.74380165289256195,90,0.74380165289256195,98,0.80991735537190079,101,0.83471074380165289,98,0.80991735537190079,88,0.72727272727272729,96,0.79338842975206614,113,0.93388429752066116,60,0.49586776859504134,null,null,{"$f":"cálculos2!P73","v":1},0.1,{"$f":"cálculos2!Q73","v":0},0]
["Metropolitana","Venda Nova do Imigrante",392,162,31,0.19135802469135801,133,0.82098765432098764,162,1,163,1.0061728395061729,147,0.90740740740740744,147,0.90740740740740744,160,0.98765432098765427,166,1.0246913580246915,116,0.71604938271604934,159,0.98148148148148151,71,0.43827160493827161,null,null,{"$f":"cálculos2!P74","v":6},0.60000000000000009,{"$f":"cálculos2!Q74","v":3},0.75]
["Metropolitana","Viana",980,430,270,0.62790697674418605,311,0.72325581395348837,379,0.88139534883720927,371,0.86279069767441863,371,0.86279069767441863,351,0.81627906976744191,357,0.83023255813953489,269,0.62558139534883717,286,0.66511627906976745,377,0.87674418604651161,138,0.32093023255813952,null,null,{"$f":"cálculos2!P75","v":0},0,{"$f":"cálculos2!Q75","v":0},0]
["Norte","Vila Pavão",91,43,27,0.62790697674418605,48,1.1162790697674418,35,0.81395348837209303,35,0.81395348837209303,34,0.79069767441860461,33,0.76744186046511631,32,0.7441860465116279,43,1,41,0.95348837209302328,52,1.2093023255813953,23,0.53488372093023251,null,null,{"$f":"cálculos2!P76","v":4},0.4,{"$f":"cálculos2!Q76","v":1},0.25]
["Central","Vila Valério",259,121,64,0.52892561983471076,87,0.71900826446280997,89,0.73553719008264462,85,0.7024793388429752,81,0.66942148760330578,87,0.71900826446280997,90,0.74380165289256195,86,0.71074380165289253,77,0.63636363636363635,83,0.68595041322314054,51,0.42148760330578511,null,null,{"$f":"cálculos2!P77","v":0},0,{"$f":"cálculos2!Q77","v":0},0]
["Metropolitana","Vila Velha",5698,2372,1612,0.67959527824620569,1984,0.83642495784148396,1935,0.81576728499156825,1934,0.81534569983136596,1892,0.79763912310286678,1912,0.80607082630691396,1943,0.81913996627318719,1630,0.68718381112984828,1359,0.57293423271500843,1980,0.83473861720067455,861,0.36298482293423273,null,null,{"$f":"cálculos2!P78","v":0},0,{"$f":"cálculos2!Q78","v":0},0]
["Metropolitana","Vitória",3748,1596,1396,0.87468671679197996,1854,1.1616541353383458,1339,0.83897243107769426,1342,0.84085213032581452,1245,0.78007518796992481,1272,0.79699248120300747,1322,0.82832080200501257,1064,0.66666666666666663,1231,0.77130325814536338,1256,0.78696741854636587,587,0.36779448621553884,null,null,{"$f":"cálculos2!P79","v":1},0.1,{"$f":"cálculos2!Q79","v":0},0]
[]
[null,"Total Norte",{"$f":"SUMIF($A$3:$A$80,\"Norte\",C$3:C$80)","v":5520},{"$f":"SUMIF($A$3:$A$80,\"Norte\",D$3:D$80)","v":2196},{"$f":"SUMIF($A$3:$A$80,\"Norte\",E$3:E$80)","v":1655},{"$f":"E82/D82","v":0.75364298724954459},{"$f":"SUMIF($A$3:$A$80,\"Norte\",G$3:G$80)","v":2210},{"$f":"G82/D82","v":1.0063752276867031},{"$f":"SUMIF($A$3:$A$80,\"Norte\",I$3:I$80)","v":2290},{"$f":"I82/D82","v":1.0428051001821494},{"$f":"SUMIF($A$3:$A$80,\"Norte\",K$3:K$80)","v":2293},{"$f":"K82/D82","v":1.0441712204007285},{"$f":"SUMIF($A$3:$A$80,\"Norte\",M$3:M$80)","v":2207},{"$f":"M82/D82","v":1.0050091074681238},{"$f":"SUMIF($A$3:$A$80,\"Norte\",O$3:O$80)","v":2126},{"$f":"O82/D82","v":0.96812386156648456},{"$f":"SUMIF($A$3:$A$80,\"Norte\",Q$3:Q$80)","v":2166},{"$f":"Q82/D82","v":0.98633879781420764},{"$f":"SUMIF($A$3:$A$80,\"Norte\",S$3:S$80)","v":2021},{"$f":"S82/D82","v":0.92030965391621133},{"$f":"SUMIF($A$3:$A$80,\"Norte\",U$3:U$80)","v":1758},{"$f":"U82/D82","v":0.80054644808743169},{"$f":"SUMIF($A$3:$A$80,\"Norte\",W$3:W$80)","v":2249},{"$f":"W82/D82","v":1.0241347905282332},{"$f":"SUMIF($A$3:$A$80,\"Norte\",Y$3:Y$80)","v":1254},{"$f":"Y82/D82","v":0.57103825136612019},null,null,{"$f":"cálculos1!P81","v":6},{"$f":"AC82*0.1","v":0.60000000000000009},{"$f":"cálculos1!Q81","v":4},1]
[null,"Total Central",{"$f":"SUMIF($A$3:$A$80,\"Central\",C$3:C$80)","v":7184},{"$f":"SUMIF($A$3:$A$80,\"Central\",D$3:D$80)","v":3107},{"$f":"SUMIF($A$3:$A$80,\"Central\",E$3:E$80)","v":2131},{"$f":"E83/D83","v":0.6858706147409076},{"$f":"SUMIF($A$3:$A$80,\"Central\",G$3:G$80)","v":2705},{"$f":"G83/D83","v":0.87061474090762792},{"$f":"SUMIF($A$3:$A$80,\"Central\",I$3:I$80)","v":2652},{"$f":"I83/D83","v":0.85355648535564854},{"$f":"SUMIF($A$3:$A$80,\"Central\",K$3:K$80)","v":2629},{"$f":"K83/D83","v":0.84615384615384615},{"$f":"SUMIF($A$3:$A$80,\"Central\",M$3:M$80)","v":2563},{"$f":"M83/D83","v":0.82491149018345666},{"$f":"SUMIF($A$3:$A$80,\"Central\",O$3:O$80)","v":2583},{"$f":"O83/D83","v":0.83134856775024135},{"$f":"SUMIF($A$3:$A$80,\"Central\",Q$3:Q$80)","v":2596},{"$f":"Q83/D83","v":0.83553266816865146},{"$f":"SUMIF($A$3:$A$80,\"Central\",S$3:S$80)","v":2432},{"$f":"S83/D83","v":0.78274863212101708},{"$f":"SUMIF($A$3:$A$80,\"Central\",U$3:U$80)","v":1996},{"$f":"U83/D83","v":0.64242034116511104},{"$f":"SUMIF($A$3:$A$80,\"Central\",W$3:W$80)","v":2657},{"$f":"W83/D83","v":0.85516575474734469},{"$f":"SUMIF($A$3:$A$80,\"Central\",Y$3:Y$80)","v":1431},{"$f":"Y83/D83","v":0.46057289990344386},null,null,{"$f":"cálculos1!P82","v":1},0.1,{"$f":"cálculos1!Q82","v":0},0]
[null,"Total Metropolitana",{"$f":"SUMIF($A$3:$A$80,\"Metropolitana\",C$3:C$80)","v":30042},{"$f":"SUMIF($A$3:$A$80,\"Metropolitana\",D$3:D$80)","v":12909},{"$f":"SUMIF($A$3:$A$80,\"Metropolitana\",E$3:E$80)","v":8986},{"$f":"E84/D84","v":0.6961034936865752},{"$f":"SUMIF($A$3:$A$80,\"Metropolitana\",G$3:G$80)","v":11404},{"$f":"G84/D84","v":0.88341467193430945},{"$f":"SUMIF($A$3:$A$80,\"Metropolitana\",I$3:I$80)","v":10859},{"$f":"I84/D84","v":0.84119606476101949},{"$f":"SUMIF($A$3:$A$80,\"Metropolitana\",K$3:K$80)","v":10774},{"$f":"K84/D84","v":0.83461151134867151},{"$f":"SUMIF($A$3:$A$80,\"Metropolitana\",M$3:M$80)","v":10613},{"$f":"M84/D84","v":0.82213959253234181},{"$f":"SUMIF($A$3:$A$80,\"Metropolitana\",O$3:O$80)","v":10485},{"$f":"O84/D84","v":0.81222402974668839},{"$f":"SUMIF($A$3:$A$80,\"Metropolitana\",Q$3:Q$80)","v":10652},{"$f":"Q84/D84","v":0.82516074056859556},{"$f":"SUMIF($A$3:$A$80,\"Metropolitana\",S$3:S$80)","v":9109},{"$f":"S84/D84","v":0.70563172980091404},{"$f":"SUMIF($A$3:$A$80,\"Metropolitana\",U$3:U$80)","v":7857},{"$f":"U84/D84","v":0.60864513130374154},{"$f":"SUMIF($A$3:$A$80,\"Metropolitana\",W$3:W$80)","v":11075},{"$f":"W84/D84","v":0.85792857696180957},{"$f":"SUMIF($A$3:$A$80,\"Metropolitana\",Y$3:Y$80)","v":5010},{"$f":"Y84/D84","v":0.38810132465721592},null,null,{"$f":"cálculos1!P83","v":0},0,{"$f":"cálculos1!Q83","v":0},0]
[null,"Total Sul",{"$f":"SUMIF($A$3:$A$80,\"sul\",C$3:C$80)","v":8420},{"$f":"SUMIF($A$3:$A$80,\"sul\",D$3:D$80)","v":3575},{"$f":"SUMIF($A$3:$A$80,\"Sul\",E$3:E$80)","v":2639},{"$f":"E85/D85","v":0.73818181818181816},{"$f":"SUMIF($A$3:$A$80,\"Sul\",G$3:G$80)","v":3338},{"$f":"G85/D85","v":0.93370629370629366},{"$f":"SUMIF($A$3:$A$80,\"Sul\",I$3:I$80)","v":3315},{"$f":"I85/D85","v":0.92727272727272725},{"$f":"SUMIF($A$3:$A$80,\"Sul\",K$3:K$80)","v":3289},{"$f":"K85/D85","v":0.92},{"$f":"SUMIF($A$3:$A$80,\"Sul\",M$3:M$80)","v":3279},{"$f":"M85/D85","v":0.91720279720279718},{"$f":"SUMIF($A$3:$A$80,\"Sul\",O$3:O$80)","v":3190},{"$f":"O85/D85","v":0.89230769230769236},{"$f":"SUMIF($A$3:$A$80,\"Sul\",Q$3:Q$80)","v":3166},{"$f":"Q85/D85","v":0.88559440559440561},{"$f":"SUMIF($A$3:$A$80,\"Sul\",S$3:S$80)","v":2750},{"$f":"S85/D85","v":0.76923076923076927},{"$f":"SUMIF($A$3:$A$80,\"Sul\",U$3:U$80)","v":2726},{"$f":"U85/D85","v":0.76251748251748253},{"$f":"SUMIF($A$3:$A$80,\"Sul\",W$3:W$80)","v":3517},{"$f":"W85/D85","v":0.98377622377622376},{"$f":"SUMIF($A$3:$A$80,\"Sul\",Y$3:Y$80)","v":1617},{"$f":"Y85/D85","v":0.4523076923076923},null,null,{"$f":"cálculos1!P84","v":2},0.2,{"$f":"cálculos1!Q84","v":1},0.25]
[null,"Total Espírito Santo",{"$f":"SUM(C3:C80)","v":51166},{"$f":"SUM(D3:D80)","v":21787},{"$f":"SUM(E82:E85)","v":15411},{"$f":"E86/D86","v":0.7073484187818424},{"$f":"SUM(G82:G85)","v":19657},{"$f":"G86/D86","v":0.90223527791802449},{"$f":"SUM(I82:I85)","v":19116},{"$f":"I86/D86","v":0.87740395648781389},{"$f":"SUM(K82:K85)","v":18985},{"$f":"K86/D86","v":0.87139119658511954},{"$f":"SUM(M82:M85)","v":18662},{"$f":"M86/D86","v":0.85656584201588104},{"$f":"SUM(O82:O85)","v":18384},{"$f":"O86/D86","v":0.84380593932161385},{"$f":"SUM(Q82:Q85)","v":18580},{"$f":"Q86/D86","v":0.85280212971037772},{"$f":"SUM(S82:S85)","v":16312},{"$f":"S86/D86","v":0.74870335521182352},{"$f":"SUM(U82:U85)","v":14337},{"$f":"U86/D86","v":0.65805296736586039},{"$f":"SUM(W82:W85)","v":19498},{"$f":"W86/D86","v":0.89493734795979252},{"$f":"SUM(Y82:Y85)","v":9312},{"$f":"Y86/D86","v":0.4274108413273971},null,null,{"$f":"cálculos1!P85","v":1},0.1,{"$f":"cálculos1!Q85","v":0},0]
[null,null,null,null,{"$f":"COUNTIF(F3:F80,\">=0,95\")","v":2},null,{"$f":"COUNTIF(H3:H80,\">=0,9\")","v":34},null,{"$f":"COUNTIF(J3:J80,\">=0,95\")","v":36},null,{"$f":"COUNTIF(L3:L80,\">=0,95\")","v":37},null,{"$f":"COUNTIF(N3:N80,\">=0,95\")","v":35},null,{"$f":"COUNTIF(P3:P80,\">=0,9\")","v":37},null,{"$f":"COUNTIF(R3:R80,\">=0,95\")","v":34},null,{"$f":"COUNTIF(T3:T80,\">=0,95\")","v":28},null,{"$f":"COUNTIF(V3:V80,\">=0,95\")","v":13},null,{"$f":"COUNTIF(X3:X80,\">=0,95\")","v":40},null,{"$f":"COUNTIF(Z3:Z80,\">=0,95\")","v":2}]
[null,"HOMOGENEIDADE ENTRE MUNICÍPIOS",null,null,{"$f":"E87/78","v":2.564102564102564E-2},null,{"$f":"G87/78","v":0.4358974358974359},null,{"$f":"I87/78","v":0.46153846153846156},null,{"$f":"K87/78","v":0.47435897435897434},null,{"$f":"M87/78","v":0.44871794871794873},null,{"$f":"O87/78","v":0.47435897435897434},null,{"$f":"Q87/78","v":0.4358974358974359},null,{"$f":"S87/78","v":0.35897435897435898},null,{"$f":"U87/78","v":0.16666666666666666},null,{"$f":"W87/78","v":0.51282051282051277},null,{"$f":"Y87/78","v":2.564102564102564E-2}]
[]
[" FonteVacina e Confia, em 04 de Junho de 2024.**"]
["**Dados referente às doses aplicadas no período de Maio de 2024"]
["Cobertura Calculada por município de residência do cidadão (no Vacina e Confia, a origem da informação é o endereço que consta no cadastro do cidadão preenchido manualmente por meio do autocadastro ou pelo cadastro realizado por um profissional de saúde no momento do atendimento)."]
[]
["1 População anual extraída do MS/SVS/DASIS - SINASC/DASIS/SVS/MS 2023 (hoje preliminares) referente ao período de março a dezembro de 2023 e SINASC/DASIS/SVS/MS 2024 referente ao período de janeiro a fevereiro de 2024."]
[]
["² População proporcional extraída do MS/SVS/DASIS - SINASC/DASIS/SVS/MS 2023 (hoje preliminares) referente ao período de março  e abril de 2023 somada a população extraída do SINASC/DASIS/SVS/MS 2024 referente ao período de janeiro e fevereiro de 2024."]
[]
["Observações:"]
["Imunobiológicos que foram recebidos parcialmente pelo estado no mês da análise, sendo distribuídos em quantidades reduzidas às regionais e municípios: Varicela, Haemophilus influenzae tipo B, Soro Antirrábico Humano."]
["Imunobiológicos que não foram recebidos pelo estado no mês da análise, não sendo possível a distribuição às regionais e municípios: Meningo C, Tetra viral, Sars-cov-10 Bivalente, DTPa (CRIE) e Sars-Cov2-10 Doses Pediátricas."]
["Imunobiológicos com indisponibilidade de aquisição e distribuição no mês da análise: "]

{"sheet":"CV REF 1A e 4A - procedência","index":2,"n_rows":101,"n_cols":24,"rows_kept":101,"cut":false,"hidden":false,"merged":[[94,0,94,12],[92,0,93,12],[0,18,0,23],[89,0,89,12],[91,0,91,12],[90,0,90,12],[0,10,0,17],[0,6,0,9]]}
[null,null,null,null,null,null,"D2",null,null,null,"REFORÇOS 1 ANO",null,null,null,null,null,null,null,"REFORÇOS 4 ANOS"]
["Regional ","Município","¹População 1 ano anual ","²População 1 ano proporcional ","³População 4 anos anual ","³População 4 anos proporcional ","DOSES APLICADAS D2 TRÍPLICE VIRAL","COBERTURA D2 TRÍPLICE VIRAL","DOSES APLICADAS D2 VARICELA","COBERTURA D2 VARICELA","DOSES APLICADAS REF PNEUMO ","COBERTURA REF PNEUMO","DOSES APLICADAS REF MENINGO","COBERTURA REF MENINGO","DOSES APLICADAS R1 POLIO","COBERTURA R1 POLIO","DOSES APLICADAS R1 TRÍPLICE BACTERIANA","COBERTURA R1 TRÍPLICE BACTERIANA","DOSES APLICADAS REF FEBRE AMARELA","COBERTURA REF FEBRE AMARELA","DOSES APLICADAS R2 POLIO","COBERTURA R2 POLIO","DOSES APLICADAS R2 TRÍPLICE BACTERIANA","COBERTURA R2 TRÍPLICE BACTERIANA"]
["Metropolitana","Afonso Cláudio",374,146,416,{"$f":"E3/12*5","v":173.33333333333331},140,{"$f":"G3/D3","v":0.95890410958904104},65,{"$f":"I3/F3","v":0.37500000000000006},159,{"$f":"K3/D3","v":1.0890410958904109},159,{"$f":"M3/D3","v":1.0890410958904109},205,{"$f":"O3/D3","v":1.404109589041096},152,{"$f":"Q3/D3","v":1.0410958904109588},105,{"$f":"S3/F3","v":0.60576923076923084},109,{"$f":"U3/F3","v":0.62884615384615394},114,{"$f":"W3/F3","v":0.6576923076923078}]
["Norte","Água Doce do Norte",185,90,151,{"$f":"E4/12*5","v":62.916666666666671},49,0.5444444444444444,33,0.52450331125827809,60,0.66666666666666663,61,0.67777777777777781,56,0.62222222222222223,57,0.6333333333333333,45,0.71523178807947019,56,0.89006622516556289,52,0.82649006622516552]
["Central","Águia Branca",165,67,129,53.75,32,0.47761194029850745,21,0.39069767441860465,45,0.67164179104477617,47,0.70149253731343286,45,0.67164179104477617,46,0.68656716417910446,35,0.65116279069767447,44,0.81860465116279069,46,0.85581395348837208]
["Sul","Alegre",330,135,372,155,107,0.79259259259259263,95,0.61290322580645162,123,0.91111111111111109,123,0.91111111111111109,128,0.94814814814814818,113,0.83703703703703702,138,0.89032258064516134,142,0.91612903225806452,150,0.967741935483871]
["Sul","Alfredo Chaves",148,59,138,57.5,54,0.9152542372881356,38,0.66086956521739126,65,1.1016949152542372,68,1.152542372881356,85,1.4406779661016949,53,0.89830508474576276,49,0.85217391304347823,59,1.0260869565217392,59,1.0260869565217392]
["Central","Alto Rio Novo",84,27,102,42.5,37,1.3703703703703705,17,0.4,39,1.4444444444444444,39,1.4444444444444444,55,2.0370370370370372,39,1.4444444444444444,26,0.61176470588235299,24,0.56470588235294117,25,0.58823529411764708]
["Sul","Anchieta",389,169,390,162.5,128,0.75739644970414199,87,0.53538461538461535,166,0.98224852071005919,171,1.0118343195266273,174,1.029585798816568,164,0.97041420118343191,142,0.87384615384615383,181,1.1138461538461539,187,1.1507692307692308]
["Sul","Apiacá",71,37,90,37.5,14,0.3783783783783784,23,0.61333333333333329,27,0.72972972972972971,29,0.78378378378378377,22,0.59459459459459463,15,0.40540540540540543,3,0.08,33,0.88,32,0.85333333333333339]
["Metropolitana","Aracruz",1465,634,1420,591.66666666666663,561,0.8848580441640379,344,0.58140845070422542,641,1.0110410094637223,680,1.0725552050473186,708,1.1167192429022081,621,0.97949526813880128,420,0.70985915492957752,508,0.85859154929577475,536,0.90591549295774654]
["Sul","Atilio Vivacqua",138,64,138,57.5,40,0.625,20,0.34782608695652173,67,1.046875,69,1.078125,77,1.203125,67,1.046875,40,0.69565217391304346,45,0.78260869565217395,45,0.78260869565217395]
["Central","Baixo Guandu",388,163,427,177.91666666666669,133,0.81595092024539873,70,0.39344262295081961,167,1.0245398773006136,172,1.0552147239263803,177,1.0858895705521472,167,1.0245398773006136,133,0.7475409836065573,165,0.92740046838407486,157,0.88243559718969544]
["Norte","Barra de São Francisco",553,241,589,245.41666666666669,182,0.75518672199170123,126,0.51341256366723254,217,0.90041493775933612,220,0.91286307053941906,215,0.89211618257261416,203,0.84232365145228216,174,0.70899830220713067,181,0.73752122241086582,187,0.76196943972835307]
["Norte","Boa Esperança",189,77,200,83.333333333333343,57,0.74025974025974028,49,0.58799999999999997,94,1.2207792207792207,97,1.2597402597402598,91,1.1818181818181819,75,0.97402597402597402,48,0.57599999999999996,59,0.70799999999999996,62,0.74399999999999988]
["Sul","Bom Jesus do Norte",84,37,146,60.833333333333329,31,0.83783783783783783,17,0.27945205479452057,55,1.4864864864864864,56,1.5135135135135136,60,1.6216216216216217,44,1.1891891891891893,38,0.62465753424657544,52,0.85479452054794525,52,0.85479452054794525]
["Metropolitana","Brejetuba",214,87,169,70.416666666666671,74,0.85057471264367812,46,0.6532544378698224,71,0.81609195402298851,75,0.86206896551724133,82,0.94252873563218387,73,0.83908045977011492,83,1.178698224852071,83,1.178698224852071,83,1.178698224852071]
["Sul","Cachoeiro de Itapemirim",2460,1105,2417,1007.0833333333333,723,0.65429864253393666,390,0.3872569300786099,956,0.86515837104072402,1000,0.90497737556561086,971,0.87873303167420813,863,0.78099547511312217,535,0.53123707074886228,723,0.71791477037649987,756,0.75068266446007448]
["Metropolitana","Cariacica",4873,2069,5005,2085.4166666666665,1290,0.62348960850652491,907,0.43492507492507498,1911,0.92363460608989845,1961,0.94780086998550028,1829,0.88400193330111165,1654,0.7994200096665055,1457,0.69866133866133873,1894,0.90821178821178827,1856,0.8899900099900101]
["Sul","Castelo",443,192,399,166.25,156,0.8125,70,0.42105263157894735,199,1.0364583333333333,194,1.0104166666666667,218,1.1354166666666667,176,0.91666666666666663,108,0.64962406015037599,146,0.87819548872180453,146,0.87819548872180453]
["Central","Colatina",1561,669,1561,650.41666666666674,412,0.61584454409566514,200,0.30749519538757203,561,0.83856502242152464,606,0.905829596412556,481,0.71898355754858001,492,0.73542600896860988,331,0.50890454836643173,426,0.65496476617552846,433,0.66572709801409347]
["Norte","Conceição da Barra",342,131,391,162.91666666666669,127,0.96946564885496178,100,0.61381074168797944,157,1.1984732824427482,159,1.2137404580152671,167,1.2748091603053435,145,1.1068702290076335,137,0.84092071611253183,173,1.0618925831202044,177,1.0864450127877237]
["Metropolitana","Conceição do Castelo",169,78,144,60,56,0.71794871794871795,37,0.6166666666666667,45,0.57692307692307687,48,0.61538461538461542,79,1.0128205128205128,57,0.73076923076923073,44,0.73333333333333328,51,0.85,52,0.8666666666666667]
["Sul","Divino de São Lourenço",65,25,68,28.333333333333336,22,0.88,16,0.56470588235294117,20,0.8,20,0.8,23,0.92,22,0.88,32,1.1294117647058823,25,0.88235294117647056,25,0.88235294117647056]
["Metropolitana","Domingos Martins",417,186,411,171.25,164,0.88172043010752688,121,0.70656934306569341,175,0.94086021505376349,166,0.89247311827956988,202,1.086021505376344,178,0.956989247311828,133,0.77664233576642339,165,0.96350364963503654,170,0.99270072992700731]
["Sul","Dores do Rio Preto",89,34,92,38.333333333333336,24,0.70588235294117652,16,0.41739130434782606,55,1.6176470588235294,56,1.6470588235294117,40,1.1764705882352942,33,0.97058823529411764,28,0.73043478260869565,34,0.88695652173913042,34,0.88695652173913042]
["Norte","Ecoporanga",266,125,283,117.91666666666666,81,0.64800000000000002,68,0.57667844522968204,104,0.83199999999999996,108,0.86399999999999999,99,0.79200000000000004,85,0.68,85,0.72084805653710249,89,0.75477031802120143,94,0.79717314487632518]
["Metropolitana","Fundão",221,94,218,90.833333333333343,69,0.73404255319148937,55,0.60550458715596323,91,0.96808510638297873,96,1.0212765957446808,92,0.97872340425531912,76,0.80851063829787229,73,0.80366972477064214,81,0.89174311926605498,78,0.85871559633027517]
["Central","Governador Lindenberg",150,72,142,59.166666666666671,38,0.52777777777777779,32,0.54084507042253516,58,0.80555555555555558,63,0.875,61,0.84722222222222221,44,0.61111111111111116,35,0.59154929577464788,39,0.65915492957746469,44,0.74366197183098581]
["Sul","Guaçuí",396,150,407,169.58333333333331,157,1.0466666666666666,43,0.25356265356265362,170,1.1333333333333333,175,1.1666666666666667,157,1.0466666666666666,150,1,119,0.70171990171990184,119,0.70171990171990184,120,0.7076167076167077]
["Metropolitana","Guarapari",1732,752,1557,648.75,448,0.5957446808510638,305,0.47013487475915222,679,0.90292553191489366,674,0.89627659574468088,613,0.81515957446808507,576,0.76595744680851063,379,0.58420038535645469,521,0.80308285163776494,561,0.8647398843930636]
["Metropolitana","Ibatiba",362,153,354,147.5,109,0.71241830065359479,38,0.25762711864406779,139,0.90849673202614378,147,0.96078431372549022,151,0.98692810457516345,135,0.88235294117647056,95,0.64406779661016944,111,0.75254237288135595,116,0.78644067796610173]
["Metropolitana","Ibiraçu",154,70,160,66.666666666666671,34,0.48571428571428571,40,0.6,53,0.75714285714285712,55,0.7857142857142857,45,0.6428571428571429,34,0.48571428571428571,47,0.70499999999999996,47,0.70499999999999996,49,0.73499999999999999]
["Sul","Ibitirama",127,52,148,61.666666666666671,47,0.90384615384615385,13,0.21081081081081079,56,1.0769230769230769,59,1.1346153846153846,50,0.96153846153846156,47,0.90384615384615385,10,0.16216216216216214,17,0.27567567567567564,12,0.19459459459459458]
["Sul","Iconha",118,47,156,65,58,{"$f":"G35/D35","v":1.2340425531914894},21,{"$f":"I35/F35","v":0.32307692307692309},65,{"$f":"K35/D35","v":1.3829787234042554},67,{"$f":"M35/D35","v":1.425531914893617},55,{"$f":"O35/D35","v":1.1702127659574468},46,{"$f":"Q35/D35","v":0.97872340425531912},55,{"$f":"S35/F35","v":0.84615384615384615},55,{"$f":"U35/F35","v":0.84615384615384615},53,{"$f":"W35/F35","v":0.81538461538461537}]
["Sul","Irupi",197,75,200,83.333333333333343,60,0.8,41,0.49199999999999994,107,1.4266666666666667,108,1.44,81,1.08,78,1.04,76,0.91199999999999992,81,0.97199999999999986,92,1.1039999999999999]
["Metropolitana","Itaguaçu",135,59,154,64.166666666666671,68,1.152542372881356,22,0.3428571428571428,52,0.88135593220338981,55,0.93220338983050843,64,1.0847457627118644,59,1,40,0.62337662337662336,45,0.7012987012987012,48,0.74805194805194797]
["Sul","Itapemirim",541,201,556,231.66666666666669,128,0.63681592039800994,85,0.36690647482014388,203,1.0099502487562189,218,1.0845771144278606,200,0.99502487562189057,193,0.96019900497512434,89,0.38417266187050358,190,0.82014388489208623,185,0.79856115107913661]
["Metropolitana","Itarana",140,65,128,53.333333333333329,36,0.55384615384615388,41,0.76875000000000004,49,0.75384615384615383,49,0.75384615384615383,44,0.67692307692307696,38,0.58461538461538465,43,0.80625000000000002,47,0.88125000000000009,45,0.84375000000000011]
["Sul","Iúna",474,189,410,170.83333333333331,141,0.74603174603174605,86,0.50341463414634147,185,0.97883597883597884,197,1.0423280423280423,195,1.0317460317460319,152,0.80423280423280419,127,0.74341463414634157,159,0.93073170731707322,161,0.94243902439024396]
["Norte","Jaguaré",489,212,445,185.41666666666669,162,0.76415094339622647,89,0.47999999999999993,205,0.96698113207547165,204,0.96226415094339623,201,0.94811320754716977,186,0.87735849056603776,154,0.83056179775280892,172,0.92764044943820212,204,1.1002247191011234]
["Sul","Jerônimo Monteiro",156,59,157,65.416666666666671,53,0.89830508474576276,15,0.22929936305732482,67,1.1355932203389831,67,1.1355932203389831,71,1.2033898305084745,64,1.0847457627118644,44,0.67261146496815283,50,0.76433121019108274,55,0.84076433121019101]
["Metropolitana","João Neiva",178,70,142,59.166666666666671,55,0.7857142857142857,25,0.42253521126760563,75,1.0714285714285714,83,1.1857142857142857,77,1.1000000000000001,58,0.82857142857142863,50,0.84507042253521125,48,0.81126760563380274,48,0.81126760563380274]
["Metropolitana","Laranja da Terra",96,43,133,55.416666666666671,46,1.069767441860465,43,0.77593984962406004,63,1.4651162790697674,64,1.4883720930232558,55,1.2790697674418605,46,1.069767441860465,41,0.73984962406015031,43,0.77593984962406004,42,0.75789473684210518]
["Central","Linhares",2598,1125,2452,1021.6666666666667,694,0.61688888888888893,393,0.38466557911908644,865,0.76888888888888884,893,0.7937777777777778,917,0.81511111111111112,887,0.78844444444444439,649,0.63523654159869491,811,0.79380097879282208,868,0.84959216965742246]
["Central","Mantenópolis",161,78,166,69.166666666666671,49,0.62820512820512819,36,0.52048192771084334,66,0.84615384615384615,63,0.80769230769230771,57,0.73076923076923073,61,0.78205128205128205,46,0.66506024096385541,55,0.79518072289156616,58,0.83855421686746978]
["Sul","Marataízes",570,266,579,241.25,182,0.68421052631578949,104,0.43108808290155443,260,0.97744360902255634,260,0.97744360902255634,237,0.89097744360902253,224,0.84210526315789469,118,0.48911917098445595,203,0.84145077720207251,210,0.8704663212435233]
["Metropolitana","Marechal Floriano",227,102,236,98.333333333333343,71,0.69607843137254899,71,0.72203389830508469,96,0.94117647058823528,93,0.91176470588235292,90,0.88235294117647056,73,0.71568627450980393,64,0.6508474576271186,73,0.74237288135593216,69,0.70169491525423722]
["Central","Marilândia",167,61,164,68.333333333333329,53,0.86885245901639341,36,0.52682926829268295,48,0.78688524590163933,50,0.81967213114754101,71,1.1639344262295082,54,0.88524590163934425,51,0.74634146341463414,51,0.74634146341463414,53,0.775609756097561]
["Sul","Mimoso do Sul",262,105,276,115,55,0.52380952380952384,69,0.6,83,0.79047619047619044,87,0.82857142857142863,73,0.69523809523809521,69,0.65714285714285714,74,0.64347826086956517,80,0.69565217391304346,80,0.69565217391304346]
["Norte","Montanha",233,76,278,115.83333333333334,96,1.263157894736842,65,0.5611510791366906,99,1.3026315789473684,102,1.3421052631578947,117,1.5394736842105263,104,1.368421052631579,88,0.75971223021582723,98,0.84604316546762581,100,0.86330935251798557]
["Norte","Mucurici",68,21,97,40.416666666666671,20,0.95238095238095233,23,0.56907216494845358,37,1.7619047619047619,38,1.8095238095238095,19,0.90476190476190477,19,0.90476190476190477,24,0.59381443298969061,27,0.66804123711340202,27,0.66804123711340202]
["Sul","Muniz Freire",210,86,275,114.58333333333334,94,1.0930232558139534,27,0.23563636363636362,110,1.2790697674418605,109,1.2674418604651163,121,1.4069767441860466,95,1.1046511627906976,83,0.72436363636363632,92,0.80290909090909079,86,0.75054545454545452]
["Sul","Muqui",163,60,152,63.333333333333329,58,0.96666666666666667,43,0.67894736842105263,61,1.0166666666666666,60,1,80,1.3333333333333333,53,0.8833333333333333,56,0.88421052631578956,57,0.9,58,0.9157894736842106]
["Norte","Nova Venécia",681,301,656,273.33333333333331,256,0.85049833887043191,115,0.42073170731707321,256,0.85049833887043191,271,0.90033222591362128,266,0.88372093023255816,251,0.83388704318936879,183,0.66951219512195126,212,0.775609756097561,216,0.79024390243902443]
["Central","Pancas",216,91,244,101.66666666666666,90,0.98901098901098905,39,0.38360655737704924,84,0.92307692307692313,88,0.96703296703296704,167,1.8351648351648351,95,1.043956043956044,81,0.79672131147540992,86,0.84590163934426232,86,0.84590163934426232]
["Norte","Pedro Canário",305,132,338,140.83333333333334,120,0.90909090909090906,89,0.63195266272189343,156,1.1818181818181819,156,1.1818181818181819,156,1.1818181818181819,149,1.1287878787878789,115,0.81656804733727806,128,0.90887573964497037,131,0.93017751479289934]
["Norte","Pinheiros",301,109,383,159.58333333333334,69,0.6330275229357798,74,0.46370757180156658,124,1.1376146788990826,122,1.1192660550458715,102,0.93577981651376152,88,0.80733944954128445,103,0.64543080939947772,121,0.75822454308093989,122,0.76449086161879887]
["Sul","Piúma",309,122,311,129.58333333333334,64,0.52459016393442626,46,0.35498392282958197,119,0.97540983606557374,108,0.88524590163934425,105,0.86065573770491799,102,0.83606557377049184,71,0.54790996784565915,98,0.75627009646302246,109,0.84115755627009636]
["Norte","Ponto Belo",75,25,85,35.416666666666664,17,0.68,16,0.45176470588235296,25,1,26,1.04,26,1.04,17,0.68,19,0.53647058823529414,16,0.45176470588235296,20,0.56470588235294117]
["Sul","Presidente Kennedy",194,94,239,99.583333333333343,77,0.81914893617021278,40,0.40167364016736395,98,1.0425531914893618,98,1.0425531914893618,79,0.84042553191489366,75,0.7978723404255319,72,0.72301255230125516,88,0.88368200836820077,86,0.86359832635983258]
["Central","Rio Bananal",299,130,229,95.416666666666657,115,0.88461538461538458,62,0.6497816593886464,118,0.90769230769230769,134,1.0307692307692307,152,1.1692307692307693,116,0.89230769230769236,108,1.1318777292576421,105,1.1004366812227075,102,1.068995633187773]
["Sul","Rio Novo do Sul",120,47,144,60,40,0.85106382978723405,37,0.6166666666666667,48,1.0212765957446808,50,1.0638297872340425,49,1.0425531914893618,47,1,39,0.65,51,0.85,53,0.8833333333333333]
["Metropolitana","Santa Leopoldina",93,32,155,64.583333333333329,25,0.78125,15,0.23225806451612904,53,1.65625,53,1.65625,44,1.375,44,1.375,34,0.52645161290322584,37,0.5729032258064517,41,0.6348387096774194]
["Metropolitana","Santa Maria de Jetibá",682,302,685,285.41666666666669,227,0.7516556291390728,103,0.3608759124087591,275,0.91059602649006621,290,0.96026490066225167,290,0.96026490066225167,260,0.86092715231788075,192,0.67270072992700725,230,0.80583941605839415,234,0.81985401459854013]
["Metropolitana","Santa Teresa",299,120,260,108.33333333333334,80,0.66666666666666663,77,0.71076923076923071,101,0.84166666666666667,109,0.90833333333333333,96,0.8,84,0.7,89,0.82153846153846144,89,0.82153846153846144,82,0.75692307692307681]
["Central","São Domingos do Norte",126,58,117,48.75,27,{"$f":"G67/D67","v":0.46551724137931033},17,{"$f":"I67/F67","v":0.3487179487179487},40,{"$f":"K67/D67","v":0.68965517241379315},42,{"$f":"M67/D67","v":0.72413793103448276},31,{"$f":"O67/D67","v":0.53448275862068961},27,{"$f":"Q67/D67","v":0.46551724137931033},33,{"$f":"S67/F67","v":0.67692307692307696},32,{"$f":"U67/F67","v":0.65641025641025641},33,{"$f":"W67/F67","v":0.67692307692307696}]
["Central","São Gabriel da Palha",440,172,426,{"$f":"E68/12*5","v":177.5},127,0.73837209302325579,78,0.43943661971830988,149,0.86627906976744184,152,0.88372093023255816,160,0.93023255813953487,137,0.79651162790697672,154,0.86760563380281686,154,0.86760563380281686,154,0.86760563380281686]
["Sul","São José do Calçado",101,44,150,62.5,45,1.0227272727272727,21,0.33600000000000002,57,1.2954545454545454,57,1.2954545454545454,53,1.2045454545454546,46,1.0454545454545454,54,0.86399999999999999,56,0.89600000000000002,54,0.86399999999999999]
["Norte","São Mateus",1742,613,1766,735.83333333333326,417,0.68026101141924955,358,0.4865232163080408,672,1.0962479608482871,674,1.0995106035889071,592,0.965742251223491,562,0.91680261011419251,466,0.63329558323895818,579,0.78686296715741799,576,0.7827859569648925]
["Central","São Roque do Canaã",131,77,100,41.666666666666671,45,0.58441558441558439,34,0.81599999999999995,56,0.72727272727272729,62,0.80519480519480524,59,0.76623376623376627,45,0.58441558441558439,37,0.8879999999999999,42,1.0079999999999998,43,1.0319999999999998]
["Metropolitana","Serra",7393,3287,7550,3145.833333333333,1833,0.55765135381807118,1017,0.32328476821192054,2609,0.79373288713112256,2649,0.80590203833282625,2564,0.78004259202920601,2326,0.70763614237906902,2377,0.75560264900662255,2733,0.86876821192052989,2701,0.85859602649006628]
["Central","Sooretama",439,196,415,172.91666666666669,124,0.63265306122448983,88,0.5089156626506024,169,0.86224489795918369,173,0.88265306122448983,203,1.0357142857142858,164,0.83673469387755106,184,1.0640963855421686,175,1.0120481927710843,182,1.0525301204819275]
["Sul","Vargem Alta",265,121,278,115.83333333333334,91,0.75206611570247939,53,0.45755395683453232,117,0.96694214876033058,116,0.95867768595041325,108,0.8925619834710744,100,0.82644628099173556,77,0.66474820143884883,90,0.77697841726618699,92,0.79424460431654664]
["Metropolitana","Venda Nova do Imigrante",392,162,328,136.66666666666666,131,0.80864197530864201,48,0.35121951219512199,177,1.0925925925925926,182,1.1234567901234569,165,1.0185185185185186,138,0.85185185185185186,86,0.62926829268292683,87,0.63658536585365855,93,0.68048780487804883]
["Metropolitana","Viana",980,430,1064,443.33333333333337,162,0.37674418604651161,145,0.32706766917293228,391,0.90930232558139534,400,0.93023255813953487,335,0.77906976744186052,316,0.73488372093023258,288,0.64962406015037588,355,0.8007518796992481,367,0.82781954887218034]
["Norte","Vila Pavão",91,43,127,52.916666666666671,39,0.90697674418604646,24,0.45354330708661411,53,1.2325581395348837,56,1.3023255813953489,57,1.3255813953488371,42,0.97674418604651159,53,1.0015748031496061,54,1.0204724409448818,53,1.0015748031496061]
["Central","Vila Valério",259,121,169,70.416666666666671,69,0.57024793388429751,41,0.58224852071005917,89,0.73553719008264462,76,0.62809917355371903,111,0.9173553719008265,93,0.76859504132231404,67,0.95147928994082831,98,1.3917159763313609,90,1.2781065088757395]
["Metropolitana","Vila Velha",5698,2372,5675,2364.5833333333335,1474,0.62141652613827991,793,0.33536563876651981,1873,0.78962900505902189,1976,0.83305227655986513,1881,0.79300168634064083,1694,0.71416526138279934,1609,0.68045814977973562,1786,0.75531277533039642,1747,0.73881938325991181]
["Metropolitana","Vitória",3748,1596,3833,1597.0833333333335,864,0.54135338345864659,587,0.36754500391338374,1322,0.82832080200501257,1397,0.87531328320802004,1475,0.92418546365914789,1308,0.81954887218045114,1085,0.67936342290633966,1396,0.87409339942603692,1432,0.89663448995564821]
[]
[null,"Total Norte",{"$f":"SUMIF($A$3:$A$80,\"Norte\",C$3:C$80)","v":5520},{"$f":"SUMIF($A$3:$A$80,\"Norte\",D$3:D$80)","v":2196},{"$f":"SUMIF($A$3:$A$80,\"Norte\",E$3:E$80)","v":5789},{"$f":"SUMIF($A$3:$A$80,\"Norte\",F$3:F$80)","v":2412.083333333333},{"$f":"SUMIF($A$3:$A$80,\"Norte\",G$3:G$80)","v":1692},{"$f":"G82/D82","v":0.77049180327868849},{"$f":"SUMIF($A$3:$A$80,\"Norte\",I$3:I$80)","v":1229},{"$f":"I82/F82","v":0.50951805147693907},{"$f":"SUMIF($A$3:$A$80,\"Norte\",K$3:K$80)","v":2259},{"$f":"K82/D82","v":1.028688524590164},{"$f":"SUMIF($A$3:$A$80,\"Norte\",M$3:M$80)","v":2294},{"$f":"M82/D82","v":1.0446265938069217},{"$f":"SUMIF($A$3:$A$80,\"Norte\",O$3:O$80)","v":2164},{"$f":"O82/D82","v":0.98542805100182151},{"$f":"SUMIF($A$3:$A$80,\"Norte\",Q$3:Q$80)","v":1983},{"$f":"Q82/D82","v":0.90300546448087426},{"$f":"SUMIF($A$3:$A$80,\"Norte\",S$3:S$80)","v":1694},{"$f":"S82/F82","v":0.70229746070133015},{"$f":"SUMIF($A$3:$A$80,\"Norte\",U$3:U$80)","v":1965},{"$f":"U82/F82","v":0.81464847123855599},{"$f":"SUMIF($A$3:$A$80,\"Norte\",W$3:W$80)","v":2021},{"$f":"W82/F82","v":0.83786491622041814}]
[null,"Total Central",{"$f":"SUMIF($A$3:$A$80,\"Central\",C$3:C$80)","v":7184},{"$f":"SUMIF($A$3:$A$80,\"Central\",D$3:D$80)","v":3107},{"$f":"SUMIF($A$3:$A$80,\"Central\",E$3:E$80)","v":6843},{"$f":"SUMIF($A$3:$A$80,\"Central\",F$3:F$80)","v":2851.2499999999995},{"$f":"SUMIF($A$3:$A$80,\"Central\",G$3:G$80)","v":2045},{"$f":"G83/D83","v":0.65819118120373354},{"$f":"SUMIF($A$3:$A$80,\"Central\",I$3:I$80)","v":1164},{"$f":"I83/F83","v":0.40824199912319165},{"$f":"SUMIF($A$3:$A$80,\"Central\",K$3:K$80)","v":2554},{"$f":"K83/D83","v":0.82201480527840365},{"$f":"SUMIF($A$3:$A$80,\"Central\",M$3:M$80)","v":2660},{"$f":"M83/D83","v":0.8561313163823624},{"$f":"SUMIF($A$3:$A$80,\"Central\",O$3:O$80)","v":2747},{"$f":"O83/D83","v":0.88413260379787573},{"$f":"SUMIF($A$3:$A$80,\"Central\",Q$3:Q$80)","v":2467},{"$f":"Q83/D83","v":0.79401351786289021},{"$f":"SUMIF($A$3:$A$80,\"Central\",S$3:S$80)","v":1970},{"$f":"S83/F83","v":0.69092503288031581},{"$f":"SUMIF($A$3:$A$80,\"Central\",U$3:U$80)","v":2307},{"$f":"U83/F83","v":0.80911880754055254},{"$f":"SUMIF($A$3:$A$80,\"Central\",W$3:W$80)","v":2374},{"$f":"W83/F83","v":0.83261727312582212}]
[null,"Total Metropolitana",{"$f":"SUMIF($A$3:$A$80,\"Metropolitana\",C$3:C$80)","v":30042},{"$f":"SUMIF($A$3:$A$80,\"Metropolitana\",D$3:D$80)","v":12909},{"$f":"SUMIF($A$3:$A$80,\"Metropolitana\",E$3:E$80)","v":30197},{"$f":"SUMIF($A$3:$A$80,\"Metropolitana\",F$3:F$80)","v":12582.083333333334},{"$f":"SUMIF($A$3:$A$80,\"Metropolitana\",G$3:G$80)","v":8017},{"$f":"G84/D84","v":0.62103958478580834},{"$f":"SUMIF($A$3:$A$80,\"Metropolitana\",I$3:I$80)","v":4945},{"$f":"I84/F84","v":0.39301917409014137},{"$f":"SUMIF($A$3:$A$80,\"Metropolitana\",K$3:K$80)","v":11100},{"$f":"K84/D84","v":0.85986521031838248},{"$f":"SUMIF($A$3:$A$80,\"Metropolitana\",M$3:M$80)","v":11461},{"$f":"M84/D84","v":0.88783019598729573},{"$f":"SUMIF($A$3:$A$80,\"Metropolitana\",O$3:O$80)","v":11186},{"$f":"O84/D84","v":0.86652722906499347},{"$f":"SUMIF($A$3:$A$80,\"Metropolitana\",Q$3:Q$80)","v":10000},{"$f":"Q84/D84","v":0.7746533426291734},{"$f":"SUMIF($A$3:$A$80,\"Metropolitana\",S$3:S$80)","v":8834},{"$f":"S84/F84","v":0.70210948107427884},{"$f":"SUMIF($A$3:$A$80,\"Metropolitana\",U$3:U$80)","v":10539},{"$f":"U84/F84","v":0.83761963108918103},{"$f":"SUMIF($A$3:$A$80,\"Metropolitana\",W$3:W$80)","v":10564},{"$f":"W84/F84","v":0.83960658343544059}]
[null,"Total Sul",{"$f":"SUMIF($A$3:$A$80,\"sul\",C$3:C$80)","v":8420},{"$f":"SUMIF($A$3:$A$80,\"sul\",D$3:D$80)","v":3575},{"$f":"SUMIF($A$3:$A$80,\"sul\",E$3:E$80)","v":8688},{"$f":"SUMIF($A$3:$A$80,\"sul\",F$3:F$80)","v":3620.0000000000005},{"$f":"SUMIF($A$3:$A$80,\"sul\",G$3:G$80)","v":2649},{"$f":"G85/D85","v":0.74097902097902102},{"$f":"SUMIF($A$3:$A$80,\"sul\",I$3:I$80)","v":1516},{"$f":"I85/F85","v":0.41878453038674029},{"$f":"SUMIF($A$3:$A$80,\"sul\",K$3:K$80)","v":3539},{"$f":"K85/D85","v":0.98993006993006993},{"$f":"SUMIF($A$3:$A$80,\"sul\",M$3:M$80)","v":3622},{"$f":"M85/D85","v":1.013146853146853},{"$f":"SUMIF($A$3:$A$80,\"sul\",O$3:O$80)","v":3512},{"$f":"O85/D85","v":0.98237762237762238},{"$f":"SUMIF($A$3:$A$80,\"sul\",Q$3:Q$80)","v":3091},{"$f":"Q85/D85","v":0.86461538461538456},{"$f":"SUMIF($A$3:$A$80,\"sul\",S$3:S$80)","v":2277},{"$f":"S85/F85","v":0.62900552486187833},{"$f":"SUMIF($A$3:$A$80,\"sul\",U$3:U$80)","v":2926},{"$f":"U85/F85","v":0.80828729281767941},{"$f":"SUMIF($A$3:$A$80,\"sul\",W$3:W$80)","v":2992},{"$f":"W85/F85","v":0.82651933701657443}]
[null,"Total Espírito Santo",{"$f":"SUM(C3:C80)","v":51166},{"$f":"SUM(D3:D80)","v":21787},{"$f":"SUM(E3:E80)","v":51517},{"$f":"SUM(F3:F80)","v":21465.416666666668},{"$f":"SUM(G3:G80)","v":14403},{"$f":"G86/D86","v":0.66108229678248498},{"$f":"SUM(I3:I80)","v":8854},{"$f":"I86/F86","v":0.41247743463322784},{"$f":"SUM(K3:K80)","v":19452},{"$f":"K86/D86","v":0.89282599715426636},{"$f":"SUM(M3:M80)","v":20037},{"$f":"M86/D86","v":0.91967687152889332},{"$f":"SUM(O3:O80)","v":19609},{"$f":"O86/D86","v":0.90003212925138842},{"$f":"SUM(Q3:Q80)","v":17541},{"$f":"Q86/D86","v":0.80511314086381791},{"$f":"SUM(S3:S80)","v":14775},{"$f":"S86/F86","v":0.68831647805578733},{"$f":"SUM(U3:U80)","v":17737},{"$f":"U86/F86","v":0.82630587961255508},{"$f":"SUM(W3:W80)","v":17951},{"$f":"W86/F86","v":0.83627540423549507}]
[]
[]
[]
[" FonteVacina e Confia, em 04 de Junho de 2024.**"]
["**Dados referente às doses aplicadas no período de Maio de 2024"]
["Cobertura Calculada por município de procedência da vacinação"]
["1 População anual extraída do MS/SVS/DASIS - SINASC/DASIS/SVS/MS 2023 (hoje preliminares) referente ao período de março a dezembro de 2023 e SINASC/DASIS/SVS/MS 2024 referente ao período de janeiro a fevereiro de 2024."]
[]
["² População proporcional extraída do MS/SVS/DASIS - SINASC/DASIS/SVS/MS 2023 (hoje preliminares) referente ao período de março e abril de 2023 somada a população extraída do SINASC/DASIS/SVS/MS 2024 referente ao período de janeiro e fevereiro de 2024."]
["³ População anual e proporcional extraída do Censo IBGE 2022."]
[]
["Observações:"]
["Imunobiológicos que foram recebidos parcialmente pelo estado no mês da análise, sendo distribuídos em quantidades reduzidas às regionais e municípios: Varicela, Haemophilus influenzae tipo B, Soro Antirrábico Humano."]
["Imunobiológicos que não foram recebidos pelo estado no mês da análise, não sendo possível a distribuição às regionais e municípios: Meningo C, Tetra viral, Sars-cov-10 Bivalente, DTPa (CRIE) e Sars-Cov2-10 Doses Pediátricas."]
["Imunobiológicos com indisponibilidade de aquisição e distribuição no mês da análise: "]

{"sheet":"CV REF 1A e 4A - residência","index":3,"n_rows":102,"n_cols":24,"rows_kept":102,"cut":false,"hidden":false,"merged":[[95,0,95,12],[93,0,94,12],[91,0,92,12],[88,0,88,11],[0,18,0,23],[89,0,89,12],[90,0,90,12],[0,10,0,17],[0,6,0,9]]}
[null,null,null,null,null,null,"D2",null,null,null,"REFORÇOS 1 ANO",null,null,null,null,null,null,null,"REFORÇOS 4 ANOS"]
["Regional ","Município","¹População 1 ano anual ","²População 1 ano proporcional ","³População 4 anos anual ","³População 4 anos proporcional ","DOSES APLICADAS D2 TRÍPLICE VIRAL","COBERTURA D2 TRÍPLICE VIRAL","DOSES APLICADAS D2 VARICELA","COBERTURA D2 VARICELA","DOSES APLICADAS REF PNEUMO ","COBERTURA REF PNEUMO","DOSES APLICADAS REF MENINGO","COBERTURA REF MENINGO","DOSES APLICADAS R1 POLIO","COBERTURA R1 POLIO","DOSES APLICADAS R1 TRÍPLICE BACTERIANA","COBERTURA R1 TRÍPLICE BACTERIANA","DOSES APLICADAS REF FEBRE AMARELA","COBERTURA REF FEBRE AMARELA","DOSES APLICADAS R2 POLIO","COBERTURA R2 POLIO","DOSES APLICADAS R2 TRÍPLICE BACTERIANA","COBERTURA R2 TRÍPLICE BACTERIANA"]
["Metropolitana","Afonso Cláudio",374,146,416,{"$f":"E3/12*5","v":173.33333333333331},148,{"$f":"G3/D3","v":1.0136986301369864},71,{"$f":"I3/F3","v":0.40961538461538466},172,{"$f":"K3/D3","v":1.178082191780822},171,{"$f":"M3/D3","v":1.1712328767123288},213,{"$f":"O3/D3","v":1.4589041095890412},164,{"$f":"Q3/D3","v":1.1232876712328768},109,{"$f":"S3/F3","v":0.62884615384615394},155,{"$f":"U3/F3","v":0.89423076923076927},122,{"$f":"W3/F3","v":0.7038461538461539}]
["Norte","Água Doce do Norte",185,90,151,{"$f":"E4/12*5","v":62.916666666666671},43,0.4777777777777778,30,0.47682119205298007,60,0.66666666666666663,60,0.66666666666666663,53,0.58888888888888891,51,0.56666666666666665,42,0.66754966887417211,53,0.84238410596026481,48,0.76291390728476816]
["Central","Águia Branca",165,67,129,53.75,36,0.53731343283582089,21,0.39069767441860465,48,0.71641791044776115,49,0.73134328358208955,48,0.71641791044776115,48,0.71641791044776115,28,0.52093023255813953,40,0.7441860465116279,39,0.72558139534883725]
["Sul","Alegre",330,135,372,155,104,0.77037037037037037,91,0.58709677419354833,128,0.94814814814814818,129,0.9555555555555556,124,0.91851851851851851,109,0.80740740740740746,141,0.9096774193548387,155,1,151,0.97419354838709682]
["Sul","Alfredo Chaves",148,59,138,57.5,47,0.79661016949152541,40,0.69565217391304346,66,1.1186440677966101,69,1.1694915254237288,86,1.4576271186440677,52,0.88135593220338981,54,0.93913043478260871,105,1.826086956521739,62,1.0782608695652174]
["Central","Alto Rio Novo",84,27,102,42.5,30,1.1111111111111112,17,0.4,37,1.3703703703703705,36,1.3333333333333333,42,1.5555555555555556,30,1.1111111111111112,29,0.68235294117647061,37,0.87058823529411766,27,0.63529411764705879]
["Sul","Anchieta",389,169,390,162.5,123,0.72781065088757402,88,0.54153846153846152,171,1.0118343195266273,171,1.0118343195266273,171,1.0118343195266273,158,0.9349112426035503,140,0.86153846153846159,178,1.0953846153846154,181,1.1138461538461539]
["Sul","Apiacá",71,37,90,37.5,9,0.24324324324324326,23,0.61333333333333329,24,0.64864864864864868,26,0.70270270270270274,18,0.48648648648648651,11,0.29729729729729731,9,0.24,40,1.0666666666666667,32,0.85333333333333339]
["Metropolitana","Aracruz",1465,634,1420,591.66666666666663,526,0.82965299684542582,317,0.53577464788732398,616,0.97160883280757093,661,1.0425867507886435,683,1.0772870662460567,598,0.94321766561514198,392,0.66253521126760573,533,0.90084507042253525,507,0.85690140845070428]
["Sul","Atilio Vivacqua",138,64,138,57.5,37,0.578125,20,0.34782608695652173,61,0.953125,63,0.984375,69,1.078125,59,0.921875,41,0.71304347826086956,51,0.88695652173913042,45,0.78260869565217395]
["Central","Baixo Guandu",388,163,427,177.91666666666669,137,0.8404907975460123,70,0.39344262295081961,162,0.99386503067484666,169,1.0368098159509203,173,1.0613496932515338,165,1.0122699386503067,126,0.70819672131147537,177,0.99484777517564393,152,0.85433255269320829]
["Norte","Barra de São Francisco",553,241,589,245.41666666666669,181,0.75103734439834025,116,0.47266553480475376,215,0.89211618257261416,217,0.90041493775933612,211,0.87551867219917012,199,0.82572614107883813,171,0.69677419354838699,179,0.72937181663837003,180,0.73344651952461792]
["Norte","Boa Esperança",189,77,200,83.333333333333343,56,0.72727272727272729,49,0.58799999999999997,91,1.1818181818181819,94,1.2207792207792207,91,1.1818181818181819,74,0.96103896103896103,48,0.57599999999999996,65,0.77999999999999992,62,0.74399999999999988]
["Sul","Bom Jesus do Norte",84,37,146,60.833333333333329,14,0.3783783783783784,8,0.13150684931506851,41,1.1081081081081081,41,1.1081081081081081,36,0.97297297297297303,22,0.59459459459459463,19,0.31232876712328772,44,0.72328767123287674,25,0.41095890410958907]
["Metropolitana","Brejetuba",214,87,169,70.416666666666671,82,0.94252873563218387,42,0.59644970414201182,73,0.83908045977011492,75,0.86206896551724133,90,1.0344827586206897,81,0.93103448275862066,80,1.136094674556213,97,1.3775147928994083,81,1.1502958579881657]
["Sul","Cachoeiro de Itapemirim",2460,1105,2417,1007.0833333333333,727,0.65791855203619909,399,0.39619362846503936,987,0.89321266968325796,1017,0.92036199095022619,996,0.90135746606334843,882,0.79819004524886883,544,0.54017376913529169,802,0.79635912287960287,777,0.77153496069507654]
["Metropolitana","Cariacica",4873,2069,5005,2085.4166666666665,1293,0.62493958434026098,905,0.433966033966034,1922,0.9289511841469309,1960,0.94731754470758822,1880,0.90865152247462544,1694,0.81875302078298695,1461,0.70057942057942058,2006,0.96191808191808204,1851,0.88759240759240765]
["Sul","Castelo",443,192,399,166.25,155,0.80729166666666663,72,0.43308270676691729,190,0.98958333333333337,186,0.96875,206,1.0729166666666667,172,0.89583333333333337,104,0.6255639097744361,171,1.0285714285714285,142,0.85413533834586464]
["Central","Colatina",1561,669,1561,650.41666666666674,438,0.6547085201793722,196,0.30134529147982059,559,0.83557548579970109,611,0.91330343796711511,500,0.74738415545590431,501,0.7488789237668162,318,0.48891736066623953,425,0.65342729019859058,422,0.64881486226777696]
["Norte","Conceição da Barra",342,131,391,162.91666666666669,125,0.95419847328244278,93,0.57084398976982087,162,1.2366412213740459,164,1.251908396946565,173,1.3206106870229009,147,1.1221374045801527,133,0.81636828644501269,183,1.1232736572890025,177,1.0864450127877237]
["Metropolitana","Conceição do Castelo",169,78,144,60,49,0.62820512820512819,34,0.56666666666666665,45,0.57692307692307687,49,0.62820512820512819,72,0.92307692307692313,52,0.66666666666666663,40,0.66666666666666663,64,1.0666666666666667,48,0.8]
["Sul","Divino de São Lourenço",65,25,68,28.333333333333336,18,0.72,13,0.45882352941176469,19,0.76,20,0.8,21,0.84,21,0.84,29,1.0235294117647058,26,0.91764705882352937,25,0.88235294117647056]
["Metropolitana","Domingos Martins",417,186,411,171.25,161,0.86559139784946237,110,0.64233576642335766,177,0.95161290322580649,168,0.90322580645161288,193,1.0376344086021505,173,0.93010752688172038,125,0.72992700729927007,177,1.0335766423357664,157,0.91678832116788322]
["Sul","Dores do Rio Preto",89,34,92,38.333333333333336,21,0.61764705882352944,11,0.28695652173913044,49,1.4411764705882353,50,1.4705882352941178,34,1,28,0.82352941176470584,22,0.57391304347826089,29,0.75652173913043474,25,0.65217391304347827]
["Norte","Ecoporanga",266,125,283,117.91666666666666,85,0.68,69,0.58515901060070674,107,0.85599999999999998,110,0.88,106,0.84799999999999998,93,0.74399999999999999,81,0.68692579505300355,94,0.79717314487632518,91,0.77173144876325095]
["Metropolitana","Fundão",221,94,218,90.833333333333343,68,0.72340425531914898,40,0.44036697247706419,90,0.95744680851063835,95,1.0106382978723405,87,0.92553191489361697,75,0.7978723404255319,58,0.63853211009174304,75,0.82568807339449535,65,0.71559633027522929]
["Central","Governador Lindenberg",150,72,142,59.166666666666671,37,0.51388888888888884,30,0.50704225352112675,51,0.70833333333333337,54,0.75,55,0.76388888888888884,42,0.58333333333333337,34,0.57464788732394356,49,0.82816901408450694,46,0.77746478873239433]
["Sul","Guaçuí",396,150,407,169.58333333333331,162,1.08,44,0.25945945945945947,177,1.18,180,1.2,164,1.0933333333333333,156,1.04,112,0.66044226044226051,113,0.66633906633906637,114,0.67223587223587233]
["Metropolitana","Guarapari",1732,752,1557,648.75,448,0.5957446808510638,293,0.45163776493256264,676,0.89893617021276595,684,0.90957446808510634,624,0.82978723404255317,578,0.7686170212765957,372,0.5734104046242775,524,0.80770712909441233,540,0.83236994219653182]
["Metropolitana","Ibatiba",362,153,354,147.5,108,0.70588235294117652,40,0.2711864406779661,141,0.92156862745098034,149,0.97385620915032678,149,0.97385620915032678,130,0.84967320261437906,89,0.60338983050847461,117,0.79322033898305089,115,0.77966101694915257]
["Metropolitana","Ibiraçu",154,70,160,66.666666666666671,29,0.41428571428571431,39,0.58499999999999996,55,0.7857142857142857,55,0.7857142857142857,45,0.6428571428571429,36,0.51428571428571423,48,0.72,55,0.82499999999999996,52,0.77999999999999992]
["Sul","Ibitirama",127,52,148,61.666666666666671,45,0.86538461538461542,20,0.32432432432432429,53,1.0192307692307692,54,1.0384615384615385,48,0.92307692307692313,45,0.86538461538461542,19,0.30810810810810807,24,0.38918918918918916,24,0.38918918918918916]
["Sul","Iconha",118,47,156,65,55,{"$f":"G35/D35","v":1.1702127659574468},21,{"$f":"I35/F35","v":0.32307692307692309},66,{"$f":"K35/D35","v":1.4042553191489362},71,{"$f":"M35/D35","v":1.5106382978723405},56,{"$f":"O35/D35","v":1.1914893617021276},47,{"$f":"Q35/D35","v":1},53,{"$f":"S35/F35","v":0.81538461538461537},57,{"$f":"U35/F35","v":0.87692307692307692},49,{"$f":"W35/F35","v":0.75384615384615383}]
["Sul","Irupi",197,75,200,83.333333333333343,63,0.84,43,0.5159999999999999,108,1.44,108,1.44,82,1.0933333333333333,79,1.0533333333333332,78,0.93599999999999994,81,0.97199999999999986,89,1.0679999999999998]
["Metropolitana","Itaguaçu",135,59,154,64.166666666666671,67,1.1355932203389831,20,0.31168831168831168,59,1,60,1.0169491525423728,65,1.1016949152542372,61,1.0338983050847457,41,0.63896103896103895,46,0.71688311688311679,45,0.7012987012987012]
["Sul","Itapemirim",541,201,556,231.66666666666669,148,0.73631840796019898,88,0.37985611510791362,213,1.0597014925373134,225,1.1194029850746268,215,1.0696517412935322,211,1.0497512437810945,107,0.46187050359712228,210,0.90647482014388481,199,0.85899280575539561]
["Metropolitana","Itarana",140,65,128,53.333333333333329,36,0.55384615384615388,38,0.71250000000000002,46,0.70769230769230773,45,0.69230769230769229,44,0.67692307692307696,39,0.6,38,0.71250000000000002,52,0.97500000000000009,46,0.86250000000000004]
["Sul","Iúna",474,189,410,170.83333333333331,139,0.73544973544973546,76,0.44487804878048787,183,0.96825396825396826,199,1.052910052910053,192,1.0158730158730158,153,0.80952380952380953,110,0.64390243902439026,187,1.0946341463414635,146,0.85463414634146351]
["Norte","Jaguaré",489,212,445,185.41666666666669,160,0.75471698113207553,85,0.45842696629213481,197,0.92924528301886788,195,0.91981132075471694,201,0.94811320754716977,187,0.88207547169811318,153,0.82516853932584266,183,0.98696629213483134,196,1.0570786516853932]
["Sul","Jerônimo Monteiro",156,59,157,65.416666666666671,50,0.84745762711864403,22,0.33630573248407641,65,1.1016949152542372,66,1.1186440677966101,67,1.1355932203389831,57,0.96610169491525422,43,0.65732484076433118,54,0.82547770700636935,53,0.8101910828025477]
["Metropolitana","João Neiva",178,70,142,59.166666666666671,56,0.8,28,0.47323943661971829,74,1.0571428571428572,82,1.1714285714285715,73,1.0428571428571429,58,0.82857142857142863,51,0.86197183098591545,59,0.99718309859154919,52,0.87887323943661966]
["Metropolitana","Laranja da Terra",96,43,133,55.416666666666671,43,1,37,0.66766917293233075,60,1.3953488372093024,61,1.4186046511627908,54,1.2558139534883721,45,1.0465116279069768,40,0.72180451127819545,52,0.93834586466165404,40,0.72180451127819545]
["Central","Linhares",2598,1125,2452,1021.6666666666667,711,0.63200000000000001,433,0.42381729200652524,905,0.80444444444444441,930,0.82666666666666666,933,0.82933333333333337,893,0.7937777777777778,697,0.68221859706362153,939,0.9190864600326264,931,0.91125611745513857]
["Central","Mantenópolis",161,78,166,69.166666666666671,46,0.58974358974358976,35,0.50602409638554213,64,0.82051282051282048,59,0.75641025641025639,57,0.73076923076923073,59,0.75641025641025639,42,0.60722891566265058,56,0.80963855421686737,53,0.76626506024096386]
["Sul","Marataízes",570,266,579,241.25,165,0.62030075187969924,93,0.38549222797927463,239,0.89849624060150379,245,0.92105263157894735,213,0.8007518796992481,198,0.74436090225563911,108,0.44766839378238343,190,0.78756476683937826,190,0.78756476683937826]
["Metropolitana","Marechal Floriano",227,102,236,98.333333333333343,70,0.68627450980392157,58,0.58983050847457619,97,0.9509803921568627,94,0.92156862745098034,84,0.82352941176470584,72,0.70588235294117652,60,0.61016949152542366,72,0.73220338983050837,67,0.68135593220338975]
["Central","Marilândia",167,61,164,68.333333333333329,55,0.90163934426229508,38,0.55609756097560981,56,0.91803278688524592,58,0.95081967213114749,80,1.3114754098360655,63,1.0327868852459017,50,0.73170731707317083,60,0.87804878048780499,52,0.76097560975609757]
["Sul","Mimoso do Sul",262,105,276,115,63,0.6,77,0.66956521739130437,86,0.81904761904761902,91,0.8666666666666667,80,0.76190476190476186,76,0.72380952380952379,86,0.74782608695652175,94,0.81739130434782614,94,0.81739130434782614]
["Norte","Montanha",233,76,278,115.83333333333334,92,1.2105263157894737,61,0.52661870503597119,94,1.236842105263158,98,1.2894736842105263,112,1.4736842105263157,103,1.3552631578947369,86,0.74244604316546758,101,0.8719424460431654,96,0.82877697841726616]
["Norte","Mucurici",68,21,97,40.416666666666671,22,1.0476190476190477,26,0.64329896907216488,37,1.7619047619047619,37,1.7619047619047619,22,1.0476190476190477,21,1,26,0.64329896907216488,30,0.74226804123711332,30,0.74226804123711332]
["Sul","Muniz Freire",210,86,275,114.58333333333334,93,1.0813953488372092,34,0.29672727272727273,99,1.1511627906976745,98,1.1395348837209303,116,1.3488372093023255,93,1.0813953488372092,87,0.75927272727272721,105,0.91636363636363627,93,0.8116363636363636]
["Sul","Muqui",163,60,152,63.333333333333329,57,0.95,35,0.55263157894736847,61,1.0166666666666666,62,1.0333333333333334,76,1.2666666666666666,54,0.9,45,0.71052631578947378,68,1.0736842105263158,50,0.78947368421052633]
["Norte","Nova Venécia",681,301,656,273.33333333333331,247,0.82059800664451832,107,0.39146341463414636,264,0.87707641196013286,265,0.88039867109634551,269,0.89368770764119598,251,0.83388704318936879,185,0.67682926829268297,229,0.83780487804878057,220,0.80487804878048785]
["Central","Pancas",216,91,244,101.66666666666666,94,1.0329670329670331,46,0.45245901639344266,97,1.0659340659340659,98,1.0769230769230769,164,1.8021978021978022,98,1.0769230769230769,90,0.88524590163934436,143,1.4065573770491804,93,0.9147540983606558]
["Norte","Pedro Canário",305,132,338,140.83333333333334,121,0.91666666666666663,90,0.63905325443786976,165,1.25,165,1.25,156,1.1818181818181819,148,1.1212121212121211,109,0.77396449704142012,130,0.92307692307692302,134,0.95147928994082831]
["Norte","Pinheiros",301,109,383,159.58333333333334,69,0.6330275229357798,71,0.44490861618798955,125,1.1467889908256881,119,1.0917431192660549,110,1.0091743119266054,97,0.88990825688073394,103,0.64543080939947772,126,0.78955613577023498,118,0.73942558746736287]
["Sul","Piúma",309,122,311,129.58333333333334,64,0.52459016393442626,43,0.3318327974276527,123,1.0081967213114753,114,0.93442622950819676,104,0.85245901639344257,103,0.84426229508196726,60,0.46302250803858519,92,0.70996784565916393,98,0.75627009646302246]
["Norte","Ponto Belo",75,25,85,35.416666666666664,17,0.68,15,0.42352941176470593,25,1,26,1.04,28,1.1200000000000001,18,0.72,17,0.48000000000000004,22,0.62117647058823533,20,0.56470588235294117]
["Sul","Presidente Kennedy",194,94,239,99.583333333333343,75,0.7978723404255319,40,0.40167364016736395,95,1.0106382978723405,96,1.0212765957446808,78,0.82978723404255317,74,0.78723404255319152,77,0.77322175732217568,93,0.93389121338912129,88,0.88368200836820077]
["Central","Rio Bananal",299,130,229,95.416666666666657,105,0.80769230769230771,61,0.63930131004366819,113,0.86923076923076925,129,0.99230769230769234,144,1.1076923076923078,112,0.86153846153846159,115,1.2052401746724892,144,1.5091703056768559,111,1.1633187772925766]
["Sul","Rio Novo do Sul",120,47,144,60,29,0.61702127659574468,38,0.6333333333333333,43,0.91489361702127658,46,0.97872340425531912,37,0.78723404255319152,36,0.76595744680851063,43,0.71666666666666667,64,1.0666666666666667,54,0.9]
["Metropolitana","Santa Leopoldina",93,32,155,64.583333333333329,23,0.71875,17,0.26322580645161292,56,1.75,58,1.8125,44,1.375,45,1.40625,40,0.61935483870967745,45,0.6967741935483871,45,0.6967741935483871]
["Metropolitana","Santa Maria de Jetibá",682,302,685,285.41666666666669,217,0.7185430463576159,106,0.37138686131386861,263,0.87086092715231789,275,0.91059602649006621,282,0.93377483443708609,251,0.83112582781456956,187,0.65518248175182481,245,0.85839416058394158,232,0.81284671532846708]
["Metropolitana","Santa Teresa",299,120,260,108.33333333333334,86,0.71666666666666667,74,0.68307692307692303,104,0.8666666666666667,116,0.96666666666666667,103,0.85833333333333328,91,0.7583333333333333,92,0.84923076923076912,104,0.96,86,0.79384615384615376]
["Central","São Domingos do Norte",126,58,117,48.75,27,{"$f":"G67/D67","v":0.46551724137931033},16,{"$f":"I67/F67","v":0.3282051282051282},38,{"$f":"K67/D67","v":0.65517241379310343},40,{"$f":"M67/D67","v":0.68965517241379315},34,{"$f":"O67/D67","v":0.58620689655172409},29,{"$f":"Q67/D67","v":0.5},33,{"$f":"S67/F67","v":0.67692307692307696},38,{"$f":"U67/F67","v":0.77948717948717949},37,{"$f":"W67/F67","v":0.75897435897435894}]
["Central","São Gabriel da Palha",440,172,426,{"$f":"E68/12*5","v":177.5},113,0.65697674418604646,78,0.43943661971830988,145,0.84302325581395354,150,0.87209302325581395,153,0.88953488372093026,130,0.7558139534883721,138,0.77746478873239433,157,0.88450704225352117,138,0.77746478873239433]
["Sul","São José do Calçado",101,44,150,62.5,45,1.0227272727272727,16,0.25600000000000001,54,1.2272727272727273,54,1.2272727272727273,55,1.25,49,1.1136363636363635,50,0.8,52,0.83199999999999996,50,0.8]
["Norte","São Mateus",1742,613,1766,735.83333333333326,438,0.71451876019575855,370,0.5028312570781428,665,1.0848287112561175,692,1.128874388254486,597,0.97389885807504073,562,0.91680261011419251,475,0.64552661381653464,593,0.80588901472253693,570,0.77463193657984153]
["Central","São Roque do Canaã",131,77,100,41.666666666666671,39,0.50649350649350644,30,0.72,53,0.68831168831168832,57,0.74025974025974028,57,0.74025974025974028,45,0.58441558441558439,32,0.7679999999999999,48,1.1519999999999999,39,0.93599999999999994]
["Metropolitana","Serra",7393,3287,7550,3145.833333333333,1875,0.57042896257986009,1021,0.3245562913907285,2644,0.80438089443261329,2678,0.81472467295406148,2631,0.80042592029205961,2382,0.72467295406145427,2325,0.73907284768211923,2789,0.88656953642384118,2649,0.84206622516556295]
["Central","Sooretama",439,196,415,172.91666666666669,121,0.61734693877551017,92,0.53204819277108428,157,0.80102040816326525,156,0.79591836734693877,195,0.99489795918367352,158,0.80612244897959184,180,1.0409638554216867,219,1.2665060240963855,184,1.0640963855421686]
["Sul","Vargem Alta",265,121,278,115.83333333333334,94,0.77685950413223137,56,0.4834532374100719,118,0.97520661157024791,118,0.97520661157024791,115,0.95041322314049592,106,0.87603305785123964,73,0.63021582733812942,100,0.86330935251798557,95,0.82014388489208623]
["Metropolitana","Venda Nova do Imigrante",392,162,328,136.66666666666666,141,0.87037037037037035,49,0.3585365853658537,158,0.97530864197530864,164,1.0123456790123457,178,1.0987654320987654,145,0.89506172839506171,85,0.62195121951219512,110,0.80487804878048785,94,0.68780487804878054]
["Metropolitana","Viana",980,430,1064,443.33333333333337,176,0.40930232558139534,159,0.35864661654135338,402,0.93488372093023253,409,0.9511627906976744,340,0.79069767441860461,321,0.74651162790697678,313,0.70601503759398487,418,0.94285714285714273,381,0.85939849624060138]
["Norte","Vila Pavão",91,43,127,52.916666666666671,32,0.7441860465116279,23,0.43464566929133852,49,1.1395348837209303,49,1.1395348837209303,46,1.069767441860465,34,0.79069767441860461,51,0.96377952755905505,62,1.1716535433070865,52,0.98267716535433058]
["Central","Vila Valério",259,121,169,70.416666666666671,72,0.5950413223140496,32,0.45443786982248519,90,0.74380165289256195,76,0.62809917355371903,104,0.85950413223140498,91,0.75206611570247939,58,0.82366863905325438,89,1.2639053254437869,81,1.1502958579881657]
["Metropolitana","Vila Velha",5698,2372,5675,2364.5833333333335,1455,0.61340640809443503,787,0.3328281938325991,1908,0.80438448566610454,2007,0.84612141652613826,1899,0.80059021922428331,1698,0.71585160202360876,1585,0.67030837004405286,1915,0.80986784140969159,1757,0.74304845814977971]
["Metropolitana","Vitória",3748,1596,3833,1597.0833333333335,797,0.49937343358395991,551,0.34500391338377245,1175,0.73621553884711777,1266,0.79323308270676696,1273,0.79761904761904767,1131,0.70864661654135341,1034,0.6474302113227236,1389,0.86971040960083479,1316,0.82400208713801193]
[]
[null,"Total Norte",{"$f":"SUMIF($A$3:$A$80,\"Norte\",C$3:C$80)","v":5520},{"$f":"SUMIF($A$3:$A$80,\"Norte\",D$3:D$80)","v":2196},{"$f":"SUMIF($A$3:$A$80,\"Norte\",E$3:E$80)","v":5789},{"$f":"SUMIF($A$3:$A$80,\"Norte\",F$3:F$80)","v":2412.083333333333},{"$f":"SUMIF($A$3:$A$80,\"Norte\",G$3:G$80)","v":1688},{"$f":"G82/D82","v":0.76867030965391625},{"$f":"SUMIF($A$3:$A$80,\"Norte\",I$3:I$80)","v":1205},{"$f":"I82/F82","v":0.49956814648471243},{"$f":"SUMIF($A$3:$A$80,\"Norte\",K$3:K$80)","v":2256},{"$f":"K82/D82","v":1.0273224043715847},{"$f":"SUMIF($A$3:$A$80,\"Norte\",M$3:M$80)","v":2291},{"$f":"M82/D82","v":1.0432604735883424},{"$f":"SUMIF($A$3:$A$80,\"Norte\",O$3:O$80)","v":2175},{"$f":"O82/D82","v":0.9904371584699454},{"$f":"SUMIF($A$3:$A$80,\"Norte\",Q$3:Q$80)","v":1985},{"$f":"Q82/D82","v":0.9039162112932605},{"$f":"SUMIF($A$3:$A$80,\"Norte\",S$3:S$80)","v":1680},{"$f":"S82/F82","v":0.69649334945586461},{"$f":"SUMIF($A$3:$A$80,\"Norte\",U$3:U$80)","v":2050},{"$f":"U82/F82","v":0.84988771808602537},{"$f":"SUMIF($A$3:$A$80,\"Norte\",W$3:W$80)","v":1994},{"$f":"W82/F82","v":0.82667127310416322}]
[null,"Total Central",{"$f":"SUMIF($A$3:$A$80,\"Central\",C$3:C$80)","v":7184},{"$f":"SUMIF($A$3:$A$80,\"Central\",D$3:D$80)","v":3107},{"$f":"SUMIF($A$3:$A$80,\"Central\",E$3:E$80)","v":6843},{"$f":"SUMIF($A$3:$A$80,\"Central\",F$3:F$80)","v":2851.2499999999995},{"$f":"SUMIF($A$3:$A$80,\"Central\",G$3:G$80)","v":2061},{"$f":"G83/D83","v":0.66334084325716125},{"$f":"SUMIF($A$3:$A$80,\"Central\",I$3:I$80)","v":1195},{"$f":"I83/F83","v":0.41911442349846567},{"$f":"SUMIF($A$3:$A$80,\"Central\",K$3:K$80)","v":2575},{"$f":"K83/D83","v":0.8287737367235275},{"$f":"SUMIF($A$3:$A$80,\"Central\",M$3:M$80)","v":2672},{"$f":"M83/D83","v":0.85999356292243323},{"$f":"SUMIF($A$3:$A$80,\"Central\",O$3:O$80)","v":2739},{"$f":"O83/D83","v":0.88155777277116187},{"$f":"SUMIF($A$3:$A$80,\"Central\",Q$3:Q$80)","v":2464},{"$f":"Q83/D83","v":0.7930479562278725},{"$f":"SUMIF($A$3:$A$80,\"Central\",S$3:S$80)","v":1970},{"$f":"S83/F83","v":0.69092503288031581},{"$f":"SUMIF($A$3:$A$80,\"Central\",U$3:U$80)","v":2621},{"$f":"U83/F83","v":0.9192459447610698},{"$f":"SUMIF($A$3:$A$80,\"Central\",W$3:W$80)","v":2405},{"$f":"W83/F83","v":0.84348969750109615}]
[null,"Total Metropolitana",{"$f":"SUMIF($A$3:$A$80,\"Metropolitana\",C$3:C$80)","v":30042},{"$f":"SUMIF($A$3:$A$80,\"Metropolitana\",D$3:D$80)","v":12909},{"$f":"SUMIF($A$3:$A$80,\"Metropolitana\",E$3:E$80)","v":30197},{"$f":"SUMIF($A$3:$A$80,\"Metropolitana\",F$3:F$80)","v":12582.083333333334},{"$f":"SUMIF($A$3:$A$80,\"Metropolitana\",G$3:G$80)","v":7954},{"$f":"G84/D84","v":0.61615926872724458},{"$f":"SUMIF($A$3:$A$80,\"Metropolitana\",I$3:I$80)","v":4836},{"$f":"I84/F84","v":0.38435606186044968},{"$f":"SUMIF($A$3:$A$80,\"Metropolitana\",K$3:K$80)","v":11013},{"$f":"K84/D84","v":0.85312572623750871},{"$f":"SUMIF($A$3:$A$80,\"Metropolitana\",M$3:M$80)","v":11382},{"$f":"M84/D84","v":0.88171043458052523},{"$f":"SUMIF($A$3:$A$80,\"Metropolitana\",O$3:O$80)","v":11106},{"$f":"O84/D84","v":0.86033000232396006},{"$f":"SUMIF($A$3:$A$80,\"Metropolitana\",Q$3:Q$80)","v":9920},{"$f":"Q84/D84","v":0.76845611588814011},{"$f":"SUMIF($A$3:$A$80,\"Metropolitana\",S$3:S$80)","v":8665},{"$f":"S84/F84","v":0.68867768321356426},{"$f":"SUMIF($A$3:$A$80,\"Metropolitana\",U$3:U$80)","v":11099},{"$f":"U84/F84","v":0.88212736364539523},{"$f":"SUMIF($A$3:$A$80,\"Metropolitana\",W$3:W$80)","v":10348},{"$f":"W84/F84","v":0.8224393151637579}]
[null,"Total Sul",{"$f":"SUMIF($A$3:$A$80,\"sul\",C$3:C$80)","v":8420},{"$f":"SUMIF($A$3:$A$80,\"sul\",D$3:D$80)","v":3575},{"$f":"SUMIF($A$3:$A$80,\"sul\",E$3:E$80)","v":8688},{"$f":"SUMIF($A$3:$A$80,\"sul\",F$3:F$80)","v":3620.0000000000005},{"$f":"SUMIF($A$3:$A$80,\"sul\",G$3:G$80)","v":2602},{"$f":"G85/D85","v":0.72783216783216786},{"$f":"SUMIF($A$3:$A$80,\"sul\",I$3:I$80)","v":1511},{"$f":"I85/F85","v":0.41740331491712701},{"$f":"SUMIF($A$3:$A$80,\"sul\",K$3:K$80)","v":3519},{"$f":"K85/D85","v":0.98433566433566433},{"$f":"SUMIF($A$3:$A$80,\"sul\",M$3:M$80)","v":3599},{"$f":"M85/D85","v":1.0067132867132866},{"$f":"SUMIF($A$3:$A$80,\"sul\",O$3:O$80)","v":3459},{"$f":"O85/D85","v":0.96755244755244751},{"$f":"SUMIF($A$3:$A$80,\"sul\",Q$3:Q$80)","v":3051},{"$f":"Q85/D85","v":0.85342657342657346},{"$f":"SUMIF($A$3:$A$80,\"sul\",S$3:S$80)","v":2254},{"$f":"S85/F85","v":0.62265193370165739},{"$f":"SUMIF($A$3:$A$80,\"sul\",U$3:U$80)","v":3185},{"$f":"U85/F85","v":0.87983425414364624},{"$f":"SUMIF($A$3:$A$80,\"sul\",W$3:W$80)","v":2951},{"$f":"W85/F85","v":0.81519337016574578}]
[null,"Total Espírito Santo",{"$f":"SUM(C3:C80)","v":51166},{"$f":"SUM(D3:D80)","v":21787},{"$f":"SUM(E3:E80)","v":51517},{"$f":"SUM(F3:F80)","v":21465.416666666668},{"$f":"SUM(G3:G80)","v":14305},{"$f":"G86/D86","v":0.65658420158810304},{"$f":"SUM(I3:I80)","v":8747},{"$f":"I86/F86","v":0.40749267232175784},{"$f":"SUM(K3:K80)","v":19363},{"$f":"K86/D86","v":0.88874099233487858},{"$f":"SUM(M3:M80)","v":19944},{"$f":"M86/D86","v":0.91540827098728594},{"$f":"SUM(O3:O80)","v":19479},{"$f":"O86/D86","v":0.89406526827924915},{"$f":"SUM(Q3:Q80)","v":17420},{"$f":"Q86/D86","v":0.79955937026667279},{"$f":"SUM(S3:S80)","v":14569},{"$f":"S86/F86","v":0.6787196459421162},{"$f":"SUM(U3:U80)","v":18955},{"$f":"U86/F86","v":0.88304831414872753},{"$f":"SUM(W3:W80)","v":17698},{"$f":"W86/F86","v":0.82448900362986965}]
[]
[]
[]
[" FonteVacina e Confia, em 04 de Junho de 2024.**"]
["**Dados referente às doses aplicadas no período de Maio de 2024"]
["Cobertura Calculada por município de residência do cidadão (no Vacina e Confia, a origem da informação é o endereço que consta no cadastro do cidadão preenchido manualmente por meio do autocadastro ou pelo cadastro realizado por um profissional de saúde no momento do atendimento)."]
[]
["1 População anual extraída do MS/SVS/DASIS - SINASC/DASIS/SVS/MS 2023 (hoje preliminares) referente ao período de março a dezembro de 2023 e SINASC/DASIS/SVS/MS 2024 referente ao período de janeiro a fevereiro de 2024."]
[]
["² População proporcional extraída do MS/SVS/DASIS - SINASC/DASIS/SVS/MS 2023 (hoje preliminares) referente ao período de março e abril de 2023 somada a população extraída do SINASC/DASIS/SVS/MS 2024 referente ao período de janeiro e fevereiro de 2024."]
[]
["Observações:"]
["Imunobiológicos que foram recebidos parcialmente pelo estado no mês da análise, sendo distribuídos em quantidades reduzidas às regionais e municípios: Varicela, Haemophilus influenzae tipo B, Soro Antirrábico Humano."]
["Imunobiológicos que não foram recebidos pelo estado no mês da análise, não sendo possível a distribuição às regionais e municípios: Meningo C, Tetra viral, Sars-cov-10 Bivalente, DTPa (CRIE) e Sars-Cov2-10 Doses Pediátricas."]
["Imunobiológicos com indisponibilidade de aquisição e distribuição no mês da análise: "]
["Imunobiológicos com indisponibilidade de aquisição e distribuição no mês da análise: Tetra Viral."]

{"sheet":"Cobert. COVID-19 Menores 4 anos","index":4,"n_rows":92,"n_cols":3,"rows_kept":92,"cut":false,"hidden":true,"merged":[[90,0,90,9],[91,0,91,9],[86,0,86,9],[87,0,87,9],[88,0,88,9],[89,0,89,9]]}
["Regional ","Município","Série Histórica "]
["Região Metropolitana","Afonso Cláudio"]
["Região Norte","Água Doce do Norte"]
["Região Central","Águia Branca"]
["Região Sul","Alegre"]
["Região Sul","Alfredo Chaves"]
["Região Central","Alto Rio Novo"]
["Região Sul","Anchieta"]
["Região Sul","Apiacá"]
["Região Metropolitana","Aracruz"]
["Região Sul","Atilio Vivacqua"]
["Região Central","Baixo Guandu"]
["Região Norte","Barra de São Francisco"]
["Região Norte","Boa Esperança"]
["Região Sul","Bom Jesus do Norte"]
["Região Metropolitana","Brejetuba"]
["Região Sul","Cachoeiro de Itapemirim"]
["Região Metropolitana","Cariacica"]
["Região Sul","Castelo"]
["Região Central","Colatina"]
["Região Norte","Conceição da Barra"]
["Região Metropolitana","Conceição do Castelo"]
["Região Sul","Divino de São Lourenço"]
["Região Metropolitana","Domingos Martins"]
["Região Sul","Dores do Rio Preto"]
["Região Norte","Ecoporanga"]
["Região Metropolitana","Fundão"]
["Região Central","Governador Lindenberg"]
["Região Sul","Guaçuí"]
["Região Metropolitana","Guarapari"]
["Região Metropolitana","Ibatiba"]
["Região Metropolitana","Ibiraçu"]
["Região Sul","Ibitirama"]
["Região Sul","Iconha"]
["Região Sul","Irupi"]
["Região Metropolitana","Itaguaçu"]
["Região Sul","Itapemirim"]
["Região Metropolitana","Itarana"]
["Região Sul","Iúna"]
["Região Norte","Jaguaré"]
["Região Sul","Jerônimo Monteiro"]
["Região Metropolitana","João Neiva"]
["Região Metropolitana","Laranja da Terra"]
["Região Central","Linhares"]
["Região Central","Mantenópolis"]
["Região Sul","Marataízes"]
["Região Metropolitana","Marechal Floriano"]
["Região Central","Marilândia"]
["Região Sul","Mimoso do Sul"]
["Região Norte","Montanha"]
["Região Norte","Mucurici"]
["Região Sul","Muniz Freire"]
["Região Sul","Muqui"]
["Região Norte","Nova Venécia"]
["Região Central","Pancas"]
["Região Norte","Pedro Canário"]
["Região Norte","Pinheiros"]
["Região Sul","Piúma"]
["Região Norte","Ponto Belo"]
["Região Sul","Presidente Kennedy"]
["Região Central","Rio Bananal"]
["Região Sul","Rio Novo do Sul"]
["Região Metropolitana","Santa Leopoldina"]
["Região Metropolitana","Santa Maria de Jetibá"]
["Região Metropolitana","Santa Teresa"]
["Região Central","São Domingos do Norte"]
["Região Central","São Gabriel da Palha"]
["Região Sul","São José do Calçado"]
["Região Norte","São Mateus"]
["Região Central","São Roque do Canaã"]
["Região Metropolitana","Serra"]
["Região Central","Sooretama"]
["Região Sul","Vargem Alta"]
["Região Metropolitana","Venda Nova do Imigrante"]
["Região Metropolitana","Viana"]
["Região Norte","Vila Pavão"]
["Região Central","Vila Valério"]
["Região Metropolitana","Vila Velha"]
["Região Metropolitana","Vitória"]
[]
[null,"Espírito Santo"]
[null,"Região Norte"]
[null,"Região Central"]
[null,"Região Metropolitana"]
[null,"Região Sul"]
[]
["Pfizer Pediátrica Menor de 5 anos e Coronavac"]
["Período avaliado: 2021-2024"]
["Fonte: https://www.vacinaeconfia.es.gov.br"]
["*Dados de janeiro/2024 extraídos do Vacina e Confia em 04/01/2024"]
["População proporcional extraída do SINASC 2022 (menores de 1 ano) e Censo IBGE 2022 (demais idades)"]
["Cobertura Calculada por município de procedência da vacinação"]

{"sheet":"Cobert. Meningo C Adolescentes","index":5,"n_rows":101,"n_cols":3,"rows_kept":101,"cut":false,"hidden":false,"merged":[[79,0,79,1]]}
["Regional ","Município","Série Histórica "]
["Metropolitana","Afonso Cláudio",55.931161647203439]
["Central Norte","Água Doce do Norte",63.403614457831324]
["Central Norte","Águia Branca",58.13492063492064]
["Sul","Alegre",68.097705403404888]
["Sul","Alfredo Chaves",39.398734177215189]
["Central Norte","Alto Rio Novo",83.737864077669897]
["Sul","Anchieta",73.80952380952381]
["Sul","Apiacá",29.395604395604398]
["Metropolitana","Aracruz",74.972211930344571]
["Sul","Atilio Vivacqua",73.6328125]
["Central Norte","Baixo Guandu",60.183968462549274]
["Central Norte","Barra de São Francisco",63.183000867302688]
["Central Norte","Boa Esperança",56.521739130434781]
["Sul","Bom Jesus do Norte",49.328214971209214]
["Metropolitana","Brejetuba",78.618857901726429]
["Sul","Cachoeiro de Itapemirim",74.162150204623373]
["Metropolitana","Cariacica",68.354494410440594]
["Sul","Castelo",75.503778337531486]
["Central Norte","Colatina",58.396260338007913]
["Central Norte","Conceição da Barra",52.812858783008032]
["Metropolitana","Conceição do Castelo",72.63513513513513]
["Sul","Divino de São Lourenço",56.25]
["Metropolitana","Domingos Martins",74.680603948896632]
["Sul","Dores do Rio Preto",72.440944881889763]
["Central Norte","Ecoporanga",59.102902374670187]
["Metropolitana","Fundão",72.536687631027249]
["Central Norte","Governador Lindenberg",70.36363636363636]
["Sul","Guaçuí",64.389920424403186]
["Metropolitana","Guarapari",65.200794014353335]
["Metropolitana","Ibatiba",68.731988472622476]
["Metropolitana","Ibiraçu",72.125435540069688]
["Sul","Ibitirama",65.095986038394415]
["Sul","Iconha",71.062992125984252]
["Sul","Irupi",63.081009296148736]
["Metropolitana","Itaguaçu",62.175324675324674]
["Sul","Itapemirim",55.626872058194266]
["Metropolitana","Itarana",61.915887850467286]
["Sul","Iúna",59.846547314578004]
["Central Norte","Jaguaré",58.305462653288743]
["Sul","Jerônimo Monteiro",78.685612788632326]
["Metropolitana","João Neiva",69.802731411229132]
["Metropolitana","Laranja da Terra",63.524590163934427]
["Central Norte","Linhares",66.877546643791547]
["Central Norte","Mantenópolis",76.197183098591552]
["Sul","Marataízes",78.115230013398843]
["Metropolitana","Marechal Floriano",73.96963123644251]
["Central Norte","Marilândia",68.909090909090907]
["Sul","Mimoso do Sul",63.675582398619504]
["Central Norte","Montanha",71.238095238095241]
["Central Norte","Mucurici",62.450592885375485]
["Sul","Muniz Freire",62.012987012987011]
["Sul","Muqui",63.897280966767369]
["Central Norte","Nova Venécia",48.536082474226802]
["Central Norte","Pancas",64.482029598308671]
["Central Norte","Pedro Canário",68.954509177972866]
["Central Norte","Pinheiros",58.927311220889202]
["Sul","Piúma",63.627992633517493]
["Central Norte","Ponto Belo",55.555555555555557]
["Sul","Presidente Kennedy",83.424657534246577]
["Central Norte","Rio Bananal",74.747474747474755]
["Sul","Rio Novo do Sul",56.130268199233711]
["Metropolitana","Santa Leopoldina",47.401574803149607]
["Metropolitana","Santa Maria de Jetibá",70.43641482871891]
["Metropolitana","Santa Teresa",73.434535104364329]
["Central Norte","São Domingos do Norte",68.048780487804876]
["Central Norte","São Gabriel da Palha",53.279702970297024]
["Sul","São José do Calçado",63.405797101449281]
["Central Norte","São Mateus",57.082324455205814]
["Central Norte","São Roque do Canaã",76.344086021505376]
["Metropolitana","Serra",64.730162005984937]
["Central Norte","Sooretama",75.801749271137027]
["Sul","Vargem Alta",69.980694980694977]
["Metropolitana","Venda Nova do Imigrante",68.003565062388589]
["Metropolitana","Viana",68.174962292609351]
["Central Norte","Vila Pavão",80.349344978165931]
["Central Norte","Vila Valério",83.185840707964601]
["Metropolitana","Vila Velha",71.58176943699732]
["Metropolitana","Vitória",75.39021488066075]
["Total",null,72.748599510587098]
[]
["Meningocócica Conjudada C e Meningocócica ACWY"]
["Período avaliado: 2016-2024"]
["Fonte: http://tabnet.datasus.gov.br/ e https://www.vacinaeconfia.es.gov.br"]
["*Dados parciais. Dados de janeiro/2022 a abril/2022 extraídos do TABNET em 10/05/2024"]
["*Dados de Maio/2024 extraídos do Vacina e Confia em Junho/2024"]
["População proporcional extraída do Censo IBGE 2022"]
["Cobertura Calculada por município de procedência da vacinação"]
[]
["Observações:"]
["Imunobiológicos que foram recebidos parcialmente pelo estado no mês da análise, sendo distribuídos em quantidades reduzidas às regionais e municípios: Varicela, Febre Amarela e HPV Quadrivalente."]
["Imunobiológicos que não foram recebidos pelo estado no mês da análise, não sendo possível a distribuição às regionais e municípios: Meningo C, Hepatite A (CRIE), HIB, Hepatite A Rotina Pediátrica, DTPa (CRIE)."]
["Imunobiológicos com indisponibilidade de aquisição e distribuição no mês da análise: Tetra Viral."]
[]
[]
[]
[]
["Observações:"]
["Imunobiológicos que foram recebidos parcialmente pelo estado no mês da análise, sendo distribuídos em quantidades reduzidas às regionais e municípios: Varicela, Haemophilus influenzae tipo B, Soro Antirrábico Humano."]
["Imunobiológicos que não foram recebidos pelo estado no mês da análise, não sendo possível a distribuição às regionais e municípios: Meningo C, Tetra viral, Sars-cov-10 Bivalente, DTPa (CRIE) e Sars-Cov2-10 Doses Pediátricas."]
["Imunobiológicos com indisponibilidade de aquisição e distribuição no mês da análise:"]

{"sheet":"Cobert. HPV ","index":6,"n_rows":94,"n_cols":4,"rows_kept":94,"cut":false,"hidden":false,"merged":[[86,0,86,5],[87,0,87,5],[88,0,88,5],[79,0,79,1],[82,0,82,5],[83,0,83,5],[84,0,84,5],[85,0,85,5]]}
["REGIONAL","MUNICÍPIO","HPV* Quadrivalente D1 Total - Feminino","HPV* Quadrivalente D1 Total - Masculino"]
["METROPOLITANA","Afonso Cláudio",83.954754922496861,78.927524088814422]
["CENTRAL-NORTE","Água Doce do Norte",{"$f":"'[1]Água Doce do Norte'!$H$23","v":85.511651469098283},{"$f":"'[1]Água Doce do Norte'!$H$47","v":59.979736575481255}]
["CENTRAL-NORTE","Águia Branca",{"$f":"'[1]Águia Branca'!$H$23","v":70.588235294117652},{"$f":"'[1]Águia Branca'!$H$47","v":75.239398084815321}]
["SUL","Alegre",{"$f":"[2]Alegre!$H$23","v":82.134116495349971},{"$f":"[2]Alegre!$H$47","v":63.142437591776797}]
["SUL","Alfredo Chaves",{"$f":"'[2]Alfredo Chaves'!$H$23","v":81.573498964803321},{"$f":"'[2]Alfredo Chaves'!$H$47","v":58.592132505175989}]
["CENTRAL-NORTE","Alto Rio Novo",{"$f":"'[1]Alto Rio Novo'!$H$23","v":101.49253731343283},{"$f":"'[1]Alto Rio Novo'!$H$47","v":88.888888888888886}]
["SUL","Anchieta",{"$f":"[2]Anchieta!$H$23","v":92.779939472546474},{"$f":"[2]Anchieta!$H$47","v":81.625594466061386}]
["SUL","Apiacá",{"$f":"[2]Apiacá!$H$23","v":69.418386491557229},{"$f":"[2]Apiacá!$H$47","v":50.281425891181982}]
["METROPOLITANA","Aracruz",84.59657701711491,71.955990220048903]
["SUL","Atílio Vivácqua",{"$f":"'[2]Atílio Vivácqua'!$H$23","v":101.75879396984924},{"$f":"'[2]Atílio Vivácqua'!$H$47","v":91.708542713567837}]
["CENTRAL-NORTE","Baixo Guandu",{"$f":"'[1]Baixo Guandu'!$H$23","v":81.988661142607938},{"$f":"'[1]Baixo Guandu'!$H$47","v":65.852594853903184}]
["CENTRAL-NORTE","Barra de São Francisco",{"$f":"'[1]Barra de São Francisco'!$H$23","v":74.662064998561988},{"$f":"'[1]Barra de São Francisco'!$H$47","v":58.441184929536959}]
["CENTRAL-NORTE","Boa Esperança",{"$f":"'[1]Boa Esperança'!$H$23","v":86.939942802669208},{"$f":"'[1]Boa Esperança'!$H$47","v":48.999046711153483}]
["SUL","Bom Jesus do Norte",{"$f":"'[2]Bom Jesus do Norte'!$H$23","v":83.072916666666657},{"$f":"'[2]Bom Jesus do Norte'!$H$47","v":64.0625}]
["METROPOLITANA","Brejetuba",91.068301225919441,74.430823117338008]
["SUL","Cachoeiro de Itapemirim",{"$f":"'[2]Cachoeiro de Itapemirim'!$H$23","v":87.287699433865157},{"$f":"'[2]Cachoeiro de Itapemirim'!$H$47","v":85.699580913168148}]
["METROPOLITANA","Cariacica",82.312014985282318,49.297564891624297]
["SUL","Castelo",{"$f":"[2]Castelo!$H$23","v":93.427620632279528},{"$f":"[2]Castelo!$H$47","v":86.10648918469218}]
["CENTRAL-NORTE","Colatina",{"$f":"[1]Colatina!$H$23","v":53.162740643309817},{"$f":"[1]Colatina!$H$47","v":43.764199449958149}]
["CENTRAL-NORTE","Conceição da Barra",{"$f":"'[1]Conceição da Barra'!$H$23","v":81.669266770670816},{"$f":"'[1]Conceição da Barra'!$H$47","v":67.784711388455548}]
["METROPOLITANA","Conceição do Castelo",97.918948521358161,84.337349397590373]
["SUL","Divino de São Lourenço",{"$f":"'[2]Divino São Lourenço'!$H$23","v":76.767676767676761},{"$f":"'[2]Divino São Lourenço'!$H$47","v":84.848484848484844}]
["METROPOLITANA","Domingos Martins",91.657054978854291,78.277585544021534]
["SUL","Dores do Rio Preto",{"$f":"'[2]Dores do Rio Preto'!$H$23","v":95.045871559633028},{"$f":"'[2]Dores do Rio Preto'!$H$47","v":84.77064220183486}]
["CENTRAL-NORTE","Ecoporanga",{"$f":"[1]Ecoporanga!$H$23","v":83.150183150183153},{"$f":"[1]Ecoporanga!$H$47","v":66.544566544566536}]
["METROPOLITANA","Fundão",82.550805886475118,65.171688857743518]
["CENTRAL-NORTE","Governador Lindenberg",{"$f":"'[1]Governador Lindenberg'!$H$23","v":89.162561576354676},{"$f":"'[1]Governador Lindenberg'!$H$47","v":81.527093596059103}]
["SUL","Guaçuí",{"$f":"[2]Guaçuí!$H$23","v":87.813462384513869},{"$f":"[2]Guaçuí!$H$47","v":70.567531896172468}]
["METROPOLITANA","Guarapari",76.294556225104699,44.305995301807783]
["METROPOLITANA","Ibatiba",88.074291300097755,77.908113391984358]
["METROPOLITANA","Ibiraçu",90.438695163104612,67.041619797525314]
["SUL","Ibitirama",{"$f":"[2]Ibitirama!$H$23","v":49.469964664310957},{"$f":"[2]Ibitirama!$H$47","v":60.07067137809188}]
["SUL","Iconha",{"$f":"[2]Iconha!$H$23","v":93.830334190231355},{"$f":"[2]Iconha!$H$47","v":88.174807197943451}]
["SUL","Irupi",{"$f":"[2]Irupi!$H$23","v":69.271758436944936},{"$f":"[2]Irupi!$H$47","v":82.770870337477803}]
["METROPOLITANA","Itaguaçu",93.665158371040718,47.285067873303163]
["SUL","Itapemirim",{"$f":"[2]Itapemirim!$H$23","v":68.311085316308763},{"$f":"[2]Itapemirim!$H$47","v":67.846778874056881}]
["METROPOLITANA","Itarana",84.472049689440993,78.260869565217391]
["SUL","Iúna",{"$f":"[2]Iúna!$H$23","v":76.382340334333477},{"$f":"[2]Iúna!$H$47","v":80.497213887698237}]
["CENTRAL-NORTE","Jaguaré",{"$f":"[1]Jaguaré!$H$23","v":91.48618371919342},{"$f":"[1]Jaguaré!$H$47","v":75.877520537714716}]
["SUL","Jerônimo Monteiro",{"$f":"'[2]Jerônimo Monteiro'!$H$23","v":93.300852618757617},{"$f":"'[2]Jerônimo Monteiro'!$H$47","v":84.043848964677224}]
["METROPOLITANA","João Neiva",96.058091286307061,75.103734439834028]
["METROPOLITANA","Laranja da Terra",79.784366576819409,64.959568733153645]
["CENTRAL-NORTE","Linhares",{"$f":"[1]Linhares!$H$23","v":76.829703677258124},{"$f":"[1]Linhares!$H$47","v":60.664048554087827}]
["CENTRAL-NORTE","Mantenópolis",{"$f":"[1]Mantenópolis!$H$23","v":89.913544668587903},{"$f":"[1]Mantenópolis!$H$47","v":59.365994236311238}]
["SUL","Marataízes",{"$f":"[2]Marataízes!$H$23","v":95.34953495349535},{"$f":"[2]Marataízes!$H$47","v":96.309630963096311}]
["METROPOLITANA","Marechal Floriano",96.268656716417908,67.910447761194021]
["CENTRAL-NORTE","Marilândia",{"$f":"[1]Marilândia!$H$23","v":100.99750623441398},{"$f":"[1]Marilândia!$H$47","v":89.526184538653368}]
["SUL","Mimoso do Sul",{"$f":"'[2]Mimoso do Sul'!$H$23","v":79.7859690844233},{"$f":"'[2]Mimoso do Sul'!$H$47","v":70.630202140309152}]
["CENTRAL-NORTE","Montanha",{"$f":"[1]Montanha!$H$23","v":93.725992317541625},{"$f":"[1]Montanha!$H$47","v":85.019206145966706}]
["CENTRAL-NORTE","Mucurici",{"$f":"[1]Mucurici!$H$23","v":96.648044692737429},{"$f":"[1]Mucurici!$H$47","v":75.41899441340783}]
["SUL","Muniz Freire",{"$f":"'[2]Muniz Freire'!$H$23","v":91.424418604651152},{"$f":"'[2]Muniz Freire'!$H$47","v":91.133720930232556}]
["SUL","Muqui",{"$f":"[2]Muqui!$H$23","v":82.565130260521045},{"$f":"[2]Muqui!$H$47","v":72.745490981963925}]
["CENTRAL-NORTE","Nova Venécia",{"$f":"'[1]Nova Venécia'!$H$23","v":87.975897014516562},{"$f":"'[1]Nova Venécia'!$H$47","v":78.115584771295531}]
["CENTRAL-NORTE","Pancas",{"$f":"[1]Pancas!$H$23","v":87.535410764872523},{"$f":"[1]Pancas!$H$47","v":77.478753541076486}]
["CENTRAL-NORTE","Pedro Canário",{"$f":"'[1]Pedro Canário'!$H$23","v":90.665236051502134},{"$f":"'[1]Pedro Canário'!$H$47","v":75.858369098712444}]
["CENTRAL-NORTE","Pinheiros",{"$f":"[1]Pinheiros!$H$23","v":78.857142857142861},{"$f":"[1]Pinheiros!$H$47","v":59.047619047619051}]
["SUL","Piúma",{"$f":"[2]Piúma!$H$23","v":71.803852889667255},{"$f":"[2]Piúma!$H$47","v":62.230005837711623}]
["CENTRAL-NORTE","Ponto Belo",{"$f":"'[1]Ponto Belo'!$H$23","v":91.578947368421055},{"$f":"'[1]Ponto Belo'!$H$47","v":77.192982456140342}]
["SUL","Presidente Kennedy",{"$f":"'[2]Presidente Kennedy'!$H$23","v":85.319516407599309},{"$f":"'[2]Presidente Kennedy'!$H$47","v":84.628670120898093}]
["CENTRAL-NORTE","Rio Bananal",{"$f":"'[1]Rio Bananal'!$H$23","v":99.801718440185056},{"$f":"'[1]Rio Bananal'!$H$47","v":98.347653668208864}]
["SUL","Rio Novo do Sul",{"$f":"'[2]Rio Novo do Sul'!$H$23","v":73.604060913705581},{"$f":"'[2]Rio Novo do Sul'!$H$47","v":82.487309644670049}]
["METROPOLITANA","Santa Leopoldina",63.280423280423278,37.248677248677247]
["METROPOLITANA","Santa Maria de Jetibá",89.808717466290375,54.938852304797749]
["METROPOLITANA","Santa Teresa",102.30111768573306,74.424720578566735]
["CENTRAL-NORTE","São Domingos do Norte",{"$f":"'[1]São Domingos do Norte'!$H$23","v":98.181818181818187},{"$f":"'[1]São Domingos do Norte'!$H$47","v":79.338842975206617}]
["CENTRAL-NORTE","São Gabriel da Palha",{"$f":"'[1]São Gabriel da Palha'!$H$23","v":81.065088757396452},{"$f":"'[1]São Gabriel da Palha'!$H$47","v":71.935756551141168}]
["SUL","São José do Calçado",{"$f":"'[2]São José do Calçado'!$H$23","v":81.851400730816081},{"$f":"'[2]São José do Calçado'!$H$47","v":84.287454323995121}]
["CENTRAL-NORTE","São Mateus",{"$f":"'[1]São Mateus'!$H$23","v":83.478784231116464},{"$f":"'[1]São Mateus'!$H$47","v":61.651118467248466}]
["CENTRAL-NORTE","São Roque do Canaã",{"$f":"'[1]São Roque do Canaã'!$H$23","v":104.62427745664739},{"$f":"'[1]São Roque do Canaã'!$H$47","v":74.855491329479776}]
["METROPOLITANA","Serra",80.0480387935918,41.816410233169428]
["CENTRAL-NORTE","Sooretama",{"$f":"[1]Sooretama!$H$23","v":82.989490073958734},{"$f":"[1]Sooretama!$H$47","v":77.929155313351501}]
["SUL","Vargem Alta",{"$f":"'[2]Vargem Alta'!$H$23","v":86.852589641434264},{"$f":"'[2]Vargem Alta'!$H$47","v":86.454183266932276}]
["METROPOLITANA","Venda Nova do Imigrante",98.338461538461544,88.615384615384613]
["METROPOLITANA","Viana",89.374579690652325,68.762609280430397]
["CENTRAL-NORTE","Vila Pavão",{"$f":"'[1]Vila Pavão'!$H$23","v":95.96541786743515},{"$f":"'[1]Vila Pavão'!$H$47","v":70.028818443804028}]
["CENTRAL-NORTE","Vila Valério",{"$f":"'[1]Vila Valério'!$H$23","v":103.78486055776892},{"$f":"'[1]Vila Valério'!$H$47","v":83.466135458167329}]
["METROPOLITANA","Vila Velha",88.543864938197174,64.889960807959]
["METROPOLITANA","Vitória",99.327793856782748,66.04425357109514]
["TOTAL",null,83.039022666464732,76.666834940346988]
[]
[]
["Cobertura Vacinal HPV 2024"]
["Período avaliado: 2013-2024"]
["Fonte: http://tabnet.datasus.gov.br/"]
["Fonte: https://www.vacinaeconfia.es.gov.br"]
["*Dados parciais gerados em 10/05/2024 (TABNET) e Junho/2024 (VeC)"]
["População proporcional extraída do Censo IBGE 2022"]
["Cobertura Calculada por município de procedência da vacinação"]
[]
["Observações:"]
["Imunobiológicos que foram recebidos parcialmente pelo estado no mês da análise, sendo distribuídos em quantidades reduzidas às regionais e municípios: Varicela, Haemophilus influenzae tipo B, Soro Antirrábico Humano."]
["Imunobiológicos que não foram recebidos pelo estado no mês da análise, não sendo possível a distribuição às regionais e municípios: Meningo C, Tetra viral, Sars-cov-10 Bivalente, DTPa (CRIE) e Sars-Cov2-10 Doses Pediátricas."]
["Imunobiológicos com indisponibilidade de aquisição e distribuição no mês da análise:"]

{"sheet":"dTpa gestantes - procedência","index":7,"n_rows":100,"n_cols":6,"rows_kept":100,"cut":false,"hidden":false,"merged":[[90,0,90,11],[85,1,85,3],[91,0,92,12],[93,0,94,12]]}
["REGIONAL","MUNICÍPIO","¹POPULAÇÃO GESTANTE ANUAL","²POPULAÇÃO PROPORCIONAL","DOSES APLICADAS dTpa GESTANTES","COBERTURA VACINAL dTpa GESTANTES"]
["Metropolitana","Afonso Cláudio",374,146,120,{"$f":"E2/D2","v":0.82191780821917804}]
["Norte","Água Doce do Norte",185,90,78,{"$f":"E3/D3","v":0.8666666666666667}]
["Central","Águia Branca",165,67,54,0.80597014925373134]
["Sul","Alegre",330,135,136,1.0074074074074073]
["Sul","Alfredo Chaves",148,59,51,0.86440677966101698]
["Central","Alto Rio Novo",84,27,38,1.4074074074074074]
["Sul","Anchieta",389,169,137,0.81065088757396453]
["Sul","Apiacá",71,37,29,0.78378378378378377]
["Metropolitana","Aracruz",1465,634,542,0.85488958990536279]
["Sul","Atilio Vivacqua",138,64,70,1.09375]
["Central","Baixo Guandu",388,163,127,0.77914110429447858]
["Norte","Barra de São Francisco",553,241,193,0.80082987551867224]
["Norte","Boa Esperança",189,77,76,0.98701298701298701]
["Sul","Bom Jesus do Norte",84,37,38,1.027027027027027]
["Metropolitana","Brejetuba",214,87,72,0.82758620689655171]
["Sul","Cachoeiro de Itapemirim",2460,1105,861,0.77918552036199096]
["Metropolitana","Cariacica",4873,2069,1646,0.79555340744320924]
["Sul","Castelo",443,192,162,0.84375]
["Central","Colatina",1561,669,601,0.89835575485799701]
["Norte","Conceição da Barra",342,131,158,1.2061068702290076]
["Metropolitana","Conceição do Castelo",169,78,59,0.75641025641025639]
["Sul","Divino de São Lourenço",65,25,16,0.64]
["Metropolitana","Domingos Martins",417,186,175,0.94086021505376349]
["Sul","Dores do Rio Preto",89,34,37,1.088235294117647]
["Norte","Ecoporanga",266,125,100,0.8]
["Metropolitana","Fundão",221,94,77,0.81914893617021278]
["Central","Governador Lindenberg",150,72,50,0.69444444444444442]
["Sul","Guaçuí",396,150,115,0.76666666666666672]
["Metropolitana","Guarapari",1732,752,633,0.8417553191489362]
["Metropolitana","Ibatiba",362,153,166,1.0849673202614378]
["Metropolitana","Ibiraçu",154,70,67,0.95714285714285718]
["Sul","Ibitirama",127,52,54,1.0384615384615385]
["Sul","Iconha",118,47,45,0.95744680851063835]
["Sul","Irupi",197,75,90,1.2]
["Metropolitana","Itaguaçu",135,59,64,1.0847457627118644]
["Sul","Itapemirim",541,201,182,0.90547263681592038]
["Metropolitana","Itarana",140,65,61,0.93846153846153846]
["Sul","Iúna",474,189,161,0.85185185185185186]
["Norte","Jaguaré",489,212,201,0.94811320754716977]
["Sul","Jerônimo Monteiro",156,59,54,0.9152542372881356]
["Metropolitana","João Neiva",178,70,64,0.91428571428571426]
["Metropolitana","Laranja da Terra",96,43,36,0.83720930232558144]
["Central","Linhares",2598,1125,906,0.80533333333333335]
["Central","Mantenópolis",161,78,58,0.74358974358974361]
["Sul","Marataízes",570,266,212,0.79699248120300747]
["Metropolitana","Marechal Floriano",227,102,89,0.87254901960784315]
["Central","Marilândia",167,61,54,0.88524590163934425]
["Sul","Mimoso do Sul",262,105,96,0.91428571428571426]
["Norte","Montanha",233,76,82,1.0789473684210527]
["Norte","Mucurici",68,21,32,1.5238095238095237]
["Sul","Muniz Freire",210,86,93,1.0813953488372092]
["Sul","Muqui",163,60,69,1.1499999999999999]
["Norte","Nova Venécia",681,301,235,0.78073089700996678]
["Central","Pancas",216,91,74,0.81318681318681318]
["Norte","Pedro Canário",305,132,116,0.87878787878787878]
["Norte","Pinheiros",301,109,117,1.073394495412844]
["Sul","Piúma",309,122,123,1.0081967213114753]
["Norte","Ponto Belo",75,25,28,1.1200000000000001]
["Sul","Presidente Kennedy",194,94,78,0.82978723404255317]
["Central","Rio Bananal",299,130,118,0.90769230769230769]
["Sul","Rio Novo do Sul",120,47,37,0.78723404255319152]
["Metropolitana","Santa Leopoldina",93,32,28,0.875]
["Metropolitana","Santa Maria de Jetibá",682,302,247,0.81788079470198671]
["Metropolitana","Santa Teresa",299,120,105,0.875]
["Central","São Domingos do Norte",126,58,41,0.7068965517241379]
["Central","São Gabriel da Palha",440,172,184,{"$f":"E67/D67","v":1.069767441860465}]
["Sul","São José do Calçado",101,44,37,0.84090909090909094]
["Norte","São Mateus",1742,613,592,0.965742251223491]
["Central","São Roque do Canaã",131,77,55,0.7142857142857143]
["Metropolitana","Serra",7393,3287,2458,0.74779434134469125]
["Central","Sooretama",439,196,186,0.94897959183673475]
["Sul","Vargem Alta",265,121,102,0.84297520661157022]
["Metropolitana","Venda Nova do Imigrante",392,162,138,0.85185185185185186]
["Metropolitana","Viana",980,430,359,0.83488372093023255]
["Norte","Vila Pavão",91,43,57,1.3255813953488371]
["Central","Vila Valério",259,121,90,0.74380165289256195]
["Metropolitana","Vila Velha",5698,2372,1854,0.78161888701517701]
["Metropolitana","Vitória",3748,1596,1416,0.88721804511278191]
[]
[null,"Total Norte",{"$f":"SUMIF($A$2:$A$79,\"Norte\",C$2:C$79)","v":5520},{"$f":"SUMIF($A$2:$A$79,\"Norte\",D$2:D$79)","v":2196},{"$f":"SUMIF($A$2:$A$79,\"Norte\",E$2:E$79)","v":2065},0.94034608378870677]
[null,"Total Central",{"$f":"SUMIF($A$2:$A$79,\"CENTRAL\",C$2:C$79)","v":7184},{"$f":"SUMIF($A$2:$A$79,\"CENTRAL\",D$2:D$79)","v":3107},{"$f":"SUMIF($A$2:$A$79,\"CENTRAL\",E$2:E$79)","v":2636},0.84840682330222084]
[null,"Total Metropolitana",{"$f":"SUMIF($A$2:$A$79,\"METROPOLITANA\",C$2:C$79)","v":30042},{"$f":"SUMIF($A$2:$A$79,\"METROPOLITANA\",D$2:D$79)","v":12909},{"$f":"SUMIF($A$2:$A$79,\"METROPOLITANA\",E$2:E$79)","v":10476},0.81152684173832212]
[null,"Total Sul",{"$f":"SUMIF($A$2:$A$79,\"SUL\",C$2:C$79)","v":8420},{"$f":"SUMIF($A$2:$A$79,\"SUL\",D$2:D$79)","v":3575},{"$f":"SUMIF($A$2:$A$79,\"SUL\",E$2:E$79)","v":3085},0.86293706293706296]
[null,"TOTAL ES",{"$f":"SUM(C2:C79)","v":51166},{"$f":"SUM(D2:D79)","v":21787},{"$f":"SUM(E2:E79)","v":18262},{"$f":"E85/D85","v":0.83820626979391377}]
[null,"HOMOGENEIDADE ENTRE MUNICÍPIOS",null,null,{"$f":"COUNTIF(F2:F79,\">=0,95\")","v":23},{"$f":"E86/78","v":0.29487179487179488}]
[]
[]
[" Vacina e Confia, em 04 de Junho de 2024.**"]
["**Dados referente às doses aplicadas no período de Maio de 2024"]
["Cobertura Calculada por município de procedência da vacinação"]
["1 População anual extraída do MS/SVS/DASIS - SINASC/DASIS/SVS/MS 2023 (hoje preliminares) referente ao período de março a dezembro de 2023 e SINASC/DASIS/SVS/MS 2024 referente ao período de janeiro a fevereiro de 2024."]
[]
["² População proporcional extraída do MS/SVS/DASIS - SINASC/DASIS/SVS/MS 2023 (hoje preliminares) referente ao período de março  e abril de 2023 somada a população extraída do SINASC/DASIS/SVS/MS 2024 referente ao período de janeiro e fevereiro de 2024."]
[]
[]
["Observações:"]
["Imunobiológicos que foram recebidos parcialmente pelo estado no mês da análise, sendo distribuídos em quantidades reduzidas às regionais e municípios: Varicela, Haemophilus influenzae tipo B, Soro Antirrábico Humano."]
["Imunobiológicos que não foram recebidos pelo estado no mês da análise, não sendo possível a distribuição às regionais e municípios: Meningo C, Tetra viral, Sars-cov-10 Bivalente, DTPa (CRIE) e Sars-Cov2-10 Doses Pediátricas."]
["Imunobiológicos com indisponibilidade de aquisição e distribuição no mês da análise:"]

{"sheet":"dTpa gestantes - residência","index":8,"n_rows":100,"n_cols":6,"rows_kept":100,"cut":false,"hidden":false,"merged":[[85,1,85,3],[90,0,90,11],[91,0,92,12],[93,0,94,12]]}
["REGIONAL","MUNICÍPIO","¹POPULAÇÃO GESTANTE ANUAL","¹POPULAÇÃO PROPORCIONAL","DOSES APLICADAS dTpa GESTANTES","COBERTURA VACINAL dTpa GESTANTES"]
["Metropolitana","Afonso Cláudio",374,146,124,{"$f":"E2/D2","v":0.84931506849315064}]
["Norte","Água Doce do Norte",185,90,57,{"$f":"E3/D3","v":0.6333333333333333}]
["Central","Águia Branca",165,67,44,0.65671641791044777]
["Sul","Alegre",330,135,150,1.1111111111111112]
["Sul","Alfredo Chaves",148,59,64,1.0847457627118644]
["Central","Alto Rio Novo",84,27,38,1.4074074074074074]
["Sul","Anchieta",389,169,131,0.7751479289940828]
["Sul","Apiacá",71,37,25,0.67567567567567566]
["Metropolitana","Aracruz",1465,634,481,0.75867507886435326]
["Sul","Atilio Vivacqua",138,64,59,0.921875]
["Central","Baixo Guandu",388,163,121,0.74233128834355833]
["Norte","Barra de São Francisco",553,241,197,0.81742738589211617]
["Norte","Boa Esperança",189,77,74,0.96103896103896103]
["Sul","Bom Jesus do Norte",84,37,28,0.7567567567567568]
["Metropolitana","Brejetuba",214,87,62,0.71264367816091956]
["Sul","Cachoeiro de Itapemirim",2460,1105,852,0.77104072398190049]
["Metropolitana","Cariacica",4873,2069,1869,0.90333494441759299]
["Sul","Castelo",443,192,171,0.890625]
["Central","Colatina",1561,669,541,0.80866965620328846]
["Norte","Conceição da Barra",342,131,145,1.1068702290076335]
["Metropolitana","Conceição do Castelo",169,78,68,0.87179487179487181]
["Sul","Divino de São Lourenço",65,25,18,0.72]
["Metropolitana","Domingos Martins",417,186,195,1.0483870967741935]
["Sul","Dores do Rio Preto",89,34,27,0.79411764705882348]
["Norte","Ecoporanga",266,125,107,0.85599999999999998]
["Metropolitana","Fundão",221,94,71,0.75531914893617025]
["Central","Governador Lindenberg",150,72,58,0.80555555555555558]
["Sul","Guaçuí",396,150,103,0.68666666666666665]
["Metropolitana","Guarapari",1732,752,590,0.78457446808510634]
["Metropolitana","Ibatiba",362,153,163,1.065359477124183]
["Metropolitana","Ibiraçu",154,70,77,1.1000000000000001]
["Sul","Ibitirama",127,52,52,1]
["Sul","Iconha",118,47,54,1.1489361702127661]
["Sul","Irupi",197,75,68,0.90666666666666662]
["Metropolitana","Itaguaçu",135,59,55,0.93220338983050843]
["Sul","Itapemirim",541,201,196,0.97512437810945274]
["Metropolitana","Itarana",140,65,52,0.8]
["Sul","Iúna",474,189,160,0.84656084656084651]
["Norte","Jaguaré",489,212,190,0.89622641509433965]
["Sul","Jerônimo Monteiro",156,59,41,0.69491525423728817]
["Metropolitana","João Neiva",178,70,60,0.8571428571428571]
["Metropolitana","Laranja da Terra",96,43,33,0.76744186046511631]
["Central","Linhares",2598,1125,889,0.79022222222222227]
["Central","Mantenópolis",161,78,52,0.66666666666666663]
["Sul","Marataízes",570,266,188,0.70676691729323304]
["Metropolitana","Marechal Floriano",227,102,89,0.87254901960784315]
["Central","Marilândia",167,61,62,1.0163934426229508]
["Sul","Mimoso do Sul",262,105,102,0.97142857142857142]
["Norte","Montanha",233,76,83,1.0921052631578947]
["Norte","Mucurici",68,21,35,1.6666666666666667]
["Sul","Muniz Freire",210,86,78,0.90697674418604646]
["Sul","Muqui",163,60,75,1.25]
["Norte","Nova Venécia",681,301,271,0.90033222591362128]
["Central","Pancas",216,91,82,0.90109890109890112]
["Norte","Pedro Canário",305,132,129,0.97727272727272729]
["Norte","Pinheiros",301,109,106,0.97247706422018354]
["Sul","Piúma",309,122,117,0.95901639344262291]
["Norte","Ponto Belo",75,25,37,1.48]
["Sul","Presidente Kennedy",194,94,72,0.76595744680851063]
["Central","Rio Bananal",299,130,123,0.94615384615384612]
["Sul","Rio Novo do Sul",120,47,39,0.82978723404255317]
["Metropolitana","Santa Leopoldina",93,32,30,0.9375]
["Metropolitana","Santa Maria de Jetibá",682,302,211,0.69867549668874174]
["Metropolitana","Santa Teresa",299,120,121,1.0083333333333333]
["Central","São Domingos do Norte",126,58,42,0.72413793103448276]
["Central","São Gabriel da Palha",440,172,166,{"$f":"E67/D67","v":0.96511627906976749}]
["Sul","São José do Calçado",101,44,36,0.81818181818181823]
["Norte","São Mateus",1742,613,514,0.83849918433931481]
["Central","São Roque do Canaã",131,77,63,0.81818181818181823]
["Metropolitana","Serra",7393,3287,2302,0.70033465165804687]
["Central","Sooretama",439,196,187,0.95408163265306123]
["Sul","Vargem Alta",265,121,102,0.84297520661157022]
["Metropolitana","Venda Nova do Imigrante",392,162,131,0.80864197530864201]
["Metropolitana","Viana",980,430,366,0.85116279069767442]
["Norte","Vila Pavão",91,43,55,1.2790697674418605]
["Central","Vila Valério",259,121,88,0.72727272727272729]
["Metropolitana","Vila Velha",5698,2372,1670,0.70404721753794264]
["Metropolitana","Vitória",3748,1596,1228,0.76942355889724312]
[]
[null,"Total Norte",{"$f":"SUMIF($A$2:$A$79,\"Norte\",C$2:C$79)","v":5520},{"$f":"SUMIF($A$2:$A$79,\"Norte\",D$2:D$79)","v":2196},{"$f":"SUMIF($A$2:$A$79,\"Norte\",E$2:E$79)","v":2000},0.91074681238615662]
[null,"Total Central",{"$f":"SUMIF($A$2:$A$79,\"CENTRAL\",C$2:C$79)","v":7184},{"$f":"SUMIF($A$2:$A$79,\"CENTRAL\",D$2:D$79)","v":3107},{"$f":"SUMIF($A$2:$A$79,\"CENTRAL\",E$2:E$79)","v":2556},0.82265851303508208]
[null,"Total Metropolitana",{"$f":"SUMIF($A$2:$A$79,\"METROPOLITANA\",C$2:C$79)","v":30042},{"$f":"SUMIF($A$2:$A$79,\"METROPOLITANA\",D$2:D$79)","v":12909},{"$f":"SUMIF($A$2:$A$79,\"METROPOLITANA\",E$2:E$79)","v":10048},0.77837167867379353]
[null,"Total Sul",{"$f":"SUMIF($A$2:$A$79,\"SUL\",C$2:C$79)","v":8420},{"$f":"SUMIF($A$2:$A$79,\"SUL\",D$2:D$79)","v":3575},{"$f":"SUMIF($A$2:$A$79,\"SUL\",E$2:E$79)","v":3008},0.84139860139860145]
[null,"TOTAL ES",{"$f":"SUM(C2:C79)","v":51166},{"$f":"SUM(D2:D79)","v":21787},{"$f":"SUM(E2:E79)","v":17612},{"$f":"E85/D85","v":0.80837196493321706}]
[null,"HOMOGENEIDADE ENTRE MUNICÍPIOS",null,null,{"$f":"COUNTIF(F2:F79,\">=0,95\")","v":24},{"$f":"E86/78","v":0.30769230769230771}]
[]
[]
[" Vacina e Confia, em 04 de Junho de 2024.**"]
["**Dados referente às doses aplicadas no período de Maio de 2024"]
["Cobertura Calculada por município de procedência da vacinação"]
["1 População anual extraída do MS/SVS/DASIS - SINASC/DASIS/SVS/MS 2023 (hoje preliminares) referente ao período de março a dezembro de 2023 e SINASC/DASIS/SVS/MS 2024 referente ao período de janeiro a fevereiro de 2024."]
[]
["² População proporcional extraída do MS/SVS/DASIS - SINASC/DASIS/SVS/MS 2023 (hoje preliminares) referente ao período de março  e abril de 2023 somada a população extraída do SINASC/DASIS/SVS/MS 2024 referente ao período de janeiro e fevereiro de 2024."]
[]
[]
["Observações:"]
["Imunobiológicos que foram recebidos parcialmente pelo estado no mês da análise, sendo distribuídos em quantidades reduzidas às regionais e municípios: Varicela, Haemophilus influenzae tipo B, Soro Antirrábico Humano."]
["Imunobiológicos que não foram recebidos pelo estado no mês da análise, não sendo possível a distribuição às regionais e municípios: Meningo C, Tetra viral, Sars-cov-10 Bivalente, DTPa (CRIE) e Sars-Cov2-10 Doses Pediátricas."]
["Imunobiológicos com indisponibilidade de aquisição e distribuição no mês da análise:"]

{"sheet":"PROTEÇÃO","index":9,"n_rows":0,"n_cols":0,"rows_kept":0,"cut":false,"hidden":false,"merged":[]}

{"sheet":"cálculos1","index":10,"n_rows":95,"n_cols":17,"rows_kept":95,"cut":false,"hidden":true,"merged":[]}
["Regional ","Município","Cobertura Vacinal BCG","Cobertura Vacinal Rotavírus","Cobertura Vacinal COVID-19","Cobertura Vacinal Pentavalente","Cobertura Vacinal Poliomielite ","Cobertura Vacinal Pneumo 10","Cobertura Vacinal Tríplice Viral","Cobertura Vacinal Meningo C","Cobertura Vacinal Febre Amarela","Cobertura Vacinal Hepatite A","Cobertura Varicela","META 90%","META 95%","ATINGIRAM META","PQA-VS"]
["Metropolitana","Afonso Cláudio",{"$f":"'CV Rotina <2A - procedência'!H3","v":0.86986301369863017},{"$f":"'CV Rotina <2A - procedência'!P3","v":0.96575342465753422},{"$f":"'CV Rotina <2A - procedência'!#REF!","v":{"$error":"#REF!"}},{"$f":"'CV Rotina <2A - procedência'!J3","v":1.0068493150684932},{"$f":"'CV Rotina <2A - procedência'!L3","v":1.0068493150684932},{"$f":"'CV Rotina <2A - procedência'!N3","v":0.9452054794520548},{"$f":"'CV Rotina <2A - procedência'!X3","v":1.1643835616438356},{"$f":"'CV Rotina <2A - procedência'!R3","v":1.0342465753424657},{"$f":"'CV Rotina <2A - procedência'!T3","v":0.98630136986301364},{"$f":"'CV Rotina <2A - procedência'!V3","v":1},{"$f":"'CV Rotina <2A - procedência'!Z3","v":0.4863013698630137},{"$f":"COUNTIF(C2:E2,\">=0,9\")","v":1},{"$f":"COUNTIFS(F2:M2,\">=0,95\")","v":6},{"$f":"SUM(N2:O2)","v":7},{"$f":"COUNTIF(F2:I2,\">=0,95\")","v":3}]
["Norte","Água Doce do Norte",{"$f":"'CV Rotina <2A - procedência'!H4","v":0.4},{"$f":"'CV Rotina <2A - procedência'!P4","v":0.74444444444444446},{"$f":"'CV Rotina <2A - procedência'!#REF!","v":{"$error":"#REF!"}},{"$f":"'CV Rotina <2A - procedência'!J4","v":0.72222222222222221},{"$f":"'CV Rotina <2A - procedência'!L4","v":0.72222222222222221},{"$f":"'CV Rotina <2A - procedência'!N4","v":0.78888888888888886},{"$f":"'CV Rotina <2A - procedência'!X4","v":0.62222222222222223},{"$f":"'CV Rotina <2A - procedência'!R4","v":0.68888888888888888},{"$f":"'CV Rotina <2A - procedência'!T4","v":0.61111111111111116},{"$f":"'CV Rotina <2A - procedência'!V4","v":0.65555555555555556},{"$f":"'CV Rotina <2A - procedência'!Z4","v":0.31111111111111112},{"$f":"COUNTIF(C3:E3,\">=0,9\")","v":0},0,{"$f":"SUM(N3:O3)","v":0},{"$f":"COUNTIF(F3:I3,\">=0,95\")","v":0}]
["Central","Águia Branca",{"$f":"'CV Rotina <2A - procedência'!H5","v":0.64179104477611937},{"$f":"'CV Rotina <2A - procedência'!P5","v":0.9850746268656716},{"$f":"'CV Rotina <2A - procedência'!#REF!","v":{"$error":"#REF!"}},{"$f":"'CV Rotina <2A - procedência'!J5","v":1.0895522388059702},{"$f":"'CV Rotina <2A - procedência'!L5","v":1.0746268656716418},{"$f":"'CV Rotina <2A - procedência'!N5","v":0.9850746268656716},{"$f":"'CV Rotina <2A - procedência'!X5","v":0.70149253731343286},{"$f":"'CV Rotina <2A - procedência'!R5","v":1.1492537313432836},{"$f":"'CV Rotina <2A - procedência'!T5","v":0.89552238805970152},{"$f":"'CV Rotina <2A - procedência'!V5","v":0.68656716417910446},{"$f":"'CV Rotina <2A - procedência'!Z5","v":0.34328358208955223},1,4,5,3]
["Sul","Alegre",{"$f":"'CV Rotina <2A - procedência'!H6","v":0.67407407407407405},{"$f":"'CV Rotina <2A - procedência'!P6","v":0.98518518518518516},{"$f":"'CV Rotina <2A - procedência'!#REF!","v":{"$error":"#REF!"}},{"$f":"'CV Rotina <2A - procedência'!J6","v":1.037037037037037},{"$f":"'CV Rotina <2A - procedência'!L6","v":1.0962962962962963},{"$f":"'CV Rotina <2A - procedência'!N6","v":1.0148148148148148},{"$f":"'CV Rotina <2A - procedência'!X6","v":0.92592592592592593},{"$f":"'CV Rotina <2A - procedência'!R6","v":1.0074074074074073},{"$f":"'CV Rotina <2A - procedência'!T6","v":1.0222222222222221},{"$f":"'CV Rotina <2A - procedência'!V6","v":0.81481481481481477},{"$f":"'CV Rotina <2A - procedência'!Z6","v":0.3925925925925926},1,5,6,3]
["Sul","Alfredo Chaves",{"$f":"'CV Rotina <2A - procedência'!H7","v":0.52542372881355937},{"$f":"'CV Rotina <2A - procedência'!P7","v":1.3220338983050848},{"$f":"'CV Rotina <2A - procedência'!#REF!","v":{"$error":"#REF!"}},{"$f":"'CV Rotina <2A - procedência'!J7","v":1.152542372881356},{"$f":"'CV Rotina <2A - procedência'!L7","v":1.1355932203389831},{"$f":"'CV Rotina <2A - procedência'!N7","v":1.2881355932203389},{"$f":"'CV Rotina <2A - procedência'!X7","v":1.2033898305084745},{"$f":"'CV Rotina <2A - procedência'!R7","v":1.1694915254237288},{"$f":"'CV Rotina <2A - procedência'!T7","v":0.96610169491525422},{"$f":"'CV Rotina <2A - procedência'!V7","v":1},{"$f":"'CV Rotina <2A - procedência'!Z7","v":0.83050847457627119},1,7,8,4]
["Central","Alto Rio Novo",{"$f":"'CV Rotina <2A - procedência'!H8","v":0.44444444444444442},{"$f":"'CV Rotina <2A - procedência'!P8","v":1.4814814814814814},{"$f":"'CV Rotina <2A - procedência'!#REF!","v":{"$error":"#REF!"}},{"$f":"'CV Rotina <2A - procedência'!J8","v":1.5185185185185186},{"$f":"'CV Rotina <2A - procedência'!L8","v":1.4814814814814814},{"$f":"'CV Rotina <2A - procedência'!N8","v":1.4444444444444444},{"$f":"'CV Rotina <2A - procedência'!X8","v":1.4444444444444444},{"$f":"'CV Rotina <2A - procedência'!R8","v":1.6666666666666667},{"$f":"'CV Rotina <2A - procedência'!T8","v":1.2592592592592593},{"$f":"'CV Rotina <2A - procedência'!V8","v":1.5555555555555556},{"$f":"'CV Rotina <2A - procedência'!Z8","v":0.81481481481481477},1,7,8,4]
["Sul","Anchieta",{"$f":"'CV Rotina <2A - procedência'!H9","v":0.53846153846153844},{"$f":"'CV Rotina <2A - procedência'!P9","v":0.9526627218934911},{"$f":"'CV Rotina <2A - procedência'!#REF!","v":{"$error":"#REF!"}},{"$f":"'CV Rotina <2A - procedência'!J9","v":0.97633136094674555},{"$f":"'CV Rotina <2A - procedência'!L9","v":0.98816568047337283},{"$f":"'CV Rotina <2A - procedência'!N9","v":0.96449704142011838},{"$f":"'CV Rotina <2A - procedência'!X9","v":0.9526627218934911},{"$f":"'CV Rotina <2A - procedência'!R9","v":0.98816568047337283},{"$f":"'CV Rotina <2A - procedência'!T9","v":0.69230769230769229},{"$f":"'CV Rotina <2A - procedência'!V9","v":0.85207100591715978},{"$f":"'CV Rotina <2A - procedência'!Z9","v":0.49704142011834318},1,5,6,4]
["Sul","Apiacá",{"$f":"'CV Rotina <2A - procedência'!H10","v":0.6216216216216216},{"$f":"'CV Rotina <2A - procedência'!P10","v":0.64864864864864868},{"$f":"'CV Rotina <2A - procedência'!#REF!","v":{"$error":"#REF!"}},{"$f":"'CV Rotina <2A - procedência'!J10","v":0.59459459459459463},{"$f":"'CV Rotina <2A - procedência'!L10","v":0.6216216216216216},{"$f":"'CV Rotina <2A - procedência'!N10","v":0.67567567567567566},{"$f":"'CV Rotina <2A - procedência'!X10","v":0.72972972972972971},{"$f":"'CV Rotina <2A - procedência'!R10","v":0.6216216216216216},{"$f":"'CV Rotina <2A - procedência'!T10","v":0.64864864864864868},{"$f":"'CV Rotina <2A - procedência'!V10","v":0.40540540540540543},{"$f":"'CV Rotina <2A - procedência'!Z10","v":0.21621621621621623},0,0,0,0]
["Metropolitana","Aracruz",{"$f":"'CV Rotina <2A - procedência'!H11","v":0.91482649842271291},{"$f":"'CV Rotina <2A - procedência'!P11","v":0.86908517350157732},{"$f":"'CV Rotina <2A - procedência'!#REF!","v":{"$error":"#REF!"}},{"$f":"'CV Rotina <2A - procedência'!J11","v":0.85962145110410093},{"$f":"'CV Rotina <2A - procedência'!L11","v":0.85331230283911674},{"$f":"'CV Rotina <2A - procedência'!N11","v":0.87539432176656151},{"$f":"'CV Rotina <2A - procedência'!X11","v":1.0283911671924291},{"$f":"'CV Rotina <2A - procedência'!R11","v":0.89116719242902209},{"$f":"'CV Rotina <2A - procedência'!T11","v":0.81388012618296535},{"$f":"'CV Rotina <2A - procedência'!V11","v":0.98580441640378547},{"$f":"'CV Rotina <2A - procedência'!Z11","v":0.59936908517350163},1,2,3,1]
["Sul","Atilio Vivacqua",{"$f":"'CV Rotina <2A - procedência'!H12","v":0},{"$f":"'CV Rotina <2A - procedência'!P12","v":0.8125},{"$f":"'CV Rotina <2A - procedência'!#REF!","v":{"$error":"#REF!"}},{"$f":"'CV Rotina <2A - procedência'!J12","v":0.8125},{"$f":"'CV Rotina <2A - procedência'!L12","v":0.796875},{"$f":"'CV Rotina <2A - procedência'!N12","v":0.8125},{"$f":"'CV Rotina <2A - procedência'!X12","v":1.0625},{"$f":"'CV Rotina <2A - procedência'!R12","v":0.71875},{"$f":"'CV Rotina <2A - procedência'!T12","v":0.75},{"$f":"'CV Rotina <2A - procedência'!V12","v":0.890625},{"$f":"'CV Rotina <2A - procedência'!Z12","v":0.546875},0,1,1,1]
["Central","Baixo Guandu",{"$f":"'CV Rotina <2A - procedência'!H13","v":0.50920245398773001},{"$f":"'CV Rotina <2A - procedência'!P13","v":1.0245398773006136},{"$f":"'CV Rotina <2A - procedência'!#REF!","v":{"$error":"#REF!"}},{"$f":"'CV Rotina <2A - procedência'!J13","v":0.96932515337423308},{"$f":"'CV Rotina <2A - procedência'!L13","v":0.97546012269938653},{"$f":"'CV Rotina <2A - procedência'!N13","v":1.0674846625766872},{"$f":"'CV Rotina <2A - procedência'!X13","v":1.1717791411042944},{"$f":"'CV Rotina <2A - procedência'!R13","v":1.0674846625766872},{"$f":"'CV Rotina <2A - procedência'!T13","v":0.77914110429447858},{"$f":"'CV Rotina <2A - procedência'!V13","v":0.98159509202453987},{"$f":"'CV Rotina <2A - procedência'!Z13","v":0.58895705521472397},1,6,7,4]
["Norte","Barra de São Francisco",{"$f":"'CV Rotina <2A - procedência'!H14","v":0.90041493775933612},{"$f":"'CV Rotina <2A - procedência'!P14","v":0.91286307053941906},{"$f":"'CV Rotina <2A - procedência'!#REF!","v":{"$error":"#REF!"}},{"$f":"'CV Rotina <2A - procedência'!J14","v":0.8340248962655602},{"$f":"'CV Rotina <2A - procedência'!L14","v":0.82572614107883813},{"$f":"'CV Rotina <2A - procedência'!N14","v":0.93360995850622408},{"$f":"'CV Rotina <2A - procedência'!X14","v":0.94605809128630702},{"$f":"'CV Rotina <2A - procedência'!R14","v":0.88381742738589208},{"$f":"'CV Rotina <2A - procedência'!T14","v":0.80497925311203322},{"$f":"'CV Rotina <2A - procedência'!V14","v":0.7385892116182573},{"$f":"'CV Rotina <2A - procedência'!Z14","v":0.60995850622406644},2,0,2,0]
["Norte","Boa Esperança",{"$f":"'CV Rotina <2A - procedência'!H15","v":0.40259740259740262},{"$f":"'CV Rotina <2A - procedência'!P15","v":0.98701298701298701},{"$f":"'CV Rotina <2A - procedência'!#REF!","v":{"$error":"#REF!"}},{"$f":"'CV Rotina <2A - procedência'!J15","v":0.87012987012987009},{"$f":"'CV Rotina <2A - procedência'!L15","v":0.96103896103896103},{"$f":"'CV Rotina <2A - procedência'!N15","v":0.93506493506493504},{"$f":"'CV Rotina <2A - procedência'!X15","v":1.1818181818181819},{"$f":"'CV Rotina <2A - procedência'!R15","v":1},{"$f":"'CV Rotina <2A - procedência'!T15","v":0.89610389610389607},{"$f":"'CV Rotina <2A - procedência'!V15","v":0.81818181818181823},{"$f":"'CV Rotina <2A - procedência'!Z15","v":0.74025974025974028},1,3,4,2]
["Sul","Bom Jesus do Norte",{"$f":"'CV Rotina <2A - procedência'!H16","v":1.0810810810810811},{"$f":"'CV Rotina <2A - procedência'!P16","v":1.1891891891891893},{"$f":"'CV Rotina <2A - procedência'!#REF!","v":{"$error":"#REF!"}},{"$f":"'CV Rotina <2A - procedência'!J16","v":1.5135135135135136},{"$f":"'CV Rotina <2A - procedência'!L16","v":1.4594594594594594},{"$f":"'CV Rotina <2A - procedência'!N16","v":1.2432432432432432},{"$f":"'CV Rotina <2A - procedência'!X16","v":1.4594594594594594},{"$f":"'CV Rotina <2A - procedência'!R16","v":1.2432432432432432},{"$f":"'CV Rotina <2A - procedência'!T16","v":1.2162162162162162},{"$f":"'CV Rotina <2A - procedência'!V16","v":0.43243243243243246},{"$f":"'CV Rotina <2A - procedência'!Z16","v":0.45945945945945948},2,6,8,4]
["Metropolitana","Brejetuba",{"$f":"'CV Rotina <2A - procedência'!H17","v":0.81609195402298851},{"$f":"'CV Rotina <2A - procedência'!P17","v":1.0229885057471264},{"$f":"'CV Rotina <2A - procedência'!#REF!","v":{"$error":"#REF!"}},{"$f":"'CV Rotina <2A - procedência'!J17","v":0.93103448275862066},{"$f":"'CV Rotina <2A - procedência'!L17","v":0.93103448275862066},{"$f":"'CV Rotina <2A - procedência'!N17","v":0.95402298850574707},{"$f":"'CV Rotina <2A - procedência'!X17","v":0.87356321839080464},{"$f":"'CV Rotina <2A - procedência'!R17","v":0.83908045977011492},{"$f":"'CV Rotina <2A - procedência'!T17","v":1},{"$f":"'CV Rotina <2A - procedência'!V17","v":0.81609195402298851},{"$f":"'CV Rotina <2A - procedência'!Z17","v":0.4942528735632184},1,2,3,1]
["Sul","Cachoeiro de Itapemirim",{"$f":"'CV Rotina <2A - procedência'!H18","v":1.9330316742081448},{"$f":"'CV Rotina <2A - procedência'!P18","v":0.79366515837104068},{"$f":"'CV Rotina <2A - procedência'!#REF!","v":{"$error":"#REF!"}},{"$f":"'CV Rotina <2A - procedência'!J18","v":0.81628959276018098},{"$f":"'CV Rotina <2A - procedência'!L18","v":0.80542986425339369},{"$f":"'CV Rotina <2A - procedência'!N18","v":0.80180995475113126},{"$f":"'CV Rotina <2A - procedência'!X18","v":0.86063348416289598},{"$f":"'CV Rotina <2A - procedência'!R18","v":0.77104072398190049},{"$f":"'CV Rotina <2A - procedência'!T18","v":0.6244343891402715},{"$f":"'CV Rotina <2A - procedência'!V18","v":0.68778280542986425},{"$f":"'CV Rotina <2A - procedência'!Z18","v":0.36018099547511312},1,0,1,0]
["Metropolitana","Cariacica",{"$f":"'CV Rotina <2A - procedência'!H19","v":0.50410826486225224},{"$f":"'CV Rotina <2A - procedência'!P19","v":0.82696955050749155},{"$f":"'CV Rotina <2A - procedência'!#REF!","v":{"$error":"#REF!"}},{"$f":"'CV Rotina <2A - procedência'!J19","v":0.85306911551474141},{"$f":"'CV Rotina <2A - procedência'!L19","v":0.8414693088448526},{"$f":"'CV Rotina <2A - procedência'!N19","v":0.86563557274045433},{"$f":"'CV Rotina <2A - procedência'!X19","v":0.91638472692121797},{"$f":"'CV Rotina <2A - procedência'!R19","v":0.83953600773320447},{"$f":"'CV Rotina <2A - procedência'!T19","v":0.70952150797486713},{"$f":"'CV Rotina <2A - procedência'!V19","v":0.56114064765587235},{"$f":"'CV Rotina <2A - procedência'!Z19","v":0.39101014983083615},0,0,0,0]
["Sul","Castelo",{"$f":"'CV Rotina <2A - procedência'!H20","v":0.57291666666666663},{"$f":"'CV Rotina <2A - procedência'!P20","v":0.84375},{"$f":"'CV Rotina <2A - procedência'!#REF!","v":{"$error":"#REF!"}},{"$f":"'CV Rotina <2A - procedência'!J20","v":0.86458333333333337},{"$f":"'CV Rotina <2A - procedência'!L20","v":0.86458333333333337},{"$f":"'CV Rotina <2A - procedência'!N20","v":0.86458333333333337},{"$f":"'CV Rotina <2A - procedência'!X20","v":1.0520833333333333},{"$f":"'CV Rotina <2A - procedência'!R20","v":0.83854166666666663},{"$f":"'CV Rotina <2A - procedência'!T20","v":0.83333333333333337},{"$f":"'CV Rotina <2A - procedência'!V20","v":0.69270833333333337},{"$f":"'CV Rotina <2A - procedência'!Z20","v":0.48958333333333331},0,1,1,1]
["Central","Colatina",{"$f":"'CV Rotina <2A - procedência'!H21","v":2.2017937219730941},{"$f":"'CV Rotina <2A - procedência'!P21","v":0.82212257100149477},{"$f":"'CV Rotina <2A - procedência'!#REF!","v":{"$error":"#REF!"}},{"$f":"'CV Rotina <2A - procedência'!J21","v":0.87294469357249627},{"$f":"'CV Rotina <2A - procedência'!L21","v":0.85500747384155451},{"$f":"'CV Rotina <2A - procedência'!N21","v":0.84304932735426008},{"$f":"'CV Rotina <2A - procedência'!X21","v":0.87443946188340804},{"$f":"'CV Rotina <2A - procedência'!R21","v":0.80418535127055302},{"$f":"'CV Rotina <2A - procedência'!T21","v":0.77428998505231694},{"$f":"'CV Rotina <2A - procedência'!V21","v":0.43198804185351269},{"$f":"'CV Rotina <2A - procedência'!Z21","v":0.43348281016442453},1,0,1,0]
["Norte","Conceição da Barra",{"$f":"'CV Rotina <2A - procedência'!H22","v":9.9236641221374045E-2},{"$f":"'CV Rotina <2A - procedência'!P22","v":1.1450381679389312},{"$f":"'CV Rotina <2A - procedência'!#REF!","v":{"$error":"#REF!"}},{"$f":"'CV Rotina <2A - procedência'!J22","v":1.0916030534351144},{"$f":"'CV Rotina <2A - procedência'!L22","v":1.1068702290076335},{"$f":"'CV Rotina <2A - procedência'!N22","v":1.1603053435114503},{"$f":"'CV Rotina <2A - procedência'!X22","v":1.1832061068702291},{"$f":"'CV Rotina <2A - procedência'!R22","v":1.16793893129771},{"$f":"'CV Rotina <2A - procedência'!T22","v":1.1068702290076335},{"$f":"'CV Rotina <2A - procedência'!V22","v":0.84732824427480913},{"$f":"'CV Rotina <2A - procedência'!Z22","v":0.6717557251908397},1,6,7,4]
["Metropolitana","Conceição do Castelo",{"$f":"'CV Rotina <2A - procedência'!H23","v":0},{"$f":"'CV Rotina <2A - procedência'!P23","v":0.65384615384615385},{"$f":"'CV Rotina <2A - procedência'!#REF!","v":{"$error":"#REF!"}},{"$f":"'CV Rotina <2A - procedência'!J23","v":0.79487179487179482},{"$f":"'CV Rotina <2A - procedência'!L23","v":0.76923076923076927},{"$f":"'CV Rotina <2A - procedência'!N23","v":0.66666666666666663},{"$f":"'CV Rotina <2A - procedência'!X23","v":0.69230769230769229},{"$f":"'CV Rotina <2A - procedência'!R23","v":0.69230769230769229},{"$f":"'CV Rotina <2A - procedência'!T23","v":0.83333333333333337},{"$f":"'CV Rotina <2A - procedência'!V23","v":0.75641025641025639},{"$f":"'CV Rotina <2A - procedência'!Z23","v":0.57692307692307687},0,0,0,0]
["Sul","Divino de São Lourenço",{"$f":"'CV Rotina <2A - procedência'!H24","v":1},{"$f":"'CV Rotina <2A - procedência'!P24","v":1.28},{"$f":"'CV Rotina <2A - procedência'!#REF!","v":{"$error":"#REF!"}},{"$f":"'CV Rotina <2A - procedência'!J24","v":1.28},{"$f":"'CV Rotina <2A - procedência'!L24","v":1.28},{"$f":"'CV Rotina <2A - procedência'!N24","v":1.28},{"$f":"'CV Rotina <2A - procedência'!X24","v":0.72},{"$f":"'CV Rotina <2A - procedência'!R24","v":1.4},{"$f":"'CV Rotina <2A - procedência'!T24","v":1.08},{"$f":"'CV Rotina <2A - procedência'!V24","v":0.92},{"$f":"'CV Rotina <2A - procedência'!Z24","v":0.88},2,5,7,3]
["Metropolitana","Domingos Martins",{"$f":"'CV Rotina <2A - procedência'!H25","v":0.15053763440860216},{"$f":"'CV Rotina <2A - procedência'!P25","v":0.90860215053763438},{"$f":"'CV Rotina <2A - procedência'!#REF!","v":{"$error":"#REF!"}},{"$f":"'CV Rotina <2A - procedência'!J25","v":0.80107526881720426},{"$f":"'CV Rotina <2A - procedência'!L25","v":0.80645161290322576},{"$f":"'CV Rotina <2A - procedência'!N25","v":0.94086021505376349},{"$f":"'CV Rotina <2A - procedência'!X25","v":0.94623655913978499},{"$f":"'CV Rotina <2A - procedência'!R25","v":0.86559139784946237},{"$f":"'CV Rotina <2A - procedência'!T25","v":0.78494623655913975},{"$f":"'CV Rotina <2A - procedência'!V25","v":0.70430107526881724},{"$f":"'CV Rotina <2A - procedência'!Z25","v":0.77419354838709675},1,0,1,0]
["Sul","Dores do Rio Preto",{"$f":"'CV Rotina <2A - procedência'!H26","v":0.82352941176470584},{"$f":"'CV Rotina <2A - procedência'!P26","v":1.3529411764705883},{"$f":"'CV Rotina <2A - procedência'!#REF!","v":{"$error":"#REF!"}},{"$f":"'CV Rotina <2A - procedência'!J26","v":1.2352941176470589},{"$f":"'CV Rotina <2A - procedência'!L26","v":1.3235294117647058},{"$f":"'CV Rotina <2A - procedência'!N26","v":1.411764705882353},{"$f":"'CV Rotina <2A - procedência'!X26","v":1.4705882352941178},{"$f":"'CV Rotina <2A - procedência'!R26","v":1.3529411764705883},{"$f":"'CV Rotina <2A - procedência'!T26","v":1.1176470588235294},{"$f":"'CV Rotina <2A - procedência'!V26","v":0.8529411764705882},{"$f":"'CV Rotina <2A - procedência'!Z26","v":0.52941176470588236},1,6,7,4]
["Norte","Ecoporanga",{"$f":"'CV Rotina <2A - procedência'!H27","v":0.47199999999999998},{"$f":"'CV Rotina <2A - procedência'!P27","v":0.70399999999999996},{"$f":"'CV Rotina <2A - procedência'!#REF!","v":{"$error":"#REF!"}},{"$f":"'CV Rotina <2A - procedência'!J27","v":0.80800000000000005},{"$f":"'CV Rotina <2A - procedência'!L27","v":0.8},{"$f":"'CV Rotina <2A - procedência'!N27","v":0.73599999999999999},{"$f":"'CV Rotina <2A - procedência'!X27","v":0.88},{"$f":"'CV Rotina <2A - procedência'!R27","v":0.76},{"$f":"'CV Rotina <2A - procedência'!T27","v":0.76800000000000002},{"$f":"'CV Rotina <2A - procedência'!V27","v":0.72},{"$f":"'CV Rotina <2A - procedência'!Z27","v":0.60799999999999998},0,0,0,0]
["Metropolitana","Fundão",{"$f":"'CV Rotina <2A - procedência'!H28","v":0.41489361702127658},{"$f":"'CV Rotina <2A - procedência'!P28","v":1.0106382978723405},{"$f":"'CV Rotina <2A - procedência'!#REF!","v":{"$error":"#REF!"}},{"$f":"'CV Rotina <2A - procedência'!J28","v":1.0212765957446808},{"$f":"'CV Rotina <2A - procedência'!L28","v":1},{"$f":"'CV Rotina <2A - procedência'!N28","v":0.98936170212765961},{"$f":"'CV Rotina <2A - procedência'!X28","v":0.82978723404255317},{"$f":"'CV Rotina <2A - procedência'!R28","v":0.94680851063829785},{"$f":"'CV Rotina <2A - procedência'!T28","v":0.88297872340425532},{"$f":"'CV Rotina <2A - procedência'!V28","v":0.8936170212765957},{"$f":"'CV Rotina <2A - procedência'!Z28","v":0.7021276595744681},1,3,4,3]
["Central","Governador Lindenberg",{"$f":"'CV Rotina <2A - procedência'!H29","v":0.20833333333333334},{"$f":"'CV Rotina <2A - procedência'!P29","v":0.73611111111111116},{"$f":"'CV Rotina <2A - procedência'!#REF!","v":{"$error":"#REF!"}},{"$f":"'CV Rotina <2A - procedência'!J29","v":0.68055555555555558},{"$f":"'CV Rotina <2A - procedência'!L29","v":0.63888888888888884},{"$f":"'CV Rotina <2A - procedência'!N29","v":0.70833333333333337},{"$f":"'CV Rotina <2A - procedência'!X29","v":0.81944444444444442},{"$f":"'CV Rotina <2A - procedência'!R29","v":0.70833333333333337},{"$f":"'CV Rotina <2A - procedência'!T29","v":0.73611111111111116},{"$f":"'CV Rotina <2A - procedência'!V29","v":0.625},{"$f":"'CV Rotina <2A - procedência'!Z29","v":0.47222222222222221},0,0,0,0]
["Sul","Guaçuí",{"$f":"'CV Rotina <2A - procedência'!H30","v":0.65333333333333332},{"$f":"'CV Rotina <2A - procedência'!P30","v":0.96},{"$f":"'CV Rotina <2A - procedência'!#REF!","v":{"$error":"#REF!"}},{"$f":"'CV Rotina <2A - procedência'!J30","v":1.1533333333333333},{"$f":"'CV Rotina <2A - procedência'!L30","v":1.0933333333333333},{"$f":"'CV Rotina <2A - procedência'!N30","v":1.0466666666666666},{"$f":"'CV Rotina <2A - procedência'!X30","v":1.1933333333333334},{"$f":"'CV Rotina <2A - procedência'!R30","v":1.0066666666666666},{"$f":"'CV Rotina <2A - procedência'!T30","v":0.91333333333333333},{"$f":"'CV Rotina <2A - procedência'!V30","v":0.9},{"$f":"'CV Rotina <2A - procedência'!Z30","v":0.48666666666666669},1,5,6,4]
["Metropolitana","Guarapari",{"$f":"'CV Rotina <2A - procedência'!H31","v":0.80718085106382975},{"$f":"'CV Rotina <2A - procedência'!P31","v":0.78723404255319152},{"$f":"'CV Rotina <2A - procedência'!#REF!","v":{"$error":"#REF!"}},{"$f":"'CV Rotina <2A - procedência'!J31","v":0.80319148936170215},{"$f":"'CV Rotina <2A - procedência'!L31","v":0.77393617021276595},{"$f":"'CV Rotina <2A - procedência'!N31","v":0.82180851063829785},{"$f":"'CV Rotina <2A - procedência'!X31","v":0.82180851063829785},{"$f":"'CV Rotina <2A - procedência'!R31","v":0.81382978723404253},{"$f":"'CV Rotina <2A - procedência'!T31","v":0.6063829787234043},{"$f":"'CV Rotina <2A - procedência'!V31","v":0.67952127659574468},{"$f":"'CV Rotina <2A - procedência'!Z31","v":0.50930851063829785},0,0,0,0]
["Metropolitana","Ibatiba",{"$f":"'CV Rotina <2A - procedência'!H32","v":0.88888888888888884},{"$f":"'CV Rotina <2A - procedência'!P32","v":0.92810457516339873},{"$f":"'CV Rotina <2A - procedência'!#REF!","v":{"$error":"#REF!"}},{"$f":"'CV Rotina <2A - procedência'!J32","v":1.0065359477124183},{"$f":"'CV Rotina <2A - procedência'!L32","v":1.0130718954248366},{"$f":"'CV Rotina <2A - procedência'!N32","v":0.96078431372549022},{"$f":"'CV Rotina <2A - procedência'!X32","v":0.90196078431372551},{"$f":"'CV Rotina <2A - procedência'!R32","v":1.0457516339869282},{"$f":"'CV Rotina <2A - procedência'!T32","v":0.91503267973856206},{"$f":"'CV Rotina <2A - procedência'!V32","v":0.79738562091503273},{"$f":"'CV Rotina <2A - procedência'!Z32","v":0.18954248366013071},1,4,5,3]
["Metropolitana","Ibiraçu",{"$f":"'CV Rotina <2A - procedência'!H33","v":0.18571428571428572},{"$f":"'CV Rotina <2A - procedência'!P33","v":0.7},{"$f":"'CV Rotina <2A - procedência'!#REF!","v":{"$error":"#REF!"}},{"$f":"'CV Rotina <2A - procedência'!J33","v":0.75714285714285712},{"$f":"'CV Rotina <2A - procedência'!L33","v":0.74285714285714288},{"$f":"'CV Rotina <2A - procedência'!N33","v":0.7142857142857143},{"$f":"'CV Rotina <2A - procedência'!X33","v":0.8},{"$f":"'CV Rotina <2A - procedência'!R33","v":0.77142857142857146},{"$f":"'CV Rotina <2A - procedência'!T33","v":0.8571428571428571},{"$f":"'CV Rotina <2A - procedência'!V33","v":0.52857142857142858},{"$f":"'CV Rotina <2A - procedência'!Z33","v":0.41428571428571431},0,0,0,0]
["Sul","Ibitirama",{"$f":"'CV Rotina <2A - procedência'!H34","v":0.63461538461538458},{"$f":"'CV Rotina <2A - procedência'!P34","v":0.96153846153846156},{"$f":"'CV Rotina <2A - procedência'!#REF!","v":{"$error":"#REF!"}},{"$f":"'CV Rotina <2A - procedência'!J34","v":0.86538461538461542},{"$f":"'CV Rotina <2A - procedência'!L34","v":0.80769230769230771},{"$f":"'CV Rotina <2A - procedência'!N34","v":0.94230769230769229},{"$f":"'CV Rotina <2A - procedência'!X34","v":1.2307692307692308},{"$f":"'CV Rotina <2A - procedência'!R34","v":0.78846153846153844},{"$f":"'CV Rotina <2A - procedência'!T34","v":0.69230769230769229},{"$f":"'CV Rotina <2A - procedência'!V34","v":0.78846153846153844},{"$f":"'CV Rotina <2A - procedência'!Z34","v":0.71153846153846156},1,1,2,1]
["Sul","Iconha",{"$f":"'CV Rotina <2A - procedência'!H35","v":0.36170212765957449},{"$f":"'CV Rotina <2A - procedência'!P35","v":1},{"$f":"'CV Rotina <2A - procedência'!#REF!","v":{"$error":"#REF!"}},{"$f":"'CV Rotina <2A - procedência'!J35","v":1},{"$f":"'CV Rotina <2A - procedência'!L35","v":0.95744680851063835},{"$f":"'CV Rotina <2A - procedência'!N35","v":0.97872340425531912},{"$f":"'CV Rotina <2A - procedência'!X35","v":1.3829787234042554},{"$f":"'CV Rotina <2A - procedência'!R35","v":0.97872340425531912},{"$f":"'CV Rotina <2A - procedência'!T35","v":1.2340425531914894},{"$f":"'CV Rotina <2A - procedência'!V35","v":0.93617021276595747},{"$f":"'CV Rotina <2A - procedência'!Z35","v":0.38297872340425532},1,{"$f":"COUNTIFS(F34:M34,\">=0,95\")","v":6},7,4]
["Sul","Irupi",{"$f":"'CV Rotina <2A - procedência'!H36","v":0.70666666666666667},{"$f":"'CV Rotina <2A - procedência'!P36","v":1.24},{"$f":"'CV Rotina <2A - procedência'!#REF!","v":{"$error":"#REF!"}},{"$f":"'CV Rotina <2A - procedência'!J36","v":1.1466666666666667},{"$f":"'CV Rotina <2A - procedência'!L36","v":1.1333333333333333},{"$f":"'CV Rotina <2A - procedência'!N36","v":1.3066666666666666},{"$f":"'CV Rotina <2A - procedência'!X36","v":1.52},{"$f":"'CV Rotina <2A - procedência'!R36","v":1.2533333333333334},{"$f":"'CV Rotina <2A - procedência'!T36","v":0.96},{"$f":"'CV Rotina <2A - procedência'!V36","v":1.0533333333333332},{"$f":"'CV Rotina <2A - procedência'!Z36","v":0.30666666666666664},1,7,8,4]
["Metropolitana","Itaguaçu",{"$f":"'CV Rotina <2A - procedência'!H37","v":0.74576271186440679},{"$f":"'CV Rotina <2A - procedência'!P37","v":0.84745762711864403},{"$f":"'CV Rotina <2A - procedência'!#REF!","v":{"$error":"#REF!"}},{"$f":"'CV Rotina <2A - procedência'!J37","v":0.86440677966101698},{"$f":"'CV Rotina <2A - procedência'!L37","v":0.86440677966101698},{"$f":"'CV Rotina <2A - procedência'!N37","v":0.84745762711864403},{"$f":"'CV Rotina <2A - procedência'!X37","v":0.94915254237288138},{"$f":"'CV Rotina <2A - procedência'!R37","v":0.89830508474576276},{"$f":"'CV Rotina <2A - procedência'!T37","v":1.0169491525423728},{"$f":"'CV Rotina <2A - procedência'!V37","v":1.0508474576271187},{"$f":"'CV Rotina <2A - procedência'!Z37","v":0.77966101694915257},0,2,2,0]
["Sul","Itapemirim",{"$f":"'CV Rotina <2A - procedência'!H38","v":0.53233830845771146},{"$f":"'CV Rotina <2A - procedência'!P38","v":0.95522388059701491},{"$f":"'CV Rotina <2A - procedência'!#REF!","v":{"$error":"#REF!"}},{"$f":"'CV Rotina <2A - procedência'!J38","v":0.89552238805970152},{"$f":"'CV Rotina <2A - procedência'!L38","v":0.87064676616915426},{"$f":"'CV Rotina <2A - procedência'!N38","v":1.0746268656716418},{"$f":"'CV Rotina <2A - procedência'!X38","v":0.97512437810945274},{"$f":"'CV Rotina <2A - procedência'!R38","v":0.95024875621890548},{"$f":"'CV Rotina <2A - procedência'!T38","v":0.59203980099502485},{"$f":"'CV Rotina <2A - procedência'!V38","v":0.85074626865671643},{"$f":"'CV Rotina <2A - procedência'!Z38","v":0.53731343283582089},1,3,4,2]
["Metropolitana","Itarana",{"$f":"'CV Rotina <2A - procedência'!H39","v":0.86153846153846159},{"$f":"'CV Rotina <2A - procedência'!P39","v":0.75384615384615383},{"$f":"'CV Rotina <2A - procedência'!#REF!","v":{"$error":"#REF!"}},{"$f":"'CV Rotina <2A - procedência'!J39","v":0.75384615384615383},{"$f":"'CV Rotina <2A - procedência'!L39","v":0.75384615384615383},{"$f":"'CV Rotina <2A - procedência'!N39","v":0.72307692307692306},{"$f":"'CV Rotina <2A - procedência'!X39","v":0.7846153846153846},{"$f":"'CV Rotina <2A - procedência'!R39","v":0.72307692307692306},{"$f":"'CV Rotina <2A - procedência'!T39","v":0.93846153846153846},{"$f":"'CV Rotina <2A - procedência'!V39","v":0.35384615384615387},{"$f":"'CV Rotina <2A - procedência'!Z39","v":0.58461538461538465},0,0,0,0]
["Sul","Iúna",{"$f":"'CV Rotina <2A - procedência'!H40","v":0.69841269841269837},{"$f":"'CV Rotina <2A - procedência'!P40","v":0.98941798941798942},{"$f":"'CV Rotina <2A - procedência'!#REF!","v":{"$error":"#REF!"}},{"$f":"'CV Rotina <2A - procedência'!J40","v":1.0423280423280423},{"$f":"'CV Rotina <2A - procedência'!L40","v":1.037037037037037},{"$f":"'CV Rotina <2A - procedência'!N40","v":0.99470899470899465},{"$f":"'CV Rotina <2A - procedência'!X40","v":0.95238095238095233},{"$f":"'CV Rotina <2A - procedência'!R40","v":1.0052910052910053},{"$f":"'CV Rotina <2A - procedência'!T40","v":0.93121693121693117},{"$f":"'CV Rotina <2A - procedência'!V40","v":0.69841269841269837},{"$f":"'CV Rotina <2A - procedência'!Z40","v":0.49206349206349204},1,5,6,4]
["Norte","Jaguaré",{"$f":"'CV Rotina <2A - procedência'!H41","v":0.73584905660377353},{"$f":"'CV Rotina <2A - procedência'!P41","v":0.83018867924528306},{"$f":"'CV Rotina <2A - procedência'!#REF!","v":{"$error":"#REF!"}},{"$f":"'CV Rotina <2A - procedência'!J41","v":0.94811320754716977},{"$f":"'CV Rotina <2A - procedência'!L41","v":0.99528301886792447},{"$f":"'CV Rotina <2A - procedência'!N41","v":0.83490566037735847},{"$f":"'CV Rotina <2A - procedência'!X41","v":0.90566037735849059},{"$f":"'CV Rotina <2A - procedência'!R41","v":0.86792452830188682},{"$f":"'CV Rotina <2A - procedência'!T41","v":0.8632075471698113},{"$f":"'CV Rotina <2A - procedência'!V41","v":0.68867924528301883},{"$f":"'CV Rotina <2A - procedência'!Z41","v":0.48584905660377359},0,1,1,1]
["Sul","Jerônimo Monteiro",{"$f":"'CV Rotina <2A - procedência'!H42","v":0.11864406779661017},{"$f":"'CV Rotina <2A - procedência'!P42","v":1.1016949152542372},{"$f":"'CV Rotina <2A - procedência'!#REF!","v":{"$error":"#REF!"}},{"$f":"'CV Rotina <2A - procedência'!J42","v":1.2203389830508475},{"$f":"'CV Rotina <2A - procedência'!L42","v":1.2542372881355932},{"$f":"'CV Rotina <2A - procedência'!N42","v":1.1016949152542372},{"$f":"'CV Rotina <2A - procedência'!X42","v":1},{"$f":"'CV Rotina <2A - procedência'!R42","v":1.0169491525423728},{"$f":"'CV Rotina <2A - procedência'!T42","v":1.0508474576271187},{"$f":"'CV Rotina <2A - procedência'!V42","v":0.89830508474576276},{"$f":"'CV Rotina <2A - procedência'!Z42","v":0.32203389830508472},1,6,7,4]
["Metropolitana","João Neiva",{"$f":"'CV Rotina <2A - procedência'!H43","v":0.32857142857142857},{"$f":"'CV Rotina <2A - procedência'!P43","v":0.95714285714285718},{"$f":"'CV Rotina <2A - procedência'!#REF!","v":{"$error":"#REF!"}},{"$f":"'CV Rotina <2A - procedência'!J43","v":1.0285714285714285},{"$f":"'CV Rotina <2A - procedência'!L43","v":1.0142857142857142},{"$f":"'CV Rotina <2A - procedência'!N43","v":1},{"$f":"'CV Rotina <2A - procedência'!X43","v":1.1857142857142857},{"$f":"'CV Rotina <2A - procedência'!R43","v":0.94285714285714284},{"$f":"'CV Rotina <2A - procedência'!T43","v":1.0857142857142856},{"$f":"'CV Rotina <2A - procedência'!V43","v":0.87142857142857144},{"$f":"'CV Rotina <2A - procedência'!Z43","v":0.45714285714285713},1,5,6,4]
["Metropolitana","Laranja da Terra",{"$f":"'CV Rotina <2A - procedência'!H44","v":0.69767441860465118},{"$f":"'CV Rotina <2A - procedência'!P44","v":0.7441860465116279},{"$f":"'CV Rotina <2A - procedência'!#REF!","v":{"$error":"#REF!"}},{"$f":"'CV Rotina <2A - procedência'!J44","v":0.97674418604651159},{"$f":"'CV Rotina <2A - procedência'!L44","v":0.97674418604651159},{"$f":"'CV Rotina <2A - procedência'!N44","v":0.7441860465116279},{"$f":"'CV Rotina <2A - procedência'!X44","v":1.5348837209302326},{"$f":"'CV Rotina <2A - procedência'!R44","v":1},{"$f":"'CV Rotina <2A - procedência'!T44","v":1.3488372093023255},{"$f":"'CV Rotina <2A - procedência'!V44","v":1.0465116279069768},{"$f":"'CV Rotina <2A - procedência'!Z44","v":1.0465116279069768},0,7,7,3]
["Central","Linhares",{"$f":"'CV Rotina <2A - procedência'!H45","v":1.0035555555555555},{"$f":"'CV Rotina <2A - procedência'!P45","v":0.80444444444444441},{"$f":"'CV Rotina <2A - procedência'!#REF!","v":{"$error":"#REF!"}},{"$f":"'CV Rotina <2A - procedência'!J45","v":0.80711111111111111},{"$f":"'CV Rotina <2A - procedência'!L45","v":0.79466666666666663},{"$f":"'CV Rotina <2A - procedência'!N45","v":0.80355555555555558},{"$f":"'CV Rotina <2A - procedência'!X45","v":0.7911111111111111},{"$f":"'CV Rotina <2A - procedência'!R45","v":0.7804444444444445},{"$f":"'CV Rotina <2A - procedência'!T45","v":0.69599999999999995},{"$f":"'CV Rotina <2A - procedência'!V45","v":0.60799999999999998},{"$f":"'CV Rotina <2A - procedência'!Z45","v":0.4151111111111111},1,0,1,0]
["Central","Mantenópolis",{"$f":"'CV Rotina <2A - procedência'!H46","v":0.38461538461538464},{"$f":"'CV Rotina <2A - procedência'!P46","v":0.64102564102564108},{"$f":"'CV Rotina <2A - procedência'!#REF!","v":{"$error":"#REF!"}},{"$f":"'CV Rotina <2A - procedência'!J46","v":0.74358974358974361},{"$f":"'CV Rotina <2A - procedência'!L46","v":0.82051282051282048},{"$f":"'CV Rotina <2A - procedência'!N46","v":0.66666666666666663},{"$f":"'CV Rotina <2A - procedência'!X46","v":0.76923076923076927},{"$f":"'CV Rotina <2A - procedência'!R46","v":0.60256410256410253},{"$f":"'CV Rotina <2A - procedência'!T46","v":0.82051282051282048},{"$f":"'CV Rotina <2A - procedência'!V46","v":0.69230769230769229},{"$f":"'CV Rotina <2A - procedência'!Z46","v":0.48717948717948717},0,0,0,0]
["Sul","Marataízes",{"$f":"'CV Rotina <2A - procedência'!H47","v":0.38721804511278196},{"$f":"'CV Rotina <2A - procedência'!P47","v":0.82330827067669177},{"$f":"'CV Rotina <2A - procedência'!#REF!","v":{"$error":"#REF!"}},{"$f":"'CV Rotina <2A - procedência'!J47","v":0.83834586466165417},{"$f":"'CV Rotina <2A - procedência'!L47","v":0.84586466165413532},{"$f":"'CV Rotina <2A - procedência'!N47","v":0.86090225563909772},{"$f":"'CV Rotina <2A - procedência'!X47","v":0.9285714285714286},{"$f":"'CV Rotina <2A - procedência'!R47","v":0.84210526315789469},{"$f":"'CV Rotina <2A - procedência'!T47","v":0.63909774436090228},{"$f":"'CV Rotina <2A - procedência'!V47","v":0.81954887218045114},{"$f":"'CV Rotina <2A - procedência'!Z47","v":0.43609022556390975},0,0,0,0]
["Metropolitana","Marechal Floriano",{"$f":"'CV Rotina <2A - procedência'!H48","v":0.21568627450980393},{"$f":"'CV Rotina <2A - procedência'!P48","v":0.88235294117647056},{"$f":"'CV Rotina <2A - procedência'!#REF!","v":{"$error":"#REF!"}},{"$f":"'CV Rotina <2A - procedência'!J48","v":0.75490196078431371},{"$f":"'CV Rotina <2A - procedência'!L48","v":0.75490196078431371},{"$f":"'CV Rotina <2A - procedência'!N48","v":0.90196078431372551},{"$f":"'CV Rotina <2A - procedência'!X48","v":0.94117647058823528},{"$f":"'CV Rotina <2A - procedência'!R48","v":0.93137254901960786},{"$f":"'CV Rotina <2A - procedência'!T48","v":0.66666666666666663},{"$f":"'CV Rotina <2A - procedência'!V48","v":0.80392156862745101},{"$f":"'CV Rotina <2A - procedência'!Z48","v":0.65686274509803921},0,0,0,0]
["Central","Marilândia",{"$f":"'CV Rotina <2A - procedência'!H49","v":0.42622950819672129},{"$f":"'CV Rotina <2A - procedência'!P49","v":0.95081967213114749},{"$f":"'CV Rotina <2A - procedência'!#REF!","v":{"$error":"#REF!"}},{"$f":"'CV Rotina <2A - procedência'!J49","v":0.96721311475409832},{"$f":"'CV Rotina <2A - procedência'!L49","v":0.96721311475409832},{"$f":"'CV Rotina <2A - procedência'!N49","v":0.83606557377049184},{"$f":"'CV Rotina <2A - procedência'!X49","v":0.85245901639344257},{"$f":"'CV Rotina <2A - procedência'!R49","v":1.098360655737705},{"$f":"'CV Rotina <2A - procedência'!T49","v":1.0491803278688525},{"$f":"'CV Rotina <2A - procedência'!V49","v":0.90163934426229508},{"$f":"'CV Rotina <2A - procedência'!Z49","v":0.73770491803278693},1,4,5,2]
["Sul","Mimoso do Sul",{"$f":"'CV Rotina <2A - procedência'!H50","v":0.18095238095238095},{"$f":"'CV Rotina <2A - procedência'!P50","v":0.69523809523809521},{"$f":"'CV Rotina <2A - procedência'!#REF!","v":{"$error":"#REF!"}},{"$f":"'CV Rotina <2A - procedência'!J50","v":0.8},{"$f":"'CV Rotina <2A - procedência'!L50","v":0.79047619047619044},{"$f":"'CV Rotina <2A - procedência'!N50","v":0.73333333333333328},{"$f":"'CV Rotina <2A - procedência'!X50","v":0.8571428571428571},{"$f":"'CV Rotina <2A - procedência'!R50","v":0.80952380952380953},{"$f":"'CV Rotina <2A - procedência'!T50","v":0.78095238095238095},{"$f":"'CV Rotina <2A - procedência'!V50","v":0.62857142857142856},{"$f":"'CV Rotina <2A - procedência'!Z50","v":0.54285714285714282},0,0,0,0]
["Norte","Montanha",{"$f":"'CV Rotina <2A - procedência'!H51","v":0.47368421052631576},{"$f":"'CV Rotina <2A - procedência'!P51","v":1.3552631578947369},{"$f":"'CV Rotina <2A - procedência'!#REF!","v":{"$error":"#REF!"}},{"$f":"'CV Rotina <2A - procedência'!J51","v":1.631578947368421},{"$f":"'CV Rotina <2A - procedência'!L51","v":1.6578947368421053},{"$f":"'CV Rotina <2A - procedência'!N51","v":1.3289473684210527},{"$f":"'CV Rotina <2A - procedência'!X51","v":1.368421052631579},{"$f":"'CV Rotina <2A - procedência'!R51","v":1.4605263157894737},{"$f":"'CV Rotina <2A - procedência'!T51","v":1.4210526315789473},{"$f":"'CV Rotina <2A - procedência'!V51","v":1.3552631578947369},{"$f":"'CV Rotina <2A - procedência'!Z51","v":0.93421052631578949},1,7,8,4]
["Norte","Mucurici",{"$f":"'CV Rotina <2A - procedência'!H52","v":0.19047619047619047},{"$f":"'CV Rotina <2A - procedência'!P52","v":1.6666666666666667},{"$f":"'CV Rotina <2A - procedência'!#REF!","v":{"$error":"#REF!"}},{"$f":"'CV Rotina <2A - procedência'!J52","v":1.7142857142857142},{"$f":"'CV Rotina <2A - procedência'!L52","v":1.7142857142857142},{"$f":"'CV Rotina <2A - procedência'!N52","v":1.7142857142857142},{"$f":"'CV Rotina <2A - procedência'!X52","v":1.8095238095238095},{"$f":"'CV Rotina <2A - procedência'!R52","v":1.8095238095238095},{"$f":"'CV Rotina <2A - procedência'!T52","v":1.7619047619047619},{"$f":"'CV Rotina <2A - procedência'!V52","v":0.90476190476190477},{"$f":"'CV Rotina <2A - procedência'!Z52","v":0.80952380952380953},1,6,7,4]
["Sul","Muniz Freire",{"$f":"'CV Rotina <2A - procedência'!H53","v":0.76744186046511631},{"$f":"'CV Rotina <2A - procedência'!P53","v":1.1395348837209303},{"$f":"'CV Rotina <2A - procedência'!#REF!","v":{"$error":"#REF!"}},{"$f":"'CV Rotina <2A - procedência'!J53","v":1.1279069767441861},{"$f":"'CV Rotina <2A - procedência'!L53","v":1.058139534883721},{"$f":"'CV Rotina <2A - procedência'!N53","v":1.1395348837209303},{"$f":"'CV Rotina <2A - procedência'!X53","v":1.3139534883720929},{"$f":"'CV Rotina <2A - procedência'!R53","v":1.0465116279069768},{"$f":"'CV Rotina <2A - procedência'!T53","v":1.0465116279069768},{"$f":"'CV Rotina <2A - procedência'!V53","v":0.95348837209302328},{"$f":"'CV Rotina <2A - procedência'!Z53","v":0.56976744186046513},1,7,8,4]
["Sul","Muqui",{"$f":"'CV Rotina <2A - procedência'!H54","v":0.15},{"$f":"'CV Rotina <2A - procedência'!P54","v":0.98333333333333328},{"$f":"'CV Rotina <2A - procedência'!#REF!","v":{"$error":"#REF!"}},{"$f":"'CV Rotina <2A - procedência'!J54","v":1.3333333333333333},{"$f":"'CV Rotina <2A - procedência'!L54","v":1.35},{"$f":"'CV Rotina <2A - procedência'!N54","v":1},{"$f":"'CV Rotina <2A - procedência'!X54","v":1.0166666666666666},{"$f":"'CV Rotina <2A - procedência'!R54","v":1.1666666666666667},{"$f":"'CV Rotina <2A - procedência'!T54","v":1.1666666666666667},{"$f":"'CV Rotina <2A - procedência'!V54","v":0.8833333333333333},{"$f":"'CV Rotina <2A - procedência'!Z54","v":0.6166666666666667},1,6,7,4]
["Norte","Nova Venécia",{"$f":"'CV Rotina <2A - procedência'!H55","v":0.5415282392026578},{"$f":"'CV Rotina <2A - procedência'!P55","v":0.78073089700996678},{"$f":"'CV Rotina <2A - procedência'!#REF!","v":{"$error":"#REF!"}},{"$f":"'CV Rotina <2A - procedência'!J55","v":0.89368770764119598},{"$f":"'CV Rotina <2A - procedência'!L55","v":0.89368770764119598},{"$f":"'CV Rotina <2A - procedência'!N55","v":0.79734219269102991},{"$f":"'CV Rotina <2A - procedência'!X55","v":0.91362126245847175},{"$f":"'CV Rotina <2A - procedência'!R55","v":0.81727574750830567},{"$f":"'CV Rotina <2A - procedência'!T55","v":0.89700996677740863},{"$f":"'CV Rotina <2A - procedência'!V55","v":0.72757475083056478},{"$f":"'CV Rotina <2A - procedência'!Z55","v":0.55149501661129563},0,0,0,0]
["Central","Pancas",{"$f":"'CV Rotina <2A - procedência'!H56","v":0.49450549450549453},{"$f":"'CV Rotina <2A - procedência'!P56","v":0.90109890109890112},{"$f":"'CV Rotina <2A - procedência'!#REF!","v":{"$error":"#REF!"}},{"$f":"'CV Rotina <2A - procedência'!J56","v":0.98901098901098905},{"$f":"'CV Rotina <2A - procedência'!L56","v":0.97802197802197799},{"$f":"'CV Rotina <2A - procedência'!N56","v":0.91208791208791207},{"$f":"'CV Rotina <2A - procedência'!X56","v":0.87912087912087911},{"$f":"'CV Rotina <2A - procedência'!R56","v":1.0219780219780219},{"$f":"'CV Rotina <2A - procedência'!T56","v":0.94505494505494503},{"$f":"'CV Rotina <2A - procedência'!V56","v":0.91208791208791207},{"$f":"'CV Rotina <2A - procedência'!Z56","v":0.80219780219780223},1,3,4,2]
["Norte","Pedro Canário",{"$f":"'CV Rotina <2A - procedência'!H57","v":5.3030303030303032E-2},{"$f":"'CV Rotina <2A - procedência'!P57","v":0.84090909090909094},{"$f":"'CV Rotina <2A - procedência'!#REF!","v":{"$error":"#REF!"}},{"$f":"'CV Rotina <2A - procedência'!J57","v":1.0681818181818181},{"$f":"'CV Rotina <2A - procedência'!L57","v":1.0606060606060606},{"$f":"'CV Rotina <2A - procedência'!N57","v":0.87121212121212122},{"$f":"'CV Rotina <2A - procedência'!X57","v":1.1666666666666667},{"$f":"'CV Rotina <2A - procedência'!R57","v":1.0151515151515151},{"$f":"'CV Rotina <2A - procedência'!T57","v":1},{"$f":"'CV Rotina <2A - procedência'!V57","v":0.68939393939393945},{"$f":"'CV Rotina <2A - procedência'!Z57","v":0.70454545454545459},0,5,5,3]
["Norte","Pinheiros",{"$f":"'CV Rotina <2A - procedência'!H58","v":7.3394495412844041E-2},{"$f":"'CV Rotina <2A - procedência'!P58","v":1.2201834862385321},{"$f":"'CV Rotina <2A - procedência'!#REF!","v":{"$error":"#REF!"}},{"$f":"'CV Rotina <2A - procedência'!J58","v":1.2935779816513762},{"$f":"'CV Rotina <2A - procedência'!L58","v":1.2844036697247707},{"$f":"'CV Rotina <2A - procedência'!N58","v":1.238532110091743},{"$f":"'CV Rotina <2A - procedência'!X58","v":1.201834862385321},{"$f":"'CV Rotina <2A - procedência'!R58","v":1.128440366972477},{"$f":"'CV Rotina <2A - procedência'!T58","v":1.1743119266055047},{"$f":"'CV Rotina <2A - procedência'!V58","v":0.84403669724770647},{"$f":"'CV Rotina <2A - procedência'!Z58","v":0.44036697247706424},1,6,7,4]
["Sul","Piúma",{"$f":"'CV Rotina <2A - procedência'!H59","v":0.65573770491803274},{"$f":"'CV Rotina <2A - procedência'!P59","v":0.88524590163934425},{"$f":"'CV Rotina <2A - procedência'!#REF!","v":{"$error":"#REF!"}},{"$f":"'CV Rotina <2A - procedência'!J59","v":0.98360655737704916},{"$f":"'CV Rotina <2A - procedência'!L59","v":0.97540983606557374},{"$f":"'CV Rotina <2A - procedência'!N59","v":0.95901639344262291},{"$f":"'CV Rotina <2A - procedência'!X59","v":0.99180327868852458},{"$f":"'CV Rotina <2A - procedência'!R59","v":0.76229508196721307},{"$f":"'CV Rotina <2A - procedência'!T59","v":0.68032786885245899},{"$f":"'CV Rotina <2A - procedência'!V59","v":0.72950819672131151},{"$f":"'CV Rotina <2A - procedência'!Z59","v":0.45081967213114754},0,4,4,4]
["Norte","Ponto Belo",{"$f":"'CV Rotina <2A - procedência'!H60","v":0.16},{"$f":"'CV Rotina <2A - procedência'!P60","v":0.92},{"$f":"'CV Rotina <2A - procedência'!#REF!","v":{"$error":"#REF!"}},{"$f":"'CV Rotina <2A - procedência'!J60","v":0.68},{"$f":"'CV Rotina <2A - procedência'!L60","v":0.68},{"$f":"'CV Rotina <2A - procedência'!N60","v":0.96},{"$f":"'CV Rotina <2A - procedência'!X60","v":1.08},{"$f":"'CV Rotina <2A - procedência'!R60","v":0.6},{"$f":"'CV Rotina <2A - procedência'!T60","v":1.08},{"$f":"'CV Rotina <2A - procedência'!V60","v":0.52},{"$f":"'CV Rotina <2A - procedência'!Z60","v":0.64},1,3,4,2]
["Sul","Presidente Kennedy",{"$f":"'CV Rotina <2A - procedência'!H61","v":9.5744680851063829E-2},{"$f":"'CV Rotina <2A - procedência'!P61","v":0.61702127659574468},{"$f":"'CV Rotina <2A - procedência'!#REF!","v":{"$error":"#REF!"}},{"$f":"'CV Rotina <2A - procedência'!J61","v":0.7021276595744681},{"$f":"'CV Rotina <2A - procedência'!L61","v":0.73404255319148937},{"$f":"'CV Rotina <2A - procedência'!N61","v":0.62765957446808507},{"$f":"'CV Rotina <2A - procedência'!X61","v":1.0638297872340425},{"$f":"'CV Rotina <2A - procedência'!R61","v":0.62765957446808507},{"$f":"'CV Rotina <2A - procedência'!T61","v":0.7021276595744681},{"$f":"'CV Rotina <2A - procedência'!V61","v":0.69148936170212771},{"$f":"'CV Rotina <2A - procedência'!Z61","v":0.45744680851063829},0,1,1,1]
["Central","Rio Bananal",{"$f":"'CV Rotina <2A - procedência'!H62","v":0.2076923076923077},{"$f":"'CV Rotina <2A - procedência'!P62","v":0.83076923076923082},{"$f":"'CV Rotina <2A - procedência'!#REF!","v":{"$error":"#REF!"}},{"$f":"'CV Rotina <2A - procedência'!J62","v":0.88461538461538458},{"$f":"'CV Rotina <2A - procedência'!L62","v":0.88461538461538458},{"$f":"'CV Rotina <2A - procedência'!N62","v":0.7846153846153846},{"$f":"'CV Rotina <2A - procedência'!X62","v":1.0076923076923077},{"$f":"'CV Rotina <2A - procedência'!R62","v":0.8},{"$f":"'CV Rotina <2A - procedência'!T62","v":0.9538461538461539},{"$f":"'CV Rotina <2A - procedência'!V62","v":0.83846153846153848},{"$f":"'CV Rotina <2A - procedência'!Z62","v":0.57692307692307687},0,2,2,1]
["Sul","Rio Novo do Sul",{"$f":"'CV Rotina <2A - procedência'!H63","v":0.38297872340425532},{"$f":"'CV Rotina <2A - procedência'!P63","v":1.0638297872340425},{"$f":"'CV Rotina <2A - procedência'!#REF!","v":{"$error":"#REF!"}},{"$f":"'CV Rotina <2A - procedência'!J63","v":1.2340425531914894},{"$f":"'CV Rotina <2A - procedência'!L63","v":1.2127659574468086},{"$f":"'CV Rotina <2A - procedência'!N63","v":1.0425531914893618},{"$f":"'CV Rotina <2A - procedência'!X63","v":0.97872340425531912},{"$f":"'CV Rotina <2A - procedência'!R63","v":1.0638297872340425},{"$f":"'CV Rotina <2A - procedência'!T63","v":0.8936170212765957},{"$f":"'CV Rotina <2A - procedência'!V63","v":0.93617021276595747},{"$f":"'CV Rotina <2A - procedência'!Z63","v":0.85106382978723405},1,5,6,4]
["Metropolitana","Santa Leopoldina",{"$f":"'CV Rotina <2A - procedência'!H64","v":0.375},{"$f":"'CV Rotina <2A - procedência'!P64","v":1.3125},{"$f":"'CV Rotina <2A - procedência'!#REF!","v":{"$error":"#REF!"}},{"$f":"'CV Rotina <2A - procedência'!J64","v":1.34375},{"$f":"'CV Rotina <2A - procedência'!L64","v":1.3125},{"$f":"'CV Rotina <2A - procedência'!N64","v":1.25},{"$f":"'CV Rotina <2A - procedência'!X64","v":1.65625},{"$f":"'CV Rotina <2A - procedência'!R64","v":1.5625},{"$f":"'CV Rotina <2A - procedência'!T64","v":1.28125},{"$f":"'CV Rotina <2A - procedência'!V64","v":1.5},{"$f":"'CV Rotina <2A - procedência'!Z64","v":0.40625},1,7,8,4]
["Metropolitana","Santa Maria de Jetibá",{"$f":"'CV Rotina <2A - procedência'!H65","v":0.65231788079470199},{"$f":"'CV Rotina <2A - procedência'!P65","v":0.82119205298013243},{"$f":"'CV Rotina <2A - procedência'!#REF!","v":{"$error":"#REF!"}},{"$f":"'CV Rotina <2A - procedência'!J65","v":0.79801324503311255},{"$f":"'CV Rotina <2A - procedência'!L65","v":0.79470198675496684},{"$f":"'CV Rotina <2A - procedência'!N65","v":0.80132450331125826},{"$f":"'CV Rotina <2A - procedência'!X65","v":0.9072847682119205},{"$f":"'CV Rotina <2A - procedência'!R65","v":0.78476821192052981},{"$f":"'CV Rotina <2A - procedência'!T65","v":0.7516556291390728},{"$f":"'CV Rotina <2A - procedência'!V65","v":0.86754966887417218},{"$f":"'CV Rotina <2A - procedência'!Z65","v":0.42384105960264901},0,0,0,0]
["Metropolitana","Santa Teresa",{"$f":"'CV Rotina <2A - procedência'!H66","v":0.79166666666666663},{"$f":"'CV Rotina <2A - procedência'!P66","v":0.95833333333333337},{"$f":"'CV Rotina <2A - procedência'!#REF!","v":{"$error":"#REF!"}},{"$f":"'CV Rotina <2A - procedência'!J66","v":0.97499999999999998},{"$f":"'CV Rotina <2A - procedência'!L66","v":0.98333333333333328},{"$f":"'CV Rotina <2A - procedência'!N66","v":0.9916666666666667},{"$f":"'CV Rotina <2A - procedência'!X66","v":0.85833333333333328},{"$f":"'CV Rotina <2A - procedência'!R66","v":0.8666666666666667},{"$f":"'CV Rotina <2A - procedência'!T66","v":0.8},{"$f":"'CV Rotina <2A - procedência'!V66","v":0.72499999999999998},{"$f":"'CV Rotina <2A - procedência'!Z66","v":0.66666666666666663},1,3,4,3]
["Central","São Domingos do Norte",{"$f":"'CV Rotina <2A - procedência'!H67","v":0.32758620689655171},{"$f":"'CV Rotina <2A - procedência'!P67","v":0.82758620689655171},{"$f":"'CV Rotina <2A - procedência'!#REF!","v":{"$error":"#REF!"}},{"$f":"'CV Rotina <2A - procedência'!J67","v":0.75862068965517238},{"$f":"'CV Rotina <2A - procedência'!L67","v":0.77586206896551724},{"$f":"'CV Rotina <2A - procedência'!N67","v":0.81034482758620685},{"$f":"'CV Rotina <2A - procedência'!X67","v":0.68965517241379315},{"$f":"'CV Rotina <2A - procedência'!R67","v":0.82758620689655171},{"$f":"'CV Rotina <2A - procedência'!T67","v":0.86206896551724133},{"$f":"'CV Rotina <2A - procedência'!V67","v":0.46551724137931033},{"$f":"'CV Rotina <2A - procedência'!Z67","v":0.41379310344827586},0,{"$f":"COUNTIFS(F66:M66,\">=0,95\")","v":0},0,0]
["Central","São Gabriel da Palha",{"$f":"'CV Rotina <2A - procedência'!H68","v":0.59302325581395354},{"$f":"'CV Rotina <2A - procedência'!P68","v":0.94186046511627908},{"$f":"'CV Rotina <2A - procedência'!#REF!","v":{"$error":"#REF!"}},{"$f":"'CV Rotina <2A - procedência'!J68","v":0.93604651162790697},{"$f":"'CV Rotina <2A - procedência'!L68","v":0.94767441860465118},{"$f":"'CV Rotina <2A - procedência'!N68","v":0.98837209302325579},{"$f":"'CV Rotina <2A - procedência'!X68","v":0.88953488372093026},{"$f":"'CV Rotina <2A - procedência'!R68","v":0.98255813953488369},{"$f":"'CV Rotina <2A - procedência'!T68","v":0.84883720930232553},{"$f":"'CV Rotina <2A - procedência'!V68","v":0.66860465116279066},{"$f":"'CV Rotina <2A - procedência'!Z68","v":0.48837209302325579},{"$f":"COUNTIF(C67:E67,\">=0,9\")","v":1},2,{"$f":"SUM(N67:O67)","v":3},{"$f":"COUNTIF(F67:I67,\">=0,95\")","v":1}]
["Sul","São José do Calçado",{"$f":"'CV Rotina <2A - procedência'!H69","v":0.75},{"$f":"'CV Rotina <2A - procedência'!P69","v":0.88636363636363635},{"$f":"'CV Rotina <2A - procedência'!#REF!","v":{"$error":"#REF!"}},{"$f":"'CV Rotina <2A - procedência'!J69","v":1.3181818181818181},{"$f":"'CV Rotina <2A - procedência'!L69","v":1.2954545454545454},{"$f":"'CV Rotina <2A - procedência'!N69","v":1.0227272727272727},{"$f":"'CV Rotina <2A - procedência'!X69","v":1.2954545454545454},{"$f":"'CV Rotina <2A - procedência'!R69","v":1.1818181818181819},{"$f":"'CV Rotina <2A - procedência'!T69","v":0.88636363636363635},{"$f":"'CV Rotina <2A - procedência'!V69","v":0.90909090909090906},{"$f":"'CV Rotina <2A - procedência'!Z69","v":0.77272727272727271},0,5,5,4]
["Norte","São Mateus",{"$f":"'CV Rotina <2A - procedência'!H70","v":1.8009787928221859},{"$f":"'CV Rotina <2A - procedência'!P70","v":1.0734094616639478},{"$f":"'CV Rotina <2A - procedência'!#REF!","v":{"$error":"#REF!"}},{"$f":"'CV Rotina <2A - procedência'!J70","v":1.1859706362153344},{"$f":"'CV Rotina <2A - procedência'!L70","v":1.166394779771615},{"$f":"'CV Rotina <2A - procedência'!N70","v":1.1566068515497554},{"$f":"'CV Rotina <2A - procedência'!X70","v":1.0505709624796085},{"$f":"'CV Rotina <2A - procedência'!R70","v":1.0734094616639478},{"$f":"'CV Rotina <2A - procedência'!T70","v":0.87601957585644374},{"$f":"'CV Rotina <2A - procedência'!V70","v":0.85970636215334417},{"$f":"'CV Rotina <2A - procedência'!Z70","v":0.53833605220228387},2,5,7,4]
["Central","São Roque do Canaã",{"$f":"'CV Rotina <2A - procedência'!H71","v":0.2857142857142857},{"$f":"'CV Rotina <2A - procedência'!P71","v":0.55844155844155841},{"$f":"'CV Rotina <2A - procedência'!#REF!","v":{"$error":"#REF!"}},{"$f":"'CV Rotina <2A - procedência'!J71","v":0.50649350649350644},{"$f":"'CV Rotina <2A - procedência'!L71","v":0.4935064935064935},{"$f":"'CV Rotina <2A - procedência'!N71","v":0.4935064935064935},{"$f":"'CV Rotina <2A - procedência'!X71","v":0.83116883116883122},{"$f":"'CV Rotina <2A - procedência'!R71","v":0.53246753246753242},{"$f":"'CV Rotina <2A - procedência'!T71","v":0.70129870129870131},{"$f":"'CV Rotina <2A - procedência'!V71","v":0.55844155844155841},{"$f":"'CV Rotina <2A - procedência'!Z71","v":0.36363636363636365},0,0,0,0]
["Metropolitana","Serra",{"$f":"'CV Rotina <2A - procedência'!H72","v":1.0380285975053241},{"$f":"'CV Rotina <2A - procedência'!P72","v":0.74779434134469125},{"$f":"'CV Rotina <2A - procedência'!#REF!","v":{"$error":"#REF!"}},{"$f":"'CV Rotina <2A - procedência'!J72","v":0.79099482811073929},{"$f":"'CV Rotina <2A - procedência'!L72","v":0.7864313964101004},{"$f":"'CV Rotina <2A - procedência'!N72","v":0.76270155156677821},{"$f":"'CV Rotina <2A - procedência'!X72","v":0.77152418618801344},{"$f":"'CV Rotina <2A - procedência'!R72","v":0.75479160328567085},{"$f":"'CV Rotina <2A - procedência'!T72","v":0.65682993611195617},{"$f":"'CV Rotina <2A - procedência'!V72","v":0.32887131122604196},{"$f":"'CV Rotina <2A - procedência'!Z72","v":0.25585640401581988},1,0,1,0]
["Central","Sooretama",{"$f":"'CV Rotina <2A - procedência'!H73","v":5.1020408163265307E-2},{"$f":"'CV Rotina <2A - procedência'!P73","v":0.76530612244897955},{"$f":"'CV Rotina <2A - procedência'!#REF!","v":{"$error":"#REF!"}},{"$f":"'CV Rotina <2A - procedência'!J73","v":0.84693877551020413},{"$f":"'CV Rotina <2A - procedência'!L73","v":0.86224489795918369},{"$f":"'CV Rotina <2A - procedência'!N73","v":0.77551020408163263},{"$f":"'CV Rotina <2A - procedência'!X73","v":0.83163265306122447},{"$f":"'CV Rotina <2A - procedência'!R73","v":0.7142857142857143},{"$f":"'CV Rotina <2A - procedência'!T73","v":0.80612244897959184},{"$f":"'CV Rotina <2A - procedência'!V73","v":0.81632653061224492},{"$f":"'CV Rotina <2A - procedência'!Z73","v":0.36734693877551022},0,0,0,0]
["Sul","Vargem Alta",{"$f":"'CV Rotina <2A - procedência'!H74","v":8.2644628099173556E-2},{"$f":"'CV Rotina <2A - procedência'!P74","v":0.84297520661157022},{"$f":"'CV Rotina <2A - procedência'!#REF!","v":{"$error":"#REF!"}},{"$f":"'CV Rotina <2A - procedência'!J74","v":0.74380165289256195},{"$f":"'CV Rotina <2A - procedência'!L74","v":0.74380165289256195},{"$f":"'CV Rotina <2A - procedência'!N74","v":0.80991735537190079},{"$f":"'CV Rotina <2A - procedência'!X74","v":0.92561983471074383},{"$f":"'CV Rotina <2A - procedência'!R74","v":0.82644628099173556},{"$f":"'CV Rotina <2A - procedência'!T74","v":0.77685950413223137},{"$f":"'CV Rotina <2A - procedência'!V74","v":0.77685950413223137},{"$f":"'CV Rotina <2A - procedência'!Z74","v":0.45454545454545453},0,0,0,0]
["Metropolitana","Venda Nova do Imigrante",{"$f":"'CV Rotina <2A - procedência'!H75","v":1.0617283950617284},{"$f":"'CV Rotina <2A - procedência'!P75","v":0.89506172839506171},{"$f":"'CV Rotina <2A - procedência'!#REF!","v":{"$error":"#REF!"}},{"$f":"'CV Rotina <2A - procedência'!J75","v":1.037037037037037},{"$f":"'CV Rotina <2A - procedência'!L75","v":1.037037037037037},{"$f":"'CV Rotina <2A - procedência'!N75","v":0.91975308641975306},{"$f":"'CV Rotina <2A - procedência'!X75","v":1.0679012345679013},{"$f":"'CV Rotina <2A - procedência'!R75","v":0.95679012345679015},{"$f":"'CV Rotina <2A - procedência'!T75","v":1.0123456790123457},{"$f":"'CV Rotina <2A - procedência'!V75","v":0.65432098765432101},{"$f":"'CV Rotina <2A - procedência'!Z75","v":0.40123456790123457},1,5,6,3]
["Metropolitana","Viana",{"$f":"'CV Rotina <2A - procedência'!H76","v":0.1883720930232558},{"$f":"'CV Rotina <2A - procedência'!P76","v":0.82558139534883723},{"$f":"'CV Rotina <2A - procedência'!#REF!","v":{"$error":"#REF!"}},{"$f":"'CV Rotina <2A - procedência'!J76","v":0.85813953488372097},{"$f":"'CV Rotina <2A - procedência'!L76","v":0.82790697674418601},{"$f":"'CV Rotina <2A - procedência'!N76","v":0.86744186046511629},{"$f":"'CV Rotina <2A - procedência'!X76","v":0.85581395348837208},{"$f":"'CV Rotina <2A - procedência'!R76","v":0.86279069767441863},{"$f":"'CV Rotina <2A - procedência'!T76","v":0.61627906976744184},{"$f":"'CV Rotina <2A - procedência'!V76","v":0.66511627906976745},{"$f":"'CV Rotina <2A - procedência'!Z76","v":0.3116279069767442},0,0,0,0]
["Norte","Vila Pavão",{"$f":"'CV Rotina <2A - procedência'!H77","v":0.60465116279069764},{"$f":"'CV Rotina <2A - procedência'!P77","v":0.76744186046511631},{"$f":"'CV Rotina <2A - procedência'!#REF!","v":{"$error":"#REF!"}},{"$f":"'CV Rotina <2A - procedência'!J77","v":0.86046511627906974},{"$f":"'CV Rotina <2A - procedência'!L77","v":0.83720930232558144},{"$f":"'CV Rotina <2A - procedência'!N77","v":0.76744186046511631},{"$f":"'CV Rotina <2A - procedência'!X77","v":1.4186046511627908},{"$f":"'CV Rotina <2A - procedência'!R77","v":0.81395348837209303},{"$f":"'CV Rotina <2A - procedência'!T77","v":1.0930232558139534},{"$f":"'CV Rotina <2A - procedência'!V77","v":1.069767441860465},{"$f":"'CV Rotina <2A - procedência'!Z77","v":0.67441860465116277},0,3,3,1]
["Central","Vila Valério",{"$f":"'CV Rotina <2A - procedência'!H78","v":0.23140495867768596},{"$f":"'CV Rotina <2A - procedência'!P78","v":0.73553719008264462},{"$f":"'CV Rotina <2A - procedência'!#REF!","v":{"$error":"#REF!"}},{"$f":"'CV Rotina <2A - procedência'!J78","v":0.71074380165289253},{"$f":"'CV Rotina <2A - procedência'!L78","v":0.66115702479338845},{"$f":"'CV Rotina <2A - procedência'!N78","v":0.66942148760330578},{"$f":"'CV Rotina <2A - procedência'!X78","v":0.71074380165289253},{"$f":"'CV Rotina <2A - procedência'!R78","v":0.76859504132231404},{"$f":"'CV Rotina <2A - procedência'!T78","v":0.71900826446280997},{"$f":"'CV Rotina <2A - procedência'!V78","v":0.65289256198347112},{"$f":"'CV Rotina <2A - procedência'!Z78","v":0.43801652892561982},0,0,0,0]
["Metropolitana","Vila Velha",{"$f":"'CV Rotina <2A - procedência'!H79","v":0.76686340640809447},{"$f":"'CV Rotina <2A - procedência'!P79","v":0.80227655986509272},{"$f":"'CV Rotina <2A - procedência'!#REF!","v":{"$error":"#REF!"}},{"$f":"'CV Rotina <2A - procedência'!J79","v":0.79089376053962901},{"$f":"'CV Rotina <2A - procedência'!L79","v":0.7900505902192243},{"$f":"'CV Rotina <2A - procedência'!N79","v":0.78836424957841489},{"$f":"'CV Rotina <2A - procedência'!X79","v":0.82588532883642496},{"$f":"'CV Rotina <2A - procedência'!R79","v":0.80396290050590224},{"$f":"'CV Rotina <2A - procedência'!T79","v":0.67369308600337263},{"$f":"'CV Rotina <2A - procedência'!V79","v":0.55691399662731866},{"$f":"'CV Rotina <2A - procedência'!Z79","v":0.35961214165261385},0,0,0,0]
["Metropolitana","Vitória",{"$f":"'CV Rotina <2A - procedência'!H80","v":1.763157894736842},{"$f":"'CV Rotina <2A - procedência'!P80","v":0.89348370927318299},{"$f":"'CV Rotina <2A - procedência'!#REF!","v":{"$error":"#REF!"}},{"$f":"'CV Rotina <2A - procedência'!J80","v":1.0012531328320802},{"$f":"'CV Rotina <2A - procedência'!L80","v":1.0018796992481203},{"$f":"'CV Rotina <2A - procedência'!N80","v":0.87030075187969924},{"$f":"'CV Rotina <2A - procedência'!X80","v":0.89223057644110271},{"$f":"'CV Rotina <2A - procedência'!R80","v":0.93483709273182958},{"$f":"'CV Rotina <2A - procedência'!T80","v":0.71804511278195493},{"$f":"'CV Rotina <2A - procedência'!V80","v":0.94548872180451127},{"$f":"'CV Rotina <2A - procedência'!Z80","v":0.45050125313283207},1,2,3,2]
[]
[null,"Total Norte",{"$f":"'CV Rotina <2A - procedência'!H82","v":0.84881602914389798},{"$f":"'CV Rotina <2A - procedência'!P82","v":0.95992714025500914},{"$f":"'CV Rotina <2A - procedência'!#REF!","v":{"$error":"#REF!"}},{"$f":"'CV Rotina <2A - procedência'!J82","v":1.0336976320582878},{"$f":"'CV Rotina <2A - procedência'!L82","v":1.0350637522768671},{"$f":"'CV Rotina <2A - procedência'!N82","v":0.99362477231329693},{"$f":"'CV Rotina <2A - procedência'!X82","v":1.0318761384335156},{"$f":"'CV Rotina <2A - procedência'!R82","v":0.97632058287795997},{"$f":"'CV Rotina <2A - procedência'!T82","v":0.92349726775956287},{"$f":"'CV Rotina <2A - procedência'!V82","v":0.80009107468123863},{"$f":"'CV Rotina <2A - procedência'!Z82","v":0.57786885245901642},{"$f":"COUNTIF(C81:E81,\">=0,9\")","v":1},{"$f":"COUNTIFS(F81:M81,\">=0,95\")","v":5},{"$f":"SUM(N81:O81)","v":6},{"$f":"COUNTIF(F81:I81,\">=0,95\")","v":4}]
[null,"Total Central",{"$f":"'CV Rotina <2A - procedência'!H83","v":0.98616028323141292},{"$f":"'CV Rotina <2A - procedência'!P83","v":0.82748632121017063},{"$f":"'CV Rotina <2A - procedência'!#REF!","v":{"$error":"#REF!"}},{"$f":"'CV Rotina <2A - procedência'!J83","v":0.84679755391052458},{"$f":"'CV Rotina <2A - procedência'!L83","v":0.83842935307370459},{"$f":"'CV Rotina <2A - procedência'!N83","v":0.82845188284518834},{"$f":"'CV Rotina <2A - procedência'!X83","v":0.84969423881557771},{"$f":"'CV Rotina <2A - procedência'!R83","v":0.82555519794013521},{"$f":"'CV Rotina <2A - procedência'!T83","v":0.77502413904087541},{"$f":"'CV Rotina <2A - procedência'!V83","v":0.6408110717734149},{"$f":"'CV Rotina <2A - procedência'!Z83","v":0.45831992275506922},{"$f":"COUNTIF(C82:E82,\">=0,9\")","v":1},{"$f":"COUNTIFS(F82:M82,\">=0,95\")","v":0},{"$f":"SUM(N82:O82)","v":1},{"$f":"COUNTIF(F82:I82,\">=0,95\")","v":0}]
[null,"Total Metropolitana",{"$f":"'CV Rotina <2A - procedência'!H84","v":0.88473158261677898},{"$f":"'CV Rotina <2A - procedência'!P84","v":0.81880858315903637},{"$f":"'CV Rotina <2A - procedência'!#REF!","v":{"$error":"#REF!"}},{"$f":"'CV Rotina <2A - procedência'!J84","v":0.84894259818731121},{"$f":"'CV Rotina <2A - procedência'!L84","v":0.84243551010922613},{"$f":"'CV Rotina <2A - procedência'!N84","v":0.82748470059648305},{"$f":"'CV Rotina <2A - procedência'!X84","v":0.86420326903710587},{"$f":"'CV Rotina <2A - procedência'!R84","v":0.83329460066620187},{"$f":"'CV Rotina <2A - procedência'!T84","v":0.71144162987063286},{"$f":"'CV Rotina <2A - procedência'!V84","v":0.61352544736230541},{"$f":"'CV Rotina <2A - procedência'!Z84","v":0.39197459137036178},0,{"$f":"COUNTIFS(F83:M83,\">=0,95\")","v":0},{"$f":"SUM(N83:O83)","v":0},{"$f":"COUNTIF(F83:I83,\">=0,95\")","v":0}]
[null,"Total Sul",{"$f":"'CV Rotina <2A - procedência'!H85","v":0.94237762237762235},{"$f":"'CV Rotina <2A - procedência'!P85","v":0.89314685314685316},{"$f":"'CV Rotina <2A - procedência'!#REF!","v":{"$error":"#REF!"}},{"$f":"'CV Rotina <2A - procedência'!J85","v":0.92895104895104896},{"$f":"'CV Rotina <2A - procedência'!L85","v":0.92195804195804198},{"$f":"'CV Rotina <2A - procedência'!N85","v":0.91804195804195809},{"$f":"'CV Rotina <2A - procedência'!X85","v":0.98769230769230765},{"$f":"'CV Rotina <2A - procedência'!R85","v":0.8886713286713287},{"$f":"'CV Rotina <2A - procedência'!T85","v":0.76643356643356642},{"$f":"'CV Rotina <2A - procedência'!V85","v":0.76979020979020985},{"$f":"'CV Rotina <2A - procedência'!Z85","v":0.45734265734265733},1,{"$f":"COUNTIFS(F84:M84,\">=0,95\")","v":1},{"$f":"SUM(N84:O84)","v":2},{"$f":"COUNTIF(F84:I84,\">=0,95\")","v":1}]
[null,"Total Espírito Santo",{"$f":"'CV Rotina <2A - procedência'!H86","v":0.90503511268187453},{"$f":"'CV Rotina <2A - procedência'!P86","v":0.84646807729379903},{"$f":"'CV Rotina <2A - procedência'!#REF!","v":{"$error":"#REF!"}},{"$f":"'CV Rotina <2A - procedência'!J86","v":0.88038738697388352},{"$f":"'CV Rotina <2A - procedência'!L86","v":0.87432872814063434},{"$f":"'CV Rotina <2A - procedência'!N86","v":0.85922797998806633},{"$f":"'CV Rotina <2A - procedência'!X86","v":0.89929774636250981},{"$f":"'CV Rotina <2A - procedência'!R86","v":0.85569376233533756},{"$f":"'CV Rotina <2A - procedência'!T86","v":0.75090650387845959},{"$f":"'CV Rotina <2A - procedência'!V86","v":0.66186257860191855},{"$f":"'CV Rotina <2A - procedência'!Z86","v":0.43089916004957085},1,{"$f":"COUNTIFS(F85:M85,\">=0,95\")","v":0},{"$f":"SUM(N85:O85)","v":1},{"$f":"COUNTIF(F85:I85,\">=0,95\")","v":0}]
[]
[]
["Fonte: SIPNI/DATASUS, em 09 de junho de 2023.*"]
[" Vacina e Confia, em 12 de junho de 2023.**"]
["*Dados referentes às doses aplicadas pelas clínicas particulares de janeiro a maio de 2023"]
["**Dados referente às doses aplicadas no período de janeiro a maio de 2023"]
["Cobertura Calculada por município de vacinação"]
["1 População proporcional extraída do MS/SVS/DASIS - Sistema de Informações sobre Nascidos Vivos - SINASC"]
["2000 a 2021 – Estimativas preliminares elaboradas pelo Ministério da Saúde/SVS/DASNT/CGIAE"]
[" Nota: Dados preliminares 2021"]

{"sheet":"cálculos2","index":11,"n_rows":95,"n_cols":17,"rows_kept":95,"cut":false,"hidden":true,"merged":[]}
["Regional ","Município","Cobertura Vacinal BCG","Cobertura Vacinal Rotavírus","Cobertura Vacinal COVID-19","Cobertura Vacinal Pentavalente","Cobertura Vacinal Poliomielite ","Cobertura Vacinal Pneumo 10","Cobertura Vacinal Tríplice Viral","Cobertura Vacinal Meningo C","Cobertura Vacinal Febre Amarela","Cobertura Vacinal Hepatite A","Cobertura Varicela","META 90%","META 95%","ATINGIRAM META","PQA-VS"]
["Metropolitana","Afonso Cláudio",{"$f":"'CV Rotina <2A - residência'!H3","v":0.92465753424657537},{"$f":"'CV Rotina <2A - residência'!P3","v":1.0616438356164384},{"$f":"'CV Rotina <2A - residência'!#REF!","v":{"$error":"#REF!"}},{"$f":"'CV Rotina <2A - residência'!J3","v":1.0890410958904109},{"$f":"'CV Rotina <2A - residência'!L3","v":1.095890410958904},{"$f":"'CV Rotina <2A - residência'!N3","v":1.047945205479452},{"$f":"'CV Rotina <2A - residência'!X3","v":1.2328767123287672},{"$f":"'CV Rotina <2A - residência'!R3","v":1.095890410958904},{"$f":"'CV Rotina <2A - residência'!T3","v":1.0205479452054795},{"$f":"'CV Rotina <2A - residência'!V3","v":1.0410958904109588},{"$f":"'CV Rotina <2A - residência'!Z3","v":0.5273972602739726},{"$f":"COUNTIF(C2:E2,\">=0,9\")","v":2},{"$f":"COUNTIFS(F2:M2,\">=0,95\")","v":7},{"$f":"SUM(N2:O2)","v":9},{"$f":"COUNTIF(F2:I2,\">=0,95\")","v":4}]
["Norte","Água Doce do Norte",{"$f":"'CV Rotina <2A - residência'!H4","v":1.0777777777777777},{"$f":"'CV Rotina <2A - residência'!P4","v":0.81111111111111112},{"$f":"'CV Rotina <2A - residência'!#REF!","v":{"$error":"#REF!"}},{"$f":"'CV Rotina <2A - residência'!J4","v":0.76666666666666672},{"$f":"'CV Rotina <2A - residência'!L4","v":0.77777777777777779},{"$f":"'CV Rotina <2A - residência'!N4","v":0.82222222222222219},{"$f":"'CV Rotina <2A - residência'!X4","v":0.61111111111111116},{"$f":"'CV Rotina <2A - residência'!R4","v":0.75555555555555554},{"$f":"'CV Rotina <2A - residência'!T4","v":0.6333333333333333},{"$f":"'CV Rotina <2A - residência'!V4","v":0.6},{"$f":"'CV Rotina <2A - residência'!Z4","v":0.26666666666666666},{"$f":"COUNTIF(C3:E3,\">=0,9\")","v":1},0,{"$f":"SUM(N3:O3)","v":1},{"$f":"COUNTIF(F3:I3,\">=0,95\")","v":0}]
["Central","Águia Branca",{"$f":"'CV Rotina <2A - residência'!H5","v":1.0895522388059702},{"$f":"'CV Rotina <2A - residência'!P5","v":1.0149253731343284},{"$f":"'CV Rotina <2A - residência'!#REF!","v":{"$error":"#REF!"}},{"$f":"'CV Rotina <2A - residência'!J5","v":1.0746268656716418},{"$f":"'CV Rotina <2A - residência'!L5","v":1.0746268656716418},{"$f":"'CV Rotina <2A - residência'!N5","v":1.044776119402985},{"$f":"'CV Rotina <2A - residência'!X5","v":0.73134328358208955},{"$f":"'CV Rotina <2A - residência'!R5","v":1.0895522388059702},{"$f":"'CV Rotina <2A - residência'!T5","v":0.89552238805970152},{"$f":"'CV Rotina <2A - residência'!V5","v":0.70149253731343286},{"$f":"'CV Rotina <2A - residência'!Z5","v":0.34328358208955223},2,4,6,3]
["Sul","Alegre",{"$f":"'CV Rotina <2A - residência'!H6","v":0.92592592592592593},{"$f":"'CV Rotina <2A - residência'!P6","v":0.96296296296296291},{"$f":"'CV Rotina <2A - residência'!#REF!","v":{"$error":"#REF!"}},{"$f":"'CV Rotina <2A - residência'!J6","v":0.96296296296296291},{"$f":"'CV Rotina <2A - residência'!L6","v":1.0222222222222221},{"$f":"'CV Rotina <2A - residência'!N6","v":0.98518518518518516},{"$f":"'CV Rotina <2A - residência'!X6","v":0.97777777777777775},{"$f":"'CV Rotina <2A - residência'!R6","v":0.98518518518518516},{"$f":"'CV Rotina <2A - residência'!T6","v":1},{"$f":"'CV Rotina <2A - residência'!V6","v":0.77777777777777779},{"$f":"'CV Rotina <2A - residência'!Z6","v":0.37037037037037035},2,6,8,4]
["Sul","Alfredo Chaves",{"$f":"'CV Rotina <2A - residência'!H7","v":0.74576271186440679},{"$f":"'CV Rotina <2A - residência'!P7","v":1.2542372881355932},{"$f":"'CV Rotina <2A - residência'!#REF!","v":{"$error":"#REF!"}},{"$f":"'CV Rotina <2A - residência'!J7","v":1.1355932203389831},{"$f":"'CV Rotina <2A - residência'!L7","v":1.1186440677966101},{"$f":"'CV Rotina <2A - residência'!N7","v":1.2203389830508475},{"$f":"'CV Rotina <2A - residência'!X7","v":1.2033898305084745},{"$f":"'CV Rotina <2A - residência'!R7","v":1.1186440677966101},{"$f":"'CV Rotina <2A - residência'!T7","v":1.0169491525423728},{"$f":"'CV Rotina <2A - residência'!V7","v":0.84745762711864403},{"$f":"'CV Rotina <2A - residência'!Z7","v":0.69491525423728817},1,6,7,4]
["Central","Alto Rio Novo",{"$f":"'CV Rotina <2A - residência'!H8","v":1.2222222222222223},{"$f":"'CV Rotina <2A - residência'!P8","v":1.4074074074074074},{"$f":"'CV Rotina <2A - residência'!#REF!","v":{"$error":"#REF!"}},{"$f":"'CV Rotina <2A - residência'!J8","v":1.4814814814814814},{"$f":"'CV Rotina <2A - residência'!L8","v":1.4814814814814814},{"$f":"'CV Rotina <2A - residência'!N8","v":1.3703703703703705},{"$f":"'CV Rotina <2A - residência'!X8","v":1.3703703703703705},{"$f":"'CV Rotina <2A - residência'!R8","v":1.4444444444444444},{"$f":"'CV Rotina <2A - residência'!T8","v":1.1481481481481481},{"$f":"'CV Rotina <2A - residência'!V8","v":1.2222222222222223},{"$f":"'CV Rotina <2A - residência'!Z8","v":0.59259259259259256},2,7,9,4]
["Sul","Anchieta",{"$f":"'CV Rotina <2A - residência'!H9","v":0.85207100591715978},{"$f":"'CV Rotina <2A - residência'!P9","v":0.97633136094674555},{"$f":"'CV Rotina <2A - residência'!#REF!","v":{"$error":"#REF!"}},{"$f":"'CV Rotina <2A - residência'!J9","v":1.0769230769230769},{"$f":"'CV Rotina <2A - residência'!L9","v":1.0887573964497042},{"$f":"'CV Rotina <2A - residência'!N9","v":0.97633136094674555},{"$f":"'CV Rotina <2A - residência'!X9","v":0.97633136094674555},{"$f":"'CV Rotina <2A - residência'!R9","v":1.0414201183431953},{"$f":"'CV Rotina <2A - residência'!T9","v":0.75739644970414199},{"$f":"'CV Rotina <2A - residência'!V9","v":0.84023668639053251},{"$f":"'CV Rotina <2A - residência'!Z9","v":0.49704142011834318},1,5,6,4]
["Sul","Apiacá",{"$f":"'CV Rotina <2A - residência'!H10","v":0.83783783783783783},{"$f":"'CV Rotina <2A - residência'!P10","v":0.6216216216216216},{"$f":"'CV Rotina <2A - residência'!#REF!","v":{"$error":"#REF!"}},{"$f":"'CV Rotina <2A - residência'!J10","v":0.6216216216216216},{"$f":"'CV Rotina <2A - residência'!L10","v":0.6216216216216216},{"$f":"'CV Rotina <2A - residência'!N10","v":0.64864864864864868},{"$f":"'CV Rotina <2A - residência'!X10","v":0.67567567567567566},{"$f":"'CV Rotina <2A - residência'!R10","v":0.6216216216216216},{"$f":"'CV Rotina <2A - residência'!T10","v":0.6216216216216216},{"$f":"'CV Rotina <2A - residência'!V10","v":0.27027027027027029},{"$f":"'CV Rotina <2A - residência'!Z10","v":0.16216216216216217},0,0,0,0]
["Metropolitana","Aracruz",{"$f":"'CV Rotina <2A - residência'!H11","v":0.93059936908517349},{"$f":"'CV Rotina <2A - residência'!P11","v":0.86119873817034698},{"$f":"'CV Rotina <2A - residência'!#REF!","v":{"$error":"#REF!"}},{"$f":"'CV Rotina <2A - residência'!J11","v":0.8422712933753943},{"$f":"'CV Rotina <2A - residência'!L11","v":0.83753943217665616},{"$f":"'CV Rotina <2A - residência'!N11","v":0.86593059936908512},{"$f":"'CV Rotina <2A - residência'!X11","v":1.001577287066246},{"$f":"'CV Rotina <2A - residência'!R11","v":0.87223974763406942},{"$f":"'CV Rotina <2A - residência'!T11","v":0.77917981072555209},{"$f":"'CV Rotina <2A - residência'!V11","v":0.93375394321766558},{"$f":"'CV Rotina <2A - residência'!Z11","v":0.5725552050473186},1,1,2,1]
["Sul","Atilio Vivacqua",{"$f":"'CV Rotina <2A - residência'!H12","v":0.796875},{"$f":"'CV Rotina <2A - residência'!P12","v":0.78125},{"$f":"'CV Rotina <2A - residência'!#REF!","v":{"$error":"#REF!"}},{"$f":"'CV Rotina <2A - residência'!J12","v":0.75},{"$f":"'CV Rotina <2A - residência'!L12","v":0.734375},{"$f":"'CV Rotina <2A - residência'!N12","v":0.78125},{"$f":"'CV Rotina <2A - residência'!X12","v":0.984375},{"$f":"'CV Rotina <2A - residência'!R12","v":0.71875},{"$f":"'CV Rotina <2A - residência'!T12","v":0.625},{"$f":"'CV Rotina <2A - residência'!V12","v":0.765625},{"$f":"'CV Rotina <2A - residência'!Z12","v":0.484375},0,1,1,1]
["Central","Baixo Guandu",{"$f":"'CV Rotina <2A - residência'!H13","v":0.95705521472392641},{"$f":"'CV Rotina <2A - residência'!P13","v":0.97546012269938653},{"$f":"'CV Rotina <2A - residência'!#REF!","v":{"$error":"#REF!"}},{"$f":"'CV Rotina <2A - residência'!J13","v":0.93865030674846628},{"$f":"'CV Rotina <2A - residência'!L13","v":0.94478527607361962},{"$f":"'CV Rotina <2A - residência'!N13","v":1.0061349693251533},{"$f":"'CV Rotina <2A - residência'!X13","v":1.1411042944785277},{"$f":"'CV Rotina <2A - residência'!R13","v":1.0490797546012269},{"$f":"'CV Rotina <2A - residência'!T13","v":0.7975460122699386},{"$f":"'CV Rotina <2A - residência'!V13","v":0.96319018404907975},{"$f":"'CV Rotina <2A - residência'!Z13","v":0.59509202453987731},2,4,6,2]
["Norte","Barra de São Francisco",{"$f":"'CV Rotina <2A - residência'!H14","v":0.90871369294605808},{"$f":"'CV Rotina <2A - residência'!P14","v":0.85892116182572609},{"$f":"'CV Rotina <2A - residência'!#REF!","v":{"$error":"#REF!"}},{"$f":"'CV Rotina <2A - residência'!J14","v":0.86721991701244816},{"$f":"'CV Rotina <2A - residência'!L14","v":0.84647302904564314},{"$f":"'CV Rotina <2A - residência'!N14","v":0.89626556016597514},{"$f":"'CV Rotina <2A - residência'!X14","v":0.93360995850622408},{"$f":"'CV Rotina <2A - residência'!R14","v":0.9045643153526971},{"$f":"'CV Rotina <2A - residência'!T14","v":0.82987551867219922},{"$f":"'CV Rotina <2A - residência'!V14","v":0.75518672199170123},{"$f":"'CV Rotina <2A - residência'!Z14","v":0.61410788381742742},1,0,1,0]
["Norte","Boa Esperança",{"$f":"'CV Rotina <2A - residência'!H15","v":0.88311688311688308},{"$f":"'CV Rotina <2A - residência'!P15","v":1.0649350649350648},{"$f":"'CV Rotina <2A - residência'!#REF!","v":{"$error":"#REF!"}},{"$f":"'CV Rotina <2A - residência'!J15","v":0.89610389610389607},{"$f":"'CV Rotina <2A - residência'!L15","v":1},{"$f":"'CV Rotina <2A - residência'!N15","v":1.025974025974026},{"$f":"'CV Rotina <2A - residência'!X15","v":1.1688311688311688},{"$f":"'CV Rotina <2A - residência'!R15","v":1.0649350649350648},{"$f":"'CV Rotina <2A - residência'!T15","v":0.96103896103896103},{"$f":"'CV Rotina <2A - residência'!V15","v":0.79220779220779225},{"$f":"'CV Rotina <2A - residência'!Z15","v":0.68831168831168832},1,5,6,3]
["Sul","Bom Jesus do Norte",{"$f":"'CV Rotina <2A - residência'!H16","v":0.89189189189189189},{"$f":"'CV Rotina <2A - residência'!P16","v":1.0810810810810811},{"$f":"'CV Rotina <2A - residência'!#REF!","v":{"$error":"#REF!"}},{"$f":"'CV Rotina <2A - residência'!J16","v":1.4054054054054055},{"$f":"'CV Rotina <2A - residência'!L16","v":1.3513513513513513},{"$f":"'CV Rotina <2A - residência'!N16","v":1.1351351351351351},{"$f":"'CV Rotina <2A - residência'!X16","v":1.0540540540540539},{"$f":"'CV Rotina <2A - residência'!R16","v":1.0810810810810811},{"$f":"'CV Rotina <2A - residência'!T16","v":1.1621621621621621},{"$f":"'CV Rotina <2A - residência'!V16","v":0.21621621621621623},{"$f":"'CV Rotina <2A - residência'!Z16","v":0.13513513513513514},1,6,7,4]
["Metropolitana","Brejetuba",{"$f":"'CV Rotina <2A - residência'!H17","v":0.94252873563218387},{"$f":"'CV Rotina <2A - residência'!P17","v":0.94252873563218387},{"$f":"'CV Rotina <2A - residência'!#REF!","v":{"$error":"#REF!"}},{"$f":"'CV Rotina <2A - residência'!J17","v":0.89655172413793105},{"$f":"'CV Rotina <2A - residência'!L17","v":0.89655172413793105},{"$f":"'CV Rotina <2A - residência'!N17","v":0.88505747126436785},{"$f":"'CV Rotina <2A - residência'!X17","v":0.88505747126436785},{"$f":"'CV Rotina <2A - residência'!R17","v":0.8045977011494253},{"$f":"'CV Rotina <2A - residência'!T17","v":0.96551724137931039},{"$f":"'CV Rotina <2A - residência'!V17","v":0.85057471264367812},{"$f":"'CV Rotina <2A - residência'!Z17","v":0.47126436781609193},2,1,3,0]
["Sul","Cachoeiro de Itapemirim",{"$f":"'CV Rotina <2A - residência'!H18","v":1.0579185520361991},{"$f":"'CV Rotina <2A - residência'!P18","v":0.78733031674208143},{"$f":"'CV Rotina <2A - residência'!#REF!","v":{"$error":"#REF!"}},{"$f":"'CV Rotina <2A - residência'!J18","v":0.81447963800904977},{"$f":"'CV Rotina <2A - residência'!L18","v":0.80180995475113126},{"$f":"'CV Rotina <2A - residência'!N18","v":0.79366515837104068},{"$f":"'CV Rotina <2A - residência'!X18","v":0.88416289592760178},{"$f":"'CV Rotina <2A - residência'!R18","v":0.75475113122171944},{"$f":"'CV Rotina <2A - residência'!T18","v":0.64886877828054301},{"$f":"'CV Rotina <2A - residência'!V18","v":0.70316742081447969},{"$f":"'CV Rotina <2A - residência'!Z18","v":0.37647058823529411},1,0,1,0]
["Metropolitana","Cariacica",{"$f":"'CV Rotina <2A - residência'!H19","v":0.83518608023199614},{"$f":"'CV Rotina <2A - residência'!P19","v":0.84195263412276466},{"$f":"'CV Rotina <2A - residência'!#REF!","v":{"$error":"#REF!"}},{"$f":"'CV Rotina <2A - residência'!J19","v":0.87433542774287099},{"$f":"'CV Rotina <2A - residência'!L19","v":0.86176897051715806},{"$f":"'CV Rotina <2A - residência'!N19","v":0.87916868052199126},{"$f":"'CV Rotina <2A - residência'!X19","v":0.91880135331077817},{"$f":"'CV Rotina <2A - residência'!R19","v":0.84775253745770907},{"$f":"'CV Rotina <2A - residência'!T19","v":0.70613823102948281},{"$f":"'CV Rotina <2A - residência'!V19","v":0.59739004349927505},{"$f":"'CV Rotina <2A - residência'!Z19","v":0.40115998066698888},0,0,0,0]
["Sul","Castelo",{"$f":"'CV Rotina <2A - residência'!H20","v":0.8125},{"$f":"'CV Rotina <2A - residência'!P20","v":0.88020833333333337},{"$f":"'CV Rotina <2A - residência'!#REF!","v":{"$error":"#REF!"}},{"$f":"'CV Rotina <2A - residência'!J20","v":0.90104166666666663},{"$f":"'CV Rotina <2A - residência'!L20","v":0.90625},{"$f":"'CV Rotina <2A - residência'!N20","v":0.90625},{"$f":"'CV Rotina <2A - residência'!X20","v":1.0208333333333333},{"$f":"'CV Rotina <2A - residência'!R20","v":0.86979166666666663},{"$f":"'CV Rotina <2A - residência'!T20","v":0.828125},{"$f":"'CV Rotina <2A - residência'!V20","v":0.69791666666666663},{"$f":"'CV Rotina <2A - residência'!Z20","v":0.47916666666666669},0,1,1,1]
["Central","Colatina",{"$f":"'CV Rotina <2A - residência'!H21","v":1.0164424514200299},{"$f":"'CV Rotina <2A - residência'!P21","v":0.83707025411061287},{"$f":"'CV Rotina <2A - residência'!#REF!","v":{"$error":"#REF!"}},{"$f":"'CV Rotina <2A - residência'!J21","v":0.86846038863976083},{"$f":"'CV Rotina <2A - residência'!L21","v":0.84753363228699552},{"$f":"'CV Rotina <2A - residência'!N21","v":0.83707025411061287},{"$f":"'CV Rotina <2A - residência'!X21","v":0.88938714499252614},{"$f":"'CV Rotina <2A - residência'!R21","v":0.83707025411061287},{"$f":"'CV Rotina <2A - residência'!T21","v":0.79372197309417036},{"$f":"'CV Rotina <2A - residência'!V21","v":0.48131539611360241},{"$f":"'CV Rotina <2A - residência'!Z21","v":0.46188340807174888},1,0,1,0]
["Norte","Conceição da Barra",{"$f":"'CV Rotina <2A - residência'!H22","v":0.59541984732824427},{"$f":"'CV Rotina <2A - residência'!P22","v":1.1297709923664123},{"$f":"'CV Rotina <2A - residência'!#REF!","v":{"$error":"#REF!"}},{"$f":"'CV Rotina <2A - residência'!J22","v":1.1068702290076335},{"$f":"'CV Rotina <2A - residência'!L22","v":1.1374045801526718},{"$f":"'CV Rotina <2A - residência'!N22","v":1.1755725190839694},{"$f":"'CV Rotina <2A - residência'!X22","v":1.2213740458015268},{"$f":"'CV Rotina <2A - residência'!R22","v":1.1908396946564885},{"$f":"'CV Rotina <2A - residência'!T22","v":1.1221374045801527},{"$f":"'CV Rotina <2A - residência'!V22","v":0.86259541984732824},{"$f":"'CV Rotina <2A - residência'!Z22","v":0.66412213740458015},1,6,7,4]
["Metropolitana","Conceição do Castelo",{"$f":"'CV Rotina <2A - residência'!H23","v":0.71794871794871795},{"$f":"'CV Rotina <2A - residência'!P23","v":0.5641025641025641},{"$f":"'CV Rotina <2A - residência'!#REF!","v":{"$error":"#REF!"}},{"$f":"'CV Rotina <2A - residência'!J23","v":0.70512820512820518},{"$f":"'CV Rotina <2A - residência'!L23","v":0.66666666666666663},{"$f":"'CV Rotina <2A - residência'!N23","v":0.57692307692307687},{"$f":"'CV Rotina <2A - residência'!X23","v":0.69230769230769229},{"$f":"'CV Rotina <2A - residência'!R23","v":0.57692307692307687},{"$f":"'CV Rotina <2A - residência'!T23","v":0.71794871794871795},{"$f":"'CV Rotina <2A - residência'!V23","v":0.69230769230769229},{"$f":"'CV Rotina <2A - residência'!Z23","v":0.52564102564102566},0,0,0,0]
["Sul","Divino de São Lourenço",{"$f":"'CV Rotina <2A - residência'!H24","v":1.4},{"$f":"'CV Rotina <2A - residência'!P24","v":1.28},{"$f":"'CV Rotina <2A - residência'!#REF!","v":{"$error":"#REF!"}},{"$f":"'CV Rotina <2A - residência'!J24","v":1.2},{"$f":"'CV Rotina <2A - residência'!L24","v":1.1599999999999999},{"$f":"'CV Rotina <2A - residência'!N24","v":1.28},{"$f":"'CV Rotina <2A - residência'!X24","v":0.72},{"$f":"'CV Rotina <2A - residência'!R24","v":1.36},{"$f":"'CV Rotina <2A - residência'!T24","v":0.92},{"$f":"'CV Rotina <2A - residência'!V24","v":0.84},{"$f":"'CV Rotina <2A - residência'!Z24","v":0.72},2,4,6,3]
["Metropolitana","Domingos Martins",{"$f":"'CV Rotina <2A - residência'!H25","v":0.78494623655913975},{"$f":"'CV Rotina <2A - residência'!P25","v":0.88172043010752688},{"$f":"'CV Rotina <2A - residência'!#REF!","v":{"$error":"#REF!"}},{"$f":"'CV Rotina <2A - residência'!J25","v":0.81720430107526887},{"$f":"'CV Rotina <2A - residência'!L25","v":0.81182795698924726},{"$f":"'CV Rotina <2A - residência'!N25","v":0.90860215053763438},{"$f":"'CV Rotina <2A - residência'!X25","v":0.93010752688172038},{"$f":"'CV Rotina <2A - residência'!R25","v":0.83333333333333337},{"$f":"'CV Rotina <2A - residência'!T25","v":0.75268817204301075},{"$f":"'CV Rotina <2A - residência'!V25","v":0.72043010752688175},{"$f":"'CV Rotina <2A - residência'!Z25","v":0.77956989247311825},0,0,0,0]
["Sul","Dores do Rio Preto",{"$f":"'CV Rotina <2A - residência'!H26","v":0.76470588235294112},{"$f":"'CV Rotina <2A - residência'!P26","v":1.2058823529411764},{"$f":"'CV Rotina <2A - residência'!#REF!","v":{"$error":"#REF!"}},{"$f":"'CV Rotina <2A - residência'!J26","v":1.0588235294117647},{"$f":"'CV Rotina <2A - residência'!L26","v":1.1470588235294117},{"$f":"'CV Rotina <2A - residência'!N26","v":1.2647058823529411},{"$f":"'CV Rotina <2A - residência'!X26","v":1.2941176470588236},{"$f":"'CV Rotina <2A - residência'!R26","v":1.2058823529411764},{"$f":"'CV Rotina <2A - residência'!T26","v":1.0294117647058822},{"$f":"'CV Rotina <2A - residência'!V26","v":0.73529411764705888},{"$f":"'CV Rotina <2A - residência'!Z26","v":0.38235294117647056},1,6,7,4]
["Norte","Ecoporanga",{"$f":"'CV Rotina <2A - residência'!H27","v":1.04},{"$f":"'CV Rotina <2A - residência'!P27","v":0.72799999999999998},{"$f":"'CV Rotina <2A - residência'!#REF!","v":{"$error":"#REF!"}},{"$f":"'CV Rotina <2A - residência'!J27","v":0.81599999999999995},{"$f":"'CV Rotina <2A - residência'!L27","v":0.8},{"$f":"'CV Rotina <2A - residência'!N27","v":0.76},{"$f":"'CV Rotina <2A - residência'!X27","v":0.85599999999999998},{"$f":"'CV Rotina <2A - residência'!R27","v":0.76},{"$f":"'CV Rotina <2A - residência'!T27","v":0.77600000000000002},{"$f":"'CV Rotina <2A - residência'!V27","v":0.72799999999999998},{"$f":"'CV Rotina <2A - residência'!Z27","v":0.6},1,0,1,0]
["Metropolitana","Fundão",{"$f":"'CV Rotina <2A - residência'!H28","v":0.77659574468085102},{"$f":"'CV Rotina <2A - residência'!P28","v":0.88297872340425532},{"$f":"'CV Rotina <2A - residência'!#REF!","v":{"$error":"#REF!"}},{"$f":"'CV Rotina <2A - residência'!J28","v":1.053191489361702},{"$f":"'CV Rotina <2A - residência'!L28","v":1.0212765957446808},{"$f":"'CV Rotina <2A - residência'!N28","v":0.87234042553191493},{"$f":"'CV Rotina <2A - residência'!X28","v":0.9042553191489362},{"$f":"'CV Rotina <2A - residência'!R28","v":0.87234042553191493},{"$f":"'CV Rotina <2A - residência'!T28","v":0.9042553191489362},{"$f":"'CV Rotina <2A - residência'!V28","v":0.78723404255319152},{"$f":"'CV Rotina <2A - residência'!Z28","v":0.62765957446808507},0,2,2,2]
["Central","Governador Lindenberg",{"$f":"'CV Rotina <2A - residência'!H29","v":0.63888888888888884},{"$f":"'CV Rotina <2A - residência'!P29","v":0.77777777777777779},{"$f":"'CV Rotina <2A - residência'!#REF!","v":{"$error":"#REF!"}},{"$f":"'CV Rotina <2A - residência'!J29","v":0.75},{"$f":"'CV Rotina <2A - residência'!L29","v":0.72222222222222221},{"$f":"'CV Rotina <2A - residência'!N29","v":0.76388888888888884},{"$f":"'CV Rotina <2A - residência'!X29","v":0.73611111111111116},{"$f":"'CV Rotina <2A - residência'!R29","v":0.70833333333333337},{"$f":"'CV Rotina <2A - residência'!T29","v":0.83333333333333337},{"$f":"'CV Rotina <2A - residência'!V29","v":0.56944444444444442},{"$f":"'CV Rotina <2A - residência'!Z29","v":0.5},0,0,0,0]
["Sul","Guaçuí",{"$f":"'CV Rotina <2A - residência'!H30","v":0.93333333333333335},{"$f":"'CV Rotina <2A - residência'!P30","v":0.99333333333333329},{"$f":"'CV Rotina <2A - residência'!#REF!","v":{"$error":"#REF!"}},{"$f":"'CV Rotina <2A - residência'!J30","v":1.2},{"$f":"'CV Rotina <2A - residência'!L30","v":1.1466666666666667},{"$f":"'CV Rotina <2A - residência'!N30","v":1.0866666666666667},{"$f":"'CV Rotina <2A - residência'!X30","v":1.18},{"$f":"'CV Rotina <2A - residência'!R30","v":1.0666666666666667},{"$f":"'CV Rotina <2A - residência'!T30","v":0.91333333333333333},{"$f":"'CV Rotina <2A - residência'!V30","v":0.94},{"$f":"'CV Rotina <2A - residência'!Z30","v":0.54666666666666663},2,5,7,4]
["Metropolitana","Guarapari",{"$f":"'CV Rotina <2A - residência'!H31","v":0.89494680851063835},{"$f":"'CV Rotina <2A - residência'!P31","v":0.82047872340425532},{"$f":"'CV Rotina <2A - residência'!#REF!","v":{"$error":"#REF!"}},{"$f":"'CV Rotina <2A - residência'!J31","v":0.82579787234042556},{"$f":"'CV Rotina <2A - residência'!L31","v":0.79920212765957444},{"$f":"'CV Rotina <2A - residência'!N31","v":0.84973404255319152},{"$f":"'CV Rotina <2A - residência'!X31","v":0.82978723404255317},{"$f":"'CV Rotina <2A - residência'!R31","v":0.8417553191489362},{"$f":"'CV Rotina <2A - residência'!T31","v":0.6396276595744681},{"$f":"'CV Rotina <2A - residência'!V31","v":0.68351063829787229},{"$f":"'CV Rotina <2A - residência'!Z31","v":0.49335106382978722},0,0,0,0]
["Metropolitana","Ibatiba",{"$f":"'CV Rotina <2A - residência'!H32","v":0.95424836601307195},{"$f":"'CV Rotina <2A - residência'!P32","v":0.90849673202614378},{"$f":"'CV Rotina <2A - residência'!#REF!","v":{"$error":"#REF!"}},{"$f":"'CV Rotina <2A - residência'!J32","v":1},{"$f":"'CV Rotina <2A - residência'!L32","v":1},{"$f":"'CV Rotina <2A - residência'!N32","v":0.94117647058823528},{"$f":"'CV Rotina <2A - residência'!X32","v":0.90196078431372551},{"$f":"'CV Rotina <2A - residência'!R32","v":1.0392156862745099},{"$f":"'CV Rotina <2A - residência'!T32","v":0.90196078431372551},{"$f":"'CV Rotina <2A - residência'!V32","v":0.77124183006535951},{"$f":"'CV Rotina <2A - residência'!Z32","v":0.21568627450980393},2,3,5,2]
["Metropolitana","Ibiraçu",{"$f":"'CV Rotina <2A - residência'!H33","v":0.8},{"$f":"'CV Rotina <2A - residência'!P33","v":0.7},{"$f":"'CV Rotina <2A - residência'!#REF!","v":{"$error":"#REF!"}},{"$f":"'CV Rotina <2A - residência'!J33","v":0.7857142857142857},{"$f":"'CV Rotina <2A - residência'!L33","v":0.75714285714285712},{"$f":"'CV Rotina <2A - residência'!N33","v":0.7142857142857143},{"$f":"'CV Rotina <2A - residência'!X33","v":0.75714285714285712},{"$f":"'CV Rotina <2A - residência'!R33","v":0.75714285714285712},{"$f":"'CV Rotina <2A - residência'!T33","v":0.81428571428571428},{"$f":"'CV Rotina <2A - residência'!V33","v":0.51428571428571423},{"$f":"'CV Rotina <2A - residência'!Z33","v":0.31428571428571428},0,0,0,0]
["Sul","Ibitirama",{"$f":"'CV Rotina <2A - residência'!H34","v":0.90384615384615385},{"$f":"'CV Rotina <2A - residência'!P34","v":0.98076923076923073},{"$f":"'CV Rotina <2A - residência'!#REF!","v":{"$error":"#REF!"}},{"$f":"'CV Rotina <2A - residência'!J34","v":0.88461538461538458},{"$f":"'CV Rotina <2A - residência'!L34","v":0.82692307692307687},{"$f":"'CV Rotina <2A - residência'!N34","v":0.96153846153846156},{"$f":"'CV Rotina <2A - residência'!X34","v":1.0769230769230769},{"$f":"'CV Rotina <2A - residência'!R34","v":0.82692307692307687},{"$f":"'CV Rotina <2A - residência'!T34","v":0.67307692307692313},{"$f":"'CV Rotina <2A - residência'!V34","v":0.75},{"$f":"'CV Rotina <2A - residência'!Z34","v":0.59615384615384615},2,2,4,2]
["Sul","Iconha",{"$f":"'CV Rotina <2A - residência'!H35","v":0.7021276595744681},{"$f":"'CV Rotina <2A - residência'!P35","v":1.0212765957446808},{"$f":"'CV Rotina <2A - residência'!#REF!","v":{"$error":"#REF!"}},{"$f":"'CV Rotina <2A - residência'!J35","v":1.0212765957446808},{"$f":"'CV Rotina <2A - residência'!L35","v":0.95744680851063835},{"$f":"'CV Rotina <2A - residência'!N35","v":1},{"$f":"'CV Rotina <2A - residência'!X35","v":1.425531914893617},{"$f":"'CV Rotina <2A - residência'!R35","v":0.8936170212765957},{"$f":"'CV Rotina <2A - residência'!T35","v":1.0212765957446808},{"$f":"'CV Rotina <2A - residência'!V35","v":0.97872340425531912},{"$f":"'CV Rotina <2A - residência'!Z35","v":0.51063829787234039},1,6,{"$f":"SUM(N34:O34)","v":7},4]
["Sul","Irupi",{"$f":"'CV Rotina <2A - residência'!H36","v":0.92},{"$f":"'CV Rotina <2A - residência'!P36","v":1.1466666666666667},{"$f":"'CV Rotina <2A - residência'!#REF!","v":{"$error":"#REF!"}},{"$f":"'CV Rotina <2A - residência'!J36","v":1.08},{"$f":"'CV Rotina <2A - residência'!L36","v":1.0666666666666667},{"$f":"'CV Rotina <2A - residência'!N36","v":1.2133333333333334},{"$f":"'CV Rotina <2A - residência'!X36","v":1.5066666666666666},{"$f":"'CV Rotina <2A - residência'!R36","v":1.1599999999999999},{"$f":"'CV Rotina <2A - residência'!T36","v":0.96},{"$f":"'CV Rotina <2A - residência'!V36","v":0.98666666666666669},{"$f":"'CV Rotina <2A - residência'!Z36","v":0.38666666666666666},2,7,9,4]
["Metropolitana","Itaguaçu",{"$f":"'CV Rotina <2A - residência'!H37","v":1.0677966101694916},{"$f":"'CV Rotina <2A - residência'!P37","v":0.86440677966101698},{"$f":"'CV Rotina <2A - residência'!#REF!","v":{"$error":"#REF!"}},{"$f":"'CV Rotina <2A - residência'!J37","v":0.9152542372881356},{"$f":"'CV Rotina <2A - residência'!L37","v":0.88135593220338981},{"$f":"'CV Rotina <2A - residência'!N37","v":0.86440677966101698},{"$f":"'CV Rotina <2A - residência'!X37","v":0.94915254237288138},{"$f":"'CV Rotina <2A - residência'!R37","v":0.89830508474576276},{"$f":"'CV Rotina <2A - residência'!T37","v":0.93220338983050843},{"$f":"'CV Rotina <2A - residência'!V37","v":1.0169491525423728},{"$f":"'CV Rotina <2A - residência'!Z37","v":0.72881355932203384},1,1,2,0]
["Sul","Itapemirim",{"$f":"'CV Rotina <2A - residência'!H38","v":0.91044776119402981},{"$f":"'CV Rotina <2A - residência'!P38","v":0.95522388059701491},{"$f":"'CV Rotina <2A - residência'!#REF!","v":{"$error":"#REF!"}},{"$f":"'CV Rotina <2A - residência'!J38","v":0.94029850746268662},{"$f":"'CV Rotina <2A - residência'!L38","v":0.92537313432835822},{"$f":"'CV Rotina <2A - residência'!N38","v":1.0845771144278606},{"$f":"'CV Rotina <2A - residência'!X38","v":1},{"$f":"'CV Rotina <2A - residência'!R38","v":0.99502487562189057},{"$f":"'CV Rotina <2A - residência'!T38","v":0.63681592039800994},{"$f":"'CV Rotina <2A - residência'!V38","v":0.94527363184079605},{"$f":"'CV Rotina <2A - residência'!Z38","v":0.55721393034825872},2,3,5,2]
["Metropolitana","Itarana",{"$f":"'CV Rotina <2A - residência'!H39","v":1.0615384615384615},{"$f":"'CV Rotina <2A - residência'!P39","v":0.70769230769230773},{"$f":"'CV Rotina <2A - residência'!#REF!","v":{"$error":"#REF!"}},{"$f":"'CV Rotina <2A - residência'!J39","v":0.75384615384615383},{"$f":"'CV Rotina <2A - residência'!L39","v":0.75384615384615383},{"$f":"'CV Rotina <2A - residência'!N39","v":0.7384615384615385},{"$f":"'CV Rotina <2A - residência'!X39","v":0.75384615384615383},{"$f":"'CV Rotina <2A - residência'!R39","v":0.70769230769230773},{"$f":"'CV Rotina <2A - residência'!T39","v":0.98461538461538467},{"$f":"'CV Rotina <2A - residência'!V39","v":0.41538461538461541},{"$f":"'CV Rotina <2A - residência'!Z39","v":0.56923076923076921},1,1,2,0]
["Sul","Iúna",{"$f":"'CV Rotina <2A - residência'!H40","v":0.7142857142857143},{"$f":"'CV Rotina <2A - residência'!P40","v":0.99470899470899465},{"$f":"'CV Rotina <2A - residência'!#REF!","v":{"$error":"#REF!"}},{"$f":"'CV Rotina <2A - residência'!J40","v":1.0105820105820107},{"$f":"'CV Rotina <2A - residência'!L40","v":1.0052910052910053},{"$f":"'CV Rotina <2A - residência'!N40","v":1.0052910052910053},{"$f":"'CV Rotina <2A - residência'!X40","v":0.96825396825396826},{"$f":"'CV Rotina <2A - residência'!R40","v":0.99470899470899465},{"$f":"'CV Rotina <2A - residência'!T40","v":0.92592592592592593},{"$f":"'CV Rotina <2A - residência'!V40","v":0.71957671957671954},{"$f":"'CV Rotina <2A - residência'!Z40","v":0.46031746031746029},1,5,6,4]
["Norte","Jaguaré",{"$f":"'CV Rotina <2A - residência'!H41","v":0.91981132075471694},{"$f":"'CV Rotina <2A - residência'!P41","v":0.86792452830188682},{"$f":"'CV Rotina <2A - residência'!#REF!","v":{"$error":"#REF!"}},{"$f":"'CV Rotina <2A - residência'!J41","v":0.99528301886792447},{"$f":"'CV Rotina <2A - residência'!L41","v":1.0518867924528301},{"$f":"'CV Rotina <2A - residência'!N41","v":0.8867924528301887},{"$f":"'CV Rotina <2A - residência'!X41","v":0.87264150943396224},{"$f":"'CV Rotina <2A - residência'!R41","v":0.89622641509433965},{"$f":"'CV Rotina <2A - residência'!T41","v":0.85849056603773588},{"$f":"'CV Rotina <2A - residência'!V41","v":0.68396226415094341},{"$f":"'CV Rotina <2A - residência'!Z41","v":0.48584905660377359},1,2,3,2]
["Sul","Jerônimo Monteiro",{"$f":"'CV Rotina <2A - residência'!H42","v":1.1016949152542372},{"$f":"'CV Rotina <2A - residência'!P42","v":1.1694915254237288},{"$f":"'CV Rotina <2A - residência'!#REF!","v":{"$error":"#REF!"}},{"$f":"'CV Rotina <2A - residência'!J42","v":1.2033898305084745},{"$f":"'CV Rotina <2A - residência'!L42","v":1.2372881355932204},{"$f":"'CV Rotina <2A - residência'!N42","v":1.1864406779661016},{"$f":"'CV Rotina <2A - residência'!X42","v":1.0508474576271187},{"$f":"'CV Rotina <2A - residência'!R42","v":0.98305084745762716},{"$f":"'CV Rotina <2A - residência'!T42","v":1.0847457627118644},{"$f":"'CV Rotina <2A - residência'!V42","v":0.83050847457627119},{"$f":"'CV Rotina <2A - residência'!Z42","v":0.33898305084745761},2,6,8,4]
["Metropolitana","João Neiva",{"$f":"'CV Rotina <2A - residência'!H43","v":0.8},{"$f":"'CV Rotina <2A - residência'!P43","v":0.98571428571428577},{"$f":"'CV Rotina <2A - residência'!#REF!","v":{"$error":"#REF!"}},{"$f":"'CV Rotina <2A - residência'!J43","v":1},{"$f":"'CV Rotina <2A - residência'!L43","v":0.97142857142857142},{"$f":"'CV Rotina <2A - residência'!N43","v":1},{"$f":"'CV Rotina <2A - residência'!X43","v":1.2},{"$f":"'CV Rotina <2A - residência'!R43","v":0.9285714285714286},{"$f":"'CV Rotina <2A - residência'!T43","v":0.98571428571428577},{"$f":"'CV Rotina <2A - residência'!V43","v":0.81428571428571428},{"$f":"'CV Rotina <2A - residência'!Z43","v":0.44285714285714284},1,5,6,4]
["Metropolitana","Laranja da Terra",{"$f":"'CV Rotina <2A - residência'!H44","v":0.79069767441860461},{"$f":"'CV Rotina <2A - residência'!P44","v":0.67441860465116277},{"$f":"'CV Rotina <2A - residência'!#REF!","v":{"$error":"#REF!"}},{"$f":"'CV Rotina <2A - residência'!J44","v":0.83720930232558144},{"$f":"'CV Rotina <2A - residência'!L44","v":0.83720930232558144},{"$f":"'CV Rotina <2A - residência'!N44","v":0.67441860465116277},{"$f":"'CV Rotina <2A - residência'!X44","v":1.4651162790697674},{"$f":"'CV Rotina <2A - residência'!R44","v":0.90697674418604646},{"$f":"'CV Rotina <2A - residência'!T44","v":1.1860465116279071},{"$f":"'CV Rotina <2A - residência'!V44","v":1.0232558139534884},{"$f":"'CV Rotina <2A - residência'!Z44","v":1},0,4,4,1]
["Central","Linhares",{"$f":"'CV Rotina <2A - residência'!H45","v":0.78222222222222226},{"$f":"'CV Rotina <2A - residência'!P45","v":0.80800000000000005},{"$f":"'CV Rotina <2A - residência'!#REF!","v":{"$error":"#REF!"}},{"$f":"'CV Rotina <2A - residência'!J45","v":0.81955555555555559},{"$f":"'CV Rotina <2A - residência'!L45","v":0.80888888888888888},{"$f":"'CV Rotina <2A - residência'!N45","v":0.7937777777777778},{"$f":"'CV Rotina <2A - residência'!X45","v":0.82399999999999995},{"$f":"'CV Rotina <2A - residência'!R45","v":0.7911111111111111},{"$f":"'CV Rotina <2A - residência'!T45","v":0.71911111111111115},{"$f":"'CV Rotina <2A - residência'!V45","v":0.62044444444444447},{"$f":"'CV Rotina <2A - residência'!Z45","v":0.41333333333333333},0,0,0,0]
["Central","Mantenópolis",{"$f":"'CV Rotina <2A - residência'!H46","v":0.83333333333333337},{"$f":"'CV Rotina <2A - residência'!P46","v":0.65384615384615385},{"$f":"'CV Rotina <2A - residência'!#REF!","v":{"$error":"#REF!"}},{"$f":"'CV Rotina <2A - residência'!J46","v":0.71794871794871795},{"$f":"'CV Rotina <2A - residência'!L46","v":0.78205128205128205},{"$f":"'CV Rotina <2A - residência'!N46","v":0.67948717948717952},{"$f":"'CV Rotina <2A - residência'!X46","v":0.74358974358974361},{"$f":"'CV Rotina <2A - residência'!R46","v":0.62820512820512819},{"$f":"'CV Rotina <2A - residência'!T46","v":0.83333333333333337},{"$f":"'CV Rotina <2A - residência'!V46","v":0.65384615384615385},{"$f":"'CV Rotina <2A - residência'!Z46","v":0.46153846153846156},0,0,0,0]
["Sul","Marataízes",{"$f":"'CV Rotina <2A - residência'!H47","v":0.82706766917293228},{"$f":"'CV Rotina <2A - residência'!P47","v":0.80827067669172936},{"$f":"'CV Rotina <2A - residência'!#REF!","v":{"$error":"#REF!"}},{"$f":"'CV Rotina <2A - residência'!J47","v":0.78947368421052633},{"$f":"'CV Rotina <2A - residência'!L47","v":0.79323308270676696},{"$f":"'CV Rotina <2A - residência'!N47","v":0.84210526315789469},{"$f":"'CV Rotina <2A - residência'!X47","v":0.87593984962406013},{"$f":"'CV Rotina <2A - residência'!R47","v":0.82330827067669177},{"$f":"'CV Rotina <2A - residência'!T47","v":0.58270676691729328},{"$f":"'CV Rotina <2A - residência'!V47","v":0.71052631578947367},{"$f":"'CV Rotina <2A - residência'!Z47","v":0.38721804511278196},0,0,0,0]
["Metropolitana","Marechal Floriano",{"$f":"'CV Rotina <2A - residência'!H48","v":0.67647058823529416},{"$f":"'CV Rotina <2A - residência'!P48","v":0.91176470588235292},{"$f":"'CV Rotina <2A - residência'!#REF!","v":{"$error":"#REF!"}},{"$f":"'CV Rotina <2A - residência'!J48","v":0.78431372549019607},{"$f":"'CV Rotina <2A - residência'!L48","v":0.78431372549019607},{"$f":"'CV Rotina <2A - residência'!N48","v":0.91176470588235292},{"$f":"'CV Rotina <2A - residência'!X48","v":0.9509803921568627},{"$f":"'CV Rotina <2A - residência'!R48","v":0.92156862745098034},{"$f":"'CV Rotina <2A - residência'!T48","v":0.65686274509803921},{"$f":"'CV Rotina <2A - residência'!V48","v":0.72549019607843135},{"$f":"'CV Rotina <2A - residência'!Z48","v":0.59803921568627449},1,1,2,1]
["Central","Marilândia",{"$f":"'CV Rotina <2A - residência'!H49","v":1},{"$f":"'CV Rotina <2A - residência'!P49","v":1.0163934426229508},{"$f":"'CV Rotina <2A - residência'!#REF!","v":{"$error":"#REF!"}},{"$f":"'CV Rotina <2A - residência'!J49","v":1.180327868852459},{"$f":"'CV Rotina <2A - residência'!L49","v":1.180327868852459},{"$f":"'CV Rotina <2A - residência'!N49","v":0.96721311475409832},{"$f":"'CV Rotina <2A - residência'!X49","v":0.95081967213114749},{"$f":"'CV Rotina <2A - residência'!R49","v":1.1967213114754098},{"$f":"'CV Rotina <2A - residência'!T49","v":1.1147540983606556},{"$f":"'CV Rotina <2A - residência'!V49","v":0.96721311475409832},{"$f":"'CV Rotina <2A - residência'!Z49","v":0.75409836065573765},2,7,9,4]
["Sul","Mimoso do Sul",{"$f":"'CV Rotina <2A - residência'!H50","v":0.8571428571428571},{"$f":"'CV Rotina <2A - residência'!P50","v":0.81904761904761902},{"$f":"'CV Rotina <2A - residência'!#REF!","v":{"$error":"#REF!"}},{"$f":"'CV Rotina <2A - residência'!J50","v":0.97142857142857142},{"$f":"'CV Rotina <2A - residência'!L50","v":0.96190476190476193},{"$f":"'CV Rotina <2A - residência'!N50","v":0.84761904761904761},{"$f":"'CV Rotina <2A - residência'!X50","v":0.90476190476190477},{"$f":"'CV Rotina <2A - residência'!R50","v":0.95238095238095233},{"$f":"'CV Rotina <2A - residência'!T50","v":0.78095238095238095},{"$f":"'CV Rotina <2A - residência'!V50","v":0.69523809523809521},{"$f":"'CV Rotina <2A - residência'!Z50","v":0.55238095238095242},0,3,3,2]
["Norte","Montanha",{"$f":"'CV Rotina <2A - residência'!H51","v":0.73684210526315785},{"$f":"'CV Rotina <2A - residência'!P51","v":1.2763157894736843},{"$f":"'CV Rotina <2A - residência'!#REF!","v":{"$error":"#REF!"}},{"$f":"'CV Rotina <2A - residência'!J51","v":1.5394736842105263},{"$f":"'CV Rotina <2A - residência'!L51","v":1.5526315789473684},{"$f":"'CV Rotina <2A - residência'!N51","v":1.263157894736842},{"$f":"'CV Rotina <2A - residência'!X51","v":1.3026315789473684},{"$f":"'CV Rotina <2A - residência'!R51","v":1.3157894736842106},{"$f":"'CV Rotina <2A - residência'!T51","v":1.3289473684210527},{"$f":"'CV Rotina <2A - residência'!V51","v":1.263157894736842},{"$f":"'CV Rotina <2A - residência'!Z51","v":0.89473684210526316},1,7,8,4]
["Norte","Mucurici",{"$f":"'CV Rotina <2A - residência'!H52","v":0.7142857142857143},{"$f":"'CV Rotina <2A - residência'!P52","v":1.7142857142857142},{"$f":"'CV Rotina <2A - residência'!#REF!","v":{"$error":"#REF!"}},{"$f":"'CV Rotina <2A - residência'!J52","v":1.6190476190476191},{"$f":"'CV Rotina <2A - residência'!L52","v":1.6190476190476191},{"$f":"'CV Rotina <2A - residência'!N52","v":1.7142857142857142},{"$f":"'CV Rotina <2A - residência'!X52","v":1.7619047619047619},{"$f":"'CV Rotina <2A - residência'!R52","v":1.6190476190476191},{"$f":"'CV Rotina <2A - residência'!T52","v":1.7142857142857142},{"$f":"'CV Rotina <2A - residência'!V52","v":1},{"$f":"'CV Rotina <2A - residência'!Z52","v":0.95238095238095233},1,8,9,4]
["Sul","Muniz Freire",{"$f":"'CV Rotina <2A - residência'!H53","v":1.0348837209302326},{"$f":"'CV Rotina <2A - residência'!P53","v":1.1279069767441861},{"$f":"'CV Rotina <2A - residência'!#REF!","v":{"$error":"#REF!"}},{"$f":"'CV Rotina <2A - residência'!J53","v":1.1627906976744187},{"$f":"'CV Rotina <2A - residência'!L53","v":1.1046511627906976},{"$f":"'CV Rotina <2A - residência'!N53","v":1.1511627906976745},{"$f":"'CV Rotina <2A - residência'!X53","v":1.1744186046511629},{"$f":"'CV Rotina <2A - residência'!R53","v":1.058139534883721},{"$f":"'CV Rotina <2A - residência'!T53","v":1.058139534883721},{"$f":"'CV Rotina <2A - residência'!V53","v":0.95348837209302328},{"$f":"'CV Rotina <2A - residência'!Z53","v":0.52325581395348841},2,7,9,4]
["Sul","Muqui",{"$f":"'CV Rotina <2A - residência'!H54","v":1.0666666666666667},{"$f":"'CV Rotina <2A - residência'!P54","v":0.91666666666666663},{"$f":"'CV Rotina <2A - residência'!#REF!","v":{"$error":"#REF!"}},{"$f":"'CV Rotina <2A - residência'!J54","v":1.2333333333333334},{"$f":"'CV Rotina <2A - residência'!L54","v":1.25},{"$f":"'CV Rotina <2A - residência'!N54","v":0.95},{"$f":"'CV Rotina <2A - residência'!X54","v":1.05},{"$f":"'CV Rotina <2A - residência'!R54","v":1.0666666666666667},{"$f":"'CV Rotina <2A - residência'!T54","v":1.2},{"$f":"'CV Rotina <2A - residência'!V54","v":0.8833333333333333},{"$f":"'CV Rotina <2A - residência'!Z54","v":0.56666666666666665},2,6,8,4]
["Norte","Nova Venécia",{"$f":"'CV Rotina <2A - residência'!H55","v":0.87707641196013286},{"$f":"'CV Rotina <2A - residência'!P55","v":0.82059800664451832},{"$f":"'CV Rotina <2A - residência'!#REF!","v":{"$error":"#REF!"}},{"$f":"'CV Rotina <2A - residência'!J55","v":0.95681063122923593},{"$f":"'CV Rotina <2A - residência'!L55","v":0.96013289036544847},{"$f":"'CV Rotina <2A - residência'!N55","v":0.8571428571428571},{"$f":"'CV Rotina <2A - residência'!X55","v":0.90033222591362128},{"$f":"'CV Rotina <2A - residência'!R55","v":0.87707641196013286},{"$f":"'CV Rotina <2A - residência'!T55","v":0.89368770764119598},{"$f":"'CV Rotina <2A - residência'!V55","v":0.7441860465116279},{"$f":"'CV Rotina <2A - residência'!Z55","v":0.56146179401993357},0,2,2,2]
["Central","Pancas",{"$f":"'CV Rotina <2A - residência'!H56","v":0.95604395604395609},{"$f":"'CV Rotina <2A - residência'!P56","v":0.98901098901098905},{"$f":"'CV Rotina <2A - residência'!#REF!","v":{"$error":"#REF!"}},{"$f":"'CV Rotina <2A - residência'!J56","v":1.1098901098901099},{"$f":"'CV Rotina <2A - residência'!L56","v":1.098901098901099},{"$f":"'CV Rotina <2A - residência'!N56","v":1.0109890109890109},{"$f":"'CV Rotina <2A - residência'!X56","v":0.96703296703296704},{"$f":"'CV Rotina <2A - residência'!R56","v":1.098901098901099},{"$f":"'CV Rotina <2A - residência'!T56","v":0.95604395604395609},{"$f":"'CV Rotina <2A - residência'!V56","v":0.92307692307692313},{"$f":"'CV Rotina <2A - residência'!Z56","v":0.8351648351648352},2,6,8,4]
["Norte","Pedro Canário",{"$f":"'CV Rotina <2A - residência'!H57","v":0.54545454545454541},{"$f":"'CV Rotina <2A - residência'!P57","v":0.81818181818181823},{"$f":"'CV Rotina <2A - residência'!#REF!","v":{"$error":"#REF!"}},{"$f":"'CV Rotina <2A - residência'!J57","v":1.0681818181818181},{"$f":"'CV Rotina <2A - residência'!L57","v":1.0454545454545454},{"$f":"'CV Rotina <2A - residência'!N57","v":0.85606060606060608},{"$f":"'CV Rotina <2A - residência'!X57","v":1.2348484848484849},{"$f":"'CV Rotina <2A - residência'!R57","v":0.95454545454545459},{"$f":"'CV Rotina <2A - residência'!T57","v":0.96212121212121215},{"$f":"'CV Rotina <2A - residência'!V57","v":0.74242424242424243},{"$f":"'CV Rotina <2A - residência'!Z57","v":0.73484848484848486},0,5,5,3]
["Norte","Pinheiros",{"$f":"'CV Rotina <2A - residência'!H58","v":0.48623853211009177},{"$f":"'CV Rotina <2A - residência'!P58","v":1.073394495412844},{"$f":"'CV Rotina <2A - residência'!#REF!","v":{"$error":"#REF!"}},{"$f":"'CV Rotina <2A - residência'!J58","v":1.2293577981651376},{"$f":"'CV Rotina <2A - residência'!L58","v":1.2201834862385321},{"$f":"'CV Rotina <2A - residência'!N58","v":1.1192660550458715},{"$f":"'CV Rotina <2A - residência'!X58","v":1.2568807339449541},{"$f":"'CV Rotina <2A - residência'!R58","v":1.0642201834862386},{"$f":"'CV Rotina <2A - residência'!T58","v":1.0917431192660549},{"$f":"'CV Rotina <2A - residência'!V58","v":0.87155963302752293},{"$f":"'CV Rotina <2A - residência'!Z58","v":0.46788990825688076},1,6,7,4]
["Sul","Piúma",{"$f":"'CV Rotina <2A - residência'!H59","v":0.86885245901639341},{"$f":"'CV Rotina <2A - residência'!P59","v":0.88524590163934425},{"$f":"'CV Rotina <2A - residência'!#REF!","v":{"$error":"#REF!"}},{"$f":"'CV Rotina <2A - residência'!J59","v":0.97540983606557374},{"$f":"'CV Rotina <2A - residência'!L59","v":0.96721311475409832},{"$f":"'CV Rotina <2A - residência'!N59","v":0.95901639344262291},{"$f":"'CV Rotina <2A - residência'!X59","v":1.0573770491803278},{"$f":"'CV Rotina <2A - residência'!R59","v":0.81147540983606559},{"$f":"'CV Rotina <2A - residência'!T59","v":0.71311475409836067},{"$f":"'CV Rotina <2A - residência'!V59","v":0.75409836065573765},{"$f":"'CV Rotina <2A - residência'!Z59","v":0.50819672131147542},0,4,4,4]
["Norte","Ponto Belo",{"$f":"'CV Rotina <2A - residência'!H60","v":0.76},{"$f":"'CV Rotina <2A - residência'!P60","v":1},{"$f":"'CV Rotina <2A - residência'!#REF!","v":{"$error":"#REF!"}},{"$f":"'CV Rotina <2A - residência'!J60","v":0.72},{"$f":"'CV Rotina <2A - residência'!L60","v":0.72},{"$f":"'CV Rotina <2A - residência'!N60","v":1.04},{"$f":"'CV Rotina <2A - residência'!X60","v":1.04},{"$f":"'CV Rotina <2A - residência'!R60","v":0.92},{"$f":"'CV Rotina <2A - residência'!T60","v":1.1200000000000001},{"$f":"'CV Rotina <2A - residência'!V60","v":0.6},{"$f":"'CV Rotina <2A - residência'!Z60","v":0.6},1,3,4,2]
["Sul","Presidente Kennedy",{"$f":"'CV Rotina <2A - residência'!H61","v":1},{"$f":"'CV Rotina <2A - residência'!P61","v":0.64893617021276595},{"$f":"'CV Rotina <2A - residência'!#REF!","v":{"$error":"#REF!"}},{"$f":"'CV Rotina <2A - residência'!J61","v":0.72340425531914898},{"$f":"'CV Rotina <2A - residência'!L61","v":0.76595744680851063},{"$f":"'CV Rotina <2A - residência'!N61","v":0.63829787234042556},{"$f":"'CV Rotina <2A - residência'!X61","v":1.0106382978723405},{"$f":"'CV Rotina <2A - residência'!R61","v":0.63829787234042556},{"$f":"'CV Rotina <2A - residência'!T61","v":0.7021276595744681},{"$f":"'CV Rotina <2A - residência'!V61","v":0.72340425531914898},{"$f":"'CV Rotina <2A - residência'!Z61","v":0.5},1,1,2,1]
["Central","Rio Bananal",{"$f":"'CV Rotina <2A - residência'!H62","v":0.7846153846153846},{"$f":"'CV Rotina <2A - residência'!P62","v":0.77692307692307694},{"$f":"'CV Rotina <2A - residência'!#REF!","v":{"$error":"#REF!"}},{"$f":"'CV Rotina <2A - residência'!J62","v":0.81538461538461537},{"$f":"'CV Rotina <2A - residência'!L62","v":0.81538461538461537},{"$f":"'CV Rotina <2A - residência'!N62","v":0.73076923076923073},{"$f":"'CV Rotina <2A - residência'!X62","v":0.93846153846153846},{"$f":"'CV Rotina <2A - residência'!R62","v":0.77692307692307694},{"$f":"'CV Rotina <2A - residência'!T62","v":0.92307692307692313},{"$f":"'CV Rotina <2A - residência'!V62","v":0.82307692307692304},{"$f":"'CV Rotina <2A - residência'!Z62","v":0.53846153846153844},0,0,0,0]
["Sul","Rio Novo do Sul",{"$f":"'CV Rotina <2A - residência'!H63","v":0.72340425531914898},{"$f":"'CV Rotina <2A - residência'!P63","v":1.0851063829787233},{"$f":"'CV Rotina <2A - residência'!#REF!","v":{"$error":"#REF!"}},{"$f":"'CV Rotina <2A - residência'!J63","v":1.0425531914893618},{"$f":"'CV Rotina <2A - residência'!L63","v":1},{"$f":"'CV Rotina <2A - residência'!N63","v":1.0425531914893618},{"$f":"'CV Rotina <2A - residência'!X63","v":0.95744680851063835},{"$f":"'CV Rotina <2A - residência'!R63","v":1},{"$f":"'CV Rotina <2A - residência'!T63","v":1},{"$f":"'CV Rotina <2A - residência'!V63","v":0.76595744680851063},{"$f":"'CV Rotina <2A - residência'!Z63","v":0.65957446808510634},1,6,7,4]
["Metropolitana","Santa Leopoldina",{"$f":"'CV Rotina <2A - residência'!H64","v":0.6875},{"$f":"'CV Rotina <2A - residência'!P64","v":1.25},{"$f":"'CV Rotina <2A - residência'!#REF!","v":{"$error":"#REF!"}},{"$f":"'CV Rotina <2A - residência'!J64","v":1.375},{"$f":"'CV Rotina <2A - residência'!L64","v":1.34375},{"$f":"'CV Rotina <2A - residência'!N64","v":1.1875},{"$f":"'CV Rotina <2A - residência'!X64","v":1.78125},{"$f":"'CV Rotina <2A - residência'!R64","v":1.53125},{"$f":"'CV Rotina <2A - residência'!T64","v":1.25},{"$f":"'CV Rotina <2A - residência'!V64","v":1.46875},{"$f":"'CV Rotina <2A - residência'!Z64","v":0.4375},1,7,8,4]
["Metropolitana","Santa Maria de Jetibá",{"$f":"'CV Rotina <2A - residência'!H65","v":0.74503311258278149},{"$f":"'CV Rotina <2A - residência'!P65","v":0.8112582781456954},{"$f":"'CV Rotina <2A - residência'!#REF!","v":{"$error":"#REF!"}},{"$f":"'CV Rotina <2A - residência'!J65","v":0.7483443708609272},{"$f":"'CV Rotina <2A - residência'!L65","v":0.7483443708609272},{"$f":"'CV Rotina <2A - residência'!N65","v":0.79470198675496684},{"$f":"'CV Rotina <2A - residência'!X65","v":0.8741721854304636},{"$f":"'CV Rotina <2A - residência'!R65","v":0.7516556291390728},{"$f":"'CV Rotina <2A - residência'!T65","v":0.71523178807947019},{"$f":"'CV Rotina <2A - residência'!V65","v":0.82450331125827814},{"$f":"'CV Rotina <2A - residência'!Z65","v":0.41721854304635764},0,0,0,0]
["Metropolitana","Santa Teresa",{"$f":"'CV Rotina <2A - residência'!H66","v":0.96666666666666667},{"$f":"'CV Rotina <2A - residência'!P66","v":1.0666666666666667},{"$f":"'CV Rotina <2A - residência'!#REF!","v":{"$error":"#REF!"}},{"$f":"'CV Rotina <2A - residência'!J66","v":1.0333333333333334},{"$f":"'CV Rotina <2A - residência'!L66","v":1.0333333333333334},{"$f":"'CV Rotina <2A - residência'!N66","v":1.0583333333333333},{"$f":"'CV Rotina <2A - residência'!X66","v":0.91666666666666663},{"$f":"'CV Rotina <2A - residência'!R66","v":0.95833333333333337},{"$f":"'CV Rotina <2A - residência'!T66","v":0.94166666666666665},{"$f":"'CV Rotina <2A - residência'!V66","v":0.76666666666666672},{"$f":"'CV Rotina <2A - residência'!Z66","v":0.67500000000000004},2,4,6,3]
["Central","São Domingos do Norte",{"$f":"'CV Rotina <2A - residência'!H67","v":0.7931034482758621},{"$f":"'CV Rotina <2A - residência'!P67","v":0.7931034482758621},{"$f":"'CV Rotina <2A - residência'!#REF!","v":{"$error":"#REF!"}},{"$f":"'CV Rotina <2A - residência'!J67","v":0.7931034482758621},{"$f":"'CV Rotina <2A - residência'!L67","v":0.81034482758620685},{"$f":"'CV Rotina <2A - residência'!N67","v":0.82758620689655171},{"$f":"'CV Rotina <2A - residência'!X67","v":0.67241379310344829},{"$f":"'CV Rotina <2A - residência'!R67","v":0.89655172413793105},{"$f":"'CV Rotina <2A - residência'!T67","v":0.7931034482758621},{"$f":"'CV Rotina <2A - residência'!V67","v":0.44827586206896552},{"$f":"'CV Rotina <2A - residência'!Z67","v":0.41379310344827586},0,{"$f":"COUNTIFS(F66:M66,\">=0,95\")","v":0},0,0]
["Central","São Gabriel da Palha",{"$f":"'CV Rotina <2A - residência'!H68","v":1.0930232558139534},{"$f":"'CV Rotina <2A - residência'!P68","v":0.97674418604651159},{"$f":"'CV Rotina <2A - residência'!#REF!","v":{"$error":"#REF!"}},{"$f":"'CV Rotina <2A - residência'!J68","v":0.92441860465116277},{"$f":"'CV Rotina <2A - residência'!L68","v":0.92441860465116277},{"$f":"'CV Rotina <2A - residência'!N68","v":0.97093023255813948},{"$f":"'CV Rotina <2A - residência'!X68","v":0.87209302325581395},{"$f":"'CV Rotina <2A - residência'!R68","v":0.9941860465116279},{"$f":"'CV Rotina <2A - residência'!T68","v":0.82558139534883723},{"$f":"'CV Rotina <2A - residência'!V68","v":0.61627906976744184},{"$f":"'CV Rotina <2A - residência'!Z68","v":0.43604651162790697},{"$f":"COUNTIF(C67:E67,\">=0,9\")","v":2},2,{"$f":"SUM(N67:O67)","v":4},{"$f":"COUNTIF(F67:I67,\">=0,95\")","v":1}]
["Sul","São José do Calçado",{"$f":"'CV Rotina <2A - residência'!H69","v":1.0454545454545454},{"$f":"'CV Rotina <2A - residência'!P69","v":0.88636363636363635},{"$f":"'CV Rotina <2A - residência'!#REF!","v":{"$error":"#REF!"}},{"$f":"'CV Rotina <2A - residência'!J69","v":1.2727272727272727},{"$f":"'CV Rotina <2A - residência'!L69","v":1.25},{"$f":"'CV Rotina <2A - residência'!N69","v":1.0227272727272727},{"$f":"'CV Rotina <2A - residência'!X69","v":1.2272727272727273},{"$f":"'CV Rotina <2A - residência'!R69","v":1.1363636363636365},{"$f":"'CV Rotina <2A - residência'!T69","v":0.90909090909090906},{"$f":"'CV Rotina <2A - residência'!V69","v":0.93181818181818177},{"$f":"'CV Rotina <2A - residência'!Z69","v":0.81818181818181823},1,5,6,4]
["Norte","São Mateus",{"$f":"'CV Rotina <2A - residência'!H70","v":1.4616639477977162},{"$f":"'CV Rotina <2A - residência'!P70","v":1.1060358890701467},{"$f":"'CV Rotina <2A - residência'!#REF!","v":{"$error":"#REF!"}},{"$f":"'CV Rotina <2A - residência'!J70","v":1.1712887438825448},{"$f":"'CV Rotina <2A - residência'!L70","v":1.1500815660685155},{"$f":"'CV Rotina <2A - residência'!N70","v":1.1680261011419251},{"$f":"'CV Rotina <2A - residência'!X70","v":1.0473083197389885},{"$f":"'CV Rotina <2A - residência'!R70","v":1.0799347471451877},{"$f":"'CV Rotina <2A - residência'!T70","v":0.88254486133768351},{"$f":"'CV Rotina <2A - residência'!V70","v":0.85154975530179444},{"$f":"'CV Rotina <2A - residência'!Z70","v":0.52365415986949426},2,5,7,4]
["Central","São Roque do Canaã",{"$f":"'CV Rotina <2A - residência'!H71","v":0.80519480519480524},{"$f":"'CV Rotina <2A - residência'!P71","v":0.50649350649350644},{"$f":"'CV Rotina <2A - residência'!#REF!","v":{"$error":"#REF!"}},{"$f":"'CV Rotina <2A - residência'!J71","v":0.45454545454545453},{"$f":"'CV Rotina <2A - residência'!L71","v":0.44155844155844154},{"$f":"'CV Rotina <2A - residência'!N71","v":0.48051948051948051},{"$f":"'CV Rotina <2A - residência'!X71","v":0.76623376623376627},{"$f":"'CV Rotina <2A - residência'!R71","v":0.48051948051948051},{"$f":"'CV Rotina <2A - residência'!T71","v":0.61038961038961037},{"$f":"'CV Rotina <2A - residência'!V71","v":0.54545454545454541},{"$f":"'CV Rotina <2A - residência'!Z71","v":0.35064935064935066},0,0,0,0]
["Metropolitana","Serra",{"$f":"'CV Rotina <2A - residência'!H72","v":0.84666869485853358},{"$f":"'CV Rotina <2A - residência'!P72","v":0.75479160328567085},{"$f":"'CV Rotina <2A - residência'!#REF!","v":{"$error":"#REF!"}},{"$f":"'CV Rotina <2A - residência'!J72","v":0.8049893519926985},{"$f":"'CV Rotina <2A - residência'!L72","v":0.79951323395193186},{"$f":"'CV Rotina <2A - residência'!N72","v":0.77121995740797078},{"$f":"'CV Rotina <2A - residência'!X72","v":0.79190751445086704},{"$f":"'CV Rotina <2A - residência'!R72","v":0.76604806814724669},{"$f":"'CV Rotina <2A - residência'!T72","v":0.65713416489199883},{"$f":"'CV Rotina <2A - residência'!V72","v":0.37450562823243078},{"$f":"'CV Rotina <2A - residência'!Z72","v":0.28445390933982356},0,0,0,0]
["Central","Sooretama",{"$f":"'CV Rotina <2A - residência'!H73","v":0.70918367346938771},{"$f":"'CV Rotina <2A - residência'!P73","v":0.76020408163265307},{"$f":"'CV Rotina <2A - residência'!#REF!","v":{"$error":"#REF!"}},{"$f":"'CV Rotina <2A - residência'!J73","v":0.84693877551020413},{"$f":"'CV Rotina <2A - residência'!L73","v":0.86734693877551017},{"$f":"'CV Rotina <2A - residência'!N73","v":0.77551020408163263},{"$f":"'CV Rotina <2A - residência'!X73","v":0.78061224489795922},{"$f":"'CV Rotina <2A - residência'!R73","v":0.70918367346938771},{"$f":"'CV Rotina <2A - residência'!T73","v":0.76530612244897955},{"$f":"'CV Rotina <2A - residência'!V73","v":0.74489795918367352},{"$f":"'CV Rotina <2A - residência'!Z73","v":0.40816326530612246},0,0,0,0]
["Sul","Vargem Alta",{"$f":"'CV Rotina <2A - residência'!H74","v":0.90082644628099173},{"$f":"'CV Rotina <2A - residência'!P74","v":0.83471074380165289},{"$f":"'CV Rotina <2A - residência'!#REF!","v":{"$error":"#REF!"}},{"$f":"'CV Rotina <2A - residência'!J74","v":0.74380165289256195},{"$f":"'CV Rotina <2A - residência'!L74","v":0.74380165289256195},{"$f":"'CV Rotina <2A - residência'!N74","v":0.80991735537190079},{"$f":"'CV Rotina <2A - residência'!X74","v":0.93388429752066116},{"$f":"'CV Rotina <2A - residência'!R74","v":0.80991735537190079},{"$f":"'CV Rotina <2A - residência'!T74","v":0.72727272727272729},{"$f":"'CV Rotina <2A - residência'!V74","v":0.79338842975206614},{"$f":"'CV Rotina <2A - residência'!Z74","v":0.49586776859504134},1,0,1,0]
["Metropolitana","Venda Nova do Imigrante",{"$f":"'CV Rotina <2A - residência'!H75","v":0.82098765432098764},{"$f":"'CV Rotina <2A - residência'!P75","v":0.90740740740740744},{"$f":"'CV Rotina <2A - residência'!#REF!","v":{"$error":"#REF!"}},{"$f":"'CV Rotina <2A - residência'!J75","v":1},{"$f":"'CV Rotina <2A - residência'!L75","v":1.0061728395061729},{"$f":"'CV Rotina <2A - residência'!N75","v":0.90740740740740744},{"$f":"'CV Rotina <2A - residência'!X75","v":0.98148148148148151},{"$f":"'CV Rotina <2A - residência'!R75","v":0.98765432098765427},{"$f":"'CV Rotina <2A - residência'!T75","v":1.0246913580246915},{"$f":"'CV Rotina <2A - residência'!V75","v":0.71604938271604934},{"$f":"'CV Rotina <2A - residência'!Z75","v":0.43827160493827161},1,5,6,3]
["Metropolitana","Viana",{"$f":"'CV Rotina <2A - residência'!H76","v":0.72325581395348837},{"$f":"'CV Rotina <2A - residência'!P76","v":0.81627906976744191},{"$f":"'CV Rotina <2A - residência'!#REF!","v":{"$error":"#REF!"}},{"$f":"'CV Rotina <2A - residência'!J76","v":0.88139534883720927},{"$f":"'CV Rotina <2A - residência'!L76","v":0.86279069767441863},{"$f":"'CV Rotina <2A - residência'!N76","v":0.86279069767441863},{"$f":"'CV Rotina <2A - residência'!X76","v":0.87674418604651161},{"$f":"'CV Rotina <2A - residência'!R76","v":0.83023255813953489},{"$f":"'CV Rotina <2A - residência'!T76","v":0.62558139534883717},{"$f":"'CV Rotina <2A - residência'!V76","v":0.66511627906976745},{"$f":"'CV Rotina <2A - residência'!Z76","v":0.32093023255813952},0,0,0,0]
["Norte","Vila Pavão",{"$f":"'CV Rotina <2A - residência'!H77","v":1.1162790697674418},{"$f":"'CV Rotina <2A - residência'!P77","v":0.76744186046511631},{"$f":"'CV Rotina <2A - residência'!#REF!","v":{"$error":"#REF!"}},{"$f":"'CV Rotina <2A - residência'!J77","v":0.81395348837209303},{"$f":"'CV Rotina <2A - residência'!L77","v":0.81395348837209303},{"$f":"'CV Rotina <2A - residência'!N77","v":0.79069767441860461},{"$f":"'CV Rotina <2A - residência'!X77","v":1.2093023255813953},{"$f":"'CV Rotina <2A - residência'!R77","v":0.7441860465116279},{"$f":"'CV Rotina <2A - residência'!T77","v":1},{"$f":"'CV Rotina <2A - residência'!V77","v":0.95348837209302328},{"$f":"'CV Rotina <2A - residência'!Z77","v":0.53488372093023251},1,3,4,1]
["Central","Vila Valério",{"$f":"'CV Rotina <2A - residência'!H78","v":0.71900826446280997},{"$f":"'CV Rotina <2A - residência'!P78","v":0.71900826446280997},{"$f":"'CV Rotina <2A - residência'!#REF!","v":{"$error":"#REF!"}},{"$f":"'CV Rotina <2A - residência'!J78","v":0.73553719008264462},{"$f":"'CV Rotina <2A - residência'!L78","v":0.7024793388429752},{"$f":"'CV Rotina <2A - residência'!N78","v":0.66942148760330578},{"$f":"'CV Rotina <2A - residência'!X78","v":0.68595041322314054},{"$f":"'CV Rotina <2A - residência'!R78","v":0.74380165289256195},{"$f":"'CV Rotina <2A - residência'!T78","v":0.71074380165289253},{"$f":"'CV Rotina <2A - residência'!V78","v":0.63636363636363635},{"$f":"'CV Rotina <2A - residência'!Z78","v":0.42148760330578511},0,0,0,0]
["Metropolitana","Vila Velha",{"$f":"'CV Rotina <2A - residência'!H79","v":0.83642495784148396},{"$f":"'CV Rotina <2A - residência'!P79","v":0.80607082630691396},{"$f":"'CV Rotina <2A - residência'!#REF!","v":{"$error":"#REF!"}},{"$f":"'CV Rotina <2A - residência'!J79","v":0.81576728499156825},{"$f":"'CV Rotina <2A - residência'!L79","v":0.81534569983136596},{"$f":"'CV Rotina <2A - residência'!N79","v":0.79763912310286678},{"$f":"'CV Rotina <2A - residência'!X79","v":0.83473861720067455},{"$f":"'CV Rotina <2A - residência'!R79","v":0.81913996627318719},{"$f":"'CV Rotina <2A - residência'!T79","v":0.68718381112984828},{"$f":"'CV Rotina <2A - residência'!V79","v":0.57293423271500843},{"$f":"'CV Rotina <2A - residência'!Z79","v":0.36298482293423273},0,0,0,0]
["Metropolitana","Vitória",{"$f":"'CV Rotina <2A - residência'!H80","v":1.1616541353383458},{"$f":"'CV Rotina <2A - residência'!P80","v":0.79699248120300747},{"$f":"'CV Rotina <2A - residência'!#REF!","v":{"$error":"#REF!"}},{"$f":"'CV Rotina <2A - residência'!J80","v":0.83897243107769426},{"$f":"'CV Rotina <2A - residência'!L80","v":0.84085213032581452},{"$f":"'CV Rotina <2A - residência'!N80","v":0.78007518796992481},{"$f":"'CV Rotina <2A - residência'!X80","v":0.78696741854636587},{"$f":"'CV Rotina <2A - residência'!R80","v":0.82832080200501257},{"$f":"'CV Rotina <2A - residência'!T80","v":0.66666666666666663},{"$f":"'CV Rotina <2A - residência'!V80","v":0.77130325814536338},{"$f":"'CV Rotina <2A - residência'!Z80","v":0.36779448621553884},1,0,1,0]
[]
[null,"Total Norte",{"$f":"'CV Rotina <2A - procedência'!H82","v":0.84881602914389798},{"$f":"'CV Rotina <2A - procedência'!P82","v":0.95992714025500914},{"$f":"'CV Rotina <2A - residência'!#REF!","v":{"$error":"#REF!"}},{"$f":"'CV Rotina <2A - procedência'!J82","v":1.0336976320582878},{"$f":"'CV Rotina <2A - procedência'!L82","v":1.0350637522768671},{"$f":"'CV Rotina <2A - procedência'!N82","v":0.99362477231329693},{"$f":"'CV Rotina <2A - procedência'!X82","v":1.0318761384335156},{"$f":"'CV Rotina <2A - procedência'!R82","v":0.97632058287795997},{"$f":"'CV Rotina <2A - procedência'!T82","v":0.92349726775956287},{"$f":"'CV Rotina <2A - procedência'!V82","v":0.80009107468123863},{"$f":"'CV Rotina <2A - procedência'!Z82","v":0.57786885245901642},{"$f":"COUNTIF(C81:E81,\">=0,9\")","v":1},{"$f":"COUNTIFS(F81:M81,\">=0,95\")","v":5},{"$f":"SUM(N81:O81)","v":6},{"$f":"COUNTIF(F81:I81,\">=0,95\")","v":4}]
[null,"Total Central",{"$f":"'CV Rotina <2A - procedência'!H83","v":0.98616028323141292},{"$f":"'CV Rotina <2A - procedência'!P83","v":0.82748632121017063},{"$f":"'CV Rotina <2A - residência'!#REF!","v":{"$error":"#REF!"}},{"$f":"'CV Rotina <2A - procedência'!J83","v":0.84679755391052458},{"$f":"'CV Rotina <2A - procedência'!L83","v":0.83842935307370459},{"$f":"'CV Rotina <2A - procedência'!N83","v":0.82845188284518834},{"$f":"'CV Rotina <2A - procedência'!X83","v":0.84969423881557771},{"$f":"'CV Rotina <2A - procedência'!R83","v":0.82555519794013521},{"$f":"'CV Rotina <2A - procedência'!T83","v":0.77502413904087541},{"$f":"'CV Rotina <2A - procedência'!V83","v":0.6408110717734149},{"$f":"'CV Rotina <2A - procedência'!Z83","v":0.45831992275506922},{"$f":"COUNTIF(C82:E82,\">=0,9\")","v":1},{"$f":"COUNTIFS(F82:M82,\">=0,95\")","v":0},{"$f":"SUM(N82:O82)","v":1},{"$f":"COUNTIF(F82:I82,\">=0,95\")","v":0}]
[null,"Total Metropolitana",{"$f":"'CV Rotina <2A - procedência'!H84","v":0.88473158261677898},{"$f":"'CV Rotina <2A - procedência'!P84","v":0.81880858315903637},{"$f":"'CV Rotina <2A - residência'!#REF!","v":{"$error":"#REF!"}},{"$f":"'CV Rotina <2A - procedência'!J84","v":0.84894259818731121},{"$f":"'CV Rotina <2A - procedência'!L84","v":0.84243551010922613},{"$f":"'CV Rotina <2A - procedência'!N84","v":0.82748470059648305},{"$f":"'CV Rotina <2A - procedência'!X84","v":0.86420326903710587},{"$f":"'CV Rotina <2A - procedência'!R84","v":0.83329460066620187},{"$f":"'CV Rotina <2A - procedência'!T84","v":0.71144162987063286},{"$f":"'CV Rotina <2A - procedência'!V84","v":0.61352544736230541},{"$f":"'CV Rotina <2A - procedência'!Z84","v":0.39197459137036178},0,{"$f":"COUNTIFS(F83:M83,\">=0,95\")","v":0},{"$f":"SUM(N83:O83)","v":0},{"$f":"COUNTIF(F83:I83,\">=0,95\")","v":0}]
[null,"Total Sul",{"$f":"'CV Rotina <2A - procedência'!H85","v":0.94237762237762235},{"$f":"'CV Rotina <2A - procedência'!P85","v":0.89314685314685316},{"$f":"'CV Rotina <2A - residência'!#REF!","v":{"$error":"#REF!"}},{"$f":"'CV Rotina <2A - procedência'!J85","v":0.92895104895104896},{"$f":"'CV Rotina <2A - procedência'!L85","v":0.92195804195804198},{"$f":"'CV Rotina <2A - procedência'!N85","v":0.91804195804195809},{"$f":"'CV Rotina <2A - procedência'!X85","v":0.98769230769230765},{"$f":"'CV Rotina <2A - procedência'!R85","v":0.8886713286713287},{"$f":"'CV Rotina <2A - procedência'!T85","v":0.76643356643356642},{"$f":"'CV Rotina <2A - procedência'!V85","v":0.76979020979020985},{"$f":"'CV Rotina <2A - procedência'!Z85","v":0.45734265734265733},1,{"$f":"COUNTIFS(F84:M84,\">=0,95\")","v":1},{"$f":"SUM(N84:O84)","v":2},{"$f":"COUNTIF(F84:I84,\">=0,95\")","v":1}]
[null,"Total Espírito Santo",{"$f":"'CV Rotina <2A - procedência'!H86","v":0.90503511268187453},{"$f":"'CV Rotina <2A - procedência'!P86","v":0.84646807729379903},{"$f":"'CV Rotina <2A - residência'!#REF!","v":{"$error":"#REF!"}},{"$f":"'CV Rotina <2A - procedência'!J86","v":0.88038738697388352},{"$f":"'CV Rotina <2A - procedência'!L86","v":0.87432872814063434},{"$f":"'CV Rotina <2A - procedência'!N86","v":0.85922797998806633},{"$f":"'CV Rotina <2A - procedência'!X86","v":0.89929774636250981},{"$f":"'CV Rotina <2A - procedência'!R86","v":0.85569376233533756},{"$f":"'CV Rotina <2A - procedência'!T86","v":0.75090650387845959},{"$f":"'CV Rotina <2A - procedência'!V86","v":0.66186257860191855},{"$f":"'CV Rotina <2A - procedência'!Z86","v":0.43089916004957085},1,{"$f":"COUNTIFS(F85:M85,\">=0,95\")","v":0},{"$f":"SUM(N85:O85)","v":1},{"$f":"COUNTIF(F85:I85,\">=0,95\")","v":0}]
[]
[]
["Fonte: SIPNI/DATASUS, em 09 de junho de 2023.*"]
[" Vacina e Confia, em 12 de junho de 2023.**"]
["*Dados referentes às doses aplicadas pelas clínicas particulares de janeiro a maio de 2023"]
["**Dados referente às doses aplicadas no período de janeiro a maio de 2023"]
["Cobertura Calculada por município de vacinação"]
["1 População proporcional extraída do MS/SVS/DASIS - Sistema de Informações sobre Nascidos Vivos - SINASC"]
["2000 a 2021 – Estimativas preliminares elaboradas pelo Ministério da Saúde/SVS/DASNT/CGIAE"]
[" Nota: Dados preliminares 2021"]