{"text_format":"1","workbook":"xlsx","n_sheets":12,"sheets":["CV Rotina <2A - procedência","CV Rotina <2A - residência","CV REF 1A e 4A - procedência","CV REF 1A e 4A - residência","Cobert. COVID-19 Menores 4 anos","Cobert. Meningo C Adolescentes","Cobert. HPV ","dTpa gestantes - procedência","dTpa gestantes - residência","PROTEÇÃO","cálculos1","cálculos2"],"not_rendered":{"charts":0,"images":0,"macros":1,"external_links":0,"defined_names":25,"comments":2,"pivot_tables":0},"unopened":[],"bounds":{"document_bytes":16777216,"sheet_cells":100000,"rows_first":2000,"rows_last":500,"rows_between":2000,"halvings":0,"cell_chars":16384,"cell_head_chars":4096},"cells_cut":0,"cells_raw":0,"read":"whole","date_system":"1900"}

{"sheet":"CV Rotina <2A - procedência","index":0,"n_rows":100,"n_cols":37,"rows_kept":100,"cut":false,"hidden":false,"merged":[[94,0,94,12],[0,4,0,7],[87,10,87,11],[86,12,86,13],[87,12,87,13],[87,1,87,3],[86,6,86,7],[87,6,87,7],[86,4,86,5],[87,4,87,5],[90,0,90,12],[92,0,93,12],[91,0,91,12],[89,0,89,12],[0,22,0,27],[87,24,87,25],[87,18,87,19],[86,18,86,19],[86,14,86,15],[0,8,0,21],[87,14,87,15],[86,20,86,21],[86,8,86,9],[87,8,87,9],[86,10,86,11],[2,35,2,36],[11,35,11,36],[87,16,87,17],[86,16,86,17],[87,26,87,27],[86,26,86,27],[86,22,86,23],[86,24,86,25],[87,20,87,21],[87,22,87,23]]}
[null,null,null,null,"AO NASCER",null,null,null,"MENOR DE 1 ANO",null,null,null,null,null,null,null,null,null,null,null,null,null,"1 ANO"]
["Regional ","Município","¹População < 1 ano e 1 ano anual ","²População < 1 ano e 1 ano proporcional ","Doses Aplicadas HB\n< 30 dias","Cobertura Vacinal HB\naté 30 dias","Doses Aplicadas BCG","Cobertura Vacinal BCG","Doses Aplicadas Pentavalente ","Cobertura Vacinal Pentavalente","Doses Aplicadas Poliomielite ","Cobertura Vacinal Poliomielite ","Doses Aplicadas Pneumo 10","Cobertura Vacinal Pneumo 10","Doses Aplicadas Rotavírus","Cobertura Vacinal Rotavírus","Doses Aplicadas Meningo C","Cobertura Vacinal Meningo C","Doses Aplicadas Febre Amarela","Cobertura Vacinal Febre Amarela","Doses Aplicadas COVID-19","Cobertura Vacinal COVID-19","Doses Aplicadas Hepatite A","Cobertura Vacinal Hepatite A","Doses Aplicadas de Tríplice Viral","Cobertura Vacinal Tríplice Viral","Doses Aplicadas Varicela","Cobertura Varicela",null,null,"VACINAS QUE ATINGIRAM A META DE CV","HOMOGENEIDADE ENTRE AS 10 VACINAS","VACINAS DO PQA-VS QUE ATINGIRAM A META DE CV","HOMOGENEIDADE ENTRE AS VACINAS DO PQA-VS"]
["Metropolitana","Afonso Cláudio",396,110,76,{"$f":"E3/D3","v":0.69090909090909092},75,{"$f":"G3/D3","v":0.68181818181818177},98,{"$f":"I3/D3","v":0.89090909090909087},97,{"$f":"K3/D3","v":0.88181818181818183},82,{"$f":"M3/D3","v":0.74545454545454548},83,{"$f":"O3/D3","v":0.75454545454545452},100,{"$f":"Q3/D3","v":0.90909090909090906},82,{"$f":"S3/D3","v":0.74545454545454548},0,{"$f":"U3/D3","v":0},81,{"$f":"W3/D3","v":0.73636363636363633},107,{"$f":"Y3/D3","v":0.97272727272727277},61,{"$f":"AA3/D3","v":0.55454545454545456},null,null,{"$f":"cálculos1!O2","v":1},{"$f":"AE3*0.1","v":0.1},{"$f":"cálculos1!P2","v":1},{"$f":"AG3*0.25","v":0.25},null,"LEGENDA / HOMOGENEIDADE PQA-VS"]
["Norte","Água Doce do Norte",157,33,14,0.42424242424242425,19,0.5757575757575758,42,1.2727272727272727,44,1.3333333333333333,38,1.1515151515151516,36,1.0909090909090908,41,1.2424242424242424,28,0.84848484848484851,0,0,32,0.96969696969696972,31,0.93939393939393945,21,0.63636363636363635,null,null,{"$f":"cálculos1!O3","v":6},{"$f":"AE4*0.1","v":0.60000000000000009},{"$f":"cálculos1!P3","v":3},{"$f":"AG4*0.25","v":0.75},null,"PERCENTUAL","Nº DE MUNICÍPIOS"]
["Central","Águia Branca",138,31,23,0.74193548387096775,25,0.80645161290322576,45,1.4516129032258065,44,1.4193548387096775,39,1.2580645161290323,39,1.2580645161290323,50,1.6129032258064515,32,1.032258064516129,0,0,26,0.83870967741935487,26,0.83870967741935487,14,0.45161290322580644,null,null,{"$f":"cálculos1!O4","v":6},0.60000000000000009,{"$f":"cálculos1!P4","v":3},0.75,null,0,{"$f":"COUNTIF($AH$3:$AH$80,\"=0\")","v":13}]
["Sul","Alegre",335,78,52,0.66666666666666663,54,0.69230769230769229,84,1.0769230769230769,89,1.141025641025641,84,1.0769230769230769,79,1.0128205128205128,76,0.97435897435897434,78,1,0,0,59,0.75641025641025639,76,0.97435897435897434,31,0.39743589743589741,null,null,{"$f":"cálculos1!O5","v":7},0.70000000000000007,{"$f":"cálculos1!P5","v":4},1,null,0.25,{"$f":"COUNTIF($AH$3:$AH$80,\"=0,25\")","v":13}]
["Sul","Alfredo Chaves",154,40,8,0.2,20,0.5,34,0.85,38,0.95,47,1.175,49,1.2250000000000001,42,1.05,34,0.85,0,0,33,0.82499999999999996,41,1.0249999999999999,21,0.52500000000000002,null,null,{"$f":"cálculos1!O6","v":5},0.5,{"$f":"cálculos1!P6","v":3},0.75,null,0.5,{"$f":"COUNTIF($AH$3:$AH$80,\"=0,5\")","v":8}]
["Central","Alto Rio Novo",90,24,2,8.3333333333333329E-2,8,0.33333333333333331,26,1.0833333333333333,26,1.0833333333333333,26,1.0833333333333333,26,1.0833333333333333,30,1.25,16,0.66666666666666663,0,0,24,1,23,0.95833333333333337,15,0.625,null,null,{"$f":"cálculos1!O7","v":7},0.70000000000000007,{"$f":"cálculos1!P7","v":4},1,null,0.75,{"$f":"COUNTIF($AH$3:$AH$80,\"=0,75\")","v":16}]
["Sul","Anchieta",377,84,6,7.1428571428571425E-2,55,0.65476190476190477,87,1.0357142857142858,90,1.0714285714285714,113,1.3452380952380953,110,1.3095238095238095,101,1.2023809523809523,77,0.91666666666666663,4,4.7619047619047616E-2,87,1.0357142857142858,93,1.1071428571428572,44,0.52380952380952384,null,null,{"$f":"cálculos1!O8","v":7},0.70000000000000007,{"$f":"cálculos1!P8","v":4},1,null,1,{"$f":"COUNTIF($AH$3:$AH$80,\"=1,0\")","v":28}]
["Sul","Apiacá",62,13,11,0.84615384615384615,14,1.0769230769230769,10,0.76923076923076927,11,0.84615384615384615,15,1.1538461538461537,16,1.2307692307692308,11,0.84615384615384615,18,1.3846153846153846,0,0,9,0.69230769230769229,13,1,4,0.30769230769230771,null,null,{"$f":"cálculos1!O9","v":5},0.5,{"$f":"cálculos1!P9","v":2},0.5]
["Metropolitana","Aracruz",1453,355,317,0.89295774647887327,323,0.90985915492957747,321,0.90422535211267607,323,0.90985915492957747,344,0.96901408450704229,341,0.96056338028169019,318,0.89577464788732397,302,0.85070422535211265,10,2.8169014084507043E-2,328,0.92394366197183098,410,1.1549295774647887,277,0.78028169014084503,null,null,{"$f":"cálculos1!O10","v":4},0.4,{"$f":"cálculos1!P10","v":2},0.5]
["Sul","Atilio Vivacqua",140,37,0,0,0,0,35,0.94594594594594594,34,0.91891891891891897,32,0.86486486486486491,32,0.86486486486486491,28,0.7567567567567568,26,0.70270270270270274,0,0,31,0.83783783783783783,39,1.0540540540540539,22,0.59459459459459463,null,null,{"$f":"cálculos1!O11","v":1},0.1,{"$f":"cálculos1!P11","v":1},0.25,null,"LEGENDA / HOMOGENEIDADE 10 VACINAS"]
["Central","Baixo Guandu",364,76,20,0.26315789473684209,48,0.63157894736842102,106,1.3947368421052631,106,1.3947368421052631,110,1.4473684210526316,106,1.3947368421052631,99,1.3026315789473684,84,1.1052631578947369,0,0,80,1.0526315789473684,141,1.8552631578947369,71,0.93421052631578949,null,null,{"$f":"cálculos1!O12","v":8},0.8,{"$f":"cálculos1!P12","v":4},1,null,"PERCENTUAL","Nº DE MUNICÍPIOS"]
["Norte","Barra de São Francisco",510,122,98,0.80327868852459017,105,0.86065573770491799,113,0.92622950819672134,116,0.95081967213114749,120,0.98360655737704916,117,0.95901639344262291,115,0.94262295081967218,136,1.1147540983606556,0,0,97,0.79508196721311475,141,1.1557377049180328,100,0.81967213114754101,null,null,{"$f":"cálculos1!O13","v":5},0.5,{"$f":"cálculos1!P13","v":3},0.75,null,0,{"$f":"COUNTIF($AF$3:$AF$80,\"=0\")","v":8}]
["Norte","Boa Esperança",199,54,3,5.5555555555555552E-2,20,0.37037037037037035,36,0.66666666666666663,40,0.7407407407407407,44,0.81481481481481477,46,0.85185185185185186,44,0.81481481481481477,42,0.77777777777777779,0,0,40,0.7407407407407407,50,0.92592592592592593,41,0.7592592592592593,null,null,{"$f":"cálculos1!O14","v":0},0,{"$f":"cálculos1!P14","v":0},0,null,0.1,{"$f":"COUNTIF($AF$3:$AF$80,\"=0,1\")","v":11}]
["Sul","Bom Jesus do Norte",81,14,8,0.5714285714285714,11,0.7857142857142857,39,2.7857142857142856,37,2.6428571428571428,31,2.2142857142857144,29,2.0714285714285716,31,2.2142857142857144,32,2.2857142857142856,3,0.21428571428571427,6,0.42857142857142855,34,2.4285714285714284,12,0.8571428571428571,null,null,{"$f":"cálculos1!O15","v":7},0.70000000000000007,{"$f":"cálculos1!P15","v":4},1,null,0.2,{"$f":"COUNTIF($AF$3:$AF$80,\"=0,2\")","v":5}]
["Metropolitana","Brejetuba",195,39,5,0.12820512820512819,41,1.0512820512820513,49,1.2564102564102564,49,1.2564102564102564,51,1.3076923076923077,51,1.3076923076923077,48,1.2307692307692308,56,1.4358974358974359,0,0,42,1.0769230769230769,45,1.1538461538461537,35,0.89743589743589747,null,null,{"$f":"cálculos1!O16","v":9},0.9,{"$f":"cálculos1!P16","v":4},1,null,0.3,{"$f":"COUNTIF($AF$3:$AF$80,\"=0,3\")","v":5}]
["Sul","Cachoeiro de Itapemirim",2446,639,1244,1.9467918622848199,1216,1.9029733959311423,548,0.85758998435054778,539,0.84350547730829417,545,0.85289514866979654,526,0.82316118935837246,530,0.82942097026604067,489,0.76525821596244137,1,1.5649452269170579E-3,463,0.72456964006259783,601,0.94053208137715183,198,0.30985915492957744,null,null,{"$f":"cálculos1!O17","v":1},0.1,{"$f":"cálculos1!P17","v":0},0,null,0.4,{"$f":"COUNTIF($AF$3:$AF$80,\"=0,4\")","v":8}]
["Metropolitana","Cariacica",4835,1168,578,0.49486301369863012,594,0.50856164383561642,1079,0.92380136986301364,1055,0.90325342465753422,1098,0.94006849315068497,1032,0.88356164383561642,1071,0.91695205479452058,901,0.77140410958904104,26,2.2260273972602738E-2,724,{"$f":"W19/D19","v":0.61986301369863017},1161,0.99400684931506844,505,0.43236301369863012,null,null,{"$f":"cálculos1!O18","v":1},0.1,{"$f":"cálculos1!P18","v":1},0.25,null,0.5,{"$f":"COUNTIF($AF$3:$AF$80,\"=0,5\")","v":8}]
["Sul","Castelo",452,125,58,0.46400000000000002,61,0.48799999999999999,95,0.76,94,0.752,92,0.73599999999999999,88,0.70399999999999996,89,0.71199999999999997,99,0.79200000000000004,0,0,42,0.33600000000000002,128,1.024,55,0.44,null,null,{"$f":"cálculos1!O19","v":1},0.1,{"$f":"cálculos1!P19","v":1},0.25,null,0.6,{"$f":"COUNTIF($AF$3:$AF$80,\"=0,6\")","v":9}]
["Central","Colatina",1530,360,972,2.7,857,2.3805555555555555,354,0.98333333333333328,341,0.94722222222222219,320,0.88888888888888884,321,0.89166666666666672,327,0.90833333333333333,285,0.79166666666666663,3,8.3333333333333332E-3,182,0.50555555555555554,335,0.93055555555555558,204,0.56666666666666665,null,null,{"$f":"cálculos1!O20","v":2},0.2,{"$f":"cálculos1!P20","v":1},0.25,null,0.7,{"$f":"COUNTIF($AF$3:$AF$80,\"=0,7\")","v":9}]
["Norte","Conceição da Barra",373,88,5,5.6818181818181816E-2,8,9.0909090909090912E-2,86,0.97727272727272729,88,1,96,1.0909090909090908,91,1.0340909090909092,80,0.90909090909090906,100,1.1363636363636365,0,0,56,0.63636363636363635,93,1.0568181818181819,58,0.65909090909090906,null,null,{"$f":"cálculos1!O21","v":6},0.60000000000000009,{"$f":"cálculos1!P21","v":4},1,null,0.8,{"$f":"COUNTIF($AF$3:$AF$80,\"=0,8\")","v":11}]
["Metropolitana","Conceição do Castelo",152,29,0,0,0,0,32,1.103448275862069,31,1.0689655172413792,36,1.2413793103448276,34,1.1724137931034482,35,1.2068965517241379,42,1.4482758620689655,0,0,35,1.2068965517241379,22,0.75862068965517238,20,0.68965517241379315,null,null,{"$f":"cálculos1!O22","v":7},0.70000000000000007,{"$f":"cálculos1!P22","v":3},0.75,null,0.9,{"$f":"COUNTIF($AF$3:$AF$80,\"=0,9\")","v":3}]
["Sul","Divino de São Lourenço",57,9,17,1.8888888888888888,15,1.6666666666666667,19,2.1111111111111112,19,2.1111111111111112,18,2,18,2,21,2.3333333333333335,16,1.7777777777777777,0,0,15,1.6666666666666667,11,1.2222222222222223,10,1.1111111111111112,null,null,{"$f":"cálculos1!O23","v":10},1,{"$f":"cálculos1!P23","v":4},1,null,1,{"$f":"COUNTIF($AF$3:$AF$80,\"=1,0\")","v":1}]
["Metropolitana","Domingos Martins",407,94,8,8.5106382978723402E-2,20,0.21276595744680851,75,0.7978723404255319,75,0.7978723404255319,101,1.074468085106383,96,1.0212765957446808,84,0.8936170212765957,99,1.053191489361702,2,2.1276595744680851E-2,55,0.58510638297872342,109,1.1595744680851063,108,1.1489361702127661,null,null,{"$f":"cálculos1!O24","v":5},0.5,{"$f":"cálculos1!P24","v":2},0.5]
["Sul","Dores do Rio Preto",95,28,8,0.2857142857142857,18,0.6428571428571429,25,0.8928571428571429,28,1,30,1.0714285714285714,28,1,26,0.9285714285714286,25,0.8928571428571429,1,3.5714285714285712E-2,18,0.6428571428571429,25,0.8928571428571429,9,0.32142857142857145,null,null,{"$f":"cálculos1!O25","v":3},0.30000000000000004,{"$f":"cálculos1!P25","v":2},0.5]
["Norte","Ecoporanga",226,48,33,0.6875,36,0.75,69,1.4375,68,1.4166666666666667,54,1.125,53,1.1041666666666667,57,1.1875,59,1.2291666666666667,0,0,50,1.0416666666666667,62,1.2916666666666667,54,1.125,null,null,{"$f":"cálculos1!O26","v":9},0.9,{"$f":"cálculos1!P26","v":4},1]
["Metropolitana","Fundão",217,58,3,5.1724137931034482E-2,20,0.34482758620689657,64,1.103448275862069,61,1.0517241379310345,59,1.0172413793103448,58,1,56,0.96551724137931039,53,0.91379310344827591,2,3.4482758620689655E-2,56,0.96551724137931039,38,0.65517241379310343,55,0.94827586206896552,null,null,{"$f":"cálculos1!O27","v":6},0.60000000000000009,{"$f":"cálculos1!P27","v":3},0.75]
["Central","Governador Lindenberg",145,27,6,0.22222222222222221,8,0.29629629629629628,32,1.1851851851851851,29,1.0740740740740742,31,1.1481481481481481,32,1.1851851851851851,31,1.1481481481481481,37,1.3703703703703705,1,3.7037037037037035E-2,27,1,29,1.0740740740740742,24,0.88888888888888884,null,null,{"$f":"cálculos1!O28","v":8},0.8,{"$f":"cálculos1!P28","v":4},1]
["Sul","Guaçuí",375,78,44,0.5641025641025641,58,0.74358974358974361,101,1.2948717948717949,100,1.2820512820512822,102,1.3076923076923077,94,1.2051282051282051,94,1.2051282051282051,80,1.0256410256410255,0,0,86,1.1025641025641026,108,1.3846153846153846,35,0.44871794871794873,null,null,{"$f":"cálculos1!O29","v":8},0.8,{"$f":"cálculos1!P29","v":4},1]
["Metropolitana","Guarapari",1759,452,292,0.64601769911504425,326,0.72123893805309736,367,0.81194690265486724,346,0.76548672566371678,378,0.83628318584070793,359,0.79424778761061943,345,0.76327433628318586,316,0.69911504424778759,0,0,284,0.62831858407079644,350,0.77433628318584069,202,0.44690265486725661,null,null,{"$f":"cálculos1!O30","v":0},0,{"$f":"cálculos1!P30","v":0},0]
["Metropolitana","Ibatiba",341,66,46,0.69696969696969702,80,1.2121212121212122,93,1.4090909090909092,92,1.393939393939394,105,1.5909090909090908,91,1.3787878787878789,106,1.606060606060606,82,1.2424242424242424,1,1.5151515151515152E-2,67,1.0151515151515151,81,1.2272727272727273,29,0.43939393939393939,null,null,{"$f":"cálculos1!O31","v":9},0.9,{"$f":"cálculos1!P31","v":4},1]
["Metropolitana","Ibiraçu",147,41,10,0.24390243902439024,7,0.17073170731707318,31,0.75609756097560976,30,0.73170731707317072,29,0.70731707317073167,27,0.65853658536585369,34,0.82926829268292679,33,0.80487804878048785,0,0,18,0.43902439024390244,32,0.78048780487804881,19,0.46341463414634149,null,null,{"$f":"cálculos1!O32","v":0},0,{"$f":"cálculos1!P32","v":0},0]
["Sul","Ibitirama",122,27,19,0.70370370370370372,20,0.7407407407407407,28,1.037037037037037,30,1.1111111111111112,33,1.2222222222222223,33,1.2222222222222223,25,0.92592592592592593,24,0.88888888888888884,0,0,23,0.85185185185185186,43,1.5925925925925926,22,0.81481481481481477,null,null,{"$f":"cálculos1!O33","v":5},0.5,{"$f":"cálculos1!P33","v":4},1]
["Sul","Iconha",123,36,1,{"$f":"E35/D35","v":2.7777777777777776E-2},12,{"$f":"G35/D35","v":0.33333333333333331},32,{"$f":"I35/D35","v":0.88888888888888884},31,{"$f":"K35/D35","v":0.86111111111111116},27,{"$f":"M35/D35","v":0.75},28,{"$f":"O35/D35","v":0.77777777777777779},28,{"$f":"Q35/D35","v":0.77777777777777779},35,{"$f":"S35/D35","v":0.97222222222222221},1,{"$f":"U35/D35","v":2.7777777777777776E-2},26,{"$f":"W35/D35","v":0.72222222222222221},43,{"$f":"Y35/D35","v":1.1944444444444444},6,{"$f":"AA35/D35","v":0.16666666666666666},null,null,{"$f":"cálculos1!O34","v":2},0.2,{"$f":"cálculos1!P34","v":1},0.25]
["Sul","Irupi",196,47,22,0.46808510638297873,28,0.5957446808510638,56,1.1914893617021276,56,1.1914893617021276,68,1.446808510638298,63,1.3404255319148937,61,1.2978723404255319,44,0.93617021276595747,2,4.2553191489361701E-2,43,0.91489361702127658,78,1.6595744680851063,19,0.40425531914893614,null,null,{"$f":"cálculos1!O35","v":6},0.60000000000000009,{"$f":"cálculos1!P35","v":4},1]
["Metropolitana","Itaguaçu",131,30,1,3.3333333333333333E-2,19,0.6333333333333333,29,0.96666666666666667,29,0.96666666666666667,28,0.93333333333333335,28,0.93333333333333335,29,0.96666666666666667,36,1.2,0,0,37,1.2333333333333334,39,1.3,39,1.3,null,null,{"$f":"cálculos1!O36","v":8},0.8,{"$f":"cálculos1!P36","v":3},0.75]
["Sul","Itapemirim",571,142,252,1.7746478873239437,58,0.40845070422535212,103,0.72535211267605637,100,0.70422535211267601,126,0.88732394366197187,107,0.75352112676056338,98,0.6901408450704225,74,0.52112676056338025,0,0,88,0.61971830985915488,129,0.90845070422535212,70,0.49295774647887325,null,null,{"$f":"cálculos1!O37","v":0},0,{"$f":"cálculos1!P37","v":0},0]
["Metropolitana","Itarana",135,33,2,6.0606060606060608E-2,34,1.0303030303030303,31,0.93939393939393945,31,0.93939393939393945,25,0.75757575757575757,25,0.75757575757575757,26,0.78787878787878785,38,1.1515151515151516,0,0,9,0.27272727272727271,33,1,26,0.78787878787878785,null,null,{"$f":"cálculos1!O38","v":3},0.30000000000000004,{"$f":"cálculos1!P38","v":1},0.25]
["Sul","Iúna",469,103,64,0.62135922330097082,75,0.72815533980582525,121,1.174757281553398,119,1.1553398058252426,125,1.2135922330097086,124,1.203883495145631,119,1.1553398058252426,106,1.029126213592233,1,9.7087378640776691E-3,76,0.73786407766990292,122,1.1844660194174756,49,0.47572815533980584,null,null,{"$f":"cálculos1!O39","v":7},0.70000000000000007,{"$f":"cálculos1!P39","v":4},1]
["Norte","Jaguaré",492,114,82,0.7192982456140351,80,0.70175438596491224,118,1.0350877192982457,127,1.1140350877192982,123,1.0789473684210527,123,1.0789473684210527,106,0.92982456140350878,112,0.98245614035087714,1,8.771929824561403E-3,82,0.7192982456140351,109,0.95614035087719296,64,0.56140350877192979,null,null,{"$f":"cálculos1!O40","v":6},0.60000000000000009,{"$f":"cálculos1!P40","v":4},1]
["Sul","Jerônimo Monteiro",163,41,4,9.7560975609756101E-2,5,0.12195121951219512,48,1.1707317073170731,48,1.1707317073170731,39,0.95121951219512191,40,0.97560975609756095,36,0.87804878048780488,35,0.85365853658536583,2,4.878048780487805E-2,31,0.75609756097560976,36,0.87804878048780488,7,0.17073170731707318,null,null,{"$f":"cálculos1!O41","v":4},0.4,{"$f":"cálculos1!P41","v":3},0.75]
["Metropolitana","João Neiva",179,41,9,0.21951219512195122,11,0.26829268292682928,46,1.1219512195121952,45,1.0975609756097562,43,1.0487804878048781,42,1.024390243902439,44,1.0731707317073171,47,1.1463414634146341,1,2.4390243902439025E-2,31,0.75609756097560976,50,1.2195121951219512,22,0.53658536585365857,null,null,{"$f":"cálculos1!O42","v":7},0.70000000000000007,{"$f":"cálculos1!P42","v":4},1]
["Metropolitana","Laranja da Terra",100,25,0,0,15,0.6,28,1.1200000000000001,28,1.1200000000000001,17,0.68,18,0.72,24,0.96,37,1.48,5,0.2,18,0.72,42,1.68,17,0.68,null,null,{"$f":"cálculos1!O43","v":5},0.5,{"$f":"cálculos1!P43","v":3},0.75]
["Central","Linhares",2585,648,670,1.0339506172839505,693,1.0694444444444444,557,0.85956790123456794,548,0.84567901234567899,520,0.80246913580246915,531,0.81944444444444442,483,0.74537037037037035,465,0.71759259259259256,0,0,302,0.4660493827160494,511,0.7885802469135802,328,0.50617283950617287,null,null,{"$f":"cálculos1!O44","v":1},0.1,{"$f":"cálculos1!P44","v":0},0]
["Central","Mantenópolis",152,34,14,0.41176470588235292,20,0.58823529411764708,40,1.1764705882352942,45,1.3235294117647058,32,0.94117647058823528,30,0.88235294117647056,31,0.91176470588235292,35,1.0294117647058822,0,0,33,0.97058823529411764,40,1.1764705882352942,26,0.76470588235294112,null,null,{"$f":"cálculos1!O45","v":5},0.5,{"$f":"cálculos1!P45","v":3},0.75]
["Sul","Marataízes",570,156,5,3.2051282051282048E-2,58,0.37179487179487181,137,0.87820512820512819,149,0.95512820512820518,133,0.85256410256410253,134,0.85897435897435892,146,0.9358974358974359,106,0.67948717948717952,0,0,133,0.85256410256410253,145,0.92948717948717952,55,0.35256410256410259,null,null,{"$f":"cálculos1!O46","v":1},0.1,{"$f":"cálculos1!P46","v":1},0.25]
["Metropolitana","Marechal Floriano",235,65,12,0.18461538461538463,15,0.23076923076923078,37,0.56923076923076921,37,0.56923076923076921,57,0.87692307692307692,56,0.86153846153846159,45,0.69230769230769229,47,0.72307692307692306,2,3.0769230769230771E-2,45,0.69230769230769229,57,0.87692307692307692,38,0.58461538461538465,null,null,{"$f":"cálculos1!O47","v":0},0,{"$f":"cálculos1!P47","v":0},0]
["Central","Marilândia",160,28,8,0.2857142857142857,13,0.4642857142857143,36,1.2857142857142858,36,1.2857142857142858,33,1.1785714285714286,37,1.3214285714285714,44,1.5714285714285714,31,1.1071428571428572,0,0,31,1.1071428571428572,40,1.4285714285714286,26,0.9285714285714286,null,null,{"$f":"cálculos1!O48","v":8},0.8,{"$f":"cálculos1!P48","v":4},1]
["Sul","Mimoso do Sul",258,56,10,0.17857142857142858,10,0.17857142857142858,53,0.9464285714285714,52,0.9285714285714286,49,0.875,47,0.8392857142857143,48,0.8571428571428571,49,0.875,0,0,39,0.6964285714285714,57,1.0178571428571428,27,0.48214285714285715,null,null,{"$f":"cálculos1!O49","v":1},0.1,{"$f":"cálculos1!P49","v":1},0.25]
["Norte","Montanha",254,55,15,0.27272727272727271,18,0.32727272727272727,90,1.6363636363636365,92,1.6727272727272726,68,1.2363636363636363,69,1.2545454545454546,62,1.1272727272727272,63,1.1454545454545455,0,0,60,1.0909090909090908,70,1.2727272727272727,51,0.92727272727272725,null,null,{"$f":"cálculos1!O50","v":8},0.8,{"$f":"cálculos1!P50","v":4},1]
["Norte","Mucurici",72,12,2,0.16666666666666666,3,0.25,23,1.9166666666666667,25,2.0833333333333335,21,1.75,20,1.6666666666666667,19,1.5833333333333333,23,1.9166666666666667,0,0,9,0.75,20,1.6666666666666667,9,0.75,null,null,{"$f":"cálculos1!O51","v":7},0.70000000000000007,{"$f":"cálculos1!P51","v":4},1]
["Sul","Muniz Freire",211,43,35,0.81395348837209303,33,0.76744186046511631,57,1.3255813953488371,52,1.2093023255813953,56,1.3023255813953489,58,1.3488372093023255,55,1.2790697674418605,61,1.4186046511627908,0,0,54,1.2558139534883721,73,1.6976744186046511,26,0.60465116279069764,null,null,{"$f":"cálculos1!O52","v":8},0.8,{"$f":"cálculos1!P52","v":4},1]
["Sul","Muqui",172,44,1,2.2727272727272728E-2,7,0.15909090909090909,51,1.1590909090909092,52,1.1818181818181819,34,0.77272727272727271,34,0.77272727272727271,45,1.0227272727272727,35,0.79545454545454541,2,4.5454545454545456E-2,21,0.47727272727272729,39,0.88636363636363635,19,0.43181818181818182,null,null,{"$f":"cálculos1!O53","v":3},0.30000000000000004,{"$f":"cálculos1!P53","v":2},0.5]
["Norte","Nova Venécia",681,163,21,0.12883435582822086,98,0.60122699386503065,181,1.1104294478527608,182,1.1165644171779141,145,0.88957055214723924,140,0.85889570552147243,148,0.90797546012269936,181,1.1104294478527608,0,0,126,0.77300613496932513,168,1.0306748466257669,111,0.68098159509202449,null,null,{"$f":"cálculos1!O54","v":4},0.4,{"$f":"cálculos1!P54","v":3},0.75]
["Central","Pancas",208,42,12,0.2857142857142857,22,0.52380952380952384,55,1.3095238095238095,55,1.3095238095238095,53,1.2619047619047619,52,1.2380952380952381,54,1.2857142857142858,49,1.1666666666666667,0,0,32,0.76190476190476186,46,1.0952380952380953,52,1.2380952380952381,null,null,{"$f":"cálculos1!O55","v":8},0.8,{"$f":"cálculos1!P55","v":4},1]
["Norte","Pedro Canário",330,78,6,7.6923076923076927E-2,3,3.8461538461538464E-2,78,1,85,1.0897435897435896,71,0.91025641025641024,69,0.88461538461538458,65,0.83333333333333337,83,1.0641025641025641,0,0,55,0.70512820512820518,96,1.2307692307692308,61,0.78205128205128205,null,null,{"$f":"cálculos1!O56","v":4},0.4,{"$f":"cálculos1!P56","v":3},0.75]
["Norte","Pinheiros",322,70,2,2.8571428571428571E-2,4,5.7142857142857141E-2,88,1.2571428571428571,87,1.2428571428571429,77,1.1000000000000001,75,1.0714285714285714,71,1.0142857142857142,76,1.0857142857142856,0,0,52,0.74285714285714288,65,0.9285714285714286,31,0.44285714285714284,null,null,{"$f":"cálculos1!O57","v":6},0.60000000000000009,{"$f":"cálculos1!P57","v":3},0.75]
["Sul","Piúma",312,67,3,4.4776119402985072E-2,40,0.59701492537313428,72,1.0746268656716418,72,1.0746268656716418,65,0.97014925373134331,59,0.88059701492537312,47,0.70149253731343286,50,0.74626865671641796,1,1.4925373134328358E-2,56,0.83582089552238803,72,1.0746268656716418,30,0.44776119402985076,null,null,{"$f":"cálculos1!O58","v":4},0.4,{"$f":"cálculos1!P58","v":4},1]
["Norte","Ponto Belo",86,19,4,0.21052631578947367,3,0.15789473684210525,11,0.57894736842105265,10,0.52631578947368418,14,0.73684210526315785,14,0.73684210526315785,6,0.31578947368421051,17,0.89473684210526316,0,0,9,0.47368421052631576,15,0.78947368421052633,11,0.57894736842105265,null,null,{"$f":"cálculos1!O59","v":0},0,{"$f":"cálculos1!P59","v":0},0]
["Sul","Presidente Kennedy",192,57,0,0,5,8.771929824561403E-2,40,0.70175438596491224,44,0.77192982456140347,33,0.57894736842105265,32,0.56140350877192979,44,0.77192982456140347,39,0.68421052631578949,0,0,43,0.75438596491228072,64,1.1228070175438596,14,0.24561403508771928,null,null,{"$f":"cálculos1!O60","v":1},0.1,{"$f":"cálculos1!P60","v":1},0.25]
["Central","Rio Bananal",304,77,21,0.27272727272727271,16,0.20779220779220781,76,0.98701298701298701,76,0.98701298701298701,64,0.83116883116883122,67,0.87012987012987009,64,0.83116883116883122,77,1,4,5.1948051948051951E-2,61,0.79220779220779225,82,1.0649350649350648,61,0.79220779220779225,null,null,{"$f":"cálculos1!O61","v":4},0.4,{"$f":"cálculos1!P61","v":3},0.75]
["Sul","Rio Novo do Sul",129,34,0,0,10,0.29411764705882354,38,1.1176470588235294,38,1.1176470588235294,31,0.91176470588235292,31,0.91176470588235292,35,1.0294117647058822,31,0.91176470588235292,0,0,22,0.6470588235294118,31,0.91176470588235292,25,0.73529411764705888,null,null,{"$f":"cálculos1!O62","v":4},0.4,{"$f":"cálculos1!P62","v":2},0.5]
["Metropolitana","Santa Leopoldina",108,32,0,0,4,0.125,25,0.78125,25,0.78125,26,0.8125,27,0.84375,29,0.90625,31,0.96875,0,0,23,0.71875,38,1.1875,10,0.3125,null,null,{"$f":"cálculos1!O63","v":2},0.2,{"$f":"cálculos1!P63","v":1},0.25]
["Metropolitana","Santa Maria de Jetibá",669,163,101,0.61963190184049077,119,0.73006134969325154,138,0.84662576687116564,138,0.84662576687116564,153,0.93865030674846628,155,0.95092024539877296,141,0.86503067484662577,143,0.87730061349693256,2,1.2269938650306749E-2,164,1.0061349693251533,179,1.0981595092024541,59,0.3619631901840491,null,null,{"$f":"cálculos1!O64","v":3},0.30000000000000004,{"$f":"cálculos1!P64","v":1},0.25]
["Metropolitana","Santa Teresa",288,63,163,2.5873015873015874,53,0.84126984126984128,79,1.253968253968254,79,1.253968253968254,64,1.0158730158730158,65,1.0317460317460319,64,1.0158730158730158,51,0.80952380952380953,0,0,49,0.77777777777777779,70,1.1111111111111112,44,0.69841269841269837,null,null,{"$f":"cálculos1!O65","v":6},0.60000000000000009,{"$f":"cálculos1!P65","v":4},1]
["Central","São Domingos do Norte",119,23,7,{"$f":"E67/D67","v":0.30434782608695654},14,{"$f":"G67/D67","v":0.60869565217391308},28,{"$f":"I67/D67","v":1.2173913043478262},28,{"$f":"K67/D67","v":1.2173913043478262},26,{"$f":"M67/D67","v":1.1304347826086956},26,{"$f":"O67/D67","v":1.1304347826086956},28,{"$f":"Q67/D67","v":1.2173913043478262},35,{"$f":"S67/D67","v":1.5217391304347827},0,{"$f":"U67/D67","v":0},13,{"$f":"W67/D67","v":0.56521739130434778},19,{"$f":"Y67/D67","v":0.82608695652173914},19,{"$f":"AA67/D67","v":0.82608695652173914},null,null,{"$f":"cálculos1!O66","v":6},0.60000000000000009,{"$f":"cálculos1!P66","v":3},0.75]
["Central","São Gabriel da Palha",420,88,22,0.25,47,0.53409090909090906,108,1.2272727272727273,110,1.25,92,1.0454545454545454,87,0.98863636363636365,96,1.0909090909090908,90,1.0227272727272727,1,1.1363636363636364E-2,52,0.59090909090909094,87,0.98863636363636365,64,0.72727272727272729,null,null,{"$f":"cálculos1!O67","v":7},{"$f":"AE68*0.1","v":0.70000000000000007},{"$f":"cálculos1!P67","v":4},{"$f":"AG68*0.25","v":1}]
["Sul","São José do Calçado",99,23,22,0.95652173913043481,26,1.1304347826086956,39,1.6956521739130435,38,1.6521739130434783,29,1.2608695652173914,27,1.173913043478261,37,1.6086956521739131,21,0.91304347826086951,0,0,27,1.173913043478261,36,1.5652173913043479,17,0.73913043478260865,null,null,{"$f":"cálculos1!O68","v":8},0.8,{"$f":"cálculos1!P68","v":4},1]
["Norte","São Mateus",1854,396,668,1.6868686868686869,646,1.6313131313131313,462,1.1666666666666667,455,1.148989898989899,411,1.0378787878787878,384,0.96969696969696972,371,0.93686868686868685,321,0.81060606060606055,1,2.5252525252525255E-3,309,0.78030303030303028,374,0.94444444444444442,193,0.48737373737373735,null,null,{"$f":"cálculos1!O69","v":5},0.5,{"$f":"cálculos1!P69","v":3},0.75]
["Central","São Roque do Canaã",122,40,14,0.35,16,0.4,27,0.67500000000000004,26,0.65,16,0.4,18,0.45,24,0.6,39,0.97499999999999998,1,2.5000000000000001E-2,11,0.27500000000000002,34,0.85,21,0.52500000000000002,null,null,{"$f":"cálculos1!O70","v":1},0.1,{"$f":"cálculos1!P70","v":0},0]
["Metropolitana","Serra",7403,1921,2274,1.1837584591358667,2188,1.1389901093180634,1595,0.83029672045809477,1609,0.83758459135866736,1557,0.81051535658511187,1529,0.79593961478396669,1483,0.77199375325351383,1308,0.68089536699635611,15,7.8084331077563768E-3,917,0.47735554398750651,1527,0.79489849036959914,655,0.34096824570536177,null,null,{"$f":"cálculos1!O71","v":1},0.1,{"$f":"cálculos1!P71","v":0},0]
["Central","Sooretama",432,110,9,8.1818181818181818E-2,4,3.6363636363636362E-2,102,0.92727272727272725,103,0.9363636363636364,96,0.87272727272727268,91,0.82727272727272727,83,0.75454545454545452,90,0.81818181818181823,0,0,88,0.8,94,0.8545454545454545,54,0.49090909090909091,null,null,{"$f":"cálculos1!O72","v":0},0,{"$f":"cálculos1!P72","v":0},0]
["Sul","Vargem Alta",258,64,1,1.5625E-2,4,6.25E-2,56,0.875,55,0.859375,61,0.953125,62,0.96875,61,0.953125,59,0.921875,1,1.5625E-2,57,0.890625,63,0.984375,31,0.484375,null,null,{"$f":"cálculos1!O73","v":4},0.4,{"$f":"cálculos1!P73","v":2},0.5]
["Metropolitana","Venda Nova do Imigrante",382,82,11,0.13414634146341464,94,1.1463414634146341,101,1.2317073170731707,101,1.2317073170731707,88,1.0731707317073171,85,1.0365853658536586,95,1.1585365853658536,105,1.2804878048780488,0,0,54,0.65853658536585369,105,1.2804878048780488,39,0.47560975609756095,null,null,{"$f":"cálculos1!O74","v":8},0.8,{"$f":"cálculos1!P74","v":4},1]
["Metropolitana","Viana",989,241,43,0.17842323651452283,45,0.18672199170124482,231,0.95850622406639008,223,0.92531120331950212,224,0.9294605809128631,211,0.87551867219917012,229,0.950207468879668,171,0.70954356846473032,3,1.2448132780082987E-2,150,0.62240663900414939,217,0.90041493775933612,69,0.2863070539419087,null,null,{"$f":"cálculos1!O75","v":2},0.2,{"$f":"cálculos1!P75","v":1},0.25]
["Norte","Vila Pavão",99,21,7,0.33333333333333331,14,0.66666666666666663,25,1.1904761904761905,24,1.1428571428571428,21,1,21,1,22,1.0476190476190477,29,1.3809523809523809,0,{"$f":"U77/D77","v":0},18,0.8571428571428571,31,1.4761904761904763,22,1.0476190476190477,null,null,{"$f":"cálculos1!O76","v":8},0.8,{"$f":"cálculos1!P76","v":4},1]
["Central","Vila Valério",694,54,11,0.20370370370370369,20,0.37037037037037035,47,0.87037037037037035,48,0.88888888888888884,45,0.83333333333333337,49,0.90740740740740744,40,0.7407407407407407,54,1,0,{"$f":"U78/D78","v":0},32,0.59259259259259256,46,0.85185185185185186,45,0.83333333333333337,null,null,{"$f":"cálculos1!O77","v":2},0.2,{"$f":"cálculos1!P77","v":0},0]
["Metropolitana","Vila Velha",5621,1472,1076,0.73097826086956519,1056,0.71739130434782605,1133,0.76970108695652173,1128,0.76630434782608692,1147,0.77921195652173914,1170,0.79483695652173914,1136,0.77173913043478259,994,0.67527173913043481,25,{"$f":"U79/D79","v":1.6983695652173912E-2},688,0.46739130434782611,1196,0.8125,674,0.4578804347826087,null,null,{"$f":"cálculos1!O78","v":0},0,{"$f":"cálculos1!P78","v":0},0]
["Metropolitana","Vitória",6999,910,1613,1.7725274725274724,1617,1.7769230769230768,958,1.0527472527472528,956,1.0505494505494506,754,0.82857142857142863,804,0.88351648351648349,855,0.93956043956043955,693,0.7615384615384615,26,{"$f":"U80/D80","v":2.8571428571428571E-2},829,0.91098901098901097,796,0.87472527472527473,507,0.55714285714285716,null,null,{"$f":"cálculos1!O79","v":3},0.30000000000000004,{"$f":"cálculos1!P79","v":2},0.5]
[]
[null,"Total Norte",{"$f":"SUMIF($A$3:$A$80,\"Norte\",C$3:C$80)","v":5655},{"$f":"SUMIF($A$3:$A$80,\"Norte\",D$3:D$80)","v":1273},{"$f":"SUMIF($A$3:$A$80,\"Norte\",E$3:E$80)","v":960},{"$f":"E82/D82","v":0.75412411626080122},{"$f":"SUMIF($A$3:$A$80,\"Norte\",G$3:G$80)","v":1057},{"$f":"G82/D82","v":0.83032207384131973},{"$f":"SUMIF($A$3:$A$80,\"Norte\",I$3:I$80)","v":1422},{"$f":"I82/D82","v":1.1170463472113119},{"$f":"SUMIF($A$3:$A$80,\"Norte\",K$3:K$80)","v":1443},{"$f":"K82/D82","v":1.1335428122545168},{"$f":"SUMIF($A$3:$A$80,\"Norte\",M$3:M$80)","v":1303},{"$f":"M82/D82","v":1.0235663786331501},{"$f":"SUMIF($A$3:$A$80,\"Norte\",O$3:O$80)","v":1258},{"$f":"O82/D82","v":0.98821681068342493},{"$f":"SUMIF($A$3:$A$80,\"Norte\",Q$3:Q$80)","v":1207},{"$f":"Q82/D82","v":0.94815396700706989},{"$f":"SUMIF($A$3:$A$80,\"Norte\",S$3:S$80)","v":1270},{"$f":"S82/D82","v":0.99764336213668503},{"$f":"SUMIF($A$3:$A$80,\"Norte\",U$3:U$80)","v":2},{"$f":"U82/D82","v":1.5710919088766694E-3},{"$f":"SUMIF($A$3:$A$80,\"Norte\",W$3:W$80)","v":995},{"$f":"W82/D82","v":0.78161822466614295},{"$f":"SUMIF($A$3:$A$80,\"Norte\",Y$3:Y$80)","v":1325},{"$f":"Y82/D82","v":1.0408483896307934},{"$f":"SUMIF($A$3:$A$80,\"Norte\",AA$3:AA$80)","v":827},{"$f":"AA82/D82","v":0.64964650432050275},null,null,{"$f":"cálculos1!O81","v":6},0.60000000000000009,{"$f":"cálculos1!P81","v":4},1]
[null,"Total Central",{"$f":"SUMIF($A$3:$A$80,\"Central\",C$3:C$80)","v":7463},{"$f":"SUMIF($A$3:$A$80,\"Central\",D$3:D$80)","v":1662},{"$f":"SUMIF($A$3:$A$80,\"Central\",E$3:E$80)","v":1811},{"$f":"E83/D83","v":1.0896510228640193},{"$f":"SUMIF($A$3:$A$80,\"Central\",G$3:G$80)","v":1811},{"$f":"G83/D83","v":1.0896510228640193},{"$f":"SUMIF($A$3:$A$80,\"Central\",I$3:I$80)","v":1639},{"$f":"I83/D83","v":0.98616125150421174},{"$f":"SUMIF($A$3:$A$80,\"Central\",K$3:K$80)","v":1621},{"$f":"K83/D83","v":0.97533092659446452},{"$f":"SUMIF($A$3:$A$80,\"Central\",M$3:M$80)","v":1503},{"$f":"M83/D83","v":0.90433212996389889},{"$f":"SUMIF($A$3:$A$80,\"Central\",O$3:O$80)","v":1512},{"$f":"O83/D83","v":0.90974729241877261},{"$f":"SUMIF($A$3:$A$80,\"Central\",Q$3:Q$80)","v":1484},{"$f":"Q83/D83","v":0.89290012033694344},{"$f":"SUMIF($A$3:$A$80,\"Central\",S$3:S$80)","v":1419},{"$f":"S83/D83","v":0.85379061371841158},{"$f":"SUMIF($A$3:$A$80,\"Central\",U$3:U$80)","v":10},{"$f":"U83/D83","v":6.0168471720818293E-3},{"$f":"SUMIF($A$3:$A$80,\"Central\",W$3:W$80)","v":994},{"$f":"W83/D83","v":0.5980746089049338},{"$f":"SUMIF($A$3:$A$80,\"Central\",Y$3:Y$80)","v":1553},{"$f":"Y83/D83","v":0.93441636582430809},{"$f":"SUMIF($A$3:$A$80,\"Central\",AA$3:AA$80)","v":1024},{"$f":"AA83/D83","v":0.61612515042117932},null,null,{"$f":"cálculos1!O82","v":4},0.4,{"$f":"cálculos1!P82","v":2},0.5]
[null,"Total Metropolitana",{"$f":"SUMIF($A$3:$A$80,\"Metropolitana\",C$3:C$80)","v":33141},{"$f":"SUMIF($A$3:$A$80,\"Metropolitana\",D$3:D$80)","v":7490},{"$f":"SUMIF($A$3:$A$80,\"Metropolitana\",E$3:E$80)","v":6640},{"$f":"E84/D84","v":0.8865153538050734},{"$f":"SUMIF($A$3:$A$80,\"Metropolitana\",G$3:G$80)","v":6756},{"$f":"G84/D84","v":0.90200267022696934},{"$f":"SUMIF($A$3:$A$80,\"Metropolitana\",I$3:I$80)","v":6640},{"$f":"I84/D84","v":0.8865153538050734},{"$f":"SUMIF($A$3:$A$80,\"Metropolitana\",K$3:K$80)","v":6588},{"$f":"K84/D84","v":0.87957276368491322},{"$f":"SUMIF($A$3:$A$80,\"Metropolitana\",M$3:M$80)","v":6466},{"$f":"M84/D84","v":0.86328437917222967},{"$f":"SUMIF($A$3:$A$80,\"Metropolitana\",O$3:O$80)","v":6387},{"$f":"O84/D84","v":0.85273698264352471},{"$f":"SUMIF($A$3:$A$80,\"Metropolitana\",Q$3:Q$80)","v":6397},{"$f":"Q84/D84","v":0.85407209612817092},{"$f":"SUMIF($A$3:$A$80,\"Metropolitana\",S$3:S$80)","v":5667},{"$f":"S84/D84","v":0.75660881174899863},{"$f":"SUMIF($A$3:$A$80,\"Metropolitana\",U$3:U$80)","v":120},{"$f":"U84/D84","v":1.602136181575434E-2},{"$f":"SUMIF($A$3:$A$80,\"Metropolitana\",W$3:W$80)","v":4704},{"$f":"W84/D84","v":0.62803738317757007},{"$f":"SUMIF($A$3:$A$80,\"Metropolitana\",Y$3:Y$80)","v":6704},{"$f":"Y84/D84","v":0.89506008010680904},{"$f":"SUMIF($A$3:$A$80,\"Metropolitana\",AA$3:AA$80)","v":3510},{"$f":"AA84/D84","v":0.46862483311081443},null,null,{"$f":"cálculos1!O83","v":1},0.1,{"$f":"cálculos1!P83","v":0},0]
[null,"Total Sul",{"$f":"SUMIF($A$3:$A$80,\"sul\",C$3:C$80)","v":8419},{"$f":"SUMIF($A$3:$A$80,\"sul\",D$3:D$80)","v":2085},{"$f":"SUMIF($A$3:$A$80,\"Sul\",E$3:E$80)","v":1895},{"$f":"E85/D85","v":0.90887290167865709},{"$f":"SUMIF($A$3:$A$80,\"Sul\",G$3:G$80)","v":1913},{"$f":"G85/D85","v":0.91750599520383691},{"$f":"SUMIF($A$3:$A$80,\"Sul\",I$3:I$80)","v":2008},{"$f":"I85/D85","v":0.96306954436450842},{"$f":"SUMIF($A$3:$A$80,\"Sul\",K$3:K$80)","v":2015},{"$f":"K85/D85","v":0.96642685851318944},{"$f":"SUMIF($A$3:$A$80,\"Sul\",M$3:M$80)","v":2018},{"$f":"M85/D85","v":0.96786570743405276},{"$f":"SUMIF($A$3:$A$80,\"Sul\",O$3:O$80)","v":1948},{"$f":"O85/D85","v":0.93429256594724219},{"$f":"SUMIF($A$3:$A$80,\"Sul\",Q$3:Q$80)","v":1934},{"$f":"Q85/D85","v":0.92757793764988006},{"$f":"SUMIF($A$3:$A$80,\"Sul\",S$3:S$80)","v":1743},{"$f":"S85/D85","v":0.83597122302158278},{"$f":"SUMIF($A$3:$A$80,\"Sul\",U$3:U$80)","v":19},{"$f":"U85/D85","v":9.1127098321342921E-3},{"$f":"SUMIF($A$3:$A$80,\"Sul\",W$3:W$80)","v":1588},{"$f":"W85/D85","v":0.76163069544364503},{"$f":"SUMIF($A$3:$A$80,\"Sul\",Y$3:Y$80)","v":2200},{"$f":"Y85/D85","v":1.0551558752997603},{"$f":"SUMIF($A$3:$A$80,\"Sul\",AA$3:AA$80)","v":858},{"$f":"AA85/D85","v":0.41151079136690649},null,null,{"$f":"cálculos1!O84","v":6},0.60000000000000009,{"$f":"cálculos1!P84","v":4},1]
[null,"Total Espírito Santo",{"$f":"SUM(C3:C80)","v":54678},{"$f":"SUM(D3:D80)","v":12510},{"$f":"SUM(E82:E85)","v":11306},{"$f":"E86/D86","v":0.90375699440447643},{"$f":"SUM(G82:G85)","v":11537},{"$f":"G86/D86","v":0.92222222222222228},{"$f":"SUM(I82:I85)","v":11709},{"$f":"I86/D86","v":0.93597122302158275},{"$f":"SUM(K82:K85)","v":11667},{"$f":"K86/D86","v":0.93261390887290163},{"$f":"SUM(M82:M85)","v":11290},{"$f":"M86/D86","v":0.90247801758593127},{"$f":"SUM(O82:O85)","v":11105},{"$f":"O86/D86","v":0.88768984812150276},{"$f":"SUM(Q82:Q85)","v":11022},{"$f":"Q86/D86","v":0.88105515587529981},{"$f":"SUM(S82:S85)","v":10099},{"$f":"S86/D86","v":0.80727418065547563},{"$f":"SUM(U82:U85)","v":151},{"$f":"U86/D86","v":1.2070343725019984E-2},{"$f":"SUM(W82:W85)","v":8281},{"$f":"W86/D86","v":0.66195043964828137},{"$f":"SUM(Y82:Y85)","v":11782},{"$f":"Y86/D86","v":0.94180655475619501},{"$f":"SUM(AA82:AA85)","v":6219},{"$f":"AA86/D86","v":0.49712230215827335},null,null,{"$f":"cálculos1!O85","v":1},0.1,{"$f":"cálculos1!P85","v":0},0]
[null,null,null,null,{"$f":"COUNTIF(F3:F80,\">=0,95\")","v":10},null,{"$f":"COUNTIF(H3:H80,\">=0,9\")","v":14},null,{"$f":"COUNTIF(J3:J80,\">=0,95\")","v":47},null,{"$f":"COUNTIF(L3:L80,\">=0,95\")","v":49},null,{"$f":"COUNTIF(N3:N80,\">=0,95\")","v":43},null,{"$f":"COUNTIF(P3:P80,\">=0,9\")","v":46},null,{"$f":"COUNTIF(R3:R80,\">=0,95\")","v":37},null,{"$f":"COUNTIF(T3:T80,\">=0,95\")","v":39},null,{"$f":"COUNTIF(V3:V80,\">=0,95\")","v":0},null,{"$f":"COUNTIF(X3:X80,\">=0,95\")","v":19},null,{"$f":"COUNTIF(Z3:Z80,\">=0,95\")","v":50},null,{"$f":"COUNTIF(AB3:AB80,\">=0,95\")","v":6}]
[null,"HOMOGENEIDADE ENTRE MUNICÍPIOS",null,null,{"$f":"E87/78","v":0.12820512820512819},null,{"$f":"G87/78","v":0.17948717948717949},null,{"$f":"I87/78","v":0.60256410256410253},null,{"$f":"K87/78","v":0.62820512820512819},null,{"$f":"M87/78","v":0.55128205128205132},null,{"$f":"O87/78","v":0.58974358974358976},null,{"$f":"Q87/78","v":0.47435897435897434},null,{"$f":"S87/78","v":0.5},null,{"$f":"U87/78","v":0},null,{"$f":"W87/78","v":0.24358974358974358},null,{"$f":"Y87/78","v":0.64102564102564108},null,{"$f":"AA87/78","v":7.6923076923076927E-2}]
[]
[" FonteVacina e Confia, em 06 de Abril de 2024.**"]
["**Dados referente às doses aplicadas no período de Março de 2024"]
["Cobertura Calculada por município de procedência da vacinação"]
["1 População anual extraída do MS/SVS/DASIS - SINASC/DASIS/SVS/MS 2023 (hoje preliminares) referente ao período de fevereiro a dezembro de 2023 e SINASC/DASIS/SVS/MS 2024 referente ao período de janeiro de 2024."]
[]
["² População proporcional extraída do MS/SVS/DASIS - SINASC/DASIS/SVS/MS 2023 (hoje preliminares) referente ao período de fevereiro e março de 2023 somada a população extraída do SINASC/DASIS/SVS/MS 2024 referente ao período de janeiro de 2024."]
[]
["Observações:"]
["Imunobiológicos que foram recebidos parcialmente pelo estado no mês da análise, sendo distribuídos em quantidades reduzidas às regionais e municípios: Varicela, Febre Amarela e HPV Quadrivalente."]
["Imunobiológicos que não foram recebidos pelo estado no mês da análise, não sendo possível a distribuição às regionais e municípios: Meningo C, Hepatite A (CRIE), HIB, Hepatite A Rotina Pediátrica, DTPa (CRIE)."]
["Imunobiológicos com indisponibilidade de aquisição e distribuição no mês da análise: Tetra Viral."]

{"sheet":"CV Rotina <2A - residência","index":1,"n_rows":101,"n_cols":37,"rows_kept":101,"cut":false,"hidden":false,"merged":[[95,0,95,12],[0,4,0,7],[0,8,0,21],[0,22,0,27],[89,0,89,12],[87,1,87,3],[86,6,86,7],[87,6,87,7],[86,8,86,9],[87,8,87,9],[86,4,86,5],[86,10,86,11],[86,12,86,13],[87,26,87,27],[87,4,87,5],[87,14,87,15],[87,20,87,21],[90,0,90,12],[87,18,87,19],[2,35,2,36],[11,35,11,36],[86,14,86,15],[86,16,86,17],[86,18,86,19],[86,22,86,23],[86,24,86,25],[86,26,86,27],[86,20,86,21],[87,22,87,23],[87,24,87,25],[91,0,92,12],[87,16,87,17],[93,0,94,12],[87,10,87,11],[87,12,87,13]]}
[null,null,null,null,"AO NASCER",null,null,null,"MENOR DE 1 ANO",null,null,null,null,null,null,null,null,null,null,null,null,null,"1 ANO"]
["Regional ","Município","¹População < 1 ano e 1 ano anual ","²População < 1 ano e 1 ano proporcional ","Doses Aplicadas HB\n< 30 dias","Cobertura Vacinal HB\naté 30 dias","Doses Aplicadas BCG","Cobertura Vacinal BCG","Doses Aplicadas Pentavalente ","Cobertura Vacinal Pentavalente","Doses Aplicadas Poliomielite ","Cobertura Vacinal Poliomielite ","Doses Aplicadas Pneumo 10","Cobertura Vacinal Pneumo 10","Doses Aplicadas Rotavírus","Cobertura Vacinal Rotavírus","Doses Aplicadas Meningo C","Cobertura Vacinal Meningo C","Doses Aplicadas Febre Amarela","Cobertura Vacinal Febre Amarela","Doses Aplicadas COVID-19","Cobertura Vacinal COVID-19","Doses Aplicadas Hepatite A","Cobertura Vacinal Hepatite A","Doses Aplicadas de Tríplice Viral","Cobertura Vacinal Tríplice Viral","Doses Aplicadas Varicela","Cobertura Varicela",null,null,"VACINAS QUE ATINGIRAM A META DE CV","HOMOGENEIDADE ENTRE AS 10 VACINAS","VACINAS DO PQA-VS QUE ATINGIRAM A META DE CV","HOMOGENEIDADE ENTRE AS VACINAS DO PQA-VS"]
["Metropolitana","Afonso Cláudio",396,110,78,{"$f":"E3/D3","v":0.70909090909090911},81,{"$f":"G3/D3","v":0.73636363636363633},104,{"$f":"I3/D3","v":0.94545454545454544},103,{"$f":"K3/D3","v":0.9363636363636364},93,{"$f":"M3/D3","v":0.84545454545454546},95,{"$f":"O3/D3","v":0.86363636363636365},105,{"$f":"Q3/D3","v":0.95454545454545459},85,{"$f":"S3/D3","v":0.77272727272727271},0,{"$f":"U3/D3","v":0},89,{"$f":"W3/D3","v":0.80909090909090908},117,{"$f":"Y3/D3","v":1.0636363636363637},65,{"$f":"AA3/D3","v":0.59090909090909094},null,null,{"$f":"cálculos2!O2","v":2},{"$f":"AE3*0.1","v":0.2},{"$f":"cálculos2!P2","v":1},{"$f":"AG3*0.25","v":0.25},null,"LEGENDA / HOMOGENEIDADE PQA-VS"]
["Norte","Água Doce do Norte",157,33,56,1.696969696969697,58,{"$f":"G4/D4","v":1.7575757575757576},43,{"$f":"I4/D4","v":1.303030303030303},45,{"$f":"K4/D4","v":1.3636363636363635},42,{"$f":"M4/D4","v":1.2727272727272727},40,{"$f":"O4/D4","v":1.2121212121212122},46,{"$f":"Q4/D4","v":1.393939393939394},30,{"$f":"S4/D4","v":0.90909090909090906},0,{"$f":"U4/D4","v":0},28,{"$f":"W4/D4","v":0.84848484848484851},30,{"$f":"Y4/D4","v":0.90909090909090906},19,{"$f":"AA4/D4","v":0.5757575757575758},null,null,{"$f":"cálculos2!O3","v":6},{"$f":"AE4*0.1","v":0.60000000000000009},{"$f":"cálculos2!P3","v":3},{"$f":"AG4*0.25","v":0.75},null,"PERCENTUAL","Nº DE MUNICÍPIOS"]
["Central","Águia Branca",138,31,38,1.2258064516129032,41,1.3225806451612903,45,1.4516129032258065,45,1.4516129032258065,38,1.2258064516129032,38,1.2258064516129032,46,1.4838709677419355,35,1.1290322580645162,0,0,25,0.80645161290322576,28,0.90322580645161288,14,0.45161290322580644,null,null,{"$f":"cálculos2!O4","v":7},0.70000000000000007,{"$f":"cálculos2!P4","v":3},0.75,null,0,{"$f":"COUNTIF($AH$3:$AH$80,\"=0\")","v":16}]
["Sul","Alegre",335,78,72,0.92307692307692313,71,0.91025641025641024,79,1.0128205128205128,83,1.0641025641025641,82,1.0512820512820513,78,1,74,0.94871794871794868,80,1.0256410256410255,0,0,55,0.70512820512820518,80,1.0256410256410255,31,0.39743589743589741,null,null,{"$f":"cálculos2!O5","v":7},0.70000000000000007,{"$f":"cálculos2!P5","v":4},1,null,0.25,{"$f":"COUNTIF($AH$3:$AH$80,\"=0,25\")","v":13}]
["Sul","Alfredo Chaves",154,40,24,0.6,25,0.625,32,0.8,36,0.9,46,1.1499999999999999,48,1.2,41,1.0249999999999999,37,0.92500000000000004,0,0,29,0.72499999999999998,37,0.92500000000000004,18,0.45,null,null,{"$f":"cálculos2!O6","v":3},0.30000000000000004,{"$f":"cálculos2!P6","v":1},0.25,null,0.5,{"$f":"COUNTIF($AH$3:$AH$80,\"=0,5\")","v":6}]
["Central","Alto Rio Novo",90,24,13,0.54166666666666663,16,0.66666666666666663,26,1.0833333333333333,26,1.0833333333333333,23,0.95833333333333337,23,0.95833333333333337,24,1,15,0.625,0,0,17,0.70833333333333337,23,0.95833333333333337,10,0.41666666666666669,null,null,{"$f":"cálculos2!O7","v":6},0.60000000000000009,{"$f":"cálculos2!P7","v":4},1,null,0.75,{"$f":"COUNTIF($AH$3:$AH$80,\"=0,75\")","v":14}]
["Sul","Anchieta",377,84,85,1.0119047619047619,82,0.97619047619047616,92,1.0952380952380953,95,1.1309523809523809,109,1.2976190476190477,110,1.3095238095238095,100,1.1904761904761905,82,0.97619047619047616,4,4.7619047619047616E-2,84,1,98,1.1666666666666667,47,0.55952380952380953,null,null,{"$f":"cálculos2!O8","v":9},0.9,{"$f":"cálculos2!P8","v":4},1,null,1,{"$f":"COUNTIF($AH$3:$AH$80,\"=1,0\")","v":29}]
["Sul","Apiacá",62,13,12,0.92307692307692313,15,1.1538461538461537,9,0.69230769230769229,9,0.69230769230769229,14,1.0769230769230769,15,1.1538461538461537,9,0.69230769230769229,18,1.3846153846153846,0,0,4,0.30769230769230771,10,0.76923076923076927,2,0.15384615384615385,null,null,{"$f":"cálculos2!O9","v":4},0.4,{"$f":"cálculos2!P9","v":1},0.25]
["Metropolitana","Aracruz",1453,355,344,0.96901408450704229,336,0.94647887323943658,316,0.89014084507042257,318,0.89577464788732397,342,0.96338028169014089,338,0.95211267605633798,311,0.87605633802816907,294,0.82816901408450705,7,1.9718309859154931E-2,313,0.88169014084507047,409,1.152112676056338,267,0.75211267605633803,null,null,{"$f":"cálculos2!O10","v":4},0.4,{"$f":"cálculos2!P10","v":2},0.5]
["Sul","Atilio Vivacqua",140,37,29,0.78378378378378377,28,0.7567567567567568,30,0.81081081081081086,29,0.78378378378378377,30,0.81081081081081086,30,0.81081081081081086,26,0.70270270270270274,25,0.67567567567567566,0,0,28,0.7567567567567568,34,0.91891891891891897,19,0.51351351351351349,null,null,{"$f":"cálculos2!O11","v":0},0,{"$f":"cálculos2!P11","v":0},0,null,"LEGENDA / HOMOGENEIDADE 10 VACINAS"]
["Central","Baixo Guandu",364,76,74,0.97368421052631582,88,1.1578947368421053,101,1.3289473684210527,101,1.3289473684210527,104,1.368421052631579,101,1.3289473684210527,97,1.2763157894736843,85,1.118421052631579,0,0,78,1.0263157894736843,135,1.7763157894736843,69,0.90789473684210531,null,null,{"$f":"cálculos2!O12","v":9},0.9,{"$f":"cálculos2!P12","v":4},1,null,"PERCENTUAL","Nº DE MUNICÍPIOS"]
["Norte","Barra de São Francisco",510,122,113,0.92622950819672134,112,0.91803278688524592,119,0.97540983606557374,120,0.98360655737704916,121,0.99180327868852458,118,0.96721311475409832,117,0.95901639344262291,137,1.1229508196721312,0,0,103,0.84426229508196726,134,1.098360655737705,101,0.82786885245901642,null,null,{"$f":"cálculos2!O13","v":8},0.8,{"$f":"cálculos2!P13","v":4},1,null,0,{"$f":"COUNTIF($AF$3:$AF$80,\"=0\")","v":11}]
["Norte","Boa Esperança",199,54,32,0.59259259259259256,46,0.85185185185185186,35,0.64814814814814814,40,0.7407407407407407,48,0.88888888888888884,49,0.90740740740740744,46,0.85185185185185186,46,0.85185185185185186,0,0,39,0.72222222222222221,50,0.92592592592592593,37,0.68518518518518523,null,null,{"$f":"cálculos2!O14","v":1},0.1,{"$f":"cálculos2!P14","v":0},0,null,0.1,{"$f":"COUNTIF($AF$3:$AF$80,\"=0,1\")","v":8}]
["Sul","Bom Jesus do Norte",81,14,13,0.9285714285714286,13,0.9285714285714286,37,2.6428571428571428,35,2.5,33,2.3571428571428572,31,2.2142857142857144,28,2,30,2.1428571428571428,3,0.21428571428571427,4,0.2857142857142857,24,1.7142857142857142,4,0.2857142857142857,null,null,{"$f":"cálculos2!O15","v":8},0.8,{"$f":"cálculos2!P15","v":4},1,null,0.2,{"$f":"COUNTIF($AF$3:$AF$80,\"=0,2\")","v":7}]
["Metropolitana","Brejetuba",195,39,13,0.33333333333333331,48,1.2307692307692308,47,1.2051282051282051,47,1.2051282051282051,48,1.2307692307692308,47,1.2051282051282051,47,1.2051282051282051,55,1.4102564102564104,0,0,43,1.1025641025641026,47,1.2051282051282051,32,0.82051282051282048,null,null,{"$f":"cálculos2!O16","v":9},0.9,{"$f":"cálculos2!P16","v":4},1,null,0.3,{"$f":"COUNTIF($AF$3:$AF$80,\"=0,3\")","v":3}]
["Sul","Cachoeiro de Itapemirim",2446,639,657,1.028169014084507,655,1.0250391236306728,554,0.86697965571205005,545,0.85289514866979654,538,0.8419405320813772,522,0.81690140845070425,520,0.81377151799687009,504,0.78873239436619713,1,1.5649452269170579E-3,477,0.74647887323943662,613,0.95931142410015646,212,0.33176838810641629,null,null,{"$f":"cálculos2!O17","v":2},0.2,{"$f":"cálculos2!P17","v":1},0.25,null,0.4,{"$f":"COUNTIF($AF$3:$AF$80,\"=0,4\")","v":8}]
["Metropolitana","Cariacica",4835,1168,1030,0.88184931506849318,1015,0.86900684931506844,1110,0.95034246575342463,1082,0.92636986301369861,1107,0.94777397260273977,1045,0.8946917808219178,1084,0.92808219178082196,898,0.76883561643835618,24,2.0547945205479451E-2,747,0.63955479452054798,1157,0.99058219178082196,522,0.44691780821917809,null,null,{"$f":"cálculos2!O18","v":2},0.2,{"$f":"cálculos2!P18","v":2},0.5,null,0.5,{"$f":"COUNTIF($AF$3:$AF$80,\"=0,5\")","v":4}]
["Sul","Castelo",452,125,95,0.76,90,0.72,97,0.77600000000000002,96,0.76800000000000002,99,0.79200000000000004,95,0.76,95,0.76,98,0.78400000000000003,0,0,41,0.32800000000000001,124,0.99199999999999999,53,0.42399999999999999,null,null,{"$f":"cálculos2!O19","v":1},0.1,{"$f":"cálculos2!P19","v":1},0.25,null,0.6,{"$f":"COUNTIF($AF$3:$AF$80,\"=0,6\")","v":8}]
["Central","Colatina",1530,360,412,1.1444444444444444,404,1.1222222222222222,366,1.0166666666666666,351,0.97499999999999998,327,0.90833333333333333,337,0.93611111111111112,342,0.95,294,0.81666666666666665,3,8.3333333333333332E-3,203,0.56388888888888888,342,0.95,219,0.60833333333333328,null,null,{"$f":"cálculos2!O20","v":6},0.60000000000000009,{"$f":"cálculos2!P20","v":3},0.75,null,0.7,{"$f":"COUNTIF($AF$3:$AF$80,\"=0,7\")","v":9}]
["Norte","Conceição da Barra",373,88,59,0.67045454545454541,58,0.65909090909090906,85,0.96590909090909094,89,1.0113636363636365,96,1.0909090909090908,90,1.0227272727272727,79,0.89772727272727271,100,1.1363636363636365,0,0,53,0.60227272727272729,95,1.0795454545454546,54,0.61363636363636365,null,null,{"$f":"cálculos2!O21","v":6},0.60000000000000009,{"$f":"cálculos2!P21","v":4},1,null,0.8,{"$f":"COUNTIF($AF$3:$AF$80,\"=0,8\")","v":9}]
["Metropolitana","Conceição do Castelo",152,29,13,0.44827586206896552,40,1.3793103448275863,29,1,28,0.96551724137931039,32,1.103448275862069,30,1.0344827586206897,32,1.103448275862069,37,1.2758620689655173,0,0,30,1.0344827586206897,26,0.89655172413793105,18,0.62068965517241381,null,null,{"$f":"cálculos2!O22","v":8},0.8,{"$f":"cálculos2!P22","v":3},0.75,null,0.9,{"$f":"COUNTIF($AF$3:$AF$80,\"=0,9\")","v":9}]
["Sul","Divino de São Lourenço",57,9,19,2.1111111111111112,18,2,18,2,18,2,18,2,18,2,20,2.2222222222222223,17,1.8888888888888888,0,0,13,1.4444444444444444,11,1.2222222222222223,6,0.66666666666666663,null,null,{"$f":"cálculos2!O23","v":9},0.9,{"$f":"cálculos2!P23","v":4},1,null,1,{"$f":"COUNTIF($AF$3:$AF$80,\"=1,0\")","v":2}]
["Metropolitana","Domingos Martins",407,94,72,0.76595744680851063,85,0.9042553191489362,81,0.86170212765957444,82,0.87234042553191493,94,1,90,0.95744680851063835,85,0.9042553191489362,99,1.053191489361702,2,2.1276595744680851E-2,64,0.68085106382978722,108,1.1489361702127661,108,1.1489361702127661,null,null,{"$f":"cálculos2!O24","v":6},0.60000000000000009,{"$f":"cálculos2!P24","v":2},0.5]
["Sul","Dores do Rio Preto",95,28,10,0.35714285714285715,14,0.5,20,0.7142857142857143,23,0.8214285714285714,26,0.9285714285714286,24,0.8571428571428571,24,0.8571428571428571,23,0.8214285714285714,1,3.5714285714285712E-2,15,0.5357142857142857,20,0.7142857142857143,7,0.25,null,null,{"$f":"cálculos2!O25","v":0},0,{"$f":"cálculos2!P25","v":0},0]
["Norte","Ecoporanga",226,48,74,1.5416666666666667,77,1.6041666666666667,69,1.4375,67,1.3958333333333333,57,1.1875,56,1.1666666666666667,57,1.1875,63,1.3125,0,0,50,1.0416666666666667,60,1.25,55,1.1458333333333333,null,null,{"$f":"cálculos2!O26","v":10},1,{"$f":"cálculos2!P26","v":4},1]
["Metropolitana","Fundão",217,58,44,0.75862068965517238,43,0.74137931034482762,69,1.1896551724137931,67,1.1551724137931034,55,0.94827586206896552,54,0.93103448275862066,56,0.96551724137931039,54,0.93103448275862066,1,1.7241379310344827E-2,47,0.81034482758620685,42,0.72413793103448276,49,0.84482758620689657,null,null,{"$f":"cálculos2!O27","v":4},0.4,{"$f":"cálculos2!P27","v":2},0.5]
["Central","Governador Lindenberg",145,27,24,0.88888888888888884,21,0.77777777777777779,35,1.2962962962962963,33,1.2222222222222223,33,1.2222222222222223,34,1.2592592592592593,33,1.2222222222222223,43,1.5925925925925926,1,3.7037037037037035E-2,26,0.96296296296296291,25,0.92592592592592593,25,0.92592592592592593,null,null,{"$f":"cálculos2!O28","v":7},0.70000000000000007,{"$f":"cálculos2!P28","v":3},0.75]
["Sul","Guaçuí",375,78,75,0.96153846153846156,86,1.1025641025641026,104,1.3333333333333333,104,1.3333333333333333,106,1.358974358974359,97,1.2435897435897436,98,1.2564102564102564,79,1.0128205128205128,0,0,93,1.1923076923076923,109,1.3974358974358974,42,0.53846153846153844,null,null,{"$f":"cálculos2!O29","v":9},0.9,{"$f":"cálculos2!P29","v":4},1]
["Metropolitana","Guarapari",1759,452,337,0.74557522123893805,364,0.80530973451327437,371,0.82079646017699115,351,0.77654867256637172,391,0.86504424778761058,373,0.8252212389380531,354,0.7831858407079646,324,0.7168141592920354,0,0,284,0.62831858407079644,343,0.75884955752212391,197,0.43584070796460178,null,null,{"$f":"cálculos2!O30","v":0},0,{"$f":"cálculos2!P30","v":0},0]
["Metropolitana","Ibatiba",341,66,51,0.77272727272727271,91,1.3787878787878789,94,1.4242424242424243,94,1.4242424242424243,103,1.5606060606060606,91,1.3787878787878789,105,1.5909090909090908,83,1.2575757575757576,1,1.5151515151515152E-2,63,0.95454545454545459,80,1.2121212121212122,31,0.46969696969696972,null,null,{"$f":"cálculos2!O31","v":9},0.9,{"$f":"cálculos2!P31","v":4},1]
["Metropolitana","Ibiraçu",147,41,37,0.90243902439024393,34,0.82926829268292679,33,0.80487804878048785,31,0.75609756097560976,29,0.70731707317073167,27,0.65853658536585369,33,0.80487804878048785,31,0.75609756097560976,0,0,19,0.46341463414634149,29,0.70731707317073167,15,0.36585365853658536,null,null,{"$f":"cálculos2!O32","v":0},0,{"$f":"cálculos2!P32","v":0},0]
["Sul","Ibitirama",122,27,32,1.1851851851851851,33,1.2222222222222223,27,1,28,1.037037037037037,31,1.1481481481481481,32,1.1851851851851851,23,0.85185185185185186,21,0.77777777777777779,0,0,21,0.77777777777777779,36,1.3333333333333333,19,0.70370370370370372,null,null,{"$f":"cálculos2!O33","v":6},0.60000000000000009,{"$f":"cálculos2!P33","v":4},1]
["Sul","Iconha",123,36,21,{"$f":"E35/D35","v":0.58333333333333337},20,0.55555555555555558,31,0.86111111111111116,29,0.80555555555555558,30,0.83333333333333337,31,0.86111111111111116,25,0.69444444444444442,31,0.86111111111111116,1,2.7777777777777776E-2,27,0.75,45,1.25,11,0.30555555555555558,null,null,{"$f":"cálculos2!O34","v":1},0.1,{"$f":"cálculos2!P34","v":1},0.25]
["Sul","Irupi",196,47,35,0.74468085106382975,40,0.85106382978723405,53,1.1276595744680851,53,1.1276595744680851,65,1.3829787234042554,60,1.2765957446808511,58,1.2340425531914894,45,0.95744680851063835,3,6.3829787234042548E-2,39,0.82978723404255317,76,1.6170212765957446,18,0.38297872340425532,null,null,{"$f":"cálculos2!O35","v":7},0.70000000000000007,{"$f":"cálculos2!P35","v":4},1]
["Metropolitana","Itaguaçu",131,30,34,1.1333333333333333,29,0.96666666666666667,31,1.0333333333333334,30,1,28,0.93333333333333335,28,0.93333333333333335,31,1.0333333333333334,34,1.1333333333333333,0,0,34,1.1333333333333333,40,1.3333333333333333,39,1.3,null,null,{"$f":"cálculos2!O36","v":9},0.9,{"$f":"cálculos2!P36","v":3},0.75]
["Sul","Itapemirim",571,142,103,0.72535211267605637,106,0.74647887323943662,108,0.76056338028169013,106,0.74647887323943662,131,0.92253521126760563,111,0.78169014084507038,107,0.75352112676056338,87,0.61267605633802813,0,0,105,0.73943661971830987,132,0.92957746478873238,68,0.47887323943661969,null,null,{"$f":"cálculos2!O37","v":0},0,{"$f":"cálculos2!P37","v":0},0]
["Metropolitana","Itarana",135,33,36,1.0909090909090908,39,1.1818181818181819,31,0.93939393939393945,31,0.93939393939393945,24,0.72727272727272729,23,0.69696969696969702,26,0.78787878787878785,39,1.1818181818181819,0,0,16,0.48484848484848486,30,0.90909090909090906,26,0.78787878787878785,null,null,{"$f":"cálculos2!O38","v":2},0.2,{"$f":"cálculos2!P38","v":0},0]
["Sul","Iúna",469,103,76,0.73786407766990292,74,0.71844660194174759,120,1.1650485436893203,117,1.1359223300970873,127,1.233009708737864,125,1.2135922330097086,118,1.145631067961165,107,1.0388349514563107,0,0,79,0.76699029126213591,126,1.2233009708737863,50,0.4854368932038835,null,null,{"$f":"cálculos2!O39","v":7},0.70000000000000007,{"$f":"cálculos2!P39","v":4},1]
["Norte","Jaguaré",492,114,104,0.91228070175438591,102,0.89473684210526316,126,1.1052631578947369,136,1.1929824561403508,122,1.0701754385964912,121,1.0614035087719298,106,0.92982456140350878,111,0.97368421052631582,1,8.771929824561403E-3,77,0.67543859649122806,102,0.89473684210526316,63,0.55263157894736847,null,null,{"$f":"cálculos2!O40","v":5},0.5,{"$f":"cálculos2!P40","v":3},0.75]
["Sul","Jerônimo Monteiro",163,41,32,0.78048780487804881,34,0.82926829268292679,47,1.1463414634146341,47,1.1463414634146341,44,1.0731707317073171,44,1.0731707317073171,36,0.87804878048780488,36,0.87804878048780488,2,4.878048780487805E-2,28,0.68292682926829273,37,0.90243902439024393,8,0.1951219512195122,null,null,{"$f":"cálculos2!O41","v":4},0.4,{"$f":"cálculos2!P41","v":3},0.75]
["Metropolitana","João Neiva",179,41,33,0.80487804878048785,31,0.75609756097560976,44,1.0731707317073171,42,1.024390243902439,45,1.0975609756097562,45,1.0975609756097562,43,1.0487804878048781,44,1.0731707317073171,1,2.4390243902439025E-2,26,0.63414634146341464,50,1.2195121951219512,20,0.48780487804878048,null,null,{"$f":"cálculos2!O42","v":7},0.70000000000000007,{"$f":"cálculos2!P42","v":4},1]
["Metropolitana","Laranja da Terra",100,25,20,0.8,19,0.76,23,0.92,23,0.92,14,0.56000000000000005,15,0.6,19,0.76,36,1.44,5,0.2,17,0.68,41,1.64,16,0.64,null,null,{"$f":"cálculos2!O43","v":2},0.2,{"$f":"cálculos2!P43","v":1},0.25]
["Central","Linhares",2585,648,517,0.7978395061728395,526,0.81172839506172845,567,0.875,561,0.8657407407407407,531,0.81944444444444442,550,0.84876543209876543,496,0.76543209876543206,485,0.74845679012345678,1,1.5432098765432098E-3,315,0.4861111111111111,541,0.83487654320987659,327,0.50462962962962965,null,null,{"$f":"cálculos2!O44","v":0},0,{"$f":"cálculos2!P44","v":0},0]
["Central","Mantenópolis",152,34,33,0.97058823529411764,39,1.1470588235294117,37,1.088235294117647,42,1.2352941176470589,32,0.94117647058823528,30,0.88235294117647056,31,0.91176470588235292,36,1.0588235294117647,0,0,31,0.91176470588235292,38,1.1176470588235294,27,0.79411764705882348,null,null,{"$f":"cálculos2!O45","v":5},0.5,{"$f":"cálculos2!P45","v":3},0.75]
["Sul","Marataízes",570,156,146,0.9358974358974359,130,0.83333333333333337,121,0.77564102564102566,133,0.85256410256410253,129,0.82692307692307687,130,0.83333333333333337,136,0.87179487179487181,95,0.60897435897435892,0,0,110,0.70512820512820518,129,0.82692307692307687,47,0.30128205128205127,null,null,{"$f":"cálculos2!O46","v":0},0,{"$f":"cálculos2!P46","v":0},0]
["Metropolitana","Marechal Floriano",235,65,45,0.69230769230769229,48,0.7384615384615385,39,0.6,39,0.6,56,0.86153846153846159,55,0.84615384615384615,45,0.69230769230769229,44,0.67692307692307696,2,3.0769230769230771E-2,42,0.64615384615384619,57,0.87692307692307692,34,0.52307692307692311,null,null,{"$f":"cálculos2!O47","v":0},0,{"$f":"cálculos2!P47","v":0},0]
["Central","Marilândia",160,28,34,1.2142857142857142,32,1.1428571428571428,46,1.6428571428571428,46,1.6428571428571428,37,1.3214285714285714,38,1.3571428571428572,49,1.75,33,1.1785714285714286,0,0,34,1.2142857142857142,42,1.5,30,1.0714285714285714,null,null,{"$f":"cálculos2!O48","v":10},1,{"$f":"cálculos2!P48","v":4},1]
["Sul","Mimoso do Sul",258,56,47,0.8392857142857143,49,0.875,58,1.0357142857142858,58,1.0357142857142858,54,0.9642857142857143,51,0.9107142857142857,57,1.0178571428571428,49,0.875,0,0,44,0.7857142857142857,60,1.0714285714285714,30,0.5357142857142857,null,null,{"$f":"cálculos2!O49","v":6},0.60000000000000009,{"$f":"cálculos2!P49","v":4},1]
["Norte","Montanha",254,55,40,0.72727272727272729,40,0.72727272727272729,87,1.5818181818181818,89,1.6181818181818182,67,1.2181818181818183,68,1.2363636363636363,59,1.0727272727272728,59,1.0727272727272728,0,0,56,1.0181818181818181,64,1.1636363636363636,51,0.92727272727272725,null,null,{"$f":"cálculos2!O50","v":8},0.8,{"$f":"cálculos2!P50","v":4},1]
["Norte","Mucurici",72,12,10,0.83333333333333337,11,0.91666666666666663,21,1.75,23,1.9166666666666667,21,1.75,21,1.75,17,1.4166666666666667,21,1.75,0,0,10,0.83333333333333337,21,1.75,10,0.83333333333333337,null,null,{"$f":"cálculos2!O51","v":8},0.8,{"$f":"cálculos2!P51","v":4},1]
["Sul","Muniz Freire",211,43,49,1.1395348837209303,48,1.1162790697674418,61,1.4186046511627908,56,1.3023255813953489,57,1.3255813953488371,56,1.3023255813953489,59,1.3720930232558139,58,1.3488372093023255,0,0,52,1.2093023255813953,65,1.5116279069767442,24,0.55813953488372092,null,null,{"$f":"cálculos2!O52","v":9},0.9,{"$f":"cálculos2!P52","v":4},1]
["Sul","Muqui",172,44,31,0.70454545454545459,31,0.70454545454545459,52,1.1818181818181819,53,1.2045454545454546,36,0.81818181818181823,36,0.81818181818181823,44,1,34,0.77272727272727271,2,4.5454545454545456E-2,20,0.45454545454545453,46,1.0454545454545454,18,0.40909090909090912,null,null,{"$f":"cálculos2!O53","v":4},0.4,{"$f":"cálculos2!P53","v":3},0.75]
["Norte","Nova Venécia",681,163,84,0.51533742331288346,154,0.94478527607361962,196,1.2024539877300613,198,1.2147239263803682,154,0.94478527607361962,145,0.88957055214723924,159,0.97546012269938653,169,1.0368098159509203,0,0,128,0.78527607361963192,167,1.0245398773006136,110,0.67484662576687116,null,null,{"$f":"cálculos2!O54","v":6},0.60000000000000009,{"$f":"cálculos2!P54","v":3},0.75]
["Central","Pancas",208,42,54,1.2857142857142858,48,1.1428571428571428,61,1.4523809523809523,61,1.4523809523809523,62,1.4761904761904763,59,1.4047619047619047,60,1.4285714285714286,48,1.1428571428571428,0,0,30,0.7142857142857143,52,1.2380952380952381,54,1.2857142857142858,null,null,{"$f":"cálculos2!O55","v":9},0.9,{"$f":"cálculos2!P55","v":4},1]
["Norte","Pedro Canário",330,78,57,0.73076923076923073,59,0.75641025641025639,77,0.98717948717948723,82,1.0512820512820513,68,0.87179487179487181,65,0.83333333333333337,62,0.79487179487179482,82,1.0512820512820513,0,0,57,0.73076923076923073,99,1.2692307692307692,64,0.82051282051282048,null,null,{"$f":"cálculos2!O56","v":4},0.4,{"$f":"cálculos2!P56","v":3},0.75]
["Norte","Pinheiros",322,70,46,0.65714285714285714,45,0.6428571428571429,82,1.1714285714285715,81,1.1571428571428573,72,1.0285714285714285,69,0.98571428571428577,68,0.97142857142857142,71,1.0142857142857142,0,0,56,0.8,72,1.0285714285714285,34,0.48571428571428571,null,null,{"$f":"cálculos2!O57","v":7},0.70000000000000007,{"$f":"cálculos2!P57","v":4},1]
["Sul","Piúma",312,67,59,0.88059701492537312,57,0.85074626865671643,73,1.0895522388059702,72,1.0746268656716418,65,0.97014925373134331,59,0.88059701492537312,52,0.77611940298507465,52,0.77611940298507465,1,1.4925373134328358E-2,54,0.80597014925373134,77,1.1492537313432836,34,0.5074626865671642,null,null,{"$f":"cálculos2!O58","v":4},0.4,{"$f":"cálculos2!P58","v":4},1]
["Norte","Ponto Belo",86,19,10,0.52631578947368418,11,0.57894736842105265,10,0.52631578947368418,9,0.47368421052631576,11,0.57894736842105265,11,0.57894736842105265,7,0.36842105263157893,19,1,0,0,10,0.52631578947368418,14,0.73684210526315785,11,0.57894736842105265,null,null,{"$f":"cálculos2!O59","v":1},0.1,{"$f":"cálculos2!P59","v":0},0]
["Sul","Presidente Kennedy",192,57,47,0.82456140350877194,47,0.82456140350877194,41,0.7192982456140351,46,0.80701754385964908,34,0.59649122807017541,33,0.57894736842105265,46,0.80701754385964908,40,0.70175438596491224,0,0,45,0.78947368421052633,64,1.1228070175438596,16,0.2807017543859649,null,null,{"$f":"cálculos2!O60","v":1},0.1,{"$f":"cálculos2!P60","v":1},0.25]
["Central","Rio Bananal",304,77,63,0.81818181818181823,65,0.8441558441558441,74,0.96103896103896103,74,0.96103896103896103,54,0.70129870129870131,59,0.76623376623376627,65,0.8441558441558441,76,0.98701298701298701,4,5.1948051948051951E-2,56,0.72727272727272729,73,0.94805194805194803,56,0.72727272727272729,null,null,{"$f":"cálculos2!O61","v":3},0.30000000000000004,{"$f":"cálculos2!P61","v":2},0.5]
["Sul","Rio Novo do Sul",129,34,24,0.70588235294117652,23,0.67647058823529416,33,0.97058823529411764,32,0.94117647058823528,29,0.8529411764705882,30,0.88235294117647056,30,0.88235294117647056,33,0.97058823529411764,0,0,17,0.5,28,0.82352941176470584,20,0.58823529411764708,null,null,{"$f":"cálculos2!O62","v":2},0.2,{"$f":"cálculos2!P62","v":1},0.25]
["Metropolitana","Santa Leopoldina",108,32,10,0.3125,7,0.21875,28,0.875,28,0.875,26,0.8125,27,0.84375,28,0.875,31,0.96875,0,0,22,0.6875,43,1.34375,9,0.28125,null,null,{"$f":"cálculos2!O63","v":2},0.2,{"$f":"cálculos2!P63","v":1},0.25]
["Metropolitana","Santa Maria de Jetibá",669,163,140,0.85889570552147243,146,0.89570552147239269,130,0.7975460122699386,131,0.80368098159509205,151,0.92638036809815949,152,0.93251533742331283,136,0.83435582822085885,137,0.8404907975460123,3,1.8404907975460124E-2,156,0.95705521472392641,168,1.0306748466257669,64,0.39263803680981596,null,null,{"$f":"cálculos2!O64","v":3},0.30000000000000004,{"$f":"cálculos2!P64","v":1},0.25]
["Metropolitana","Santa Teresa",288,63,69,1.0952380952380953,71,1.126984126984127,80,1.2698412698412698,79,1.253968253968254,71,1.126984126984127,73,1.1587301587301588,73,1.1587301587301588,56,0.88888888888888884,0,0,47,0.74603174603174605,76,1.2063492063492063,44,0.69841269841269837,null,null,{"$f":"cálculos2!O65","v":7},0.70000000000000007,{"$f":"cálculos2!P65","v":4},1]
["Central","São Domingos do Norte",119,23,29,{"$f":"E67/D67","v":1.2608695652173914},28,1.2173913043478262,28,1.2173913043478262,28,1.2173913043478262,26,1.1304347826086956,24,1.0434782608695652,29,1.2608695652173914,29,1.2608695652173914,0,0,13,0.56521739130434778,18,0.78260869565217395,19,0.82608695652173914,null,null,{"$f":"cálculos2!O66","v":7},0.70000000000000007,{"$f":"cálculos2!P66","v":3},0.75]
["Central","São Gabriel da Palha",420,88,85,0.96590909090909094,88,{"$f":"G68/D68","v":1},102,{"$f":"I68/D68","v":1.1590909090909092},103,{"$f":"K68/D68","v":1.1704545454545454},90,{"$f":"M68/D68","v":1.0227272727272727},87,{"$f":"O68/D68","v":0.98863636363636365},96,{"$f":"Q68/D68","v":1.0909090909090908},86,{"$f":"S68/D68","v":0.97727272727272729},1,{"$f":"U68/D68","v":1.1363636363636364E-2},45,{"$f":"W68/D68","v":0.51136363636363635},88,{"$f":"Y68/D68","v":1},55,{"$f":"AA68/D68","v":0.625},null,null,{"$f":"cálculos2!O67","v":8},{"$f":"AE68*0.1","v":0.8},{"$f":"cálculos2!P67","v":4},{"$f":"AG68*0.25","v":1}]
["Sul","São José do Calçado",99,23,33,1.4347826086956521,37,1.6086956521739131,39,1.6956521739130435,38,1.6521739130434783,28,1.2173913043478262,25,1.0869565217391304,39,1.6956521739130435,21,0.91304347826086951,0,0,26,1.1304347826086956,33,1.4347826086956521,18,0.78260869565217395,null,null,{"$f":"cálculos2!O68","v":8},0.8,{"$f":"cálculos2!P68","v":4},1]
["Norte","São Mateus",1854,396,481,1.2146464646464648,468,1.1818181818181819,454,1.1464646464646464,447,1.1287878787878789,415,1.047979797979798,397,1.0025252525252526,371,0.93686868686868685,330,0.83333333333333337,1,2.5252525252525255E-3,314,0.79292929292929293,363,0.91666666666666663,197,0.49747474747474746,null,null,{"$f":"cálculos2!O69","v":5},0.5,{"$f":"cálculos2!P69","v":3},0.75]
["Central","São Roque do Canaã",122,40,47,1.175,44,1.1000000000000001,24,0.6,23,0.57499999999999996,14,0.35,16,0.4,22,0.55000000000000004,34,0.85,1,2.5000000000000001E-2,14,0.35,33,0.82499999999999996,19,0.47499999999999998,null,null,{"$f":"cálculos2!O70","v":1},0.1,{"$f":"cálculos2!P70","v":0},0]
["Metropolitana","Serra",7403,1921,1754,0.91306611140031235,1710,0.89016137428422693,1618,0.8422696512233212,1632,0.84955752212389379,1549,0.8063508589276418,1522,0.79229567933368039,1499,0.78032274856845396,1329,0.691827173347215,18,9.3701197293076521E-3,978,0.50910983862571579,1558,0.81103591879229564,693,0.36074960957834462,null,null,{"$f":"cálculos2!O71","v":0},0,{"$f":"cálculos2!P71","v":0},0]
["Central","Sooretama",432,110,94,0.8545454545454545,91,0.82727272727272727,100,0.90909090909090906,102,0.92727272727272725,93,0.84545454545454546,88,0.8,81,0.73636363636363633,80,0.72727272727272729,0,0,86,0.78181818181818186,89,0.80909090909090908,61,0.55454545454545456,null,null,{"$f":"cálculos2!O72","v":0},0,{"$f":"cálculos2!P72","v":0},0]
["Sul","Vargem Alta",258,64,62,0.96875,59,0.921875,59,0.921875,58,0.90625,59,0.921875,58,0.90625,61,0.953125,55,0.859375,1,1.5625E-2,62,0.96875,69,1.078125,34,0.53125,null,null,{"$f":"cálculos2!O73","v":5},0.5,{"$f":"cálculos2!P73","v":1},0.25]
["Metropolitana","Venda Nova do Imigrante",382,82,23,0.28048780487804881,74,0.90243902439024393,94,1.1463414634146341,94,1.1463414634146341,87,1.0609756097560976,87,1.0609756097560976,93,1.1341463414634145,102,1.2439024390243902,0,0,62,0.75609756097560976,96,1.1707317073170731,41,0.5,null,null,{"$f":"cálculos2!O74","v":8},0.8,{"$f":"cálculos2!P74","v":4},1]
["Metropolitana","Viana",989,241,195,0.8091286307053942,190,0.78838174273858919,230,0.9543568464730291,225,0.93360995850622408,226,0.93775933609958506,212,0.8796680497925311,216,0.89626556016597514,175,0.72614107883817425,4,1.6597510373443983E-2,154,0.63900414937759331,227,0.94190871369294604,76,0.31535269709543567,null,null,{"$f":"cálculos2!O75","v":1},0.1,{"$f":"cálculos2!P75","v":1},0.25]
["Norte","Vila Pavão",99,21,22,1.0476190476190477,25,1.1904761904761905,24,1.1428571428571428,24,1.1428571428571428,22,1.0476190476190477,21,1,22,1.0476190476190477,28,1.3333333333333333,0,0,18,0.8571428571428571,25,1.1904761904761905,19,0.90476190476190477,null,null,{"$f":"cálculos2!O76","v":8},0.8,{"$f":"cálculos2!P76","v":4},1]
["Central","Vila Valério",694,54,52,0.96296296296296291,58,1.0740740740740742,52,0.96296296296296291,53,0.98148148148148151,45,0.83333333333333337,48,0.88888888888888884,44,0.81481481481481477,55,1.0185185185185186,0,0,32,0.59259259259259256,46,0.85185185185185186,44,0.81481481481481477,null,null,{"$f":"cálculos2!O77","v":4},0.4,{"$f":"cálculos2!P77","v":2},0.5]
["Metropolitana","Vila Velha",5621,1472,1211,0.82269021739130432,1165,0.79144021739130432,1170,0.79483695652173914,1165,0.79144021739130432,1144,0.77717391304347827,1165,0.79144021739130432,1155,0.78464673913043481,990,0.67255434782608692,24,1.6304347826086956E-2,692,0.47010869565217389,1194,0.81114130434782605,662,0.44972826086956524,null,null,{"$f":"cálculos2!O78","v":0},0,{"$f":"cálculos2!P78","v":0},0]
["Metropolitana","Vitória",6999,910,1041,1.1439560439560439,1093,1.2010989010989011,805,0.88461538461538458,805,0.88461538461538458,700,0.76923076923076927,729,0.80109890109890114,750,0.82417582417582413,633,0.69560439560439558,25,2.7472527472527472E-2,702,0.77142857142857146,727,0.79890109890109895,426,0.46813186813186813,null,null,{"$f":"cálculos2!O79","v":1},0.1,{"$f":"cálculos2!P79","v":0},0]
[]
[null,"Total Norte",{"$f":"SUMIF($A$3:$A$80,\"Norte\",C$3:C$80)","v":5655},{"$f":"SUMIF($A$3:$A$80,\"Norte\",D$3:D$80)","v":1273},{"$f":"SUMIF($A$3:$A$80,\"Norte\",E$3:E$80)","v":1188},{"$f":"E82/D82","v":0.9332285938727416},{"$f":"SUMIF($A$3:$A$80,\"Norte\",G$3:G$80)","v":1266},{"$f":"G82/D82","v":0.9945011783189317},{"$f":"SUMIF($A$3:$A$80,\"Norte\",I$3:I$80)","v":1428},{"$f":"I82/D82","v":1.1217596229379418},{"$f":"SUMIF($A$3:$A$80,\"Norte\",K$3:K$80)","v":1450},{"$f":"K82/D82","v":1.1390416339355853},{"$f":"SUMIF($A$3:$A$80,\"Norte\",M$3:M$80)","v":1316},{"$f":"M82/D82","v":1.0337784760408484},{"$f":"SUMIF($A$3:$A$80,\"Norte\",O$3:O$80)","v":1271},{"$f":"O82/D82","v":0.99842890809112328},{"$f":"SUMIF($A$3:$A$80,\"Norte\",Q$3:Q$80)","v":1216},{"$f":"Q82/D82","v":0.95522388059701491},{"$f":"SUMIF($A$3:$A$80,\"Norte\",S$3:S$80)","v":1266},{"$f":"S82/D82","v":0.9945011783189317},{"$f":"SUMIF($A$3:$A$80,\"Norte\",U$3:U$80)","v":2},{"$f":"U82/D82","v":1.5710919088766694E-3},{"$f":"SUMIF($A$3:$A$80,\"Norte\",W$3:W$80)","v":999},{"$f":"W82/D82","v":0.78476040848389628},{"$f":"SUMIF($A$3:$A$80,\"Norte\",Y$3:Y$80)","v":1296},{"$f":"Y82/D82","v":1.0180675569520816},{"$f":"SUMIF($A$3:$A$80,\"Norte\",AA$3:AA$80)","v":825},{"$f":"AA82/D82","v":0.64807541241162603},null,null,{"$f":"cálculos1!O81","v":6},0.60000000000000009,{"$f":"cálculos1!P81","v":4},1]
[null,"Total Central",{"$f":"SUMIF($A$3:$A$80,\"Central\",C$3:C$80)","v":7463},{"$f":"SUMIF($A$3:$A$80,\"Central\",D$3:D$80)","v":1662},{"$f":"SUMIF($A$3:$A$80,\"Central\",E$3:E$80)","v":1569},{"$f":"E83/D83","v":0.94404332129963897},{"$f":"SUMIF($A$3:$A$80,\"Central\",G$3:G$80)","v":1589},{"$f":"G83/D83","v":0.95607701564380265},{"$f":"SUMIF($A$3:$A$80,\"Central\",I$3:I$80)","v":1664},{"$f":"I83/D83","v":1.0012033694344165},{"$f":"SUMIF($A$3:$A$80,\"Central\",K$3:K$80)","v":1649},{"$f":"K83/D83","v":0.99217809867629359},{"$f":"SUMIF($A$3:$A$80,\"Central\",M$3:M$80)","v":1509},{"$f":"M83/D83","v":0.90794223826714804},{"$f":"SUMIF($A$3:$A$80,\"Central\",O$3:O$80)","v":1532},{"$f":"O83/D83","v":0.92178098676293618},{"$f":"SUMIF($A$3:$A$80,\"Central\",Q$3:Q$80)","v":1515},{"$f":"Q83/D83","v":0.91155234657039708},{"$f":"SUMIF($A$3:$A$80,\"Central\",S$3:S$80)","v":1434},{"$f":"S83/D83","v":0.86281588447653434},{"$f":"SUMIF($A$3:$A$80,\"Central\",U$3:U$80)","v":11},{"$f":"U83/D83","v":6.6185318892900118E-3},{"$f":"SUMIF($A$3:$A$80,\"Central\",W$3:W$80)","v":1005},{"$f":"W83/D83","v":0.60469314079422387},{"$f":"SUMIF($A$3:$A$80,\"Central\",Y$3:Y$80)","v":1573},{"$f":"Y83/D83","v":0.94645006016847177},{"$f":"SUMIF($A$3:$A$80,\"Central\",AA$3:AA$80)","v":1029},{"$f":"AA83/D83","v":0.61913357400722024},null,null,{"$f":"cálculos1!O82","v":4},0.4,{"$f":"cálculos1!P82","v":2},0.5]
[null,"Total Metropolitana",{"$f":"SUMIF($A$3:$A$80,\"Metropolitana\",C$3:C$80)","v":33141},{"$f":"SUMIF($A$3:$A$80,\"Metropolitana\",D$3:D$80)","v":7490},{"$f":"SUMIF($A$3:$A$80,\"Metropolitana\",E$3:E$80)","v":6630},{"$f":"E84/D84","v":0.88518024032042719},{"$f":"SUMIF($A$3:$A$80,\"Metropolitana\",G$3:G$80)","v":6759},{"$f":"G84/D84","v":0.9024032042723632},{"$f":"SUMIF($A$3:$A$80,\"Metropolitana\",I$3:I$80)","v":6577},{"$f":"I84/D84","v":0.87810413885180238},{"$f":"SUMIF($A$3:$A$80,\"Metropolitana\",K$3:K$80)","v":6527},{"$f":"K84/D84","v":0.87142857142857144},{"$f":"SUMIF($A$3:$A$80,\"Metropolitana\",M$3:M$80)","v":6415},{"$f":"M84/D84","v":0.8564753004005341},{"$f":"SUMIF($A$3:$A$80,\"Metropolitana\",O$3:O$80)","v":6323},{"$f":"O84/D84","v":0.84419225634178907},{"$f":"SUMIF($A$3:$A$80,\"Metropolitana\",Q$3:Q$80)","v":6326},{"$f":"Q84/D84","v":0.84459279038718293},{"$f":"SUMIF($A$3:$A$80,\"Metropolitana\",S$3:S$80)","v":5610},{"$f":"S84/D84","v":0.74899866488651534},{"$f":"SUMIF($A$3:$A$80,\"Metropolitana\",U$3:U$80)","v":117},{"$f":"U84/D84","v":1.5620827770360481E-2},{"$f":"SUMIF($A$3:$A$80,\"Metropolitana\",W$3:W$80)","v":4647},{"$f":"W84/D84","v":0.62042723631508678},{"$f":"SUMIF($A$3:$A$80,\"Metropolitana\",Y$3:Y$80)","v":6665},{"$f":"Y84/D84","v":0.88985313751668893},{"$f":"SUMIF($A$3:$A$80,\"Metropolitana\",AA$3:AA$80)","v":3454},{"$f":"AA84/D84","v":0.46114819759679571},null,null,{"$f":"cálculos1!O83","v":1},0.1,{"$f":"cálculos1!P83","v":0},0]
[null,"Total Sul",{"$f":"SUMIF($A$3:$A$80,\"sul\",C$3:C$80)","v":8419},{"$f":"SUMIF($A$3:$A$80,\"sul\",D$3:D$80)","v":2085},{"$f":"SUMIF($A$3:$A$80,\"Sul\",E$3:E$80)","v":1888},{"$f":"E85/D85","v":0.90551558752997607},{"$f":"SUMIF($A$3:$A$80,\"Sul\",G$3:G$80)","v":1885},{"$f":"G85/D85","v":0.90407673860911275},{"$f":"SUMIF($A$3:$A$80,\"Sul\",I$3:I$80)","v":1995},{"$f":"I85/D85","v":0.95683453237410077},{"$f":"SUMIF($A$3:$A$80,\"Sul\",K$3:K$80)","v":1999},{"$f":"K85/D85","v":0.95875299760191846},{"$f":"SUMIF($A$3:$A$80,\"Sul\",M$3:M$80)","v":2020},{"$f":"M85/D85","v":0.9688249400479616},{"$f":"SUMIF($A$3:$A$80,\"Sul\",O$3:O$80)","v":1949},{"$f":"O85/D85","v":0.93477218225419667},{"$f":"SUMIF($A$3:$A$80,\"Sul\",Q$3:Q$80)","v":1926},{"$f":"Q85/D85","v":0.92374100719424457},{"$f":"SUMIF($A$3:$A$80,\"Sul\",S$3:S$80)","v":1757},{"$f":"S85/D85","v":0.8426858513189448},{"$f":"SUMIF($A$3:$A$80,\"Sul\",U$3:U$80)","v":19},{"$f":"U85/D85","v":9.1127098321342921E-3},{"$f":"SUMIF($A$3:$A$80,\"Sul\",W$3:W$80)","v":1572},{"$f":"W85/D85","v":0.75395683453237405},{"$f":"SUMIF($A$3:$A$80,\"Sul\",Y$3:Y$80)","v":2183},{"$f":"Y85/D85","v":1.0470023980815348},{"$f":"SUMIF($A$3:$A$80,\"Sul\",AA$3:AA$80)","v":856},{"$f":"AA85/D85","v":0.41055155875299759},null,null,{"$f":"cálculos1!O84","v":6},0.60000000000000009,{"$f":"cálculos1!P84","v":4},1]
[null,"Total Espírito Santo",{"$f":"SUM(C3:C80)","v":54678},{"$f":"SUM(D3:D80)","v":12510},{"$f":"SUM(E82:E85)","v":11275},{"$f":"E86/D86","v":0.90127897681854519},{"$f":"SUM(G82:G85)","v":11499},{"$f":"G86/D86","v":0.91918465227817747},{"$f":"SUM(I82:I85)","v":11664},{"$f":"I86/D86","v":0.9323741007194245},{"$f":"SUM(K82:K85)","v":11625},{"$f":"K86/D86","v":0.92925659472422062},{"$f":"SUM(M82:M85)","v":11260},{"$f":"M86/D86","v":0.9000799360511591},{"$f":"SUM(O82:O85)","v":11075},{"$f":"O86/D86","v":0.88529176658673059},{"$f":"SUM(Q82:Q85)","v":10983},{"$f":"Q86/D86","v":0.87793764988009593},{"$f":"SUM(S82:S85)","v":10067},{"$f":"S86/D86","v":0.8047162270183853},{"$f":"SUM(U82:U85)","v":149},{"$f":"U86/D86","v":1.1910471622701839E-2},{"$f":"SUM(W82:W85)","v":8223},{"$f":"W86/D86","v":0.6573141486810552},{"$f":"SUM(Y82:Y85)","v":11717},{"$f":"Y86/D86","v":0.93661071143085528},{"$f":"SUM(AA82:AA85)","v":6164},{"$f":"AA86/D86","v":0.49272581934452436},null,null,{"$f":"cálculos1!O85","v":1},0.1,{"$f":"cálculos1!P85","v":0},0]
[null,null,null,null,{"$f":"COUNTIF(F3:F80,\">=0,95\")","v":27},null,{"$f":"COUNTIF(H3:H80,\">=0,9\")","v":38},null,{"$f":"COUNTIF(J3:J80,\">=0,95\")","v":49},null,{"$f":"COUNTIF(L3:L80,\">=0,95\")","v":46},null,{"$f":"COUNTIF(N3:N80,\">=0,95\")","v":41},null,{"$f":"COUNTIF(P3:P80,\">=0,9\")","v":46},null,{"$f":"COUNTIF(R3:R80,\">=0,95\")","v":38},null,{"$f":"COUNTIF(T3:T80,\">=0,95\")","v":41},null,{"$f":"COUNTIF(V3:V80,\">=0,95\")","v":0},null,{"$f":"COUNTIF(X3:X80,\">=0,95\")","v":16},null,{"$f":"COUNTIF(Z3:Z80,\">=0,95\")","v":47},null,{"$f":"COUNTIF(AB3:AB80,\">=0,95\")","v":5}]
[null,"HOMOGENEIDADE ENTRE MUNICÍPIOS",null,null,{"$f":"E87/78","v":0.34615384615384615},null,{"$f":"G87/78","v":0.48717948717948717},null,{"$f":"I87/78","v":0.62820512820512819},null,{"$f":"K87/78","v":0.58974358974358976},null,{"$f":"M87/78","v":0.52564102564102566},null,{"$f":"O87/78","v":0.58974358974358976},null,{"$f":"Q87/78","v":0.48717948717948717},null,{"$f":"S87/78","v":0.52564102564102566},null,{"$f":"U87/78","v":0},null,{"$f":"W87/78","v":0.20512820512820512},null,{"$f":"Y87/78","v":0.60256410256410253},null,{"$f":"AA87/78","v":6.4102564102564097E-2}]
[]
[" FonteVacina e Confia, em 04 de Abril de 2024.**"]
["**Dados referente às doses aplicadas no período de Março de 2024"]
["Cobertura Calculada por município de residência do cidadão (no Vacina e Confia, a origem da informação é o endereço que consta no cadastro do cidadão preenchido manualmente por meio do autocadastro ou pelo cadastro realizado por um profissional de saúde no momento do atendimento)."]
[]
["1 População anual extraída do MS/SVS/DASIS - SINASC/DASIS/SVS/MS 2023 (hoje preliminares) referente ao período de fevereiro a dezembro de 2023 e SINASC/DASIS/SVS/MS 2024 referente ao período de janeiro de 2024."]
[]
["² População proporcional extraída do MS/SVS/DASIS - SINASC/DASIS/SVS/MS 2023 (hoje preliminares) referente ao período de fevereiro e março de 2023 somada a população extraída do SINASC/DASIS/SVS/MS 2024 referente ao período de janeiro de 2024."]
[]
["Observações:"]
["Imunobiológicos que foram recebidos parcialmente pelo estado no mês da análise, sendo distribuídos em quantidades reduzidas às regionais e municípios: Varicela, Febre Amarela e HPV Quadrivalente."]
["Imunobiológicos que não foram recebidos pelo estado no mês da análise, não sendo possível a distribuição às regionais e municípios: Meningo C, Hepatite A (CRIE), HIB, Hepatite A Rotina Pediátrica, DTPa (CRIE)."]
["Imunobiológicos com indisponibilidade de aquisição e distribuição no mês da análise: Tetra Viral."]

{"sheet":"CV REF 1A e 4A - procedência","index":2,"n_rows":101,"n_cols":24,"rows_kept":101,"cut":false,"hidden":false,"merged":[[94,0,94,12],[92,0,93,12],[0,18,0,23],[89,0,89,12],[91,0,91,12],[90,0,90,12],[0,10,0,17],[0,6,0,9]]}
[null,null,null,null,null,null,"D2",null,null,null,"REFORÇOS 1 ANO",null,null,null,null,null,null,null,"REFORÇOS 4 ANOS"]
["Regional ","Município","¹População 1 ano anual ","²População 1 ano proporcional ","³População 4 anos anual ","³População 4 anos proporcional ","DOSES APLICADAS D2 TRÍPLICE VIRAL","COBERTURA D2 TRÍPLICE VIRAL","DOSES APLICADAS D2 VARICELA","COBERTURA D2 VARICELA","DOSES APLICADAS REF PNEUMO ","COBERTURA REF PNEUMO","DOSES APLICADAS REF MENINGO","COBERTURA REF MENINGO","DOSES APLICADAS R1 POLIO","COBERTURA R1 POLIO","DOSES APLICADAS R1 TRÍPLICE BACTERIANA","COBERTURA R1 TRÍPLICE BACTERIANA","DOSES APLICADAS REF FEBRE AMARELA","COBERTURA REF FEBRE AMARELA","DOSES APLICADAS R2 POLIO","COBERTURA R2 POLIO","DOSES APLICADAS R2 TRÍPLICE BACTERIANA","COBERTURA R2 TRÍPLICE BACTERIANA"]
["Metropolitana","Afonso Cláudio",396,110,416,{"$f":"E3/12*3","v":104},77,{"$f":"G3/D3","v":0.7},55,{"$f":"I3/F3","v":0.52884615384615385},103,{"$f":"K3/D3","v":0.9363636363636364},102,{"$f":"M3/D3","v":0.92727272727272725},83,{"$f":"O3/D3","v":0.75454545454545452},81,{"$f":"Q3/D3","v":0.73636363636363633},59,{"$f":"S3/F3","v":0.56730769230769229},61,{"$f":"U3/F3","v":0.58653846153846156},62,{"$f":"W3/F3","v":0.59615384615384615}]
["Norte","Água Doce do Norte",157,33,151,{"$f":"E4/12*3","v":37.75},29,0.87878787878787878,20,0.5298013245033113,35,1.0606060606060606,36,1.0909090909090908,31,0.93939393939393945,32,0.96969696969696972,29,0.76821192052980136,28,0.74172185430463577,28,0.74172185430463577]
["Central","Águia Branca",138,31,129,32.25,15,0.4838709677419355,13,0.40310077519379844,23,0.74193548387096775,23,0.74193548387096775,26,0.83870967741935487,27,0.87096774193548387,25,0.77519379844961245,28,0.86821705426356588,29,0.89922480620155043]
["Sul","Alegre",335,78,372,93,55,0.70512820512820518,52,0.55913978494623651,71,0.91025641025641024,68,0.87179487179487181,62,0.79487179487179482,57,0.73076923076923073,66,0.70967741935483875,78,0.83870967741935487,81,0.87096774193548387]
["Sul","Alfredo Chaves",154,40,138,34.5,24,0.6,17,0.49275362318840582,36,0.9,36,0.9,31,0.77500000000000002,31,0.77500000000000002,17,0.49275362318840582,16,0.46376811594202899,19,0.55072463768115942]
["Central","Alto Rio Novo",90,24,102,25.5,19,0.79166666666666663,13,0.50980392156862742,23,0.95833333333333337,23,0.95833333333333337,25,1.0416666666666667,22,0.91666666666666663,12,0.47058823529411764,14,0.5490196078431373,14,0.5490196078431373]
["Sul","Anchieta",377,84,390,97.5,69,0.8214285714285714,57,0.58461538461538465,98,1.1666666666666667,101,1.2023809523809523,82,0.97619047619047616,90,1.0714285714285714,87,0.89230769230769236,91,0.93333333333333335,89,0.9128205128205128]
["Sul","Apiacá",62,13,90,22.5,9,0.69230769230769229,20,0.88888888888888884,13,1,14,1.0769230769230769,9,0.69230769230769229,8,0.61538461538461542,3,0.13333333333333333,25,1.1111111111111112,23,1.0222222222222221]
["Metropolitana","Aracruz",1453,355,1420,355,341,0.96056338028169019,244,0.6873239436619718,397,1.1183098591549296,404,1.1380281690140845,346,0.9746478873239437,349,0.9830985915492958,234,0.6591549295774648,298,0.83943661971830985,311,0.87605633802816907]
["Sul","Atilio Vivacqua",140,37,138,34.5,31,0.83783783783783783,13,0.37681159420289856,39,1.0540540540540539,40,1.0810810810810811,37,1,38,1.027027027027027,26,0.75362318840579712,28,0.81159420289855078,28,0.81159420289855078]
["Central","Baixo Guandu",364,76,427,106.75,83,1.0921052631578947,64,0.59953161592505855,108,1.4210526315789473,108,1.4210526315789473,98,1.2894736842105263,95,1.25,76,0.71194379391100704,103,0.96487119437939106,99,0.92740046838407497]
["Norte","Barra de São Francisco",510,122,589,147.25,115,0.94262295081967218,86,0.58404074702886244,132,1.0819672131147542,128,1.0491803278688525,113,0.92622950819672134,118,0.96721311475409832,109,0.74023769100169778,104,0.70628183361629882,105,0.71307300509337856]
["Norte","Boa Esperança",199,54,200,50,41,0.7592592592592593,26,0.52,53,0.98148148148148151,55,1.0185185185185186,49,0.90740740740740744,44,0.81481481481481477,28,0.56000000000000005,35,0.7,37,0.74]
["Sul","Bom Jesus do Norte",81,14,146,36.5,25,1.7857142857142858,7,0.19178082191780821,35,2.5,35,2.5,27,1.9285714285714286,27,1.9285714285714286,19,0.52054794520547942,28,0.76712328767123283,25,0.68493150684931503]
["Metropolitana","Brejetuba",195,39,169,42.25,49,1.2564102564102564,39,0.92307692307692313,41,1.0512820512820513,45,1.1538461538461537,45,1.1538461538461537,47,1.2051282051282051,48,1.136094674556213,51,1.2071005917159763,49,1.1597633136094674]
["Sul","Cachoeiro de Itapemirim",2446,639,2417,604.25,422,0.66040688575899842,247,0.40877120397186595,605,0.94679186228482004,632,0.98904538341158055,550,0.86071987480438183,535,0.83724569640062596,389,0.64377327265204798,452,0.74803475382705831,463,0.76623913942904431]
["Metropolitana","Cariacica",4835,1168,5005,1251.25,699,0.59845890410958902,715,0.5714285714285714,1155,0.98886986301369861,1196,1.023972602739726,955,0.81763698630136983,955,0.81763698630136983,927,0.74085914085914084,1208,0.96543456543456541,1184,0.94625374625374625]
["Sul","Castelo",452,125,399,99.75,73,0.58399999999999996,43,0.43107769423558895,123,0.98399999999999999,126,1.008,94,0.752,94,0.752,52,0.52130325814536338,65,0.65162907268170422,66,0.66165413533834583]
["Central","Colatina",1530,360,1561,390.25,227,0.63055555555555554,158,0.4048686739269699,302,0.83888888888888891,325,0.90277777777777779,262,0.72777777777777775,270,0.75,136,0.34849455477258168,209,0.535554131966688,213,0.54580397181294038]
["Norte","Conceição da Barra",373,88,391,97.75,85,0.96590909090909094,67,0.68542199488491051,87,0.98863636363636365,88,1,87,0.98863636363636365,84,0.95454545454545459,84,0.85933503836317138,96,0.98209718670076729,102,1.0434782608695652]
["Metropolitana","Conceição do Castelo",152,29,144,36,32,1.103448275862069,9,0.25,20,0.68965517241379315,21,0.72413793103448276,34,1.1724137931034482,33,1.1379310344827587,20,0.55555555555555558,17,0.47222222222222221,18,0.5]
["Sul","Divino de São Lourenço",57,9,68,17,14,1.5555555555555556,10,0.58823529411764708,10,1.1111111111111112,10,1.1111111111111112,16,1.7777777777777777,15,1.6666666666666667,28,1.6470588235294117,20,1.1764705882352942,20,1.1764705882352942]
["Metropolitana","Domingos Martins",407,94,411,102.75,104,1.1063829787234043,80,0.77858880778588813,104,1.1063829787234043,94,1,105,1.1170212765957446,108,1.1489361702127661,76,0.73965936739659366,94,0.91484184914841848,95,0.92457420924574207]
["Sul","Dores do Rio Preto",95,28,92,23,12,0.42857142857142855,11,0.47826086956521741,26,0.9285714285714286,26,0.9285714285714286,19,0.6785714285714286,17,0.6071428571428571,14,0.60869565217391308,18,0.78260869565217395,19,0.82608695652173914]
["Norte","Ecoporanga",226,48,283,70.75,60,1.25,45,0.63604240282685509,56,1.1666666666666667,59,1.2291666666666667,55,1.1458333333333333,55,1.1458333333333333,46,0.65017667844522964,48,0.67844522968197885,49,0.69257950530035339]
["Metropolitana","Fundão",217,58,218,54.5,47,0.81034482758620685,41,0.75229357798165142,45,0.77586206896551724,45,0.77586206896551724,54,0.93103448275862066,53,0.91379310344827591,27,0.49541284403669728,37,0.67889908256880738,35,0.64220183486238536]
["Central","Governador Lindenberg",145,27,142,35.5,24,0.88888888888888884,25,0.70422535211267601,32,1.1851851851851851,34,1.2592592592592593,27,1,27,1,22,0.61971830985915488,25,0.70422535211267601,25,0.70422535211267601]
["Sul","Guaçuí",375,78,407,101.75,90,1.1538461538461537,29,0.28501228501228504,103,1.3205128205128205,110,1.4102564102564104,88,1.1282051282051282,80,1.0256410256410255,72,0.70761670761670759,65,0.63882063882063878,61,0.59950859950859947]
["Metropolitana","Guarapari",1759,452,1557,389.25,273,0.60398230088495575,175,0.449582530507386,393,0.86946902654867253,396,0.87610619469026552,332,0.73451327433628322,359,0.79424778761061943,267,0.68593448940269752,307,0.78869621066152862,344,0.88375080282594731]
["Metropolitana","Ibatiba",341,66,354,88.5,58,0.87878787878787878,38,0.42937853107344631,85,1.2878787878787878,86,1.303030303030303,81,1.2272727272727273,82,1.2424242424242424,65,0.7344632768361582,73,0.82485875706214684,74,0.83615819209039544]
["Metropolitana","Ibiraçu",147,41,160,40,15,0.36585365853658536,23,0.57499999999999996,31,0.75609756097560976,32,0.78048780487804881,17,0.41463414634146339,17,0.41463414634146339,24,0.6,25,0.625,26,0.65]
["Sul","Ibitirama",122,27,148,37,24,0.88888888888888884,7,0.1891891891891892,34,1.2592592592592593,36,1.3333333333333333,27,1,25,0.92592592592592593,9,0.24324324324324326,14,0.3783783783783784,11,0.29729729729729731]
["Sul","Iconha",123,36,156,39,31,{"$f":"G35/D35","v":0.86111111111111116},6,{"$f":"I35/F35","v":0.15384615384615385},43,{"$f":"K35/D35","v":1.1944444444444444},43,{"$f":"M35/D35","v":1.1944444444444444},26,{"$f":"O35/D35","v":0.72222222222222221},26,{"$f":"Q35/D35","v":0.72222222222222221},30,{"$f":"S35/F35","v":0.76923076923076927},30,{"$f":"U35/F35","v":0.76923076923076927},28,{"$f":"W35/F35","v":0.71794871794871795}]
["Sul","Irupi",196,47,200,50,35,0.74468085106382975,26,0.52,69,1.4680851063829787,70,1.4893617021276595,43,0.91489361702127658,43,0.91489361702127658,49,0.98,40,0.8,44,0.88]
["Metropolitana","Itaguaçu",131,30,154,38.5,44,1.4666666666666666,21,0.54545454545454541,33,1.1000000000000001,36,1.2,38,1.2666666666666666,35,1.1666666666666667,25,0.64935064935064934,25,0.64935064935064934,24,0.62337662337662336]
["Sul","Itapemirim",571,142,556,139,79,0.55633802816901412,55,0.39568345323741005,117,0.823943661971831,125,0.88028169014084512,96,0.676056338028169,104,0.73239436619718312,54,0.38848920863309355,73,0.52517985611510787,73,0.52517985611510787]
["Metropolitana","Itarana",135,33,128,32,22,0.66666666666666663,27,0.84375,30,0.90909090909090906,30,0.90909090909090906,25,0.75757575757575757,26,0.78787878787878785,24,0.75,27,0.84375,27,0.84375]
["Sul","Iúna",469,103,410,102.5,80,0.77669902912621358,63,0.61463414634146341,121,1.174757281553398,126,1.2233009708737863,91,0.88349514563106801,90,0.87378640776699024,78,0.76097560975609757,97,0.9463414634146341,107,1.0439024390243903]
["Norte","Jaguaré",492,114,445,111.25,100,0.8771929824561403,50,0.449438202247191,100,0.8771929824561403,99,0.86842105263157898,99,0.86842105263157898,110,0.96491228070175439,73,0.65617977528089888,88,0.79101123595505618,112,1.0067415730337079]
["Sul","Jerônimo Monteiro",163,41,157,39.25,29,0.70731707317073167,9,0.22929936305732485,39,0.95121951219512191,39,0.95121951219512191,35,0.85365853658536583,35,0.85365853658536583,26,0.66242038216560506,23,0.5859872611464968,25,0.63694267515923564]
["Metropolitana","João Neiva",179,41,142,35.5,28,0.68292682926829273,18,0.50704225352112675,46,1.1219512195121952,50,1.2195121951219512,33,0.80487804878048785,33,0.80487804878048785,24,0.676056338028169,26,0.73239436619718312,25,0.70422535211267601]
["Metropolitana","Laranja da Terra",100,25,133,33.25,19,0.76,21,0.63157894736842102,42,1.68,42,1.68,18,0.72,17,0.68,15,0.45112781954887216,20,0.60150375939849621,20,0.60150375939849621]
["Central","Linhares",2585,648,2452,613,433,0.66820987654320985,284,0.4632952691680261,480,0.7407407407407407,469,0.72376543209876543,472,0.72839506172839508,505,0.77932098765432101,358,0.58401305057096253,483,0.78792822185970635,512,0.83523654159869498]
["Central","Mantenópolis",152,34,166,41.5,31,0.91176470588235292,17,0.40963855421686746,41,1.2058823529411764,35,1.0294117647058822,36,1.0588235294117647,36,1.0588235294117647,18,0.43373493975903615,27,0.6506024096385542,27,0.6506024096385542]
["Sul","Marataízes",570,156,579,144.75,94,0.60256410256410253,63,0.43523316062176165,152,0.97435897435897434,152,0.97435897435897434,120,0.76923076923076927,135,0.86538461538461542,68,0.46977547495682209,119,0.82210708117443865,124,0.85664939550949915]
["Metropolitana","Marechal Floriano",235,65,236,59,42,0.64615384615384619,28,0.47457627118644069,53,0.81538461538461537,51,0.7846153846153846,44,0.67692307692307696,42,0.64615384615384619,28,0.47457627118644069,30,0.50847457627118642,28,0.47457627118644069]
["Central","Marilândia",160,28,164,41,30,1.0714285714285714,21,0.51219512195121952,33,1.1785714285714286,33,1.1785714285714286,29,1.0357142857142858,29,1.0357142857142858,26,0.63414634146341464,21,0.51219512195121952,21,0.51219512195121952]
["Sul","Mimoso do Sul",258,56,276,69,24,0.42857142857142855,46,0.66666666666666663,54,0.9642857142857143,56,1,39,0.6964285714285714,40,0.7142857142857143,49,0.71014492753623193,54,0.78260869565217395,54,0.78260869565217395]
["Norte","Montanha",254,55,278,69.5,60,1.0909090909090908,42,0.60431654676258995,62,1.1272727272727272,64,1.1636363636363636,60,1.0909090909090908,63,1.1454545454545455,52,0.74820143884892087,62,0.8920863309352518,63,0.90647482014388492]
["Norte","Mucurici",72,12,97,24.25,10,0.83333333333333337,11,0.45360824742268041,20,1.6666666666666667,20,1.6666666666666667,9,0.75,9,0.75,12,0.49484536082474229,14,0.57731958762886593,14,0.57731958762886593]
["Sul","Muniz Freire",211,43,275,68.75,53,1.2325581395348837,13,0.18909090909090909,70,1.6279069767441861,69,1.6046511627906976,53,1.2325581395348837,53,1.2325581395348837,58,0.84363636363636363,60,0.87272727272727268,56,0.81454545454545457]
["Sul","Muqui",172,44,152,38,27,0.61363636363636365,20,0.52631578947368418,39,0.88636363636363635,36,0.81818181818181823,27,0.61363636363636365,27,0.61363636363636365,22,0.57894736842105265,21,0.55263157894736847,21,0.55263157894736847]
["Norte","Nova Venécia",681,163,656,164,153,0.93865030674846628,77,0.46951219512195119,160,0.98159509202453987,161,0.98773006134969321,137,0.8404907975460123,149,0.91411042944785281,104,0.63414634146341464,118,0.71951219512195119,121,0.73780487804878048]
["Central","Pancas",208,42,244,61,53,1.2619047619047619,32,0.52459016393442626,49,1.1666666666666667,51,1.2142857142857142,60,1.4285714285714286,61,1.4523809523809523,34,0.55737704918032782,33,0.54098360655737709,34,0.55737704918032782]
["Norte","Pedro Canário",330,78,338,84.5,76,0.97435897435897434,57,0.67455621301775148,91,1.1666666666666667,92,1.1794871794871795,89,1.141025641025641,94,1.2051282051282051,72,0.85207100591715978,77,0.91124260355029585,80,0.94674556213017746]
["Norte","Pinheiros",322,70,383,95.75,46,0.65714285714285714,42,0.43864229765013057,64,0.91428571428571426,57,0.81428571428571428,53,0.75714285714285712,49,0.7,62,0.64751958224543082,75,0.78328981723237601,66,0.68929503916449086]
["Sul","Piúma",312,67,311,77.75,35,0.52238805970149249,32,0.41157556270096463,70,1.044776119402985,68,1.0149253731343284,60,0.89552238805970152,59,0.88059701492537312,40,0.51446945337620575,59,0.7588424437299035,64,0.82315112540192925]
["Norte","Ponto Belo",86,19,85,21.25,9,0.47368421052631576,7,0.32941176470588235,13,0.68421052631578949,13,0.68421052631578949,10,0.52631578947368418,9,0.47368421052631576,5,0.23529411764705882,7,0.32941176470588235,7,0.32941176470588235]
["Sul","Presidente Kennedy",192,57,239,59.75,46,0.80701754385964908,13,0.21757322175732219,64,1.1228070175438596,65,1.1403508771929824,48,0.84210526315789469,48,0.84210526315789469,48,0.80334728033472802,61,1.0209205020920502,59,0.9874476987447699]
["Central","Rio Bananal",304,77,229,57.25,70,0.90909090909090906,58,1.0131004366812226,80,1.0389610389610389,86,1.1168831168831168,71,0.92207792207792205,67,0.87012987012987009,57,0.99563318777292575,55,0.9606986899563319,55,0.9606986899563319]
["Sul","Rio Novo do Sul",129,34,144,36,26,0.76470588235294112,18,0.5,34,1,35,1.0294117647058822,30,0.88235294117647056,31,0.91176470588235292,16,0.44444444444444442,24,0.66666666666666663,24,0.66666666666666663]
["Metropolitana","Santa Leopoldina",108,32,155,38.75,19,0.59375,15,0.38709677419354838,38,1.1875,37,1.15625,22,0.6875,23,0.71875,16,0.41290322580645161,29,0.74838709677419357,32,0.82580645161290323]
["Metropolitana","Santa Maria de Jetibá",669,163,685,171.25,140,0.85889570552147243,41,0.23941605839416058,169,1.0368098159509203,179,1.0981595092024541,167,1.0245398773006136,159,0.97546012269938653,97,0.56642335766423357,129,0.75328467153284673,135,0.78832116788321172]
["Metropolitana","Santa Teresa",288,63,260,65,43,0.68253968253968256,40,0.61538461538461542,65,1.0317460317460319,72,1.1428571428571428,47,0.74603174603174605,43,0.68253968253968256,49,0.75384615384615383,48,0.7384615384615385,45,0.69230769230769229]
["Central","São Domingos do Norte",119,23,117,29.25,19,{"$f":"G67/D67","v":0.82608695652173914},16,{"$f":"I67/F67","v":0.54700854700854706},25,{"$f":"K67/D67","v":1.0869565217391304},24,{"$f":"M67/D67","v":1.0434782608695652},17,{"$f":"O67/D67","v":0.73913043478260865},17,{"$f":"Q67/D67","v":0.73913043478260865},23,{"$f":"S67/F67","v":0.78632478632478631},20,{"$f":"U67/F67","v":0.68376068376068377},21,{"$f":"W67/F67","v":0.71794871794871795}]
["Central","São Gabriel da Palha",420,88,426,{"$f":"E68/12*3","v":106.5},78,0.88636363636363635,67,0.62910798122065725,84,0.95454545454545459,87,0.98863636363636365,80,0.90909090909090906,79,0.89772727272727271,76,0.71361502347417838,72,0.676056338028169,74,0.69483568075117375]
["Sul","São José do Calçado",99,23,150,37.5,28,1.2173913043478262,11,0.29333333333333333,36,1.5652173913043479,36,1.5652173913043479,31,1.3478260869565217,29,1.2608695652173914,34,0.90666666666666662,36,0.96,34,0.90666666666666662]
["Norte","São Mateus",1854,396,1766,441.5,231,0.58333333333333337,233,0.52774631936579841,403,1.0176767676767677,364,0.91919191919191923,337,0.85101010101010099,336,0.84848484848484851,291,0.65911664779161949,356,0.80634201585503962,353,0.79954699886749714]
["Central","São Roque do Canaã",122,40,100,25,27,0.67500000000000004,30,1.2,33,0.82499999999999996,38,0.95,22,0.55000000000000004,21,0.52500000000000002,26,1.04,25,1,26,1.04]
["Metropolitana","Serra",7403,1921,7550,1887.5,1096,0.57053617907339926,798,0.42278145695364239,1526,0.79437792816241537,1526,0.79437792816241537,1376,0.71629359708485163,1389,0.72306090577824045,1427,0.75602649006622513,1592,0.84344370860927154,1577,0.83549668874172189]
["Central","Sooretama",432,110,415,103.75,79,0.71818181818181814,51,0.49156626506024098,89,0.80909090909090908,85,0.77272727272727271,93,0.84545454545454546,93,0.84545454545454546,103,0.9927710843373494,81,0.78072289156626506,89,0.85783132530120487]
["Sul","Vargem Alta",258,64,278,69.5,50,0.78125,33,0.47482014388489208,67,1.046875,66,1.03125,54,0.84375,56,0.875,49,0.70503597122302153,51,0.73381294964028776,52,0.74820143884892087]
["Metropolitana","Venda Nova do Imigrante",382,82,328,82,71,0.86585365853658536,34,0.41463414634146339,103,1.2560975609756098,107,1.3048780487804879,70,0.85365853658536583,72,0.87804878048780488,39,0.47560975609756095,41,0.5,45,0.54878048780487809]
["Metropolitana","Viana",989,241,1064,266,81,0.33609958506224069,114,0.42857142857142855,226,0.93775933609958506,229,0.950207468879668,162,0.67219917012448138,173,0.71784232365145229,168,0.63157894736842102,213,0.8007518796992481,218,0.81954887218045114]
["Norte","Vila Pavão",99,21,127,31.75,21,1,17,0.53543307086614178,25,1.1904761904761905,27,1.2857142857142858,24,1.1428571428571428,24,1.1428571428571428,20,0.62992125984251968,23,0.72440944881889768,22,0.69291338582677164]
["Central","Vila Valério",694,54,169,42.25,50,0.92592592592592593,32,0.75739644970414199,42,0.77777777777777779,41,0.7592592592592593,46,0.85185185185185186,54,1,42,0.99408284023668636,44,1.0414201183431953,44,1.0414201183431953]
["Metropolitana","Vila Velha",5621,1472,5675,1418.75,918,0.62364130434782605,663,0.4673127753303965,1151,0.78192934782608692,1210,0.82201086956521741,1012,0.6875,1003,0.68138586956521741,1031,0.72669603524229076,1128,0.79506607929515416,1093,0.77039647577092507]
["Metropolitana","Vitória",6999,910,3833,958.25,564,0.6197802197802198,509,0.53117662405426558,697,0.76593406593406599,799,0.87802197802197801,729,0.80109890109890114,726,0.79780219780219785,699,0.72945473519436477,797,0.83172449778241586,807,0.84216018784242108]
[]
[null,"Total Norte",{"$f":"SUMIF($A$3:$A$80,\"Norte\",C$3:C$80)","v":5655},{"$f":"SUMIF($A$3:$A$80,\"Norte\",D$3:D$80)","v":1273},{"$f":"SUMIF($A$3:$A$80,\"Norte\",E$3:E$80)","v":5789},{"$f":"SUMIF($A$3:$A$80,\"Norte\",F$3:F$80)","v":1447.25},{"$f":"SUMIF($A$3:$A$80,\"Norte\",G$3:G$80)","v":1036},{"$f":"G82/D82","v":0.81382560879811472},{"$f":"SUMIF($A$3:$A$80,\"Norte\",I$3:I$80)","v":780},{"$f":"I82/F82","v":0.5389531870789428},{"$f":"SUMIF($A$3:$A$80,\"Norte\",K$3:K$80)","v":1301},{"$f":"K82/D82","v":1.0219952867242734},{"$f":"SUMIF($A$3:$A$80,\"Norte\",M$3:M$80)","v":1263},{"$f":"M82/D82","v":0.99214454045561662},{"$f":"SUMIF($A$3:$A$80,\"Norte\",O$3:O$80)","v":1153},{"$f":"O82/D82","v":0.90573448546739987},{"$f":"SUMIF($A$3:$A$80,\"Norte\",Q$3:Q$80)","v":1176},{"$f":"Q82/D82","v":0.9238020424194815},{"$f":"SUMIF($A$3:$A$80,\"Norte\",S$3:S$80)","v":987},{"$f":"S82/F82","v":0.68198307134220071},{"$f":"SUMIF($A$3:$A$80,\"Norte\",U$3:U$80)","v":1131},{"$f":"U82/F82","v":0.78148212126446714},{"$f":"SUMIF($A$3:$A$80,\"Norte\",W$3:W$80)","v":1159},{"$f":"W82/F82","v":0.80082915874935223}]
[null,"Total Central",{"$f":"SUMIF($A$3:$A$80,\"Central\",C$3:C$80)","v":7463},{"$f":"SUMIF($A$3:$A$80,\"Central\",D$3:D$80)","v":1662},{"$f":"SUMIF($A$3:$A$80,\"Central\",E$3:E$80)","v":6843},{"$f":"SUMIF($A$3:$A$80,\"Central\",F$3:F$80)","v":1710.75},{"$f":"SUMIF($A$3:$A$80,\"Central\",G$3:G$80)","v":1238},{"$f":"G83/D83","v":0.74488567990373045},{"$f":"SUMIF($A$3:$A$80,\"Central\",I$3:I$80)","v":881},{"$f":"I83/F83","v":0.51497881046324712},{"$f":"SUMIF($A$3:$A$80,\"Central\",K$3:K$80)","v":1444},{"$f":"K83/D83","v":0.86883273164861607},{"$f":"SUMIF($A$3:$A$80,\"Central\",M$3:M$80)","v":1462},{"$f":"M83/D83","v":0.87966305655836341},{"$f":"SUMIF($A$3:$A$80,\"Central\",O$3:O$80)","v":1364},{"$f":"O83/D83","v":0.82069795427196146},{"$f":"SUMIF($A$3:$A$80,\"Central\",Q$3:Q$80)","v":1403},{"$f":"Q83/D83","v":0.84416365824308059},{"$f":"SUMIF($A$3:$A$80,\"Central\",S$3:S$80)","v":1034},{"$f":"S83/F83","v":0.60441326903404935},{"$f":"SUMIF($A$3:$A$80,\"Central\",U$3:U$80)","v":1240},{"$f":"U83/F83","v":0.72482829168493346},{"$f":"SUMIF($A$3:$A$80,\"Central\",W$3:W$80)","v":1283},{"$f":"W83/F83","v":0.74996346631594335}]
[null,"Total Metropolitana",{"$f":"SUMIF($A$3:$A$80,\"Metropolitana\",C$3:C$80)","v":33141},{"$f":"SUMIF($A$3:$A$80,\"Metropolitana\",D$3:D$80)","v":7490},{"$f":"SUMIF($A$3:$A$80,\"Metropolitana\",E$3:E$80)","v":30197},{"$f":"SUMIF($A$3:$A$80,\"Metropolitana\",F$3:F$80)","v":7549.25},{"$f":"SUMIF($A$3:$A$80,\"Metropolitana\",G$3:G$80)","v":4782},{"$f":"G84/D84","v":0.63845126835781041},{"$f":"SUMIF($A$3:$A$80,\"Metropolitana\",I$3:I$80)","v":3748},{"$f":"I84/F84","v":0.49647315958538929},{"$f":"SUMIF($A$3:$A$80,\"Metropolitana\",K$3:K$80)","v":6553},{"$f":"K84/D84","v":0.87489986648865159},{"$f":"SUMIF($A$3:$A$80,\"Metropolitana\",M$3:M$80)","v":6789},{"$f":"M84/D84","v":0.90640854472630172},{"$f":"SUMIF($A$3:$A$80,\"Metropolitana\",O$3:O$80)","v":5795},{"$f":"O84/D84","v":0.77369826435246991},{"$f":"SUMIF($A$3:$A$80,\"Metropolitana\",Q$3:Q$80)","v":5825},{"$f":"Q84/D84","v":0.77770360480640854},{"$f":"SUMIF($A$3:$A$80,\"Metropolitana\",S$3:S$80)","v":5389},{"$f":"S84/F84","v":0.71384574626618535},{"$f":"SUMIF($A$3:$A$80,\"Metropolitana\",U$3:U$80)","v":6276},{"$f":"U84/F84","v":0.83134086167500088},{"$f":"SUMIF($A$3:$A$80,\"Metropolitana\",W$3:W$80)","v":6274},{"$f":"W84/F84","v":0.83107593469549956}]
[null,"Total Sul",{"$f":"SUMIF($A$3:$A$80,\"sul\",C$3:C$80)","v":8419},{"$f":"SUMIF($A$3:$A$80,\"sul\",D$3:D$80)","v":2085},{"$f":"SUMIF($A$3:$A$80,\"sul\",E$3:E$80)","v":8688},{"$f":"SUMIF($A$3:$A$80,\"sul\",F$3:F$80)","v":2172},{"$f":"SUMIF($A$3:$A$80,\"sul\",G$3:G$80)","v":1485},{"$f":"G85/D85","v":0.71223021582733814},{"$f":"SUMIF($A$3:$A$80,\"sul\",I$3:I$80)","v":921},{"$f":"I85/F85","v":0.42403314917127072},{"$f":"SUMIF($A$3:$A$80,\"sul\",K$3:K$80)","v":2168},{"$f":"K85/D85","v":1.0398081534772183},{"$f":"SUMIF($A$3:$A$80,\"sul\",M$3:M$80)","v":2220},{"$f":"M85/D85","v":1.064748201438849},{"$f":"SUMIF($A$3:$A$80,\"sul\",O$3:O$80)","v":1795},{"$f":"O85/D85","v":0.86091127098321341},{"$f":"SUMIF($A$3:$A$80,\"sul\",Q$3:Q$80)","v":1793},{"$f":"Q85/D85","v":0.85995203836930456},{"$f":"SUMIF($A$3:$A$80,\"sul\",S$3:S$80)","v":1403},{"$f":"S85/F85","v":0.64594843462246776},{"$f":"SUMIF($A$3:$A$80,\"sul\",U$3:U$80)","v":1648},{"$f":"U85/F85","v":0.75874769797421726},{"$f":"SUMIF($A$3:$A$80,\"sul\",W$3:W$80)","v":1670},{"$f":"W85/F85","v":0.76887661141804786}]
[null,"Total Espírito Santo",{"$f":"SUM(C3:C80)","v":54678},{"$f":"SUM(D3:D80)","v":12510},{"$f":"SUM(E3:E80)","v":51517},{"$f":"SUM(F3:F80)","v":12879.25},{"$f":"SUM(G3:G80)","v":8541},{"$f":"G86/D86","v":0.68273381294964031},{"$f":"SUM(I3:I80)","v":6330},{"$f":"I86/F86","v":0.49148824659821028},{"$f":"SUM(K3:K80)","v":11466},{"$f":"K86/D86","v":0.91654676258992807},{"$f":"SUM(M3:M80)","v":11734},{"$f":"M86/D86","v":0.93796962430055952},{"$f":"SUM(O3:O80)","v":10107},{"$f":"O86/D86","v":0.80791366906474815},{"$f":"SUM(Q3:Q80)","v":10197},{"$f":"Q86/D86","v":0.81510791366906477},{"$f":"SUM(S3:S80)","v":8813},{"$f":"S86/F86","v":0.68427897587204223},{"$f":"SUM(U3:U80)","v":10295},{"$f":"U86/F86","v":0.7993477881087796},{"$f":"SUM(W3:W80)","v":10386},{"$f":"W86/F86","v":0.80641341693033364}]
[]
[]
[]
[" FonteVacina e Confia, em 04  de Abril de 2024.**"]
["**Dados referente às doses aplicadas no período de Março de 2024"]
["Cobertura Calculada por município de procedência da vacinação"]
["1 População anual extraída do MS/SVS/DASIS - SINASC/DASIS/SVS/MS 2023 (hoje preliminares) referente ao período de fevereiro a dezembro de 2023 e SINASC/DASIS/SVS/MS 2024 referente ao período de janeiro de 2024."]
[]
["² População proporcional extraída do MS/SVS/DASIS - SINASC/DASIS/SVS/MS 2023 (hoje preliminares) referente ao período de fevereiro e março de 2023 somada a população extraída do SINASC/DASIS/SVS/MS 2024 referente ao período de janeiro de 2024."]
["³ População anual e proporcional extraída do Censo IBGE 2022."]
[]
["Observações:"]
["Imunobiológicos que foram recebidos parcialmente pelo estado no mês da análise, sendo distribuídos em quantidades reduzidas às regionais e municípios: Varicela, Febre Amarela e HPV Quadrivalente."]
["Imunobiológicos que não foram recebidos pelo estado no mês da análise, não sendo possível a distribuição às regionais e municípios: Meningo C, Hepatite A (CRIE), HIB, Hepatite A Rotina Pediátrica, DTPa (CRIE)."]
["Imunobiológicos com indisponibilidade de aquisição e distribuição no mês da análise: Tetra Viral."]

{"sheet":"CV REF 1A e 4A - residência","index":3,"n_rows":102,"n_cols":24,"rows_kept":102,"cut":false,"hidden":false,"merged":[[95,0,95,12],[93,0,94,12],[91,0,92,12],[88,0,88,11],[0,18,0,23],[89,0,89,12],[90,0,90,12],[0,10,0,17],[0,6,0,9]]}
[null,null,null,null,null,null,"D2",null,null,null,"REFORÇOS 1 ANO",null,null,null,null,null,null,null,"REFORÇOS 4 ANOS"]
["Regional ","Município","¹População 1 ano anual ","²População 1 ano proporcional ","³População 4 anos anual ","³População 4 anos proporcional ","DOSES APLICADAS D2 TRÍPLICE VIRAL","COBERTURA D2 TRÍPLICE VIRAL","DOSES APLICADAS D2 VARICELA","COBERTURA D2 VARICELA","DOSES APLICADAS REF PNEUMO ","COBERTURA REF PNEUMO","DOSES APLICADAS REF MENINGO","COBERTURA REF MENINGO","DOSES APLICADAS R1 POLIO","COBERTURA R1 POLIO","DOSES APLICADAS R1 TRÍPLICE BACTERIANA","COBERTURA R1 TRÍPLICE BACTERIANA","DOSES APLICADAS REF FEBRE AMARELA","COBERTURA REF FEBRE AMARELA","DOSES APLICADAS R2 POLIO","COBERTURA R2 POLIO","DOSES APLICADAS R2 TRÍPLICE BACTERIANA","COBERTURA R2 TRÍPLICE BACTERIANA"]
["Metropolitana","Afonso Cláudio",396,110,416,{"$f":"E3/12*3","v":104},83,{"$f":"G3/D3","v":0.75454545454545452},58,{"$f":"I3/F3","v":0.55769230769230771},114,{"$f":"K3/D3","v":1.0363636363636364},112,{"$f":"M3/D3","v":1.0181818181818181},92,{"$f":"O3/D3","v":0.83636363636363631},92,{"$f":"Q3/D3","v":0.83636363636363631},61,{"$f":"S3/F3","v":0.58653846153846156},64,{"$f":"U3/F3","v":0.61538461538461542},66,{"$f":"W3/F3","v":0.63461538461538458}]
["Norte","Água Doce do Norte",157,33,151,{"$f":"E4/12*3","v":37.75},24,0.72727272727272729,19,0.50331125827814571,36,1.0909090909090908,35,1.0606060606060606,27,0.81818181818181823,28,0.84848484848484851,27,0.71523178807947019,26,0.6887417218543046,26,0.6887417218543046]
["Central","Águia Branca",138,31,129,32.25,18,0.58064516129032262,15,0.46511627906976744,26,0.83870967741935487,27,0.87096774193548387,27,0.87096774193548387,28,0.90322580645161288,22,0.68217054263565891,25,0.77519379844961245,26,0.80620155038759689]
["Sul","Alegre",335,78,372,93,55,0.70512820512820518,52,0.55913978494623651,74,0.94871794871794868,72,0.92307692307692313,61,0.78205128205128205,56,0.71794871794871795,71,0.76344086021505375,84,0.90322580645161288,86,0.92473118279569888]
["Sul","Alfredo Chaves",154,40,138,34.5,21,0.52500000000000002,19,0.55072463768115942,33,0.82499999999999996,35,0.875,31,0.77500000000000002,29,0.72499999999999998,20,0.57971014492753625,17,0.49275362318840582,20,0.57971014492753625]
["Central","Alto Rio Novo",90,24,102,25.5,14,0.58333333333333337,13,0.50980392156862742,23,0.95833333333333337,22,0.91666666666666663,18,0.75,15,0.625,15,0.58823529411764708,16,0.62745098039215685,15,0.58823529411764708]
["Sul","Anchieta",377,84,390,97.5,67,0.79761904761904767,60,0.61538461538461542,99,1.1785714285714286,102,1.2142857142857142,81,0.9642857142857143,87,1.0357142857142858,85,0.87179487179487181,92,0.94358974358974357,89,0.9128205128205128]
["Sul","Apiacá",62,13,90,22.5,4,0.30769230769230771,19,0.84444444444444444,10,0.76923076923076927,11,0.84615384615384615,4,0.30769230769230771,4,0.30769230769230771,4,0.17777777777777778,23,1.0222222222222221,22,0.97777777777777775]
["Metropolitana","Aracruz",1453,355,1420,355,316,0.89014084507042257,223,0.62816901408450709,389,1.095774647887324,401,1.1295774647887324,338,0.95211267605633798,337,0.94929577464788728,217,0.61126760563380278,283,0.79718309859154934,291,0.81971830985915495]
["Sul","Atilio Vivacqua",140,37,138,34.5,28,0.7567567567567568,12,0.34782608695652173,35,0.94594594594594594,35,0.94594594594594594,35,0.94594594594594594,36,0.97297297297297303,26,0.75362318840579712,28,0.81159420289855078,27,0.78260869565217395]
["Central","Baixo Guandu",364,76,427,106.75,84,1.1052631578947369,64,0.59953161592505855,103,1.3552631578947369,103,1.3552631578947369,96,1.263157894736842,94,1.236842105263158,72,0.67447306791569084,101,0.94613583138173307,97,0.90866510538641687]
["Norte","Barra de São Francisco",510,122,589,147.25,118,0.96721311475409832,81,0.55008488964346347,127,1.040983606557377,122,1,114,0.93442622950819676,120,0.98360655737704916,108,0.73344651952461803,101,0.68590831918505946,102,0.69269949066213921]
["Norte","Boa Esperança",199,54,200,50,39,0.72222222222222221,27,0.54,51,0.94444444444444442,53,0.98148148148148151,48,0.88888888888888884,42,0.77777777777777779,28,0.56000000000000005,35,0.7,37,0.74]
["Sul","Bom Jesus do Norte",81,14,146,36.5,12,0.8571428571428571,3,8.2191780821917804E-2,24,1.7142857142857142,23,1.6428571428571428,15,1.0714285714285714,14,1,10,0.27397260273972601,15,0.41095890410958902,13,0.35616438356164382]
["Metropolitana","Brejetuba",195,39,169,42.25,52,1.3333333333333333,35,0.82840236686390534,43,1.1025641025641026,45,1.1538461538461537,49,1.2564102564102564,50,1.2820512820512822,45,1.0650887573964498,48,1.136094674556213,47,1.1124260355029585]
["Sul","Cachoeiro de Itapemirim",2446,639,2417,604.25,431,0.67449139280125192,253,0.41870086884567648,614,0.96087636932707354,633,0.99061032863849763,562,0.87949921752738658,547,0.8560250391236307,398,0.65866776996276377,470,0.77782374844848989,475,0.78609846917666526]
["Metropolitana","Cariacica",4835,1168,5005,1251.25,708,0.60616438356164382,712,0.56903096903096906,1161,0.99400684931506844,1199,1.0265410958904109,974,0.83390410958904104,967,0.8279109589041096,924,0.7384615384615385,1193,0.95344655344655349,1174,0.93826173826173831]
["Sul","Castelo",452,125,399,99.75,70,0.56000000000000005,45,0.45112781954887216,115,0.92,120,0.96,89,0.71199999999999997,90,0.72,51,0.51127819548872178,65,0.65162907268170422,68,0.68170426065162903]
["Central","Colatina",1530,360,1561,390.25,244,0.67777777777777781,153,0.39205637411915439,306,0.85,337,0.93611111111111112,277,0.76944444444444449,281,0.78055555555555556,134,0.34336963484945549,205,0.52530429212043561,209,0.535554131966688]
["Norte","Conceição da Barra",373,88,391,97.75,81,0.92045454545454541,60,0.61381074168797956,87,0.98863636363636365,89,1.0113636363636365,89,1.0113636363636365,83,0.94318181818181823,77,0.78772378516624042,95,0.97186700767263423,100,1.0230179028132993]
["Metropolitana","Conceição do Castelo",152,29,144,36,26,0.89655172413793105,7,0.19444444444444445,24,0.82758620689655171,25,0.86206896551724133,29,1,28,0.96551724137931039,19,0.52777777777777779,15,0.41666666666666669,17,0.47222222222222221]
["Sul","Divino de São Lourenço",57,9,68,17,10,1.1111111111111112,8,0.47058823529411764,10,1.1111111111111112,11,1.2222222222222223,14,1.5555555555555556,14,1.5555555555555556,24,1.411764705882353,19,1.1176470588235294,18,1.0588235294117647]
["Metropolitana","Domingos Martins",407,94,411,102.75,103,1.0957446808510638,75,0.72992700729927007,102,1.0851063829787233,93,0.98936170212765961,104,1.1063829787234043,106,1.1276595744680851,74,0.72019464720194648,89,0.86618004866180054,89,0.86618004866180054]
["Sul","Dores do Rio Preto",95,28,92,23,11,0.39285714285714285,8,0.34782608695652173,21,0.75,21,0.75,16,0.5714285714285714,14,0.5,10,0.43478260869565216,10,0.43478260869565216,11,0.47826086956521741]
["Norte","Ecoporanga",226,48,283,70.75,65,1.3541666666666667,46,0.65017667844522964,59,1.2291666666666667,61,1.2708333333333333,62,1.2916666666666667,62,1.2916666666666667,46,0.65017667844522964,50,0.70671378091872794,51,0.72084805653710249]
["Metropolitana","Fundão",217,58,218,54.5,43,0.74137931034482762,28,0.51376146788990829,42,0.72413793103448276,42,0.72413793103448276,49,0.84482758620689657,51,0.87931034482758619,23,0.42201834862385323,30,0.55045871559633031,29,0.5321100917431193]
["Central","Governador Lindenberg",145,27,142,35.5,24,0.88888888888888884,23,0.647887323943662,27,1,28,1.037037037037037,26,0.96296296296296291,27,1,21,0.59154929577464788,27,0.76056338028169013,27,0.76056338028169013]
["Sul","Guaçuí",375,78,407,101.75,98,1.2564102564102564,29,0.28501228501228504,111,1.4230769230769231,117,1.5,96,1.2307692307692308,88,1.1282051282051282,69,0.67813267813267808,64,0.62899262899262898,60,0.58968058968058967]
["Metropolitana","Guarapari",1759,452,1557,389.25,274,0.60619469026548678,169,0.43416827231856131,382,0.84513274336283184,392,0.86725663716814161,334,0.73893805309734517,360,0.79646017699115046,261,0.67052023121387283,297,0.76300578034682076,330,0.8477842003853564]
["Metropolitana","Ibatiba",341,66,354,88.5,58,0.87878787878787878,38,0.42937853107344631,86,1.303030303030303,87,1.3181818181818181,75,1.1363636363636365,76,1.1515151515151516,62,0.70056497175141241,73,0.82485875706214684,74,0.83615819209039544]
["Metropolitana","Ibiraçu",147,41,160,40,14,0.34146341463414637,23,0.57499999999999996,30,0.73170731707317072,31,0.75609756097560976,19,0.46341463414634149,19,0.46341463414634149,25,0.625,27,0.67500000000000004,27,0.67500000000000004]
["Sul","Ibitirama",122,27,148,37,23,0.85185185185185186,12,0.32432432432432434,31,1.1481481481481481,32,1.1851851851851851,25,0.92592592592592593,24,0.88888888888888884,14,0.3783783783783784,18,0.48648648648648651,17,0.45945945945945948]
["Sul","Iconha",123,36,156,39,29,{"$f":"G35/D35","v":0.80555555555555558},6,{"$f":"I35/F35","v":0.15384615384615385},46,{"$f":"K35/D35","v":1.2777777777777777},48,{"$f":"M35/D35","v":1.3333333333333333},27,{"$f":"O35/D35","v":0.75},27,{"$f":"Q35/D35","v":0.75},26,{"$f":"S35/F35","v":0.66666666666666663},25,{"$f":"U35/F35","v":0.64102564102564108},24,{"$f":"W35/F35","v":0.61538461538461542}]
["Sul","Irupi",196,47,200,50,33,0.7021276595744681,30,0.6,70,1.4893617021276595,69,1.4680851063829787,42,0.8936170212765957,41,0.87234042553191493,47,0.94,40,0.8,45,0.9]
["Metropolitana","Itaguaçu",131,30,154,38.5,45,1.5,18,0.46753246753246752,39,1.3,38,1.2666666666666666,39,1.3,37,1.2333333333333334,22,0.5714285714285714,21,0.54545454545454541,19,0.4935064935064935]
["Sul","Itapemirim",571,142,556,139,86,0.60563380281690138,56,0.40287769784172661,128,0.90140845070422537,133,0.93661971830985913,110,0.77464788732394363,119,0.8380281690140845,64,0.46043165467625902,84,0.60431654676258995,84,0.60431654676258995]
["Metropolitana","Itarana",135,33,128,32,24,0.72727272727272729,25,0.78125,27,0.81818181818181823,26,0.78787878787878785,28,0.84848484848484851,28,0.84848484848484851,22,0.6875,29,0.90625,29,0.90625]
["Sul","Iúna",469,103,410,102.5,81,0.78640776699029125,53,0.51707317073170733,120,1.1650485436893203,129,1.2524271844660195,90,0.87378640776699024,91,0.88349514563106801,70,0.68292682926829273,90,0.87804878048780488,97,0.9463414634146341]
["Norte","Jaguaré",492,114,445,111.25,100,0.8771929824561403,49,0.44044943820224719,96,0.84210526315789469,95,0.83333333333333337,101,0.88596491228070173,109,0.95614035087719296,77,0.69213483146067412,84,0.75505617977528094,107,0.96179775280898872]
["Sul","Jerônimo Monteiro",163,41,157,39.25,27,0.65853658536585369,16,0.40764331210191085,37,0.90243902439024393,37,0.90243902439024393,31,0.75609756097560976,31,0.75609756097560976,28,0.7133757961783439,26,0.66242038216560506,29,0.73885350318471332]
["Metropolitana","João Neiva",179,41,142,35.5,28,0.68292682926829273,19,0.53521126760563376,45,1.0975609756097562,49,1.1951219512195121,29,0.70731707317073167,29,0.70731707317073167,24,0.676056338028169,27,0.76056338028169013,26,0.73239436619718312]
["Metropolitana","Laranja da Terra",100,25,133,33.25,17,0.68,18,0.54135338345864659,41,1.64,40,1.6,17,0.68,16,0.64,14,0.42105263157894735,18,0.54135338345864659,17,0.51127819548872178]
["Central","Linhares",2585,648,2452,613,443,0.68364197530864201,311,0.5073409461663948,512,0.79012345679012341,500,0.77160493827160492,470,0.72530864197530864,508,0.78395061728395066,387,0.63132137030995106,518,0.84502446982055468,554,0.90375203915171287]
["Central","Mantenópolis",152,34,166,41.5,31,0.91176470588235292,18,0.43373493975903615,40,1.1764705882352942,33,0.97058823529411764,36,1.0588235294117647,36,1.0588235294117647,17,0.40963855421686746,26,0.62650602409638556,26,0.62650602409638556]
["Sul","Marataízes",570,156,579,144.75,85,0.54487179487179482,56,0.38687392055267705,133,0.85256410256410253,137,0.87820512820512819,104,0.66666666666666663,116,0.74358974358974361,61,0.4214162348877375,100,0.69084628670120896,107,0.73920552677029361]
["Metropolitana","Marechal Floriano",235,65,236,59,42,0.64615384615384619,23,0.38983050847457629,56,0.86153846153846159,55,0.84615384615384615,43,0.66153846153846152,44,0.67692307692307696,27,0.4576271186440678,26,0.44067796610169491,29,0.49152542372881358]
["Central","Marilândia",160,28,164,41,34,1.2142857142857142,23,0.56097560975609762,34,1.2142857142857142,35,1.25,37,1.3214285714285714,37,1.3214285714285714,27,0.65853658536585369,21,0.51219512195121952,22,0.53658536585365857]
["Sul","Mimoso do Sul",258,56,276,69,31,0.5535714285714286,51,0.73913043478260865,54,0.9642857142857143,58,1.0357142857142858,43,0.7678571428571429,45,0.8035714285714286,54,0.78260869565217395,59,0.85507246376811596,60,0.86956521739130432]
["Norte","Montanha",254,55,278,69.5,61,1.1090909090909091,39,0.5611510791366906,57,1.0363636363636364,60,1.0909090909090908,61,1.1090909090909091,65,1.1818181818181819,49,0.70503597122302153,57,0.82014388489208634,58,0.83453237410071945]
["Norte","Mucurici",72,12,97,24.25,10,0.83333333333333337,15,0.61855670103092786,21,1.75,21,1.75,10,0.83333333333333337,10,0.83333333333333337,14,0.57731958762886593,18,0.74226804123711343,18,0.74226804123711343]
["Sul","Muniz Freire",211,43,275,68.75,51,1.1860465116279071,16,0.23272727272727273,64,1.4883720930232558,64,1.4883720930232558,50,1.1627906976744187,50,1.1627906976744187,54,0.78545454545454541,58,0.84363636363636363,55,0.8]
["Sul","Muqui",172,44,152,38,26,0.59090909090909094,15,0.39473684210526316,44,1,43,0.97727272727272729,26,0.59090909090909094,26,0.59090909090909094,17,0.44736842105263158,17,0.44736842105263158,18,0.47368421052631576]
["Norte","Nova Venécia",681,163,656,164,143,0.87730061349693256,76,0.46341463414634149,164,1.0061349693251533,155,0.95092024539877296,139,0.85276073619631898,150,0.92024539877300615,105,0.6402439024390244,116,0.70731707317073167,121,0.73780487804878048]
["Central","Pancas",208,42,244,61,54,1.2857142857142858,36,0.5901639344262295,57,1.3571428571428572,56,1.3333333333333333,59,1.4047619047619047,61,1.4523809523809523,39,0.63934426229508201,38,0.62295081967213117,38,0.62295081967213117]
["Norte","Pedro Canário",330,78,338,84.5,77,0.98717948717948723,61,0.72189349112426038,96,1.2307692307692308,96,1.2307692307692308,88,1.1282051282051282,92,1.1794871794871795,74,0.87573964497041423,81,0.95857988165680474,87,1.029585798816568]
["Norte","Pinheiros",322,70,383,95.75,45,0.6428571428571429,40,0.4177545691906005,65,0.9285714285714286,57,0.81428571428571428,60,0.8571428571428571,57,0.81428571428571428,58,0.60574412532637079,71,0.74151436031331597,62,0.64751958224543082]
["Sul","Piúma",312,67,311,77.75,33,0.4925373134328358,25,0.32154340836012862,72,1.0746268656716418,70,1.044776119402985,55,0.82089552238805974,55,0.82089552238805974,32,0.41157556270096463,49,0.63022508038585212,54,0.69453376205787787]
["Norte","Ponto Belo",86,19,85,21.25,10,0.52631578947368418,6,0.28235294117647058,12,0.63157894736842102,12,0.63157894736842102,11,0.57894736842105265,10,0.52631578947368418,4,0.18823529411764706,5,0.23529411764705882,5,0.23529411764705882]
["Sul","Presidente Kennedy",192,57,239,59.75,43,0.75438596491228072,16,0.26778242677824265,64,1.1228070175438596,65,1.1403508771929824,46,0.80701754385964908,46,0.80701754385964908,54,0.90376569037656906,64,1.0711297071129706,63,1.0543933054393306]
["Central","Rio Bananal",304,77,229,57.25,62,0.80519480519480524,54,0.94323144104803491,72,0.93506493506493504,78,1.0129870129870129,64,0.83116883116883122,62,0.80519480519480524,59,1.0305676855895196,58,1.0131004366812226,57,0.99563318777292575]
["Sul","Rio Novo do Sul",129,34,144,36,19,0.55882352941176472,18,0.5,27,0.79411764705882348,28,0.82352941176470584,23,0.67647058823529416,24,0.70588235294117652,19,0.52777777777777779,26,0.72222222222222221,24,0.66666666666666663]
["Metropolitana","Santa Leopoldina",108,32,155,38.75,17,0.53125,13,0.33548387096774196,42,1.3125,43,1.34375,21,0.65625,22,0.6875,19,0.49032258064516127,30,0.77419354838709675,32,0.82580645161290323]
["Metropolitana","Santa Maria de Jetibá",669,163,685,171.25,139,0.85276073619631898,48,0.28029197080291973,158,0.96932515337423308,167,1.0245398773006136,165,1.0122699386503067,155,0.95092024539877296,94,0.54890510948905114,129,0.75328467153284673,134,0.7824817518248175]
["Metropolitana","Santa Teresa",288,63,260,65,44,0.69841269841269837,40,0.61538461538461542,71,1.126984126984127,79,1.253968253968254,48,0.76190476190476186,44,0.69841269841269837,48,0.7384615384615385,51,0.7846153846153846,46,0.70769230769230773]
["Central","São Domingos do Norte",119,23,117,29.25,20,{"$f":"G67/D67","v":0.86956521739130432},14,{"$f":"I67/F67","v":0.47863247863247865},21,{"$f":"K67/D67","v":0.91304347826086951},21,{"$f":"M67/D67","v":0.91304347826086951},19,{"$f":"O67/D67","v":0.82608695652173914},19,{"$f":"Q67/D67","v":0.82608695652173914},18,{"$f":"S67/F67","v":0.61538461538461542},16,{"$f":"U67/F67","v":0.54700854700854706},18,{"$f":"W67/F67","v":0.61538461538461542}]
["Central","São Gabriel da Palha",420,88,426,{"$f":"E68/12*3","v":106.5},65,0.73863636363636365,67,0.62910798122065725,85,0.96590909090909094,89,1.0113636363636365,70,0.79545454545454541,69,0.78409090909090906,69,0.647887323943662,68,0.63849765258215962,69,0.647887323943662]
["Sul","São José do Calçado",99,23,150,37.5,27,1.173913043478261,9,0.24,34,1.4782608695652173,34,1.4782608695652173,30,1.3043478260869565,28,1.2173913043478262,33,0.88,33,0.88,33,0.88]
["Norte","São Mateus",1854,396,1766,441.5,247,0.6237373737373737,237,0.53680634201585509,391,0.98737373737373735,368,0.92929292929292928,340,0.85858585858585856,343,0.86616161616161613,292,0.66138165345413369,347,0.78595696489241218,342,0.77463193657984142]
["Central","São Roque do Canaã",122,40,100,25,23,0.57499999999999996,27,1.08,31,0.77500000000000002,34,0.85,23,0.57499999999999996,22,0.55000000000000004,22,0.88,21,0.84,23,0.92]
["Metropolitana","Serra",7403,1921,7550,1887.5,1117,0.58146798542425815,799,0.4233112582781457,1536,0.79958355023425298,1539,0.8011452368558043,1402,0.72982821447162938,1411,0.73451327433628322,1399,0.74119205298013247,1548,0.82013245033112581,1538,0.81483443708609271]
["Central","Sooretama",432,110,415,103.75,78,0.70909090909090911,52,0.50120481927710847,84,0.76363636363636367,76,0.69090909090909092,96,0.87272727272727268,94,0.8545454545454545,102,0.98313253012048196,87,0.83855421686746989,95,0.91566265060240959]
["Sul","Vargem Alta",258,64,278,69.5,53,0.828125,34,0.48920863309352519,71,1.109375,71,1.109375,62,0.96875,65,1.015625,48,0.69064748201438853,52,0.74820143884892087,54,0.7769784172661871]
["Metropolitana","Venda Nova do Imigrante",382,82,328,82,81,0.98780487804878048,37,0.45121951219512196,91,1.1097560975609757,96,1.1707317073170731,76,0.92682926829268297,78,0.95121951219512191,43,0.52439024390243905,47,0.57317073170731703,50,0.6097560975609756]
["Metropolitana","Viana",989,241,1064,266,93,0.38589211618257263,127,0.47744360902255639,238,0.98755186721991706,241,1,166,0.68879668049792531,182,0.75518672199170123,183,0.68796992481203012,223,0.83834586466165417,225,0.84586466165413532]
["Norte","Vila Pavão",99,21,127,31.75,18,0.8571428571428571,16,0.50393700787401574,23,1.0952380952380953,22,1.0476190476190477,21,1,20,0.95238095238095233,19,0.59842519685039375,21,0.66141732283464572,21,0.66141732283464572]
["Central","Vila Valério",694,54,169,42.25,52,0.96296296296296291,24,0.56804733727810652,45,0.83333333333333337,43,0.79629629629629628,45,0.83333333333333337,54,1,34,0.80473372781065089,37,0.87573964497041423,39,0.92307692307692313]
["Metropolitana","Vila Velha",5621,1472,5675,1418.75,909,0.61752717391304346,650,0.45814977973568283,1139,0.77377717391304346,1209,0.82133152173913049,1006,0.68342391304347827,992,0.67391304347826086,1009,0.71118942731277535,1130,0.79647577092511013,1096,0.77251101321585902]
["Metropolitana","Vitória",6999,910,3833,958.25,504,0.55384615384615388,479,0.49986955387424992,653,0.71758241758241759,731,0.80329670329670333,624,0.68571428571428572,626,0.68791208791208791,670,0.69919123402034955,756,0.78893816853639442,748,0.78058961648839031]
[]
[null,"Total Norte",{"$f":"SUMIF($A$3:$A$80,\"Norte\",C$3:C$80)","v":5655},{"$f":"SUMIF($A$3:$A$80,\"Norte\",D$3:D$80)","v":1273},{"$f":"SUMIF($A$3:$A$80,\"Norte\",E$3:E$80)","v":5789},{"$f":"SUMIF($A$3:$A$80,\"Norte\",F$3:F$80)","v":1447.25},{"$f":"SUMIF($A$3:$A$80,\"Norte\",G$3:G$80)","v":1038},{"$f":"G82/D82","v":0.81539670070699133},{"$f":"SUMIF($A$3:$A$80,\"Norte\",I$3:I$80)","v":772},{"$f":"I82/F82","v":0.53342546208326136},{"$f":"SUMIF($A$3:$A$80,\"Norte\",K$3:K$80)","v":1285},{"$f":"K82/D82","v":1.0094265514532601},{"$f":"SUMIF($A$3:$A$80,\"Norte\",M$3:M$80)","v":1246},{"$f":"M82/D82","v":0.97879025923016494},{"$f":"SUMIF($A$3:$A$80,\"Norte\",O$3:O$80)","v":1171},{"$f":"O82/D82","v":0.91987431264728992},{"$f":"SUMIF($A$3:$A$80,\"Norte\",Q$3:Q$80)","v":1191},{"$f":"Q82/D82","v":0.93558523173605657},{"$f":"SUMIF($A$3:$A$80,\"Norte\",S$3:S$80)","v":978},{"$f":"S82/F82","v":0.67576438072205913},{"$f":"SUMIF($A$3:$A$80,\"Norte\",U$3:U$80)","v":1107},{"$f":"U82/F82","v":0.76489894627742272},{"$f":"SUMIF($A$3:$A$80,\"Norte\",W$3:W$80)","v":1137},{"$f":"W82/F82","v":0.7856279150112282}]
[null,"Total Central",{"$f":"SUMIF($A$3:$A$80,\"Central\",C$3:C$80)","v":7463},{"$f":"SUMIF($A$3:$A$80,\"Central\",D$3:D$80)","v":1662},{"$f":"SUMIF($A$3:$A$80,\"Central\",E$3:E$80)","v":6843},{"$f":"SUMIF($A$3:$A$80,\"Central\",F$3:F$80)","v":1710.75},{"$f":"SUMIF($A$3:$A$80,\"Central\",G$3:G$80)","v":1246},{"$f":"G83/D83","v":0.74969915764139594},{"$f":"SUMIF($A$3:$A$80,\"Central\",I$3:I$80)","v":894},{"$f":"I83/F83","v":0.52257781674704074},{"$f":"SUMIF($A$3:$A$80,\"Central\",K$3:K$80)","v":1466},{"$f":"K83/D83","v":0.8820697954271961},{"$f":"SUMIF($A$3:$A$80,\"Central\",M$3:M$80)","v":1482},{"$f":"M83/D83","v":0.89169675090252709},{"$f":"SUMIF($A$3:$A$80,\"Central\",O$3:O$80)","v":1363},{"$f":"O83/D83","v":0.82009626955475334},{"$f":"SUMIF($A$3:$A$80,\"Central\",Q$3:Q$80)","v":1407},{"$f":"Q83/D83","v":0.8465703971119134},{"$f":"SUMIF($A$3:$A$80,\"Central\",S$3:S$80)","v":1038},{"$f":"S83/F83","v":0.60675142481367816},{"$f":"SUMIF($A$3:$A$80,\"Central\",U$3:U$80)","v":1264},{"$f":"U83/F83","v":0.73885722636270645},{"$f":"SUMIF($A$3:$A$80,\"Central\",W$3:W$80)","v":1315},{"$f":"W83/F83","v":0.76866871255297387}]
[null,"Total Metropolitana",{"$f":"SUMIF($A$3:$A$80,\"Metropolitana\",C$3:C$80)","v":33141},{"$f":"SUMIF($A$3:$A$80,\"Metropolitana\",D$3:D$80)","v":7490},{"$f":"SUMIF($A$3:$A$80,\"Metropolitana\",E$3:E$80)","v":30197},{"$f":"SUMIF($A$3:$A$80,\"Metropolitana\",F$3:F$80)","v":7549.25},{"$f":"SUMIF($A$3:$A$80,\"Metropolitana\",G$3:G$80)","v":4737},{"$f":"G84/D84","v":0.63244325767690257},{"$f":"SUMIF($A$3:$A$80,\"Metropolitana\",I$3:I$80)","v":3664},{"$f":"I84/F84","v":0.48534622644633574},{"$f":"SUMIF($A$3:$A$80,\"Metropolitana\",K$3:K$80)","v":6509},{"$f":"K84/D84","v":0.86902536715620826},{"$f":"SUMIF($A$3:$A$80,\"Metropolitana\",M$3:M$80)","v":6740},{"$f":"M84/D84","v":0.8998664886515354},{"$f":"SUMIF($A$3:$A$80,\"Metropolitana\",O$3:O$80)","v":5727},{"$f":"O84/D84","v":0.76461949265687579},{"$f":"SUMIF($A$3:$A$80,\"Metropolitana\",Q$3:Q$80)","v":5750},{"$f":"Q84/D84","v":0.76769025367156207},{"$f":"SUMIF($A$3:$A$80,\"Metropolitana\",S$3:S$80)","v":5285},{"$f":"S84/F84","v":0.70006954333211913},{"$f":"SUMIF($A$3:$A$80,\"Metropolitana\",U$3:U$80)","v":6154},{"$f":"U84/F84","v":0.81518031592542306},{"$f":"SUMIF($A$3:$A$80,\"Metropolitana\",W$3:W$80)","v":6133},{"$f":"W84/F84","v":0.81239858264065967}]
[null,"Total Sul",{"$f":"SUMIF($A$3:$A$80,\"sul\",C$3:C$80)","v":8419},{"$f":"SUMIF($A$3:$A$80,\"sul\",D$3:D$80)","v":2085},{"$f":"SUMIF($A$3:$A$80,\"sul\",E$3:E$80)","v":8688},{"$f":"SUMIF($A$3:$A$80,\"sul\",F$3:F$80)","v":2172},{"$f":"SUMIF($A$3:$A$80,\"sul\",G$3:G$80)","v":1454},{"$f":"G85/D85","v":0.69736211031175055},{"$f":"SUMIF($A$3:$A$80,\"sul\",I$3:I$80)","v":921},{"$f":"I85/F85","v":0.42403314917127072},{"$f":"SUMIF($A$3:$A$80,\"sul\",K$3:K$80)","v":2141},{"$f":"K85/D85","v":1.0268585131894485},{"$f":"SUMIF($A$3:$A$80,\"sul\",M$3:M$80)","v":2198},{"$f":"M85/D85","v":1.0541966426858513},{"$f":"SUMIF($A$3:$A$80,\"sul\",O$3:O$80)","v":1768},{"$f":"O85/D85","v":0.84796163069544361},{"$f":"SUMIF($A$3:$A$80,\"sul\",Q$3:Q$80)","v":1767},{"$f":"Q85/D85","v":0.84748201438848925},{"$f":"SUMIF($A$3:$A$80,\"sul\",S$3:S$80)","v":1389},{"$f":"S85/F85","v":0.63950276243093918},{"$f":"SUMIF($A$3:$A$80,\"sul\",U$3:U$80)","v":1628},{"$f":"U85/F85","v":0.74953959484346222},{"$f":"SUMIF($A$3:$A$80,\"sul\",W$3:W$80)","v":1653},{"$f":"W85/F85","v":0.76104972375690605}]
[null,"Total Espírito Santo",{"$f":"SUM(C3:C80)","v":54678},{"$f":"SUM(D3:D80)","v":12510},{"$f":"SUM(E3:E80)","v":51517},{"$f":"SUM(F3:F80)","v":12879.25},{"$f":"SUM(G3:G80)","v":8475},{"$f":"G86/D86","v":0.67745803357314149},{"$f":"SUM(I3:I80)","v":6251},{"$f":"I86/F86","v":0.48535434904982822},{"$f":"SUM(K3:K80)","v":11401},{"$f":"K86/D86","v":0.91135091926458833},{"$f":"SUM(M3:M80)","v":11666},{"$f":"M86/D86","v":0.93253397282174255},{"$f":"SUM(O3:O80)","v":10029},{"$f":"O86/D86","v":0.80167865707434049},{"$f":"SUM(Q3:Q80)","v":10115},{"$f":"Q86/D86","v":0.80855315747402079},{"$f":"SUM(S3:S80)","v":8690},{"$f":"S86/F86","v":0.67472873032202962},{"$f":"SUM(U3:U80)","v":10153},{"$f":"U86/F86","v":0.78832230137624471},{"$f":"SUM(W3:W80)","v":10238},{"$f":"W86/F86","v":0.79492206456121284}]
[]
[]
[]
[" FonteVacina e Confia, em 04 de Abril de 2024.**"]
["**Dados referente às doses aplicadas no período de Março de 2024"]
["Cobertura Calculada por município de residência do cidadão (no Vacina e Confia, a origem da informação é o endereço que consta no cadastro do cidadão preenchido manualmente por meio do autocadastro ou pelo cadastro realizado por um profissional de saúde no momento do atendimento)."]
[]
["1 População anual extraída do MS/SVS/DASIS - SINASC/DASIS/SVS/MS 2023 (hoje preliminares) referente ao período de fevereiro a dezembro de 2023 e SINASC/DASIS/SVS/MS 2024 referente ao período de janeiro de 2024."]
[]
["² População proporcional extraída do MS/SVS/DASIS - SINASC/DASIS/SVS/MS 2023 (hoje preliminares) referente ao período de fevereiro e março de 2023 somada a população extraída do SINASC/DASIS/SVS/MS 2024 referente ao período de janeiro de 2024."]
["³ População anual e proporcional extraída do Censo IBGE 2022."]
[]
["Observações:"]
["Imunobiológicos que foram recebidos parcialmente pelo estado no mês da análise, sendo distribuídos em quantidades reduzidas às regionais e municípios: Varicela, Febre Amarela e HPV Quadrivalente."]
["Imunobiológicos que não foram recebidos pelo estado no mês da análise, não sendo possível a distribuição às regionais e municípios: Meningo C, Hepatite A (CRIE), HIB, Hepatite A Rotina Pediátrica, DTPa (CRIE)."]
["Imunobiológicos com indisponibilidade de aquisição e distribuição no mês da análise: Tetra Viral."]

{"sheet":"Cobert. COVID-19 Menores 4 anos","index":4,"n_rows":92,"n_cols":3,"rows_kept":92,"cut":false,"hidden":true,"merged":[[90,0,90,9],[91,0,91,9],[86,0,86,9],[87,0,87,9],[88,0,88,9],[89,0,89,9]]}
["Regional ","Município","Série Histórica "]
["Região Metropolitana","Afonso Cláudio"]
["Região Norte","Água Doce do Norte"]
["Região Central","Águia Branca"]
["Região Sul","Alegre"]
["Região Sul","Alfredo Chaves"]
["Região Central","Alto Rio Novo"]
["Região Sul","Anchieta"]
["Região Sul","Apiacá"]
["Região Metropolitana","Aracruz"]
["Região Sul","Atilio Vivacqua"]
["Região Central","Baixo Guandu"]
["Região Norte","Barra de São Francisco"]
["Região Norte","Boa Esperança"]
["Região Sul","Bom Jesus do Norte"]
["Região Metropolitana","Brejetuba"]
["Região Sul","Cachoeiro de Itapemirim"]
["Região Metropolitana","Cariacica"]
["Região Sul","Castelo"]
["Região Central","Colatina"]
["Região Norte","Conceição da Barra"]
["Região Metropolitana","Conceição do Castelo"]
["Região Sul","Divino de São Lourenço"]
["Região Metropolitana","Domingos Martins"]
["Região Sul","Dores do Rio Preto"]
["Região Norte","Ecoporanga"]
["Região Metropolitana","Fundão"]
["Região Central","Governador Lindenberg"]
["Região Sul","Guaçuí"]
["Região Metropolitana","Guarapari"]
["Região Metropolitana","Ibatiba"]
["Região Metropolitana","Ibiraçu"]
["Região Sul","Ibitirama"]
["Região Sul","Iconha"]
["Região Sul","Irupi"]
["Região Metropolitana","Itaguaçu"]
["Região Sul","Itapemirim"]
["Região Metropolitana","Itarana"]
["Região Sul","Iúna"]
["Região Norte","Jaguaré"]
["Região Sul","Jerônimo Monteiro"]
["Região Metropolitana","João Neiva"]
["Região Metropolitana","Laranja da Terra"]
["Região Central","Linhares"]
["Região Central","Mantenópolis"]
["Região Sul","Marataízes"]
["Região Metropolitana","Marechal Floriano"]
["Região Central","Marilândia"]
["Região Sul","Mimoso do Sul"]
["Região Norte","Montanha"]
["Região Norte","Mucurici"]
["Região Sul","Muniz Freire"]
["Região Sul","Muqui"]
["Região Norte","Nova Venécia"]
["Região Central","Pancas"]
["Região Norte","Pedro Canário"]
["Região Norte","Pinheiros"]
["Região Sul","Piúma"]
["Região Norte","Ponto Belo"]
["Região Sul","Presidente Kennedy"]
["Região Central","Rio Bananal"]
["Região Sul","Rio Novo do Sul"]
["Região Metropolitana","Santa Leopoldina"]
["Região Metropolitana","Santa Maria de Jetibá"]
["Região Metropolitana","Santa Teresa"]
["Região Central","São Domingos do Norte"]
["Região Central","São Gabriel da Palha"]
["Região Sul","São José do Calçado"]
["Região Norte","São Mateus"]
["Região Central","São Roque do Canaã"]
["Região Metropolitana","Serra"]
["Região Central","Sooretama"]
["Região Sul","Vargem Alta"]
["Região Metropolitana","Venda Nova do Imigrante"]
["Região Metropolitana","Viana"]
["Região Norte","Vila Pavão"]
["Região Central","Vila Valério"]
["Região Metropolitana","Vila Velha"]
["Região Metropolitana","Vitória"]
[]
[null,"Espírito Santo"]
[null,"Região Norte"]
[null,"Região Central"]
[null,"Região Metropolitana"]
[null,"Região Sul"]
[]
["Pfizer Pediátrica Menor de 5 anos e Coronavac"]
["Período avaliado: 2021-2024"]
["Fonte: https://www.vacinaeconfia.es.gov.br"]
["*Dados de janeiro/2024 extraídos do Vacina e Confia em 04/01/2024"]
["População proporcional extraída do SINASC 2022 (menores de 1 ano) e Censo IBGE 2022 (demais idades)"]
["Cobertura Calculada por município de procedência da vacinação"]

{"sheet":"Cobert. Meningo C Adolescentes","index":5,"n_rows":93,"n_cols":3,"rows_kept":93,"cut":false,"hidden":false,"merged":[[85,0,85,9],[86,0,86,9],[87,0,87,9],[79,0,79,1],[81,0,81,9],[82,0,82,9],[83,0,83,9],[84,0,84,9]]}
["Regional ","Município","Série Histórica "]
["Metropolitana","Afonso Cláudio",54.763368162261827]
["Central Norte","Água Doce do Norte",59.789156626506021]
["Central Norte","Águia Branca",54.960317460317462]
["Sul","Alegre",65.210954848260556]
["Sul","Alfredo Chaves",35.12658227848101]
["Central Norte","Alto Rio Novo",81.067961165048544]
["Sul","Anchieta",69.179894179894177]
["Sul","Apiacá",29.120879120879124]
["Metropolitana","Aracruz",72.08225268618007]
["Sul","Atilio Vivacqua",70.1171875]
["Central Norte","Baixo Guandu",56.176084099868596]
["Central Norte","Barra de São Francisco",61.274934952298352]
["Central Norte","Boa Esperança",53.576437587657786]
["Sul","Bom Jesus do Norte",45.105566218809976]
["Metropolitana","Brejetuba",73.30677290836654]
["Sul","Cachoeiro de Itapemirim",71.363787191682334]
["Metropolitana","Cariacica",64.505033132682485]
["Sul","Castelo",69.332493702770776]
["Central Norte","Colatina",54.71053577849694]
["Central Norte","Conceição da Barra",49.540757749712974]
["Metropolitana","Conceição do Castelo",68.581081081081081]
["Sul","Divino de São Lourenço",52.57352941176471]
["Metropolitana","Domingos Martins",70.150987224157959]
["Sul","Dores do Rio Preto",71.391076115485561]
["Central Norte","Ecoporanga",56.200527704485495]
["Metropolitana","Fundão",65.513626834381554]
["Central Norte","Governador Lindenberg",66.181818181818187]
["Sul","Guaçuí",59.283819628647215]
["Metropolitana","Guarapari",62.253779202931746]
["Metropolitana","Ibatiba",66.354466858789635]
["Metropolitana","Ibiraçu",68.641114982578401]
["Sul","Ibitirama",62.827225130890049]
["Sul","Iconha",67.716535433070874]
["Sul","Irupi",59.495351925630814]
["Metropolitana","Itaguaçu",60.227272727272727]
["Sul","Itapemirim",52.845528455284551]
["Metropolitana","Itarana",58.177570093457945]
["Sul","Iúna",57.416879795396426]
["Central Norte","Jaguaré",54.459308807134896]
["Sul","Jerônimo Monteiro",74.955595026642982]
["Metropolitana","João Neiva",66.919575113808804]
["Metropolitana","Laranja da Terra",59.426229508196727]
["Central Norte","Linhares",64.036028307956244]
["Central Norte","Mantenópolis",74.366197183098592]
["Sul","Marataízes",75.033497096918268]
["Metropolitana","Marechal Floriano",70.824295010845987]
["Central Norte","Marilândia",64.909090909090907]
["Sul","Mimoso do Sul",62.122519413287314]
["Central Norte","Montanha",69.047619047619051]
["Central Norte","Mucurici",56.521739130434781]
["Sul","Muniz Freire",57.359307359307351]
["Sul","Muqui",58.308157099697887]
["Central Norte","Nova Venécia",45.072164948453604]
["Central Norte","Pancas",60.782241014799155]
["Central Norte","Pedro Canário",65.682362330407017]
["Central Norte","Pinheiros",54.693013408609737]
["Sul","Piúma",59.852670349907925]
["Central Norte","Ponto Belo",53.787878787878782]
["Sul","Presidente Kennedy",80.958904109589042]
["Central Norte","Rio Bananal",70.606060606060609]
["Sul","Rio Novo do Sul",51.91570881226054]
["Metropolitana","Santa Leopoldina",44.724409448818896]
["Metropolitana","Santa Maria de Jetibá",67.1984983575786]
["Metropolitana","Santa Teresa",68.59582542694497]
["Central Norte","São Domingos do Norte",66.341463414634148]
["Central Norte","São Gabriel da Palha",51.237623762376238]
["Sul","São José do Calçado",62.137681159420289]
["Central Norte","São Mateus",53.571428571428569]
["Central Norte","São Roque do Canaã",73.118279569892479]
["Metropolitana","Serra",58.108898290510091]
["Central Norte","Sooretama",70.37900874635568]
["Sul","Vargem Alta",66.602316602316606]
["Metropolitana","Venda Nova do Imigrante",64.795008912655973]
["Metropolitana","Viana",65.76168929110105]
["Central Norte","Vila Pavão",75.764192139738]
["Central Norte","Vila Valério",79.056047197640126]
["Metropolitana","Vila Velha",68.469123460717043]
["Metropolitana","Vitória",70.504654581087706]
["Total",null,69.824256274394799]
[]
["Meningocócica Conjudada C e Meningocócica ACWY"]
["Período avaliado: 2016-2024"]
["Fonte: http://tabnet.datasus.gov.br/ e https://www.vacinaeconfia.es.gov.br"]
["*Dados parciais. Dados de janeiro/2022 a abril/2022 extraídos do TABNET em 09/11/2023"]
["*Dados de Março/2024 extraídos do Vacina e Confia em Abril/2024"]
["População proporcional extraída do Censo IBGE 2022"]
["Cobertura Calculada por município de procedência da vacinação"]
[]
["Observações:"]
["Imunobiológicos que foram recebidos parcialmente pelo estado no mês da análise, sendo distribuídos em quantidades reduzidas às regionais e municípios: Varicela, Febre Amarela e HPV Quadrivalente."]
["Imunobiológicos que não foram recebidos pelo estado no mês da análise, não sendo possível a distribuição às regionais e municípios: Meningo C, Hepatite A (CRIE), HIB, Hepatite A Rotina Pediátrica, DTPa (CRIE)."]
["Imunobiológicos com indisponibilidade de aquisição e distribuição no mês da análise: Tetra Viral."]

{"sheet":"Cobert. HPV ","index":6,"n_rows":94,"n_cols":6,"rows_kept":94,"cut":false,"hidden":false,"merged":[[86,0,86,8],[87,0,87,8],[88,0,88,8],[79,0,79,1],[82,0,82,8],[83,0,83,8],[84,0,84,8],[85,0,85,8]]}
["REGIONAL","MUNICÍPIO","HPV* Quadrivalente D1 Total - Feminino","HPV* Quadrivalente D2 Total - Feminino","HPV* Quadrivalente D1 Total - Masculino","HPV* Quadrivalente D2 Total - Masculino"]
["METROPOLITANA","Afonso Cláudio",82.111436950146626,71.813285457809698,78.927524088814422,66.427289048473966]
["CENTRAL-NORTE","Água Doce do Norte",82.877406281661607,73.391304347826093,55.521783181357655,44.347826086956523]
["CENTRAL-NORTE","Águia Branca",68.125854993160047,60.162601626016269,71.135430916552664,43.437862950058069]
["SUL","Alegre",78.70778267254039,72.053872053872055,58.737151248164466,60.690235690235696]
["SUL","Alfredo Chaves",77.22567287784679,73.924495171202807,55.279503105590067,65.144863915715547]
["CENTRAL-NORTE","Alto Rio Novo",100.49751243781095,96.690647482014384,87.562189054726375,68.201438848920859]
["SUL","Anchieta",89.234760051880684,76.13093048915043,76.956333765672298,58.845163663111435]
["SUL","Apiacá",68.292682926829272,57.187993680884674,49.155722326454033,37.282780410742497]
["METROPOLITANA","Aracruz",81.46699266503667,69.584429247764334,71.442542787286072,59.947396107311945]
["SUL","Atílio Vivácqua",99.497487437185924,79.744136460554373,89.447236180904525,67.590618336887005]
["CENTRAL-NORTE","Baixo Guandu",79.459223724378546,65.756457564575641,61.142607937200175,39.926199261992615]
["CENTRAL-NORTE","Barra de São Francisco",72.246189243600796,56.825475191310794,56.255392579810184,34.26314490249321]
["CENTRAL-NORTE","Boa Esperança",84.461391801715919,71.20843471208434,46.901811248808386,33.090024330900242]
["SUL","Bom Jesus do Norte",79.6875,58.444444444444443,59.635416666666664,32]
["METROPOLITANA","Brejetuba",88.266199649737302,76.889534883720927,73.029772329246939,59.883720930232556]
["SUL","Cachoeiro de Itapemirim",84.729064039408868,71.562756099098536,82.655687081832212,60.127340351761958]
["METROPOLITANA","Cariacica",78.880117741503881,62.319381804601989,47.972972972972968,39.504754244348049]
["SUL","Castelo",89.434276206322792,78.005023322569073,81.031613976705486,68.532472192321492]
["CENTRAL-NORTE","Colatina",50.149467894296308,41.579870062906053,40.105225397584597,28.049912344023927]
["CENTRAL-NORTE","Conceição da Barra",78.471138845553824,58.811748998664882,63.728549141965672,37.917222963951936]
["METROPOLITANA","Conceição do Castelo",95.509309967141292,86.586493987049025,84.118291347207006,65.67992599444959]
["SUL","Divino de São Lourenço",73.232323232323239,64.794816414686835,81.818181818181827,64.362850971922242]
["METROPOLITANA","Domingos Martins",87.966166858900422,84.298627385336459,77.739331026528262,69.768998995647806]
["SUL","Dores do Rio Preto",89.908256880733944,79.871175523349436,81.467889908256879,66.666666666666657]
["CENTRAL-NORTE","Ecoporanga",79.853479853479854,68.254790264111861,64.957264957264954,48.265147591921284]
["METROPOLITANA","Fundão",78.065872459705673,65.865384615384613,64.470918009810802,53.72596153846154]
["CENTRAL-NORTE","Governador Lindenberg",84.236453201970434,76.260504201680675,77.58620689655173,56.512605042016808]
["SUL","Guaçuí",82.18213814342279,60.114285714285707,63.000439947206331,36.495238095238101]
["METROPOLITANA","Guarapari",73.516494740067401,56.425120772946855,43.55019916249617,38.963548528765919]
["METROPOLITANA","Ibatiba",85.141739980449657,79.614093959731548,77.712609970674478,71.979865771812086]
["METROPOLITANA","Ibiraçu",87.514060742407196,76.863504356243951,66.816647919010123,66.408518877057105]
["SUL","Ibitirama",48.527679623085987,45.045045045045043,57.008244994110726,44.244244244244243]
["SUL","Iconha",90.745501285347046,81.098901098901095,83.547557840616975,70.549450549450555]
["SUL","Irupi",66.074600355239781,62.595419847328252,78.685612788632326,64.885496183206101]
["METROPOLITANA","Itaguaçu",90.950226244343895,86.073500967117994,47.058823529411761,65.183752417794977]
["SUL","Itapemirim",65.235055136390017,53.409090909090907,64.306442251886239,39.871541501976282]
["METROPOLITANA","Itarana",81.366459627329192,78.636959370904322,77.639751552795033,61.59895150720839]
["SUL","Iúna",74.153450492927561,66.691095639428369,78.18259751393056,64.492488090875781]
["CENTRAL-NORTE","Jaguaré",87.30395817774459,79.30047694753577,72.367438386855866,48.203497615262322]
["SUL","Jerônimo Monteiro",89.159561510353228,75.970619097586564,76.248477466504255,61.280167890870928]
["METROPOLITANA","João Neiva",92.946058091286304,85.968028419182957,74.896265560165972,68.561278863232673]
["METROPOLITANA","Laranja da Terra",76.010781671159037,76.43610785463072,64.959568733153645,73.153575615474793]
["CENTRAL-NORTE","Linhares",74.373438057836481,59.030621600146695,56.97965012495537,37.772752276755703]
["CENTRAL-NORTE","Mantenópolis",87.992315081652265,80.669456066945614,57.4447646493756,49.7071129707113]
["SUL","Marataízes",91.929192919291921,75.044427519675054,92.589258925892594,70.271642548870275]
["METROPOLITANA","Marechal Floriano",92.238805970149258,80.432020330368488,67.910447761194021,64.421855146124514]
["CENTRAL-NORTE","Marilândia",99.501246882793012,99.78586723768737,84.538653366583532,58.244111349036402]
["SUL","Mimoso do Sul",78.596908442330559,67.169431875314217,68.965517241379317,47.66214177978884]
["CENTRAL-NORTE","Montanha",89.244558258642769,74.230145867098855,80.921895006402039,50.891410048622362]
["CENTRAL-NORTE","Mucurici",86.592178770949729,74.364896073902997,68.156424581005581,48.036951501154732]
["SUL","Muniz Freire",89.534883720930239,78.039702233250622,87.936046511627907,74.937965260545909]
["SUL","Muqui",78.356713426853702,74.570446735395194,67.535070140280567,59.621993127147768]
["CENTRAL-NORTE","Nova Venécia",85.565598466173654,75.849144998828763,76.307860860038346,48.863902553291169]
["CENTRAL-NORTE","Pancas",83.002832861189802,79.174256223436558,73.087818696883858,53.551912568306015]
["CENTRAL-NORTE","Pedro Canário",86.587982832618025,72.940117064385419,71.888412017167383,47.185952273750566]
["CENTRAL-NORTE","Pinheiros",75.238095238095241,62.308313155770776,55.428571428571431,35.351089588377725]
["SUL","Piúma",68.184471687098664,56.795131845841787,58.610624635143026,41.886409736308316]
["CENTRAL-NORTE","Ponto Belo",91.228070175438589,91.692307692307693,75.087719298245617,44.92307692307692]
["SUL","Presidente Kennedy",84.110535405872184,77.712609970674478,82.383419689119179,77.712609970674478]
["CENTRAL-NORTE","Rio Bananal",97.025776602775935,91.106043329532497,94.646397884996688,62.827822120866593]
["SUL","Rio Novo do Sul",70.812182741116743,64.008859357696565,77.157360406091371,56.035437430786274]
["METROPOLITANA","Santa Leopoldina",59.682539682539684,53.574660633484164,36.613756613756614,37.647058823529413]
["METROPOLITANA","Santa Maria de Jetibá",86.547507055503289,72.864457019671249,54.687989965506432,51.899757477768794]
["METROPOLITANA","Santa Teresa",99.013806706114394,86.771300448430495,73.635765943458253,67.152466367713004]
["CENTRAL-NORTE","São Domingos do Norte",95.206611570247929,83.988764044943821,78.016528925619838,58.426966292134829]
["CENTRAL-NORTE","São Gabriel da Palha",78.698224852071007,66.763110307414109,69.568892645815723,42.097649186256781]
["SUL","São José do Calçado",79.658952496954939,70.425531914893611,80.876979293544466,62.127659574468083]
["CENTRAL-NORTE","São Mateus",79.907713913130706,64.206767556537997,57.859364028488315,38.972963781669783]
["CENTRAL-NORTE","São Roque do Canaã",100,90.154211150652429,71.387283236994222,54.092526690391466]
["METROPOLITANA","Serra",74.623280687045394,57.093917274939173,39.233192087194944,31.754744525547444]
["CENTRAL-NORTE","Sooretama",79.019073569482288,70.020120724346086,72.557415336706882,45.606975184439975]
["SUL","Vargem Alta",84.32934926958832,75.940706955530217,82.470119521912352,67.274800456100337]
["METROPOLITANA","Venda Nova do Imigrante",95.015384615384619,89.558441558441558,88.615384615384613,74.493506493506487]
["METROPOLITANA","Viana",86.146603900470737,68.814432989690715,68.291862811028921,51.116838487972501]
["CENTRAL-NORTE","Vila Pavão",93.948126801152739,88.308457711442784,67.72334293948127,59.950248756218905]
["CENTRAL-NORTE","Vila Valério",101.39442231075697,88.352745424292848,79.482071713147405,54.242928452579029]
["METROPOLITANA","Vila Velha",85.812481157672593,67.357486307886134,64.214651793789571,49.985857910570566]
["METROPOLITANA","Vitória",94.286247782653348,77.546453546453549,64.466436373821296,51.748251748251747]
["TOTAL",null,80.842714591010818,66.510321381754281,74.081478116007872,52.067013353692793]
[]
[]
["Cobertura Vacinal HPV 2024"]
["Período avaliado: 2013-2024"]
["Fonte: http://tabnet.datasus.gov.br/"]
["Fonte: https://www.vacinaeconfia.es.gov.br"]
["*Dados parciais gerados em 09/11/2023 e 10/11/2023 (TABNET) e Abril/2024 (VeC)"]
["População proporcional extraída do Censo IBGE 2022"]
["Cobertura Calculada por município de procedência da vacinação"]
[]
["Observações:"]
["Imunobiológicos que foram recebidos parcialmente pelo estado no mês da análise, sendo distribuídos em quantidades reduzidas às regionais e municípios: Varicela, Febre Amarela e HPV Quadrivalente."]
["Imunobiológicos que não foram recebidos pelo estado no mês da análise, não sendo possível a distribuição às regionais e municípios: Meningo C, Hepatite A (CRIE), HIB, Hepatite A Rotina Pediátrica, DTPa (CRIE)."]
["Imunobiológicos com indisponibilidade de aquisição e distribuição no mês da análise: Tetra Viral."]

{"sheet":"dTpa gestantes - procedência","index":7,"n_rows":99,"n_cols":6,"rows_kept":99,"cut":false,"hidden":false,"merged":[[90,0,90,11],[85,1,85,3],[91,0,92,12],[93,0,93,12]]}
["REGIONAL","MUNICÍPIO","¹POPULAÇÃO GESTANTE ANUAL","²POPULAÇÃO PROPORCIONAL","DOSES APLICADAS dTpa GESTANTES","COBERTURA VACINAL dTpa GESTANTES"]
["Metropolitana","Afonso Cláudio",396,110,75,{"$f":"E2/D2","v":0.68181818181818177}]
["Norte","Água Doce do Norte",157,33,51,{"$f":"E3/D3","v":1.5454545454545454}]
["Central","Águia Branca",138,31,35,1.1290322580645162]
["Sul","Alegre",335,78,85,1.0897435897435896]
["Sul","Alfredo Chaves",154,40,36,0.9]
["Central","Alto Rio Novo",90,24,22,0.91666666666666663]
["Sul","Anchieta",377,84,79,0.94047619047619047]
["Sul","Apiacá",62,13,22,1.6923076923076923]
["Metropolitana","Aracruz",1453,355,331,0.93239436619718308]
["Sul","Atilio Vivacqua",140,37,38,1.027027027027027]
["Central","Baixo Guandu",364,76,84,1.1052631578947369]
["Norte","Barra de São Francisco",510,122,117,0.95901639344262291]
["Norte","Boa Esperança",199,54,41,0.7592592592592593]
["Sul","Bom Jesus do Norte",81,14,28,2]
["Metropolitana","Brejetuba",195,39,42,1.0769230769230769]
["Sul","Cachoeiro de Itapemirim",2446,639,520,0.81377151799687009]
["Metropolitana","Cariacica",4835,1168,964,0.82534246575342463]
["Sul","Castelo",452,125,100,0.8]
["Central","Colatina",1530,360,361,1.0027777777777778]
["Norte","Conceição da Barra",373,88,100,1.1363636363636365]
["Metropolitana","Conceição do Castelo",152,29,33,1.1379310344827587]
["Sul","Divino de São Lourenço",57,9,12,1.3333333333333333]
["Metropolitana","Domingos Martins",407,94,111,1.1808510638297873]
["Sul","Dores do Rio Preto",95,28,16,0.5714285714285714]
["Norte","Ecoporanga",226,48,66,1.375]
["Metropolitana","Fundão",217,58,51,0.87931034482758619]
["Central","Governador Lindenberg",145,27,29,1.0740740740740742]
["Sul","Guaçuí",375,78,69,0.88461538461538458]
["Metropolitana","Guarapari",1759,452,397,0.87831858407079644]
["Metropolitana","Ibatiba",341,66,93,1.4090909090909092]
["Metropolitana","Ibiraçu",147,41,41,1]
["Sul","Ibitirama",122,27,26,0.96296296296296291]
["Sul","Iconha",123,36,25,0.69444444444444442]
["Sul","Irupi",196,47,53,1.1276595744680851]
["Metropolitana","Itaguaçu",131,30,38,1.2666666666666666]
["Sul","Itapemirim",571,142,113,0.79577464788732399]
["Metropolitana","Itarana",135,33,40,1.2121212121212122]
["Sul","Iúna",469,103,90,0.87378640776699024]
["Norte","Jaguaré",492,114,128,1.1228070175438596]
["Sul","Jerônimo Monteiro",163,41,28,0.68292682926829273]
["Metropolitana","João Neiva",179,41,33,0.80487804878048785]
["Metropolitana","Laranja da Terra",100,25,20,0.8]
["Central","Linhares",2585,648,551,0.85030864197530864]
["Central","Mantenópolis",152,34,39,1.1470588235294117]
["Sul","Marataízes",570,156,137,0.87820512820512819]
["Metropolitana","Marechal Floriano",235,65,61,0.93846153846153846]
["Central","Marilândia",160,28,31,1.1071428571428572]
["Sul","Mimoso do Sul",258,56,60,1.0714285714285714]
["Norte","Montanha",254,55,46,0.83636363636363631]
["Norte","Mucurici",72,12,23,1.9166666666666667]
["Sul","Muniz Freire",211,43,58,1.3488372093023255]
["Sul","Muqui",172,44,41,0.93181818181818177]
["Norte","Nova Venécia",681,163,146,0.89570552147239269]
["Central","Pancas",208,42,48,1.1428571428571428]
["Norte","Pedro Canário",330,78,66,0.84615384615384615]
["Norte","Pinheiros",322,70,69,0.98571428571428577]
["Sul","Piúma",312,67,84,1.2537313432835822]
["Norte","Ponto Belo",86,19,20,1.0526315789473684]
["Sul","Presidente Kennedy",192,57,43,0.75438596491228072]
["Central","Rio Bananal",304,77,60,0.77922077922077926]
["Sul","Rio Novo do Sul",129,34,19,0.55882352941176472]
["Metropolitana","Santa Leopoldina",108,32,24,0.75]
["Metropolitana","Santa Maria de Jetibá",669,163,159,0.97546012269938653]
["Metropolitana","Santa Teresa",288,63,65,1.0317460317460319]
["Central","São Domingos do Norte",119,23,15,0.65217391304347827]
["Central","São Gabriel da Palha",420,88,102,{"$f":"E67/D67","v":1.1590909090909092}]
["Sul","São José do Calçado",99,23,21,0.91304347826086951]
["Norte","São Mateus",1854,396,347,0.8762626262626263]
["Central","São Roque do Canaã",122,40,29,0.72499999999999998]
["Metropolitana","Serra",7403,1921,1513,0.78761061946902655]
["Central","Sooretama",432,110,104,0.94545454545454544]
["Sul","Vargem Alta",258,64,64,1]
["Metropolitana","Venda Nova do Imigrante",382,82,72,0.87804878048780488]
["Metropolitana","Viana",989,241,210,0.87136929460580914]
["Norte","Vila Pavão",99,21,24,1.1428571428571428]
["Central","Vila Valério",694,54,42,0.77777777777777779]
["Metropolitana","Vila Velha",5621,1472,1133,0.76970108695652173]
["Metropolitana","Vitória",6999,910,835,0.91758241758241754]
[]
[null,"Total Norte",{"$f":"SUMIF($A$2:$A$79,\"Norte\",C$2:C$79)","v":5655},{"$f":"SUMIF($A$2:$A$79,\"Norte\",D$2:D$79)","v":1273},{"$f":"SUMIF($A$2:$A$79,\"Norte\",E$2:E$79)","v":1244},0.97721916732128833]
[null,"Total Central",{"$f":"SUMIF($A$2:$A$79,\"CENTRAL\",C$2:C$79)","v":7463},{"$f":"SUMIF($A$2:$A$79,\"CENTRAL\",D$2:D$79)","v":1662},{"$f":"SUMIF($A$2:$A$79,\"CENTRAL\",E$2:E$79)","v":1552},0.93381468110709986]
[null,"Total Metropolitana",{"$f":"SUMIF($A$2:$A$79,\"METROPOLITANA\",C$2:C$79)","v":33141},{"$f":"SUMIF($A$2:$A$79,\"METROPOLITANA\",D$2:D$79)","v":7490},{"$f":"SUMIF($A$2:$A$79,\"METROPOLITANA\",E$2:E$79)","v":6341},0.84659546061415225]
[null,"Total Sul",{"$f":"SUMIF($A$2:$A$79,\"SUL\",C$2:C$79)","v":8419},{"$f":"SUMIF($A$2:$A$79,\"SUL\",D$2:D$79)","v":2085},{"$f":"SUMIF($A$2:$A$79,\"SUL\",E$2:E$79)","v":1867},0.89544364508393282]
[null,"TOTAL ES",{"$f":"SUM(C2:C79)","v":54678},{"$f":"SUM(D2:D79)","v":12510},{"$f":"SUM(E2:E79)","v":11004},{"$f":"E85/D85","v":0.87961630695443649}]
[null,"HOMOGENEIDADE ENTRE MUNICÍPIOS",null,null,{"$f":"COUNTIF(F2:F79,\">=0,95\")","v":37},{"$f":"E86/78","v":0.47435897435897434}]
[]
[]
[" Vacina e Confia, em 12 de Abril de 2024.**"]
["**Dados referente às doses aplicadas no período de Março de 2024"]
["Cobertura Calculada por município de procedência da vacinação"]
["1 População anual extraída do MS/SVS/DASIS - SINASC/DASIS/SVS/MS 2023 (hoje preliminares) referente ao período de fevereiro a dezembro de 2023 e SINASC/DASIS/SVS/MS 2024 referente ao período de janeiro de 2024."]
[]
["² População proporcional extraída do MS/SVS/DASIS - SINASC/DASIS/SVS/MS 2023 (hoje preliminares) referente ao período de fevereiro e março de 2023 somada a população extraída do SINASC/DASIS/SVS/MS 2024 referente ao período de janeiro de 2024."]
[]
["Observações:"]
["Imunobiológicos que foram recebidos parcialmente pelo estado no mês da análise, sendo distribuídos em quantidades reduzidas às regionais e municípios: Varicela, Febre Amarela e HPV Quadrivalente."]
["Imunobiológicos que não foram recebidos pelo estado no mês da análise, não sendo possível a distribuição às regionais e municípios: Meningo C, Hepatite A (CRIE), HIB, Hepatite A Rotina Pediátrica, DTPa (CRIE)."]
["Imunobiológicos com indisponibilidade de aquisição e distribuição no mês da análise: Tetra Viral."]

{"sheet":"dTpa gestantes - residência","index":8,"n_rows":100,"n_cols":6,"rows_kept":100,"cut":false,"hidden":false,"merged":[[94,0,94,12],[90,0,91,11],[85,1,85,3],[88,0,88,11],[89,0,89,11],[92,0,93,12]]}
["REGIONAL","MUNICÍPIO","¹POPULAÇÃO GESTANTE ANUAL","¹POPULAÇÃO PROPORCIONAL","DOSES APLICADAS dTpa GESTANTES","COBERTURA VACINAL dTpa GESTANTES"]
["Metropolitana","Afonso Cláudio",396,110,76,{"$f":"E2/D2","v":0.69090909090909092}]
["Norte","Água Doce do Norte",157,33,35,{"$f":"E3/D3","v":1.0606060606060606}]
["Central","Águia Branca",138,31,26,0.83870967741935487]
["Sul","Alegre",335,78,96,1.2307692307692308]
["Sul","Alfredo Chaves",154,40,39,0.97499999999999998]
["Central","Alto Rio Novo",90,24,22,0.91666666666666663]
["Sul","Anchieta",377,84,77,0.91666666666666663]
["Sul","Apiacá",62,13,18,1.3846153846153846]
["Metropolitana","Aracruz",1453,355,296,0.83380281690140845]
["Sul","Atilio Vivacqua",140,37,36,0.97297297297297303]
["Central","Baixo Guandu",364,76,81,1.0657894736842106]
["Norte","Barra de São Francisco",510,122,121,0.99180327868852458]
["Norte","Boa Esperança",199,54,37,0.68518518518518523]
["Sul","Bom Jesus do Norte",81,14,18,1.2857142857142858]
["Metropolitana","Brejetuba",195,39,34,0.87179487179487181]
["Sul","Cachoeiro de Itapemirim",2446,639,515,0.80594679186228479]
["Metropolitana","Cariacica",4835,1168,1110,0.95034246575342463]
["Sul","Castelo",452,125,102,0.81599999999999995]
["Central","Colatina",1530,360,317,0.88055555555555554]
["Norte","Conceição da Barra",373,88,91,1.0340909090909092]
["Metropolitana","Conceição do Castelo",152,29,35,1.2068965517241379]
["Sul","Divino de São Lourenço",57,9,13,1.4444444444444444]
["Metropolitana","Domingos Martins",407,94,124,1.3191489361702127]
["Sul","Dores do Rio Preto",95,28,13,0.4642857142857143]
["Norte","Ecoporanga",226,48,68,1.4166666666666667]
["Metropolitana","Fundão",217,58,43,0.74137931034482762]
["Central","Governador Lindenberg",145,27,36,1.3333333333333333]
["Sul","Guaçuí",375,78,60,0.76923076923076927]
["Metropolitana","Guarapari",1759,452,365,0.80752212389380529]
["Metropolitana","Ibatiba",341,66,96,1.4545454545454546]
["Metropolitana","Ibiraçu",147,41,42,1.024390243902439]
["Sul","Ibitirama",122,27,27,1]
["Sul","Iconha",123,36,29,0.80555555555555558]
["Sul","Irupi",196,47,38,0.80851063829787229]
["Metropolitana","Itaguaçu",131,30,33,1.1000000000000001]
["Sul","Itapemirim",571,142,122,0.85915492957746475]
["Metropolitana","Itarana",135,33,35,1.0606060606060606]
["Sul","Iúna",469,103,94,0.91262135922330101]
["Norte","Jaguaré",492,114,128,1.1228070175438596]
["Sul","Jerônimo Monteiro",163,41,26,0.63414634146341464]
["Metropolitana","João Neiva",179,41,33,0.80487804878048785]
["Metropolitana","Laranja da Terra",100,25,17,0.68]
["Central","Linhares",2585,648,523,0.8070987654320988]
["Central","Mantenópolis",152,34,35,1.0294117647058822]
["Sul","Marataízes",570,156,124,0.79487179487179482]
["Metropolitana","Marechal Floriano",235,65,62,0.9538461538461539]
["Central","Marilândia",160,28,40,1.4285714285714286]
["Sul","Mimoso do Sul",258,56,57,1.0178571428571428]
["Norte","Montanha",254,55,43,0.78181818181818186]
["Norte","Mucurici",72,12,28,2.3333333333333335]
["Sul","Muniz Freire",211,43,42,0.97674418604651159]
["Sul","Muqui",172,44,43,0.97727272727272729]
["Norte","Nova Venécia",681,163,164,1.0061349693251533]
["Central","Pancas",208,42,50,1.1904761904761905]
["Norte","Pedro Canário",330,78,74,0.94871794871794868]
["Norte","Pinheiros",322,70,64,0.91428571428571426]
["Sul","Piúma",312,67,76,1.1343283582089552]
["Norte","Ponto Belo",86,19,21,1.1052631578947369]
["Sul","Presidente Kennedy",192,57,42,0.73684210526315785]
["Central","Rio Bananal",304,77,66,0.8571428571428571]
["Sul","Rio Novo do Sul",129,34,19,0.55882352941176472]
["Metropolitana","Santa Leopoldina",108,32,21,0.65625]
["Metropolitana","Santa Maria de Jetibá",669,163,137,0.8404907975460123]
["Metropolitana","Santa Teresa",288,63,69,1.0952380952380953]
["Central","São Domingos do Norte",119,23,18,0.78260869565217395]
["Central","São Gabriel da Palha",420,88,94,{"$f":"E67/D67","v":1.0681818181818181}]
["Sul","São José do Calçado",99,23,26,1.1304347826086956]
["Norte","São Mateus",1854,396,306,0.77272727272727271]
["Central","São Roque do Canaã",122,40,36,0.9]
["Metropolitana","Serra",7403,1921,1422,0.74023945861530449]
["Central","Sooretama",432,110,111,1.009090909090909]
["Sul","Vargem Alta",258,64,63,0.984375]
["Metropolitana","Venda Nova do Imigrante",382,82,70,0.85365853658536583]
["Metropolitana","Viana",989,241,210,0.87136929460580914]
["Norte","Vila Pavão",99,21,25,1.1904761904761905]
["Central","Vila Valério",694,54,44,0.81481481481481477]
["Metropolitana","Vila Velha",5621,1472,1016,0.69021739130434778]
["Metropolitana","Vitória",6999,910,716,0.78681318681318679]
[]
[null,"Total Norte",{"$f":"SUMIF($A$2:$A$79,\"Norte\",C$2:C$79)","v":5655},{"$f":"SUMIF($A$2:$A$79,\"Norte\",D$2:D$79)","v":1273},{"$f":"SUMIF($A$2:$A$79,\"Norte\",E$2:E$79)","v":1205},0.94658287509819328]
[null,"Total Central",{"$f":"SUMIF($A$2:$A$79,\"CENTRAL\",C$2:C$79)","v":7463},{"$f":"SUMIF($A$2:$A$79,\"CENTRAL\",D$2:D$79)","v":1662},{"$f":"SUMIF($A$2:$A$79,\"CENTRAL\",E$2:E$79)","v":1499},0.9019253910950662]
[null,"Total Metropolitana",{"$f":"SUMIF($A$2:$A$79,\"METROPOLITANA\",C$2:C$79)","v":33141},{"$f":"SUMIF($A$2:$A$79,\"METROPOLITANA\",D$2:D$79)","v":7490},{"$f":"SUMIF($A$2:$A$79,\"METROPOLITANA\",E$2:E$79)","v":6062},0.80934579439252341]
[null,"Total Sul",{"$f":"SUMIF($A$2:$A$79,\"SUL\",C$2:C$79)","v":8419},{"$f":"SUMIF($A$2:$A$79,\"SUL\",D$2:D$79)","v":2085},{"$f":"SUMIF($A$2:$A$79,\"SUL\",E$2:E$79)","v":1815},0.87050359712230219]
[null,"TOTAL ES",{"$f":"SUM(C2:C79)","v":54678},{"$f":"SUM(D2:D79)","v":12510},{"$f":"SUM(E2:E79)","v":10581},{"$f":"E85/D85","v":0.84580335731414868}]
[null,"HOMOGENEIDADE ENTRE MUNICÍPIOS",null,null,{"$f":"COUNTIF(F2:F79,\">=0,95\")","v":38},{"$f":"E86/78","v":0.48717948717948717}]
[]
[]
[" Vacina e Confia, em 12 de Abril de 2024.**"]
["**Dados referente às doses aplicadas no período de Março de 2024"]
["Cobertura Calculada por município de residência do cidadão (no Vacina e Confia, a origem da informação é o endereço que consta no cadastro do cidadão preenchido manualmente por meio do autocadastro ou pelo cadastro realizado por um profissional de saúde no momento do atendimento)."]
[]
["1 População anual extraída do MS/SVS/DASIS - SINASC/DASIS/SVS/MS 2023 (hoje preliminares) referente ao período de fevereiro a dezembro de 2023 e SINASC/DASIS/SVS/MS 2024 referente ao período de janeiro de 2024."]
[]
["² População proporcional extraída do MS/SVS/DASIS - SINASC/DASIS/SVS/MS 2023 (hoje preliminares) referente ao período de fevereiro e março de 2023 somada a população extraída do SINASC/DASIS/SVS/MS 2024 referente ao período de janeiro de 2024."]
[]
["Observações:"]
["Imunobiológicos que foram recebidos parcialmente pelo estado no mês da análise, sendo distribuídos em quantidades reduzidas às regionais e municípios: Varicela, Febre Amarela e HPV Quadrivalente."]
["Imunobiológicos que não foram recebidos pelo estado no mês da análise, não sendo possível a distribuição às regionais e municípios: Meningo C, Hepatite A (CRIE), HIB, Hepatite A Rotina Pediátrica, DTPa (CRIE)."]
["Imunobiológicos com indisponibilidade de aquisição e distribuição no mês da análise: Tetra Viral."]

{"sheet":"PROTEÇÃO","index":9,"n_rows":0,"n_cols":0,"rows_kept":0,"cut":false,"hidden":false,"merged":[]}

{"sheet":"cálculos1","index":10,"n_rows":95,"n_cols":16,"rows_kept":95,"cut":false,"hidden":true,"merged":[]}
["Regional ","Município","Cobertura Vacinal BCG","Cobertura Vacinal Rotavírus","Cobertura Vacinal Pentavalente","Cobertura Vacinal Poliomielite ","Cobertura Vacinal Pneumo 10","Cobertura Vacinal Tríplice Viral","Cobertura Vacinal Meningo C","Cobertura Vacinal Febre Amarela","Cobertura Vacinal Hepatite A","Cobertura Varicela","META 90%","META 95%","ATINGIRAM META","PQA-VS"]
["Metropolitana","Afonso Cláudio",{"$f":"'CV Rotina <2A - procedência'!H3","v":0.68181818181818177},{"$f":"'CV Rotina <2A - procedência'!P3","v":0.75454545454545452},{"$f":"'CV Rotina <2A - procedência'!J3","v":0.89090909090909087},{"$f":"'CV Rotina <2A - procedência'!L3","v":0.88181818181818183},{"$f":"'CV Rotina <2A - procedência'!N3","v":0.74545454545454548},{"$f":"'CV Rotina <2A - procedência'!Z3","v":0.97272727272727277},{"$f":"'CV Rotina <2A - procedência'!R3","v":0.90909090909090906},{"$f":"'CV Rotina <2A - procedência'!T3","v":0.74545454545454548},{"$f":"'CV Rotina <2A - procedência'!X3","v":0.73636363636363633},{"$f":"'CV Rotina <2A - procedência'!AB3","v":0.55454545454545456},{"$f":"COUNTIF(C2:D2,\">=0,9\")","v":0},{"$f":"COUNTIFS(E2:L2,\">=0,95\")","v":1},{"$f":"SUM(M2:N2)","v":1},{"$f":"COUNTIF(E2:H2,\">=0,95\")","v":1}]
["Norte","Água Doce do Norte",{"$f":"'CV Rotina <2A - procedência'!H4","v":0.5757575757575758},{"$f":"'CV Rotina <2A - procedência'!P4","v":1.0909090909090908},{"$f":"'CV Rotina <2A - procedência'!J4","v":1.2727272727272727},{"$f":"'CV Rotina <2A - procedência'!L4","v":1.3333333333333333},{"$f":"'CV Rotina <2A - procedência'!N4","v":1.1515151515151516},{"$f":"'CV Rotina <2A - procedência'!Z4","v":0.93939393939393945},{"$f":"'CV Rotina <2A - procedência'!R4","v":1.2424242424242424},{"$f":"'CV Rotina <2A - procedência'!T4","v":0.84848484848484851},{"$f":"'CV Rotina <2A - procedência'!X4","v":0.96969696969696972},{"$f":"'CV Rotina <2A - procedência'!AB4","v":0.63636363636363635},1,5,{"$f":"SUM(M3:N3)","v":6},{"$f":"COUNTIF(E3:H3,\">=0,95\")","v":3}]
["Central","Águia Branca",{"$f":"'CV Rotina <2A - procedência'!H5","v":0.80645161290322576},{"$f":"'CV Rotina <2A - procedência'!P5","v":1.2580645161290323},{"$f":"'CV Rotina <2A - procedência'!J5","v":1.4516129032258065},{"$f":"'CV Rotina <2A - procedência'!L5","v":1.4193548387096775},{"$f":"'CV Rotina <2A - procedência'!N5","v":1.2580645161290323},{"$f":"'CV Rotina <2A - procedência'!Z5","v":0.83870967741935487},{"$f":"'CV Rotina <2A - procedência'!R5","v":1.6129032258064515},{"$f":"'CV Rotina <2A - procedência'!T5","v":1.032258064516129},{"$f":"'CV Rotina <2A - procedência'!X5","v":0.83870967741935487},{"$f":"'CV Rotina <2A - procedência'!AB5","v":0.45161290322580644},1,5,6,3]
["Sul","Alegre",{"$f":"'CV Rotina <2A - procedência'!H6","v":0.69230769230769229},{"$f":"'CV Rotina <2A - procedência'!P6","v":1.0128205128205128},{"$f":"'CV Rotina <2A - procedência'!J6","v":1.0769230769230769},{"$f":"'CV Rotina <2A - procedência'!L6","v":1.141025641025641},{"$f":"'CV Rotina <2A - procedência'!N6","v":1.0769230769230769},{"$f":"'CV Rotina <2A - procedência'!Z6","v":0.97435897435897434},{"$f":"'CV Rotina <2A - procedência'!R6","v":0.97435897435897434},{"$f":"'CV Rotina <2A - procedência'!T6","v":1},{"$f":"'CV Rotina <2A - procedência'!X6","v":0.75641025641025639},{"$f":"'CV Rotina <2A - procedência'!AB6","v":0.39743589743589741},1,6,7,4]
["Sul","Alfredo Chaves",{"$f":"'CV Rotina <2A - procedência'!H7","v":0.5},{"$f":"'CV Rotina <2A - procedência'!P7","v":1.2250000000000001},{"$f":"'CV Rotina <2A - procedência'!J7","v":0.85},{"$f":"'CV Rotina <2A - procedência'!L7","v":0.95},{"$f":"'CV Rotina <2A - procedência'!N7","v":1.175},{"$f":"'CV Rotina <2A - procedência'!Z7","v":1.0249999999999999},{"$f":"'CV Rotina <2A - procedência'!R7","v":1.05},{"$f":"'CV Rotina <2A - procedência'!T7","v":0.85},{"$f":"'CV Rotina <2A - procedência'!X7","v":0.82499999999999996},{"$f":"'CV Rotina <2A - procedência'!AB7","v":0.52500000000000002},1,4,5,3]
["Central","Alto Rio Novo",{"$f":"'CV Rotina <2A - procedência'!H8","v":0.33333333333333331},{"$f":"'CV Rotina <2A - procedência'!P8","v":1.0833333333333333},{"$f":"'CV Rotina <2A - procedência'!J8","v":1.0833333333333333},{"$f":"'CV Rotina <2A - procedência'!L8","v":1.0833333333333333},{"$f":"'CV Rotina <2A - procedência'!N8","v":1.0833333333333333},{"$f":"'CV Rotina <2A - procedência'!Z8","v":0.95833333333333337},{"$f":"'CV Rotina <2A - procedência'!R8","v":1.25},{"$f":"'CV Rotina <2A - procedência'!T8","v":0.66666666666666663},{"$f":"'CV Rotina <2A - procedência'!X8","v":1},{"$f":"'CV Rotina <2A - procedência'!AB8","v":0.625},1,6,7,4]
["Sul","Anchieta",{"$f":"'CV Rotina <2A - procedência'!H9","v":0.65476190476190477},{"$f":"'CV Rotina <2A - procedência'!P9","v":1.3095238095238095},{"$f":"'CV Rotina <2A - procedência'!J9","v":1.0357142857142858},{"$f":"'CV Rotina <2A - procedência'!L9","v":1.0714285714285714},{"$f":"'CV Rotina <2A - procedência'!N9","v":1.3452380952380953},{"$f":"'CV Rotina <2A - procedência'!Z9","v":1.1071428571428572},{"$f":"'CV Rotina <2A - procedência'!R9","v":1.2023809523809523},{"$f":"'CV Rotina <2A - procedência'!T9","v":0.91666666666666663},{"$f":"'CV Rotina <2A - procedência'!X9","v":1.0357142857142858},{"$f":"'CV Rotina <2A - procedência'!AB9","v":0.52380952380952384},1,6,7,4]
["Sul","Apiacá",{"$f":"'CV Rotina <2A - procedência'!H10","v":1.0769230769230769},{"$f":"'CV Rotina <2A - procedência'!P10","v":1.2307692307692308},{"$f":"'CV Rotina <2A - procedência'!J10","v":0.76923076923076927},{"$f":"'CV Rotina <2A - procedência'!L10","v":0.84615384615384615},{"$f":"'CV Rotina <2A - procedência'!N10","v":1.1538461538461537},{"$f":"'CV Rotina <2A - procedência'!Z10","v":1},{"$f":"'CV Rotina <2A - procedência'!R10","v":0.84615384615384615},{"$f":"'CV Rotina <2A - procedência'!T10","v":1.3846153846153846},{"$f":"'CV Rotina <2A - procedência'!X10","v":0.69230769230769229},{"$f":"'CV Rotina <2A - procedência'!AB10","v":0.30769230769230771},2,3,5,2]
["Metropolitana","Aracruz",{"$f":"'CV Rotina <2A - procedência'!H11","v":0.90985915492957747},{"$f":"'CV Rotina <2A - procedência'!P11","v":0.96056338028169019},{"$f":"'CV Rotina <2A - procedência'!J11","v":0.90422535211267607},{"$f":"'CV Rotina <2A - procedência'!L11","v":0.90985915492957747},{"$f":"'CV Rotina <2A - procedência'!N11","v":0.96901408450704229},{"$f":"'CV Rotina <2A - procedência'!Z11","v":1.1549295774647887},{"$f":"'CV Rotina <2A - procedência'!R11","v":0.89577464788732397},{"$f":"'CV Rotina <2A - procedência'!T11","v":0.85070422535211265},{"$f":"'CV Rotina <2A - procedência'!X11","v":0.92394366197183098},{"$f":"'CV Rotina <2A - procedência'!AB11","v":0.78028169014084503},2,2,4,2]
["Sul","Atilio Vivacqua",{"$f":"'CV Rotina <2A - procedência'!H12","v":0},{"$f":"'CV Rotina <2A - procedência'!P12","v":0.86486486486486491},{"$f":"'CV Rotina <2A - procedência'!J12","v":0.94594594594594594},{"$f":"'CV Rotina <2A - procedência'!L12","v":0.91891891891891897},{"$f":"'CV Rotina <2A - procedência'!N12","v":0.86486486486486491},{"$f":"'CV Rotina <2A - procedência'!Z12","v":1.0540540540540539},{"$f":"'CV Rotina <2A - procedência'!R12","v":0.7567567567567568},{"$f":"'CV Rotina <2A - procedência'!T12","v":0.70270270270270274},{"$f":"'CV Rotina <2A - procedência'!X12","v":0.83783783783783783},{"$f":"'CV Rotina <2A - procedência'!AB12","v":0.59459459459459463},0,1,1,1]
["Central","Baixo Guandu",{"$f":"'CV Rotina <2A - procedência'!H13","v":0.63157894736842102},{"$f":"'CV Rotina <2A - procedência'!P13","v":1.3947368421052631},{"$f":"'CV Rotina <2A - procedência'!J13","v":1.3947368421052631},{"$f":"'CV Rotina <2A - procedência'!L13","v":1.3947368421052631},{"$f":"'CV Rotina <2A - procedência'!N13","v":1.4473684210526316},{"$f":"'CV Rotina <2A - procedência'!Z13","v":1.8552631578947369},{"$f":"'CV Rotina <2A - procedência'!R13","v":1.3026315789473684},{"$f":"'CV Rotina <2A - procedência'!T13","v":1.1052631578947369},{"$f":"'CV Rotina <2A - procedência'!X13","v":1.0526315789473684},{"$f":"'CV Rotina <2A - procedência'!AB13","v":0.93421052631578949},1,7,8,4]
["Norte","Barra de São Francisco",{"$f":"'CV Rotina <2A - procedência'!H14","v":0.86065573770491799},{"$f":"'CV Rotina <2A - procedência'!P14","v":0.95901639344262291},{"$f":"'CV Rotina <2A - procedência'!J14","v":0.92622950819672134},{"$f":"'CV Rotina <2A - procedência'!L14","v":0.95081967213114749},{"$f":"'CV Rotina <2A - procedência'!N14","v":0.98360655737704916},{"$f":"'CV Rotina <2A - procedência'!Z14","v":1.1557377049180328},{"$f":"'CV Rotina <2A - procedência'!R14","v":0.94262295081967218},{"$f":"'CV Rotina <2A - procedência'!T14","v":1.1147540983606556},{"$f":"'CV Rotina <2A - procedência'!X14","v":0.79508196721311475},{"$f":"'CV Rotina <2A - procedência'!AB14","v":0.81967213114754101},1,4,5,3]
["Norte","Boa Esperança",{"$f":"'CV Rotina <2A - procedência'!H15","v":0.37037037037037035},{"$f":"'CV Rotina <2A - procedência'!P15","v":0.85185185185185186},{"$f":"'CV Rotina <2A - procedência'!J15","v":0.66666666666666663},{"$f":"'CV Rotina <2A - procedência'!L15","v":0.7407407407407407},{"$f":"'CV Rotina <2A - procedência'!N15","v":0.81481481481481477},{"$f":"'CV Rotina <2A - procedência'!Z15","v":0.92592592592592593},{"$f":"'CV Rotina <2A - procedência'!R15","v":0.81481481481481477},{"$f":"'CV Rotina <2A - procedência'!T15","v":0.77777777777777779},{"$f":"'CV Rotina <2A - procedência'!X15","v":0.7407407407407407},{"$f":"'CV Rotina <2A - procedência'!AB15","v":0.7592592592592593},0,0,0,0]
["Sul","Bom Jesus do Norte",{"$f":"'CV Rotina <2A - procedência'!H16","v":0.7857142857142857},{"$f":"'CV Rotina <2A - procedência'!P16","v":2.0714285714285716},{"$f":"'CV Rotina <2A - procedência'!J16","v":2.7857142857142856},{"$f":"'CV Rotina <2A - procedência'!L16","v":2.6428571428571428},{"$f":"'CV Rotina <2A - procedência'!N16","v":2.2142857142857144},{"$f":"'CV Rotina <2A - procedência'!Z16","v":2.4285714285714284},{"$f":"'CV Rotina <2A - procedência'!R16","v":2.2142857142857144},{"$f":"'CV Rotina <2A - procedência'!T16","v":2.2857142857142856},{"$f":"'CV Rotina <2A - procedência'!X16","v":0.42857142857142855},{"$f":"'CV Rotina <2A - procedência'!AB16","v":0.8571428571428571},1,6,7,4]
["Metropolitana","Brejetuba",{"$f":"'CV Rotina <2A - procedência'!H17","v":1.0512820512820513},{"$f":"'CV Rotina <2A - procedência'!P17","v":1.3076923076923077},{"$f":"'CV Rotina <2A - procedência'!J17","v":1.2564102564102564},{"$f":"'CV Rotina <2A - procedência'!L17","v":1.2564102564102564},{"$f":"'CV Rotina <2A - procedência'!N17","v":1.3076923076923077},{"$f":"'CV Rotina <2A - procedência'!Z17","v":1.1538461538461537},{"$f":"'CV Rotina <2A - procedência'!R17","v":1.2307692307692308},{"$f":"'CV Rotina <2A - procedência'!T17","v":1.4358974358974359},{"$f":"'CV Rotina <2A - procedência'!X17","v":1.0769230769230769},{"$f":"'CV Rotina <2A - procedência'!AB17","v":0.89743589743589747},2,7,9,4]
["Sul","Cachoeiro de Itapemirim",{"$f":"'CV Rotina <2A - procedência'!H18","v":1.9029733959311423},{"$f":"'CV Rotina <2A - procedência'!P18","v":0.82316118935837246},{"$f":"'CV Rotina <2A - procedência'!J18","v":0.85758998435054778},{"$f":"'CV Rotina <2A - procedência'!L18","v":0.84350547730829417},{"$f":"'CV Rotina <2A - procedência'!N18","v":0.85289514866979654},{"$f":"'CV Rotina <2A - procedência'!Z18","v":0.94053208137715183},{"$f":"'CV Rotina <2A - procedência'!R18","v":0.82942097026604067},{"$f":"'CV Rotina <2A - procedência'!T18","v":0.76525821596244137},{"$f":"'CV Rotina <2A - procedência'!X18","v":0.72456964006259783},{"$f":"'CV Rotina <2A - procedência'!AB18","v":0.30985915492957744},1,0,1,0]
["Metropolitana","Cariacica",{"$f":"'CV Rotina <2A - procedência'!H19","v":0.50856164383561642},{"$f":"'CV Rotina <2A - procedência'!P19","v":0.88356164383561642},{"$f":"'CV Rotina <2A - procedência'!J19","v":0.92380136986301364},{"$f":"'CV Rotina <2A - procedência'!L19","v":0.90325342465753422},{"$f":"'CV Rotina <2A - procedência'!N19","v":0.94006849315068497},{"$f":"'CV Rotina <2A - procedência'!Z19","v":0.99400684931506844},{"$f":"'CV Rotina <2A - procedência'!R19","v":0.91695205479452058},{"$f":"'CV Rotina <2A - procedência'!T19","v":0.77140410958904104},{"$f":"'CV Rotina <2A - procedência'!X19","v":0.61986301369863017},{"$f":"'CV Rotina <2A - procedência'!AB19","v":0.43236301369863012},0,1,1,1]
["Sul","Castelo",{"$f":"'CV Rotina <2A - procedência'!H20","v":0.48799999999999999},{"$f":"'CV Rotina <2A - procedência'!P20","v":0.70399999999999996},{"$f":"'CV Rotina <2A - procedência'!J20","v":0.76},{"$f":"'CV Rotina <2A - procedência'!L20","v":0.752},{"$f":"'CV Rotina <2A - procedência'!N20","v":0.73599999999999999},{"$f":"'CV Rotina <2A - procedência'!Z20","v":1.024},{"$f":"'CV Rotina <2A - procedência'!R20","v":0.71199999999999997},{"$f":"'CV Rotina <2A - procedência'!T20","v":0.79200000000000004},{"$f":"'CV Rotina <2A - procedência'!X20","v":0.33600000000000002},{"$f":"'CV Rotina <2A - procedência'!AB20","v":0.44},0,1,1,1]
["Central","Colatina",{"$f":"'CV Rotina <2A - procedência'!H21","v":2.3805555555555555},{"$f":"'CV Rotina <2A - procedência'!P21","v":0.89166666666666672},{"$f":"'CV Rotina <2A - procedência'!J21","v":0.98333333333333328},{"$f":"'CV Rotina <2A - procedência'!L21","v":0.94722222222222219},{"$f":"'CV Rotina <2A - procedência'!N21","v":0.88888888888888884},{"$f":"'CV Rotina <2A - procedência'!Z21","v":0.93055555555555558},{"$f":"'CV Rotina <2A - procedência'!R21","v":0.90833333333333333},{"$f":"'CV Rotina <2A - procedência'!T21","v":0.79166666666666663},{"$f":"'CV Rotina <2A - procedência'!X21","v":0.50555555555555554},{"$f":"'CV Rotina <2A - procedência'!AB21","v":0.56666666666666665},1,1,2,1]
["Norte","Conceição da Barra",{"$f":"'CV Rotina <2A - procedência'!H22","v":9.0909090909090912E-2},{"$f":"'CV Rotina <2A - procedência'!P22","v":1.0340909090909092},{"$f":"'CV Rotina <2A - procedência'!J22","v":0.97727272727272729},{"$f":"'CV Rotina <2A - procedência'!L22","v":1},{"$f":"'CV Rotina <2A - procedência'!N22","v":1.0909090909090908},{"$f":"'CV Rotina <2A - procedência'!Z22","v":1.0568181818181819},{"$f":"'CV Rotina <2A - procedência'!R22","v":0.90909090909090906},{"$f":"'CV Rotina <2A - procedência'!T22","v":1.1363636363636365},{"$f":"'CV Rotina <2A - procedência'!X22","v":0.63636363636363635},{"$f":"'CV Rotina <2A - procedência'!AB22","v":0.65909090909090906},1,5,6,4]
["Metropolitana","Conceição do Castelo",{"$f":"'CV Rotina <2A - procedência'!H23","v":0},{"$f":"'CV Rotina <2A - procedência'!P23","v":1.1724137931034482},{"$f":"'CV Rotina <2A - procedência'!J23","v":1.103448275862069},{"$f":"'CV Rotina <2A - procedência'!L23","v":1.0689655172413792},{"$f":"'CV Rotina <2A - procedência'!N23","v":1.2413793103448276},{"$f":"'CV Rotina <2A - procedência'!Z23","v":0.75862068965517238},{"$f":"'CV Rotina <2A - procedência'!R23","v":1.2068965517241379},{"$f":"'CV Rotina <2A - procedência'!T23","v":1.4482758620689655},{"$f":"'CV Rotina <2A - procedência'!X23","v":1.2068965517241379},{"$f":"'CV Rotina <2A - procedência'!AB23","v":0.68965517241379315},1,6,7,3]
["Sul","Divino de São Lourenço",{"$f":"'CV Rotina <2A - procedência'!H24","v":1.6666666666666667},{"$f":"'CV Rotina <2A - procedência'!P24","v":2},{"$f":"'CV Rotina <2A - procedência'!J24","v":2.1111111111111112},{"$f":"'CV Rotina <2A - procedência'!L24","v":2.1111111111111112},{"$f":"'CV Rotina <2A - procedência'!N24","v":2},{"$f":"'CV Rotina <2A - procedência'!Z24","v":1.2222222222222223},{"$f":"'CV Rotina <2A - procedência'!R24","v":2.3333333333333335},{"$f":"'CV Rotina <2A - procedência'!T24","v":1.7777777777777777},{"$f":"'CV Rotina <2A - procedência'!X24","v":1.6666666666666667},{"$f":"'CV Rotina <2A - procedência'!AB24","v":1.1111111111111112},2,8,10,4]
["Metropolitana","Domingos Martins",{"$f":"'CV Rotina <2A - procedência'!H25","v":0.21276595744680851},{"$f":"'CV Rotina <2A - procedência'!P25","v":1.0212765957446808},{"$f":"'CV Rotina <2A - procedência'!J25","v":0.7978723404255319},{"$f":"'CV Rotina <2A - procedência'!L25","v":0.7978723404255319},{"$f":"'CV Rotina <2A - procedência'!N25","v":1.074468085106383},{"$f":"'CV Rotina <2A - procedência'!Z25","v":1.1595744680851063},{"$f":"'CV Rotina <2A - procedência'!R25","v":0.8936170212765957},{"$f":"'CV Rotina <2A - procedência'!T25","v":1.053191489361702},{"$f":"'CV Rotina <2A - procedência'!X25","v":0.58510638297872342},{"$f":"'CV Rotina <2A - procedência'!AB25","v":1.1489361702127661},1,4,5,2]
["Sul","Dores do Rio Preto",{"$f":"'CV Rotina <2A - procedência'!H26","v":0.6428571428571429},{"$f":"'CV Rotina <2A - procedência'!P26","v":1},{"$f":"'CV Rotina <2A - procedência'!J26","v":0.8928571428571429},{"$f":"'CV Rotina <2A - procedência'!L26","v":1},{"$f":"'CV Rotina <2A - procedência'!N26","v":1.0714285714285714},{"$f":"'CV Rotina <2A - procedência'!Z26","v":0.8928571428571429},{"$f":"'CV Rotina <2A - procedência'!R26","v":0.9285714285714286},{"$f":"'CV Rotina <2A - procedência'!T26","v":0.8928571428571429},{"$f":"'CV Rotina <2A - procedência'!X26","v":0.6428571428571429},{"$f":"'CV Rotina <2A - procedência'!AB26","v":0.32142857142857145},1,2,3,2]
["Norte","Ecoporanga",{"$f":"'CV Rotina <2A - procedência'!H27","v":0.75},{"$f":"'CV Rotina <2A - procedência'!P27","v":1.1041666666666667},{"$f":"'CV Rotina <2A - procedência'!J27","v":1.4375},{"$f":"'CV Rotina <2A - procedência'!L27","v":1.4166666666666667},{"$f":"'CV Rotina <2A - procedência'!N27","v":1.125},{"$f":"'CV Rotina <2A - procedência'!Z27","v":1.2916666666666667},{"$f":"'CV Rotina <2A - procedência'!R27","v":1.1875},{"$f":"'CV Rotina <2A - procedência'!T27","v":1.2291666666666667},{"$f":"'CV Rotina <2A - procedência'!X27","v":1.0416666666666667},{"$f":"'CV Rotina <2A - procedência'!AB27","v":1.125},1,8,9,4]
["Metropolitana","Fundão",{"$f":"'CV Rotina <2A - procedência'!H28","v":0.34482758620689657},{"$f":"'CV Rotina <2A - procedência'!P28","v":1},{"$f":"'CV Rotina <2A - procedência'!J28","v":1.103448275862069},{"$f":"'CV Rotina <2A - procedência'!L28","v":1.0517241379310345},{"$f":"'CV Rotina <2A - procedência'!N28","v":1.0172413793103448},{"$f":"'CV Rotina <2A - procedência'!Z28","v":0.65517241379310343},{"$f":"'CV Rotina <2A - procedência'!R28","v":0.96551724137931039},{"$f":"'CV Rotina <2A - procedência'!T28","v":0.91379310344827591},{"$f":"'CV Rotina <2A - procedência'!X28","v":0.96551724137931039},{"$f":"'CV Rotina <2A - procedência'!AB28","v":0.94827586206896552},1,5,6,3]
["Central","Governador Lindenberg",{"$f":"'CV Rotina <2A - procedência'!H29","v":0.29629629629629628},{"$f":"'CV Rotina <2A - procedência'!P29","v":1.1851851851851851},{"$f":"'CV Rotina <2A - procedência'!J29","v":1.1851851851851851},{"$f":"'CV Rotina <2A - procedência'!L29","v":1.0740740740740742},{"$f":"'CV Rotina <2A - procedência'!N29","v":1.1481481481481481},{"$f":"'CV Rotina <2A - procedência'!Z29","v":1.0740740740740742},{"$f":"'CV Rotina <2A - procedência'!R29","v":1.1481481481481481},{"$f":"'CV Rotina <2A - procedência'!T29","v":1.3703703703703705},{"$f":"'CV Rotina <2A - procedência'!X29","v":1},{"$f":"'CV Rotina <2A - procedência'!AB29","v":0.88888888888888884},1,7,8,4]
["Sul","Guaçuí",{"$f":"'CV Rotina <2A - procedência'!H30","v":0.74358974358974361},{"$f":"'CV Rotina <2A - procedência'!P30","v":1.2051282051282051},{"$f":"'CV Rotina <2A - procedência'!J30","v":1.2948717948717949},{"$f":"'CV Rotina <2A - procedência'!L30","v":1.2820512820512822},{"$f":"'CV Rotina <2A - procedência'!N30","v":1.3076923076923077},{"$f":"'CV Rotina <2A - procedência'!Z30","v":1.3846153846153846},{"$f":"'CV Rotina <2A - procedência'!R30","v":1.2051282051282051},{"$f":"'CV Rotina <2A - procedência'!T30","v":1.0256410256410255},{"$f":"'CV Rotina <2A - procedência'!X30","v":1.1025641025641026},{"$f":"'CV Rotina <2A - procedência'!AB30","v":0.44871794871794873},1,7,8,4]
["Metropolitana","Guarapari",{"$f":"'CV Rotina <2A - procedência'!H31","v":0.72123893805309736},{"$f":"'CV Rotina <2A - procedência'!P31","v":0.79424778761061943},{"$f":"'CV Rotina <2A - procedência'!J31","v":0.81194690265486724},{"$f":"'CV Rotina <2A - procedência'!L31","v":0.76548672566371678},{"$f":"'CV Rotina <2A - procedência'!N31","v":0.83628318584070793},{"$f":"'CV Rotina <2A - procedência'!Z31","v":0.77433628318584069},{"$f":"'CV Rotina <2A - procedência'!R31","v":0.76327433628318586},{"$f":"'CV Rotina <2A - procedência'!T31","v":0.69911504424778759},{"$f":"'CV Rotina <2A - procedência'!X31","v":0.62831858407079644},{"$f":"'CV Rotina <2A - procedência'!AB31","v":0.44690265486725661},0,0,0,0]
["Metropolitana","Ibatiba",{"$f":"'CV Rotina <2A - procedência'!H32","v":1.2121212121212122},{"$f":"'CV Rotina <2A - procedência'!P32","v":1.3787878787878789},{"$f":"'CV Rotina <2A - procedência'!J32","v":1.4090909090909092},{"$f":"'CV Rotina <2A - procedência'!L32","v":1.393939393939394},{"$f":"'CV Rotina <2A - procedência'!N32","v":1.5909090909090908},{"$f":"'CV Rotina <2A - procedência'!Z32","v":1.2272727272727273},{"$f":"'CV Rotina <2A - procedência'!R32","v":1.606060606060606},{"$f":"'CV Rotina <2A - procedência'!T32","v":1.2424242424242424},{"$f":"'CV Rotina <2A - procedência'!X32","v":1.0151515151515151},{"$f":"'CV Rotina <2A - procedência'!AB32","v":0.43939393939393939},2,7,9,4]
["Metropolitana","Ibiraçu",{"$f":"'CV Rotina <2A - procedência'!H33","v":0.17073170731707318},{"$f":"'CV Rotina <2A - procedência'!P33","v":0.65853658536585369},{"$f":"'CV Rotina <2A - procedência'!J33","v":0.75609756097560976},{"$f":"'CV Rotina <2A - procedência'!L33","v":0.73170731707317072},{"$f":"'CV Rotina <2A - procedência'!N33","v":0.70731707317073167},{"$f":"'CV Rotina <2A - procedência'!Z33","v":0.78048780487804881},{"$f":"'CV Rotina <2A - procedência'!R33","v":0.82926829268292679},{"$f":"'CV Rotina <2A - procedência'!T33","v":0.80487804878048785},{"$f":"'CV Rotina <2A - procedência'!X33","v":0.43902439024390244},{"$f":"'CV Rotina <2A - procedência'!AB33","v":0.46341463414634149},0,0,0,0]
["Sul","Ibitirama",{"$f":"'CV Rotina <2A - procedência'!H34","v":0.7407407407407407},{"$f":"'CV Rotina <2A - procedência'!P34","v":1.2222222222222223},{"$f":"'CV Rotina <2A - procedência'!J34","v":1.037037037037037},{"$f":"'CV Rotina <2A - procedência'!L34","v":1.1111111111111112},{"$f":"'CV Rotina <2A - procedência'!N34","v":1.2222222222222223},{"$f":"'CV Rotina <2A - procedência'!Z34","v":1.5925925925925926},{"$f":"'CV Rotina <2A - procedência'!R34","v":0.92592592592592593},{"$f":"'CV Rotina <2A - procedência'!T34","v":0.88888888888888884},{"$f":"'CV Rotina <2A - procedência'!X34","v":0.85185185185185186},{"$f":"'CV Rotina <2A - procedência'!AB34","v":0.81481481481481477},1,4,5,4]
["Sul","Iconha",{"$f":"'CV Rotina <2A - procedência'!H35","v":0.33333333333333331},{"$f":"'CV Rotina <2A - procedência'!P35","v":0.77777777777777779},{"$f":"'CV Rotina <2A - procedência'!J35","v":0.88888888888888884},{"$f":"'CV Rotina <2A - procedência'!L35","v":0.86111111111111116},{"$f":"'CV Rotina <2A - procedência'!N35","v":0.75},{"$f":"'CV Rotina <2A - procedência'!Z35","v":1.1944444444444444},{"$f":"'CV Rotina <2A - procedência'!R35","v":0.77777777777777779},{"$f":"'CV Rotina <2A - procedência'!T35","v":0.97222222222222221},{"$f":"'CV Rotina <2A - procedência'!X35","v":0.72222222222222221},{"$f":"'CV Rotina <2A - procedência'!AB35","v":0.16666666666666666},{"$f":"COUNTIF(C34:D34,\">=0,9\")","v":0},{"$f":"COUNTIFS(E34:L34,\">=0,95\")","v":2},2,1]
["Sul","Irupi",{"$f":"'CV Rotina <2A - procedência'!H36","v":0.5957446808510638},{"$f":"'CV Rotina <2A - procedência'!P36","v":1.3404255319148937},{"$f":"'CV Rotina <2A - procedência'!J36","v":1.1914893617021276},{"$f":"'CV Rotina <2A - procedência'!L36","v":1.1914893617021276},{"$f":"'CV Rotina <2A - procedência'!N36","v":1.446808510638298},{"$f":"'CV Rotina <2A - procedência'!Z36","v":1.6595744680851063},{"$f":"'CV Rotina <2A - procedência'!R36","v":1.2978723404255319},{"$f":"'CV Rotina <2A - procedência'!T36","v":0.93617021276595747},{"$f":"'CV Rotina <2A - procedência'!X36","v":0.91489361702127658},{"$f":"'CV Rotina <2A - procedência'!AB36","v":0.40425531914893614},1,5,6,4]
["Metropolitana","Itaguaçu",{"$f":"'CV Rotina <2A - procedência'!H37","v":0.6333333333333333},{"$f":"'CV Rotina <2A - procedência'!P37","v":0.93333333333333335},{"$f":"'CV Rotina <2A - procedência'!J37","v":0.96666666666666667},{"$f":"'CV Rotina <2A - procedência'!L37","v":0.96666666666666667},{"$f":"'CV Rotina <2A - procedência'!N37","v":0.93333333333333335},{"$f":"'CV Rotina <2A - procedência'!Z37","v":1.3},{"$f":"'CV Rotina <2A - procedência'!R37","v":0.96666666666666667},{"$f":"'CV Rotina <2A - procedência'!T37","v":1.2},{"$f":"'CV Rotina <2A - procedência'!X37","v":1.2333333333333334},{"$f":"'CV Rotina <2A - procedência'!AB37","v":1.3},1,7,8,3]
["Sul","Itapemirim",{"$f":"'CV Rotina <2A - procedência'!H38","v":0.40845070422535212},{"$f":"'CV Rotina <2A - procedência'!P38","v":0.75352112676056338},{"$f":"'CV Rotina <2A - procedência'!J38","v":0.72535211267605637},{"$f":"'CV Rotina <2A - procedência'!L38","v":0.70422535211267601},{"$f":"'CV Rotina <2A - procedência'!N38","v":0.88732394366197187},{"$f":"'CV Rotina <2A - procedência'!Z38","v":0.90845070422535212},{"$f":"'CV Rotina <2A - procedência'!R38","v":0.6901408450704225},{"$f":"'CV Rotina <2A - procedência'!T38","v":0.52112676056338025},{"$f":"'CV Rotina <2A - procedência'!X38","v":0.61971830985915488},{"$f":"'CV Rotina <2A - procedência'!AB38","v":0.49295774647887325},0,0,0,0]
["Metropolitana","Itarana",{"$f":"'CV Rotina <2A - procedência'!H39","v":1.0303030303030303},{"$f":"'CV Rotina <2A - procedência'!P39","v":0.75757575757575757},{"$f":"'CV Rotina <2A - procedência'!J39","v":0.93939393939393945},{"$f":"'CV Rotina <2A - procedência'!L39","v":0.93939393939393945},{"$f":"'CV Rotina <2A - procedência'!N39","v":0.75757575757575757},{"$f":"'CV Rotina <2A - procedência'!Z39","v":1},{"$f":"'CV Rotina <2A - procedência'!R39","v":0.78787878787878785},{"$f":"'CV Rotina <2A - procedência'!T39","v":1.1515151515151516},{"$f":"'CV Rotina <2A - procedência'!X39","v":0.27272727272727271},{"$f":"'CV Rotina <2A - procedência'!AB39","v":0.78787878787878785},1,2,3,1]
["Sul","Iúna",{"$f":"'CV Rotina <2A - procedência'!H40","v":0.72815533980582525},{"$f":"'CV Rotina <2A - procedência'!P40","v":1.203883495145631},{"$f":"'CV Rotina <2A - procedência'!J40","v":1.174757281553398},{"$f":"'CV Rotina <2A - procedência'!L40","v":1.1553398058252426},{"$f":"'CV Rotina <2A - procedência'!N40","v":1.2135922330097086},{"$f":"'CV Rotina <2A - procedência'!Z40","v":1.1844660194174756},{"$f":"'CV Rotina <2A - procedência'!R40","v":1.1553398058252426},{"$f":"'CV Rotina <2A - procedência'!T40","v":1.029126213592233},{"$f":"'CV Rotina <2A - procedência'!X40","v":0.73786407766990292},{"$f":"'CV Rotina <2A - procedência'!AB40","v":0.47572815533980584},1,6,7,4]
["Norte","Jaguaré",{"$f":"'CV Rotina <2A - procedência'!H41","v":0.70175438596491224},{"$f":"'CV Rotina <2A - procedência'!P41","v":1.0789473684210527},{"$f":"'CV Rotina <2A - procedência'!J41","v":1.0350877192982457},{"$f":"'CV Rotina <2A - procedência'!L41","v":1.1140350877192982},{"$f":"'CV Rotina <2A - procedência'!N41","v":1.0789473684210527},{"$f":"'CV Rotina <2A - procedência'!Z41","v":0.95614035087719296},{"$f":"'CV Rotina <2A - procedência'!R41","v":0.92982456140350878},{"$f":"'CV Rotina <2A - procedência'!T41","v":0.98245614035087714},{"$f":"'CV Rotina <2A - procedência'!X41","v":0.7192982456140351},{"$f":"'CV Rotina <2A - procedência'!AB41","v":0.56140350877192979},1,5,6,4]
["Sul","Jerônimo Monteiro",{"$f":"'CV Rotina <2A - procedência'!H42","v":0.12195121951219512},{"$f":"'CV Rotina <2A - procedência'!P42","v":0.97560975609756095},{"$f":"'CV Rotina <2A - procedência'!J42","v":1.1707317073170731},{"$f":"'CV Rotina <2A - procedência'!L42","v":1.1707317073170731},{"$f":"'CV Rotina <2A - procedência'!N42","v":0.95121951219512191},{"$f":"'CV Rotina <2A - procedência'!Z42","v":0.87804878048780488},{"$f":"'CV Rotina <2A - procedência'!R42","v":0.87804878048780488},{"$f":"'CV Rotina <2A - procedência'!T42","v":0.85365853658536583},{"$f":"'CV Rotina <2A - procedência'!X42","v":0.75609756097560976},{"$f":"'CV Rotina <2A - procedência'!AB42","v":0.17073170731707318},1,3,4,3]
["Metropolitana","João Neiva",{"$f":"'CV Rotina <2A - procedência'!H43","v":0.26829268292682928},{"$f":"'CV Rotina <2A - procedência'!P43","v":1.024390243902439},{"$f":"'CV Rotina <2A - procedência'!J43","v":1.1219512195121952},{"$f":"'CV Rotina <2A - procedência'!L43","v":1.0975609756097562},{"$f":"'CV Rotina <2A - procedência'!N43","v":1.0487804878048781},{"$f":"'CV Rotina <2A - procedência'!Z43","v":1.2195121951219512},{"$f":"'CV Rotina <2A - procedência'!R43","v":1.0731707317073171},{"$f":"'CV Rotina <2A - procedência'!T43","v":1.1463414634146341},{"$f":"'CV Rotina <2A - procedência'!X43","v":0.75609756097560976},{"$f":"'CV Rotina <2A - procedência'!AB43","v":0.53658536585365857},1,6,7,4]
["Metropolitana","Laranja da Terra",{"$f":"'CV Rotina <2A - procedência'!H44","v":0.6},{"$f":"'CV Rotina <2A - procedência'!P44","v":0.72},{"$f":"'CV Rotina <2A - procedência'!J44","v":1.1200000000000001},{"$f":"'CV Rotina <2A - procedência'!L44","v":1.1200000000000001},{"$f":"'CV Rotina <2A - procedência'!N44","v":0.68},{"$f":"'CV Rotina <2A - procedência'!Z44","v":1.68},{"$f":"'CV Rotina <2A - procedência'!R44","v":0.96},{"$f":"'CV Rotina <2A - procedência'!T44","v":1.48},{"$f":"'CV Rotina <2A - procedência'!X44","v":0.72},{"$f":"'CV Rotina <2A - procedência'!AB44","v":0.68},0,5,5,3]
["Central","Linhares",{"$f":"'CV Rotina <2A - procedência'!H45","v":1.0694444444444444},{"$f":"'CV Rotina <2A - procedência'!P45","v":0.81944444444444442},{"$f":"'CV Rotina <2A - procedência'!J45","v":0.85956790123456794},{"$f":"'CV Rotina <2A - procedência'!L45","v":0.84567901234567899},{"$f":"'CV Rotina <2A - procedência'!N45","v":0.80246913580246915},{"$f":"'CV Rotina <2A - procedência'!Z45","v":0.7885802469135802},{"$f":"'CV Rotina <2A - procedência'!R45","v":0.74537037037037035},{"$f":"'CV Rotina <2A - procedência'!T45","v":0.71759259259259256},{"$f":"'CV Rotina <2A - procedência'!X45","v":0.4660493827160494},{"$f":"'CV Rotina <2A - procedência'!AB45","v":0.50617283950617287},1,0,1,0]
["Central","Mantenópolis",{"$f":"'CV Rotina <2A - procedência'!H46","v":0.58823529411764708},{"$f":"'CV Rotina <2A - procedência'!P46","v":0.88235294117647056},{"$f":"'CV Rotina <2A - procedência'!J46","v":1.1764705882352942},{"$f":"'CV Rotina <2A - procedência'!L46","v":1.3235294117647058},{"$f":"'CV Rotina <2A - procedência'!N46","v":0.94117647058823528},{"$f":"'CV Rotina <2A - procedência'!Z46","v":1.1764705882352942},{"$f":"'CV Rotina <2A - procedência'!R46","v":0.91176470588235292},{"$f":"'CV Rotina <2A - procedência'!T46","v":1.0294117647058822},{"$f":"'CV Rotina <2A - procedência'!X46","v":0.97058823529411764},{"$f":"'CV Rotina <2A - procedência'!AB46","v":0.76470588235294112},0,5,5,3]
["Sul","Marataízes",{"$f":"'CV Rotina <2A - procedência'!H47","v":0.37179487179487181},{"$f":"'CV Rotina <2A - procedência'!P47","v":0.85897435897435892},{"$f":"'CV Rotina <2A - procedência'!J47","v":0.87820512820512819},{"$f":"'CV Rotina <2A - procedência'!L47","v":0.95512820512820518},{"$f":"'CV Rotina <2A - procedência'!N47","v":0.85256410256410253},{"$f":"'CV Rotina <2A - procedência'!Z47","v":0.92948717948717952},{"$f":"'CV Rotina <2A - procedência'!R47","v":0.9358974358974359},{"$f":"'CV Rotina <2A - procedência'!T47","v":0.67948717948717952},{"$f":"'CV Rotina <2A - procedência'!X47","v":0.85256410256410253},{"$f":"'CV Rotina <2A - procedência'!AB47","v":0.35256410256410259},0,1,1,1]
["Metropolitana","Marechal Floriano",{"$f":"'CV Rotina <2A - procedência'!H48","v":0.23076923076923078},{"$f":"'CV Rotina <2A - procedência'!P48","v":0.86153846153846159},{"$f":"'CV Rotina <2A - procedência'!J48","v":0.56923076923076921},{"$f":"'CV Rotina <2A - procedência'!L48","v":0.56923076923076921},{"$f":"'CV Rotina <2A - procedência'!N48","v":0.87692307692307692},{"$f":"'CV Rotina <2A - procedência'!Z48","v":0.87692307692307692},{"$f":"'CV Rotina <2A - procedência'!R48","v":0.69230769230769229},{"$f":"'CV Rotina <2A - procedência'!T48","v":0.72307692307692306},{"$f":"'CV Rotina <2A - procedência'!X48","v":0.69230769230769229},{"$f":"'CV Rotina <2A - procedência'!AB48","v":0.58461538461538465},0,0,0,0]
["Central","Marilândia",{"$f":"'CV Rotina <2A - procedência'!H49","v":0.4642857142857143},{"$f":"'CV Rotina <2A - procedência'!P49","v":1.3214285714285714},{"$f":"'CV Rotina <2A - procedência'!J49","v":1.2857142857142858},{"$f":"'CV Rotina <2A - procedência'!L49","v":1.2857142857142858},{"$f":"'CV Rotina <2A - procedência'!N49","v":1.1785714285714286},{"$f":"'CV Rotina <2A - procedência'!Z49","v":1.4285714285714286},{"$f":"'CV Rotina <2A - procedência'!R49","v":1.5714285714285714},{"$f":"'CV Rotina <2A - procedência'!T49","v":1.1071428571428572},{"$f":"'CV Rotina <2A - procedência'!X49","v":1.1071428571428572},{"$f":"'CV Rotina <2A - procedência'!AB49","v":0.9285714285714286},1,7,8,4]
["Sul","Mimoso do Sul",{"$f":"'CV Rotina <2A - procedência'!H50","v":0.17857142857142858},{"$f":"'CV Rotina <2A - procedência'!P50","v":0.8392857142857143},{"$f":"'CV Rotina <2A - procedência'!J50","v":0.9464285714285714},{"$f":"'CV Rotina <2A - procedência'!L50","v":0.9285714285714286},{"$f":"'CV Rotina <2A - procedência'!N50","v":0.875},{"$f":"'CV Rotina <2A - procedência'!Z50","v":1.0178571428571428},{"$f":"'CV Rotina <2A - procedência'!R50","v":0.8571428571428571},{"$f":"'CV Rotina <2A - procedência'!T50","v":0.875},{"$f":"'CV Rotina <2A - procedência'!X50","v":0.6964285714285714},{"$f":"'CV Rotina <2A - procedência'!AB50","v":0.48214285714285715},0,1,1,1]
["Norte","Montanha",{"$f":"'CV Rotina <2A - procedência'!H51","v":0.32727272727272727},{"$f":"'CV Rotina <2A - procedência'!P51","v":1.2545454545454546},{"$f":"'CV Rotina <2A - procedência'!J51","v":1.6363636363636365},{"$f":"'CV Rotina <2A - procedência'!L51","v":1.6727272727272726},{"$f":"'CV Rotina <2A - procedência'!N51","v":1.2363636363636363},{"$f":"'CV Rotina <2A - procedência'!Z51","v":1.2727272727272727},{"$f":"'CV Rotina <2A - procedência'!R51","v":1.1272727272727272},{"$f":"'CV Rotina <2A - procedência'!T51","v":1.1454545454545455},{"$f":"'CV Rotina <2A - procedência'!X51","v":1.0909090909090908},{"$f":"'CV Rotina <2A - procedência'!AB51","v":0.92727272727272725},1,7,8,4]
["Norte","Mucurici",{"$f":"'CV Rotina <2A - procedência'!H52","v":0.25},{"$f":"'CV Rotina <2A - procedência'!P52","v":1.6666666666666667},{"$f":"'CV Rotina <2A - procedência'!J52","v":1.9166666666666667},{"$f":"'CV Rotina <2A - procedência'!L52","v":2.0833333333333335},{"$f":"'CV Rotina <2A - procedência'!N52","v":1.75},{"$f":"'CV Rotina <2A - procedência'!Z52","v":1.6666666666666667},{"$f":"'CV Rotina <2A - procedência'!R52","v":1.5833333333333333},{"$f":"'CV Rotina <2A - procedência'!T52","v":1.9166666666666667},{"$f":"'CV Rotina <2A - procedência'!X52","v":0.75},{"$f":"'CV Rotina <2A - procedência'!AB52","v":0.75},1,6,7,4]
["Sul","Muniz Freire",{"$f":"'CV Rotina <2A - procedência'!H53","v":0.76744186046511631},{"$f":"'CV Rotina <2A - procedência'!P53","v":1.3488372093023255},{"$f":"'CV Rotina <2A - procedência'!J53","v":1.3255813953488371},{"$f":"'CV Rotina <2A - procedência'!L53","v":1.2093023255813953},{"$f":"'CV Rotina <2A - procedência'!N53","v":1.3023255813953489},{"$f":"'CV Rotina <2A - procedência'!Z53","v":1.6976744186046511},{"$f":"'CV Rotina <2A - procedência'!R53","v":1.2790697674418605},{"$f":"'CV Rotina <2A - procedência'!T53","v":1.4186046511627908},{"$f":"'CV Rotina <2A - procedência'!X53","v":1.2558139534883721},{"$f":"'CV Rotina <2A - procedência'!AB53","v":0.60465116279069764},1,7,8,4]
["Sul","Muqui",{"$f":"'CV Rotina <2A - procedência'!H54","v":0.15909090909090909},{"$f":"'CV Rotina <2A - procedência'!P54","v":0.77272727272727271},{"$f":"'CV Rotina <2A - procedência'!J54","v":1.1590909090909092},{"$f":"'CV Rotina <2A - procedência'!L54","v":1.1818181818181819},{"$f":"'CV Rotina <2A - procedência'!N54","v":0.77272727272727271},{"$f":"'CV Rotina <2A - procedência'!Z54","v":0.88636363636363635},{"$f":"'CV Rotina <2A - procedência'!R54","v":1.0227272727272727},{"$f":"'CV Rotina <2A - procedência'!T54","v":0.79545454545454541},{"$f":"'CV Rotina <2A - procedência'!X54","v":0.47727272727272729},{"$f":"'CV Rotina <2A - procedência'!AB54","v":0.43181818181818182},0,3,3,2]
["Norte","Nova Venécia",{"$f":"'CV Rotina <2A - procedência'!H55","v":0.60122699386503065},{"$f":"'CV Rotina <2A - procedência'!P55","v":0.85889570552147243},{"$f":"'CV Rotina <2A - procedência'!J55","v":1.1104294478527608},{"$f":"'CV Rotina <2A - procedência'!L55","v":1.1165644171779141},{"$f":"'CV Rotina <2A - procedência'!N55","v":0.88957055214723924},{"$f":"'CV Rotina <2A - procedência'!Z55","v":1.0306748466257669},{"$f":"'CV Rotina <2A - procedência'!R55","v":0.90797546012269936},{"$f":"'CV Rotina <2A - procedência'!T55","v":1.1104294478527608},{"$f":"'CV Rotina <2A - procedência'!X55","v":0.77300613496932513},{"$f":"'CV Rotina <2A - procedência'!AB55","v":0.68098159509202449},0,4,4,3]
["Central","Pancas",{"$f":"'CV Rotina <2A - procedência'!H56","v":0.52380952380952384},{"$f":"'CV Rotina <2A - procedência'!P56","v":1.2380952380952381},{"$f":"'CV Rotina <2A - procedência'!J56","v":1.3095238095238095},{"$f":"'CV Rotina <2A - procedência'!L56","v":1.3095238095238095},{"$f":"'CV Rotina <2A - procedência'!N56","v":1.2619047619047619},{"$f":"'CV Rotina <2A - procedência'!Z56","v":1.0952380952380953},{"$f":"'CV Rotina <2A - procedência'!R56","v":1.2857142857142858},{"$f":"'CV Rotina <2A - procedência'!T56","v":1.1666666666666667},{"$f":"'CV Rotina <2A - procedência'!X56","v":0.76190476190476186},{"$f":"'CV Rotina <2A - procedência'!AB56","v":1.2380952380952381},1,7,8,4]
["Norte","Pedro Canário",{"$f":"'CV Rotina <2A - procedência'!H57","v":3.8461538461538464E-2},{"$f":"'CV Rotina <2A - procedência'!P57","v":0.88461538461538458},{"$f":"'CV Rotina <2A - procedência'!J57","v":1},{"$f":"'CV Rotina <2A - procedência'!L57","v":1.0897435897435896},{"$f":"'CV Rotina <2A - procedência'!N57","v":0.91025641025641024},{"$f":"'CV Rotina <2A - procedência'!Z57","v":1.2307692307692308},{"$f":"'CV Rotina <2A - procedência'!R57","v":0.83333333333333337},{"$f":"'CV Rotina <2A - procedência'!T57","v":1.0641025641025641},{"$f":"'CV Rotina <2A - procedência'!X57","v":0.70512820512820518},{"$f":"'CV Rotina <2A - procedência'!AB57","v":0.78205128205128205},0,4,4,3]
["Norte","Pinheiros",{"$f":"'CV Rotina <2A - procedência'!H58","v":5.7142857142857141E-2},{"$f":"'CV Rotina <2A - procedência'!P58","v":1.0714285714285714},{"$f":"'CV Rotina <2A - procedência'!J58","v":1.2571428571428571},{"$f":"'CV Rotina <2A - procedência'!L58","v":1.2428571428571429},{"$f":"'CV Rotina <2A - procedência'!N58","v":1.1000000000000001},{"$f":"'CV Rotina <2A - procedência'!Z58","v":0.9285714285714286},{"$f":"'CV Rotina <2A - procedência'!R58","v":1.0142857142857142},{"$f":"'CV Rotina <2A - procedência'!T58","v":1.0857142857142856},{"$f":"'CV Rotina <2A - procedência'!X58","v":0.74285714285714288},{"$f":"'CV Rotina <2A - procedência'!AB58","v":0.44285714285714284},1,5,6,3]
["Sul","Piúma",{"$f":"'CV Rotina <2A - procedência'!H59","v":0.59701492537313428},{"$f":"'CV Rotina <2A - procedência'!P59","v":0.88059701492537312},{"$f":"'CV Rotina <2A - procedência'!J59","v":1.0746268656716418},{"$f":"'CV Rotina <2A - procedência'!L59","v":1.0746268656716418},{"$f":"'CV Rotina <2A - procedência'!N59","v":0.97014925373134331},{"$f":"'CV Rotina <2A - procedência'!Z59","v":1.0746268656716418},{"$f":"'CV Rotina <2A - procedência'!R59","v":0.70149253731343286},{"$f":"'CV Rotina <2A - procedência'!T59","v":0.74626865671641796},{"$f":"'CV Rotina <2A - procedência'!X59","v":0.83582089552238803},{"$f":"'CV Rotina <2A - procedência'!AB59","v":0.44776119402985076},0,4,4,4]
["Norte","Ponto Belo",{"$f":"'CV Rotina <2A - procedência'!H60","v":0.15789473684210525},{"$f":"'CV Rotina <2A - procedência'!P60","v":0.73684210526315785},{"$f":"'CV Rotina <2A - procedência'!J60","v":0.57894736842105265},{"$f":"'CV Rotina <2A - procedência'!L60","v":0.52631578947368418},{"$f":"'CV Rotina <2A - procedência'!N60","v":0.73684210526315785},{"$f":"'CV Rotina <2A - procedência'!Z60","v":0.78947368421052633},{"$f":"'CV Rotina <2A - procedência'!R60","v":0.31578947368421051},{"$f":"'CV Rotina <2A - procedência'!T60","v":0.89473684210526316},{"$f":"'CV Rotina <2A - procedência'!X60","v":0.47368421052631576},{"$f":"'CV Rotina <2A - procedência'!AB60","v":0.57894736842105265},0,0,0,0]
["Sul","Presidente Kennedy",{"$f":"'CV Rotina <2A - procedência'!H61","v":8.771929824561403E-2},{"$f":"'CV Rotina <2A - procedência'!P61","v":0.56140350877192979},{"$f":"'CV Rotina <2A - procedência'!J61","v":0.70175438596491224},{"$f":"'CV Rotina <2A - procedência'!L61","v":0.77192982456140347},{"$f":"'CV Rotina <2A - procedência'!N61","v":0.57894736842105265},{"$f":"'CV Rotina <2A - procedência'!Z61","v":1.1228070175438596},{"$f":"'CV Rotina <2A - procedência'!R61","v":0.77192982456140347},{"$f":"'CV Rotina <2A - procedência'!T61","v":0.68421052631578949},{"$f":"'CV Rotina <2A - procedência'!X61","v":0.75438596491228072},{"$f":"'CV Rotina <2A - procedência'!AB61","v":0.24561403508771928},0,1,1,1]
["Central","Rio Bananal",{"$f":"'CV Rotina <2A - procedência'!H62","v":0.20779220779220781},{"$f":"'CV Rotina <2A - procedência'!P62","v":0.87012987012987009},{"$f":"'CV Rotina <2A - procedência'!J62","v":0.98701298701298701},{"$f":"'CV Rotina <2A - procedência'!L62","v":0.98701298701298701},{"$f":"'CV Rotina <2A - procedência'!N62","v":0.83116883116883122},{"$f":"'CV Rotina <2A - procedência'!Z62","v":1.0649350649350648},{"$f":"'CV Rotina <2A - procedência'!R62","v":0.83116883116883122},{"$f":"'CV Rotina <2A - procedência'!T62","v":1},{"$f":"'CV Rotina <2A - procedência'!X62","v":0.79220779220779225},{"$f":"'CV Rotina <2A - procedência'!AB62","v":0.79220779220779225},0,4,4,3]
["Sul","Rio Novo do Sul",{"$f":"'CV Rotina <2A - procedência'!H63","v":0.29411764705882354},{"$f":"'CV Rotina <2A - procedência'!P63","v":0.91176470588235292},{"$f":"'CV Rotina <2A - procedência'!J63","v":1.1176470588235294},{"$f":"'CV Rotina <2A - procedência'!L63","v":1.1176470588235294},{"$f":"'CV Rotina <2A - procedência'!N63","v":0.91176470588235292},{"$f":"'CV Rotina <2A - procedência'!Z63","v":0.91176470588235292},{"$f":"'CV Rotina <2A - procedência'!R63","v":1.0294117647058822},{"$f":"'CV Rotina <2A - procedência'!T63","v":0.91176470588235292},{"$f":"'CV Rotina <2A - procedência'!X63","v":0.6470588235294118},{"$f":"'CV Rotina <2A - procedência'!AB63","v":0.73529411764705888},1,3,4,2]
["Metropolitana","Santa Leopoldina",{"$f":"'CV Rotina <2A - procedência'!H64","v":0.125},{"$f":"'CV Rotina <2A - procedência'!P64","v":0.84375},{"$f":"'CV Rotina <2A - procedência'!J64","v":0.78125},{"$f":"'CV Rotina <2A - procedência'!L64","v":0.78125},{"$f":"'CV Rotina <2A - procedência'!N64","v":0.8125},{"$f":"'CV Rotina <2A - procedência'!Z64","v":1.1875},{"$f":"'CV Rotina <2A - procedência'!R64","v":0.90625},{"$f":"'CV Rotina <2A - procedência'!T64","v":0.96875},{"$f":"'CV Rotina <2A - procedência'!X64","v":0.71875},{"$f":"'CV Rotina <2A - procedência'!AB64","v":0.3125},0,2,2,1]
["Metropolitana","Santa Maria de Jetibá",{"$f":"'CV Rotina <2A - procedência'!H65","v":0.73006134969325154},{"$f":"'CV Rotina <2A - procedência'!P65","v":0.95092024539877296},{"$f":"'CV Rotina <2A - procedência'!J65","v":0.84662576687116564},{"$f":"'CV Rotina <2A - procedência'!L65","v":0.84662576687116564},{"$f":"'CV Rotina <2A - procedência'!N65","v":0.93865030674846628},{"$f":"'CV Rotina <2A - procedência'!Z65","v":1.0981595092024541},{"$f":"'CV Rotina <2A - procedência'!R65","v":0.86503067484662577},{"$f":"'CV Rotina <2A - procedência'!T65","v":0.87730061349693256},{"$f":"'CV Rotina <2A - procedência'!X65","v":1.0061349693251533},{"$f":"'CV Rotina <2A - procedência'!AB65","v":0.3619631901840491},1,2,3,1]
["Metropolitana","Santa Teresa",{"$f":"'CV Rotina <2A - procedência'!H66","v":0.84126984126984128},{"$f":"'CV Rotina <2A - procedência'!P66","v":1.0317460317460319},{"$f":"'CV Rotina <2A - procedência'!J66","v":1.253968253968254},{"$f":"'CV Rotina <2A - procedência'!L66","v":1.253968253968254},{"$f":"'CV Rotina <2A - procedência'!N66","v":1.0158730158730158},{"$f":"'CV Rotina <2A - procedência'!Z66","v":1.1111111111111112},{"$f":"'CV Rotina <2A - procedência'!R66","v":1.0158730158730158},{"$f":"'CV Rotina <2A - procedência'!T66","v":0.80952380952380953},{"$f":"'CV Rotina <2A - procedência'!X66","v":0.77777777777777779},{"$f":"'CV Rotina <2A - procedência'!AB66","v":0.69841269841269837},1,5,6,4]
["Central","São Domingos do Norte",{"$f":"'CV Rotina <2A - procedência'!H67","v":0.60869565217391308},{"$f":"'CV Rotina <2A - procedência'!P67","v":1.1304347826086956},{"$f":"'CV Rotina <2A - procedência'!J67","v":1.2173913043478262},{"$f":"'CV Rotina <2A - procedência'!L67","v":1.2173913043478262},{"$f":"'CV Rotina <2A - procedência'!N67","v":1.1304347826086956},{"$f":"'CV Rotina <2A - procedência'!Z67","v":0.82608695652173914},{"$f":"'CV Rotina <2A - procedência'!R67","v":1.2173913043478262},{"$f":"'CV Rotina <2A - procedência'!T67","v":1.5217391304347827},{"$f":"'CV Rotina <2A - procedência'!X67","v":0.56521739130434778},{"$f":"'CV Rotina <2A - procedência'!AB67","v":0.82608695652173914},{"$f":"COUNTIF(C66:D66,\">=0,9\")","v":1},{"$f":"COUNTIFS(E66:L66,\">=0,95\")","v":5},6,3]
["Central","São Gabriel da Palha",{"$f":"'CV Rotina <2A - procedência'!H68","v":0.53409090909090906},{"$f":"'CV Rotina <2A - procedência'!P68","v":0.98863636363636365},{"$f":"'CV Rotina <2A - procedência'!J68","v":1.2272727272727273},{"$f":"'CV Rotina <2A - procedência'!L68","v":1.25},{"$f":"'CV Rotina <2A - procedência'!N68","v":1.0454545454545454},{"$f":"'CV Rotina <2A - procedência'!Z68","v":0.98863636363636365},{"$f":"'CV Rotina <2A - procedência'!R68","v":1.0909090909090908},{"$f":"'CV Rotina <2A - procedência'!T68","v":1.0227272727272727},{"$f":"'CV Rotina <2A - procedência'!X68","v":0.59090909090909094},{"$f":"'CV Rotina <2A - procedência'!AB68","v":0.72727272727272729},1,6,{"$f":"SUM(M67:N67)","v":7},{"$f":"COUNTIF(E67:H67,\">=0,95\")","v":4}]
["Sul","São José do Calçado",{"$f":"'CV Rotina <2A - procedência'!H69","v":1.1304347826086956},{"$f":"'CV Rotina <2A - procedência'!P69","v":1.173913043478261},{"$f":"'CV Rotina <2A - procedência'!J69","v":1.6956521739130435},{"$f":"'CV Rotina <2A - procedência'!L69","v":1.6521739130434783},{"$f":"'CV Rotina <2A - procedência'!N69","v":1.2608695652173914},{"$f":"'CV Rotina <2A - procedência'!Z69","v":1.5652173913043479},{"$f":"'CV Rotina <2A - procedência'!R69","v":1.6086956521739131},{"$f":"'CV Rotina <2A - procedência'!T69","v":0.91304347826086951},{"$f":"'CV Rotina <2A - procedência'!X69","v":1.173913043478261},{"$f":"'CV Rotina <2A - procedência'!AB69","v":0.73913043478260865},2,6,8,4]
["Norte","São Mateus",{"$f":"'CV Rotina <2A - procedência'!H70","v":1.6313131313131313},{"$f":"'CV Rotina <2A - procedência'!P70","v":0.96969696969696972},{"$f":"'CV Rotina <2A - procedência'!J70","v":1.1666666666666667},{"$f":"'CV Rotina <2A - procedência'!L70","v":1.148989898989899},{"$f":"'CV Rotina <2A - procedência'!N70","v":1.0378787878787878},{"$f":"'CV Rotina <2A - procedência'!Z70","v":0.94444444444444442},{"$f":"'CV Rotina <2A - procedência'!R70","v":0.93686868686868685},{"$f":"'CV Rotina <2A - procedência'!T70","v":0.81060606060606055},{"$f":"'CV Rotina <2A - procedência'!X70","v":0.78030303030303028},{"$f":"'CV Rotina <2A - procedência'!AB70","v":0.48737373737373735},2,3,5,3]
["Central","São Roque do Canaã",{"$f":"'CV Rotina <2A - procedência'!H71","v":0.4},{"$f":"'CV Rotina <2A - procedência'!P71","v":0.45},{"$f":"'CV Rotina <2A - procedência'!J71","v":0.67500000000000004},{"$f":"'CV Rotina <2A - procedência'!L71","v":0.65},{"$f":"'CV Rotina <2A - procedência'!N71","v":0.4},{"$f":"'CV Rotina <2A - procedência'!Z71","v":0.85},{"$f":"'CV Rotina <2A - procedência'!R71","v":0.6},{"$f":"'CV Rotina <2A - procedência'!T71","v":0.97499999999999998},{"$f":"'CV Rotina <2A - procedência'!X71","v":0.27500000000000002},{"$f":"'CV Rotina <2A - procedência'!AB71","v":0.52500000000000002},0,1,1,0]
["Metropolitana","Serra",{"$f":"'CV Rotina <2A - procedência'!H72","v":1.1389901093180634},{"$f":"'CV Rotina <2A - procedência'!P72","v":0.79593961478396669},{"$f":"'CV Rotina <2A - procedência'!J72","v":0.83029672045809477},{"$f":"'CV Rotina <2A - procedência'!L72","v":0.83758459135866736},{"$f":"'CV Rotina <2A - procedência'!N72","v":0.81051535658511187},{"$f":"'CV Rotina <2A - procedência'!Z72","v":0.79489849036959914},{"$f":"'CV Rotina <2A - procedência'!R72","v":0.77199375325351383},{"$f":"'CV Rotina <2A - procedência'!T72","v":0.68089536699635611},{"$f":"'CV Rotina <2A - procedência'!X72","v":0.47735554398750651},{"$f":"'CV Rotina <2A - procedência'!AB72","v":0.34096824570536177},1,0,1,0]
["Central","Sooretama",{"$f":"'CV Rotina <2A - procedência'!H73","v":3.6363636363636362E-2},{"$f":"'CV Rotina <2A - procedência'!P73","v":0.82727272727272727},{"$f":"'CV Rotina <2A - procedência'!J73","v":0.92727272727272725},{"$f":"'CV Rotina <2A - procedência'!L73","v":0.9363636363636364},{"$f":"'CV Rotina <2A - procedência'!N73","v":0.87272727272727268},{"$f":"'CV Rotina <2A - procedência'!Z73","v":0.8545454545454545},{"$f":"'CV Rotina <2A - procedência'!R73","v":0.75454545454545452},{"$f":"'CV Rotina <2A - procedência'!T73","v":0.81818181818181823},{"$f":"'CV Rotina <2A - procedência'!X73","v":0.8},{"$f":"'CV Rotina <2A - procedência'!AB73","v":0.49090909090909091},0,0,0,0]
["Sul","Vargem Alta",{"$f":"'CV Rotina <2A - procedência'!H74","v":6.25E-2},{"$f":"'CV Rotina <2A - procedência'!P74","v":0.96875},{"$f":"'CV Rotina <2A - procedência'!J74","v":0.875},{"$f":"'CV Rotina <2A - procedência'!L74","v":0.859375},{"$f":"'CV Rotina <2A - procedência'!N74","v":0.953125},{"$f":"'CV Rotina <2A - procedência'!Z74","v":0.984375},{"$f":"'CV Rotina <2A - procedência'!R74","v":0.953125},{"$f":"'CV Rotina <2A - procedência'!T74","v":0.921875},{"$f":"'CV Rotina <2A - procedência'!X74","v":0.890625},{"$f":"'CV Rotina <2A - procedência'!AB74","v":0.484375},1,3,4,2]
["Metropolitana","Venda Nova do Imigrante",{"$f":"'CV Rotina <2A - procedência'!H75","v":1.1463414634146341},{"$f":"'CV Rotina <2A - procedência'!P75","v":1.0365853658536586},{"$f":"'CV Rotina <2A - procedência'!J75","v":1.2317073170731707},{"$f":"'CV Rotina <2A - procedência'!L75","v":1.2317073170731707},{"$f":"'CV Rotina <2A - procedência'!N75","v":1.0731707317073171},{"$f":"'CV Rotina <2A - procedência'!Z75","v":1.2804878048780488},{"$f":"'CV Rotina <2A - procedência'!R75","v":1.1585365853658536},{"$f":"'CV Rotina <2A - procedência'!T75","v":1.2804878048780488},{"$f":"'CV Rotina <2A - procedência'!X75","v":0.65853658536585369},{"$f":"'CV Rotina <2A - procedência'!AB75","v":0.47560975609756095},2,6,8,4]
["Metropolitana","Viana",{"$f":"'CV Rotina <2A - procedência'!H76","v":0.18672199170124482},{"$f":"'CV Rotina <2A - procedência'!P76","v":0.87551867219917012},{"$f":"'CV Rotina <2A - procedência'!J76","v":0.95850622406639008},{"$f":"'CV Rotina <2A - procedência'!L76","v":0.92531120331950212},{"$f":"'CV Rotina <2A - procedência'!N76","v":0.9294605809128631},{"$f":"'CV Rotina <2A - procedência'!Z76","v":0.90041493775933612},{"$f":"'CV Rotina <2A - procedência'!R76","v":0.950207468879668},{"$f":"'CV Rotina <2A - procedência'!T76","v":0.70954356846473032},{"$f":"'CV Rotina <2A - procedência'!X76","v":0.62240663900414939},{"$f":"'CV Rotina <2A - procedência'!AB76","v":0.2863070539419087},0,2,2,1]
["Norte","Vila Pavão",{"$f":"'CV Rotina <2A - procedência'!H77","v":0.66666666666666663},{"$f":"'CV Rotina <2A - procedência'!P77","v":1},{"$f":"'CV Rotina <2A - procedência'!J77","v":1.1904761904761905},{"$f":"'CV Rotina <2A - procedência'!L77","v":1.1428571428571428},{"$f":"'CV Rotina <2A - procedência'!N77","v":1},{"$f":"'CV Rotina <2A - procedência'!Z77","v":1.4761904761904763},{"$f":"'CV Rotina <2A - procedência'!R77","v":1.0476190476190477},{"$f":"'CV Rotina <2A - procedência'!T77","v":1.3809523809523809},{"$f":"'CV Rotina <2A - procedência'!X77","v":0.8571428571428571},{"$f":"'CV Rotina <2A - procedência'!AB77","v":1.0476190476190477},1,7,8,4]
["Central","Vila Valério",{"$f":"'CV Rotina <2A - procedência'!H78","v":0.37037037037037035},{"$f":"'CV Rotina <2A - procedência'!P78","v":0.90740740740740744},{"$f":"'CV Rotina <2A - procedência'!J78","v":0.87037037037037035},{"$f":"'CV Rotina <2A - procedência'!L78","v":0.88888888888888884},{"$f":"'CV Rotina <2A - procedência'!N78","v":0.83333333333333337},{"$f":"'CV Rotina <2A - procedência'!Z78","v":0.85185185185185186},{"$f":"'CV Rotina <2A - procedência'!R78","v":0.7407407407407407},{"$f":"'CV Rotina <2A - procedência'!T78","v":1},{"$f":"'CV Rotina <2A - procedência'!X78","v":0.59259259259259256},{"$f":"'CV Rotina <2A - procedência'!AB78","v":0.83333333333333337},1,1,2,0]
["Metropolitana","Vila Velha",{"$f":"'CV Rotina <2A - procedência'!H79","v":0.71739130434782605},{"$f":"'CV Rotina <2A - procedência'!P79","v":0.79483695652173914},{"$f":"'CV Rotina <2A - procedência'!J79","v":0.76970108695652173},{"$f":"'CV Rotina <2A - procedência'!L79","v":0.76630434782608692},{"$f":"'CV Rotina <2A - procedência'!N79","v":0.77921195652173914},{"$f":"'CV Rotina <2A - procedência'!Z79","v":0.8125},{"$f":"'CV Rotina <2A - procedência'!R79","v":0.77173913043478259},{"$f":"'CV Rotina <2A - procedência'!T79","v":0.67527173913043481},{"$f":"'CV Rotina <2A - procedência'!X79","v":0.46739130434782611},{"$f":"'CV Rotina <2A - procedência'!AB79","v":0.4578804347826087},0,0,0,0]
["Metropolitana","Vitória",{"$f":"'CV Rotina <2A - procedência'!H80","v":1.7769230769230768},{"$f":"'CV Rotina <2A - procedência'!P80","v":0.88351648351648349},{"$f":"'CV Rotina <2A - procedência'!J80","v":1.0527472527472528},{"$f":"'CV Rotina <2A - procedência'!L80","v":1.0505494505494506},{"$f":"'CV Rotina <2A - procedência'!N80","v":0.82857142857142863},{"$f":"'CV Rotina <2A - procedência'!Z80","v":0.87472527472527473},{"$f":"'CV Rotina <2A - procedência'!R80","v":0.93956043956043955},{"$f":"'CV Rotina <2A - procedência'!T80","v":0.7615384615384615},{"$f":"'CV Rotina <2A - procedência'!X80","v":0.91098901098901097},{"$f":"'CV Rotina <2A - procedência'!AB80","v":0.55714285714285716},1,2,3,2]
[]
[null,"Total Norte",{"$f":"'CV Rotina <2A - procedência'!H82","v":0.83032207384131973},{"$f":"'CV Rotina <2A - procedência'!P82","v":0.98821681068342493},{"$f":"'CV Rotina <2A - procedência'!J82","v":1.1170463472113119},{"$f":"'CV Rotina <2A - procedência'!L82","v":1.1335428122545168},{"$f":"'CV Rotina <2A - procedência'!N82","v":1.0235663786331501},{"$f":"'CV Rotina <2A - procedência'!Z82","v":1.0408483896307934},{"$f":"'CV Rotina <2A - procedência'!R82","v":0.94815396700706989},{"$f":"'CV Rotina <2A - procedência'!T82","v":0.99764336213668503},{"$f":"'CV Rotina <2A - procedência'!X82","v":0.78161822466614295},{"$f":"'CV Rotina <2A - procedência'!AB82","v":0.64964650432050275},{"$f":"COUNTIF(C81:D81,\">=0,9\")","v":1},{"$f":"COUNTIFS(E81:L81,\">=0,95\")","v":5},{"$f":"SUM(M81:N81)","v":6},{"$f":"COUNTIF(E81:H81,\">=0,95\")","v":4}]
[null,"Total Central",{"$f":"'CV Rotina <2A - procedência'!H83","v":1.0896510228640193},{"$f":"'CV Rotina <2A - procedência'!P83","v":0.90974729241877261},{"$f":"'CV Rotina <2A - procedência'!J83","v":0.98616125150421174},{"$f":"'CV Rotina <2A - procedência'!L83","v":0.97533092659446452},{"$f":"'CV Rotina <2A - procedência'!N83","v":0.90433212996389889},{"$f":"'CV Rotina <2A - procedência'!Z83","v":0.93441636582430809},{"$f":"'CV Rotina <2A - procedência'!R83","v":0.89290012033694344},{"$f":"'CV Rotina <2A - procedência'!T83","v":0.85379061371841158},{"$f":"'CV Rotina <2A - procedência'!X83","v":0.5980746089049338},{"$f":"'CV Rotina <2A - procedência'!AB83","v":0.61612515042117932},{"$f":"COUNTIF(C82:D82,\">=0,9\")","v":2},{"$f":"COUNTIFS(E82:L82,\">=0,95\")","v":2},{"$f":"SUM(M82:N82)","v":4},{"$f":"COUNTIF(E82:H82,\">=0,95\")","v":2}]
[null,"Total Metropolitana",{"$f":"'CV Rotina <2A - procedência'!H84","v":0.90200267022696934},{"$f":"'CV Rotina <2A - procedência'!P84","v":0.85273698264352471},{"$f":"'CV Rotina <2A - procedência'!J84","v":0.8865153538050734},{"$f":"'CV Rotina <2A - procedência'!L84","v":0.87957276368491322},{"$f":"'CV Rotina <2A - procedência'!N84","v":0.86328437917222967},{"$f":"'CV Rotina <2A - procedência'!Z84","v":0.89506008010680904},{"$f":"'CV Rotina <2A - procedência'!R84","v":0.85407209612817092},{"$f":"'CV Rotina <2A - procedência'!T84","v":0.75660881174899863},{"$f":"'CV Rotina <2A - procedência'!X84","v":0.62803738317757007},{"$f":"'CV Rotina <2A - procedência'!AB84","v":0.46862483311081443},{"$f":"COUNTIF(C83:D83,\">=0,9\")","v":1},{"$f":"COUNTIFS(E83:L83,\">=0,95\")","v":0},{"$f":"SUM(M83:N83)","v":1},{"$f":"COUNTIF(E83:H83,\">=0,95\")","v":0}]
[null,"Total Sul",{"$f":"'CV Rotina <2A - procedência'!H85","v":0.91750599520383691},{"$f":"'CV Rotina <2A - procedência'!P85","v":0.93429256594724219},{"$f":"'CV Rotina <2A - procedência'!J85","v":0.96306954436450842},{"$f":"'CV Rotina <2A - procedência'!L85","v":0.96642685851318944},{"$f":"'CV Rotina <2A - procedência'!N85","v":0.96786570743405276},{"$f":"'CV Rotina <2A - procedência'!Z85","v":1.0551558752997603},{"$f":"'CV Rotina <2A - procedência'!R85","v":0.92757793764988006},{"$f":"'CV Rotina <2A - procedência'!T85","v":0.83597122302158278},{"$f":"'CV Rotina <2A - procedência'!X85","v":0.76163069544364503},{"$f":"'CV Rotina <2A - procedência'!AB85","v":0.41151079136690649},{"$f":"COUNTIF(C84:D84,\">=0,9\")","v":2},{"$f":"COUNTIFS(E84:L84,\">=0,95\")","v":4},{"$f":"SUM(M84:N84)","v":6},{"$f":"COUNTIF(E84:H84,\">=0,95\")","v":4}]
[null,"Total Espírito Santo",{"$f":"'CV Rotina <2A - procedência'!H86","v":0.92222222222222228},{"$f":"'CV Rotina <2A - procedência'!P86","v":0.88768984812150276},{"$f":"'CV Rotina <2A - procedência'!J86","v":0.93597122302158275},{"$f":"'CV Rotina <2A - procedência'!L86","v":0.93261390887290163},{"$f":"'CV Rotina <2A - procedência'!N86","v":0.90247801758593127},{"$f":"'CV Rotina <2A - procedência'!Z86","v":0.94180655475619501},{"$f":"'CV Rotina <2A - procedência'!R86","v":0.88105515587529981},{"$f":"'CV Rotina <2A - procedência'!T86","v":0.80727418065547563},{"$f":"'CV Rotina <2A - procedência'!X86","v":0.66195043964828137},{"$f":"'CV Rotina <2A - procedência'!AB86","v":0.49712230215827335},{"$f":"COUNTIF(C85:D85,\">=0,9\")","v":1},{"$f":"COUNTIFS(E85:L85,\">=0,95\")","v":0},{"$f":"SUM(M85:N85)","v":1},{"$f":"COUNTIF(E85:H85,\">=0,95\")","v":0}]
[]
[]
["Fonte: SIPNI/DATASUS, em 09 de junho de 2023.*"]
[" Vacina e Confia, em 12 de junho de 2023.**"]
["*Dados referentes às doses aplicadas pelas clínicas particulares de janeiro a maio de 2023"]
["**Dados referente às doses aplicadas no período de janeiro a maio de 2023"]
["Cobertura Calculada por município de vacinação"]
["1 População proporcional extraída do MS/SVS/DASIS - Sistema de Informações sobre Nascidos Vivos - SINASC"]
["2000 a 2021 – Estimativas preliminares elaboradas pelo Ministério da Saúde/SVS/DASNT/CGIAE"]
[" Nota: Dados preliminares 2021"]

{"sheet":"cálculos2","index":11,"n_rows":95,"n_cols":16,"rows_kept":95,"cut":false,"hidden":true,"merged":[]}
["Regional ","Município","Cobertura Vacinal BCG","Cobertura Vacinal Rotavírus","Cobertura Vacinal Pentavalente","Cobertura Vacinal Poliomielite ","Cobertura Vacinal Pneumo 10","Cobertura Vacinal Tríplice Viral","Cobertura Vacinal Meningo C","Cobertura Vacinal Febre Amarela","Cobertura Vacinal Hepatite A","Cobertura Varicela","META 90%","META 95%","ATINGIRAM META","PQA-VS"]
["Metropolitana","Afonso Cláudio",{"$f":"'CV Rotina <2A - residência'!H3","v":0.73636363636363633},{"$f":"'CV Rotina <2A - residência'!P3","v":0.86363636363636365},{"$f":"'CV Rotina <2A - residência'!J3","v":0.94545454545454544},{"$f":"'CV Rotina <2A - residência'!L3","v":0.9363636363636364},{"$f":"'CV Rotina <2A - residência'!N3","v":0.84545454545454546},{"$f":"'CV Rotina <2A - residência'!Z3","v":1.0636363636363637},{"$f":"'CV Rotina <2A - residência'!R3","v":0.95454545454545459},{"$f":"'CV Rotina <2A - residência'!T3","v":0.77272727272727271},{"$f":"'CV Rotina <2A - residência'!X3","v":0.80909090909090908},{"$f":"'CV Rotina <2A - residência'!AB3","v":0.59090909090909094},{"$f":"COUNTIF(C2:D2,\">=0,9\")","v":0},{"$f":"COUNTIFS(E2:L2,\">=0,95\")","v":2},{"$f":"SUM(M2:N2)","v":2},{"$f":"COUNTIF(E2:H2,\">=0,95\")","v":1}]
["Norte","Água Doce do Norte",{"$f":"'CV Rotina <2A - residência'!H4","v":1.7575757575757576},{"$f":"'CV Rotina <2A - residência'!P4","v":1.2121212121212122},{"$f":"'CV Rotina <2A - residência'!J4","v":1.303030303030303},{"$f":"'CV Rotina <2A - residência'!L4","v":1.3636363636363635},{"$f":"'CV Rotina <2A - residência'!N4","v":1.2727272727272727},{"$f":"'CV Rotina <2A - residência'!Z4","v":0.90909090909090906},{"$f":"'CV Rotina <2A - residência'!R4","v":1.393939393939394},{"$f":"'CV Rotina <2A - residência'!T4","v":0.90909090909090906},{"$f":"'CV Rotina <2A - residência'!X4","v":0.84848484848484851},{"$f":"'CV Rotina <2A - residência'!AB4","v":0.5757575757575758},2,4,{"$f":"SUM(M3:N3)","v":6},{"$f":"COUNTIF(E3:H3,\">=0,95\")","v":3}]
["Central","Águia Branca",{"$f":"'CV Rotina <2A - residência'!H5","v":1.3225806451612903},{"$f":"'CV Rotina <2A - residência'!P5","v":1.2258064516129032},{"$f":"'CV Rotina <2A - residência'!J5","v":1.4516129032258065},{"$f":"'CV Rotina <2A - residência'!L5","v":1.4516129032258065},{"$f":"'CV Rotina <2A - residência'!N5","v":1.2258064516129032},{"$f":"'CV Rotina <2A - residência'!Z5","v":0.90322580645161288},{"$f":"'CV Rotina <2A - residência'!R5","v":1.4838709677419355},{"$f":"'CV Rotina <2A - residência'!T5","v":1.1290322580645162},{"$f":"'CV Rotina <2A - residência'!X5","v":0.80645161290322576},{"$f":"'CV Rotina <2A - residência'!AB5","v":0.45161290322580644},2,5,7,3]
["Sul","Alegre",{"$f":"'CV Rotina <2A - residência'!H6","v":0.91025641025641024},{"$f":"'CV Rotina <2A - residência'!P6","v":1},{"$f":"'CV Rotina <2A - residência'!J6","v":1.0128205128205128},{"$f":"'CV Rotina <2A - residência'!L6","v":1.0641025641025641},{"$f":"'CV Rotina <2A - residência'!N6","v":1.0512820512820513},{"$f":"'CV Rotina <2A - residência'!Z6","v":1.0256410256410255},{"$f":"'CV Rotina <2A - residência'!R6","v":0.94871794871794868},{"$f":"'CV Rotina <2A - residência'!T6","v":1.0256410256410255},{"$f":"'CV Rotina <2A - residência'!X6","v":0.70512820512820518},{"$f":"'CV Rotina <2A - residência'!AB6","v":0.39743589743589741},2,5,7,4]
["Sul","Alfredo Chaves",{"$f":"'CV Rotina <2A - residência'!H7","v":0.625},{"$f":"'CV Rotina <2A - residência'!P7","v":1.2},{"$f":"'CV Rotina <2A - residência'!J7","v":0.8},{"$f":"'CV Rotina <2A - residência'!L7","v":0.9},{"$f":"'CV Rotina <2A - residência'!N7","v":1.1499999999999999},{"$f":"'CV Rotina <2A - residência'!Z7","v":0.92500000000000004},{"$f":"'CV Rotina <2A - residência'!R7","v":1.0249999999999999},{"$f":"'CV Rotina <2A - residência'!T7","v":0.92500000000000004},{"$f":"'CV Rotina <2A - residência'!X7","v":0.72499999999999998},{"$f":"'CV Rotina <2A - residência'!AB7","v":0.45},1,2,3,1]
["Central","Alto Rio Novo",{"$f":"'CV Rotina <2A - residência'!H8","v":0.66666666666666663},{"$f":"'CV Rotina <2A - residência'!P8","v":0.95833333333333337},{"$f":"'CV Rotina <2A - residência'!J8","v":1.0833333333333333},{"$f":"'CV Rotina <2A - residência'!L8","v":1.0833333333333333},{"$f":"'CV Rotina <2A - residência'!N8","v":0.95833333333333337},{"$f":"'CV Rotina <2A - residência'!Z8","v":0.95833333333333337},{"$f":"'CV Rotina <2A - residência'!R8","v":1},{"$f":"'CV Rotina <2A - residência'!T8","v":0.625},{"$f":"'CV Rotina <2A - residência'!X8","v":0.70833333333333337},{"$f":"'CV Rotina <2A - residência'!AB8","v":0.41666666666666669},1,5,6,4]
["Sul","Anchieta",{"$f":"'CV Rotina <2A - residência'!H9","v":0.97619047619047616},{"$f":"'CV Rotina <2A - residência'!P9","v":1.3095238095238095},{"$f":"'CV Rotina <2A - residência'!J9","v":1.0952380952380953},{"$f":"'CV Rotina <2A - residência'!L9","v":1.1309523809523809},{"$f":"'CV Rotina <2A - residência'!N9","v":1.2976190476190477},{"$f":"'CV Rotina <2A - residência'!Z9","v":1.1666666666666667},{"$f":"'CV Rotina <2A - residência'!R9","v":1.1904761904761905},{"$f":"'CV Rotina <2A - residência'!T9","v":0.97619047619047616},{"$f":"'CV Rotina <2A - residência'!X9","v":1},{"$f":"'CV Rotina <2A - residência'!AB9","v":0.55952380952380953},2,7,9,4]
["Sul","Apiacá",{"$f":"'CV Rotina <2A - residência'!H10","v":1.1538461538461537},{"$f":"'CV Rotina <2A - residência'!P10","v":1.1538461538461537},{"$f":"'CV Rotina <2A - residência'!J10","v":0.69230769230769229},{"$f":"'CV Rotina <2A - residência'!L10","v":0.69230769230769229},{"$f":"'CV Rotina <2A - residência'!N10","v":1.0769230769230769},{"$f":"'CV Rotina <2A - residência'!Z10","v":0.76923076923076927},{"$f":"'CV Rotina <2A - residência'!R10","v":0.69230769230769229},{"$f":"'CV Rotina <2A - residência'!T10","v":1.3846153846153846},{"$f":"'CV Rotina <2A - residência'!X10","v":0.30769230769230771},{"$f":"'CV Rotina <2A - residência'!AB10","v":0.15384615384615385},2,2,4,1]
["Metropolitana","Aracruz",{"$f":"'CV Rotina <2A - residência'!H11","v":0.94647887323943658},{"$f":"'CV Rotina <2A - residência'!P11","v":0.95211267605633798},{"$f":"'CV Rotina <2A - residência'!J11","v":0.89014084507042257},{"$f":"'CV Rotina <2A - residência'!L11","v":0.89577464788732397},{"$f":"'CV Rotina <2A - residência'!N11","v":0.96338028169014089},{"$f":"'CV Rotina <2A - residência'!Z11","v":1.152112676056338},{"$f":"'CV Rotina <2A - residência'!R11","v":0.87605633802816907},{"$f":"'CV Rotina <2A - residência'!T11","v":0.82816901408450705},{"$f":"'CV Rotina <2A - residência'!X11","v":0.88169014084507047},{"$f":"'CV Rotina <2A - residência'!AB11","v":0.75211267605633803},2,2,4,2]
["Sul","Atilio Vivacqua",{"$f":"'CV Rotina <2A - residência'!H12","v":0.7567567567567568},{"$f":"'CV Rotina <2A - residência'!P12","v":0.81081081081081086},{"$f":"'CV Rotina <2A - residência'!J12","v":0.81081081081081086},{"$f":"'CV Rotina <2A - residência'!L12","v":0.78378378378378377},{"$f":"'CV Rotina <2A - residência'!N12","v":0.81081081081081086},{"$f":"'CV Rotina <2A - residência'!Z12","v":0.91891891891891897},{"$f":"'CV Rotina <2A - residência'!R12","v":0.70270270270270274},{"$f":"'CV Rotina <2A - residência'!T12","v":0.67567567567567566},{"$f":"'CV Rotina <2A - residência'!X12","v":0.7567567567567568},{"$f":"'CV Rotina <2A - residência'!AB12","v":0.51351351351351349},0,0,0,0]
["Central","Baixo Guandu",{"$f":"'CV Rotina <2A - residência'!H13","v":1.1578947368421053},{"$f":"'CV Rotina <2A - residência'!P13","v":1.3289473684210527},{"$f":"'CV Rotina <2A - residência'!J13","v":1.3289473684210527},{"$f":"'CV Rotina <2A - residência'!L13","v":1.3289473684210527},{"$f":"'CV Rotina <2A - residência'!N13","v":1.368421052631579},{"$f":"'CV Rotina <2A - residência'!Z13","v":1.7763157894736843},{"$f":"'CV Rotina <2A - residência'!R13","v":1.2763157894736843},{"$f":"'CV Rotina <2A - residência'!T13","v":1.118421052631579},{"$f":"'CV Rotina <2A - residência'!X13","v":1.0263157894736843},{"$f":"'CV Rotina <2A - residência'!AB13","v":0.90789473684210531},2,7,9,4]
["Norte","Barra de São Francisco",{"$f":"'CV Rotina <2A - residência'!H14","v":0.91803278688524592},{"$f":"'CV Rotina <2A - residência'!P14","v":0.96721311475409832},{"$f":"'CV Rotina <2A - residência'!J14","v":0.97540983606557374},{"$f":"'CV Rotina <2A - residência'!L14","v":0.98360655737704916},{"$f":"'CV Rotina <2A - residência'!N14","v":0.99180327868852458},{"$f":"'CV Rotina <2A - residência'!Z14","v":1.098360655737705},{"$f":"'CV Rotina <2A - residência'!R14","v":0.95901639344262291},{"$f":"'CV Rotina <2A - residência'!T14","v":1.1229508196721312},{"$f":"'CV Rotina <2A - residência'!X14","v":0.84426229508196726},{"$f":"'CV Rotina <2A - residência'!AB14","v":0.82786885245901642},2,6,8,4]
["Norte","Boa Esperança",{"$f":"'CV Rotina <2A - residência'!H15","v":0.85185185185185186},{"$f":"'CV Rotina <2A - residência'!P15","v":0.90740740740740744},{"$f":"'CV Rotina <2A - residência'!J15","v":0.64814814814814814},{"$f":"'CV Rotina <2A - residência'!L15","v":0.7407407407407407},{"$f":"'CV Rotina <2A - residência'!N15","v":0.88888888888888884},{"$f":"'CV Rotina <2A - residência'!Z15","v":0.92592592592592593},{"$f":"'CV Rotina <2A - residência'!R15","v":0.85185185185185186},{"$f":"'CV Rotina <2A - residência'!T15","v":0.85185185185185186},{"$f":"'CV Rotina <2A - residência'!X15","v":0.72222222222222221},{"$f":"'CV Rotina <2A - residência'!AB15","v":0.68518518518518523},1,0,1,0]
["Sul","Bom Jesus do Norte",{"$f":"'CV Rotina <2A - residência'!H16","v":0.9285714285714286},{"$f":"'CV Rotina <2A - residência'!P16","v":2.2142857142857144},{"$f":"'CV Rotina <2A - residência'!J16","v":2.6428571428571428},{"$f":"'CV Rotina <2A - residência'!L16","v":2.5},{"$f":"'CV Rotina <2A - residência'!N16","v":2.3571428571428572},{"$f":"'CV Rotina <2A - residência'!Z16","v":1.7142857142857142},{"$f":"'CV Rotina <2A - residência'!R16","v":2},{"$f":"'CV Rotina <2A - residência'!T16","v":2.1428571428571428},{"$f":"'CV Rotina <2A - residência'!X16","v":0.2857142857142857},{"$f":"'CV Rotina <2A - residência'!AB16","v":0.2857142857142857},2,6,8,4]
["Metropolitana","Brejetuba",{"$f":"'CV Rotina <2A - residência'!H17","v":1.2307692307692308},{"$f":"'CV Rotina <2A - residência'!P17","v":1.2051282051282051},{"$f":"'CV Rotina <2A - residência'!J17","v":1.2051282051282051},{"$f":"'CV Rotina <2A - residência'!L17","v":1.2051282051282051},{"$f":"'CV Rotina <2A - residência'!N17","v":1.2307692307692308},{"$f":"'CV Rotina <2A - residência'!Z17","v":1.2051282051282051},{"$f":"'CV Rotina <2A - residência'!R17","v":1.2051282051282051},{"$f":"'CV Rotina <2A - residência'!T17","v":1.4102564102564104},{"$f":"'CV Rotina <2A - residência'!X17","v":1.1025641025641026},{"$f":"'CV Rotina <2A - residência'!AB17","v":0.82051282051282048},2,7,9,4]
["Sul","Cachoeiro de Itapemirim",{"$f":"'CV Rotina <2A - residência'!H18","v":1.0250391236306728},{"$f":"'CV Rotina <2A - residência'!P18","v":0.81690140845070425},{"$f":"'CV Rotina <2A - residência'!J18","v":0.86697965571205005},{"$f":"'CV Rotina <2A - residência'!L18","v":0.85289514866979654},{"$f":"'CV Rotina <2A - residência'!N18","v":0.8419405320813772},{"$f":"'CV Rotina <2A - residência'!Z18","v":0.95931142410015646},{"$f":"'CV Rotina <2A - residência'!R18","v":0.81377151799687009},{"$f":"'CV Rotina <2A - residência'!T18","v":0.78873239436619713},{"$f":"'CV Rotina <2A - residência'!X18","v":0.74647887323943662},{"$f":"'CV Rotina <2A - residência'!AB18","v":0.33176838810641629},1,1,2,1]
["Metropolitana","Cariacica",{"$f":"'CV Rotina <2A - residência'!H19","v":0.86900684931506844},{"$f":"'CV Rotina <2A - residência'!P19","v":0.8946917808219178},{"$f":"'CV Rotina <2A - residência'!J19","v":0.95034246575342463},{"$f":"'CV Rotina <2A - residência'!L19","v":0.92636986301369861},{"$f":"'CV Rotina <2A - residência'!N19","v":0.94777397260273977},{"$f":"'CV Rotina <2A - residência'!Z19","v":0.99058219178082196},{"$f":"'CV Rotina <2A - residência'!R19","v":0.92808219178082196},{"$f":"'CV Rotina <2A - residência'!T19","v":0.76883561643835618},{"$f":"'CV Rotina <2A - residência'!X19","v":0.63955479452054798},{"$f":"'CV Rotina <2A - residência'!AB19","v":0.44691780821917809},0,2,2,2]
["Sul","Castelo",{"$f":"'CV Rotina <2A - residência'!H20","v":0.72},{"$f":"'CV Rotina <2A - residência'!P20","v":0.76},{"$f":"'CV Rotina <2A - residência'!J20","v":0.77600000000000002},{"$f":"'CV Rotina <2A - residência'!L20","v":0.76800000000000002},{"$f":"'CV Rotina <2A - residência'!N20","v":0.79200000000000004},{"$f":"'CV Rotina <2A - residência'!Z20","v":0.99199999999999999},{"$f":"'CV Rotina <2A - residência'!R20","v":0.76},{"$f":"'CV Rotina <2A - residência'!T20","v":0.78400000000000003},{"$f":"'CV Rotina <2A - residência'!X20","v":0.32800000000000001},{"$f":"'CV Rotina <2A - residência'!AB20","v":0.42399999999999999},0,1,1,1]
["Central","Colatina",{"$f":"'CV Rotina <2A - residência'!H21","v":1.1222222222222222},{"$f":"'CV Rotina <2A - residência'!P21","v":0.93611111111111112},{"$f":"'CV Rotina <2A - residência'!J21","v":1.0166666666666666},{"$f":"'CV Rotina <2A - residência'!L21","v":0.97499999999999998},{"$f":"'CV Rotina <2A - residência'!N21","v":0.90833333333333333},{"$f":"'CV Rotina <2A - residência'!Z21","v":0.95},{"$f":"'CV Rotina <2A - residência'!R21","v":0.95},{"$f":"'CV Rotina <2A - residência'!T21","v":0.81666666666666665},{"$f":"'CV Rotina <2A - residência'!X21","v":0.56388888888888888},{"$f":"'CV Rotina <2A - residência'!AB21","v":0.60833333333333328},2,4,6,3]
["Norte","Conceição da Barra",{"$f":"'CV Rotina <2A - residência'!H22","v":0.65909090909090906},{"$f":"'CV Rotina <2A - residência'!P22","v":1.0227272727272727},{"$f":"'CV Rotina <2A - residência'!J22","v":0.96590909090909094},{"$f":"'CV Rotina <2A - residência'!L22","v":1.0113636363636365},{"$f":"'CV Rotina <2A - residência'!N22","v":1.0909090909090908},{"$f":"'CV Rotina <2A - residência'!Z22","v":1.0795454545454546},{"$f":"'CV Rotina <2A - residência'!R22","v":0.89772727272727271},{"$f":"'CV Rotina <2A - residência'!T22","v":1.1363636363636365},{"$f":"'CV Rotina <2A - residência'!X22","v":0.60227272727272729},{"$f":"'CV Rotina <2A - residência'!AB22","v":0.61363636363636365},1,5,6,4]
["Metropolitana","Conceição do Castelo",{"$f":"'CV Rotina <2A - residência'!H23","v":1.3793103448275863},{"$f":"'CV Rotina <2A - residência'!P23","v":1.0344827586206897},{"$f":"'CV Rotina <2A - residência'!J23","v":1},{"$f":"'CV Rotina <2A - residência'!L23","v":0.96551724137931039},{"$f":"'CV Rotina <2A - residência'!N23","v":1.103448275862069},{"$f":"'CV Rotina <2A - residência'!Z23","v":0.89655172413793105},{"$f":"'CV Rotina <2A - residência'!R23","v":1.103448275862069},{"$f":"'CV Rotina <2A - residência'!T23","v":1.2758620689655173},{"$f":"'CV Rotina <2A - residência'!X23","v":1.0344827586206897},{"$f":"'CV Rotina <2A - residência'!AB23","v":0.62068965517241381},2,6,8,3]
["Sul","Divino de São Lourenço",{"$f":"'CV Rotina <2A - residência'!H24","v":2},{"$f":"'CV Rotina <2A - residência'!P24","v":2},{"$f":"'CV Rotina <2A - residência'!J24","v":2},{"$f":"'CV Rotina <2A - residência'!L24","v":2},{"$f":"'CV Rotina <2A - residência'!N24","v":2},{"$f":"'CV Rotina <2A - residência'!Z24","v":1.2222222222222223},{"$f":"'CV Rotina <2A - residência'!R24","v":2.2222222222222223},{"$f":"'CV Rotina <2A - residência'!T24","v":1.8888888888888888},{"$f":"'CV Rotina <2A - residência'!X24","v":1.4444444444444444},{"$f":"'CV Rotina <2A - residência'!AB24","v":0.66666666666666663},2,7,9,4]
["Metropolitana","Domingos Martins",{"$f":"'CV Rotina <2A - residência'!H25","v":0.9042553191489362},{"$f":"'CV Rotina <2A - residência'!P25","v":0.95744680851063835},{"$f":"'CV Rotina <2A - residência'!J25","v":0.86170212765957444},{"$f":"'CV Rotina <2A - residência'!L25","v":0.87234042553191493},{"$f":"'CV Rotina <2A - residência'!N25","v":1},{"$f":"'CV Rotina <2A - residência'!Z25","v":1.1489361702127661},{"$f":"'CV Rotina <2A - residência'!R25","v":0.9042553191489362},{"$f":"'CV Rotina <2A - residência'!T25","v":1.053191489361702},{"$f":"'CV Rotina <2A - residência'!X25","v":0.68085106382978722},{"$f":"'CV Rotina <2A - residência'!AB25","v":1.1489361702127661},2,4,6,2]
["Sul","Dores do Rio Preto",{"$f":"'CV Rotina <2A - residência'!H26","v":0.5},{"$f":"'CV Rotina <2A - residência'!P26","v":0.8571428571428571},{"$f":"'CV Rotina <2A - residência'!J26","v":0.7142857142857143},{"$f":"'CV Rotina <2A - residência'!L26","v":0.8214285714285714},{"$f":"'CV Rotina <2A - residência'!N26","v":0.9285714285714286},{"$f":"'CV Rotina <2A - residência'!Z26","v":0.7142857142857143},{"$f":"'CV Rotina <2A - residência'!R26","v":0.8571428571428571},{"$f":"'CV Rotina <2A - residência'!T26","v":0.8214285714285714},{"$f":"'CV Rotina <2A - residência'!X26","v":0.5357142857142857},{"$f":"'CV Rotina <2A - residência'!AB26","v":0.25},0,0,0,0]
["Norte","Ecoporanga",{"$f":"'CV Rotina <2A - residência'!H27","v":1.6041666666666667},{"$f":"'CV Rotina <2A - residência'!P27","v":1.1666666666666667},{"$f":"'CV Rotina <2A - residência'!J27","v":1.4375},{"$f":"'CV Rotina <2A - residência'!L27","v":1.3958333333333333},{"$f":"'CV Rotina <2A - residência'!N27","v":1.1875},{"$f":"'CV Rotina <2A - residência'!Z27","v":1.25},{"$f":"'CV Rotina <2A - residência'!R27","v":1.1875},{"$f":"'CV Rotina <2A - residência'!T27","v":1.3125},{"$f":"'CV Rotina <2A - residência'!X27","v":1.0416666666666667},{"$f":"'CV Rotina <2A - residência'!AB27","v":1.1458333333333333},2,8,10,4]
["Metropolitana","Fundão",{"$f":"'CV Rotina <2A - residência'!H28","v":0.74137931034482762},{"$f":"'CV Rotina <2A - residência'!P28","v":0.93103448275862066},{"$f":"'CV Rotina <2A - residência'!J28","v":1.1896551724137931},{"$f":"'CV Rotina <2A - residência'!L28","v":1.1551724137931034},{"$f":"'CV Rotina <2A - residência'!N28","v":0.94827586206896552},{"$f":"'CV Rotina <2A - residência'!Z28","v":0.72413793103448276},{"$f":"'CV Rotina <2A - residência'!R28","v":0.96551724137931039},{"$f":"'CV Rotina <2A - residência'!T28","v":0.93103448275862066},{"$f":"'CV Rotina <2A - residência'!X28","v":0.81034482758620685},{"$f":"'CV Rotina <2A - residência'!AB28","v":0.84482758620689657},1,3,4,2]
["Central","Governador Lindenberg",{"$f":"'CV Rotina <2A - residência'!H29","v":0.77777777777777779},{"$f":"'CV Rotina <2A - residência'!P29","v":1.2592592592592593},{"$f":"'CV Rotina <2A - residência'!J29","v":1.2962962962962963},{"$f":"'CV Rotina <2A - residência'!L29","v":1.2222222222222223},{"$f":"'CV Rotina <2A - residência'!N29","v":1.2222222222222223},{"$f":"'CV Rotina <2A - residência'!Z29","v":0.92592592592592593},{"$f":"'CV Rotina <2A - residência'!R29","v":1.2222222222222223},{"$f":"'CV Rotina <2A - residência'!T29","v":1.5925925925925926},{"$f":"'CV Rotina <2A - residência'!X29","v":0.96296296296296291},{"$f":"'CV Rotina <2A - residência'!AB29","v":0.92592592592592593},1,6,7,3]
["Sul","Guaçuí",{"$f":"'CV Rotina <2A - residência'!H30","v":1.1025641025641026},{"$f":"'CV Rotina <2A - residência'!P30","v":1.2435897435897436},{"$f":"'CV Rotina <2A - residência'!J30","v":1.3333333333333333},{"$f":"'CV Rotina <2A - residência'!L30","v":1.3333333333333333},{"$f":"'CV Rotina <2A - residência'!N30","v":1.358974358974359},{"$f":"'CV Rotina <2A - residência'!Z30","v":1.3974358974358974},{"$f":"'CV Rotina <2A - residência'!R30","v":1.2564102564102564},{"$f":"'CV Rotina <2A - residência'!T30","v":1.0128205128205128},{"$f":"'CV Rotina <2A - residência'!X30","v":1.1923076923076923},{"$f":"'CV Rotina <2A - residência'!AB30","v":0.53846153846153844},2,7,9,4]
["Metropolitana","Guarapari",{"$f":"'CV Rotina <2A - residência'!H31","v":0.80530973451327437},{"$f":"'CV Rotina <2A - residência'!P31","v":0.8252212389380531},{"$f":"'CV Rotina <2A - residência'!J31","v":0.82079646017699115},{"$f":"'CV Rotina <2A - residência'!L31","v":0.77654867256637172},{"$f":"'CV Rotina <2A - residência'!N31","v":0.86504424778761058},{"$f":"'CV Rotina <2A - residência'!Z31","v":0.75884955752212391},{"$f":"'CV Rotina <2A - residência'!R31","v":0.7831858407079646},{"$f":"'CV Rotina <2A - residência'!T31","v":0.7168141592920354},{"$f":"'CV Rotina <2A - residência'!X31","v":0.62831858407079644},{"$f":"'CV Rotina <2A - residência'!AB31","v":0.43584070796460178},0,0,0,0]
["Metropolitana","Ibatiba",{"$f":"'CV Rotina <2A - residência'!H32","v":1.3787878787878789},{"$f":"'CV Rotina <2A - residência'!P32","v":1.3787878787878789},{"$f":"'CV Rotina <2A - residência'!J32","v":1.4242424242424243},{"$f":"'CV Rotina <2A - residência'!L32","v":1.4242424242424243},{"$f":"'CV Rotina <2A - residência'!N32","v":1.5606060606060606},{"$f":"'CV Rotina <2A - residência'!Z32","v":1.2121212121212122},{"$f":"'CV Rotina <2A - residência'!R32","v":1.5909090909090908},{"$f":"'CV Rotina <2A - residência'!T32","v":1.2575757575757576},{"$f":"'CV Rotina <2A - residência'!X32","v":0.95454545454545459},{"$f":"'CV Rotina <2A - residência'!AB32","v":0.46969696969696972},2,7,9,4]
["Metropolitana","Ibiraçu",{"$f":"'CV Rotina <2A - residência'!H33","v":0.82926829268292679},{"$f":"'CV Rotina <2A - residência'!P33","v":0.65853658536585369},{"$f":"'CV Rotina <2A - residência'!J33","v":0.80487804878048785},{"$f":"'CV Rotina <2A - residência'!L33","v":0.75609756097560976},{"$f":"'CV Rotina <2A - residência'!N33","v":0.70731707317073167},{"$f":"'CV Rotina <2A - residência'!Z33","v":0.70731707317073167},{"$f":"'CV Rotina <2A - residência'!R33","v":0.80487804878048785},{"$f":"'CV Rotina <2A - residência'!T33","v":0.75609756097560976},{"$f":"'CV Rotina <2A - residência'!X33","v":0.46341463414634149},{"$f":"'CV Rotina <2A - residência'!AB33","v":0.36585365853658536},0,0,0,0]
["Sul","Ibitirama",{"$f":"'CV Rotina <2A - residência'!H34","v":1.2222222222222223},{"$f":"'CV Rotina <2A - residência'!P34","v":1.1851851851851851},{"$f":"'CV Rotina <2A - residência'!J34","v":1},{"$f":"'CV Rotina <2A - residência'!L34","v":1.037037037037037},{"$f":"'CV Rotina <2A - residência'!N34","v":1.1481481481481481},{"$f":"'CV Rotina <2A - residência'!Z34","v":1.3333333333333333},{"$f":"'CV Rotina <2A - residência'!R34","v":0.85185185185185186},{"$f":"'CV Rotina <2A - residência'!T34","v":0.77777777777777779},{"$f":"'CV Rotina <2A - residência'!X34","v":0.77777777777777779},{"$f":"'CV Rotina <2A - residência'!AB34","v":0.70370370370370372},2,4,6,4]
["Sul","Iconha",{"$f":"'CV Rotina <2A - residência'!H35","v":0.55555555555555558},{"$f":"'CV Rotina <2A - residência'!P35","v":0.86111111111111116},{"$f":"'CV Rotina <2A - residência'!J35","v":0.86111111111111116},{"$f":"'CV Rotina <2A - residência'!L35","v":0.80555555555555558},{"$f":"'CV Rotina <2A - residência'!N35","v":0.83333333333333337},{"$f":"'CV Rotina <2A - residência'!Z35","v":1.25},{"$f":"'CV Rotina <2A - residência'!R35","v":0.69444444444444442},{"$f":"'CV Rotina <2A - residência'!T35","v":0.86111111111111116},{"$f":"'CV Rotina <2A - residência'!X35","v":0.75},{"$f":"'CV Rotina <2A - residência'!AB35","v":0.30555555555555558},0,1,{"$f":"SUM(M34:N34)","v":1},1]
["Sul","Irupi",{"$f":"'CV Rotina <2A - residência'!H36","v":0.85106382978723405},{"$f":"'CV Rotina <2A - residência'!P36","v":1.2765957446808511},{"$f":"'CV Rotina <2A - residência'!J36","v":1.1276595744680851},{"$f":"'CV Rotina <2A - residência'!L36","v":1.1276595744680851},{"$f":"'CV Rotina <2A - residência'!N36","v":1.3829787234042554},{"$f":"'CV Rotina <2A - residência'!Z36","v":1.6170212765957446},{"$f":"'CV Rotina <2A - residência'!R36","v":1.2340425531914894},{"$f":"'CV Rotina <2A - residência'!T36","v":0.95744680851063835},{"$f":"'CV Rotina <2A - residência'!X36","v":0.82978723404255317},{"$f":"'CV Rotina <2A - residência'!AB36","v":0.38297872340425532},1,6,7,4]
["Metropolitana","Itaguaçu",{"$f":"'CV Rotina <2A - residência'!H37","v":0.96666666666666667},{"$f":"'CV Rotina <2A - residência'!P37","v":0.93333333333333335},{"$f":"'CV Rotina <2A - residência'!J37","v":1.0333333333333334},{"$f":"'CV Rotina <2A - residência'!L37","v":1},{"$f":"'CV Rotina <2A - residência'!N37","v":0.93333333333333335},{"$f":"'CV Rotina <2A - residência'!Z37","v":1.3333333333333333},{"$f":"'CV Rotina <2A - residência'!R37","v":1.0333333333333334},{"$f":"'CV Rotina <2A - residência'!T37","v":1.1333333333333333},{"$f":"'CV Rotina <2A - residência'!X37","v":1.1333333333333333},{"$f":"'CV Rotina <2A - residência'!AB37","v":1.3},2,7,9,3]
["Sul","Itapemirim",{"$f":"'CV Rotina <2A - residência'!H38","v":0.74647887323943662},{"$f":"'CV Rotina <2A - residência'!P38","v":0.78169014084507038},{"$f":"'CV Rotina <2A - residência'!J38","v":0.76056338028169013},{"$f":"'CV Rotina <2A - residência'!L38","v":0.74647887323943662},{"$f":"'CV Rotina <2A - residência'!N38","v":0.92253521126760563},{"$f":"'CV Rotina <2A - residência'!Z38","v":0.92957746478873238},{"$f":"'CV Rotina <2A - residência'!R38","v":0.75352112676056338},{"$f":"'CV Rotina <2A - residência'!T38","v":0.61267605633802813},{"$f":"'CV Rotina <2A - residência'!X38","v":0.73943661971830987},{"$f":"'CV Rotina <2A - residência'!AB38","v":0.47887323943661969},0,0,0,0]
["Metropolitana","Itarana",{"$f":"'CV Rotina <2A - residência'!H39","v":1.1818181818181819},{"$f":"'CV Rotina <2A - residência'!P39","v":0.69696969696969702},{"$f":"'CV Rotina <2A - residência'!J39","v":0.93939393939393945},{"$f":"'CV Rotina <2A - residência'!L39","v":0.93939393939393945},{"$f":"'CV Rotina <2A - residência'!N39","v":0.72727272727272729},{"$f":"'CV Rotina <2A - residência'!Z39","v":0.90909090909090906},{"$f":"'CV Rotina <2A - residência'!R39","v":0.78787878787878785},{"$f":"'CV Rotina <2A - residência'!T39","v":1.1818181818181819},{"$f":"'CV Rotina <2A - residência'!X39","v":0.48484848484848486},{"$f":"'CV Rotina <2A - residência'!AB39","v":0.78787878787878785},1,1,2,0]
["Sul","Iúna",{"$f":"'CV Rotina <2A - residência'!H40","v":0.71844660194174759},{"$f":"'CV Rotina <2A - residência'!P40","v":1.2135922330097086},{"$f":"'CV Rotina <2A - residência'!J40","v":1.1650485436893203},{"$f":"'CV Rotina <2A - residência'!L40","v":1.1359223300970873},{"$f":"'CV Rotina <2A - residência'!N40","v":1.233009708737864},{"$f":"'CV Rotina <2A - residência'!Z40","v":1.2233009708737863},{"$f":"'CV Rotina <2A - residência'!R40","v":1.145631067961165},{"$f":"'CV Rotina <2A - residência'!T40","v":1.0388349514563107},{"$f":"'CV Rotina <2A - residência'!X40","v":0.76699029126213591},{"$f":"'CV Rotina <2A - residência'!AB40","v":0.4854368932038835},1,6,7,4]
["Norte","Jaguaré",{"$f":"'CV Rotina <2A - residência'!H41","v":0.89473684210526316},{"$f":"'CV Rotina <2A - residência'!P41","v":1.0614035087719298},{"$f":"'CV Rotina <2A - residência'!J41","v":1.1052631578947369},{"$f":"'CV Rotina <2A - residência'!L41","v":1.1929824561403508},{"$f":"'CV Rotina <2A - residência'!N41","v":1.0701754385964912},{"$f":"'CV Rotina <2A - residência'!Z41","v":0.89473684210526316},{"$f":"'CV Rotina <2A - residência'!R41","v":0.92982456140350878},{"$f":"'CV Rotina <2A - residência'!T41","v":0.97368421052631582},{"$f":"'CV Rotina <2A - residência'!X41","v":0.67543859649122806},{"$f":"'CV Rotina <2A - residência'!AB41","v":0.55263157894736847},1,4,5,3]
["Sul","Jerônimo Monteiro",{"$f":"'CV Rotina <2A - residência'!H42","v":0.82926829268292679},{"$f":"'CV Rotina <2A - residência'!P42","v":1.0731707317073171},{"$f":"'CV Rotina <2A - residência'!J42","v":1.1463414634146341},{"$f":"'CV Rotina <2A - residência'!L42","v":1.1463414634146341},{"$f":"'CV Rotina <2A - residência'!N42","v":1.0731707317073171},{"$f":"'CV Rotina <2A - residência'!Z42","v":0.90243902439024393},{"$f":"'CV Rotina <2A - residência'!R42","v":0.87804878048780488},{"$f":"'CV Rotina <2A - residência'!T42","v":0.87804878048780488},{"$f":"'CV Rotina <2A - residência'!X42","v":0.68292682926829273},{"$f":"'CV Rotina <2A - residência'!AB42","v":0.1951219512195122},1,3,4,3]
["Metropolitana","João Neiva",{"$f":"'CV Rotina <2A - residência'!H43","v":0.75609756097560976},{"$f":"'CV Rotina <2A - residência'!P43","v":1.0975609756097562},{"$f":"'CV Rotina <2A - residência'!J43","v":1.0731707317073171},{"$f":"'CV Rotina <2A - residência'!L43","v":1.024390243902439},{"$f":"'CV Rotina <2A - residência'!N43","v":1.0975609756097562},{"$f":"'CV Rotina <2A - residência'!Z43","v":1.2195121951219512},{"$f":"'CV Rotina <2A - residência'!R43","v":1.0487804878048781},{"$f":"'CV Rotina <2A - residência'!T43","v":1.0731707317073171},{"$f":"'CV Rotina <2A - residência'!X43","v":0.63414634146341464},{"$f":"'CV Rotina <2A - residência'!AB43","v":0.48780487804878048},1,6,7,4]
["Metropolitana","Laranja da Terra",{"$f":"'CV Rotina <2A - residência'!H44","v":0.76},{"$f":"'CV Rotina <2A - residência'!P44","v":0.6},{"$f":"'CV Rotina <2A - residência'!J44","v":0.92},{"$f":"'CV Rotina <2A - residência'!L44","v":0.92},{"$f":"'CV Rotina <2A - residência'!N44","v":0.56000000000000005},{"$f":"'CV Rotina <2A - residência'!Z44","v":1.64},{"$f":"'CV Rotina <2A - residência'!R44","v":0.76},{"$f":"'CV Rotina <2A - residência'!T44","v":1.44},{"$f":"'CV Rotina <2A - residência'!X44","v":0.68},{"$f":"'CV Rotina <2A - residência'!AB44","v":0.64},0,2,2,1]
["Central","Linhares",{"$f":"'CV Rotina <2A - residência'!H45","v":0.81172839506172845},{"$f":"'CV Rotina <2A - residência'!P45","v":0.84876543209876543},{"$f":"'CV Rotina <2A - residência'!J45","v":0.875},{"$f":"'CV Rotina <2A - residência'!L45","v":0.8657407407407407},{"$f":"'CV Rotina <2A - residência'!N45","v":0.81944444444444442},{"$f":"'CV Rotina <2A - residência'!Z45","v":0.83487654320987659},{"$f":"'CV Rotina <2A - residência'!R45","v":0.76543209876543206},{"$f":"'CV Rotina <2A - residência'!T45","v":0.74845679012345678},{"$f":"'CV Rotina <2A - residência'!X45","v":0.4861111111111111},{"$f":"'CV Rotina <2A - residência'!AB45","v":0.50462962962962965},0,0,0,0]
["Central","Mantenópolis",{"$f":"'CV Rotina <2A - residência'!H46","v":1.1470588235294117},{"$f":"'CV Rotina <2A - residência'!P46","v":0.88235294117647056},{"$f":"'CV Rotina <2A - residência'!J46","v":1.088235294117647},{"$f":"'CV Rotina <2A - residência'!L46","v":1.2352941176470589},{"$f":"'CV Rotina <2A - residência'!N46","v":0.94117647058823528},{"$f":"'CV Rotina <2A - residência'!Z46","v":1.1176470588235294},{"$f":"'CV Rotina <2A - residência'!R46","v":0.91176470588235292},{"$f":"'CV Rotina <2A - residência'!T46","v":1.0588235294117647},{"$f":"'CV Rotina <2A - residência'!X46","v":0.91176470588235292},{"$f":"'CV Rotina <2A - residência'!AB46","v":0.79411764705882348},1,4,5,3]
["Sul","Marataízes",{"$f":"'CV Rotina <2A - residência'!H47","v":0.83333333333333337},{"$f":"'CV Rotina <2A - residência'!P47","v":0.83333333333333337},{"$f":"'CV Rotina <2A - residência'!J47","v":0.77564102564102566},{"$f":"'CV Rotina <2A - residência'!L47","v":0.85256410256410253},{"$f":"'CV Rotina <2A - residência'!N47","v":0.82692307692307687},{"$f":"'CV Rotina <2A - residência'!Z47","v":0.82692307692307687},{"$f":"'CV Rotina <2A - residência'!R47","v":0.87179487179487181},{"$f":"'CV Rotina <2A - residência'!T47","v":0.60897435897435892},{"$f":"'CV Rotina <2A - residência'!X47","v":0.70512820512820518},{"$f":"'CV Rotina <2A - residência'!AB47","v":0.30128205128205127},0,0,0,0]
["Metropolitana","Marechal Floriano",{"$f":"'CV Rotina <2A - residência'!H48","v":0.7384615384615385},{"$f":"'CV Rotina <2A - residência'!P48","v":0.84615384615384615},{"$f":"'CV Rotina <2A - residência'!J48","v":0.6},{"$f":"'CV Rotina <2A - residência'!L48","v":0.6},{"$f":"'CV Rotina <2A - residência'!N48","v":0.86153846153846159},{"$f":"'CV Rotina <2A - residência'!Z48","v":0.87692307692307692},{"$f":"'CV Rotina <2A - residência'!R48","v":0.69230769230769229},{"$f":"'CV Rotina <2A - residência'!T48","v":0.67692307692307696},{"$f":"'CV Rotina <2A - residência'!X48","v":0.64615384615384619},{"$f":"'CV Rotina <2A - residência'!AB48","v":0.52307692307692311},0,0,0,0]
["Central","Marilândia",{"$f":"'CV Rotina <2A - residência'!H49","v":1.1428571428571428},{"$f":"'CV Rotina <2A - residência'!P49","v":1.3571428571428572},{"$f":"'CV Rotina <2A - residência'!J49","v":1.6428571428571428},{"$f":"'CV Rotina <2A - residência'!L49","v":1.6428571428571428},{"$f":"'CV Rotina <2A - residência'!N49","v":1.3214285714285714},{"$f":"'CV Rotina <2A - residência'!Z49","v":1.5},{"$f":"'CV Rotina <2A - residência'!R49","v":1.75},{"$f":"'CV Rotina <2A - residência'!T49","v":1.1785714285714286},{"$f":"'CV Rotina <2A - residência'!X49","v":1.2142857142857142},{"$f":"'CV Rotina <2A - residência'!AB49","v":1.0714285714285714},2,8,10,4]
["Sul","Mimoso do Sul",{"$f":"'CV Rotina <2A - residência'!H50","v":0.875},{"$f":"'CV Rotina <2A - residência'!P50","v":0.9107142857142857},{"$f":"'CV Rotina <2A - residência'!J50","v":1.0357142857142858},{"$f":"'CV Rotina <2A - residência'!L50","v":1.0357142857142858},{"$f":"'CV Rotina <2A - residência'!N50","v":0.9642857142857143},{"$f":"'CV Rotina <2A - residência'!Z50","v":1.0714285714285714},{"$f":"'CV Rotina <2A - residência'!R50","v":1.0178571428571428},{"$f":"'CV Rotina <2A - residência'!T50","v":0.875},{"$f":"'CV Rotina <2A - residência'!X50","v":0.7857142857142857},{"$f":"'CV Rotina <2A - residência'!AB50","v":0.5357142857142857},1,5,6,4]
["Norte","Montanha",{"$f":"'CV Rotina <2A - residência'!H51","v":0.72727272727272729},{"$f":"'CV Rotina <2A - residência'!P51","v":1.2363636363636363},{"$f":"'CV Rotina <2A - residência'!J51","v":1.5818181818181818},{"$f":"'CV Rotina <2A - residência'!L51","v":1.6181818181818182},{"$f":"'CV Rotina <2A - residência'!N51","v":1.2181818181818183},{"$f":"'CV Rotina <2A - residência'!Z51","v":1.1636363636363636},{"$f":"'CV Rotina <2A - residência'!R51","v":1.0727272727272728},{"$f":"'CV Rotina <2A - residência'!T51","v":1.0727272727272728},{"$f":"'CV Rotina <2A - residência'!X51","v":1.0181818181818181},{"$f":"'CV Rotina <2A - residência'!AB51","v":0.92727272727272725},1,7,8,4]
["Norte","Mucurici",{"$f":"'CV Rotina <2A - residência'!H52","v":0.91666666666666663},{"$f":"'CV Rotina <2A - residência'!P52","v":1.75},{"$f":"'CV Rotina <2A - residência'!J52","v":1.75},{"$f":"'CV Rotina <2A - residência'!L52","v":1.9166666666666667},{"$f":"'CV Rotina <2A - residência'!N52","v":1.75},{"$f":"'CV Rotina <2A - residência'!Z52","v":1.75},{"$f":"'CV Rotina <2A - residência'!R52","v":1.4166666666666667},{"$f":"'CV Rotina <2A - residência'!T52","v":1.75},{"$f":"'CV Rotina <2A - residência'!X52","v":0.83333333333333337},{"$f":"'CV Rotina <2A - residência'!AB52","v":0.83333333333333337},2,6,8,4]
["Sul","Muniz Freire",{"$f":"'CV Rotina <2A - residência'!H53","v":1.1162790697674418},{"$f":"'CV Rotina <2A - residência'!P53","v":1.3023255813953489},{"$f":"'CV Rotina <2A - residência'!J53","v":1.4186046511627908},{"$f":"'CV Rotina <2A - residência'!L53","v":1.3023255813953489},{"$f":"'CV Rotina <2A - residência'!N53","v":1.3255813953488371},{"$f":"'CV Rotina <2A - residência'!Z53","v":1.5116279069767442},{"$f":"'CV Rotina <2A - residência'!R53","v":1.3720930232558139},{"$f":"'CV Rotina <2A - residência'!T53","v":1.3488372093023255},{"$f":"'CV Rotina <2A - residência'!X53","v":1.2093023255813953},{"$f":"'CV Rotina <2A - residência'!AB53","v":0.55813953488372092},2,7,9,4]
["Sul","Muqui",{"$f":"'CV Rotina <2A - residência'!H54","v":0.70454545454545459},{"$f":"'CV Rotina <2A - residência'!P54","v":0.81818181818181823},{"$f":"'CV Rotina <2A - residência'!J54","v":1.1818181818181819},{"$f":"'CV Rotina <2A - residência'!L54","v":1.2045454545454546},{"$f":"'CV Rotina <2A - residência'!N54","v":0.81818181818181823},{"$f":"'CV Rotina <2A - residência'!Z54","v":1.0454545454545454},{"$f":"'CV Rotina <2A - residência'!R54","v":1},{"$f":"'CV Rotina <2A - residência'!T54","v":0.77272727272727271},{"$f":"'CV Rotina <2A - residência'!X54","v":0.45454545454545453},{"$f":"'CV Rotina <2A - residência'!AB54","v":0.40909090909090912},0,4,4,3]
["Norte","Nova Venécia",{"$f":"'CV Rotina <2A - residência'!H55","v":0.94478527607361962},{"$f":"'CV Rotina <2A - residência'!P55","v":0.88957055214723924},{"$f":"'CV Rotina <2A - residência'!J55","v":1.2024539877300613},{"$f":"'CV Rotina <2A - residência'!L55","v":1.2147239263803682},{"$f":"'CV Rotina <2A - residência'!N55","v":0.94478527607361962},{"$f":"'CV Rotina <2A - residência'!Z55","v":1.0245398773006136},{"$f":"'CV Rotina <2A - residência'!R55","v":0.97546012269938653},{"$f":"'CV Rotina <2A - residência'!T55","v":1.0368098159509203},{"$f":"'CV Rotina <2A - residência'!X55","v":0.78527607361963192},{"$f":"'CV Rotina <2A - residência'!AB55","v":0.67484662576687116},1,5,6,3]
["Central","Pancas",{"$f":"'CV Rotina <2A - residência'!H56","v":1.1428571428571428},{"$f":"'CV Rotina <2A - residência'!P56","v":1.4047619047619047},{"$f":"'CV Rotina <2A - residência'!J56","v":1.4523809523809523},{"$f":"'CV Rotina <2A - residência'!L56","v":1.4523809523809523},{"$f":"'CV Rotina <2A - residência'!N56","v":1.4761904761904763},{"$f":"'CV Rotina <2A - residência'!Z56","v":1.2380952380952381},{"$f":"'CV Rotina <2A - residência'!R56","v":1.4285714285714286},{"$f":"'CV Rotina <2A - residência'!T56","v":1.1428571428571428},{"$f":"'CV Rotina <2A - residência'!X56","v":0.7142857142857143},{"$f":"'CV Rotina <2A - residência'!AB56","v":1.2857142857142858},2,7,9,4]
["Norte","Pedro Canário",{"$f":"'CV Rotina <2A - residência'!H57","v":0.75641025641025639},{"$f":"'CV Rotina <2A - residência'!P57","v":0.83333333333333337},{"$f":"'CV Rotina <2A - residência'!J57","v":0.98717948717948723},{"$f":"'CV Rotina <2A - residência'!L57","v":1.0512820512820513},{"$f":"'CV Rotina <2A - residência'!N57","v":0.87179487179487181},{"$f":"'CV Rotina <2A - residência'!Z57","v":1.2692307692307692},{"$f":"'CV Rotina <2A - residência'!R57","v":0.79487179487179482},{"$f":"'CV Rotina <2A - residência'!T57","v":1.0512820512820513},{"$f":"'CV Rotina <2A - residência'!X57","v":0.73076923076923073},{"$f":"'CV Rotina <2A - residência'!AB57","v":0.82051282051282048},0,4,4,3]
["Norte","Pinheiros",{"$f":"'CV Rotina <2A - residência'!H58","v":0.6428571428571429},{"$f":"'CV Rotina <2A - residência'!P58","v":0.98571428571428577},{"$f":"'CV Rotina <2A - residência'!J58","v":1.1714285714285715},{"$f":"'CV Rotina <2A - residência'!L58","v":1.1571428571428573},{"$f":"'CV Rotina <2A - residência'!N58","v":1.0285714285714285},{"$f":"'CV Rotina <2A - residência'!Z58","v":1.0285714285714285},{"$f":"'CV Rotina <2A - residência'!R58","v":0.97142857142857142},{"$f":"'CV Rotina <2A - residência'!T58","v":1.0142857142857142},{"$f":"'CV Rotina <2A - residência'!X58","v":0.8},{"$f":"'CV Rotina <2A - residência'!AB58","v":0.48571428571428571},1,6,7,4]
["Sul","Piúma",{"$f":"'CV Rotina <2A - residência'!H59","v":0.85074626865671643},{"$f":"'CV Rotina <2A - residência'!P59","v":0.88059701492537312},{"$f":"'CV Rotina <2A - residência'!J59","v":1.0895522388059702},{"$f":"'CV Rotina <2A - residência'!L59","v":1.0746268656716418},{"$f":"'CV Rotina <2A - residência'!N59","v":0.97014925373134331},{"$f":"'CV Rotina <2A - residência'!Z59","v":1.1492537313432836},{"$f":"'CV Rotina <2A - residência'!R59","v":0.77611940298507465},{"$f":"'CV Rotina <2A - residência'!T59","v":0.77611940298507465},{"$f":"'CV Rotina <2A - residência'!X59","v":0.80597014925373134},{"$f":"'CV Rotina <2A - residência'!AB59","v":0.5074626865671642},0,4,4,4]
["Norte","Ponto Belo",{"$f":"'CV Rotina <2A - residência'!H60","v":0.57894736842105265},{"$f":"'CV Rotina <2A - residência'!P60","v":0.57894736842105265},{"$f":"'CV Rotina <2A - residência'!J60","v":0.52631578947368418},{"$f":"'CV Rotina <2A - residência'!L60","v":0.47368421052631576},{"$f":"'CV Rotina <2A - residência'!N60","v":0.57894736842105265},{"$f":"'CV Rotina <2A - residência'!Z60","v":0.73684210526315785},{"$f":"'CV Rotina <2A - residência'!R60","v":0.36842105263157893},{"$f":"'CV Rotina <2A - residência'!T60","v":1},{"$f":"'CV Rotina <2A - residência'!X60","v":0.52631578947368418},{"$f":"'CV Rotina <2A - residência'!AB60","v":0.57894736842105265},0,1,1,0]
["Sul","Presidente Kennedy",{"$f":"'CV Rotina <2A - residência'!H61","v":0.82456140350877194},{"$f":"'CV Rotina <2A - residência'!P61","v":0.57894736842105265},{"$f":"'CV Rotina <2A - residência'!J61","v":0.7192982456140351},{"$f":"'CV Rotina <2A - residência'!L61","v":0.80701754385964908},{"$f":"'CV Rotina <2A - residência'!N61","v":0.59649122807017541},{"$f":"'CV Rotina <2A - residência'!Z61","v":1.1228070175438596},{"$f":"'CV Rotina <2A - residência'!R61","v":0.80701754385964908},{"$f":"'CV Rotina <2A - residência'!T61","v":0.70175438596491224},{"$f":"'CV Rotina <2A - residência'!X61","v":0.78947368421052633},{"$f":"'CV Rotina <2A - residência'!AB61","v":0.2807017543859649},0,1,1,1]
["Central","Rio Bananal",{"$f":"'CV Rotina <2A - residência'!H62","v":0.8441558441558441},{"$f":"'CV Rotina <2A - residência'!P62","v":0.76623376623376627},{"$f":"'CV Rotina <2A - residência'!J62","v":0.96103896103896103},{"$f":"'CV Rotina <2A - residência'!L62","v":0.96103896103896103},{"$f":"'CV Rotina <2A - residência'!N62","v":0.70129870129870131},{"$f":"'CV Rotina <2A - residência'!Z62","v":0.94805194805194803},{"$f":"'CV Rotina <2A - residência'!R62","v":0.8441558441558441},{"$f":"'CV Rotina <2A - residência'!T62","v":0.98701298701298701},{"$f":"'CV Rotina <2A - residência'!X62","v":0.72727272727272729},{"$f":"'CV Rotina <2A - residência'!AB62","v":0.72727272727272729},0,3,3,2]
["Sul","Rio Novo do Sul",{"$f":"'CV Rotina <2A - residência'!H63","v":0.67647058823529416},{"$f":"'CV Rotina <2A - residência'!P63","v":0.88235294117647056},{"$f":"'CV Rotina <2A - residência'!J63","v":0.97058823529411764},{"$f":"'CV Rotina <2A - residência'!L63","v":0.94117647058823528},{"$f":"'CV Rotina <2A - residência'!N63","v":0.8529411764705882},{"$f":"'CV Rotina <2A - residência'!Z63","v":0.82352941176470584},{"$f":"'CV Rotina <2A - residência'!R63","v":0.88235294117647056},{"$f":"'CV Rotina <2A - residência'!T63","v":0.97058823529411764},{"$f":"'CV Rotina <2A - residência'!X63","v":0.5},{"$f":"'CV Rotina <2A - residência'!AB63","v":0.58823529411764708},0,2,2,1]
["Metropolitana","Santa Leopoldina",{"$f":"'CV Rotina <2A - residência'!H64","v":0.21875},{"$f":"'CV Rotina <2A - residência'!P64","v":0.84375},{"$f":"'CV Rotina <2A - residência'!J64","v":0.875},{"$f":"'CV Rotina <2A - residência'!L64","v":0.875},{"$f":"'CV Rotina <2A - residência'!N64","v":0.8125},{"$f":"'CV Rotina <2A - residência'!Z64","v":1.34375},{"$f":"'CV Rotina <2A - residência'!R64","v":0.875},{"$f":"'CV Rotina <2A - residência'!T64","v":0.96875},{"$f":"'CV Rotina <2A - residência'!X64","v":0.6875},{"$f":"'CV Rotina <2A - residência'!AB64","v":0.28125},0,2,2,1]
["Metropolitana","Santa Maria de Jetibá",{"$f":"'CV Rotina <2A - residência'!H65","v":0.89570552147239269},{"$f":"'CV Rotina <2A - residência'!P65","v":0.93251533742331283},{"$f":"'CV Rotina <2A - residência'!J65","v":0.7975460122699386},{"$f":"'CV Rotina <2A - residência'!L65","v":0.80368098159509205},{"$f":"'CV Rotina <2A - residência'!N65","v":0.92638036809815949},{"$f":"'CV Rotina <2A - residência'!Z65","v":1.0306748466257669},{"$f":"'CV Rotina <2A - residência'!R65","v":0.83435582822085885},{"$f":"'CV Rotina <2A - residência'!T65","v":0.8404907975460123},{"$f":"'CV Rotina <2A - residência'!X65","v":0.95705521472392641},{"$f":"'CV Rotina <2A - residência'!AB65","v":0.39263803680981596},1,2,3,1]
["Metropolitana","Santa Teresa",{"$f":"'CV Rotina <2A - residência'!H66","v":1.126984126984127},{"$f":"'CV Rotina <2A - residência'!P66","v":1.1587301587301588},{"$f":"'CV Rotina <2A - residência'!J66","v":1.2698412698412698},{"$f":"'CV Rotina <2A - residência'!L66","v":1.253968253968254},{"$f":"'CV Rotina <2A - residência'!N66","v":1.126984126984127},{"$f":"'CV Rotina <2A - residência'!Z66","v":1.2063492063492063},{"$f":"'CV Rotina <2A - residência'!R66","v":1.1587301587301588},{"$f":"'CV Rotina <2A - residência'!T66","v":0.88888888888888884},{"$f":"'CV Rotina <2A - residência'!X66","v":0.74603174603174605},{"$f":"'CV Rotina <2A - residência'!AB66","v":0.69841269841269837},2,5,7,4]
["Central","São Domingos do Norte",{"$f":"'CV Rotina <2A - residência'!H67","v":1.2173913043478262},{"$f":"'CV Rotina <2A - residência'!P67","v":1.0434782608695652},{"$f":"'CV Rotina <2A - residência'!J67","v":1.2173913043478262},{"$f":"'CV Rotina <2A - residência'!L67","v":1.2173913043478262},{"$f":"'CV Rotina <2A - residência'!N67","v":1.1304347826086956},{"$f":"'CV Rotina <2A - residência'!Z67","v":0.78260869565217395},{"$f":"'CV Rotina <2A - residência'!R67","v":1.2608695652173914},{"$f":"'CV Rotina <2A - residência'!T67","v":1.2608695652173914},{"$f":"'CV Rotina <2A - residência'!X67","v":0.56521739130434778},{"$f":"'CV Rotina <2A - residência'!AB67","v":0.82608695652173914},{"$f":"COUNTIF(C66:D66,\">=0,9\")","v":2},{"$f":"COUNTIFS(E66:L66,\">=0,95\")","v":5},7,3]
["Central","São Gabriel da Palha",{"$f":"'CV Rotina <2A - residência'!H68","v":1},{"$f":"'CV Rotina <2A - residência'!P68","v":0.98863636363636365},{"$f":"'CV Rotina <2A - residência'!J68","v":1.1590909090909092},{"$f":"'CV Rotina <2A - residência'!L68","v":1.1704545454545454},{"$f":"'CV Rotina <2A - residência'!N68","v":1.0227272727272727},{"$f":"'CV Rotina <2A - residência'!Z68","v":1},{"$f":"'CV Rotina <2A - residência'!R68","v":1.0909090909090908},{"$f":"'CV Rotina <2A - residência'!T68","v":0.97727272727272729},{"$f":"'CV Rotina <2A - residência'!X68","v":0.51136363636363635},{"$f":"'CV Rotina <2A - residência'!AB68","v":0.625},2,6,{"$f":"SUM(M67:N67)","v":8},{"$f":"COUNTIF(E67:H67,\">=0,95\")","v":4}]
["Sul","São José do Calçado",{"$f":"'CV Rotina <2A - residência'!H69","v":1.6086956521739131},{"$f":"'CV Rotina <2A - residência'!P69","v":1.0869565217391304},{"$f":"'CV Rotina <2A - residência'!J69","v":1.6956521739130435},{"$f":"'CV Rotina <2A - residência'!L69","v":1.6521739130434783},{"$f":"'CV Rotina <2A - residência'!N69","v":1.2173913043478262},{"$f":"'CV Rotina <2A - residência'!Z69","v":1.4347826086956521},{"$f":"'CV Rotina <2A - residência'!R69","v":1.6956521739130435},{"$f":"'CV Rotina <2A - residência'!T69","v":0.91304347826086951},{"$f":"'CV Rotina <2A - residência'!X69","v":1.1304347826086956},{"$f":"'CV Rotina <2A - residência'!AB69","v":0.78260869565217395},2,6,8,4]
["Norte","São Mateus",{"$f":"'CV Rotina <2A - residência'!H70","v":1.1818181818181819},{"$f":"'CV Rotina <2A - residência'!P70","v":1.0025252525252526},{"$f":"'CV Rotina <2A - residência'!J70","v":1.1464646464646464},{"$f":"'CV Rotina <2A - residência'!L70","v":1.1287878787878789},{"$f":"'CV Rotina <2A - residência'!N70","v":1.047979797979798},{"$f":"'CV Rotina <2A - residência'!Z70","v":0.91666666666666663},{"$f":"'CV Rotina <2A - residência'!R70","v":0.93686868686868685},{"$f":"'CV Rotina <2A - residência'!T70","v":0.83333333333333337},{"$f":"'CV Rotina <2A - residência'!X70","v":0.79292929292929293},{"$f":"'CV Rotina <2A - residência'!AB70","v":0.49747474747474746},2,3,5,3]
["Central","São Roque do Canaã",{"$f":"'CV Rotina <2A - residência'!H71","v":1.1000000000000001},{"$f":"'CV Rotina <2A - residência'!P71","v":0.4},{"$f":"'CV Rotina <2A - residência'!J71","v":0.6},{"$f":"'CV Rotina <2A - residência'!L71","v":0.57499999999999996},{"$f":"'CV Rotina <2A - residência'!N71","v":0.35},{"$f":"'CV Rotina <2A - residência'!Z71","v":0.82499999999999996},{"$f":"'CV Rotina <2A - residência'!R71","v":0.55000000000000004},{"$f":"'CV Rotina <2A - residência'!T71","v":0.85},{"$f":"'CV Rotina <2A - residência'!X71","v":0.35},{"$f":"'CV Rotina <2A - residência'!AB71","v":0.47499999999999998},1,0,1,0]
["Metropolitana","Serra",{"$f":"'CV Rotina <2A - residência'!H72","v":0.89016137428422693},{"$f":"'CV Rotina <2A - residência'!P72","v":0.79229567933368039},{"$f":"'CV Rotina <2A - residência'!J72","v":0.8422696512233212},{"$f":"'CV Rotina <2A - residência'!L72","v":0.84955752212389379},{"$f":"'CV Rotina <2A - residência'!N72","v":0.8063508589276418},{"$f":"'CV Rotina <2A - residência'!Z72","v":0.81103591879229564},{"$f":"'CV Rotina <2A - residência'!R72","v":0.78032274856845396},{"$f":"'CV Rotina <2A - residência'!T72","v":0.691827173347215},{"$f":"'CV Rotina <2A - residência'!X72","v":0.50910983862571579},{"$f":"'CV Rotina <2A - residência'!AB72","v":0.36074960957834462},0,0,0,0]
["Central","Sooretama",{"$f":"'CV Rotina <2A - residência'!H73","v":0.82727272727272727},{"$f":"'CV Rotina <2A - residência'!P73","v":0.8},{"$f":"'CV Rotina <2A - residência'!J73","v":0.90909090909090906},{"$f":"'CV Rotina <2A - residência'!L73","v":0.92727272727272725},{"$f":"'CV Rotina <2A - residência'!N73","v":0.84545454545454546},{"$f":"'CV Rotina <2A - residência'!Z73","v":0.80909090909090908},{"$f":"'CV Rotina <2A - residência'!R73","v":0.73636363636363633},{"$f":"'CV Rotina <2A - residência'!T73","v":0.72727272727272729},{"$f":"'CV Rotina <2A - residência'!X73","v":0.78181818181818186},{"$f":"'CV Rotina <2A - residência'!AB73","v":0.55454545454545456},0,0,0,0]
["Sul","Vargem Alta",{"$f":"'CV Rotina <2A - residência'!H74","v":0.921875},{"$f":"'CV Rotina <2A - residência'!P74","v":0.90625},{"$f":"'CV Rotina <2A - residência'!J74","v":0.921875},{"$f":"'CV Rotina <2A - residência'!L74","v":0.90625},{"$f":"'CV Rotina <2A - residência'!N74","v":0.921875},{"$f":"'CV Rotina <2A - residência'!Z74","v":1.078125},{"$f":"'CV Rotina <2A - residência'!R74","v":0.953125},{"$f":"'CV Rotina <2A - residência'!T74","v":0.859375},{"$f":"'CV Rotina <2A - residência'!X74","v":0.96875},{"$f":"'CV Rotina <2A - residência'!AB74","v":0.53125},2,3,5,1]
["Metropolitana","Venda Nova do Imigrante",{"$f":"'CV Rotina <2A - residência'!H75","v":0.90243902439024393},{"$f":"'CV Rotina <2A - residência'!P75","v":1.0609756097560976},{"$f":"'CV Rotina <2A - residência'!J75","v":1.1463414634146341},{"$f":"'CV Rotina <2A - residência'!L75","v":1.1463414634146341},{"$f":"'CV Rotina <2A - residência'!N75","v":1.0609756097560976},{"$f":"'CV Rotina <2A - residência'!Z75","v":1.1707317073170731},{"$f":"'CV Rotina <2A - residência'!R75","v":1.1341463414634145},{"$f":"'CV Rotina <2A - residência'!T75","v":1.2439024390243902},{"$f":"'CV Rotina <2A - residência'!X75","v":0.75609756097560976},{"$f":"'CV Rotina <2A - residência'!AB75","v":0.5},2,6,8,4]
["Metropolitana","Viana",{"$f":"'CV Rotina <2A - residência'!H76","v":0.78838174273858919},{"$f":"'CV Rotina <2A - residência'!P76","v":0.8796680497925311},{"$f":"'CV Rotina <2A - residência'!J76","v":0.9543568464730291},{"$f":"'CV Rotina <2A - residência'!L76","v":0.93360995850622408},{"$f":"'CV Rotina <2A - residência'!N76","v":0.93775933609958506},{"$f":"'CV Rotina <2A - residência'!Z76","v":0.94190871369294604},{"$f":"'CV Rotina <2A - residência'!R76","v":0.89626556016597514},{"$f":"'CV Rotina <2A - residência'!T76","v":0.72614107883817425},{"$f":"'CV Rotina <2A - residência'!X76","v":0.63900414937759331},{"$f":"'CV Rotina <2A - residência'!AB76","v":0.31535269709543567},0,1,1,1]
["Norte","Vila Pavão",{"$f":"'CV Rotina <2A - residência'!H77","v":1.1904761904761905},{"$f":"'CV Rotina <2A - residência'!P77","v":1},{"$f":"'CV Rotina <2A - residência'!J77","v":1.1428571428571428},{"$f":"'CV Rotina <2A - residência'!L77","v":1.1428571428571428},{"$f":"'CV Rotina <2A - residência'!N77","v":1.0476190476190477},{"$f":"'CV Rotina <2A - residência'!Z77","v":1.1904761904761905},{"$f":"'CV Rotina <2A - residência'!R77","v":1.0476190476190477},{"$f":"'CV Rotina <2A - residência'!T77","v":1.3333333333333333},{"$f":"'CV Rotina <2A - residência'!X77","v":0.8571428571428571},{"$f":"'CV Rotina <2A - residência'!AB77","v":0.90476190476190477},2,6,8,4]
["Central","Vila Valério",{"$f":"'CV Rotina <2A - residência'!H78","v":1.0740740740740742},{"$f":"'CV Rotina <2A - residência'!P78","v":0.88888888888888884},{"$f":"'CV Rotina <2A - residência'!J78","v":0.96296296296296291},{"$f":"'CV Rotina <2A - residência'!L78","v":0.98148148148148151},{"$f":"'CV Rotina <2A - residência'!N78","v":0.83333333333333337},{"$f":"'CV Rotina <2A - residência'!Z78","v":0.85185185185185186},{"$f":"'CV Rotina <2A - residência'!R78","v":0.81481481481481477},{"$f":"'CV Rotina <2A - residência'!T78","v":1.0185185185185186},{"$f":"'CV Rotina <2A - residência'!X78","v":0.59259259259259256},{"$f":"'CV Rotina <2A - residência'!AB78","v":0.81481481481481477},1,3,4,2]
["Metropolitana","Vila Velha",{"$f":"'CV Rotina <2A - residência'!H79","v":0.79144021739130432},{"$f":"'CV Rotina <2A - residência'!P79","v":0.79144021739130432},{"$f":"'CV Rotina <2A - residência'!J79","v":0.79483695652173914},{"$f":"'CV Rotina <2A - residência'!L79","v":0.79144021739130432},{"$f":"'CV Rotina <2A - residência'!N79","v":0.77717391304347827},{"$f":"'CV Rotina <2A - residência'!Z79","v":0.81114130434782605},{"$f":"'CV Rotina <2A - residência'!R79","v":0.78464673913043481},{"$f":"'CV Rotina <2A - residência'!T79","v":0.67255434782608692},{"$f":"'CV Rotina <2A - residência'!X79","v":0.47010869565217389},{"$f":"'CV Rotina <2A - residência'!AB79","v":0.44972826086956524},0,0,0,0]
["Metropolitana","Vitória",{"$f":"'CV Rotina <2A - residência'!H80","v":1.2010989010989011},{"$f":"'CV Rotina <2A - residência'!P80","v":0.80109890109890114},{"$f":"'CV Rotina <2A - residência'!J80","v":0.88461538461538458},{"$f":"'CV Rotina <2A - residência'!L80","v":0.88461538461538458},{"$f":"'CV Rotina <2A - residência'!N80","v":0.76923076923076927},{"$f":"'CV Rotina <2A - residência'!Z80","v":0.79890109890109895},{"$f":"'CV Rotina <2A - residência'!R80","v":0.82417582417582413},{"$f":"'CV Rotina <2A - residência'!T80","v":0.69560439560439558},{"$f":"'CV Rotina <2A - residência'!X80","v":0.77142857142857146},{"$f":"'CV Rotina <2A - residência'!AB80","v":0.46813186813186813},1,0,1,0]
[]
[null,"Total Norte",{"$f":"'CV Rotina <2A - procedência'!H82","v":0.83032207384131973},{"$f":"'CV Rotina <2A - procedência'!P82","v":0.98821681068342493},{"$f":"'CV Rotina <2A - procedência'!J82","v":1.1170463472113119},{"$f":"'CV Rotina <2A - procedência'!L82","v":1.1335428122545168},{"$f":"'CV Rotina <2A - procedência'!N82","v":1.0235663786331501},{"$f":"'CV Rotina <2A - procedência'!Z82","v":1.0408483896307934},{"$f":"'CV Rotina <2A - procedência'!R82","v":0.94815396700706989},{"$f":"'CV Rotina <2A - procedência'!T82","v":0.99764336213668503},{"$f":"'CV Rotina <2A - procedência'!X82","v":0.78161822466614295},{"$f":"'CV Rotina <2A - procedência'!AB82","v":0.64964650432050275},{"$f":"COUNTIF(C81:D81,\">=0,9\")","v":1},{"$f":"COUNTIFS(E81:L81,\">=0,95\")","v":5},{"$f":"SUM(M81:N81)","v":6},{"$f":"COUNTIF(E81:H81,\">=0,95\")","v":4}]
[null,"Total Central",{"$f":"'CV Rotina <2A - procedência'!H83","v":1.0896510228640193},{"$f":"'CV Rotina <2A - procedência'!P83","v":0.90974729241877261},{"$f":"'CV Rotina <2A - procedência'!J83","v":0.98616125150421174},{"$f":"'CV Rotina <2A - procedência'!L83","v":0.97533092659446452},{"$f":"'CV Rotina <2A - procedência'!N83","v":0.90433212996389889},{"$f":"'CV Rotina <2A - procedência'!Z83","v":0.93441636582430809},{"$f":"'CV Rotina <2A - procedência'!R83","v":0.89290012033694344},{"$f":"'CV Rotina <2A - procedência'!T83","v":0.85379061371841158},{"$f":"'CV Rotina <2A - procedência'!X83","v":0.5980746089049338},{"$f":"'CV Rotina <2A - procedência'!AB83","v":0.61612515042117932},{"$f":"COUNTIF(C82:D82,\">=0,9\")","v":2},{"$f":"COUNTIFS(E82:L82,\">=0,95\")","v":2},{"$f":"SUM(M82:N82)","v":4},{"$f":"COUNTIF(E82:H82,\">=0,95\")","v":2}]
[null,"Total Metropolitana",{"$f":"'CV Rotina <2A - procedência'!H84","v":0.90200267022696934},{"$f":"'CV Rotina <2A - procedência'!P84","v":0.85273698264352471},{"$f":"'CV Rotina <2A - procedência'!J84","v":0.8865153538050734},{"$f":"'CV Rotina <2A - procedência'!L84","v":0.87957276368491322},{"$f":"'CV Rotina <2A - procedência'!N84","v":0.86328437917222967},{"$f":"'CV Rotina <2A - procedência'!Z84","v":0.89506008010680904},{"$f":"'CV Rotina <2A - procedência'!R84","v":0.85407209612817092},{"$f":"'CV Rotina <2A - procedência'!T84","v":0.75660881174899863},{"$f":"'CV Rotina <2A - procedência'!X84","v":0.62803738317757007},{"$f":"'CV Rotina <2A - procedência'!AB84","v":0.46862483311081443},{"$f":"COUNTIF(C83:D83,\">=0,9\")","v":1},{"$f":"COUNTIFS(E83:L83,\">=0,95\")","v":0},{"$f":"SUM(M83:N83)","v":1},{"$f":"COUNTIF(E83:H83,\">=0,95\")","v":0}]
[null,"Total Sul",{"$f":"'CV Rotina <2A - procedência'!H85","v":0.91750599520383691},{"$f":"'CV Rotina <2A - procedência'!P85","v":0.93429256594724219},{"$f":"'CV Rotina <2A - procedência'!J85","v":0.96306954436450842},{"$f":"'CV Rotina <2A - procedência'!L85","v":0.96642685851318944},{"$f":"'CV Rotina <2A - procedência'!N85","v":0.96786570743405276},{"$f":"'CV Rotina <2A - procedência'!Z85","v":1.0551558752997603},{"$f":"'CV Rotina <2A - procedência'!R85","v":0.92757793764988006},{"$f":"'CV Rotina <2A - procedência'!T85","v":0.83597122302158278},{"$f":"'CV Rotina <2A - procedência'!X85","v":0.76163069544364503},{"$f":"'CV Rotina <2A - procedência'!AB85","v":0.41151079136690649},{"$f":"COUNTIF(C84:D84,\">=0,9\")","v":2},{"$f":"COUNTIFS(E84:L84,\">=0,95\")","v":4},{"$f":"SUM(M84:N84)","v":6},{"$f":"COUNTIF(E84:H84,\">=0,95\")","v":4}]
[null,"Total Espírito Santo",{"$f":"'CV Rotina <2A - procedência'!H86","v":0.92222222222222228},{"$f":"'CV Rotina <2A - procedência'!P86","v":0.88768984812150276},{"$f":"'CV Rotina <2A - procedência'!J86","v":0.93597122302158275},{"$f":"'CV Rotina <2A - procedência'!L86","v":0.93261390887290163},{"$f":"'CV Rotina <2A - procedência'!N86","v":0.90247801758593127},{"$f":"'CV Rotina <2A - procedência'!Z86","v":0.94180655475619501},{"$f":"'CV Rotina <2A - procedência'!R86","v":0.88105515587529981},{"$f":"'CV Rotina <2A - procedência'!T86","v":0.80727418065547563},{"$f":"'CV Rotina <2A - procedência'!X86","v":0.66195043964828137},{"$f":"'CV Rotina <2A - procedência'!AB86","v":0.49712230215827335},{"$f":"COUNTIF(C85:D85,\">=0,9\")","v":1},{"$f":"COUNTIFS(E85:L85,\">=0,95\")","v":0},{"$f":"SUM(M85:N85)","v":1},{"$f":"COUNTIF(E85:H85,\">=0,95\")","v":0}]
[]
[]
["Fonte: SIPNI/DATASUS, em 09 de junho de 2023.*"]
[" Vacina e Confia, em 12 de junho de 2023.**"]
["*Dados referentes às doses aplicadas pelas clínicas particulares de janeiro a maio de 2023"]
["**Dados referente às doses aplicadas no período de janeiro a maio de 2023"]
["Cobertura Calculada por município de vacinação"]
["1 População proporcional extraída do MS/SVS/DASIS - Sistema de Informações sobre Nascidos Vivos - SINASC"]
["2000 a 2021 – Estimativas preliminares elaboradas pelo Ministério da Saúde/SVS/DASNT/CGIAE"]
[" Nota: Dados preliminares 2021"]