{"text_format":"1","workbook":"xlsx","n_sheets":12,"sheets":["CV Rotina <2A - procedência","CV Rotina <2A - residência","CV REF 1A e 4A - procedência","CV REF 1A e 4A - residência","Cobert. COVID-19 Menores 4 anos","Cobert. Meningo C Adolescentes","Cobert. HPV ","dTpa gestantes - procedência","dTpa gestantes - residência","PROTEÇÃO","cálculos1","cálculos2"],"not_rendered":{"charts":0,"images":0,"macros":1,"external_links":0,"defined_names":26,"comments":2,"pivot_tables":0},"unopened":[],"bounds":{"document_bytes":16777216,"sheet_cells":100000,"rows_first":2000,"rows_last":500,"rows_between":2000,"halvings":0,"cell_chars":16384,"cell_head_chars":4096},"cells_cut":0,"cells_raw":0,"read":"whole","date_system":"1900"}

{"sheet":"CV Rotina <2A - procedência","index":0,"n_rows":100,"n_cols":39,"rows_kept":100,"cut":false,"hidden":false,"merged":[[87,6,87,7],[86,4,86,5],[87,4,87,5],[0,8,0,19],[86,8,86,9],[87,8,87,9],[86,10,86,11],[2,37,2,38],[11,37,11,38],[87,16,87,17],[86,16,86,17],[87,24,87,25],[86,24,86,25],[86,20,86,21],[86,22,86,23],[87,20,87,21],[86,27,86,28],[86,29,86,30],[87,27,87,28],[87,29,87,30],[86,18,86,19],[0,27,0,30],[92,0,92,13],[90,0,90,12],[91,0,91,12],[89,0,89,12],[87,1,87,3],[0,20,0,25],[87,22,87,23],[87,18,87,19],[86,14,86,15],[87,14,87,15],[0,4,0,7],[87,10,87,11],[86,12,86,13],[87,12,87,13],[86,6,86,7]]}
[null,null,null,null,"AO NASCER",null,null,null,"MENOR DE 1 ANO",null,null,null,null,null,null,null,null,null,null,null,"1 ANO",null,null,null,null,null,null,"MENOR DE 1 ANO"]
["Regional ","Município","¹População < 1 ano e 1 ano anual ","²População < 1 ano e 1 ano proporcional ","Doses Aplicadas HB\n< 30 dias","Cobertura Vacinal HB\naté 30 dias","Doses Aplicadas BCG","Cobertura Vacinal BCG","Doses Aplicadas Pentavalente ","Cobertura Vacinal Pentavalente","Doses Aplicadas Poliomielite ","Cobertura Vacinal Poliomielite ","Doses Aplicadas Pneumo 10","Cobertura Vacinal Pneumo 10","Doses Aplicadas Rotavírus","Cobertura Vacinal Rotavírus","Doses Aplicadas Meningo C","Cobertura Vacinal Meningo C","Doses Aplicadas Febre Amarela","Cobertura Vacinal Febre Amarela","Doses Aplicadas Hepatite A","Cobertura Vacinal Hepatite A","Doses Aplicadas de Tríplice Viral","Cobertura Vacinal Tríplice Viral","Doses Aplicadas Varicela","Cobertura Varicela",null,"Doses Aplicadas COVID-19","Cobertura Vacinal \nCOVID-19 D1","Doses Aplicadas COVID-19","Cobertura Vacinal \nCOVID-19 D2",null,"VACINAS QUE ATINGIRAM A META DE CV","HOMOGENEIDADE ENTRE AS 10 VACINAS","VACINAS DO PQA-VS QUE ATINGIRAM A META DE CV","HOMOGENEIDADE ENTRE AS VACINAS DO PQA-VS"]
["Metropolitana","Afonso Cláudio",385,307,222,{"$f":"E3/D3","v":0.72312703583061888},219,{"$f":"G3/D3","v":0.71335504885993484},268,{"$f":"I3/D3","v":0.87296416938110755},266,{"$f":"K3/D3","v":0.86644951140065152},262,{"$f":"M3/D3","v":0.85342019543973946},256,{"$f":"O3/D3","v":0.83387622149837137},262,{"$f":"Q3/D3","v":0.85342019543973946},253,{"$f":"S3/D3","v":0.82410423452768733},278,{"$f":"U3/D3","v":0.90553745928338758},291,{"$f":"W3/D3","v":0.94788273615635177},141,{"$f":"Y3/D3","v":0.45928338762214982},null,9,{"$f":"AB3/D3","v":2.9315960912052116E-2},3,{"$f":"AD3/D3","v":9.7719869706840382E-3},null,{"$f":"cálculos1!O3","v":0},{"$f":"AG3*0.1","v":0},{"$f":"cálculos1!P3","v":0},{"$f":"AI3*0.25","v":0},null,"LEGENDA / HOMOGENEIDADE PQA-VS"]
["Norte","Água Doce do Norte",202,168,72,0.42857142857142855,76,0.45238095238095238,126,0.75,124,0.73809523809523814,136,0.80952380952380953,133,0.79166666666666663,127,0.75595238095238093,88,0.52380952380952384,108,0.6428571428571429,114,0.6785714285714286,39,0.23214285714285715,null,12,{"$f":"AB4/D4","v":7.1428571428571425E-2},6,{"$f":"AD4/D4","v":3.5714285714285712E-2},null,{"$f":"cálculos1!O4","v":0},{"$f":"AG4*0.1","v":0},{"$f":"cálculos1!P4","v":0},{"$f":"AI4*0.25","v":0},null,"PERCENTUAL","Nº DE MUNICÍPIOS"]
["Central","Águia Branca",173,133,67,0.50375939849624063,78,0.5864661654135338,119,0.89473684210526316,118,0.88721804511278191,123,0.92481203007518797,129,0.96992481203007519,125,0.93984962406015038,104,0.78195488721804507,96,0.72180451127819545,114,0.8571428571428571,39,0.2932330827067669,null,5,3.7593984962406013E-2,3,2.2556390977443608E-2,null,{"$f":"cálculos1!O5","v":1},0.1,{"$f":"cálculos1!P5","v":0},0,null,0,{"$f":"COUNTIF($AJ$3:$AJ$80,\"=0\")","v":15}]
["Sul","Alegre",323,238,148,0.62184873949579833,156,0.65546218487394958,251,1.0546218487394958,254,1.0672268907563025,244,1.0252100840336134,234,0.98319327731092432,241,1.0126050420168067,226,0.94957983193277307,222,0.9327731092436975,233,0.97899159663865543,63,0.26470588235294118,null,70,0.29411764705882354,25,0.10504201680672269,null,{"$f":"cálculos1!O6","v":6},0.60000000000000009,{"$f":"cálculos1!P6","v":4},1,null,0.25,{"$f":"COUNTIF($AJ$3:$AJ$80,\"=0,25\")","v":12}]
["Sul","Alfredo Chaves",143,104,16,0.15384615384615385,50,0.48076923076923078,115,1.1057692307692308,111,1.0673076923076923,111,1.0673076923076923,113,1.0865384615384615,116,1.1153846153846154,105,1.0096153846153846,105,1.0096153846153846,112,1.0769230769230769,61,0.58653846153846156,null,14,0.13461538461538461,8,7.6923076923076927E-2,null,{"$f":"cálculos1!O7","v":8},0.8,{"$f":"cálculos1!P7","v":4},1,null,0.5,{"$f":"COUNTIF($AJ$3:$AJ$80,\"=0,5\")","v":13}]
["Central","Alto Rio Novo",85,65,10,0.15384615384615385,29,0.44615384615384618,69,1.0615384615384615,67,1.0307692307692307,75,1.1538461538461537,74,1.1384615384615384,75,1.1538461538461537,63,0.96923076923076923,77,1.1846153846153846,76,1.1692307692307693,36,0.55384615384615388,null,0,0,0,0,null,{"$f":"cálculos1!O8","v":8},0.8,{"$f":"cálculos1!P8","v":4},1,null,0.75,{"$f":"COUNTIF($AJ$3:$AJ$80,\"=0,75\")","v":6}]
["Sul","Anchieta",367,280,20,7.1428571428571425E-2,160,0.5714285714285714,284,1.0142857142857142,286,1.0214285714285714,289,1.0321428571428573,284,1.0142857142857142,282,1.0071428571428571,226,0.80714285714285716,299,1.0678571428571428,290,1.0357142857142858,120,0.42857142857142855,null,54,0.19285714285714287,26,9.285714285714286E-2,null,{"$f":"cálculos1!O9","v":7},0.70000000000000007,{"$f":"cálculos1!P9","v":4},1,null,1,{"$f":"COUNTIF($AJ$3:$AJ$80,\"=1,0\")","v":32}]
["Sul","Apiacá",68,53,27,0.50943396226415094,40,0.75471698113207553,47,0.8867924528301887,48,0.90566037735849059,53,1,55,1.0377358490566038,48,0.90566037735849059,46,0.86792452830188682,50,0.94339622641509435,57,1.0754716981132075,9,0.16981132075471697,null,0,0,0,0,null,{"$f":"cálculos1!O10","v":3},0.30000000000000004,{"$f":"cálculos1!P10","v":2},0.5]
["Metropolitana","Aracruz",1419,1082,1016,0.93900184842883549,1039,0.96025878003696863,997,0.92144177449168208,997,0.92144177449168208,1034,0.95563770794824399,1019,0.94177449168207028,991,0.91589648798521262,866,0.80036968576709799,1102,1.0184842883548983,1116,1.0314232902033271,526,0.48613678373382624,null,244,0.2255083179297597,129,0.11922365988909427,null,{"$f":"cálculos1!O11","v":5},0.5,{"$f":"cálculos1!P11","v":2},0.5]
["Sul","Atilio Vivacqua",144,107,1,9.3457943925233638E-3,4,3.7383177570093455E-2,100,0.93457943925233644,99,0.92523364485981308,102,0.95327102803738317,101,0.94392523364485981,98,0.91588785046728971,82,0.76635514018691586,106,0.99065420560747663,118,1.1028037383177569,50,0.46728971962616822,null,0,0,0,0,null,{"$f":"cálculos1!O12","v":4},0.4,{"$f":"cálculos1!P12","v":2},0.5,null,"LEGENDA / HOMOGENEIDADE 10 VACINAS"]
["Central","Baixo Guandu",388,283,72,0.25441696113074203,160,0.56537102473498235,292,1.0318021201413428,294,1.0388692579505301,320,1.1307420494699647,310,1.0954063604240283,305,1.0777385159010602,227,0.80212014134275622,285,1.0070671378091873,294,1.0388692579505301,123,0.43462897526501765,null,19,6.7137809187279157E-2,8,2.8268551236749116E-2,null,{"$f":"cálculos1!O13","v":7},0.70000000000000007,{"$f":"cálculos1!P13","v":4},1,null,"PERCENTUAL","Nº DE MUNICÍPIOS"]
["Norte","Barra de São Francisco",562,442,341,0.77149321266968329,370,0.83710407239819007,375,0.84841628959276016,375,0.84841628959276016,411,0.92986425339366519,400,0.90497737556561086,393,0.88914027149321262,350,0.79185520361990946,328,0.74208144796380093,424,0.95927601809954754,195,0.44117647058823528,null,3,6.7873303167420816E-3,3,6.7873303167420816E-3,null,{"$f":"cálculos1!O14","v":2},0.2,{"$f":"cálculos1!P14","v":1},0.25,null,0,{"$f":"COUNTIF($AH$3:$AH$80,\"=0\")","v":9}]
["Norte","Boa Esperança",205,154,10,6.4935064935064929E-2,53,0.34415584415584416,139,0.90259740259740262,143,0.9285714285714286,148,0.96103896103896103,155,1.0064935064935066,147,0.95454545454545459,124,0.80519480519480524,110,0.7142857142857143,156,1.0129870129870129,87,0.56493506493506496,null,21,0.13636363636363635,11,7.1428571428571425E-2,null,{"$f":"cálculos1!O15","v":4},0.4,{"$f":"cálculos1!P15","v":2},0.5,null,0.1,{"$f":"COUNTIFS($AH$3:$AH$80,\">=0,10\",$AH$3:$AH$80,\"<0,20\")","v":8}]
["Sul","Bom Jesus do Norte",88,73,34,0.46575342465753422,62,0.84931506849315064,88,1.2054794520547945,86,1.178082191780822,87,1.1917808219178083,84,1.1506849315068493,82,1.1232876712328768,66,0.90410958904109584,62,0.84931506849315064,107,1.4657534246575343,28,0.38356164383561642,null,33,0.45205479452054792,22,0.30136986301369861,null,{"$f":"cálculos1!O16","v":6},0.60000000000000009,{"$f":"cálculos1!P16","v":4},1,null,0.2,{"$f":"COUNTIFS($AH$3:$AH$80,\">=0,20\",$AH$3:$AH$80,\"<0,30\")","v":6}]
["Metropolitana","Brejetuba",198,146,27,0.18493150684931506,116,0.79452054794520544,155,1.0616438356164384,155,1.0616438356164384,147,1.0068493150684932,154,1.0547945205479452,148,1.0136986301369864,135,0.92465753424657537,112,0.76712328767123283,149,1.0205479452054795,59,0.4041095890410959,null,0,0,0,0,null,{"$f":"cálculos1!O17","v":6},0.60000000000000009,{"$f":"cálculos1!P17","v":4},1,null,0.3,{"$f":"COUNTIFS($AH$3:$AH$80,\">=0,30\",$AH$3:$AH$80,\"<0,40\")","v":9}]
["Sul","Cachoeiro de Itapemirim",2424,1893,3800,2.0073956682514527,3754,1.983095615425251,1633,0.86265187533016374,1617,0.85419968304278926,1756,0.92762810353935554,1712,0.90438457474907552,1626,0.85895404120443741,1191,0.62916006339144215,1529,0.80771262546222922,1716,0.90649762282091917,643,0.33967247754886426,null,191,0.10089804543053355,71,3.7506603275224509E-2,null,{"$f":"cálculos1!O18","v":2},0.2,{"$f":"cálculos1!P18","v":0},0,null,0.4,{"$f":"COUNTIFS($AH$3:$AH$80,\">=0,40\",$AH$3:$AH$80,\"<0,50\")","v":6}]
["Metropolitana","Cariacica",4851,3710,1926,0.51913746630727764,1908,0.51428571428571423,3124,0.84204851752021559,3091,0.83315363881401616,3339,0.9,3209,0.86495956873315361,3139,0.84609164420485172,2456,0.66199460916442043,2339,0.63045822102425875,3372,0.90889487870619945,1197,0.32264150943396225,null,639,0.17223719676549865,223,6.0107816711590295E-2,null,{"$f":"cálculos1!O19","v":0},0,{"$f":"cálculos1!P19","v":0},0,null,0.5,{"$f":"COUNTIFS($AH$3:$AH$80,\">=0,50\",$AH$3:$AH$80,\"<0,60\")","v":8}]
["Sul","Castelo",432,323,173,0.5356037151702786,192,0.59442724458204332,321,0.99380804953560375,322,0.99690402476780182,326,1.0092879256965945,322,0.99690402476780182,311,0.96284829721362231,280,0.86687306501547989,258,0.79876160990712075,354,1.0959752321981424,153,0.47368421052631576,null,31,9.5975232198142413E-2,9,2.7863777089783281E-2,null,{"$f":"cálculos1!O20","v":6},0.60000000000000009,{"$f":"cálculos1!P20","v":4},1,null,0.6,{"$f":"COUNTIFS($AH$3:$AH$80,\">=0,60\",$AH$3:$AH$80,\"<0,70\")","v":12}]
["Central","Colatina",1518,1171,2720,2.322801024765158,2479,2.1169940222032451,1154,0.98548249359521778,1143,0.97608881298035866,1179,1.0068317677198975,1114,0.95132365499573013,1075,0.91801878736122977,918,0.78394534585824083,846,0.7224594363791631,1209,1.0324508966695132,586,0.50042698548249365,null,89,7.6003415883859948E-2,40,3.4158838599487616E-2,null,{"$f":"cálculos1!O21","v":6},0.60000000000000009,{"$f":"cálculos1!P21","v":4},1,null,0.7,{"$f":"COUNTIFS($AH$3:$AH$80,\">=0,70\",$AH$3:$AH$80,\"<0,80\")","v":9}]
["Norte","Conceição da Barra",386,284,9,3.1690140845070422E-2,16,5.6338028169014086E-2,271,0.95422535211267601,272,0.95774647887323938,297,1.045774647887324,290,1.0211267605633803,282,0.99295774647887325,251,0.88380281690140849,211,0.74295774647887325,290,1.0211267605633803,128,0.45070422535211269,null,49,0.17253521126760563,15,5.2816901408450703E-2,null,{"$f":"cálculos1!O22","v":6},0.60000000000000009,{"$f":"cálculos1!P22","v":4},1,null,0.8,{"$f":"COUNTIFS($AH$3:$AH$80,\">=0,80\",$AH$3:$AH$80,\"<0,90\")","v":10}]
["Metropolitana","Conceição do Castelo",152,126,0,0,0,0,103,0.81746031746031744,101,0.80158730158730163,102,0.80952380952380953,99,0.7857142857142857,100,0.79365079365079361,102,0.80952380952380953,111,0.88095238095238093,113,0.89682539682539686,59,0.46825396825396826,null,0,0,0,0,null,{"$f":"cálculos1!O23","v":0},0,{"$f":"cálculos1!P23","v":0},0,null,0.9,{"$f":"COUNTIFS($AH$3:$AH$80,\">=0,90\",$AH$3:$AH$80,\"<1,0\")","v":1}]
["Sul","Divino de São Lourenço",70,55,38,0.69090909090909092,39,0.70909090909090911,58,1.0545454545454545,57,1.0363636363636364,66,1.2,65,1.1818181818181819,63,1.1454545454545455,47,0.8545454545454545,41,0.74545454545454548,45,0.81818181818181823,25,0.45454545454545453,null,11,0.2,0,0,null,{"$f":"cálculos1!O24","v":5},0.5,{"$f":"cálculos1!P24","v":3},0.75,null,1,{"$f":"COUNTIF($AH$3:$AH$80,\">=1,0\")","v":0}]
["Metropolitana","Domingos Martins",420,303,28,9.2409240924092403E-2,65,0.21452145214521451,281,0.9273927392739274,282,0.93069306930693074,308,1.0165016501650166,304,1.0033003300330032,299,0.98679867986798675,273,0.90099009900990101,277,0.91419141914191415,297,0.98019801980198018,188,0.62046204620462042,null,55,0.18151815181518152,33,0.10891089108910891,null,{"$f":"cálculos1!O25","v":4},0.4,{"$f":"cálculos1!P25","v":2},0.5]
["Sul","Dores do Rio Preto",96,74,29,0.39189189189189189,50,0.67567567567567566,77,1.0405405405405406,80,1.0810810810810811,82,1.1081081081081081,79,1.0675675675675675,80,1.0810810810810811,65,0.8783783783783784,57,0.77027027027027029,80,1.0810810810810811,29,0.39189189189189189,null,26,0.35135135135135137,13,0.17567567567567569,null,{"$f":"cálculos1!O26","v":6},0.60000000000000009,{"$f":"cálculos1!P26","v":4},1]
["Norte","Ecoporanga",253,203,104,0.51231527093596063,102,0.50246305418719217,177,0.8719211822660099,174,0.8571428571428571,205,1.0098522167487685,195,0.96059113300492616,192,0.94581280788177335,154,0.75862068965517238,166,0.81773399014778325,199,0.98029556650246308,99,0.48768472906403942,null,19,9.3596059113300489E-2,2,9.852216748768473E-3,null,{"$f":"cálculos1!O27","v":3},0.30000000000000004,{"$f":"cálculos1!P27","v":2},0.5]
["Metropolitana","Fundão",221,176,15,8.5227272727272721E-2,74,0.42045454545454547,179,1.0170454545454546,179,1.0170454545454546,188,1.0681818181818181,188,1.0681818181818181,162,0.92045454545454541,132,0.75,178,1.0113636363636365,151,0.85795454545454541,96,0.54545454545454541,null,15,8.5227272727272721E-2,4,2.2727272727272728E-2,null,{"$f":"cálculos1!O28","v":5},0.5,{"$f":"cálculos1!P28","v":3},0.75]
["Central","Governador Lindenberg",130,98,19,0.19387755102040816,18,0.18367346938775511,90,0.91836734693877553,87,0.88775510204081631,87,0.88775510204081631,90,0.91836734693877553,94,0.95918367346938771,100,1.0204081632653061,108,1.1020408163265305,110,1.1224489795918366,45,0.45918367346938777,null,5,5.1020408163265307E-2,2,2.0408163265306121E-2,null,{"$f":"cálculos1!O29","v":5},0.5,{"$f":"cálculos1!P29","v":1},0.25]
["Sul","Guaçuí",384,287,139,0.48432055749128922,164,0.5714285714285714,282,0.98257839721254359,274,0.95470383275261328,278,0.96864111498257843,261,0.90940766550522645,266,0.92682926829268297,223,0.77700348432055744,248,0.86411149825783973,318,1.10801393728223,103,0.35888501742160278,null,59,0.20557491289198607,12,4.1811846689895474E-2,null,{"$f":"cálculos1!O30","v":5},0.5,{"$f":"cálculos1!P30","v":4},1]
["Metropolitana","Guarapari",1508,1095,995,0.908675799086758,1073,0.9799086757990868,1020,0.93150684931506844,996,0.90958904109589045,1170,1.0684931506849316,1124,1.0264840182648403,1068,0.97534246575342465,767,0.70045662100456618,941,0.85936073059360729,1094,0.99908675799086755,528,0.48219178082191783,null,126,0.11506849315068493,39,3.5616438356164383E-2,null,{"$f":"cálculos1!O31","v":5},0.5,{"$f":"cálculos1!P31","v":2},0.5]
["Metropolitana","Ibatiba",367,288,120,0.41666666666666669,242,0.84027777777777779,279,0.96875,279,0.96875,287,0.99652777777777779,277,0.96180555555555558,286,0.99305555555555558,245,0.85069444444444442,252,0.875,285,0.98958333333333337,56,0.19444444444444445,null,104,0.3611111111111111,51,0.17708333333333334,null,{"$f":"cálculos1!O32","v":6},0.60000000000000009,{"$f":"cálculos1!P32","v":4},1]
["Metropolitana","Ibiraçu",151,119,24,0.20168067226890757,22,0.18487394957983194,94,0.78991596638655459,93,0.78151260504201681,106,0.89075630252100846,105,0.88235294117647056,113,0.94957983193277307,94,0.78991596638655459,85,0.7142857142857143,106,0.89075630252100846,44,0.36974789915966388,null,17,0.14285714285714285,18,0.15126050420168066,null,{"$f":"cálculos1!O33","v":0},0,{"$f":"cálculos1!P33","v":0},0]
["Sul","Ibitirama",140,104,56,0.53846153846153844,73,0.70192307692307687,95,0.91346153846153844,100,0.96153846153846156,96,0.92307692307692313,97,0.93269230769230771,76,0.73076923076923073,76,0.73076923076923073,91,0.875,107,1.0288461538461537,48,0.46153846153846156,null,21,0.20192307692307693,4,3.8461538461538464E-2,null,{"$f":"cálculos1!O34","v":3},0.30000000000000004,{"$f":"cálculos1!P34","v":2},0.5]
["Sul","Iconha",114,90,7,{"$f":"E35/D35","v":7.7777777777777779E-2},27,{"$f":"G35/D35","v":0.3},79,{"$f":"I35/D35","v":0.87777777777777777},77,{"$f":"K35/D35","v":0.85555555555555551},83,{"$f":"M35/D35","v":0.92222222222222228},86,{"$f":"O35/D35","v":0.9555555555555556},79,{"$f":"Q35/D35","v":0.87777777777777777},96,{"$f":"S35/D35","v":1.0666666666666667},103,{"$f":"U35/D35","v":1.1444444444444444},114,{"$f":"W35/D35","v":1.2666666666666666},31,{"$f":"Y35/D35","v":0.34444444444444444},null,5,5.5555555555555552E-2,3,3.3333333333333333E-2,null,{"$f":"cálculos1!O35","v":4},0.4,{"$f":"cálculos1!P35","v":1},0.25]
["Sul","Irupi",194,147,86,0.58503401360544216,104,0.70748299319727892,154,1.0476190476190477,151,1.0272108843537415,167,1.1360544217687074,167,1.1360544217687074,167,1.1360544217687074,134,0.91156462585034015,144,0.97959183673469385,165,1.1224489795918366,30,0.20408163265306123,null,54,0.36734693877551022,33,0.22448979591836735,null,{"$f":"cálculos1!O36","v":7},0.70000000000000007,{"$f":"cálculos1!P36","v":4},1]
["Metropolitana","Itaguaçu",137,109,14,0.12844036697247707,76,0.69724770642201839,96,0.88073394495412849,96,0.88073394495412849,113,1.036697247706422,112,1.0275229357798166,101,0.92660550458715596,103,0.94495412844036697,117,1.073394495412844,114,1.0458715596330275,71,0.65137614678899081,null,20,0.1834862385321101,9,8.2568807339449546E-2,null,{"$f":"cálculos1!O37","v":4},0.4,{"$f":"cálculos1!P37","v":2},0.5]
["Sul","Itapemirim",520,372,708,1.903225806451613,181,0.48655913978494625,345,0.92741935483870963,343,0.92204301075268813,355,0.95430107526881724,324,0.87096774193548387,334,0.89784946236559138,209,0.56182795698924726,315,0.84677419354838712,364,0.978494623655914,145,0.38978494623655913,null,19,5.1075268817204304E-2,8,2.1505376344086023E-2,null,{"$f":"cálculos1!O38","v":2},0.2,{"$f":"cálculos1!P38","v":2},0.5]
["Metropolitana","Itarana",136,103,14,0.13592233009708737,94,0.91262135922330101,98,0.95145631067961167,98,0.95145631067961167,94,0.91262135922330101,96,0.93203883495145634,93,0.90291262135922334,101,0.98058252427184467,75,0.72815533980582525,105,1.0194174757281553,61,0.59223300970873782,null,19,0.18446601941747573,10,9.7087378640776698E-2,null,{"$f":"cálculos1!O39","v":6},0.60000000000000009,{"$f":"cálculos1!P39","v":3},0.75]
["Sul","Iúna",477,354,214,0.60451977401129942,236,0.66666666666666663,322,0.90960451977401124,320,0.903954802259887,334,0.94350282485875703,331,0.93502824858757061,320,0.903954802259887,311,0.87853107344632764,238,0.67231638418079098,329,0.92937853107344637,158,0.4463276836158192,null,48,0.13559322033898305,16,4.519774011299435E-2,null,{"$f":"cálculos1!O40","v":1},0.1,{"$f":"cálculos1!P40","v":0},0]
["Norte","Jaguaré",495,385,293,0.76103896103896107,291,0.75584415584415587,342,0.88831168831168827,339,0.88051948051948048,343,0.89090909090909087,339,0.88051948051948048,331,0.85974025974025969,313,0.81298701298701304,287,0.74545454545454548,374,0.97142857142857142,132,0.34285714285714286,null,47,0.12207792207792208,14,3.6363636363636362E-2,null,{"$f":"cálculos1!O41","v":1},0.1,{"$f":"cálculos1!P41","v":1},0.25]
["Sul","Jerônimo Monteiro",150,117,10,8.5470085470085472E-2,11,9.4017094017094016E-2,122,1.0427350427350428,123,1.0512820512820513,114,0.97435897435897434,114,0.97435897435897434,114,0.97435897435897434,116,0.99145299145299148,124,1.0598290598290598,124,1.0598290598290598,32,0.27350427350427353,null,41,0.3504273504273504,25,0.21367521367521367,null,{"$f":"cálculos1!O42","v":8},0.8,{"$f":"cálculos1!P42","v":4},1]
["Metropolitana","João Neiva",161,120,23,0.19166666666666668,33,0.27500000000000002,115,0.95833333333333337,117,0.97499999999999998,122,1.0166666666666666,123,1.0249999999999999,116,0.96666666666666667,123,1.0249999999999999,113,0.94166666666666665,152,1.2666666666666666,62,0.51666666666666672,null,9,7.4999999999999997E-2,4,3.3333333333333333E-2,null,{"$f":"cálculos1!O43","v":7},0.70000000000000007,{"$f":"cálculos1!P43","v":4},1]
["Metropolitana","Laranja da Terra",84,67,4,5.9701492537313432E-2,60,0.89552238805970152,72,1.0746268656716418,72,1.0746268656716418,69,1.0298507462686568,68,1.0149253731343284,76,1.1343283582089552,88,1.3134328358208955,92,1.3731343283582089,104,1.5522388059701493,65,0.97014925373134331,null,19,0.28358208955223879,12,0.17910447761194029,null,{"$f":"cálculos1!O44","v":9},0.9,{"$f":"cálculos1!P44","v":4},1]
["Central","Linhares",2598,2014,1833,0.91012909632571992,1889,0.93793445878848059,1639,0.81380337636544187,1636,0.8123138033763655,1737,0.86246276067527305,1737,0.86246276067527305,1687,0.83763654419066536,1367,0.67874875868917572,1588,0.78848063555114201,1731,0.8594836146971202,809,0.4016881827209533,null,64,3.1777557100297914E-2,20,9.9304865938430985E-3,null,{"$f":"cálculos1!O45","v":1},0.1,{"$f":"cálculos1!P45","v":0},0]
["Central","Mantenópolis",153,116,46,0.39655172413793105,58,0.5,111,0.9568965517241379,113,0.97413793103448276,104,0.89655172413793105,102,0.87931034482758619,103,0.88793103448275867,110,0.94827586206896552,108,0.93103448275862066,124,1.0689655172413792,55,0.47413793103448276,null,28,0.2413793103448276,4,3.4482758620689655E-2,null,{"$f":"cálculos1!O46","v":3},0.30000000000000004,{"$f":"cálculos1!P46","v":3},0.75]
["Sul","Marataízes",553,432,13,3.0092592592592591E-2,182,0.42129629629629628,432,1,432,1,457,1.0578703703703705,438,1.0138888888888888,433,1.0023148148148149,276,0.63888888888888884,396,0.91666666666666663,432,1,195,0.4513888888888889,null,48,0.1111111111111111,12,2.7777777777777776E-2,null,{"$f":"cálculos1!O47","v":6},0.60000000000000009,{"$f":"cálculos1!P47","v":4},1]
["Metropolitana","Marechal Floriano",221,158,28,0.17721518987341772,33,0.20886075949367089,154,0.97468354430379744,153,0.96835443037974689,164,1.0379746835443038,162,1.0253164556962024,160,1.0126582278481013,125,0.79113924050632911,168,1.0632911392405062,165,1.0443037974683544,107,0.67721518987341767,null,26,0.16455696202531644,12,7.5949367088607597E-2,null,{"$f":"cálculos1!O48","v":7},0.70000000000000007,{"$f":"cálculos1!P48","v":4},1]
["Central","Marilândia",154,113,38,0.33628318584070799,51,0.45132743362831856,96,0.84955752212389379,96,0.84955752212389379,97,0.8584070796460177,109,0.96460176991150437,106,0.93805309734513276,107,0.94690265486725667,104,0.92035398230088494,108,0.95575221238938057,68,0.60176991150442483,null,35,0.30973451327433627,13,0.11504424778761062,null,{"$f":"cálculos1!O49","v":2},0.2,{"$f":"cálculos1!P49","v":1},0.25]
["Sul","Mimoso do Sul",263,200,29,0.14499999999999999,38,0.19,140,0.7,139,0.69499999999999995,147,0.73499999999999999,145,0.72499999999999998,136,0.68,132,0.66,132,0.66,164,0.82,83,0.41499999999999998,null,6,0.03,2,0.01,null,{"$f":"cálculos1!O50","v":0},0,{"$f":"cálculos1!P50","v":0},0]
["Norte","Montanha",226,171,62,0.36257309941520466,74,0.43274853801169588,210,1.2280701754385965,213,1.2456140350877194,198,1.1578947368421053,194,1.1345029239766082,201,1.1754385964912282,195,1.1403508771929824,192,1.1228070175438596,208,1.2163742690058479,102,0.59649122807017541,null,91,0.53216374269005851,36,0.21052631578947367,null,{"$f":"cálculos1!O51","v":8},0.8,{"$f":"cálculos1!P51","v":4},1]
["Norte","Mucurici",74,52,9,0.17307692307692307,10,0.19230769230769232,60,1.1538461538461537,60,1.1538461538461537,59,1.1346153846153846,58,1.1153846153846154,56,1.0769230769230769,68,1.3076923076923077,49,0.94230769230769229,70,1.3461538461538463,29,0.55769230769230771,null,21,0.40384615384615385,12,0.23076923076923078,null,{"$f":"cálculos1!O52","v":7},0.70000000000000007,{"$f":"cálculos1!P52","v":4},1]
["Sul","Muniz Freire",213,161,91,0.56521739130434778,104,0.64596273291925466,170,1.0559006211180124,165,1.0248447204968945,173,1.0745341614906831,174,1.0807453416149069,168,1.0434782608695652,163,1.0124223602484472,165,1.0248447204968945,191,1.186335403726708,72,0.44720496894409939,null,29,0.18012422360248448,4,2.4844720496894408E-2,null,{"$f":"cálculos1!O53","v":8},0.8,{"$f":"cálculos1!P53","v":4},1]
["Sul","Muqui",147,116,11,9.4827586206896547E-2,16,0.13793103448275862,133,1.146551724137931,133,1.146551724137931,116,1,118,1.0172413793103448,117,1.0086206896551724,122,1.0517241379310345,95,0.81896551724137934,133,1.146551724137931,51,0.43965517241379309,null,36,0.31034482758620691,20,0.17241379310344829,null,{"$f":"cálculos1!O54","v":7},0.70000000000000007,{"$f":"cálculos1!P54","v":4},1]
["Norte","Nova Venécia",627,485,60,0.12371134020618557,314,0.64742268041237117,471,0.97113402061855669,471,0.97113402061855669,446,0.91958762886597933,451,0.92989690721649487,473,0.97525773195876286,448,0.92371134020618562,403,0.83092783505154644,535,1.1030927835051547,228,0.47010309278350515,null,13,2.6804123711340205E-2,5,1.0309278350515464E-2,null,{"$f":"cálculos1!O55","v":5},0.5,{"$f":"cálculos1!P55","v":3},0.75]
["Central","Pancas",208,156,38,0.24358974358974358,77,0.49358974358974361,164,1.0512820512820513,164,1.0512820512820513,161,1.0320512820512822,160,1.0256410256410255,161,1.0320512820512822,157,1.0064102564102564,152,0.97435897435897434,156,1,115,0.73717948717948723,null,11,7.0512820512820512E-2,4,2.564102564102564E-2,null,{"$f":"cálculos1!O56","v":8},0.8,{"$f":"cálculos1!P56","v":4},1]
["Norte","Pedro Canário",316,234,20,8.5470085470085472E-2,17,7.2649572649572655E-2,251,1.0726495726495726,249,1.0641025641025641,239,1.0213675213675213,235,1.0042735042735043,247,1.0555555555555556,207,0.88461538461538458,169,0.72222222222222221,276,1.1794871794871795,129,0.55128205128205132,null,31,0.13247863247863248,6,2.564102564102564E-2,null,{"$f":"cálculos1!O57","v":6},0.60000000000000009,{"$f":"cálculos1!P57","v":4},1]
["Norte","Pinheiros",328,252,10,3.968253968253968E-2,12,4.7619047619047616E-2,252,1,248,0.98412698412698407,236,0.93650793650793651,237,0.94047619047619047,229,0.90873015873015872,205,0.81349206349206349,194,0.76984126984126988,239,0.94841269841269837,79,0.31349206349206349,null,41,0.1626984126984127,18,7.1428571428571425E-2,null,{"$f":"cálculos1!O58","v":3},0.30000000000000004,{"$f":"cálculos1!P58","v":2},0.5]
["Sul","Piúma",288,206,8,3.8834951456310676E-2,125,0.60679611650485432,206,1,205,0.99514563106796117,217,1.0533980582524272,204,0.99029126213592233,186,0.90291262135922334,137,0.66504854368932043,165,0.80097087378640774,193,0.93689320388349517,81,0.39320388349514562,null,54,0.26213592233009708,20,9.7087378640776698E-2,null,{"$f":"cálculos1!O59","v":4},0.4,{"$f":"cálculos1!P59","v":3},0.75]
["Norte","Ponto Belo",74,52,15,0.28846153846153844,7,0.13461538461538461,53,1.0192307692307692,52,1,55,1.0576923076923077,56,1.0769230769230769,50,0.96153846153846156,57,1.0961538461538463,36,0.69230769230769229,69,1.3269230769230769,25,0.48076923076923078,null,12,0.23076923076923078,7,0.13461538461538461,null,{"$f":"cálculos1!O60","v":7},0.70000000000000007,{"$f":"cálculos1!P60","v":4},1]
["Sul","Presidente Kennedy",200,163,5,3.0674846625766871E-2,13,7.9754601226993863E-2,124,0.76073619631901845,126,0.77300613496932513,137,0.8404907975460123,136,0.83435582822085885,143,0.87730061349693256,112,0.68711656441717794,150,0.92024539877300615,171,1.0490797546012269,73,0.44785276073619634,null,23,0.1411042944785276,4,2.4539877300613498E-2,null,{"$f":"cálculos1!O61","v":1},0.1,{"$f":"cálculos1!P61","v":1},0.25]
["Central","Rio Bananal",272,215,52,0.24186046511627907,39,0.18139534883720931,217,1.0093023255813953,216,1.0046511627906978,209,0.97209302325581393,215,1,187,0.86976744186046506,207,0.96279069767441861,234,1.0883720930232559,254,1.1813953488372093,119,0.55348837209302326,null,44,0.20465116279069767,19,8.8372093023255813E-2,null,{"$f":"cálculos1!O62","v":7},0.70000000000000007,{"$f":"cálculos1!P62","v":4},1]
["Sul","Rio Novo do Sul",109,77,5,6.4935064935064929E-2,28,0.36363636363636365,90,1.1688311688311688,88,1.1428571428571428,75,0.97402597402597402,76,0.98701298701298701,81,1.051948051948052,75,0.97402597402597402,84,1.0909090909090908,88,1.1428571428571428,51,0.66233766233766234,null,20,0.25974025974025972,7,9.0909090909090912E-2,null,{"$f":"cálculos1!O63","v":8},0.8,{"$f":"cálculos1!P63","v":4},1]
["Metropolitana","Santa Leopoldina",99,69,3,4.3478260869565216E-2,20,0.28985507246376813,78,1.1304347826086956,79,1.144927536231884,77,1.1159420289855073,79,1.144927536231884,80,1.1594202898550725,72,1.0434782608695652,94,1.3623188405797102,86,1.2463768115942029,15,0.21739130434782608,null,4,5.7971014492753624E-2,0,0,null,{"$f":"cálculos1!O64","v":8},0.8,{"$f":"cálculos1!P64","v":4},1]
["Metropolitana","Santa Maria de Jetibá",656,500,339,0.67800000000000005,381,0.76200000000000001,426,0.85199999999999998,425,0.85,434,0.86799999999999999,447,0.89400000000000002,437,0.874,356,0.71199999999999997,473,0.94599999999999995,459,0.91800000000000004,196,0.39200000000000002,null,38,7.5999999999999998E-2,18,3.5999999999999997E-2,null,{"$f":"cálculos1!O65","v":0},0,{"$f":"cálculos1!P65","v":0},0]
["Metropolitana","Santa Teresa",310,234,501,2.141025641025641,166,0.70940170940170943,210,0.89743589743589747,210,0.89743589743589747,218,0.93162393162393164,210,0.89743589743589747,198,0.84615384615384615,169,0.72222222222222221,180,0.76923076923076927,209,0.89316239316239321,121,0.51709401709401714,null,9,3.8461538461538464E-2,3,1.282051282051282E-2,null,{"$f":"cálculos1!O66","v":0},0,{"$f":"cálculos1!P66","v":0},0]
["Central","São Domingos do Norte",118,85,23,{"$f":"E67/D67","v":0.27058823529411763},41,{"$f":"G67/D67","v":0.4823529411764706},80,{"$f":"I67/D67","v":0.94117647058823528},80,{"$f":"K67/D67","v":0.94117647058823528},88,{"$f":"M67/D67","v":1.0352941176470589},86,{"$f":"O67/D67","v":1.0117647058823529},81,{"$f":"Q67/D67","v":0.95294117647058818},81,{"$f":"S67/D67","v":0.95294117647058818},52,{"$f":"U67/D67","v":0.61176470588235299},88,{"$f":"W67/D67","v":1.0352941176470589},33,{"$f":"Y67/D67","v":0.38823529411764707},null,3,3.5294117647058823E-2,1,1.1764705882352941E-2,null,{"$f":"cálculos1!O67","v":5},0.5,{"$f":"cálculos1!P67","v":2},0.5]
["Central","São Gabriel da Palha",455,346,119,0.34393063583815031,202,0.58381502890173409,314,0.90751445086705207,316,0.91329479768786126,332,0.95953757225433522,321,0.9277456647398844,320,0.92485549132947975,253,0.73121387283236994,271,0.7832369942196532,298,0.86127167630057799,131,0.37861271676300579,null,6,{"$f":"AB68/D68","v":1.7341040462427744E-2},4,{"$f":"AD68/D68","v":1.1560693641618497E-2},null,{"$f":"cálculos1!O68","v":2},{"$f":"AG68*0.1","v":0.2},{"$f":"cálculos1!P68","v":1},{"$f":"AI68*0.25","v":0.25}]
["Sul","São José do Calçado",99,82,54,0.65853658536585369,59,0.71951219512195119,91,1.1097560975609757,91,1.1097560975609757,85,1.0365853658536586,76,0.92682926829268297,92,1.1219512195121952,72,0.87804878048780488,74,0.90243902439024393,101,1.2317073170731707,43,0.52439024390243905,null,0,0,0,0,null,{"$f":"cálculos1!O69","v":6},0.60000000000000009,{"$f":"cálculos1!P69","v":4},1]
["Norte","São Mateus",1939,1478,2206,1.4925575101488497,2112,1.4289580514208389,1286,0.8700947225981055,1262,0.85385656292286871,1348,0.91204330175913395,1253,0.84776725304465494,1203,0.81393775372124488,944,0.63870094722598103,1055,0.7138024357239513,1265,0.85588633288227334,522,0.35317997293640052,null,266,0.17997293640054127,90,6.0893098782138028E-2,null,{"$f":"cálculos1!O70","v":1},0.1,{"$f":"cálculos1!P70","v":0},0]
["Central","São Roque do Canaã",129,108,34,0.31481481481481483,32,0.29629629629629628,88,0.81481481481481477,88,0.81481481481481477,77,0.71296296296296291,86,0.79629629629629628,90,0.83333333333333337,84,0.77777777777777779,95,0.87962962962962965,109,1.0092592592592593,41,0.37962962962962965,null,42,0.3888888888888889,19,0.17592592592592593,null,{"$f":"cálculos1!O71","v":1},0.1,{"$f":"cálculos1!P71","v":1},0.25]
["Metropolitana","Serra",7300,5643,6689,1.1853623958887116,6446,1.1423001949317739,4609,0.81676413255360625,4566,0.80914407230196705,4909,0.8699273436115541,4759,0.84334573808258018,4647,0.82349813928761295,3618,0.64114832535885169,2752,0.48768385610490872,4812,0.85273790536948435,1510,0.26758816232500443,null,692,0.12262980684033316,241,4.2707779549884813E-2,null,{"$f":"cálculos1!O72","v":1},0.1,{"$f":"cálculos1!P72","v":0},0]
["Central","Sooretama",425,322,30,9.3167701863354033E-2,30,9.3167701863354033E-2,299,0.9285714285714286,301,0.93478260869565222,330,1.0248447204968945,329,1.0217391304347827,278,0.86335403726708071,264,0.81987577639751552,298,0.92546583850931674,315,0.97826086956521741,110,0.34161490683229812,null,21,6.5217391304347824E-2,6,1.8633540372670808E-2,null,{"$f":"cálculos1!O73","v":3},0.30000000000000004,{"$f":"cálculos1!P73","v":2},0.5]
["Sul","Vargem Alta",264,203,7,3.4482758620689655E-2,20,9.8522167487684734E-2,164,0.80788177339901479,164,0.80788177339901479,177,0.8719211822660099,183,0.90147783251231528,178,0.87684729064039413,158,0.77832512315270941,179,0.88177339901477836,194,0.95566502463054193,89,0.43842364532019706,null,29,0.14285714285714285,10,4.9261083743842367E-2,null,{"$f":"cálculos1!O74","v":2},0.2,{"$f":"cálculos1!P74","v":1},0.25]
["Metropolitana","Venda Nova do Imigrante",368,272,155,0.56985294117647056,325,1.1948529411764706,291,1.0698529411764706,291,1.0698529411764706,261,0.9595588235294118,255,0.9375,264,0.97058823529411764,275,1.0110294117647058,206,0.75735294117647056,344,1.2647058823529411,133,0.4889705882352941,null,50,0.18382352941176472,33,0.12132352941176471,null,{"$f":"cálculos1!O75","v":8},0.8,{"$f":"cálculos1!P75","v":4},1]
["Metropolitana","Viana",917,688,131,0.19040697674418605,120,0.1744186046511628,646,0.93895348837209303,634,0.92151162790697672,694,1.0087209302325582,660,0.95930232558139539,670,0.97383720930232553,459,0.66715116279069764,572,0.83139534883720934,640,0.93023255813953487,185,0.26889534883720928,null,115,0.16715116279069767,48,6.9767441860465115E-2,null,{"$f":"cálculos1!O76","v":3},0.30000000000000004,{"$f":"cálculos1!P76","v":1},0.25]
["Norte","Vila Pavão",100,82,24,0.29268292682926828,47,0.57317073170731703,75,0.91463414634146345,74,0.90243902439024393,73,0.8902439024390244,73,0.8902439024390244,78,0.95121951219512191,75,0.91463414634146345,95,1.1585365853658536,93,1.1341463414634145,43,0.52439024390243905,null,16,0.1951219512195122,3,3.6585365853658534E-2,null,{"$f":"cálculos1!O77","v":3},0.30000000000000004,{"$f":"cálculos1!P77","v":1},0.25]
["Central","Vila Valério",255,188,25,0.13297872340425532,53,0.28191489361702127,167,0.88829787234042556,164,0.87234042553191493,175,0.93085106382978722,177,0.94148936170212771,180,0.95744680851063835,166,0.88297872340425532,157,0.83510638297872342,189,1.0053191489361701,70,0.37234042553191488,null,3,1.5957446808510637E-2,1,5.3191489361702126E-3,null,{"$f":"cálculos1!O78","v":3},0.30000000000000004,{"$f":"cálculos1!P78","v":1},0.25]
["Metropolitana","Vila Velha",5675,4304,3283,0.76277881040892193,3241,0.75302044609665431,3449,0.80134758364312264,3449,0.80134758364312264,3670,0.85269516728624539,3605,0.83759293680297398,3553,0.82551115241635686,2814,0.65381040892193309,3171,0.7367565055762082,3804,0.88382899628252787,1584,0.36802973977695169,null,618,0.14358736059479554,276,6.4126394052044608E-2,null,{"$f":"cálculos1!O79","v":0},0,{"$f":"cálculos1!P79","v":0},0]
["Metropolitana","Vitória",3622,2753,4913,1.7845986196876136,5349,1.9429713040319652,3086,1.1209589538685072,3085,1.1205957137667999,3028,1.0998910279694878,2886,1.0483109335270613,2894,1.0512168543407192,2008,0.72938612422811477,3012,1.0940791863421722,3170,1.1514711224119143,1571,0.57065019978205589,null,749,0.27206683617871413,374,0.13585179803850345,null,{"$f":"cálculos1!O80","v":8},0.8,{"$f":"cálculos1!P80","v":4},1]
[]
[null,"Total Norte",{"$f":"SUMIF($A$3:$A$80,\"Norte\",C$3:C$80)","v":5787},{"$f":"SUMIF($A$3:$A$80,\"Norte\",D$3:D$80)","v":4442},{"$f":"SUMIF($A$3:$A$80,\"Norte\",E$3:E$80)","v":3235},{"$f":"E82/D82","v":0.72827555155335433},{"$f":"SUMIF($A$3:$A$80,\"Norte\",G$3:G$80)","v":3501},{"$f":"G82/D82","v":0.78815848716794235},{"$f":"SUMIF($A$3:$A$80,\"Norte\",I$3:I$80)","v":4088},{"$f":"I82/D82","v":0.92030616839261592},{"$f":"SUMIF($A$3:$A$80,\"Norte\",K$3:K$80)","v":4056},{"$f":"K82/D82","v":0.91310220621341742},{"$f":"SUMIF($A$3:$A$80,\"Norte\",M$3:M$80)","v":4194},{"$f":"M82/D82","v":0.94416929311121112},{"$f":"SUMIF($A$3:$A$80,\"Norte\",O$3:O$80)","v":4069},{"$f":"O82/D82","v":0.91602881584871676},{"$f":"SUMIF($A$3:$A$80,\"Norte\",Q$3:Q$80)","v":4009},{"$f":"Q82/D82","v":0.90252138676271954},{"$f":"SUMIF($A$3:$A$80,\"Norte\",S$3:S$80)","v":3479},{"$f":"S82/D82","v":0.78320576316974333},{"$f":"SUMIF($A$3:$A$80,\"Norte\",U$3:U$80)","v":3403},{"$f":"U82/D82","v":0.7660963529941468},{"$f":"SUMIF($A$3:$A$80,\"Norte\",W$3:W$80)","v":4312},{"$f":"W82/D82","v":0.97073390364700585},{"$f":"SUMIF($A$3:$A$80,\"Norte\",Y$3:Y$80)","v":1837},{"$f":"Y82/D82","v":0.41355245384961731},null,{"$f":"SUMIF($A$3:$A$80,\"Norte\",AB$3:AB$80)","v":642},{"$f":"AB82/D82","v":0.14452949122017109},{"$f":"SUMIF($A$3:$A$80,\"Norte\",AD$3:AD$80)","v":228},{"$f":"AD82/D82","v":5.1328230526789732E-2},null,{"$f":"cálculos1!O82","v":2},{"$f":"AG82*0.1","v":0.2},{"$f":"cálculos1!P82","v":1},0.25]
[null,"Total Central",{"$f":"SUMIF($A$3:$A$80,\"Central\",C$3:C$80)","v":7061},{"$f":"SUMIF($A$3:$A$80,\"Central\",D$3:D$80)","v":5413},{"$f":"SUMIF($A$3:$A$80,\"Central\",E$3:E$80)","v":5126},{"$f":"E83/D83","v":0.94697949381119528},{"$f":"SUMIF($A$3:$A$80,\"Central\",G$3:G$80)","v":5236},{"$f":"G83/D83","v":0.96730094217624241},{"$f":"SUMIF($A$3:$A$80,\"Central\",I$3:I$80)","v":4899},{"$f":"I83/D83","v":0.90504341400332533},{"$f":"SUMIF($A$3:$A$80,\"Central\",K$3:K$80)","v":4883},{"$f":"K83/D83","v":0.90208756696840942},{"$f":"SUMIF($A$3:$A$80,\"Central\",M$3:M$80)","v":5094},{"$f":"M83/D83","v":0.94106779974136334},{"$f":"SUMIF($A$3:$A$80,\"Central\",O$3:O$80)","v":5039},{"$f":"O83/D83","v":0.93090707555883978},{"$f":"SUMIF($A$3:$A$80,\"Central\",Q$3:Q$80)","v":4867},{"$f":"Q83/D83","v":0.89913171993349339},{"$f":"SUMIF($A$3:$A$80,\"Central\",S$3:S$80)","v":4208},{"$f":"S83/D83","v":0.77738777018289307},{"$f":"SUMIF($A$3:$A$80,\"Central\",U$3:U$80)","v":4471},{"$f":"U83/D83","v":0.82597450581932386},{"$f":"SUMIF($A$3:$A$80,\"Central\",W$3:W$80)","v":5175},{"$f":"W83/D83","v":0.95603177535562534},{"$f":"SUMIF($A$3:$A$80,\"Central\",Y$3:Y$80)","v":2380},{"$f":"Y83/D83","v":0.43968224644374654},null,{"$f":"SUMIF($A$3:$A$80,\"Central\",AB$3:AB$80)","v":375},{"$f":"AB83/D83","v":6.9277664880842416E-2},{"$f":"SUMIF($A$3:$A$80,\"Central\",AD$3:AD$80)","v":144},{"$f":"AD83/D83","v":2.6602623314243488E-2},null,{"$f":"cálculos1!O83","v":3},{"$f":"AG83*0.1","v":0.30000000000000004},{"$f":"cálculos1!P83","v":1},0.25]
[null,"Total Metropolitana",{"$f":"SUMIF($A$3:$A$80,\"Metropolitana\",C$3:C$80)","v":29358},{"$f":"SUMIF($A$3:$A$80,\"Metropolitana\",D$3:D$80)","v":22372},{"$f":"SUMIF($A$3:$A$80,\"Metropolitana\",E$3:E$80)","v":20470},{"$f":"E84/D84","v":0.91498301448238872},{"$f":"SUMIF($A$3:$A$80,\"Metropolitana\",G$3:G$80)","v":21102},{"$f":"G84/D84","v":0.94323261219381371},{"$f":"SUMIF($A$3:$A$80,\"Metropolitana\",I$3:I$80)","v":19830},{"$f":"I84/D84","v":0.88637582692651529},{"$f":"SUMIF($A$3:$A$80,\"Metropolitana\",K$3:K$80)","v":19714},{"$f":"K84/D84","v":0.88119077418201319},{"$f":"SUMIF($A$3:$A$80,\"Metropolitana\",M$3:M$80)","v":20796},{"$f":"M84/D84","v":0.92955480064366169},{"$f":"SUMIF($A$3:$A$80,\"Metropolitana\",O$3:O$80)","v":20197},{"$f":"O84/D84","v":0.9027802610405864},{"$f":"SUMIF($A$3:$A$80,\"Metropolitana\",Q$3:Q$80)","v":19857},{"$f":"Q84/D84","v":0.88758269265152867},{"$f":"SUMIF($A$3:$A$80,\"Metropolitana\",S$3:S$80)","v":15634},{"$f":"S84/D84","v":0.69881995351332027},{"$f":"SUMIF($A$3:$A$80,\"Metropolitana\",U$3:U$80)","v":16700},{"$f":"U84/D84","v":0.74646880028607188},{"$f":"SUMIF($A$3:$A$80,\"Metropolitana\",W$3:W$80)","v":21138},{"$f":"W84/D84","v":0.94484176649383156},{"$f":"SUMIF($A$3:$A$80,\"Metropolitana\",Y$3:Y$80)","v":8575},{"$f":"Y84/D84","v":0.38329161451814769},null,{"$f":"SUMIF($A$3:$A$80,\"Metropolitana\",AB$3:AB$80)","v":3577},0.15988735919899874,{"$f":"SUMIF($A$3:$A$80,\"Metropolitana\",AD$3:AD$80)","v":1540},6.8836045056320405E-2,null,{"$f":"cálculos1!O84","v":2},0.2,{"$f":"cálculos1!P84","v":0},0]
[null,"Total Sul",{"$f":"SUMIF($A$3:$A$80,\"sul\",C$3:C$80)","v":8270},{"$f":"SUMIF($A$3:$A$80,\"sul\",D$3:D$80)","v":6311},{"$f":"SUMIF($A$3:$A$80,\"Sul\",E$3:E$80)","v":5729},{"$f":"E85/D85","v":0.90778006655046739},{"$f":"SUMIF($A$3:$A$80,\"Sul\",G$3:G$80)","v":5888},{"$f":"G85/D85","v":0.93297417208049438},{"$f":"SUMIF($A$3:$A$80,\"Sul\",I$3:I$80)","v":5923},{"$f":"I85/D85","v":0.93852004436697833},{"$f":"SUMIF($A$3:$A$80,\"Sul\",K$3:K$80)","v":5891},{"$f":"K85/D85","v":0.93344953256219299},{"$f":"SUMIF($A$3:$A$80,\"Sul\",M$3:M$80)","v":6127},{"$f":"M85/D85","v":0.97084455712248452},{"$f":"SUMIF($A$3:$A$80,\"Sul\",O$3:O$80)","v":5979},{"$f":"O85/D85","v":0.94739344002535253},{"$f":"SUMIF($A$3:$A$80,\"Sul\",Q$3:Q$80)","v":5837},{"$f":"Q85/D85","v":0.92489304389161786},{"$f":"SUMIF($A$3:$A$80,\"Sul\",S$3:S$80)","v":4746},{"$f":"S85/D85","v":0.75202028204721916},{"$f":"SUMIF($A$3:$A$80,\"Sul\",U$3:U$80)","v":5432},{"$f":"U85/D85","v":0.86071937886230387},{"$f":"SUMIF($A$3:$A$80,\"Sul\",W$3:W$80)","v":6300},{"$f":"W85/D85","v":0.998257011567105},{"$f":"SUMIF($A$3:$A$80,\"Sul\",Y$3:Y$80)","v":2466},{"$f":"Y85/D85","v":0.39074631595626685},null,{"$f":"SUMIF($A$3:$A$80,\"Sul\",AB$3:AB$80)","v":922},0.14609412137537633,{"$f":"SUMIF($A$3:$A$80,\"Sul\",AD$3:AD$80)","v":354},5.6092536840437329E-2,null,{"$f":"cálculos1!O85","v":4},0.4,{"$f":"cálculos1!P85","v":2},0.5]
[null,"Total Espírito Santo",{"$f":"SUM(C3:C80)","v":50476},{"$f":"SUM(D3:D80)","v":38538},{"$f":"SUM(E82:E85)","v":34560},{"$f":"E86/D86","v":0.89677720691265761},{"$f":"SUM(G82:G85)","v":35727},{"$f":"G86/D86","v":0.92705900669469099},{"$f":"SUM(I82:I85)","v":34740},{"$f":"I86/D86","v":0.90144792153199438},{"$f":"SUM(K82:K85)","v":34544},{"$f":"K86/D86","v":0.89636203227982769},{"$f":"SUM(M82:M85)","v":36211},{"$f":"M86/D86","v":0.93961803933779642},{"$f":"SUM(O82:O85)","v":35284},{"$f":"O86/D86","v":0.91556385904821214},{"$f":"SUM(Q82:Q85)","v":34570},{"$f":"Q86/D86","v":0.89703669105817629},{"$f":"SUM(S82:S85)","v":28067},{"$f":"S86/D86","v":0.72829415122735996},{"$f":"SUM(U82:U85)","v":30006},{"$f":"U86/D86","v":0.77860812704343763},{"$f":"SUM(W82:W85)","v":36925},{"$f":"W86/D86","v":0.95814520732783226},{"$f":"SUM(Y82:Y85)","v":15258},{"$f":"Y86/D86","v":0.39592090923244588},null,{"$f":"SUM(AB82:AB85)","v":5516},0.14313145466811977,{"$f":"SUM(AD82:AD85)","v":2266},5.8799107374539417E-2,null,{"$f":"cálculos1!O86","v":3},0.30000000000000004,{"$f":"cálculos1!P86","v":1},0.25]
[null,null,null,null,{"$f":"COUNTIF(F3:F80,\">=0,95\")","v":7},null,{"$f":"COUNTIF(H3:H80,\">=0,9\")","v":10},null,{"$f":"COUNTIF(J3:J80,\">=0,95\")","v":39},null,{"$f":"COUNTIF(L3:L80,\">=0,95\")","v":40},null,{"$f":"COUNTIF(N3:N80,\">=0,95\")","v":48},null,{"$f":"COUNTIF(P3:P80,\">=0,9\")","v":60},null,{"$f":"COUNTIF(R3:R80,\">=0,95\")","v":39},null,{"$f":"COUNTIF(T3:T80,\">=0,95\")","v":19},null,{"$f":"COUNTIF(V3:V80,\">=0,95\")","v":22},null,{"$f":"COUNTIF(X3:X80,\">=0,95\")","v":57},null,{"$f":"COUNTIF(Z3:Z80,\">=0,95\")","v":1},null,null,{"$f":"COUNTIF(AC3:AC80,\">=0,9\")","v":0},null,{"$f":"COUNTIF(AE3:AE80,\">=0,9\")","v":0}]
[null,"HOMOGENEIDADE ENTRE MUNICÍPIOS",null,null,{"$f":"E87/78","v":8.9743589743589744E-2},null,{"$f":"G87/78","v":0.12820512820512819},null,{"$f":"I87/78","v":0.5},null,{"$f":"K87/78","v":0.51282051282051277},null,{"$f":"M87/78","v":0.61538461538461542},null,{"$f":"O87/78","v":0.76923076923076927},null,{"$f":"Q87/78","v":0.5},null,{"$f":"S87/78","v":0.24358974358974358},null,{"$f":"U87/78","v":0.28205128205128205},null,{"$f":"W87/78","v":0.73076923076923073},null,{"$f":"Y87/78","v":1.282051282051282E-2},null,null,{"$f":"AB87/78","v":0},null,{"$f":"AD87/78","v":0}]
[]
[" Fonte: Vacina e Confia, em 09 de Outubro de 2024.**"]
["**Dados referente às doses aplicadas no período de Janeiro a Setembro de 2024"]
["Cobertura Calculada por município de procedência/ocorrência da vacinação"]
["1 População anual extraída do MS/SVS/DASIS - SINASC/DASIS/SVS/MS 2023 (hoje preliminares) referente ao período de Agosto a dezembro de 2023 e SINASC/DASIS/SVS/MS 2024 referente ao período de janeiro a julho de 2024."]
["² População proporcional extraída do MS/SVS/DASIS - SINASC/DASIS/SVS/MS 2023 (hoje preliminares) referente ao período de agosto e Setembro de 2023 somada a população extraída do SINASC/DASIS/SVS/MS 2024 referente ao período de janeiro e julho de 2024."]
["Sinasc, atualizado em 10 de Outubro de 2024."]
["Homogeineidade: O cálculo da Homogeineidade entre vacinas é feito de acordo com a pactuação estabelecida no Plano Plurianual (PPA) vigente no período 2024-2027."]
["Observações:"]
["Imunobiológicos que foram recebidos parcialmente pelo estado no mês da análise, sendo distribuídos em quantidades reduzidas às regionais e municípios: Típlice Bacteriana (DTP),Varicela, Hepatite A - Rotina Pediátrica, COVID-19 Monovalente (XBB) - FRASCO\n."]
["Imunobiológicos indisponíveis no mês da análise, não sendo possível a distribuição às regionais e municípios: Meningo C Conjugada, Tríplice Bacteriana Acelular (dTpa - CRIE)."]
["Imunobiológicos em falta e sem previsão de entrega: Febre Amarela, Varicela, Tríplice Viral (SCR), COVID-19 Monovalente (XBB) - FRASCO, Tríplice Bacteriana (DTP)."]

{"sheet":"CV Rotina <2A - residência","index":1,"n_rows":100,"n_cols":39,"rows_kept":100,"cut":false,"hidden":false,"merged":[[0,4,0,7],[86,12,86,13],[87,24,87,25],[87,4,87,5],[87,14,87,15],[87,16,87,17],[87,6,87,7],[86,8,86,9],[87,8,87,9],[86,4,86,5],[86,10,86,11],[2,37,2,38],[11,37,11,38],[86,14,86,15],[86,16,86,17],[86,18,86,19],[86,20,86,21],[86,22,86,23],[86,24,86,25],[86,27,86,28],[86,29,86,30],[0,27,0,30],[0,8,0,19],[93,0,93,17],[87,10,87,11],[87,12,87,13],[90,0,90,12],[92,0,92,17],[87,18,87,19],[87,20,87,21],[87,22,87,23],[87,27,87,28],[87,29,87,30],[0,20,0,25],[89,0,89,12],[87,1,87,3],[86,6,86,7]]}
[null,null,null,null,"AO NASCER",null,null,null,"MENOR DE 1 ANO",null,null,null,null,null,null,null,null,null,null,null,"1 ANO",null,null,null,null,null,null,"MENOR DE 1 ANO"]
["Regional ","Município","¹População < 1 ano e 1 ano anual ","²População < 1 ano e 1 ano proporcional ","Doses Aplicadas HB\n< 30 dias","Cobertura Vacinal HB\naté 30 dias","Doses Aplicadas BCG","Cobertura Vacinal BCG","Doses Aplicadas Pentavalente ","Cobertura Vacinal Pentavalente","Doses Aplicadas Poliomielite ","Cobertura Vacinal Poliomielite ","Doses Aplicadas Pneumo 10","Cobertura Vacinal Pneumo 10","Doses Aplicadas Rotavírus","Cobertura Vacinal Rotavírus","Doses Aplicadas Meningo C","Cobertura Vacinal Meningo C","Doses Aplicadas Febre Amarela","Cobertura Vacinal Febre Amarela","Doses Aplicadas Hepatite A","Cobertura Vacinal Hepatite A","Doses Aplicadas de Tríplice Viral","Cobertura Vacinal Tríplice Viral","Doses Aplicadas Varicela","Cobertura Varicela",null,"Doses Aplicadas COVID-19","Cobertura Vacinal \nCOVID-19 D1","Doses Aplicadas COVID-19","Cobertura Vacinal \nCOVID-19 D2",null,"VACINAS QUE ATINGIRAM A META DE CV","HOMOGENEIDADE ENTRE AS 10 VACINAS","VACINAS DO PQA-VS QUE ATINGIRAM A META DE CV","HOMOGENEIDADE ENTRE AS VACINAS DO PQA-VS"]
["Metropolitana","Afonso Cláudio",385,307,246,{"$f":"E3/D3","v":0.80130293159609123},248,{"$f":"G3/D3","v":0.80781758957654726},291,{"$f":"I3/D3","v":0.94788273615635177},297,{"$f":"K3/D3","v":0.96742671009771986},275,{"$f":"M3/D3","v":0.89576547231270354},273,{"$f":"O3/D3","v":0.88925081433224751},280,{"$f":"Q3/D3","v":0.91205211726384361},277,{"$f":"S3/D3","v":0.90228013029315957},290,{"$f":"U3/D3","v":0.94462540716612375},312,{"$f":"W3/D3","v":1.0162866449511401},146,{"$f":"Y3/D3","v":0.47557003257328989},null,15,{"$f":"AB3/D3","v":4.8859934853420196E-2},4,{"$f":"AD3/D3","v":1.3029315960912053E-2},null,{"$f":"cálculos2!O3","v":2},{"$f":"AG3*0.1","v":0.2},{"$f":"cálculos2!P3","v":2},{"$f":"AI3*0.25","v":0.5},null,"LEGENDA / HOMOGENEIDADE PQA-VS"]
["Norte","Água Doce do Norte",202,168,152,0.90476190476190477,149,{"$f":"G4/D4","v":0.88690476190476186},132,0.7857142857142857,129,0.7678571428571429,142,0.84523809523809523,138,0.8214285714285714,132,0.7857142857142857,91,0.54166666666666663,102,0.6071428571428571,115,0.68452380952380953,36,0.21428571428571427,null,15,{"$f":"AB4/D4","v":8.9285714285714288E-2},7,{"$f":"AD4/D4","v":4.1666666666666664E-2},null,{"$f":"cálculos2!O4","v":0},{"$f":"AG4*0.1","v":0},{"$f":"cálculos2!P4","v":0},{"$f":"AI4*0.25","v":0},null,"PERCENTUAL","Nº DE MUNICÍPIOS"]
["Central","Águia Branca",173,133,113,0.84962406015037595,120,0.90225563909774431,121,0.90977443609022557,122,0.91729323308270672,132,0.99248120300751874,131,0.98496240601503759,122,0.91729323308270672,104,0.78195488721804507,98,0.73684210526315785,113,0.84962406015037595,41,0.30827067669172931,null,5,3.7593984962406013E-2,2,1.5037593984962405E-2,null,{"$f":"cálculos2!O5","v":3},0.30000000000000004,{"$f":"cálculos2!P5","v":1},0.25,null,0,{"$f":"COUNTIF($AJ$3:$AJ$80,\"=0\")","v":14}]
["Sul","Alegre",323,238,221,0.9285714285714286,228,0.95798319327731096,238,1,242,1.0168067226890756,246,1.0336134453781514,239,1.0042016806722689,237,0.99579831932773111,227,0.95378151260504207,220,0.92436974789915971,229,0.96218487394957986,62,0.26050420168067229,null,66,0.27731092436974791,23,9.6638655462184878E-2,null,{"$f":"cálculos2!O6","v":8},0.8,{"$f":"cálculos2!P6","v":4},1,null,0.25,{"$f":"COUNTIF($AJ$3:$AJ$80,\"=0,25\")","v":12}]
["Sul","Alfredo Chaves",143,104,66,0.63461538461538458,80,0.76923076923076927,110,1.0576923076923077,110,1.0576923076923077,110,1.0576923076923077,112,1.0769230769230769,111,1.0673076923076923,105,1.0096153846153846,99,0.95192307692307687,104,1,63,0.60576923076923073,null,14,0.13461538461538461,8,7.6923076923076927E-2,null,{"$f":"cálculos2!O7","v":8},0.8,{"$f":"cálculos2!P7","v":4},1,null,0.5,{"$f":"COUNTIF($AJ$3:$AJ$80,\"=0,5\")","v":10}]
["Central","Alto Rio Novo",85,65,61,0.93846153846153846,69,1.0615384615384615,68,1.0461538461538462,67,1.0307692307692307,70,1.0769230769230769,69,1.0615384615384615,71,1.0923076923076922,59,0.90769230769230769,63,0.96923076923076923,69,1.0615384615384615,29,0.44615384615384618,null,1,1.5384615384615385E-2,1,1.5384615384615385E-2,null,{"$f":"cálculos2!O8","v":8},0.8,{"$f":"cálculos2!P8","v":4},1,null,0.75,{"$f":"COUNTIF($AJ$3:$AJ$80,\"=0,75\")","v":12}]
["Sul","Anchieta",367,280,256,0.91428571428571426,265,0.9464285714285714,308,1.1000000000000001,316,1.1285714285714286,304,1.0857142857142856,297,1.0607142857142857,300,1.0714285714285714,242,0.86428571428571432,288,1.0285714285714285,310,1.1071428571428572,132,0.47142857142857142,null,55,0.19642857142857142,28,0.1,null,{"$f":"cálculos2!O9","v":8},0.8,{"$f":"cálculos2!P9","v":4},1,null,1,{"$f":"COUNTIF($AJ$3:$AJ$80,\"=1,0\")","v":30}]
["Sul","Apiacá",68,53,34,0.64150943396226412,50,0.94339622641509435,49,0.92452830188679247,49,0.92452830188679247,50,0.94339622641509435,51,0.96226415094339623,49,0.92452830188679247,43,0.81132075471698117,45,0.84905660377358494,52,0.98113207547169812,7,0.13207547169811321,null,0,0,0,0,null,{"$f":"cálculos2!O10","v":3},0.30000000000000004,{"$f":"cálculos2!P10","v":1},0.25]
["Metropolitana","Aracruz",1419,1082,1033,0.95471349353049906,1033,0.95471349353049906,989,0.91404805914972276,1005,0.92883548983364139,1037,0.95841035120147877,1025,0.94731977818853974,984,0.90942698706099812,828,0.76524953789279115,1039,0.96025878003696863,1066,0.98521256931608137,503,0.46487985212569316,null,230,0.21256931608133087,119,0.10998151571164511,null,{"$f":"cálculos2!O11","v":5},0.5,{"$f":"cálculos2!P11","v":2},0.5]
["Sul","Atilio Vivacqua",144,107,109,1.0186915887850467,106,0.99065420560747663,97,0.90654205607476634,97,0.90654205607476634,98,0.91588785046728971,97,0.90654205607476634,96,0.89719626168224298,76,0.71028037383177567,97,0.90654205607476634,102,0.95327102803738317,45,0.42056074766355139,null,1,9.3457943925233638E-3,0,0,null,{"$f":"cálculos2!O12","v":3},0.30000000000000004,{"$f":"cálculos2!P12","v":1},0.25,null,"LEGENDA / HOMOGENEIDADE 10 VACINAS"]
["Central","Baixo Guandu",388,283,217,0.7667844522968198,275,0.9717314487632509,283,1,287,1.0141342756183747,310,1.0954063604240283,303,1.0706713780918728,299,1.0565371024734982,227,0.80212014134275622,281,0.99293286219081267,278,0.98233215547703179,128,0.45229681978798586,null,22,7.7738515901060068E-2,9,3.1802120141342753E-2,null,{"$f":"cálculos2!O13","v":8},0.8,{"$f":"cálculos2!P13","v":4},1,null,"PERCENTUAL","Nº DE MUNICÍPIOS"]
["Norte","Barra de São Francisco",562,442,420,0.95022624434389136,427,0.9660633484162896,376,0.85067873303167418,382,0.86425339366515841,402,0.9095022624434389,388,0.87782805429864252,400,0.90497737556561086,354,0.80090497737556565,331,0.74886877828054299,420,0.95022624434389136,201,0.45475113122171945,null,12,2.7149321266968326E-2,3,6.7873303167420816E-3,null,{"$f":"cálculos2!O14","v":2},0.2,{"$f":"cálculos2!P14","v":1},0.25,null,0,{"$f":"COUNTIF($AH$3:$AH$80,\"=0\")","v":6}]
["Norte","Boa Esperança",205,154,70,0.45454545454545453,110,0.7142857142857143,141,0.91558441558441561,150,0.97402597402597402,152,0.98701298701298701,153,0.99350649350649356,146,0.94805194805194803,131,0.85064935064935066,105,0.68181818181818177,150,0.97402597402597402,89,0.57792207792207795,null,19,0.12337662337662338,9,5.844155844155844E-2,null,{"$f":"cálculos2!O15","v":4},0.4,{"$f":"cálculos2!P15","v":3},0.75,null,0.1,{"$f":"COUNTIFS($AH$3:$AH$80,\">=0,10\",$AH$3:$AH$80,\"<0,20\")","v":6}]
["Sul","Bom Jesus do Norte",88,73,35,0.47945205479452052,54,0.73972602739726023,78,1.0684931506849316,76,1.0410958904109588,73,1,71,0.9726027397260274,68,0.93150684931506844,64,0.87671232876712324,39,0.53424657534246578,78,1.0684931506849316,13,0.17808219178082191,null,31,0.42465753424657532,22,0.30136986301369861,null,{"$f":"cálculos2!O16","v":5},0.5,{"$f":"cálculos2!P16","v":4},1,null,0.2,{"$f":"COUNTIFS($AH$3:$AH$80,\">=0,20\",$AH$3:$AH$80,\"<0,30\")","v":6}]
["Metropolitana","Brejetuba",198,146,74,0.50684931506849318,139,0.95205479452054798,153,1.047945205479452,153,1.047945205479452,145,0.99315068493150682,151,1.0342465753424657,148,1.0136986301369864,135,0.92465753424657537,117,0.80136986301369861,145,0.99315068493150682,58,0.39726027397260272,null,0,0,0,0,null,{"$f":"cálculos2!O17","v":7},0.70000000000000007,{"$f":"cálculos2!P17","v":4},1,null,0.3,{"$f":"COUNTIFS($AH$3:$AH$80,\">=0,30\",$AH$3:$AH$80,\"<0,40\")","v":10}]
["Sul","Cachoeiro de Itapemirim",2424,1893,2051,1.0834653988378236,2054,1.0850501848917062,1595,0.84257791864764919,1609,0.84997358689910196,1708,0.90227152667723187,1680,0.88748019017432644,1575,0.83201267828843106,1207,0.63761225567881674,1570,0.82937136819862656,1721,0.90913893291072367,655,0.34601162176439515,null,199,0.10512414157422081,71,3.7506603275224509E-2,null,{"$f":"cálculos2!O18","v":1},0.1,{"$f":"cálculos2!P18","v":0},0,null,0.4,{"$f":"COUNTIFS($AH$3:$AH$80,\">=0,40\",$AH$3:$AH$80,\"<0,50\")","v":6}]
["Metropolitana","Cariacica",4851,3710,3369,0.90808625336927229,3394,0.91482479784366577,3223,0.86873315363881398,3234,0.8716981132075472,3432,0.92506738544474398,3265,0.88005390835579511,3194,0.86091644204851747,2450,0.660377358490566,2493,0.67196765498652289,3380,0.91105121293800539,1276,0.34393530997304583,null,637,0.17169811320754716,223,6.0107816711590295E-2,null,{"$f":"cálculos2!O19","v":1},0.1,{"$f":"cálculos2!P19","v":0},0,null,0.5,{"$f":"COUNTIFS($AH$3:$AH$80,\">=0,50\",$AH$3:$AH$80,\"<0,60\")","v":13}]
["Sul","Castelo",432,323,261,0.80804953560371517,268,0.8297213622291022,329,1.0185758513931888,353,1.0928792569659442,330,1.021671826625387,321,0.99380804953560375,317,0.98142414860681115,285,0.88235294117647056,259,0.80185758513931893,335,1.0371517027863777,150,0.46439628482972134,null,36,0.11145510835913312,13,4.0247678018575851E-2,null,{"$f":"cálculos2!O20","v":6},0.60000000000000009,{"$f":"cálculos2!P20","v":4},1,null,0.6,{"$f":"COUNTIFS($AH$3:$AH$80,\">=0,60\",$AH$3:$AH$80,\"<0,70\")","v":6}]
["Central","Colatina",1518,1171,1160,0.99060631938514088,1163,0.99316823228010243,1101,0.94022203245089664,1150,0.98206660973526905,1111,0.94876174210076858,1089,0.92997438087105033,1059,0.90435525192143462,922,0.78736122971818956,869,0.74210076857386853,1148,0.98035866780529457,567,0.484201537147737,null,88,7.5149444918872751E-2,41,3.5012809564474806E-2,null,{"$f":"cálculos2!O21","v":4},0.4,{"$f":"cálculos2!P21","v":2},0.5,null,0.7,{"$f":"COUNTIFS($AH$3:$AH$80,\">=0,70\",$AH$3:$AH$80,\"<0,80\")","v":9}]
["Norte","Conceição da Barra",386,284,151,0.53169014084507038,150,0.528169014084507,276,0.971830985915493,285,1.0035211267605635,285,1.0035211267605635,274,0.96478873239436624,278,0.97887323943661975,257,0.90492957746478875,222,0.78169014084507038,295,1.0387323943661972,134,0.47183098591549294,null,45,0.15845070422535212,15,5.2816901408450703E-2,null,{"$f":"cálculos2!O22","v":6},0.60000000000000009,{"$f":"cálculos2!P22","v":4},1,null,0.8,{"$f":"COUNTIFS($AH$3:$AH$80,\">=0,80\",$AH$3:$AH$80,\"<0,90\")","v":12}]
["Metropolitana","Conceição do Castelo",152,126,46,0.36507936507936506,105,0.83333333333333337,91,0.72222222222222221,89,0.70634920634920639,91,0.72222222222222221,89,0.70634920634920639,90,0.7142857142857143,90,0.7142857142857143,101,0.80158730158730163,104,0.82539682539682535,55,0.43650793650793651,null,0,0,0,0,null,{"$f":"cálculos2!O23","v":0},0,{"$f":"cálculos2!P23","v":0},0,null,0.9,{"$f":"COUNTIFS($AH$3:$AH$80,\">=0,90\",$AH$3:$AH$80,\"<1,0\")","v":4}]
["Sul","Divino de São Lourenço",70,55,47,0.8545454545454545,49,0.89090909090909087,59,1.0727272727272728,59,1.0727272727272728,66,1.2,65,1.1818181818181819,63,1.1454545454545455,47,0.8545454545454545,38,0.69090909090909092,42,0.76363636363636367,21,0.38181818181818183,null,14,0.25454545454545452,4,7.2727272727272724E-2,null,{"$f":"cálculos2!O24","v":5},0.5,{"$f":"cálculos2!P24","v":3},0.75,null,1,{"$f":"COUNTIF($AH$3:$AH$80,\">=1,0\")","v":0}]
["Metropolitana","Domingos Martins",420,303,245,0.8085808580858086,293,0.96699669966996704,283,0.93399339933993397,289,0.95379537953795379,312,1.0297029702970297,306,1.0099009900990099,295,0.97359735973597361,255,0.84158415841584155,274,0.90429042904290424,286,0.94389438943894388,189,0.62376237623762376,null,49,0.1617161716171617,32,0.10561056105610561,null,{"$f":"cálculos2!O25","v":5},0.5,{"$f":"cálculos2!P25","v":2},0.5]
["Sul","Dores do Rio Preto",96,74,42,0.56756756756756754,48,0.64864864864864868,65,0.8783783783783784,68,0.91891891891891897,73,0.98648648648648651,70,0.94594594594594594,71,0.95945945945945943,57,0.77027027027027029,51,0.68918918918918914,55,0.7432432432432432,22,0.29729729729729731,null,21,0.28378378378378377,10,0.13513513513513514,null,{"$f":"cálculos2!O26","v":3},0.30000000000000004,{"$f":"cálculos2!P26","v":1},0.25]
["Norte","Ecoporanga",253,203,200,0.98522167487684731,203,1,185,0.91133004926108374,183,0.90147783251231528,215,1.0591133004926108,205,1.0098522167487685,198,0.97536945812807885,160,0.78817733990147787,172,0.84729064039408863,193,0.95073891625615758,100,0.49261083743842365,null,20,9.8522167487684734E-2,3,1.4778325123152709E-2,null,{"$f":"cálculos2!O27","v":5},0.5,{"$f":"cálculos2!P27","v":2},0.5]
["Metropolitana","Fundão",221,176,151,0.85795454545454541,154,0.875,169,0.96022727272727271,170,0.96590909090909094,173,0.98295454545454541,175,0.99431818181818177,150,0.85227272727272729,135,0.76704545454545459,163,0.92613636363636365,156,0.88636363636363635,93,0.52840909090909094,null,17,9.6590909090909088E-2,6,3.4090909090909088E-2,null,{"$f":"cálculos2!O28","v":4},0.4,{"$f":"cálculos2!P28","v":3},0.75]
["Central","Governador Lindenberg",130,98,77,0.7857142857142857,76,0.77551020408163263,94,0.95918367346938771,94,0.95918367346938771,97,0.98979591836734693,98,1,97,0.98979591836734693,109,1.1122448979591837,105,1.0714285714285714,112,1.1428571428571428,52,0.53061224489795922,null,9,9.1836734693877556E-2,3,3.0612244897959183E-2,null,{"$f":"cálculos2!O29","v":8},0.8,{"$f":"cálculos2!P29","v":4},1]
["Sul","Guaçuí",384,287,214,0.74564459930313587,230,0.80139372822299648,295,1.0278745644599303,292,1.0174216027874565,289,1.0069686411149825,269,0.93728222996515675,280,0.97560975609756095,228,0.79442508710801396,253,0.88153310104529614,223,0.77700348432055744,112,0.3902439024390244,null,61,0.21254355400696864,11,3.8327526132404179E-2,null,{"$f":"cálculos2!O30","v":5},0.5,{"$f":"cálculos2!P30","v":3},0.75]
["Metropolitana","Guarapari",1508,1095,1177,1.0748858447488585,1255,1.1461187214611872,1064,0.97168949771689495,1064,0.97168949771689495,1223,1.1168949771689498,1179,1.0767123287671232,1112,1.015525114155251,814,0.74337899543378994,971,0.88675799086757989,1109,1.0127853881278539,525,0.47945205479452052,null,136,0.12420091324200913,45,4.1095890410958902E-2,null,{"$f":"cálculos2!O31","v":7},0.70000000000000007,{"$f":"cálculos2!P31","v":4},1]
["Metropolitana","Ibatiba",367,288,171,0.59375,289,1.0034722222222223,270,0.9375,269,0.93402777777777779,285,0.98958333333333337,275,0.95486111111111116,279,0.96875,239,0.82986111111111116,242,0.84027777777777779,265,0.92013888888888884,65,0.22569444444444445,null,96,0.33333333333333331,44,0.15277777777777779,null,{"$f":"cálculos2!O32","v":4},0.4,{"$f":"cálculos2!P32","v":1},0.25]
["Metropolitana","Ibiraçu",151,119,113,0.94957983193277307,113,0.94957983193277307,97,0.81512605042016806,98,0.82352941176470584,106,0.89075630252100846,105,0.88235294117647056,106,0.89075630252100846,94,0.78991596638655459,84,0.70588235294117652,97,0.81512605042016806,35,0.29411764705882354,null,19,0.15966386554621848,17,0.14285714285714285,null,{"$f":"cálculos2!O33","v":1},0.1,{"$f":"cálculos2!P33","v":0},0]
["Sul","Ibitirama",140,104,87,0.83653846153846156,103,0.99038461538461542,93,0.89423076923076927,94,0.90384615384615385,93,0.89423076923076927,95,0.91346153846153844,78,0.75,76,0.73076923076923073,84,0.80769230769230771,91,0.875,41,0.39423076923076922,null,18,0.17307692307692307,3,2.8846153846153848E-2,null,{"$f":"cálculos2!O34","v":2},0.2,{"$f":"cálculos2!P34","v":0},0]
["Sul","Iconha",114,90,63,{"$f":"E35/D35","v":0.7},62,0.68888888888888888,85,{"$f":"I35/D35","v":0.94444444444444442},88,{"$f":"K35/D35","v":0.97777777777777775},84,{"$f":"M35/D35","v":0.93333333333333335},84,{"$f":"O35/D35","v":0.93333333333333335},77,{"$f":"Q35/D35","v":0.85555555555555551},87,{"$f":"S35/D35","v":0.96666666666666667},102,{"$f":"U35/D35","v":1.1333333333333333},112,{"$f":"W35/D35","v":1.2444444444444445},46,{"$f":"Y35/D35","v":0.51111111111111107},null,5,5.5555555555555552E-2,2,2.2222222222222223E-2,null,{"$f":"cálculos2!O35","v":5},0.5,{"$f":"cálculos2!P35","v":2},0.5]
["Sul","Irupi",194,147,105,0.7142857142857143,121,0.8231292517006803,148,1.0068027210884354,144,0.97959183673469385,159,1.0816326530612246,159,1.0816326530612246,156,1.0612244897959184,133,0.90476190476190477,141,0.95918367346938771,157,1.0680272108843538,39,0.26530612244897961,null,50,0.3401360544217687,30,0.20408163265306123,null,{"$f":"cálculos2!O36","v":7},0.70000000000000007,{"$f":"cálculos2!P36","v":4},1]
["Metropolitana","Itaguaçu",137,109,108,0.99082568807339455,113,1.036697247706422,101,0.92660550458715596,103,0.94495412844036697,112,1.0275229357798166,110,1.0091743119266054,101,0.92660550458715596,96,0.88073394495412849,116,1.0642201834862386,111,1.0183486238532109,66,0.60550458715596334,null,22,0.20183486238532111,10,9.1743119266055051E-2,null,{"$f":"cálculos2!O37","v":5},0.5,{"$f":"cálculos2!P37","v":2},0.5]
["Sul","Itapemirim",520,372,337,0.90591397849462363,333,0.89516129032258063,357,0.95967741935483875,359,0.96505376344086025,377,1.0134408602150538,340,0.91397849462365588,353,0.94892473118279574,227,0.61021505376344087,338,0.90860215053763438,362,0.9731182795698925,152,0.40860215053763443,null,23,6.1827956989247312E-2,11,2.9569892473118281E-2,null,{"$f":"cálculos2!O38","v":5},0.5,{"$f":"cálculos2!P38","v":4},1]
["Metropolitana","Itarana",136,103,107,1.0388349514563107,117,1.1359223300970873,101,0.98058252427184467,103,1,107,1.0388349514563107,104,1.0097087378640777,100,0.970873786407767,100,0.970873786407767,75,0.72815533980582525,104,1.0097087378640777,61,0.59223300970873782,null,19,0.18446601941747573,9,8.7378640776699032E-2,null,{"$f":"cálculos2!O39","v":8},0.8,{"$f":"cálculos2!P39","v":4},1]
["Sul","Iúna",477,354,246,0.69491525423728817,250,0.70621468926553677,320,0.903954802259887,320,0.903954802259887,333,0.94067796610169496,329,0.92937853107344637,320,0.903954802259887,302,0.85310734463276838,252,0.71186440677966101,338,0.95480225988700562,148,0.41807909604519772,null,53,0.14971751412429379,21,5.9322033898305086E-2,null,{"$f":"cálculos2!O40","v":2},0.2,{"$f":"cálculos2!P40","v":1},0.25]
["Norte","Jaguaré",495,385,350,0.90909090909090906,349,0.90649350649350646,368,0.95584415584415583,369,0.95844155844155843,371,0.96363636363636362,362,0.94025974025974024,344,0.89350649350649347,313,0.81298701298701304,296,0.76883116883116887,365,0.94805194805194803,142,0.36883116883116884,null,45,0.11688311688311688,14,3.6363636363636362E-2,null,{"$f":"cálculos2!O41","v":5},0.5,{"$f":"cálculos2!P41","v":3},0.75]
["Sul","Jerônimo Monteiro",150,117,94,0.80341880341880345,97,0.82905982905982911,125,1.0683760683760684,126,1.0769230769230769,124,1.0598290598290598,122,1.0427350427350428,115,0.98290598290598286,116,0.99145299145299148,116,0.99145299145299148,109,0.93162393162393164,34,0.29059829059829062,null,37,0.31623931623931623,20,0.17094017094017094,null,{"$f":"cálculos2!O42","v":7},0.70000000000000007,{"$f":"cálculos2!P42","v":3},0.75]
["Metropolitana","João Neiva",161,120,111,0.92500000000000004,112,0.93333333333333335,114,0.95,116,0.96666666666666667,121,1.0083333333333333,121,1.0083333333333333,116,0.96666666666666667,117,0.97499999999999998,116,0.96666666666666667,147,1.2250000000000001,65,0.54166666666666663,null,9,7.4999999999999997E-2,2,1.6666666666666666E-2,null,{"$f":"cálculos2!O43","v":9},0.9,{"$f":"cálculos2!P43","v":4},1]
["Metropolitana","Laranja da Terra",84,67,73,1.0895522388059702,73,1.0895522388059702,64,0.95522388059701491,65,0.97014925373134331,62,0.92537313432835822,61,0.91044776119402981,70,1.044776119402985,76,1.1343283582089552,88,1.3134328358208955,96,1.4328358208955223,60,0.89552238805970152,null,16,0.23880597014925373,10,0.14925373134328357,null,{"$f":"cálculos2!O44","v":8},0.8,{"$f":"cálculos2!P44","v":3},0.75]
["Central","Linhares",2598,2014,1459,0.72442899702085406,1483,0.73634558093346569,1662,0.82522343594836145,1706,0.8470705064548163,1737,0.86246276067527305,1750,0.86891757696127114,1685,0.83664349553128103,1388,0.68917576961271099,1605,0.79692154915590863,1730,0.85898709036742804,783,0.38877855014895729,null,78,3.8728897715988087E-2,28,1.3902681231380337E-2,null,{"$f":"cálculos2!O45","v":0},0,{"$f":"cálculos2!P45","v":0},0]
["Central","Mantenópolis",153,116,110,0.94827586206896552,119,1.0258620689655173,109,0.93965517241379315,111,0.9568965517241379,108,0.93103448275862066,104,0.89655172413793105,102,0.87931034482758619,110,0.94827586206896552,107,0.92241379310344829,123,1.0603448275862069,51,0.43965517241379309,null,27,0.23275862068965517,4,3.4482758620689655E-2,null,{"$f":"cálculos2!O46","v":3},0.30000000000000004,{"$f":"cálculos2!P46","v":2},0.5]
["Sul","Marataízes",553,432,397,0.91898148148148151,384,0.88888888888888884,416,0.96296296296296291,421,0.97453703703703709,446,1.0324074074074074,432,1,424,0.98148148148148151,262,0.60648148148148151,356,0.82407407407407407,415,0.96064814814814814,175,0.40509259259259262,null,42,9.7222222222222224E-2,11,2.5462962962962962E-2,null,{"$f":"cálculos2!O47","v":6},0.60000000000000009,{"$f":"cálculos2!P47","v":4},1]
["Metropolitana","Marechal Floriano",221,158,129,0.81645569620253167,142,0.89873417721518989,163,1.0316455696202531,164,1.0379746835443038,166,1.0506329113924051,164,1.0379746835443038,166,1.0506329113924051,123,0.77848101265822789,160,1.0126582278481013,155,0.98101265822784811,95,0.60126582278481011,null,27,0.17088607594936708,12,7.5949367088607597E-2,null,{"$f":"cálculos2!O48","v":7},0.70000000000000007,{"$f":"cálculos2!P48","v":4},1]
["Central","Marilândia",154,113,109,0.96460176991150437,108,0.95575221238938057,121,1.0707964601769913,126,1.1150442477876106,113,1,115,1.0176991150442478,127,1.1238938053097345,113,1,109,0.96460176991150437,119,1.0530973451327434,73,0.64601769911504425,null,33,0.29203539823008851,15,0.13274336283185842,null,{"$f":"cálculos2!O49","v":9},0.9,{"$f":"cálculos2!P49","v":4},1]
["Sul","Mimoso do Sul",263,200,168,0.84,172,0.86,168,0.84,170,0.85,170,0.85,170,0.85,161,0.80500000000000005,145,0.72499999999999998,145,0.72499999999999998,177,0.88500000000000001,87,0.435,null,10,0.05,2,0.01,null,{"$f":"cálculos2!O50","v":0},0,{"$f":"cálculos2!P50","v":0},0]
["Norte","Montanha",226,171,121,0.70760233918128657,120,0.70175438596491224,184,1.0760233918128654,187,1.0935672514619883,158,0.92397660818713445,158,0.92397660818713445,164,0.95906432748538006,185,1.0818713450292399,177,1.0350877192982457,191,1.1169590643274854,90,0.52631578947368418,null,85,0.49707602339181284,36,0.21052631578947367,null,{"$f":"cálculos2!O51","v":7},0.70000000000000007,{"$f":"cálculos2!P51","v":3},0.75]
["Norte","Mucurici",74,52,33,0.63461538461538458,34,0.65384615384615385,61,1.1730769230769231,61,1.1730769230769231,58,1.1153846153846154,58,1.1153846153846154,55,1.0576923076923077,67,1.2884615384615385,51,0.98076923076923073,64,1.2307692307692308,32,0.61538461538461542,null,22,0.42307692307692307,12,0.23076923076923078,null,{"$f":"cálculos2!O52","v":8},0.8,{"$f":"cálculos2!P52","v":4},1]
["Sul","Muniz Freire",213,161,145,0.90062111801242239,158,0.98136645962732916,170,1.0559006211180124,170,1.0559006211180124,176,1.0931677018633541,172,1.0683229813664596,170,1.0559006211180124,161,1,154,0.95652173913043481,173,1.0745341614906831,66,0.40993788819875776,null,26,0.16149068322981366,5,3.1055900621118012E-2,null,{"$f":"cálculos2!O53","v":9},0.9,{"$f":"cálculos2!P53","v":4},1]
["Sul","Muqui",147,116,101,0.87068965517241381,99,0.85344827586206895,122,1.0517241379310345,123,1.0603448275862069,105,0.90517241379310343,107,0.92241379310344829,109,0.93965517241379315,116,1,97,0.83620689655172409,117,1.0086206896551724,49,0.42241379310344829,null,38,0.32758620689655171,21,0.18103448275862069,null,{"$f":"cálculos2!O54","v":5},0.5,{"$f":"cálculos2!P54","v":3},0.75]
["Norte","Nova Venécia",627,485,238,0.49072164948453606,459,0.94639175257731956,506,1.043298969072165,519,1.0701030927835051,491,1.0123711340206185,470,0.96907216494845361,500,1.0309278350515463,451,0.92989690721649487,401,0.82680412371134016,533,1.0989690721649485,246,0.5072164948453608,null,14,2.88659793814433E-2,3,6.1855670103092781E-3,null,{"$f":"cálculos2!O55","v":7},0.70000000000000007,{"$f":"cálculos2!P55","v":4},1]
["Central","Pancas",208,156,144,0.92307692307692313,149,0.95512820512820518,179,1.1474358974358974,182,1.1666666666666667,174,1.1153846153846154,173,1.108974358974359,170,1.0897435897435896,158,1.0128205128205128,160,1.0256410256410255,171,1.0961538461538463,123,0.78846153846153844,null,10,6.4102564102564097E-2,4,2.564102564102564E-2,null,{"$f":"cálculos2!O56","v":9},0.9,{"$f":"cálculos2!P56","v":4},1]
["Norte","Pedro Canário",316,234,150,0.64102564102564108,147,0.62820512820512819,244,1.0427350427350428,242,1.0341880341880343,210,0.89743589743589747,204,0.87179487179487181,226,0.96581196581196582,202,0.86324786324786329,186,0.79487179487179482,282,1.2051282051282051,137,0.5854700854700855,null,36,0.15384615384615385,7,2.9914529914529916E-2,null,{"$f":"cálculos2!O57","v":4},0.4,{"$f":"cálculos2!P57","v":3},0.75]
["Norte","Pinheiros",328,252,107,0.42460317460317459,103,0.40873015873015872,234,0.9285714285714286,233,0.92460317460317465,193,0.76587301587301593,190,0.75396825396825395,203,0.80555555555555558,194,0.76984126984126988,196,0.77777777777777779,229,0.90873015873015872,84,0.33333333333333331,null,38,0.15079365079365079,17,6.7460317460317457E-2,null,{"$f":"cálculos2!O58","v":0},0,{"$f":"cálculos2!P58","v":0},0]
["Sul","Piúma",288,206,193,0.93689320388349517,181,0.87864077669902918,207,1.0048543689320388,209,1.0145631067961165,215,1.0436893203883495,202,0.98058252427184467,193,0.93689320388349517,138,0.66990291262135926,168,0.81553398058252424,200,0.970873786407767,88,0.42718446601941745,null,53,0.25728155339805825,21,0.10194174757281553,null,{"$f":"cálculos2!O59","v":5},0.5,{"$f":"cálculos2!P59","v":4},1]
["Norte","Ponto Belo",74,52,32,0.61538461538461542,30,0.57692307692307687,51,0.98076923076923073,52,1,47,0.90384615384615385,48,0.92307692307692313,50,0.96153846153846156,57,1.0961538461538463,39,0.75,56,1.0769230769230769,27,0.51923076923076927,null,11,0.21153846153846154,5,9.6153846153846159E-2,null,{"$f":"cálculos2!O60","v":6},0.60000000000000009,{"$f":"cálculos2!P60","v":3},0.75]
["Sul","Presidente Kennedy",200,163,163,1,166,1.01840490797546,134,0.82208588957055218,140,0.85889570552147243,144,0.8834355828220859,144,0.8834355828220859,144,0.8834355828220859,112,0.68711656441717794,151,0.92638036809815949,167,1.0245398773006136,77,0.47239263803680981,null,22,0.13496932515337423,4,2.4539877300613498E-2,null,{"$f":"cálculos2!O61","v":2},0.2,{"$f":"cálculos2!P61","v":1},0.25]
["Central","Rio Bananal",272,215,174,0.80930232558139537,178,0.82790697674418601,208,0.96744186046511627,213,0.99069767441860468,207,0.96279069767441861,209,0.97209302325581393,193,0.89767441860465114,201,0.93488372093023253,227,1.0558139534883721,234,1.0883720930232559,136,0.63255813953488371,null,38,0.17674418604651163,18,8.3720930232558138E-2,null,{"$f":"cálculos2!O62","v":6},0.60000000000000009,{"$f":"cálculos2!P62","v":4},1]
["Sul","Rio Novo do Sul",109,77,62,0.80519480519480524,60,0.77922077922077926,87,1.1298701298701299,85,1.1038961038961039,78,1.0129870129870129,80,1.0389610389610389,83,1.0779220779220779,81,1.051948051948052,75,0.97402597402597402,88,1.1428571428571428,42,0.54545454545454541,null,18,0.23376623376623376,6,7.792207792207792E-2,null,{"$f":"cálculos2!O63","v":8},0.8,{"$f":"cálculos2!P63","v":4},1]
["Metropolitana","Santa Leopoldina",99,69,52,0.75362318840579712,49,0.71014492753623193,76,1.1014492753623188,77,1.1159420289855073,73,1.0579710144927537,72,1.0434782608695652,75,1.0869565217391304,71,1.0289855072463767,88,1.2753623188405796,91,1.318840579710145,17,0.24637681159420291,null,4,5.7971014492753624E-2,0,0,null,{"$f":"cálculos2!O64","v":8},0.8,{"$f":"cálculos2!P64","v":4},1]
["Metropolitana","Santa Maria de Jetibá",656,500,445,0.89,453,0.90600000000000003,406,0.81200000000000006,411,0.82199999999999995,441,0.88200000000000001,445,0.89,428,0.85599999999999998,346,0.69199999999999995,463,0.92600000000000005,444,0.88800000000000001,206,0.41199999999999998,null,37,7.3999999999999996E-2,20,0.04,null,{"$f":"cálculos2!O65","v":1},0.1,{"$f":"cálculos2!P65","v":0},0]
["Metropolitana","Santa Teresa",310,234,220,0.94017094017094016,218,0.93162393162393164,230,0.98290598290598286,233,0.99572649572649574,227,0.97008547008547008,227,0.97008547008547008,212,0.90598290598290598,193,0.82478632478632474,187,0.79914529914529919,210,0.89743589743589747,118,0.50427350427350426,null,14,5.9829059829059832E-2,8,3.4188034188034191E-2,null,{"$f":"cálculos2!O66","v":5},0.5,{"$f":"cálculos2!P66","v":3},0.75]
["Central","São Domingos do Norte",118,85,93,{"$f":"E67/D67","v":1.0941176470588236},94,1.1058823529411765,92,{"$f":"I67/D67","v":1.0823529411764705},93,{"$f":"K67/D67","v":1.0941176470588236},91,{"$f":"M67/D67","v":1.0705882352941176},87,{"$f":"O67/D67","v":1.0235294117647058},88,{"$f":"Q67/D67","v":1.0352941176470589},83,{"$f":"S67/D67","v":0.97647058823529409},60,{"$f":"U67/D67","v":0.70588235294117652},87,{"$f":"W67/D67","v":1.0235294117647058},36,{"$f":"Y67/D67","v":0.42352941176470588},null,3,3.5294117647058823E-2,1,1.1764705882352941E-2,null,{"$f":"cálculos2!O67","v":8},0.8,{"$f":"cálculos2!P67","v":4},1]
["Central","São Gabriel da Palha",455,346,298,0.86127167630057799,329,{"$f":"G68/D68","v":0.95086705202312138},306,0.88439306358381498,314,0.90751445086705207,335,0.96820809248554918,330,0.95375722543352603,319,0.9219653179190751,252,0.72832369942196529,257,0.74277456647398843,298,0.86127167630057799,121,0.34971098265895956,null,7,{"$f":"AB68/D68","v":2.023121387283237E-2},3,{"$f":"AD68/D68","v":8.670520231213872E-3},null,{"$f":"cálculos2!O68","v":3},{"$f":"AG68*0.1","v":0.30000000000000004},{"$f":"cálculos2!P68","v":1},{"$f":"AI68*0.25","v":0.25}]
["Sul","São José do Calçado",99,82,74,0.90243902439024393,79,0.96341463414634143,86,1.0487804878048781,88,1.0731707317073171,83,1.0121951219512195,74,0.90243902439024393,88,1.0731707317073171,69,0.84146341463414631,77,0.93902439024390238,93,1.1341463414634145,46,0.56097560975609762,null,1,1.2195121951219513E-2,0,0,null,{"$f":"cálculos2!O69","v":7},0.70000000000000007,{"$f":"cálculos2!P69","v":4},1]
["Norte","São Mateus",1939,1478,1724,1.1664411366711773,1668,1.128552097428958,1297,0.87753721244925575,1302,0.88092016238159676,1461,0.9884979702300406,1391,0.94113667117726663,1283,0.86806495263870098,952,0.64411366711772666,1049,0.70974289580514205,1223,0.82746955345060891,484,0.32746955345060891,null,265,0.17929634641407308,90,6.0893098782138028E-2,null,{"$f":"cálculos2!O70","v":3},0.30000000000000004,{"$f":"cálculos2!P70","v":1},0.25]
["Central","São Roque do Canaã",129,108,111,1.0277777777777777,108,1,84,0.77777777777777779,87,0.80555555555555558,86,0.79629629629629628,88,0.81481481481481477,87,0.80555555555555558,76,0.70370370370370372,93,0.86111111111111116,95,0.87962962962962965,48,0.44444444444444442,null,33,0.30555555555555558,16,0.14814814814814814,null,{"$f":"cálculos2!O71","v":1},0.1,{"$f":"cálculos2!P71","v":0},0]
["Metropolitana","Serra",7300,5643,5342,0.94665957823852565,5365,0.95073542441963499,4758,0.84316852737905368,4845,0.85858585858585856,5036,0.8924331029594188,4858,0.86088959773170304,4771,0.84547226652489815,3627,0.64274322169059006,3031,0.53712564238880023,4855,0.86035796562112354,1682,0.2980684033315612,null,715,0.12670565302144249,245,4.3416622363990784E-2,null,{"$f":"cálculos2!O72","v":1},0.1,{"$f":"cálculos2!P72","v":0},0]
["Central","Sooretama",425,322,250,0.77639751552795033,255,0.79192546583850931,296,0.91925465838509313,303,0.94099378881987583,321,0.99689440993788825,316,0.98136645962732916,273,0.84782608695652173,253,0.7857142857142857,285,0.8850931677018633,307,0.95341614906832295,118,0.36645962732919257,null,24,7.4534161490683232E-2,8,2.4844720496894408E-2,null,{"$f":"cálculos2!O73","v":3},0.30000000000000004,{"$f":"cálculos2!P73","v":2},0.5]
["Sul","Vargem Alta",264,203,187,0.9211822660098522,194,0.95566502463054193,174,0.8571428571428571,176,0.86699507389162567,191,0.94088669950738912,190,0.93596059113300489,184,0.90640394088669951,152,0.74876847290640391,182,0.89655172413793105,191,0.94088669950738912,95,0.46798029556650245,null,27,0.13300492610837439,10,4.9261083743842367E-2,null,{"$f":"cálculos2!O74","v":2},0.2,{"$f":"cálculos2!P74","v":0},0]
["Metropolitana","Venda Nova do Imigrante",368,272,111,0.40808823529411764,239,0.87867647058823528,289,1.0625,303,1.1139705882352942,273,1.0036764705882353,269,0.98897058823529416,272,1,276,1.0147058823529411,216,0.79411764705882348,329,1.2095588235294117,137,0.50367647058823528,null,50,0.18382352941176472,32,0.11764705882352941,null,{"$f":"cálculos2!O75","v":7},0.70000000000000007,{"$f":"cálculos2!P75","v":4},1]
["Metropolitana","Viana",917,688,644,0.93604651162790697,643,0.93459302325581395,662,0.96220930232558144,659,0.95784883720930236,691,1.004360465116279,652,0.94767441860465118,652,0.94767441860465118,467,0.67877906976744184,582,0.84593023255813948,680,0.98837209302325579,208,0.30232558139534882,null,113,0.16424418604651161,46,6.6860465116279064E-2,null,{"$f":"cálculos2!O76","v":6},0.60000000000000009,{"$f":"cálculos2!P76","v":4},1]
["Norte","Vila Pavão",100,82,68,0.82926829268292679,92,1.1219512195121952,66,0.80487804878048785,66,0.80487804878048785,70,0.85365853658536583,70,0.85365853658536583,70,0.85365853658536583,68,0.82926829268292679,81,0.98780487804878048,80,0.97560975609756095,36,0.43902439024390244,null,12,0.14634146341463414,3,3.6585365853658534E-2,null,{"$f":"cálculos2!O77","v":3},0.30000000000000004,{"$f":"cálculos2!P77","v":1},0.25]
["Central","Vila Valério",255,188,151,0.80319148936170215,166,0.88297872340425532,178,0.94680851063829785,182,0.96808510638297873,183,0.97340425531914898,179,0.9521276595744681,184,0.97872340425531912,160,0.85106382978723405,148,0.78723404255319152,168,0.8936170212765957,78,0.41489361702127658,null,4,2.1276595744680851E-2,1,5.3191489361702126E-3,null,{"$f":"cálculos2!O78","v":4},0.4,{"$f":"cálculos2!P78","v":2},0.5]
["Metropolitana","Vila Velha",5675,4304,3872,0.8996282527881041,3873,0.89986059479553904,3569,0.82922862453531598,3792,0.8810408921933085,3682,0.85548327137546465,3607,0.83805762081784385,3607,0.83805762081784385,2859,0.66426579925650553,3226,0.74953531598513012,3748,0.870817843866171,1612,0.37453531598513012,null,626,0.1454460966542751,277,6.435873605947956E-2,null,{"$f":"cálculos2!O79","v":0},0,{"$f":"cálculos2!P79","v":0},0]
["Metropolitana","Vitória",3622,2753,2520,0.91536505630221576,2566,0.93207410098074828,2524,0.91681801670904473,2817,1.0232473665092625,2577,0.93606974209952776,2530,0.91899745731928806,2506,0.91027969487831462,1862,0.67635306937885942,2465,0.89538685070831825,2529,0.91863421721758087,1201,0.43625136215038141,null,701,0.25463131129676714,361,0.13112967671630948,null,{"$f":"cálculos2!O80","v":3},0.30000000000000004,{"$f":"cálculos2!P80","v":1},0.25]
[]
[null,"Total Norte",{"$f":"SUMIF($A$3:$A$80,\"Norte\",C$3:C$80)","v":5787},{"$f":"SUMIF($A$3:$A$80,\"Norte\",D$3:D$80)","v":4442},{"$f":"SUMIF($A$3:$A$80,\"Norte\",E$3:E$80)","v":3816},{"$f":"E82/D82","v":0.85907248986942819},{"$f":"SUMIF($A$3:$A$80,\"Norte\",G$3:G$80)","v":4041},{"$f":"G82/D82","v":0.90972534894191803},{"$f":"SUMIF($A$3:$A$80,\"Norte\",I$3:I$80)","v":4121},{"$f":"I82/D82","v":0.92773525438991444},{"$f":"SUMIF($A$3:$A$80,\"Norte\",K$3:K$80)","v":4160},{"$f":"K82/D82","v":0.93651508329581268},{"$f":"SUMIF($A$3:$A$80,\"Norte\",M$3:M$80)","v":4255},{"$f":"M82/D82","v":0.95790184601530837},{"$f":"SUMIF($A$3:$A$80,\"Norte\",O$3:O$80)","v":4109},{"$f":"O82/D82","v":0.92503376857271502},{"$f":"SUMIF($A$3:$A$80,\"Norte\",Q$3:Q$80)","v":4049},{"$f":"Q82/D82","v":0.91152633948671768},{"$f":"SUMIF($A$3:$A$80,\"Norte\",S$3:S$80)","v":3482},{"$f":"S82/D82","v":0.78388113462404319},{"$f":"SUMIF($A$3:$A$80,\"Norte\",U$3:U$80)","v":3408},{"$f":"U82/D82","v":0.7672219720846466},{"$f":"SUMIF($A$3:$A$80,\"Norte\",W$3:W$80)","v":4196},{"$f":"W82/D82","v":0.94461954074741106},{"$f":"SUMIF($A$3:$A$80,\"Norte\",Y$3:Y$80)","v":1838},{"$f":"Y82/D82","v":0.41377757766771722},null,{"$f":"SUMIF($A$3:$A$80,\"Norte\",AB$3:AB$80)","v":639},{"$f":"AB82/D82","v":0.14385411976587123},{"$f":"SUMIF($A$3:$A$80,\"Norte\",AD$3:AD$80)","v":224},{"$f":"AD82/D82","v":5.0427735254389913E-2},null,{"$f":"cálculos2!O82","v":3},{"$f":"AG82*0.1","v":0.30000000000000004},{"$f":"cálculos2!P82","v":1},0.25]
[null,"Total Central",{"$f":"SUMIF($A$3:$A$80,\"Central\",C$3:C$80)","v":7061},{"$f":"SUMIF($A$3:$A$80,\"Central\",D$3:D$80)","v":5413},{"$f":"SUMIF($A$3:$A$80,\"Central\",E$3:E$80)","v":4527},{"$f":"E83/D83","v":0.83631997044152961},{"$f":"SUMIF($A$3:$A$80,\"Central\",G$3:G$80)","v":4692},{"$f":"G83/D83","v":0.8668021429891003},{"$f":"SUMIF($A$3:$A$80,\"Central\",I$3:I$80)","v":4902},{"$f":"I83/D83","v":0.90559763532237203},{"$f":"SUMIF($A$3:$A$80,\"Central\",K$3:K$80)","v":5037},{"$f":"K83/D83","v":0.93053759467947539},{"$f":"SUMIF($A$3:$A$80,\"Central\",M$3:M$80)","v":5075},{"$f":"M83/D83","v":0.93755773138740073},{"$f":"SUMIF($A$3:$A$80,\"Central\",O$3:O$80)","v":5041},{"$f":"O83/D83","v":0.93127655643820428},{"$f":"SUMIF($A$3:$A$80,\"Central\",Q$3:Q$80)","v":4876},{"$f":"Q83/D83","v":0.90079438389063371},{"$f":"SUMIF($A$3:$A$80,\"Central\",S$3:S$80)","v":4215},{"$f":"S83/D83","v":0.77868095326066877},{"$f":"SUMIF($A$3:$A$80,\"Central\",U$3:U$80)","v":4467},{"$f":"U83/D83","v":0.82523554406059485},{"$f":"SUMIF($A$3:$A$80,\"Central\",W$3:W$80)","v":5052},{"$f":"W83/D83","v":0.933308701274709},{"$f":"SUMIF($A$3:$A$80,\"Central\",Y$3:Y$80)","v":2384},{"$f":"Y83/D83","v":0.44042120820247554},null,{"$f":"SUMIF($A$3:$A$80,\"Central\",AB$3:AB$80)","v":382},{"$f":"AB83/D83","v":7.0570847958618135E-2},{"$f":"SUMIF($A$3:$A$80,\"Central\",AD$3:AD$80)","v":154},{"$f":"AD83/D83","v":2.8450027711065952E-2},null,{"$f":"cálculos2!O83","v":1},{"$f":"AG83*0.1","v":0.1},{"$f":"cálculos2!P83","v":0},0]
[null,"Total Metropolitana",{"$f":"SUMIF($A$3:$A$80,\"Metropolitana\",C$3:C$80)","v":29358},{"$f":"SUMIF($A$3:$A$80,\"Metropolitana\",D$3:D$80)","v":22372},{"$f":"SUMIF($A$3:$A$80,\"Metropolitana\",E$3:E$80)","v":20359},{"$f":"E84/D84","v":0.91002145539066692},{"$f":"SUMIF($A$3:$A$80,\"Metropolitana\",G$3:G$80)","v":20986},{"$f":"G84/D84","v":0.93804755944931162},{"$f":"SUMIF($A$3:$A$80,\"Metropolitana\",I$3:I$80)","v":19687},{"$f":"I84/D84","v":0.87998390845699981},{"$f":"SUMIF($A$3:$A$80,\"Metropolitana\",K$3:K$80)","v":20356},{"$f":"K84/D84","v":0.90988735919899877},{"$f":"SUMIF($A$3:$A$80,\"Metropolitana\",M$3:M$80)","v":20647},{"$f":"M84/D84","v":0.92289468979080991},{"$f":"SUMIF($A$3:$A$80,\"Metropolitana\",O$3:O$80)","v":20063},{"$f":"O84/D84","v":0.89679063114607549},{"$f":"SUMIF($A$3:$A$80,\"Metropolitana\",Q$3:Q$80)","v":19714},{"$f":"Q84/D84","v":0.88119077418201319},{"$f":"SUMIF($A$3:$A$80,\"Metropolitana\",S$3:S$80)","v":15530},{"$f":"S84/D84","v":0.69417128553549079},{"$f":"SUMIF($A$3:$A$80,\"Metropolitana\",U$3:U$80)","v":16587},{"$f":"U84/D84","v":0.74141784373323794},{"$f":"SUMIF($A$3:$A$80,\"Metropolitana\",W$3:W$80)","v":20419},{"$f":"W84/D84","v":0.91270337922403},{"$f":"SUMIF($A$3:$A$80,\"Metropolitana\",Y$3:Y$80)","v":8473},{"$f":"Y84/D84","v":0.37873234400143035},null,{"$f":"SUMIF($A$3:$A$80,\"Metropolitana\",AB$3:AB$80)","v":3552},0.15876989093509744,{"$f":"SUMIF($A$3:$A$80,\"Metropolitana\",AD$3:AD$80)","v":1522},6.8031467906311455E-2,null,{"$f":"cálculos2!O84","v":1},0.1,{"$f":"cálculos2!P84","v":0},0]
[null,"Total Sul",{"$f":"SUMIF($A$3:$A$80,\"sul\",C$3:C$80)","v":8270},{"$f":"SUMIF($A$3:$A$80,\"sul\",D$3:D$80)","v":6311},{"$f":"SUMIF($A$3:$A$80,\"Sul\",E$3:E$80)","v":5758},{"$f":"E85/D85","v":0.91237521787355413},{"$f":"SUMIF($A$3:$A$80,\"Sul\",G$3:G$80)","v":5891},{"$f":"G85/D85","v":0.93344953256219299},{"$f":"SUMIF($A$3:$A$80,\"Sul\",I$3:I$80)","v":5915},{"$f":"I85/D85","v":0.93725241641578194},{"$f":"SUMIF($A$3:$A$80,\"Sul\",K$3:K$80)","v":5984},{"$f":"K85/D85","v":0.94818570749485032},{"$f":"SUMIF($A$3:$A$80,\"Sul\",M$3:M$80)","v":6125},{"$f":"M85/D85","v":0.97052765013468545},{"$f":"SUMIF($A$3:$A$80,\"Sul\",O$3:O$80)","v":5972},{"$f":"O85/D85","v":0.94628426556805578},{"$f":"SUMIF($A$3:$A$80,\"Sul\",Q$3:Q$80)","v":5822},{"$f":"Q85/D85","v":0.92251624148312472},{"$f":"SUMIF($A$3:$A$80,\"Sul\",S$3:S$80)","v":4758},{"$f":"S85/D85","v":0.75392172397401358},{"$f":"SUMIF($A$3:$A$80,\"Sul\",U$3:U$80)","v":5397},{"$f":"U85/D85","v":0.85517350657582003},{"$f":"SUMIF($A$3:$A$80,\"Sul\",W$3:W$80)","v":6041},{"$f":"W85/D85","v":0.95721755664712405},{"$f":"SUMIF($A$3:$A$80,\"Sul\",Y$3:Y$80)","v":2467},{"$f":"Y85/D85","v":0.39090476945016639},null,{"$f":"SUMIF($A$3:$A$80,\"Sul\",AB$3:AB$80)","v":921},0.1459356678814768,{"$f":"SUMIF($A$3:$A$80,\"Sul\",AD$3:AD$80)","v":357},5.6567897322135956E-2,null,{"$f":"cálculos2!O85","v":4},0.4,{"$f":"cálculos2!P85","v":2},0.5]
[null,"Total Espírito Santo",{"$f":"SUM(C3:C80)","v":50476},{"$f":"SUM(D3:D80)","v":38538},{"$f":"SUM(E82:E85)","v":34460},{"$f":"E86/D86","v":0.89418236545747054},{"$f":"SUM(G82:G85)","v":35610},{"$f":"G86/D86","v":0.92402304219212206},{"$f":"SUM(I82:I85)","v":34625},{"$f":"I86/D86","v":0.89846385385852923},{"$f":"SUM(K82:K85)","v":35537},{"$f":"K86/D86","v":0.92212880792983554},{"$f":"SUM(M82:M85)","v":36102},{"$f":"M86/D86","v":0.9367896621516425},{"$f":"SUM(O82:O85)","v":35185},{"$f":"O86/D86","v":0.9129949660075769},{"$f":"SUM(Q82:Q85)","v":34461},{"$f":"Q86/D86","v":0.89420831387202238},{"$f":"SUM(S82:S85)","v":27985},{"$f":"S86/D86","v":0.72616638123410659},{"$f":"SUM(U82:U85)","v":29859},{"$f":"U86/D86","v":0.77479371010431264},{"$f":"SUM(W82:W85)","v":35708},{"$f":"W86/D86","v":0.92656598681820546},{"$f":"SUM(Y82:Y85)","v":15162},{"$f":"Y86/D86","v":0.39342986143546627},null,{"$f":"SUM(AB82:AB85)","v":5494},0.14256058954797862,{"$f":"SUM(AD82:AD85)","v":2257},5.8565571643572581E-2,null,{"$f":"cálculos2!O86","v":2},0.2,{"$f":"cálculos2!P86","v":0},0]
[null,null,null,null,{"$f":"COUNTIF(F3:F80,\">=0,95\")","v":15},null,{"$f":"COUNTIF(H3:H80,\">=0,9\")","v":42},null,{"$f":"COUNTIF(J3:J80,\">=0,95\")","v":41},null,{"$f":"COUNTIF(L3:L80,\">=0,95\")","v":49},null,{"$f":"COUNTIF(N3:N80,\">=0,95\")","v":48},null,{"$f":"COUNTIF(P3:P80,\">=0,9\")","v":60},null,{"$f":"COUNTIF(R3:R80,\">=0,95\")","v":37},null,{"$f":"COUNTIF(T3:T80,\">=0,95\")","v":19},null,{"$f":"COUNTIF(V3:V80,\">=0,95\")","v":22},null,{"$f":"COUNTIF(X3:X80,\">=0,95\")","v":50},null,{"$f":"COUNTIF(Z3:Z80,\">=0,95\")","v":0},null,null,{"$f":"COUNTIF(AC3:AC80,\">=0,9\")","v":0},null,{"$f":"COUNTIF(AE3:AE80,\">=0,9\")","v":0}]
[null,"HOMOGENEIDADE ENTRE MUNICÍPIOS",null,null,{"$f":"E87/78","v":0.19230769230769232},null,{"$f":"G87/78","v":0.53846153846153844},null,{"$f":"I87/78","v":0.52564102564102566},null,{"$f":"K87/78","v":0.62820512820512819},null,{"$f":"M87/78","v":0.61538461538461542},null,{"$f":"O87/78","v":0.76923076923076927},null,{"$f":"Q87/78","v":0.47435897435897434},null,{"$f":"S87/78","v":0.24358974358974358},null,{"$f":"U87/78","v":0.28205128205128205},null,{"$f":"W87/78","v":0.64102564102564108},null,{"$f":"Y87/78","v":0},null,null,{"$f":"AB87/78","v":0},null,{"$f":"AD87/78","v":0}]
[]
[" Fonte: Vacina e Confia, em 09 de Outubro de 2024.**"]
["**Dados referente às doses aplicadas no período de Janeiro a Setembro de 2024"]
["Cobertura Calculada por município de residência do cidadão (no Vacina e Confia, a origem da informação é o endereço que consta no cadastro do cidadão preenchido manualmente por meio do autocadastro ou pelo cadastro realizado por um profissional de saúde no momento do atendimento)."]
["1 População anual extraída do MS/SVS/DASIS - SINASC/DASIS/SVS/MS 2023 (hoje preliminares) referente ao período de Agosto a dezembro de 2023 e SINASC/DASIS/SVS/MS 2024 referente ao período de janeiro a julho de 2024."]
["² População proporcional extraída do MS/SVS/DASIS - SINASC/DASIS/SVS/MS 2023 (hoje preliminares) referente ao período de agosto e Setembro de 2023 somada a população extraída do SINASC/DASIS/SVS/MS 2024 referente ao período de janeiro e julho de 2024."]
["Sinasc, atualizado em 10 de Outubro de 2024."]
["Homogeineidade: O cálculo da Homogeineidade entre vacinas é feito de acordo com a pactuação estabelecida no Plano Plurianual (PPA) vigente no período 2024-2027."]
["Observações:"]
["Imunobiológicos que foram recebidos parcialmente pelo estado no mês da análise, sendo distribuídos em quantidades reduzidas às regionais e municípios: Típlice Bacteriana (DTP),, Hepatite A - Rotina Pediátrica, COVID-19 Monovalente (XBB) - FRASCO\n."]
["Imunobiológicos indisponíveis no mês da análise, não sendo possível a distribuição às regionais e municípios: Meningo C Conjugada, Tríplice Bacteriana Acelular (dTpa - CRIE)."]
["Imunobiológicos em falta e sem previsão de entrega: Febre Amarela, Varicela, Tríplice Viral (SCR), COVID-19 Monovalente (XBB) - FRASCO, Tríplice Bacteriana (DTP)."]

{"sheet":"CV REF 1A e 4A - procedência","index":2,"n_rows":100,"n_cols":24,"rows_kept":100,"cut":false,"hidden":false,"merged":[[94,0,94,12],[0,18,0,23],[91,0,91,12],[90,0,90,12],[0,10,0,17],[0,6,0,9],[89,0,89,16],[92,0,92,13],[93,0,93,21]]}
[null,null,null,null,null,null,"D2",null,null,null,"REFORÇOS 1 ANO",null,null,null,null,null,null,null,"REFORÇOS 4 ANOS"]
["Regional ","Município","¹População 1 ano anual ","²População 1 ano proporcional ","³População 4 anos anual ","³População 4 anos proporcional ","DOSES APLICADAS D2 TRÍPLICE VIRAL","COBERTURA D2 TRÍPLICE VIRAL","DOSES APLICADAS D2 VARICELA","COBERTURA D2 VARICELA","DOSES APLICADAS REF PNEUMO ","COBERTURA REF PNEUMO","DOSES APLICADAS REF MENINGO","COBERTURA REF MENINGO","DOSES APLICADAS R1 POLIO","COBERTURA R1 POLIO","DOSES APLICADAS R1 TRÍPLICE BACTERIANA","COBERTURA R1 TRÍPLICE BACTERIANA","DOSES APLICADAS REF FEBRE AMARELA","COBERTURA REF FEBRE AMARELA","DOSES APLICADAS R2 POLIO","COBERTURA R2 POLIO","DOSES APLICADAS R2 TRÍPLICE BACTERIANA","COBERTURA R2 TRÍPLICE BACTERIANA"]
["Metropolitana","Afonso Cláudio",385,307,416,{"$f":"E3/12*8","v":277.33333333333331},269,{"$f":"G3/D3","v":0.87622149837133545},83,{"$f":"I3/F3","v":0.2992788461538462},260,{"$f":"K3/D3","v":0.84690553745928343},269,{"$f":"M3/D3","v":0.87622149837133545},580,{"$f":"O3/D3","v":1.8892508143322475},271,{"$f":"Q3/D3","v":0.88273615635179148},204,{"$f":"S3/F3","v":0.73557692307692313},503,{"$f":"U3/F3","v":1.8137019230769231},226,{"$f":"W3/F3","v":0.81490384615384626}]
["Norte","Água Doce do Norte",202,168,151,{"$f":"E4/12*8","v":100.66666666666667},93,0.5535714285714286,39,0.38741721854304634,113,0.67261904761904767,116,0.69047619047619047,171,1.0178571428571428,106,0.63095238095238093,85,0.8443708609271523,152,1.509933774834437,100,0.99337748344370858]
["Central","Águia Branca",173,133,129,86,77,0.57894736842105265,32,0.37209302325581395,104,0.78195488721804507,109,0.81954887218045114,113,0.84962406015037595,93,0.6992481203007519,77,0.89534883720930236,121,1.4069767441860466,93,1.0813953488372092]
["Sul","Alegre",323,238,372,248,207,0.86974789915966388,107,0.43145161290322581,231,0.97058823529411764,233,0.97899159663865543,446,1.8739495798319328,228,0.95798319327731096,228,0.91935483870967738,477,1.9233870967741935,251,1.0120967741935485]
["Sul","Alfredo Chaves",143,104,138,92,78,0.75,48,0.52173913043478259,112,1.0769230769230769,117,1.125,204,1.9615384615384615,100,0.96153846153846156,95,1.0326086956521738,246,2.6739130434782608,105,1.1413043478260869]
["Central","Alto Rio Novo",85,65,102,68,68,1.0461538461538462,26,0.38235294117647056,74,1.1384615384615384,74,1.1384615384615384,116,1.7846153846153847,70,1.0769230769230769,50,0.73529411764705888,100,1.4705882352941178,49,0.72058823529411764]
["Sul","Anchieta",367,280,390,260,237,0.84642857142857142,114,0.43846153846153846,310,1.1071428571428572,315,1.125,503,1.7964285714285715,300,1.0714285714285714,234,0.9,521,2.0038461538461538,314,1.2076923076923076]
["Sul","Apiacá",68,53,90,60,41,0.77358490566037741,23,0.38333333333333336,48,0.90566037735849059,55,1.0377358490566038,87,1.6415094339622642,49,0.92452830188679247,5,8.3333333333333329E-2,94,1.5666666666666667,52,0.8666666666666667]
["Metropolitana","Aracruz",1419,1082,1420,946.66666666666663,923,0.85304990757855825,454,0.47957746478873242,1147,1.0600739371534196,1183,1.0933456561922366,1655,1.5295748613678373,1103,1.0194085027726432,776,0.81971830985915495,1484,1.567605633802817,1005,1.0616197183098592]
["Sul","Atilio Vivacqua",144,107,138,92,92,0.85981308411214952,28,0.30434782608695654,118,1.1028037383177569,119,1.1121495327102804,195,1.8224299065420562,118,1.1028037383177569,90,0.97826086956521741,152,1.6521739130434783,106,1.1521739130434783]
["Central","Baixo Guandu",388,283,427,284.66666666666669,236,0.83392226148409898,109,0.38290398126463698,264,0.93286219081272082,268,0.94699646643109536,512,1.8091872791519434,280,0.98939929328621912,220,0.77283372365339575,486,1.7072599531615924,271,0.95199063231850112]
["Norte","Barra de São Francisco",562,442,589,392.66666666666669,367,0.83031674208144801,174,0.44312393887945667,406,0.91855203619909498,406,0.91855203619909498,544,1.2307692307692308,373,0.84389140271493213,342,0.87096774193548387,478,1.2173174872665533,348,0.88624787775891334]
["Norte","Boa Esperança",205,154,200,133.33333333333334,103,0.66883116883116878,51,0.38249999999999995,145,0.94155844155844159,150,0.97402597402597402,265,1.7207792207792207,156,1.0129870129870129,103,0.77249999999999996,229,1.7174999999999998,141,1.0574999999999999]
["Sul","Bom Jesus do Norte",88,73,146,97.333333333333329,65,0.8904109589041096,31,0.3184931506849315,105,1.4383561643835616,108,1.4794520547945205,154,2.1095890410958904,98,1.3424657534246576,76,0.78082191780821919,151,1.5513698630136987,91,0.93493150684931514]
["Metropolitana","Brejetuba",198,146,169,112.66666666666667,146,1,61,0.54142011834319526,147,1.0068493150684932,152,1.0410958904109588,286,1.9589041095890412,146,1,142,1.2603550295857988,311,2.7603550295857988,159,1.4112426035502958]
["Sul","Cachoeiro de Itapemirim",2424,1893,2417,1611.3333333333333,1339,0.70734284204965658,580,0.35995035167563094,1739,0.91864764923402009,1799,0.9503433703116746,2328,1.2297939778129952,1656,0.87480190174326466,1025,0.63611915597848578,1872,1.1617707902358296,1404,0.87132809267687217]
["Metropolitana","Cariacica",4851,3710,5005,3336.6666666666665,2400,0.64690026954177893,1229,0.36833166833166836,3453,0.93072776280323455,3502,0.94393530997304587,4115,1.1091644204851752,3120,0.84097035040431267,2645,0.79270729270729279,4251,1.2740259740259741,3403,1.01988011988012]
["Sul","Castelo",432,323,399,266,272,0.84210526315789469,101,0.37969924812030076,340,1.0526315789473684,338,1.0464396284829722,598,1.8513931888544892,330,1.021671826625387,223,0.83834586466165417,498,1.8721804511278195,282,1.0601503759398496]
["Central","Colatina",1518,1171,1561,1040.6666666666667,880,0.75149444918872754,292,0.28058936579115951,1111,0.94876174210076858,1153,0.9846285226302306,1284,1.0964987190435525,1019,0.87019641332194708,664,0.63805253042921195,1083,1.0406790518898141,831,0.79852658552210121]
["Norte","Conceição da Barra",386,284,391,260.66666666666669,231,0.81338028169014087,117,0.44884910485933499,295,1.0387323943661972,302,1.0633802816901408,517,1.8204225352112675,287,1.0105633802816902,287,1.1010230179028133,573,2.1982097186700766,356,1.3657289002557544]
["Metropolitana","Conceição do Castelo",152,126,144,96,107,0.84920634920634919,53,0.55208333333333337,103,0.81746031746031744,109,0.86507936507936511,207,1.6428571428571428,107,0.84920634920634919,91,0.94791666666666663,214,2.2291666666666665,100,1.0416666666666667]
["Sul","Divino de São Lourenço",70,55,68,45.333333333333336,39,0.70909090909090911,30,0.66176470588235292,44,0.8,44,0.8,76,1.3818181818181818,41,0.74545454545454548,60,1.3235294117647058,80,1.7647058823529411,53,1.1691176470588234]
["Metropolitana","Domingos Martins",420,303,411,274,268,0.88448844884488453,158,0.57664233576642332,299,0.98679867986798675,291,0.96039603960396036,560,1.8481848184818481,322,1.0627062706270627,255,0.93065693430656937,523,1.9087591240875912,312,1.1386861313868613]
["Sul","Dores do Rio Preto",96,74,92,61.333333333333336,45,0.60810810810810811,21,0.34239130434782605,90,1.2162162162162162,92,1.2432432432432432,114,1.5405405405405406,68,0.91891891891891897,44,0.71739130434782605,91,1.4836956521739131,54,0.88043478260869557]
["Norte","Ecoporanga",253,203,283,188.66666666666666,170,0.83743842364532017,89,0.4717314487632509,189,0.93103448275862066,197,0.97044334975369462,276,1.3596059113300492,174,0.8571428571428571,185,0.98056537102473507,274,1.452296819787986,196,1.0388692579505301]
["Metropolitana","Fundão",221,176,218,145.33333333333334,143,0.8125,82,0.56422018348623848,164,0.93181818181818177,167,0.94886363636363635,267,1.5170454545454546,160,0.90909090909090906,117,0.80504587155963292,220,1.5137614678899081,152,1.0458715596330275]
["Central","Governador Lindenberg",130,98,142,94.666666666666671,89,0.90816326530612246,46,0.48591549295774644,108,1.1020408163265305,111,1.1326530612244898,189,1.9285714285714286,104,1.0612244897959184,87,0.91901408450704225,154,1.6267605633802815,97,1.0246478873239435]
["Sul","Guaçuí",384,287,407,271.33333333333331,191,0.66550522648083621,75,0.27641277641277645,300,1.0452961672473868,310,1.0801393728222997,467,1.627177700348432,280,0.97560975609756095,211,0.77764127764127766,393,1.4484029484029486,245,0.90294840294840306]
["Metropolitana","Guarapari",1508,1095,1557,1038,799,0.72968036529680369,411,0.39595375722543352,1197,1.0931506849315069,1174,1.0721461187214611,1469,1.3415525114155251,1084,0.98995433789954335,699,0.67341040462427748,1290,1.2427745664739884,1014,0.97687861271676302]
["Metropolitana","Ibatiba",367,288,354,236,220,0.76388888888888884,65,0.27542372881355931,287,0.99652777777777779,292,1.0138888888888888,387,1.34375,270,0.9375,193,0.81779661016949157,285,1.2076271186440677,216,0.9152542372881356]
["Metropolitana","Ibiraçu",151,119,160,106.66666666666667,59,0.49579831932773111,50,0.46875,101,0.84873949579831931,102,0.8571428571428571,188,1.5798319327731092,81,0.68067226890756305,96,0.89999999999999991,241,2.2593749999999999,112,1.05]
["Sul","Ibitirama",140,104,148,98.666666666666671,80,0.76923076923076927,21,0.21283783783783783,107,1.0288461538461537,112,1.0769230769230769,173,1.6634615384615385,108,1.0384615384615385,35,0.35472972972972971,130,1.3175675675675675,48,0.48648648648648646]
["Sul","Iconha",114,90,156,104,108,{"$f":"G35/D35","v":1.2},36,{"$f":"I35/F35","v":0.34615384615384615},105,{"$f":"K35/D35","v":1.1666666666666667},112,{"$f":"M35/D35","v":1.2444444444444445},150,{"$f":"O35/D35","v":1.6666666666666667},97,{"$f":"Q35/D35","v":1.0777777777777777},106,{"$f":"S35/F35","v":1.0192307692307692},153,{"$f":"U35/F35","v":1.4711538461538463},106,{"$f":"W35/F35","v":1.0192307692307692}]
["Sul","Irupi",194,147,200,133.33333333333334,120,0.81632653061224492,47,0.35249999999999998,168,1.1428571428571428,170,1.1564625850340136,233,1.5850340136054422,145,0.98639455782312924,148,1.1099999999999999,236,1.7699999999999998,159,1.1924999999999999]
["Metropolitana","Itaguaçu",137,109,154,102.66666666666667,119,1.0917431192660549,44,0.42857142857142855,109,1,115,1.0550458715596329,192,1.761467889908257,111,1.0183486238532109,82,0.79870129870129869,178,1.7337662337662336,100,0.97402597402597402]
["Sul","Itapemirim",520,372,556,370.66666666666669,272,0.73118279569892475,136,0.36690647482014388,366,0.9838709677419355,379,1.0188172043010753,540,1.4516129032258065,346,0.93010752688172038,196,0.52877697841726612,519,1.4001798561151078,363,0.97931654676258983]
["Metropolitana","Itarana",136,103,128,85.333333333333329,80,0.77669902912621358,51,0.59765625,98,0.95145631067961167,101,0.98058252427184467,183,1.7766990291262137,91,0.88349514563106801,92,1.078125,183,2.14453125,97,1.13671875]
["Sul","Iúna",477,354,410,273.33333333333331,259,0.73163841807909602,94,0.34390243902439027,331,0.93502824858757061,345,0.97457627118644063,450,1.271186440677966,285,0.80508474576271183,214,0.78292682926829271,435,1.5914634146341464,265,0.9695121951219513]
["Norte","Jaguaré",495,385,445,296.66666666666669,272,0.70649350649350651,121,0.40786516853932581,376,0.97662337662337662,382,0.99220779220779221,543,1.4103896103896103,344,0.89350649350649347,322,1.0853932584269663,569,1.9179775280898874,383,1.2910112359550561]
["Sul","Jerônimo Monteiro",150,117,157,104.66666666666667,100,0.85470085470085466,22,0.21019108280254775,127,1.0854700854700854,127,1.0854700854700854,187,1.5982905982905984,126,1.0769230769230769,87,0.83121019108280247,158,1.5095541401273884,99,0.94585987261146498]
["Metropolitana","João Neiva",161,120,142,94.666666666666671,107,0.89166666666666672,36,0.38028169014084506,139,1.1583333333333334,148,1.2333333333333334,184,1.5333333333333334,113,0.94166666666666665,84,0.88732394366197176,159,1.6795774647887323,96,1.0140845070422535]
["Metropolitana","Laranja da Terra",84,67,133,88.666666666666671,93,1.3880597014925373,65,0.73308270676691722,96,1.4328358208955223,103,1.5373134328358209,197,2.9402985074626864,96,1.4328358208955223,82,0.92481203007518797,187,2.1090225563909772,86,0.96992481203007519]
["Central","Linhares",2598,2014,2452,1634.6666666666667,1400,0.69513406156901691,558,0.34135399673735722,1610,0.79940417080436943,1710,0.84905660377358494,2540,1.2611717974180734,1690,0.83912611717974184,1163,0.71146003262642732,2273,1.3904975530179444,1619,0.99041598694942901]
["Central","Mantenópolis",153,116,166,110.66666666666667,100,0.86206896551724133,46,0.41566265060240964,126,1.0862068965517242,125,1.0775862068965518,192,1.6551724137931034,118,1.0172413793103448,105,0.94879518072289148,180,1.6265060240963856,112,1.0120481927710843]
["Sul","Marataízes",553,432,579,386,345,0.79861111111111116,145,0.37564766839378239,474,1.0972222222222223,470,1.087962962962963,585,1.3541666666666667,429,0.99305555555555558,240,0.62176165803108807,564,1.4611398963730571,416,1.0777202072538861]
["Metropolitana","Marechal Floriano",221,158,236,157.33333333333334,136,0.86075949367088611,95,0.60381355932203384,159,1.0063291139240507,156,0.98734177215189878,252,1.5949367088607596,160,1.0126582278481013,124,0.78813559322033888,253,1.6080508474576269,138,0.8771186440677966]
["Central","Marilândia",154,113,164,109.33333333333333,96,0.84955752212389379,50,0.45731707317073172,98,0.86725663716814161,103,0.91150442477876104,188,1.663716814159292,98,0.86725663716814161,93,0.85060975609756106,210,1.9207317073170733,102,0.93292682926829273]
["Sul","Mimoso do Sul",263,200,276,184,119,0.59499999999999997,96,0.52173913043478259,156,0.78,165,0.82499999999999996,209,1.0449999999999999,132,0.66,148,0.80434782608695654,239,1.298913043478261,156,0.84782608695652173]
["Norte","Montanha",226,171,278,185.33333333333334,174,1.0175438596491229,88,0.47482014388489208,195,1.1403508771929824,203,1.1871345029239766,333,1.9473684210526316,188,1.0994152046783625,173,0.93345323741007191,351,1.8938848920863309,191,1.0305755395683454]
["Norte","Mucurici",74,52,97,64.666666666666671,49,0.94230769230769229,27,0.41752577319587625,69,1.3269230769230769,71,1.3653846153846154,63,1.2115384615384615,49,0.94230769230769229,48,0.74226804123711332,78,1.2061855670103092,51,0.78865979381443296]
["Sul","Muniz Freire",213,161,275,183.33333333333334,171,1.0621118012422359,29,0.15818181818181817,189,1.173913043478261,187,1.1614906832298137,307,1.9068322981366459,178,1.1055900621118013,171,0.93272727272727263,358,1.9527272727272726,180,0.98181818181818181]
["Sul","Muqui",147,116,152,101.33333333333333,91,0.78448275862068961,63,0.62171052631578949,133,1.146551724137931,132,1.1379310344827587,235,2.0258620689655173,94,0.81034482758620685,100,0.98684210526315796,221,2.1809210526315792,101,0.99671052631578949]
["Norte","Nova Venécia",627,485,656,437.33333333333331,468,0.96494845360824744,150,0.34298780487804881,499,1.0288659793814432,530,1.0927835051546391,704,1.4515463917525773,461,0.95051546391752573,364,0.83231707317073178,602,1.3765243902439026,420,0.96036585365853666]
["Central","Pancas",208,156,244,162.66666666666666,152,0.97435897435897434,52,0.31967213114754101,155,0.99358974358974361,163,1.0448717948717949,294,1.8846153846153846,157,1.0064102564102564,130,0.79918032786885251,263,1.6168032786885247,150,0.92213114754098369]
["Norte","Pedro Canário",316,234,338,225.33333333333334,217,0.92735042735042739,115,0.51035502958579881,266,1.1367521367521367,268,1.1452991452991452,413,1.7649572649572649,272,1.1623931623931625,191,0.8476331360946745,368,1.6331360946745561,240,1.0650887573964496]
["Norte","Pinheiros",328,252,383,255.33333333333334,158,0.62698412698412698,104,0.40731070496083549,232,0.92063492063492058,237,0.94047619047619047,304,1.2063492063492063,194,0.76984126984126988,180,0.70496083550913835,294,1.1514360313315926,212,0.83028720626631847]
["Sul","Piúma",288,206,311,207.33333333333334,138,0.66990291262135926,69,0.33279742765273312,201,0.97572815533980584,188,0.91262135922330101,315,1.529126213592233,188,0.91262135922330101,151,0.72829581993569126,311,1.5,229,1.1045016077170418]
["Norte","Ponto Belo",74,52,85,56.666666666666664,55,1.0576923076923077,25,0.44117647058823534,66,1.2692307692307692,68,1.3076923076923077,123,2.3653846153846154,65,1.25,62,1.0941176470588236,115,2.0294117647058822,64,1.1294117647058823]
["Sul","Presidente Kennedy",200,163,239,159.33333333333334,156,0.95705521472392641,61,0.3828451882845188,174,1.0674846625766872,173,1.0613496932515338,280,1.7177914110429449,154,0.94478527607361962,142,0.89121338912133885,255,1.6004184100418408,155,0.97280334728033468]
["Central","Rio Bananal",272,215,229,152.66666666666666,233,1.0837209302325581,66,0.43231441048034935,230,1.069767441860465,246,1.1441860465116278,467,2.172093023255814,230,1.069767441860465,199,1.3034934497816595,397,2.6004366812227078,203,1.329694323144105]
["Sul","Rio Novo do Sul",109,77,144,96,81,1.051948051948052,54,0.5625,100,1.2987012987012987,97,1.2597402597402598,157,2.0389610389610389,95,1.2337662337662338,67,0.69791666666666663,159,1.65625,91,0.94791666666666663]
["Metropolitana","Santa Leopoldina",99,69,155,103.33333333333333,57,0.82608695652173914,17,0.16451612903225807,88,1.2753623188405796,89,1.2898550724637681,162,2.347826086956522,87,1.2608695652173914,68,0.65806451612903227,165,1.5967741935483872,87,0.84193548387096773]
["Metropolitana","Santa Maria de Jetibá",656,500,685,456.66666666666669,436,0.872,142,0.31094890510948903,483,0.96599999999999997,505,1.01,752,1.504,497,0.99399999999999999,332,0.72700729927007302,626,1.3708029197080291,440,0.96350364963503643]
["Metropolitana","Santa Teresa",310,234,260,173.33333333333334,152,0.6495726495726496,117,0.67499999999999993,210,0.89743589743589747,207,0.88461538461538458,305,1.3034188034188035,167,0.71367521367521369,170,0.98076923076923073,293,1.6903846153846154,169,0.97499999999999998]
["Central","São Domingos do Norte",118,85,117,78,70,{"$f":"G67/D67","v":0.82352941176470584},29,{"$f":"I67/F67","v":0.37179487179487181},90,{"$f":"K67/D67","v":1.0588235294117647},91,{"$f":"M67/D67","v":1.0705882352941176},103,{"$f":"O67/D67","v":1.2117647058823529},65,{"$f":"Q67/D67","v":0.76470588235294112},64,{"$f":"S67/F67","v":0.82051282051282048},100,{"$f":"U67/F67","v":1.2820512820512822},67,{"$f":"W67/F67","v":0.85897435897435892}]
["Central","São Gabriel da Palha",455,346,426,{"$f":"E68/12*8","v":284},265,0.76589595375722541,122,0.42957746478873238,298,0.86127167630057799,298,0.86127167630057799,434,1.254335260115607,279,0.80635838150289019,293,1.0316901408450705,473,1.6654929577464788,294,1.0352112676056338]
["Sul","São José do Calçado",99,82,150,100,78,0.95121951219512191,35,0.35,104,1.2682926829268293,101,1.2317073170731707,115,1.4024390243902438,81,0.98780487804878048,99,0.99,153,1.53,102,1.02]
["Norte","São Mateus",1939,1478,1766,1177.3333333333333,873,0.59066305818673881,474,0.40260475651189132,1328,0.89851150202976993,1299,0.87889039242219213,1605,1.0859269282814614,1130,0.76454668470906628,826,0.70158550396375996,1439,1.2222536806342017,1071,0.9096828992072481]
["Central","São Roque do Canaã",129,108,100,66.666666666666671,88,0.81481481481481477,47,0.70499999999999996,96,0.88888888888888884,101,0.93518518518518523,169,1.5648148148148149,96,0.88888888888888884,65,0.97499999999999998,164,2.46,71,1.0649999999999999]
["Metropolitana","Serra",7300,5643,7550,5033.333333333333,3573,0.6331738437001595,1424,0.28291390728476823,4869,0.86283891547049441,4909,0.8699273436115541,5594,0.99131667552720182,4393,0.77848662059188378,4081,0.81079470198675496,5711,1.134635761589404,4807,0.95503311258278156]
["Central","Sooretama",425,322,415,276.66666666666669,240,0.74534161490683226,119,0.4301204819277108,313,0.97204968944099379,323,1.0031055900621118,547,1.6987577639751552,291,0.90372670807453415,352,1.272289156626506,679,2.4542168674698792,335,1.2108433734939759]
["Sul","Vargem Alta",264,203,278,185.33333333333334,175,0.86206896551724133,70,0.37769784172661869,195,0.96059113300492616,195,0.96059113300492616,340,1.6748768472906403,184,0.90640394088669951,140,0.75539568345323738,340,1.8345323741007193,172,0.92805755395683454]
["Metropolitana","Venda Nova do Imigrante",368,272,328,218.66666666666666,266,0.9779411764705882,66,0.30182926829268292,323,1.1875,317,1.1654411764705883,563,2.0698529411764706,300,1.1029411764705883,184,0.84146341463414642,395,1.8064024390243902,199,0.91006097560975618]
["Metropolitana","Viana",917,688,1064,709.33333333333337,282,0.40988372093023256,208,0.2932330827067669,740,1.0755813953488371,749,1.0886627906976745,839,1.2194767441860466,626,0.90988372093023251,560,0.78947368421052633,965,1.3604323308270676,724,1.0206766917293233]
["Norte","Vila Pavão",100,82,127,84.666666666666671,83,1.0121951219512195,24,0.28346456692913385,84,1.024390243902439,89,1.0853658536585367,161,1.9634146341463414,88,1.0731707317073171,77,0.90944881889763773,180,2.1259842519685037,83,0.98031496062992118]
["Central","Vila Valério",255,188,169,112.66666666666667,145,0.77127659574468088,65,0.57692307692307687,171,0.90957446808510634,155,0.82446808510638303,292,1.553191489361702,156,0.82978723404255317,152,1.349112426035503,312,2.7692307692307692,187,1.6597633136094674]
["Metropolitana","Vila Velha",5675,4304,5675,3783.3333333333335,2892,0.67193308550185871,1247,0.32960352422907485,3625,0.84223977695167285,3658,0.84990706319702602,4477,1.0401951672862453,3287,0.76370817843866168,3017,0.79744493392070481,4306,1.1381497797356828,3309,0.87462555066079295]
["Metropolitana","Vitória",3622,2753,3833,2555.3333333333335,2151,0.78132945877224846,918,0.35924863031567961,2791,1.0138031238648746,2567,0.93243734108245546,3654,1.3272793316382128,2821,1.0247003269160915,1785,0.69853900339159924,3108,1.2162796764936081,2470,0.96660579180798323]
[]
[null,"Total Norte",{"$f":"SUMIF($A$3:$A$80,\"Norte\",C$3:C$80)","v":5787},{"$f":"SUMIF($A$3:$A$80,\"Norte\",D$3:D$80)","v":4442},{"$f":"SUMIF($A$3:$A$80,\"Norte\",E$3:E$80)","v":5789},{"$f":"SUMIF($A$3:$A$80,\"Norte\",F$3:F$80)","v":3859.3333333333335},{"$f":"SUMIF($A$3:$A$80,\"Norte\",G$3:G$80)","v":3313},{"$f":"G82/D82","v":0.7458352093651508},{"$f":"SUMIF($A$3:$A$80,\"Norte\",I$3:I$80)","v":1598},{"$f":"I82/F82","v":0.4140611504577647},{"$f":"SUMIF($A$3:$A$80,\"Norte\",K$3:K$80)","v":4263},{"$f":"K82/D82","v":0.95970283656010802},{"$f":"SUMIF($A$3:$A$80,\"Norte\",M$3:M$80)","v":4318},{"$f":"M82/D82","v":0.97208464655560556},{"$f":"SUMIF($A$3:$A$80,\"Norte\",O$3:O$80)","v":6022},{"$f":"O82/D82","v":1.3556956325979288},{"$f":"SUMIF($A$3:$A$80,\"Norte\",Q$3:Q$80)","v":3887},{"$f":"Q82/D82","v":0.87505628095452503},{"$f":"SUMIF($A$3:$A$80,\"Norte\",S$3:S$80)","v":3245},{"$f":"S82/F82","v":0.84081879426498529},{"$f":"SUMIF($A$3:$A$80,\"Norte\",U$3:U$80)","v":5702},{"$f":"U82/F82","v":1.4774572465019864},{"$f":"SUMIF($A$3:$A$80,\"Norte\",W$3:W$80)","v":3856},{"$f":"W82/F82","v":0.99913629296942474}]
[null,"Total Central",{"$f":"SUMIF($A$3:$A$80,\"Central\",C$3:C$80)","v":7061},{"$f":"SUMIF($A$3:$A$80,\"Central\",D$3:D$80)","v":5413},{"$f":"SUMIF($A$3:$A$80,\"Central\",E$3:E$80)","v":6843},{"$f":"SUMIF($A$3:$A$80,\"Central\",F$3:F$80)","v":4562.0000000000009},{"$f":"SUMIF($A$3:$A$80,\"Central\",G$3:G$80)","v":4139},{"$f":"G83/D83","v":0.76464067984481798},{"$f":"SUMIF($A$3:$A$80,\"Central\",I$3:I$80)","v":1659},{"$f":"I83/F83","v":0.36365629110039449},{"$f":"SUMIF($A$3:$A$80,\"Central\",K$3:K$80)","v":4848},{"$f":"K83/D83","v":0.89562165157953078},{"$f":"SUMIF($A$3:$A$80,\"Central\",M$3:M$80)","v":5030},{"$f":"M83/D83","v":0.92924441160169957},{"$f":"SUMIF($A$3:$A$80,\"Central\",O$3:O$80)","v":7440},{"$f":"O83/D83","v":1.3744688712359134},{"$f":"SUMIF($A$3:$A$80,\"Central\",Q$3:Q$80)","v":4746},{"$f":"Q83/D83","v":0.87677812673194166},{"$f":"SUMIF($A$3:$A$80,\"Central\",S$3:S$80)","v":3714},{"$f":"S83/F83","v":0.81411661551950887},{"$f":"SUMIF($A$3:$A$80,\"Central\",U$3:U$80)","v":6995},{"$f":"U83/F83","v":1.5333187198597102},{"$f":"SUMIF($A$3:$A$80,\"Central\",W$3:W$80)","v":4481},{"$f":"W83/F83","v":0.98224462954844349}]
[null,"Total Metropolitana",{"$f":"SUMIF($A$3:$A$80,\"Metropolitana\",C$3:C$80)","v":29358},{"$f":"SUMIF($A$3:$A$80,\"Metropolitana\",D$3:D$80)","v":22372},{"$f":"SUMIF($A$3:$A$80,\"Metropolitana\",E$3:E$80)","v":30197},{"$f":"SUMIF($A$3:$A$80,\"Metropolitana\",F$3:F$80)","v":20131.333333333332},{"$f":"SUMIF($A$3:$A$80,\"Metropolitana\",G$3:G$80)","v":15678},{"$f":"G84/D84","v":0.70078669765778656},{"$f":"SUMIF($A$3:$A$80,\"Metropolitana\",I$3:I$80)","v":7076},{"$f":"I84/F84","v":0.35149187005331656},{"$f":"SUMIF($A$3:$A$80,\"Metropolitana\",K$3:K$80)","v":20888},{"$f":"K84/D84","v":0.93366708385481856},{"$f":"SUMIF($A$3:$A$80,\"Metropolitana\",M$3:M$80)","v":20865},{"$f":"M84/D84","v":0.93263901305202934},{"$f":"SUMIF($A$3:$A$80,\"Metropolitana\",O$3:O$80)","v":27068},{"$f":"O84/D84","v":1.2099052386912212},{"$f":"SUMIF($A$3:$A$80,\"Metropolitana\",Q$3:Q$80)","v":19413},{"$f":"Q84/D84","v":0.86773645628464147},{"$f":"SUMIF($A$3:$A$80,\"Metropolitana\",S$3:S$80)","v":15879},{"$f":"S84/F84","v":0.78877040765638973},{"$f":"SUMIF($A$3:$A$80,\"Metropolitana\",U$3:U$80)","v":25851},{"$f":"U84/F84","v":1.2841176275788986},{"$f":"SUMIF($A$3:$A$80,\"Metropolitana\",W$3:W$80)","v":19421},{"$f":"W84/F84","v":0.96471503791767399}]
[null,"Total Sul",{"$f":"SUMIF($A$3:$A$80,\"sul\",C$3:C$80)","v":8270},{"$f":"SUMIF($A$3:$A$80,\"sul\",D$3:D$80)","v":6311},{"$f":"SUMIF($A$3:$A$80,\"sul\",E$3:E$80)","v":8688},{"$f":"SUMIF($A$3:$A$80,\"sul\",F$3:F$80)","v":5791.9999999999991},{"$f":"SUMIF($A$3:$A$80,\"sul\",G$3:G$80)","v":4899},{"$f":"G85/D85","v":0.77626366661384882},{"$f":"SUMIF($A$3:$A$80,\"sul\",I$3:I$80)","v":2136},{"$f":"I85/F85","v":0.36878453038674042},{"$f":"SUMIF($A$3:$A$80,\"sul\",K$3:K$80)","v":6367},{"$f":"K85/D85","v":1.0088733956583742},{"$f":"SUMIF($A$3:$A$80,\"sul\",M$3:M$80)","v":6483},{"$f":"M85/D85","v":1.0272540009507209},{"$f":"SUMIF($A$3:$A$80,\"sul\",O$3:O$80)","v":9448},{"$f":"O85/D85","v":1.4970686103628585},{"$f":"SUMIF($A$3:$A$80,\"sul\",Q$3:Q$80)","v":5910},{"$f":"Q85/D85","v":0.93646014894628427},{"$f":"SUMIF($A$3:$A$80,\"sul\",S$3:S$80)","v":4335},{"$f":"S85/F85","v":0.74844613259668524},{"$f":"SUMIF($A$3:$A$80,\"sul\",U$3:U$80)","v":8806},{"$f":"U85/F85","v":1.5203729281767959},{"$f":"SUMIF($A$3:$A$80,\"sul\",W$3:W$80)","v":5599},{"$f":"W85/F85","v":0.96667817679558021}]
[null,"Total Espírito Santo",{"$f":"SUM(C3:C80)","v":50476},{"$f":"SUM(D3:D80)","v":38538},{"$f":"SUM(E3:E80)","v":51517},{"$f":"SUM(F3:F80)","v":34344.666666666657},{"$f":"SUM(G3:G80)","v":28029},{"$f":"G86/D86","v":0.7273081114743889},{"$f":"SUM(I3:I80)","v":12469},{"$f":"I86/F86","v":0.36305491391191269},{"$f":"SUM(K3:K80)","v":36366},{"$f":"K86/D86","v":0.94364004359333642},{"$f":"SUM(M3:M80)","v":36696},{"$f":"M86/D86","v":0.95220302039545379},{"$f":"SUM(O3:O80)","v":49978},{"$f":"O86/D86","v":1.2968498624734028},{"$f":"SUM(Q3:Q80)","v":33956},{"$f":"Q86/D86","v":0.88110436452332763},{"$f":"SUM(S3:S80)","v":27173},{"$f":"S86/F86","v":0.79118543393442964},{"$f":"SUM(U3:U80)","v":47354},{"$f":"U86/F86","v":1.3787875846807853},{"$f":"SUM(W3:W80)","v":33357},{"$f":"W86/F86","v":0.97124250247491151}]
[]
[]
[]
[" Fonte: Vacina e Confia, em 09 de Outubro de 2024.**"]
["**Dados referente às doses aplicadas no período de Setembro de 2024"]
["Cobertura Calculada por município de procedência da vacinação"]
["1 População anual extraída do MS/SVS/DASIS - SINASC/DASIS/SVS/MS 2023 (hoje preliminares) referente ao período de Agosto a dezembro de 2023 e SINASC/DASIS/SVS/MS 2024 referente ao período de janeiro a julho de 2024."]
["² População proporcional extraída do MS/SVS/DASIS - SINASC/DASIS/SVS/MS 2023 (hoje preliminares) referente ao período de agosto e Setembro de 2023 somada a população extraída do SINASC/DASIS/SVS/MS 2024 referente ao período de janeiro e julho de 2024."]
["Sinasc, atualizado em 10 de Outubro de 2024."]
["³ População anual e proporcional extraída do Censo IBGE 2022."]
["Observações:"]
["Imunobiológicos que foram recebidos parcialmente pelo estado no mês da análise, sendo distribuídos em quantidades reduzidas às regionais e municípios: Típlice Bacteriana (DTP),Varicela, Hepatite A - Rotina Pediátrica, COVID-19 Monovalente (XBB) - FRASCO\n."]
["Imunobiológicos indisponíveis no mês da análise, não sendo possível a distribuição às regionais e municípios: Meningo C Conjugada, Tríplice Bacteriana Acelular (dTpa - CRIE)."]
["Imunobiológicos em falta e sem previsão de entrega: Febre Amarela, Varicela, Tríplice Viral (SCR), COVID-19 Monovalente (XBB) - FRASCO, Tríplice Bacteriana (DTP)."]

{"sheet":"CV REF 1A e 4A - residência","index":3,"n_rows":100,"n_cols":24,"rows_kept":100,"cut":false,"hidden":false,"merged":[[94,0,94,12],[92,0,93,12],[88,0,88,11],[0,18,0,23],[90,0,90,12],[0,10,0,17],[0,6,0,9],[89,0,89,16]]}
[null,null,null,null,null,null,"D2",null,null,null,"REFORÇOS 1 ANO",null,null,null,null,null,null,null,"REFORÇOS 4 ANOS"]
["Regional ","Município","¹População 1 ano anual ","²População 1 ano proporcional ","³População 4 anos anual ","³População 4 anos proporcional ","DOSES APLICADAS D2 TRÍPLICE VIRAL","COBERTURA D2 TRÍPLICE VIRAL","DOSES APLICADAS D2 VARICELA","COBERTURA D2 VARICELA","DOSES APLICADAS REF PNEUMO ","COBERTURA REF PNEUMO","DOSES APLICADAS REF MENINGO","COBERTURA REF MENINGO","DOSES APLICADAS R1 POLIO","COBERTURA R1 POLIO","DOSES APLICADAS R1 TRÍPLICE BACTERIANA","COBERTURA R1 TRÍPLICE BACTERIANA","DOSES APLICADAS REF FEBRE AMARELA","COBERTURA REF FEBRE AMARELA","DOSES APLICADAS R2 POLIO","COBERTURA R2 POLIO","DOSES APLICADAS R2 TRÍPLICE BACTERIANA","COBERTURA R2 TRÍPLICE BACTERIANA"]
["Metropolitana","Afonso Cláudio",385,307,416,277.33333333333331,289,{"$f":"G3/D3","v":0.94136807817589574},91,{"$f":"I3/F3","v":0.328125},289,{"$f":"K3/D3","v":0.94136807817589574},294,{"$f":"M3/D3","v":0.95765472312703581},612,{"$f":"O3/D3","v":1.993485342019544},294,{"$f":"Q3/D3","v":0.95765472312703581},219,{"$f":"S3/F3","v":0.78966346153846156},534,{"$f":"U3/F3","v":1.9254807692307694},179,{"$f":"W3/F3","v":0.6454326923076924}]
["Norte","Água Doce do Norte",202,168,151,100.66666666666667,85,0.50595238095238093,36,0.35761589403973509,115,0.68452380952380953,118,0.70238095238095233,155,0.92261904761904767,98,0.58333333333333337,80,0.79470198675496684,147,1.4602649006622517,66,0.6556291390728477]
["Central","Águia Branca",173,133,129,86,83,0.62406015037593987,28,0.32558139534883723,106,0.79699248120300747,110,0.82706766917293228,123,0.92481203007518797,98,0.73684210526315785,66,0.76744186046511631,113,1.3139534883720929,54,0.62790697674418605]
["Sul","Alegre",323,238,372,248,200,0.84033613445378152,103,0.41532258064516131,232,0.97478991596638653,235,0.98739495798319332,435,1.8277310924369747,227,0.95378151260504207,228,0.91935483870967738,475,1.9153225806451613,209,0.842741935483871]
["Sul","Alfredo Chaves",143,104,138,92,74,0.71153846153846156,54,0.58695652173913049,116,1.1153846153846154,117,1.125,189,1.8173076923076923,103,0.99038461538461542,101,1.0978260869565217,259,2.8152173913043477,80,0.86956521739130432]
["Central","Alto Rio Novo",85,65,102,68,55,0.84615384615384615,27,0.39705882352941174,72,1.1076923076923078,71,1.0923076923076922,93,1.4307692307692308,58,0.89230769230769236,50,0.73529411764705888,101,1.4852941176470589,34,0.5]
["Sul","Anchieta",367,280,390,260,237,0.84642857142857142,117,0.45,328,1.1714285714285715,323,1.1535714285714285,499,1.7821428571428573,297,1.0607142857142857,232,0.89230769230769236,509,1.9576923076923076,234,0.9]
["Sul","Apiacá",68,53,90,60,34,0.64150943396226412,24,0.4,45,0.84905660377358494,50,0.94339622641509435,75,1.4150943396226414,45,0.84905660377358494,12,0.2,88,1.4666666666666666,38,0.6333333333333333]
["Metropolitana","Aracruz",1419,1082,1420,946.66666666666663,877,0.8105360443622921,420,0.44366197183098594,1103,1.0194085027726432,1146,1.0591497227356748,1601,1.4796672828096118,1049,0.96950092421441769,738,0.77957746478873247,1409,1.4883802816901408,625,0.66021126760563387]
["Sul","Atilio Vivacqua",144,107,138,92,85,0.79439252336448596,34,0.36956521739130432,109,1.0186915887850467,109,1.0186915887850467,185,1.7289719626168225,111,1.0373831775700935,89,0.96739130434782605,149,1.6195652173913044,58,0.63043478260869568]
["Central","Baixo Guandu",388,283,427,284.66666666666669,243,0.85865724381625441,105,0.36885245901639341,253,0.89399293286219084,260,0.91872791519434627,501,1.7703180212014133,280,0.98939929328621912,217,0.76229508196721307,472,1.6580796252927399,189,0.66393442622950816]
["Norte","Barra de São Francisco",562,442,589,392.66666666666669,365,0.82579185520361986,161,0.41001697792869268,405,0.91628959276018096,405,0.91628959276018096,568,1.2850678733031675,370,0.83710407239819007,324,0.82512733446519526,464,1.1816638370118846,249,0.63412563667232591]
["Norte","Boa Esperança",205,154,200,133.33333333333334,99,0.6428571428571429,56,0.42,146,0.94805194805194803,149,0.96753246753246758,257,1.6688311688311688,149,0.96753246753246758,102,0.7649999999999999,223,1.6724999999999999,86,0.64499999999999991]
["Sul","Bom Jesus do Norte",88,73,146,97.333333333333329,40,0.54794520547945202,16,0.16438356164383564,86,1.178082191780822,86,1.178082191780822,106,1.452054794520548,63,0.86301369863013699,39,0.40068493150684936,83,0.85273972602739734,31,0.3184931506849315]
["Metropolitana","Brejetuba",198,146,169,112.66666666666667,149,1.0205479452054795,55,0.48816568047337278,145,0.99315068493150682,148,1.0136986301369864,285,1.952054794520548,152,1.0410958904109588,138,1.2248520710059172,294,2.6094674556213016,106,0.94082840236686383]
["Sul","Cachoeiro de Itapemirim",2424,1893,2417,1611.3333333333333,1365,0.7210776545166403,586,0.36367397600330992,1763,0.93132593766508187,1806,0.95404120443740092,2415,1.2757527733755942,1691,0.89329107237189642,1047,0.64977244517997523,1952,1.2114191146048821,1002,0.62184526272238316]
["Metropolitana","Cariacica",4851,3710,5005,3336.6666666666665,2455,0.66172506738544479,1240,0.37162837162837165,3504,0.94447439353099727,3497,0.94258760107816708,4254,1.1466307277628032,3212,0.86576819407008088,2622,0.78581418581418583,4242,1.2713286713286713,2418,0.72467532467532469]
["Sul","Castelo",432,323,399,266,267,0.82662538699690402,104,0.39097744360902253,333,1.0309597523219813,325,1.0061919504643964,572,1.7708978328173375,319,0.9876160990712074,214,0.80451127819548873,475,1.7857142857142858,188,0.70676691729323304]
["Central","Colatina",1518,1171,1561,1040.6666666666667,894,0.76345004269854821,284,0.27290198590647019,1061,0.9060631938514091,1121,0.95730145175064052,1344,1.1477369769427839,1014,0.86592655849701106,651,0.62556053811659185,1086,1.0435618193465726,535,0.51409352978859701]
["Norte","Conceição da Barra",386,284,391,260.66666666666669,241,0.84859154929577463,113,0.43350383631713552,315,1.1091549295774648,317,1.1161971830985915,542,1.908450704225352,303,1.0669014084507042,276,1.0588235294117647,557,2.1368286445012785,236,0.90537084398976975]
["Metropolitana","Conceição do Castelo",152,126,144,96,94,0.74603174603174605,48,0.5,94,0.74603174603174605,100,0.79365079365079361,183,1.4523809523809523,99,0.7857142857142857,81,0.84375,201,2.09375,61,0.63541666666666663]
["Sul","Divino de São Lourenço",70,55,68,45.333333333333336,33,0.6,24,0.52941176470588236,41,0.74545454545454548,42,0.76363636363636367,70,1.2727272727272727,38,0.69090909090909092,53,1.1691176470588234,78,1.7205882352941175,36,0.79411764705882348]
["Metropolitana","Domingos Martins",420,303,411,274,262,0.86468646864686471,142,0.51824817518248179,298,0.98349834983498352,287,0.94719471947194722,547,1.8052805280528053,318,1.0495049504950495,244,0.89051094890510951,513,1.8722627737226278,207,0.75547445255474455]
["Sul","Dores do Rio Preto",96,74,92,61.333333333333336,39,0.52702702702702697,15,0.24456521739130435,79,1.0675675675675675,80,1.0810810810810811,103,1.3918918918918919,61,0.82432432432432434,33,0.53804347826086951,70,1.1413043478260869,30,0.4891304347826087]
["Norte","Ecoporanga",253,203,283,188.66666666666666,176,0.86699507389162567,91,0.48233215547703184,197,0.97044334975369462,205,1.0098522167487685,290,1.4285714285714286,188,0.92610837438423643,180,0.95406360424028269,268,1.4204946996466432,119,0.63074204946996471]
["Metropolitana","Fundão",221,176,218,145.33333333333334,139,0.78977272727272729,65,0.44724770642201833,162,0.92045454545454541,166,0.94318181818181823,252,1.4318181818181819,155,0.88068181818181823,95,0.65366972477064211,178,1.2247706422018347,83,0.57110091743119262]
["Central","Governador Lindenberg",130,98,142,94.666666666666671,91,0.9285714285714286,47,0.49647887323943657,112,1.1428571428571428,114,1.1632653061224489,178,1.8163265306122449,104,1.0612244897959184,91,0.96126760563380276,158,1.6690140845070423,72,0.76056338028169013]
["Sul","Guaçuí",384,287,407,271.33333333333331,205,0.7142857142857143,75,0.27641277641277645,313,1.0905923344947734,325,1.132404181184669,483,1.6829268292682926,288,1.0034843205574913,202,0.74447174447174458,383,1.4115479115479117,145,0.53439803439803446]
["Metropolitana","Guarapari",1508,1095,1557,1038,818,0.74703196347031964,393,0.37861271676300579,1210,1.1050228310502284,1200,1.095890410958904,1510,1.3789954337899544,1103,1.0073059360730594,694,0.66859344894026973,1264,1.2177263969171483,718,0.69171483622350671]
["Metropolitana","Ibatiba",367,288,354,236,217,0.75347222222222221,66,0.27966101694915252,285,0.98958333333333337,288,1,391,1.3576388888888888,260,0.90277777777777779,181,0.76694915254237284,283,1.1991525423728813,156,0.66101694915254239]
["Metropolitana","Ibiraçu",151,119,160,106.66666666666667,54,0.45378151260504201,49,0.45937499999999998,105,0.88235294117647056,105,0.88235294117647056,173,1.453781512605042,81,0.68067226890756305,97,0.90937499999999993,230,2.15625,69,0.64687499999999998]
["Sul","Ibitirama",140,104,148,98.666666666666671,73,0.70192307692307687,31,0.3141891891891892,100,0.96153846153846156,104,1,157,1.5096153846153846,100,0.96153846153846156,50,0.50675675675675669,140,1.4189189189189189,32,0.32432432432432429]
["Sul","Iconha",114,90,156,104,102,{"$f":"G35/D35","v":1.1333333333333333},34,{"$f":"I35/F35","v":0.32692307692307693},108,{"$f":"K35/D35","v":1.2},115,{"$f":"M35/D35","v":1.2777777777777777},148,{"$f":"O35/D35","v":1.6444444444444444},98,{"$f":"Q35/D35","v":1.0888888888888888},97,{"$f":"S35/F35","v":0.93269230769230771},135,{"$f":"U35/F35","v":1.2980769230769231},64,{"$f":"W35/F35","v":0.61538461538461542}]
["Sul","Irupi",194,147,200,133.33333333333334,125,0.85034013605442171,49,0.36749999999999999,161,1.0952380952380953,163,1.1088435374149659,234,1.5918367346938775,143,0.97278911564625847,146,1.095,228,1.71,114,0.85499999999999998]
["Metropolitana","Itaguaçu",137,109,154,102.66666666666667,121,1.1100917431192661,43,0.41883116883116883,112,1.0275229357798166,115,1.0550458715596329,196,1.798165137614679,115,1.0550458715596329,83,0.80844155844155841,177,1.724025974025974,70,0.68181818181818177]
["Sul","Itapemirim",520,372,556,370.66666666666669,299,0.80376344086021501,138,0.37230215827338126,372,1,381,1.0241935483870968,560,1.5053763440860215,367,0.98655913978494625,222,0.59892086330935246,545,1.4703237410071941,280,0.75539568345323738]
["Metropolitana","Itarana",136,103,128,85.333333333333329,80,0.77669902912621358,48,0.5625,98,0.95145631067961167,100,0.970873786407767,169,1.6407766990291262,89,0.86407766990291257,79,0.92578125,168,1.96875,57,0.66796875]
["Sul","Iúna",477,354,410,273.33333333333331,262,0.74011299435028244,85,0.31097560975609756,340,0.96045197740112997,357,1.0084745762711864,464,1.3107344632768361,301,0.85028248587570621,193,0.70609756097560983,409,1.4963414634146341,176,0.64390243902439026]
["Norte","Jaguaré",495,385,445,296.66666666666669,281,0.72987012987012989,118,0.39775280898876403,377,0.97922077922077921,384,0.9974025974025974,562,1.4597402597402598,357,0.92727272727272725,318,1.0719101123595505,561,1.8910112359550562,237,0.79887640449438202]
["Sul","Jerônimo Monteiro",150,117,157,104.66666666666667,95,0.81196581196581197,29,0.27707006369426751,127,1.0854700854700854,131,1.1196581196581197,178,1.5213675213675213,115,0.98290598290598286,81,0.77388535031847128,151,1.4426751592356688,69,0.65923566878980888]
["Metropolitana","João Neiva",161,120,142,94.666666666666671,108,0.9,40,0.42253521126760563,136,1.1333333333333333,142,1.1833333333333333,185,1.5416666666666667,118,0.98333333333333328,88,0.92957746478873238,160,1.6901408450704225,69,0.72887323943661964]
["Metropolitana","Laranja da Terra",84,67,133,88.666666666666671,86,1.2835820895522387,56,0.63157894736842102,91,1.3582089552238805,95,1.4179104477611941,187,2.7910447761194028,90,1.3432835820895523,77,0.86842105263157887,173,1.9511278195488722,54,0.60902255639097747]
["Central","Linhares",2598,2014,2452,1634.6666666666667,1430,0.71002979145978151,603,0.36888254486133765,1665,0.82671300893743793,1739,0.86345580933465738,2586,1.2840119165839126,1715,0.85153922542204563,1225,0.74938825448613378,2410,1.4743066884176181,1175,0.71880097879282212]
["Central","Mantenópolis",153,116,166,110.66666666666667,96,0.82758620689655171,45,0.40662650602409639,127,1.0948275862068966,125,1.0775862068965518,191,1.646551724137931,119,1.0258620689655173,98,0.8855421686746987,165,1.4909638554216866,66,0.59638554216867468]
["Sul","Marataízes",553,432,579,386,315,0.72916666666666663,136,0.35233160621761656,450,1.0416666666666667,455,1.0532407407407407,540,1.25,396,0.91666666666666663,225,0.58290155440414504,519,1.3445595854922279,263,0.68134715025906734]
["Metropolitana","Marechal Floriano",221,158,236,157.33333333333334,133,0.84177215189873422,76,0.48305084745762711,157,0.99367088607594933,154,0.97468354430379744,242,1.5316455696202531,159,1.0063291139240507,117,0.74364406779661008,222,1.4110169491525424,85,0.5402542372881356]
["Central","Marilândia",154,113,164,109.33333333333333,101,0.89380530973451322,51,0.46646341463414637,118,1.0442477876106195,120,1.0619469026548674,200,1.7699115044247788,112,0.99115044247787609,87,0.79573170731707321,189,1.7286585365853659,69,0.63109756097560976]
["Sul","Mimoso do Sul",263,200,276,184,132,0.66,109,0.59239130434782605,167,0.83499999999999996,177,0.88500000000000001,237,1.1850000000000001,147,0.73499999999999999,166,0.90217391304347827,272,1.4782608695652173,125,0.67934782608695654]
["Norte","Montanha",226,171,278,185.33333333333334,167,0.97660818713450293,85,0.45863309352517984,189,1.1052631578947369,195,1.1403508771929824,316,1.8479532163742689,183,1.0701754385964912,170,0.91726618705035967,328,1.7697841726618704,125,0.67446043165467617]
["Norte","Mucurici",74,52,97,64.666666666666671,51,0.98076923076923073,31,0.47938144329896903,72,1.3846153846153846,72,1.3846153846153846,70,1.3461538461538463,51,0.98076923076923073,54,0.8350515463917525,91,1.4072164948453607,41,0.634020618556701]
["Sul","Muniz Freire",213,161,275,183.33333333333334,160,0.99378881987577639,38,0.20727272727272728,180,1.1180124223602483,180,1.1180124223602483,288,1.7888198757763976,169,1.0496894409937889,176,0.96,348,1.8981818181818182,128,0.69818181818181813]
["Sul","Muqui",147,116,152,101.33333333333333,89,0.76724137931034486,50,0.49342105263157898,131,1.1293103448275863,133,1.146551724137931,223,1.9224137931034482,95,0.81896551724137934,76,0.75,184,1.8157894736842106,54,0.53289473684210531]
["Norte","Nova Venécia",627,485,656,437.33333333333331,449,0.9257731958762887,144,0.32926829268292684,526,1.0845360824742267,524,1.0804123711340206,701,1.445360824742268,470,0.96907216494845361,354,0.80945121951219512,591,1.3513719512195121,282,0.64481707317073178]
["Central","Pancas",208,156,244,162.66666666666666,160,1.0256410256410255,56,0.34426229508196721,176,1.1282051282051282,180,1.1538461538461537,291,1.8653846153846154,162,1.0384615384615385,134,0.82377049180327877,264,1.6229508196721312,111,0.68237704918032793]
["Norte","Pedro Canário",316,234,338,225.33333333333334,223,0.95299145299145294,113,0.50147928994082835,273,1.1666666666666667,275,1.1752136752136753,418,1.7863247863247864,284,1.2136752136752136,184,0.81656804733727806,369,1.6375739644970413,163,0.72337278106508873]
["Norte","Pinheiros",328,252,383,255.33333333333334,160,0.63492063492063489,103,0.40339425587467359,234,0.9285714285714286,233,0.92460317460317465,307,1.2182539682539681,203,0.80555555555555558,184,0.72062663185378584,290,1.1357702349869452,142,0.55613577023498695]
["Sul","Piúma",288,206,311,207.33333333333334,144,0.69902912621359226,67,0.32315112540192925,207,1.0048543689320388,196,0.95145631067961167,312,1.5145631067961165,193,0.93689320388349517,134,0.6463022508038585,282,1.360128617363344,138,0.66559485530546625]
["Norte","Ponto Belo",74,52,85,56.666666666666664,55,1.0576923076923077,21,0.37058823529411766,61,1.1730769230769231,64,1.2307692307692308,120,2.3076923076923075,65,1.25,51,0.9,104,1.835294117647059,36,0.6352941176470589]
["Sul","Presidente Kennedy",200,163,239,159.33333333333334,153,0.93865030674846628,60,0.37656903765690375,173,1.0613496932515338,172,1.0552147239263803,275,1.6871165644171779,154,0.94478527607361962,148,0.92887029288702927,249,1.5627615062761506,120,0.7531380753138075]
["Central","Rio Bananal",272,215,229,152.66666666666666,213,0.99069767441860468,72,0.47161572052401751,210,0.97674418604651159,227,1.0558139534883721,430,2,219,1.0186046511627906,204,1.3362445414847162,401,2.626637554585153,151,0.98908296943231444]
["Sul","Rio Novo do Sul",109,77,144,96,69,0.89610389610389607,54,0.5625,94,1.2207792207792207,94,1.2207792207792207,145,1.8831168831168832,85,1.1038961038961039,71,0.73958333333333337,160,1.6666666666666667,67,0.69791666666666663]
["Metropolitana","Santa Leopoldina",99,69,155,103.33333333333333,54,0.78260869565217395,22,0.21290322580645163,95,1.3768115942028984,95,1.3768115942028984,149,2.1594202898550723,87,1.2608695652173914,77,0.74516129032258072,163,1.5774193548387097,62,0.6]
["Metropolitana","Santa Maria de Jetibá",656,500,685,456.66666666666669,426,0.85199999999999998,149,0.3262773722627737,470,0.94,479,0.95799999999999996,753,1.506,481,0.96199999999999997,327,0.71605839416058392,612,1.3401459854014599,289,0.63284671532846715]
["Metropolitana","Santa Teresa",310,234,260,173.33333333333334,162,0.69230769230769229,115,0.66346153846153844,215,0.91880341880341876,222,0.94871794871794868,316,1.3504273504273505,182,0.77777777777777779,176,1.0153846153846153,309,1.7826923076923076,123,0.70961538461538454]
["Central","São Domingos do Norte",118,85,117,78,74,{"$f":"G67/D67","v":0.87058823529411766},30,{"$f":"I67/F67","v":0.38461538461538464},89,{"$f":"K67/D67","v":1.0470588235294118},91,{"$f":"M67/D67","v":1.0705882352941176},108,{"$f":"O67/D67","v":1.2705882352941176},70,{"$f":"Q67/D67","v":0.82352941176470584},72,{"$f":"S67/F67","v":0.92307692307692313},112,{"$f":"U67/F67","v":1.4358974358974359},50,{"$f":"W67/F67","v":0.64102564102564108}]
["Central","São Gabriel da Palha",455,346,426,284,247,0.71387283236994215,116,0.40845070422535212,291,0.84104046242774566,294,0.8497109826589595,408,1.1791907514450868,262,0.75722543352601157,276,0.971830985915493,456,1.6056338028169015,186,0.65492957746478875]
["Sul","São José do Calçado",99,82,150,100,79,0.96341463414634143,30,0.3,101,1.2317073170731707,98,1.1951219512195121,117,1.4268292682926829,85,1.0365853658536586,95,0.95,145,1.45,64,0.64]
["Norte","São Mateus",1939,1478,1766,1177.3333333333333,886,0.59945872801082545,468,0.39750849377123443,1289,0.87212449255751012,1313,0.88836265223274691,1591,1.0764546684709067,1098,0.74289580514208386,837,0.71092865232163083,1433,1.2171574178935447,754,0.64043035107587776]
["Central","São Roque do Canaã",129,108,100,66.666666666666671,85,0.78703703703703709,42,0.63,99,0.91666666666666663,100,0.92592592592592593,163,1.5092592592592593,99,0.91666666666666663,62,0.92999999999999994,152,2.2799999999999998,53,0.79499999999999993]
["Metropolitana","Serra",7300,5643,7550,5033.333333333333,3666,0.64965443912812337,1431,0.28430463576158943,4954,0.87790182527024629,4965,0.87985114300903777,5806,1.0288853446748183,4542,0.80489101541733121,4011,0.79688741721854306,5690,1.1304635761589406,3413,0.67807947019867554]
["Central","Sooretama",425,322,415,276.66666666666669,236,0.73291925465838514,124,0.4481927710843373,307,0.95341614906832295,312,0.96894409937888204,516,1.6024844720496894,284,0.88198757763975155,343,1.2397590361445783,664,2.4,241,0.8710843373493975]
["Sul","Vargem Alta",264,203,278,185.33333333333334,183,0.90147783251231528,73,0.39388489208633093,195,0.96059113300492616,197,0.97044334975369462,346,1.7044334975369457,195,0.96059113300492616,140,0.75539568345323738,340,1.8345323741007193,126,0.67985611510791366]
["Metropolitana","Venda Nova do Imigrante",368,272,328,218.66666666666666,271,0.99632352941176472,68,0.31097560975609756,306,1.125,306,1.125,572,2.1029411764705883,298,1.0955882352941178,188,0.8597560975609756,406,1.8567073170731707,142,0.64939024390243905]
["Metropolitana","Viana",917,688,1064,709.33333333333337,329,0.47819767441860467,234,0.32988721804511278,762,1.1075581395348837,767,1.1148255813953489,868,1.2616279069767442,655,0.95203488372093026,606,0.8543233082706766,1000,1.4097744360902256,506,0.71334586466165406]
["Norte","Vila Pavão",100,82,127,84.666666666666671,69,0.84146341463414631,25,0.29527559055118108,76,0.92682926829268297,76,0.92682926829268297,133,1.6219512195121952,75,0.91463414634146345,76,0.89763779527559051,168,1.9842519685039368,62,0.73228346456692905]
["Central","Vila Valério",255,188,169,112.66666666666667,144,0.76595744680851063,60,0.5325443786982248,173,0.92021276595744683,154,0.81914893617021278,281,1.4946808510638299,152,0.80851063829787229,143,1.2692307692307692,280,2.4852071005917158,116,1.029585798816568]
["Metropolitana","Vila Velha",5675,4304,5675,3783.3333333333335,2890,0.67146840148698883,1231,0.32537444933920706,3693,0.85803903345724908,3728,0.86617100371747213,4526,1.0515799256505576,3328,0.77323420074349447,2970,0.78502202643171803,4336,1.1460792951541849,2372,0.62696035242290749]
["Metropolitana","Vitória",3622,2753,3833,2555.3333333333335,1885,0.68470759171812567,849,0.33224628228541608,2448,0.88921176897929533,2348,0.85288775880857248,3144,1.1420268797675264,2383,0.86560116236832552,1713,0.67036264022958514,2898,1.134098617271067,1673,0.65470910513957736]
[]
[null,"Total Norte",{"$f":"SUMIF($A$3:$A$80,\"Norte\",C$3:C$80)","v":5787},{"$f":"SUMIF($A$3:$A$80,\"Norte\",D$3:D$80)","v":4442},{"$f":"SUMIF($A$3:$A$80,\"Norte\",E$3:E$80)","v":5789},{"$f":"SUMIF($A$3:$A$80,\"Norte\",F$3:F$80)","v":3859.3333333333335},{"$f":"SUMIF($A$3:$A$80,\"Norte\",G$3:G$80)","v":3307},{"$f":"G82/D82","v":0.74448446645655109},{"$f":"SUMIF($A$3:$A$80,\"Norte\",I$3:I$80)","v":1565},{"$f":"I82/F82","v":0.40551045085506993},{"$f":"SUMIF($A$3:$A$80,\"Norte\",K$3:K$80)","v":4275},{"$f":"K82/D82","v":0.96240432237730755},{"$f":"SUMIF($A$3:$A$80,\"Norte\",M$3:M$80)","v":4330},{"$f":"M82/D82","v":0.97478613237280509},{"$f":"SUMIF($A$3:$A$80,\"Norte\",O$3:O$80)","v":6030},{"$f":"O82/D82","v":1.3574966231427286},{"$f":"SUMIF($A$3:$A$80,\"Norte\",Q$3:Q$80)","v":3894},{"$f":"Q82/D82","v":0.87663214768122466},{"$f":"SUMIF($A$3:$A$80,\"Norte\",S$3:S$80)","v":3190},{"$f":"S82/F82","v":0.82656762826049401},{"$f":"SUMIF($A$3:$A$80,\"Norte\",U$3:U$80)","v":5594},{"$f":"U82/F82","v":1.4494731387113491},{"$f":"SUMIF($A$3:$A$80,\"Norte\",W$3:W$80)","v":2598},{"$f":"W82/F82","v":0.67317325963033336}]
[null,"Total Central",{"$f":"SUMIF($A$3:$A$80,\"Central\",C$3:C$80)","v":7061},{"$f":"SUMIF($A$3:$A$80,\"Central\",D$3:D$80)","v":5413},{"$f":"SUMIF($A$3:$A$80,\"Central\",E$3:E$80)","v":6843},{"$f":"SUMIF($A$3:$A$80,\"Central\",F$3:F$80)","v":4562.0000000000009},{"$f":"SUMIF($A$3:$A$80,\"Central\",G$3:G$80)","v":4152},{"$f":"G83/D83","v":0.7670423055606872},{"$f":"SUMIF($A$3:$A$80,\"Central\",I$3:I$80)","v":1690},{"$f":"I83/F83","v":0.37045155633494076},{"$f":"SUMIF($A$3:$A$80,\"Central\",K$3:K$80)","v":4859},{"$f":"K83/D83","v":0.89765379641603549},{"$f":"SUMIF($A$3:$A$80,\"Central\",M$3:M$80)","v":5018},{"$f":"M83/D83","v":0.92702752632551266},{"$f":"SUMIF($A$3:$A$80,\"Central\",O$3:O$80)","v":7413},{"$f":"O83/D83","v":1.3694808793644928},{"$f":"SUMIF($A$3:$A$80,\"Central\",Q$3:Q$80)","v":4748},{"$f":"Q83/D83","v":0.87714760761130617},{"$f":"SUMIF($A$3:$A$80,\"Central\",S$3:S$80)","v":3719},{"$f":"S83/F83","v":0.81521262604120981},{"$f":"SUMIF($A$3:$A$80,\"Central\",U$3:U$80)","v":7023},{"$f":"U83/F83","v":1.5394563787812361},{"$f":"SUMIF($A$3:$A$80,\"Central\",W$3:W$80)","v":3102},{"$f":"W83/F83","v":0.67996492766330541}]
[null,"Total Metropolitana",{"$f":"SUMIF($A$3:$A$80,\"Metropolitana\",C$3:C$80)","v":29358},{"$f":"SUMIF($A$3:$A$80,\"Metropolitana\",D$3:D$80)","v":22372},{"$f":"SUMIF($A$3:$A$80,\"Metropolitana\",E$3:E$80)","v":30197},{"$f":"SUMIF($A$3:$A$80,\"Metropolitana\",F$3:F$80)","v":20131.333333333332},{"$f":"SUMIF($A$3:$A$80,\"Metropolitana\",G$3:G$80)","v":15565},{"$f":"G84/D84","v":0.69573574110495262},{"$f":"SUMIF($A$3:$A$80,\"Metropolitana\",I$3:I$80)","v":6931},{"$f":"I84/F84","v":0.34428916779812568},{"$f":"SUMIF($A$3:$A$80,\"Metropolitana\",K$3:K$80)","v":20732},{"$f":"K84/D84","v":0.92669408188807434},{"$f":"SUMIF($A$3:$A$80,\"Metropolitana\",M$3:M$80)","v":20747},{"$f":"M84/D84","v":0.92736456284641511},{"$f":"SUMIF($A$3:$A$80,\"Metropolitana\",O$3:O$80)","v":26921},{"$f":"O84/D84","v":1.2033345252994816},{"$f":"SUMIF($A$3:$A$80,\"Metropolitana\",Q$3:Q$80)","v":19250},{"$f":"Q84/D84","v":0.86045056320400504},{"$f":"SUMIF($A$3:$A$80,\"Metropolitana\",S$3:S$80)","v":15621},{"$f":"S84/F84","v":0.77595456502301563},{"$f":"SUMIF($A$3:$A$80,\"Metropolitana\",U$3:U$80)","v":25462},{"$f":"U84/F84","v":1.2647945160115244},{"$f":"SUMIF($A$3:$A$80,\"Metropolitana\",W$3:W$80)","v":13537},{"$f":"W84/F84","v":0.67243434778289235}]
[null,"Total Sul",{"$f":"SUMIF($A$3:$A$80,\"sul\",C$3:C$80)","v":8270},{"$f":"SUMIF($A$3:$A$80,\"sul\",D$3:D$80)","v":6311},{"$f":"SUMIF($A$3:$A$80,\"sul\",E$3:E$80)","v":8688},{"$f":"SUMIF($A$3:$A$80,\"sul\",F$3:F$80)","v":5791.9999999999991},{"$f":"SUMIF($A$3:$A$80,\"sul\",G$3:G$80)","v":4859},{"$f":"G85/D85","v":0.76992552685786719},{"$f":"SUMIF($A$3:$A$80,\"sul\",I$3:I$80)","v":2135},{"$f":"I85/F85","v":0.36861187845303872},{"$f":"SUMIF($A$3:$A$80,\"sul\",K$3:K$80)","v":6351},{"$f":"K85/D85","v":1.0063381397559816},{"$f":"SUMIF($A$3:$A$80,\"sul\",M$3:M$80)","v":6451},{"$f":"M85/D85","v":1.0221834891459356},{"$f":"SUMIF($A$3:$A$80,\"sul\",O$3:O$80)","v":9356},{"$f":"O85/D85","v":1.4824908889241009},{"$f":"SUMIF($A$3:$A$80,\"sul\",Q$3:Q$80)","v":5886},{"$f":"Q85/D85","v":0.93265726509269531},{"$f":"SUMIF($A$3:$A$80,\"sul\",S$3:S$80)","v":4270},{"$f":"S85/F85","v":0.73722375690607744},{"$f":"SUMIF($A$3:$A$80,\"sul\",U$3:U$80)","v":8628},{"$f":"U85/F85","v":1.4896408839779007},{"$f":"SUMIF($A$3:$A$80,\"sul\",W$3:W$80)","v":3871},{"$f":"W85/F85","v":0.66833563535911611}]
[null,"Total Espírito Santo",{"$f":"SUM(C3:C80)","v":50476},{"$f":"SUM(D3:D80)","v":38538},{"$f":"SUM(E3:E80)","v":51517},{"$f":"SUM(F3:F80)","v":34344.666666666657},{"$f":"SUM(G3:G80)","v":27883},{"$f":"G86/D86","v":0.72351964294981574},{"$f":"SUM(I3:I80)","v":12321},{"$f":"I86/F86","v":0.35874565677349235},{"$f":"SUM(K3:K80)","v":36217},{"$f":"K86/D86","v":0.93977372982510765},{"$f":"SUM(M3:M80)","v":36546},{"$f":"M86/D86","v":0.94831075821267319},{"$f":"SUM(O3:O80)","v":49720},{"$f":"O86/D86","v":1.2901551715190203},{"$f":"SUM(Q3:Q80)","v":33778},{"$f":"Q86/D86","v":0.87648554673309464},{"$f":"SUM(S3:S80)","v":26800},{"$f":"S86/F86","v":0.78032494128151897},{"$f":"SUM(U3:U80)","v":46707},{"$f":"U86/F86","v":1.3599491430013397},{"$f":"SUM(W3:W80)","v":23108},{"$f":"W86/F86","v":0.67282644563930372}]
[]
[]
[]
[" Fonte: Vacina e Confia, em 09 de Outubro de 2024.**"]
["**Dados referente às doses aplicadas no período de Setembro de 2024"]
["Cobertura Calculada por município de residência do cidadão (no Vacina e Confia, a origem da informação é o endereço que consta no cadastro do cidadão preenchido manualmente por meio do autocadastro ou pelo cadastro realizado por um profissional de saúde no momento do atendimento)."]
["² População proporcional extraída do MS/SVS/DASIS - SINASC/DASIS/SVS/MS 2023 (hoje preliminares) referente ao período de agosto e Setembro de 2023 somada a população extraída do SINASC/DASIS/SVS/MS 2024 referente ao período de janeiro e julho de 2024."]
[]
["Sinasc, atualizado em 10 de Outubro de 2024."]
["³ População anual e proporcional extraída do Censo IBGE 2022."]
["Observações:"]
["Imunobiológicos que foram recebidos parcialmente pelo estado no mês da análise, sendo distribuídos em quantidades reduzidas às regionais e municípios: Típlice Bacteriana (DTP),Varicela, Hepatite A - Rotina Pediátrica, COVID-19 Monovalente (XBB) - FRASCO\n."]
["Imunobiológicos indisponíveis no mês da análise, não sendo possível a distribuição às regionais e municípios: Meningo C Conjugada, Tríplice Bacteriana Acelular (dTpa - CRIE)."]
["Imunobiológicos em falta e sem previsão de entrega: Febre Amarela, Varicela, Tríplice Viral (SCR), COVID-19 Monovalente (XBB) - FRASCO, Tríplice Bacteriana (DTP)."]

{"sheet":"Cobert. COVID-19 Menores 4 anos","index":4,"n_rows":92,"n_cols":3,"rows_kept":92,"cut":false,"hidden":true,"merged":[[90,0,90,9],[91,0,91,9],[86,0,86,9],[87,0,87,9],[88,0,88,9],[89,0,89,9]]}
["Regional ","Município","Série Histórica "]
["Região Metropolitana","Afonso Cláudio"]
["Região Norte","Água Doce do Norte"]
["Região Central","Águia Branca"]
["Região Sul","Alegre"]
["Região Sul","Alfredo Chaves"]
["Região Central","Alto Rio Novo"]
["Região Sul","Anchieta"]
["Região Sul","Apiacá"]
["Região Metropolitana","Aracruz"]
["Região Sul","Atilio Vivacqua"]
["Região Central","Baixo Guandu"]
["Região Norte","Barra de São Francisco"]
["Região Norte","Boa Esperança"]
["Região Sul","Bom Jesus do Norte"]
["Região Metropolitana","Brejetuba"]
["Região Sul","Cachoeiro de Itapemirim"]
["Região Metropolitana","Cariacica"]
["Região Sul","Castelo"]
["Região Central","Colatina"]
["Região Norte","Conceição da Barra"]
["Região Metropolitana","Conceição do Castelo"]
["Região Sul","Divino de São Lourenço"]
["Região Metropolitana","Domingos Martins"]
["Região Sul","Dores do Rio Preto"]
["Região Norte","Ecoporanga"]
["Região Metropolitana","Fundão"]
["Região Central","Governador Lindenberg"]
["Região Sul","Guaçuí"]
["Região Metropolitana","Guarapari"]
["Região Metropolitana","Ibatiba"]
["Região Metropolitana","Ibiraçu"]
["Região Sul","Ibitirama"]
["Região Sul","Iconha"]
["Região Sul","Irupi"]
["Região Metropolitana","Itaguaçu"]
["Região Sul","Itapemirim"]
["Região Metropolitana","Itarana"]
["Região Sul","Iúna"]
["Região Norte","Jaguaré"]
["Região Sul","Jerônimo Monteiro"]
["Região Metropolitana","João Neiva"]
["Região Metropolitana","Laranja da Terra"]
["Região Central","Linhares"]
["Região Central","Mantenópolis"]
["Região Sul","Marataízes"]
["Região Metropolitana","Marechal Floriano"]
["Região Central","Marilândia"]
["Região Sul","Mimoso do Sul"]
["Região Norte","Montanha"]
["Região Norte","Mucurici"]
["Região Sul","Muniz Freire"]
["Região Sul","Muqui"]
["Região Norte","Nova Venécia"]
["Região Central","Pancas"]
["Região Norte","Pedro Canário"]
["Região Norte","Pinheiros"]
["Região Sul","Piúma"]
["Região Norte","Ponto Belo"]
["Região Sul","Presidente Kennedy"]
["Região Central","Rio Bananal"]
["Região Sul","Rio Novo do Sul"]
["Região Metropolitana","Santa Leopoldina"]
["Região Metropolitana","Santa Maria de Jetibá"]
["Região Metropolitana","Santa Teresa"]
["Região Central","São Domingos do Norte"]
["Região Central","São Gabriel da Palha"]
["Região Sul","São José do Calçado"]
["Região Norte","São Mateus"]
["Região Central","São Roque do Canaã"]
["Região Metropolitana","Serra"]
["Região Central","Sooretama"]
["Região Sul","Vargem Alta"]
["Região Metropolitana","Venda Nova do Imigrante"]
["Região Metropolitana","Viana"]
["Região Norte","Vila Pavão"]
["Região Central","Vila Valério"]
["Região Metropolitana","Vila Velha"]
["Região Metropolitana","Vitória"]
[]
[null,"Espírito Santo"]
[null,"Região Norte"]
[null,"Região Central"]
[null,"Região Metropolitana"]
[null,"Região Sul"]
[]
["Pfizer Pediátrica Menor de 5 anos e Coronavac"]
["Período avaliado: 2021-2024"]
["Fonte: https://www.vacinaeconfia.es.gov.br"]
["*Dados de janeiro/2024 extraídos do Vacina e Confia em 04/01/2024"]
["População proporcional extraída do SINASC 2022 (menores de 1 ano) e Censo IBGE 2022 (demais idades)"]
["Cobertura Calculada por município de procedência da vacinação"]

{"sheet":"Cobert. Meningo C Adolescentes","index":5,"n_rows":93,"n_cols":3,"rows_kept":93,"cut":false,"hidden":false,"merged":[[79,0,79,1]]}
["Regional ","Município","Série Histórica "]
["Metropolitana","Afonso Cláudio",58.020897357098953]
["Central Norte","Água Doce do Norte",69.879518072289159]
["Central Norte","Águia Branca",62.301587301587304]
["Sul","Alegre",74.833456698741671]
["Sul","Alfredo Chaves",47.310126582278485]
["Central Norte","Alto Rio Novo",91.019417475728162]
["Sul","Anchieta",79.894179894179899]
["Sul","Apiacá",30.494505494505496]
["Metropolitana","Aracruz",81.344942571322704]
["Sul","Atilio Vivacqua",81.640625]
["Central Norte","Baixo Guandu",66.95137976346912]
["Central Norte","Barra de São Francisco",68.083261058109272]
["Central Norte","Boa Esperança",62.131837307152871]
["Sul","Bom Jesus do Norte",53.742802303262962]
["Metropolitana","Brejetuba",83.930942895086318]
["Sul","Cachoeiro de Itapemirim",79.161597168454819]
["Metropolitana","Cariacica",75.476756538014072]
["Sul","Castelo",79.219143576826198]
["Central Norte","Colatina",64.688960805465655]
["Central Norte","Conceição da Barra",59.529276693455799]
["Metropolitana","Conceição do Castelo",79.898648648648646]
["Sul","Divino de São Lourenço",63.235294117647058]
["Metropolitana","Domingos Martins",79.442508710801391]
["Sul","Dores do Rio Preto",77.690288713910761]
["Central Norte","Ecoporanga",63.412489006156548]
["Metropolitana","Fundão",79.140461215932916]
["Central Norte","Governador Lindenberg",80.909090909090907]
["Sul","Guaçuí",67.904509283819621]
["Metropolitana","Guarapari",71.827759963353188]
["Metropolitana","Ibatiba",71.902017291066272]
["Metropolitana","Ibiraçu",77.00348432055749]
["Sul","Ibitirama",74.171029668411876]
["Sul","Iconha",74.803149606299215]
["Sul","Irupi",67.994687915006637]
["Metropolitana","Itaguaçu",67.045454545454547]
["Sul","Itapemirim",61.531878476679502]
["Metropolitana","Itarana",68.925233644859816]
["Sul","Iúna",64.961636828644501]
["Central Norte","Jaguaré",63.823857302118171]
["Sul","Jerônimo Monteiro",82.770870337477803]
["Metropolitana","João Neiva",73.596358118361152]
["Metropolitana","Laranja da Terra",68.237704918032776]
["Central Norte","Linhares",72.689255843877334]
["Central Norte","Mantenópolis",78.873239436619713]
["Sul","Marataízes",84.100044662795895]
["Metropolitana","Marechal Floriano",78.741865509761382]
["Central Norte","Marilândia",74.181818181818187]
["Sul","Mimoso do Sul",69.801553062985334]
["Central Norte","Montanha",76.952380952380949]
["Central Norte","Mucurici",66.007905138339922]
["Sul","Muniz Freire",69.480519480519476]
["Sul","Muqui",70.241691842900295]
["Central Norte","Nova Venécia",54.226804123711339]
["Central Norte","Pancas",68.604651162790702]
["Central Norte","Pedro Canário",73.343974461292888]
["Central Norte","Pinheiros",62.103034580098807]
["Sul","Piúma",69.244935543278089]
["Central Norte","Ponto Belo",62.878787878787875]
["Sul","Presidente Kennedy",89.863013698630141]
["Central Norte","Rio Bananal",82.929292929292927]
["Sul","Rio Novo do Sul",62.452107279693493]
["Metropolitana","Santa Leopoldina",52.440944881889763]
["Metropolitana","Santa Maria de Jetibá",76.818395119662128]
["Metropolitana","Santa Teresa",78.083491461100579]
["Central Norte","São Domingos do Norte",72.682926829268297]
["Central Norte","São Gabriel da Palha",57.054455445544548]
["Sul","São José do Calçado",67.572463768115938]
["Central Norte","São Mateus",64.860774818401936]
["Central Norte","São Roque do Canaã",79.13978494623656]
["Metropolitana","Serra",71.179444845733158]
["Central Norte","Sooretama",80.524781341107882]
["Sul","Vargem Alta",74.903474903474901]
["Metropolitana","Venda Nova do Imigrante",72.816399286987519]
["Metropolitana","Viana",75.540472599296123]
["Central Norte","Vila Pavão",84.716157205240165]
["Central Norte","Vila Valério",89.233038348082587]
["Metropolitana","Vila Velha",77.325396464761212]
["Metropolitana","Vitória",81.339679428851412]
["Total",null,77.532509555685891]
[]
["Meningocócica Conjudada C e Meningocócica ACWY"]
["Período avaliado: 2016-2024"]
["Fonte: http://tabnet.datasus.gov.br/ e https://www.vacinaeconfia.es.gov.br"]
["*Dados parciais. Dados de janeiro/2022 a abril/2022 extraídos do TABNET em 10/05/2024"]
["*Dados de Setembro/2024 extraídos do Vacina e Confia em Outubro/2024"]
["População proporcional extraída do Censo IBGE 2022"]
["Cobertura Calculada por município de procedência da vacinação"]
[]
["Observações:"]
["Imunobiológicos que foram recebidos parcialmente pelo estado no mês da análise, sendo distribuídos em quantidades reduzidas às regionais e municípios: Típlice Bacteriana (DTP),Varicela, Hepatite A - Rotina Pediátrica, COVID-19 Monovalente (XBB) - FRASCO\n."]
["Imunobiológicos indisponíveis no mês da análise, não sendo possível a distribuição às regionais e municípios: Meningo C Conjugada, Tríplice Bacteriana Acelular (dTpa - CRIE)."]
["Imunobiológicos em falta e sem previsão de entrega: Febre Amarela, Varicela, Tríplice Viral (SCR), COVID-19 Monovalente (XBB) - FRASCO, Tríplice Bacteriana (DTP)."]

{"sheet":"Cobert. HPV ","index":6,"n_rows":95,"n_cols":4,"rows_kept":95,"cut":false,"hidden":false,"merged":[[79,0,79,1],[82,0,82,5],[83,0,83,5],[84,0,84,5],[85,0,85,5]]}
["REGIONAL","MUNICÍPIO","HPV* Quadrivalente D1 Total - Feminino","HPV* Quadrivalente D1 Total - Masculino"]
["METROPOLITANA","Afonso Cláudio",85.630498533724335,79.011311269375781]
["CENTRAL-NORTE","Água Doce do Norte",86.727456940222908,61.19554204660588]
["CENTRAL-NORTE","Águia Branca",71.409028727770178,76.880984952120386]
["SUL","Alegre",85.070974057758193,67.351933431228588]
["SUL","Alfredo Chaves",82.401656314699792,60.041407867494826]
["CENTRAL-NORTE","Alto Rio Novo",103.15091210613599,91.873963515754568]
["SUL","Anchieta",94.595763078253341,84.306095979247729]
["SUL","Apiacá",72.420262664165108,51.782363977485922]
["METROPOLITANA","Aracruz",86.234718826405867,72.053789731051339]
["SUL","Atílio Vivácqua",103.26633165829146,92.462311557788951]
["CENTRAL-NORTE","Baixo Guandu",85.215874400348895,68.556476232010468]
["CENTRAL-NORTE","Barra de São Francisco",76.905378199597351,60.742018981880932]
["CENTRAL-NORTE","Boa Esperança",88.083889418493797,51.66825548141086]
["SUL","Bom Jesus do Norte",86.979166666666657,67.1875]
["METROPOLITANA","Brejetuba",92.819614711033267,74.255691768826608]
["SUL","Cachoeiro de Itapemirim",88.69936034115139,87.464157047275933]
["METROPOLITANA","Cariacica",85.014717687985026,50.120417447150125]
["SUL","Castelo",94.176372712146431,87.853577371048246]
["CENTRAL-NORTE","Colatina",55.291163458089201,45.988281717087169]
["CENTRAL-NORTE","Conceição da Barra",82.761310452418101,69.42277691107644]
["METROPOLITANA","Conceição do Castelo",99.67141292442497,84.337349397590373]
["SUL","Divino de São Lourenço",77.777777777777786,89.393939393939391]
["METROPOLITANA","Domingos Martins",93.502499038831218,78.123798539023454]
["SUL","Dores do Rio Preto",96.513761467889907,86.238532110091754]
["CENTRAL-NORTE","Ecoporanga",84.859584859584857,68.986568986568983]
["METROPOLITANA","Fundão",83.531885073580938,65.592151366503145]
["CENTRAL-NORTE","Governador Lindenberg",90.886699507389153,83.497536945812811]
["SUL","Guaçuí",89.045314562252528,72.239331280246361]
["METROPOLITANA","Guarapari",77.744867735675612,44.816668368910221]
["METROPOLITANA","Ibatiba",89.931573802541536,78.005865102639291]
["METROPOLITANA","Ibiraçu",92.463442069741291,67.041619797525314]
["SUL","Ibitirama",50.647820965842172,62.190812720848058]
["SUL","Iconha",95.115681233933159,88.688946015424165]
["SUL","Irupi",70.33747779751333,84.547069271758431]
["METROPOLITANA","Itaguaçu",94.796380090497735,47.285067873303163]
["SUL","Itapemirim",70.34242600116076,70.458502611723745]
["METROPOLITANA","Itarana",86.335403726708066,78.260869565217391]
["SUL","Iúna",78.268324046292321,81.525932276039441]
["CENTRAL-NORTE","Jaguaré",93.129200896191193,76.923076923076934]
["SUL","Jerônimo Monteiro",96.467722289890375,87.697929354445805]
["METROPOLITANA","João Neiva",97.095435684647299,75.518672199170126]
["METROPOLITANA","Laranja da Terra",81.671159029649601,65.229110512129381]
["CENTRAL-NORTE","Linhares",78.357729382363445,62.334880399857198]
["CENTRAL-NORTE","Mantenópolis",91.450528338136408,61.671469740634009]
["SUL","Marataízes",97.089708970897092,98.349834983498354]
["METROPOLITANA","Marechal Floriano",96.71641791044776,68.059701492537314]
["CENTRAL-NORTE","Marilândia",102.99251870324188,92.019950124688279]
["SUL","Mimoso do Sul",81.569560047562433,71.700356718192623]
["CENTRAL-NORTE","Montanha",95.390524967989748,86.171574903969272]
["CENTRAL-NORTE","Mucurici",98.324022346368707,77.094972067039109]
["SUL","Muniz Freire",92.587209302325576,93.45930232558139]
["SUL","Muqui",85.170340681362717,75.951903807615224]
["CENTRAL-NORTE","Nova Venécia",89.400164338537394,80.471103807176121]
["CENTRAL-NORTE","Pancas",89.376770538243619,79.745042492917847]
["CENTRAL-NORTE","Pedro Canário",91.630901287553641,76.60944206008584]
["CENTRAL-NORTE","Pinheiros",79.904761904761898,60.571428571428577]
["SUL","Piúma",72.854640980735553,64.09807355516638]
["CENTRAL-NORTE","Ponto Belo",93.684210526315795,77.543859649122808]
["SUL","Presidente Kennedy",87.046632124352328,85.146804835924002]
["CENTRAL-NORTE","Rio Bananal",102.84203569068077,101.65234633179114]
["SUL","Rio Novo do Sul",74.365482233502533,84.263959390862937]
["METROPOLITANA","Santa Leopoldina",65.608465608465607,38.306878306878303]
["METROPOLITANA","Santa Maria de Jetibá",91.125744747569769,55.001567889620574]
["METROPOLITANA","Santa Teresa",103.87902695595004,74.687705456936229]
["CENTRAL-NORTE","São Domingos do Norte",98.84297520661157,80.991735537190081]
["CENTRAL-NORTE","São Gabriel da Palha",82.671174978867285,72.950126796280642]
["SUL","São José do Calçado",83.800243605359313,86.967113276492086]
["CENTRAL-NORTE","São Mateus",85.485003510883743,64.780820543685422]
["CENTRAL-NORTE","São Roque do Canaã",106.64739884393065,75.433526011560687]
["METROPOLITANA","Serra",82.957558179057798,42.967528494708937]
["CENTRAL-NORTE","Sooretama",85.169326586220322,79.486181393538345]
["SUL","Vargem Alta",87.915006640106242,88.180610889774229]
["METROPOLITANA","Venda Nova do Imigrante",100.30769230769229,88.73846153846155]
["METROPOLITANA","Viana",91.492938802958975,69.199731002017487]
["CENTRAL-NORTE","Vila Pavão",97.694524495677243,71.75792507204612]
["CENTRAL-NORTE","Vila Valério",105.77689243027888,86.055776892430274]
["METROPOLITANA","Vila Velha",90.340669279469395,65.432619837202282]
["METROPOLITANA","Vitória",101.89524787601532,66.893847446550282]
["TOTAL",null,86.438151008800716,80.802328907735543]
[]
[]
["Cobertura Vacinal HPV 2024"]
["Período avaliado: 2013-2024"]
["Fonte: http://tabnet.datasus.gov.br/"]
["Fonte: https://www.vacinaeconfia.es.gov.br"]
["*Dados parciais. Dados de janeiro/2022 a abril/2022 extraídos do TABNET em 10/05/2024"]
["*Dados de Setembro/2024 extraídos do Vacina e Confia em Outubro/2024"]
["População proporcional extraída do Censo IBGE 2022"]
["Cobertura Calculada por município de procedência da vacinação"]
[]
["Observações:"]
["Imunobiológicos que foram recebidos parcialmente pelo estado no mês da análise, sendo distribuídos em quantidades reduzidas às regionais e municípios: Típlice Bacteriana (DTP),Varicela, Hepatite A - Rotina Pediátrica, COVID-19 Monovalente (XBB) - FRASCO\n."]
["Imunobiológicos indisponíveis no mês da análise, não sendo possível a distribuição às regionais e municípios: Meningo C Conjugada, Tríplice Bacteriana Acelular (dTpa - CRIE)."]
["Imunobiológicos em falta e sem previsão de entrega: Febre Amarela, Varicela, Tríplice Viral (SCR), COVID-19 Monovalente (XBB) - FRASCO, Tríplice Bacteriana (DTP)."]

{"sheet":"dTpa gestantes - procedência","index":7,"n_rows":100,"n_cols":6,"rows_kept":100,"cut":false,"hidden":false,"merged":[[92,0,92,25],[85,1,85,3],[88,0,88,16],[89,0,89,16],[90,0,90,16],[91,0,91,17]]}
["REGIONAL","MUNICÍPIO","¹POPULAÇÃO GESTANTE ANUAL","²POPULAÇÃO PROPORCIONAL","DOSES APLICADAS dTpa GESTANTES","COBERTURA VACINAL dTpa GESTANTES"]
["Metropolitana","Afonso Cláudio",385,307,202,{"$f":"E2/D2","v":0.65798045602605859}]
["Norte","Água Doce do Norte",202,168,110,{"$f":"E3/D3","v":0.65476190476190477}]
["Central","Águia Branca",173,133,90,0.67669172932330823]
["Sul","Alegre",323,238,215,0.90336134453781514]
["Sul","Alfredo Chaves",143,104,88,0.84615384615384615]
["Central","Alto Rio Novo",85,65,62,0.9538461538461539]
["Sul","Anchieta",367,280,248,0.88571428571428568]
["Sul","Apiacá",68,53,45,0.84905660377358494]
["Metropolitana","Aracruz",1419,1082,935,0.86414048059149717]
["Sul","Atilio Vivacqua",144,107,114,1.0654205607476634]
["Central","Baixo Guandu",388,283,206,0.72791519434628971]
["Norte","Barra de São Francisco",562,442,330,0.74660633484162897]
["Norte","Boa Esperança",205,154,132,0.8571428571428571]
["Sul","Bom Jesus do Norte",88,73,64,0.87671232876712324]
["Metropolitana","Brejetuba",198,146,141,0.96575342465753422]
["Sul","Cachoeiro de Itapemirim",2424,1893,1466,0.77443211833069203]
["Metropolitana","Cariacica",4851,3710,2817,0.75929919137466306]
["Sul","Castelo",432,323,278,0.86068111455108354]
["Central","Colatina",1518,1171,1015,0.86678052946199824]
["Norte","Conceição da Barra",386,284,260,0.91549295774647887]
["Metropolitana","Conceição do Castelo",152,126,106,0.84126984126984128]
["Sul","Divino de São Lourenço",70,55,26,0.47272727272727272]
["Metropolitana","Domingos Martins",420,303,312,1.0297029702970297]
["Sul","Dores do Rio Preto",96,74,63,0.85135135135135132]
["Norte","Ecoporanga",253,203,173,0.85221674876847286]
["Metropolitana","Fundão",221,176,148,0.84090909090909094]
["Central","Governador Lindenberg",130,98,82,0.83673469387755106]
["Sul","Guaçuí",384,287,217,0.75609756097560976]
["Metropolitana","Guarapari",1508,1095,1038,0.94794520547945205]
["Metropolitana","Ibatiba",367,288,276,0.95833333333333337]
["Metropolitana","Ibiraçu",151,119,110,0.92436974789915971]
["Sul","Ibitirama",140,104,104,1]
["Sul","Iconha",114,90,86,0.9555555555555556]
["Sul","Irupi",194,147,136,0.92517006802721091]
["Metropolitana","Itaguaçu",137,109,99,0.90825688073394495]
["Sul","Itapemirim",520,372,314,0.84408602150537637]
["Metropolitana","Itarana",136,103,99,0.96116504854368934]
["Sul","Iúna",477,354,260,0.7344632768361582]
["Norte","Jaguaré",495,385,321,0.83376623376623371]
["Sul","Jerônimo Monteiro",150,117,91,0.77777777777777779]
["Metropolitana","João Neiva",161,120,107,0.89166666666666672]
["Metropolitana","Laranja da Terra",84,67,82,1.2238805970149254]
["Central","Linhares",2598,2014,1607,0.79791459781529295]
["Central","Mantenópolis",153,116,91,0.78448275862068961]
["Sul","Marataízes",553,432,399,0.92361111111111116]
["Metropolitana","Marechal Floriano",221,158,146,0.92405063291139244]
["Central","Marilândia",154,113,99,0.87610619469026552]
["Sul","Mimoso do Sul",263,200,161,0.80500000000000005]
["Norte","Montanha",226,171,148,0.86549707602339176]
["Norte","Mucurici",74,52,53,1.0192307692307692]
["Sul","Muniz Freire",213,161,161,1]
["Sul","Muqui",147,116,117,1.0086206896551724]
["Norte","Nova Venécia",627,485,437,0.90103092783505156]
["Central","Pancas",208,156,146,0.9358974358974359]
["Norte","Pedro Canário",316,234,208,0.88888888888888884]
["Norte","Pinheiros",328,252,190,0.75396825396825395]
["Sul","Piúma",288,206,207,1.0048543689320388]
["Norte","Ponto Belo",74,52,59,1.1346153846153846]
["Sul","Presidente Kennedy",200,163,134,0.82208588957055218]
["Central","Rio Bananal",272,215,201,0.93488372093023253]
["Sul","Rio Novo do Sul",109,77,73,0.94805194805194803]
["Metropolitana","Santa Leopoldina",99,69,55,0.79710144927536231]
["Metropolitana","Santa Maria de Jetibá",656,500,451,0.90200000000000002]
["Metropolitana","Santa Teresa",310,234,182,0.77777777777777779]
["Central","São Domingos do Norte",118,85,64,0.75294117647058822]
["Central","São Gabriel da Palha",455,346,280,{"$f":"E67/D67","v":0.80924855491329484}]
["Sul","São José do Calçado",99,82,61,0.74390243902439024]
["Norte","São Mateus",1939,1478,969,0.65561569688768606]
["Central","São Roque do Canaã",129,108,85,0.78703703703703709]
["Metropolitana","Serra",7300,5643,4370,0.77441077441077444]
["Central","Sooretama",425,322,295,0.91614906832298137]
["Sul","Vargem Alta",264,203,165,0.81280788177339902]
["Metropolitana","Venda Nova do Imigrante",368,272,248,0.91176470588235292]
["Metropolitana","Viana",917,688,646,0.93895348837209303]
["Norte","Vila Pavão",100,82,83,1.0121951219512195]
["Central","Vila Valério",255,188,157,0.83510638297872342]
["Metropolitana","Vila Velha",5675,4304,3212,0.74628252788104088]
["Metropolitana","Vitória",3622,2753,2478,0.90010897203051221]
[]
[null,"Total Norte",{"$f":"SUMIF($A$2:$A$79,\"Norte\",C$2:C$79)","v":5787},{"$f":"SUMIF($A$2:$A$79,\"Norte\",D$2:D$79)","v":4442},{"$f":"SUMIF($A$2:$A$79,\"Norte\",E$2:E$79)","v":3473},0.78185502026114362]
[null,"Total Central",{"$f":"SUMIF($A$2:$A$79,\"CENTRAL\",C$2:C$79)","v":7061},{"$f":"SUMIF($A$2:$A$79,\"CENTRAL\",D$2:D$79)","v":5413},{"$f":"SUMIF($A$2:$A$79,\"CENTRAL\",E$2:E$79)","v":4480},0.82763716977646407]
[null,"Total Metropolitana",{"$f":"SUMIF($A$2:$A$79,\"METROPOLITANA\",C$2:C$79)","v":29358},{"$f":"SUMIF($A$2:$A$79,\"METROPOLITANA\",D$2:D$79)","v":22372},{"$f":"SUMIF($A$2:$A$79,\"METROPOLITANA\",E$2:E$79)","v":18260},0.81619881995351329]
[null,"Total Sul",{"$f":"SUMIF($A$2:$A$79,\"SUL\",C$2:C$79)","v":8270},{"$f":"SUMIF($A$2:$A$79,\"SUL\",D$2:D$79)","v":6311},{"$f":"SUMIF($A$2:$A$79,\"SUL\",E$2:E$79)","v":5293},0.83869434321026781]
[null,"TOTAL ES",{"$f":"SUM(C2:C79)","v":50476},{"$f":"SUM(D2:D79)","v":38538},{"$f":"SUM(E2:E79)","v":31506},{"$f":"E85/D85","v":0.817530748871244}]
[null,"HOMOGENEIDADE ENTRE MUNICÍPIOS",null,null,{"$f":"COUNTIF(F2:F79,\">=0,95\")","v":15},{"$f":"E86/78","v":0.19230769230769232}]
[]
[]
[" Fonte: Vacina e Confia, em 09 de Outubro de 2024.**"]
["**Dados referente às doses aplicadas no período de Janeiro a Setembro de 2024"]
["Cobertura Calculada por município de procedência/ocorrência da vacinação"]
["1 População anual extraída do MS/SVS/DASIS - SINASC/DASIS/SVS/MS 2023 (hoje preliminares) referente ao período de Agosto a dezembro de 2023 e SINASC/DASIS/SVS/MS 2024 referente ao período de janeiro a julho de 2024."]
["² População proporcional extraída do MS/SVS/DASIS - SINASC/DASIS/SVS/MS 2023 (hoje preliminares) referente ao período de agosto e Setembro de 2023 somada a população extraída do SINASC/DASIS/SVS/MS 2024 referente ao período de janeiro e julho de 2024."]
["Sinasc, atualizado em 10 de Outubro de 2024."]
["Homogeineidade: O cálculo da Homogeineidade entre vacinas é feito de acordo com a pactuação estabelecida no Plano Plurianual (PPA) vigente no período 2024-2027."]
[]
["Observações:"]
["Imunobiológicos que foram recebidos parcialmente pelo estado no mês da análise, sendo distribuídos em quantidades reduzidas às regionais e municípios: Típlice Bacteriana (DTP),Varicela, Hepatite A - Rotina Pediátrica, COVID-19 Monovalente (XBB) - FRASCO\n."]
["Imunobiológicos indisponíveis no mês da análise, não sendo possível a distribuição às regionais e municípios: Meningo C Conjugada, Tríplice Bacteriana Acelular (dTpa - CRIE)."]
["Imunobiológicos em falta e sem previsão de entrega: Febre Amarela, Varicela, Tríplice Viral (SCR), COVID-19 Monovalente (XBB) - FRASCO, Tríplice Bacteriana (DTP)."]

{"sheet":"dTpa gestantes - residência","index":8,"n_rows":100,"n_cols":6,"rows_kept":100,"cut":false,"hidden":false,"merged":[[85,1,85,3],[88,0,88,16],[89,0,89,16],[91,0,91,21],[92,0,92,25]]}
["REGIONAL","MUNICÍPIO","¹POPULAÇÃO GESTANTE ANUAL","¹POPULAÇÃO PROPORCIONAL","DOSES APLICADAS dTpa GESTANTES","COBERTURA VACINAL dTpa GESTANTES"]
["Metropolitana","Afonso Cláudio",385,307,209,{"$f":"E2/D2","v":0.68078175895765469}]
["Norte","Água Doce do Norte",202,168,89,{"$f":"E3/D3","v":0.52976190476190477}]
["Central","Águia Branca",173,133,75,0.56390977443609025]
["Sul","Alegre",323,238,236,0.99159663865546221]
["Sul","Alfredo Chaves",143,104,103,0.99038461538461542]
["Central","Alto Rio Novo",85,65,61,0.93846153846153846]
["Sul","Anchieta",367,280,226,0.80714285714285716]
["Sul","Apiacá",68,53,43,0.81132075471698117]
["Metropolitana","Aracruz",1419,1082,843,0.77911275415896486]
["Sul","Atilio Vivacqua",144,107,102,0.95327102803738317]
["Central","Baixo Guandu",388,283,209,0.7385159010600707]
["Norte","Barra de São Francisco",562,442,335,0.75791855203619907]
["Norte","Boa Esperança",205,154,129,0.83766233766233766]
["Sul","Bom Jesus do Norte",88,73,41,0.56164383561643838]
["Metropolitana","Brejetuba",198,146,129,0.88356164383561642]
["Sul","Cachoeiro de Itapemirim",2424,1893,1442,0.76175382989963025]
["Metropolitana","Cariacica",4851,3710,3193,0.86064690026954183]
["Sul","Castelo",432,323,287,0.88854489164086692]
["Central","Colatina",1518,1171,908,0.77540563620836889]
["Norte","Conceição da Barra",386,284,247,0.86971830985915488]
["Metropolitana","Conceição do Castelo",152,126,123,0.97619047619047616]
["Sul","Divino de São Lourenço",70,55,33,0.6]
["Metropolitana","Domingos Martins",420,303,328,1.0825082508250825]
["Sul","Dores do Rio Preto",96,74,47,0.63513513513513509]
["Norte","Ecoporanga",253,203,181,0.89162561576354682]
["Metropolitana","Fundão",221,176,130,0.73863636363636365]
["Central","Governador Lindenberg",130,98,101,1.0306122448979591]
["Sul","Guaçuí",384,287,198,0.68989547038327526]
["Metropolitana","Guarapari",1508,1095,975,0.8904109589041096]
["Metropolitana","Ibatiba",367,288,269,0.93402777777777779]
["Metropolitana","Ibiraçu",151,119,115,0.96638655462184875]
["Sul","Ibitirama",140,104,88,0.84615384615384615]
["Sul","Iconha",114,90,101,1.1222222222222222]
["Sul","Irupi",194,147,103,0.70068027210884354]
["Metropolitana","Itaguaçu",137,109,89,0.8165137614678899]
["Sul","Itapemirim",520,372,339,0.91129032258064513]
["Metropolitana","Itarana",136,103,89,0.86407766990291257]
["Sul","Iúna",477,354,272,0.76836158192090398]
["Norte","Jaguaré",495,385,312,0.81038961038961044]
["Sul","Jerônimo Monteiro",150,117,78,0.66666666666666663]
["Metropolitana","João Neiva",161,120,108,0.9]
["Metropolitana","Laranja da Terra",84,67,75,1.1194029850746268]
["Central","Linhares",2598,2014,1551,0.77010923535253228]
["Central","Mantenópolis",153,116,75,0.64655172413793105]
["Sul","Marataízes",553,432,350,0.81018518518518523]
["Metropolitana","Marechal Floriano",221,158,140,0.88607594936708856]
["Central","Marilândia",154,113,100,0.88495575221238942]
["Sul","Mimoso do Sul",263,200,165,0.82499999999999996]
["Norte","Montanha",226,171,148,0.86549707602339176]
["Norte","Mucurici",74,52,58,1.1153846153846154]
["Sul","Muniz Freire",213,161,132,0.81987577639751552]
["Sul","Muqui",147,116,120,1.0344827586206897]
["Norte","Nova Venécia",627,485,495,1.0206185567010309]
["Central","Pancas",208,156,159,1.0192307692307692]
["Norte","Pedro Canário",316,234,227,0.97008547008547008]
["Norte","Pinheiros",328,252,172,0.68253968253968256]
["Sul","Piúma",288,206,199,0.96601941747572817]
["Norte","Ponto Belo",74,52,63,1.2115384615384615]
["Sul","Presidente Kennedy",200,163,127,0.77914110429447858]
["Central","Rio Bananal",272,215,214,0.99534883720930234]
["Sul","Rio Novo do Sul",109,77,79,1.025974025974026]
["Metropolitana","Santa Leopoldina",99,69,67,0.97101449275362317]
["Metropolitana","Santa Maria de Jetibá",656,500,383,0.76600000000000001]
["Metropolitana","Santa Teresa",310,234,198,0.84615384615384615]
["Central","São Domingos do Norte",118,85,74,0.87058823529411766]
["Central","São Gabriel da Palha",455,346,264,{"$f":"E67/D67","v":0.76300578034682076}]
["Sul","São José do Calçado",99,82,68,0.82926829268292679]
["Norte","São Mateus",1939,1478,871,0.58930987821380243]
["Central","São Roque do Canaã",129,108,105,0.97222222222222221]
["Metropolitana","Serra",7300,5643,4093,0.72532340953393581]
["Central","Sooretama",425,322,307,0.95341614906832295]
["Sul","Vargem Alta",264,203,158,0.77832512315270941]
["Metropolitana","Venda Nova do Imigrante",368,272,249,0.9154411764705882]
["Metropolitana","Viana",917,688,660,0.95930232558139539]
["Norte","Vila Pavão",100,82,85,1.0365853658536586]
["Central","Vila Valério",255,188,141,0.75]
["Metropolitana","Vila Velha",5675,4304,2945,0.68424721189591076]
["Metropolitana","Vitória",3622,2753,2111,0.76679985470395928]
[]
[null,"Total Norte",{"$f":"SUMIF($A$2:$A$79,\"Norte\",C$2:C$79)","v":5787},{"$f":"SUMIF($A$2:$A$79,\"Norte\",D$2:D$79)","v":4442},{"$f":"SUMIF($A$2:$A$79,\"Norte\",E$2:E$79)","v":3412},0.76812246735704637]
[null,"Total Central",{"$f":"SUMIF($A$2:$A$79,\"CENTRAL\",C$2:C$79)","v":7061},{"$f":"SUMIF($A$2:$A$79,\"CENTRAL\",D$2:D$79)","v":5413},{"$f":"SUMIF($A$2:$A$79,\"CENTRAL\",E$2:E$79)","v":4344},0.80251246997967851]
[null,"Total Metropolitana",{"$f":"SUMIF($A$2:$A$79,\"METROPOLITANA\",C$2:C$79)","v":29358},{"$f":"SUMIF($A$2:$A$79,\"METROPOLITANA\",D$2:D$79)","v":22372},{"$f":"SUMIF($A$2:$A$79,\"METROPOLITANA\",E$2:E$79)","v":17521},0.78316645807259078]
[null,"Total Sul",{"$f":"SUMIF($A$2:$A$79,\"SUL\",C$2:C$79)","v":8270},{"$f":"SUMIF($A$2:$A$79,\"SUL\",D$2:D$79)","v":6311},{"$f":"SUMIF($A$2:$A$79,\"SUL\",E$2:E$79)","v":5137},0.81397559816193943]
[null,"TOTAL ES",{"$f":"SUM(C2:C79)","v":50476},{"$f":"SUM(D2:D79)","v":38538},{"$f":"SUM(E2:E79)","v":30414},{"$f":"E85/D85","v":0.78919508018060092}]
[null,"HOMOGENEIDADE ENTRE MUNICÍPIOS",null,null,{"$f":"COUNTIF(F2:F79,\">=0,95\")","v":23},{"$f":"E86/78","v":0.29487179487179488}]
[]
[]
[" Fonte: Vacina e Confia, em09 de Outubro de 2024.**"]
["**Dados referente às doses aplicadas no período de Janeiro a Setembro de 2024"]
["Cobertura Calculada por município de residência do cidadão (no Vacina e Confia, a origem da informação é o endereço que consta no cadastro do cidadão preenchido manualmente por meio do autocadastro ou pelo cadastro realizado por um profissional de saúde no momento do atendimento)."]
["1 População anual extraída do MS/SVS/DASIS - SINASC/DASIS/SVS/MS 2023 (hoje preliminares) referente ao período de Agosto e Dezembro de 2023 e SINASC/DASIS/SVS/MS 2024 referente ao período de janeiro a julho de 2024."]
["² População proporcional extraída do MS/SVS/DASIS - SINASC/DASIS/SVS/MS 2023 (hoje preliminares) referente ao período de  Agosto e Setembro de 2023 somada a população extraída do SINASC/DASIS/SVS/MS 2024 referente ao período de janeiro e julho de 2024."]
["Sinasc, atualizado em 10 de Outubro de 2024."]
["Homogeineidade: O cálculo da Homogeineidade entre vacinas é feito de acordo com a pactuação estabelecida no Plano Plurianual (PPA) vigente no período 2024-2027."]
[]
["Observações:"]
["Imunobiológicos que foram recebidos parcialmente pelo estado no mês da análise, sendo distribuídos em quantidades reduzidas às regionais e municípios: Típlice Bacteriana (DTP),Varicela, Hepatite A - Rotina Pediátrica, COVID-19 Monovalente (XBB) - FRASCO\n."]
["Imunobiológicos indisponíveis no mês da análise, não sendo possível a distribuição às regionais e municípios: Meningo C Conjugada, Tríplice Bacteriana Acelular (dTpa - CRIE)."]
["Imunobiológicos em falta e sem previsão de entrega: Febre Amarela, Varicela, Tríplice Viral (SCR), COVID-19 Monovalente (XBB) - FRASCO, Tríplice Bacteriana (DTP)."]

{"sheet":"PROTEÇÃO","index":9,"n_rows":0,"n_cols":0,"rows_kept":0,"cut":false,"hidden":false,"merged":[]}

{"sheet":"cálculos1","index":10,"n_rows":96,"n_cols":16,"rows_kept":96,"cut":false,"hidden":true,"merged":[[0,2,0,3],[0,4,0,11]]}
[null,null,0.9,null,0.95]
["Regional ","Município","Cobertura Vacinal BCG","Cobertura Vacinal Rotavírus","Cobertura Vacinal Pentavalente","Cobertura Vacinal Poliomielite ","Cobertura Vacinal Pneumo 10","Cobertura Vacinal Tríplice Viral","Cobertura Vacinal Meningo C","Cobertura Vacinal Febre Amarela","Cobertura Vacinal Hepatite A","Cobertura Varicela","META 90%","META 95%","ATINGIRAM META","PQA-VS"]
["Metropolitana","Afonso Cláudio",{"$f":"'CV Rotina <2A - procedência'!H3","v":0.71335504885993484},{"$f":"'CV Rotina <2A - procedência'!P3","v":0.83387622149837137},{"$f":"'CV Rotina <2A - procedência'!J3","v":0.87296416938110755},{"$f":"'CV Rotina <2A - procedência'!L3","v":0.86644951140065152},{"$f":"'CV Rotina <2A - procedência'!N3","v":0.85342019543973946},{"$f":"'CV Rotina <2A - procedência'!X3","v":0.94788273615635177},{"$f":"'CV Rotina <2A - procedência'!R3","v":0.85342019543973946},{"$f":"'CV Rotina <2A - procedência'!T3","v":0.82410423452768733},{"$f":"'CV Rotina <2A - procedência'!V3","v":0.90553745928338758},{"$f":"'CV Rotina <2A - procedência'!Z3","v":0.45928338762214982},{"$f":"COUNTIF(C3:D3,\">=0,9\")","v":0},{"$f":"COUNTIFS(E3:L3,\">=0,95\")","v":0},{"$f":"SUM(M3:N3)","v":0},{"$f":"COUNTIF(E3:H3,\">=0,95\")","v":0}]
["Norte","Água Doce do Norte",{"$f":"'CV Rotina <2A - procedência'!H4","v":0.45238095238095238},{"$f":"'CV Rotina <2A - procedência'!P4","v":0.79166666666666663},{"$f":"'CV Rotina <2A - procedência'!J4","v":0.75},{"$f":"'CV Rotina <2A - procedência'!L4","v":0.73809523809523814},{"$f":"'CV Rotina <2A - procedência'!N4","v":0.80952380952380953},{"$f":"'CV Rotina <2A - procedência'!X4","v":0.6785714285714286},{"$f":"'CV Rotina <2A - procedência'!R4","v":0.75595238095238093},{"$f":"'CV Rotina <2A - procedência'!T4","v":0.52380952380952384},{"$f":"'CV Rotina <2A - procedência'!V4","v":0.6428571428571429},{"$f":"'CV Rotina <2A - procedência'!Z4","v":0.23214285714285715},0,0,{"$f":"SUM(M4:N4)","v":0},{"$f":"COUNTIF(E4:H4,\">=0,95\")","v":0}]
["Central","Águia Branca",{"$f":"'CV Rotina <2A - procedência'!H5","v":0.5864661654135338},{"$f":"'CV Rotina <2A - procedência'!P5","v":0.96992481203007519},{"$f":"'CV Rotina <2A - procedência'!J5","v":0.89473684210526316},{"$f":"'CV Rotina <2A - procedência'!L5","v":0.88721804511278191},{"$f":"'CV Rotina <2A - procedência'!N5","v":0.92481203007518797},{"$f":"'CV Rotina <2A - procedência'!X5","v":0.8571428571428571},{"$f":"'CV Rotina <2A - procedência'!R5","v":0.93984962406015038},{"$f":"'CV Rotina <2A - procedência'!T5","v":0.78195488721804507},{"$f":"'CV Rotina <2A - procedência'!V5","v":0.72180451127819545},{"$f":"'CV Rotina <2A - procedência'!Z5","v":0.2932330827067669},1,0,1,0]
["Sul","Alegre",{"$f":"'CV Rotina <2A - procedência'!H6","v":0.65546218487394958},{"$f":"'CV Rotina <2A - procedência'!P6","v":0.98319327731092432},{"$f":"'CV Rotina <2A - procedência'!J6","v":1.0546218487394958},{"$f":"'CV Rotina <2A - procedência'!L6","v":1.0672268907563025},{"$f":"'CV Rotina <2A - procedência'!N6","v":1.0252100840336134},{"$f":"'CV Rotina <2A - procedência'!X6","v":0.97899159663865543},{"$f":"'CV Rotina <2A - procedência'!R6","v":1.0126050420168067},{"$f":"'CV Rotina <2A - procedência'!T6","v":0.94957983193277307},{"$f":"'CV Rotina <2A - procedência'!V6","v":0.9327731092436975},{"$f":"'CV Rotina <2A - procedência'!Z6","v":0.26470588235294118},1,5,6,4]
["Sul","Alfredo Chaves",{"$f":"'CV Rotina <2A - procedência'!H7","v":0.48076923076923078},{"$f":"'CV Rotina <2A - procedência'!P7","v":1.0865384615384615},{"$f":"'CV Rotina <2A - procedência'!J7","v":1.1057692307692308},{"$f":"'CV Rotina <2A - procedência'!L7","v":1.0673076923076923},{"$f":"'CV Rotina <2A - procedência'!N7","v":1.0673076923076923},{"$f":"'CV Rotina <2A - procedência'!X7","v":1.0769230769230769},{"$f":"'CV Rotina <2A - procedência'!R7","v":1.1153846153846154},{"$f":"'CV Rotina <2A - procedência'!T7","v":1.0096153846153846},{"$f":"'CV Rotina <2A - procedência'!V7","v":1.0096153846153846},{"$f":"'CV Rotina <2A - procedência'!Z7","v":0.58653846153846156},1,7,8,4]
["Central","Alto Rio Novo",{"$f":"'CV Rotina <2A - procedência'!H8","v":0.44615384615384618},{"$f":"'CV Rotina <2A - procedência'!P8","v":1.1384615384615384},{"$f":"'CV Rotina <2A - procedência'!J8","v":1.0615384615384615},{"$f":"'CV Rotina <2A - procedência'!L8","v":1.0307692307692307},{"$f":"'CV Rotina <2A - procedência'!N8","v":1.1538461538461537},{"$f":"'CV Rotina <2A - procedência'!X8","v":1.1692307692307693},{"$f":"'CV Rotina <2A - procedência'!R8","v":1.1538461538461537},{"$f":"'CV Rotina <2A - procedência'!T8","v":0.96923076923076923},{"$f":"'CV Rotina <2A - procedência'!V8","v":1.1846153846153846},{"$f":"'CV Rotina <2A - procedência'!Z8","v":0.55384615384615388},1,7,8,4]
["Sul","Anchieta",{"$f":"'CV Rotina <2A - procedência'!H9","v":0.5714285714285714},{"$f":"'CV Rotina <2A - procedência'!P9","v":1.0142857142857142},{"$f":"'CV Rotina <2A - procedência'!J9","v":1.0142857142857142},{"$f":"'CV Rotina <2A - procedência'!L9","v":1.0214285714285714},{"$f":"'CV Rotina <2A - procedência'!N9","v":1.0321428571428573},{"$f":"'CV Rotina <2A - procedência'!X9","v":1.0357142857142858},{"$f":"'CV Rotina <2A - procedência'!R9","v":1.0071428571428571},{"$f":"'CV Rotina <2A - procedência'!T9","v":0.80714285714285716},{"$f":"'CV Rotina <2A - procedência'!V9","v":1.0678571428571428},{"$f":"'CV Rotina <2A - procedência'!Z9","v":0.42857142857142855},1,6,7,4]
["Sul","Apiacá",{"$f":"'CV Rotina <2A - procedência'!H10","v":0.75471698113207553},{"$f":"'CV Rotina <2A - procedência'!P10","v":1.0377358490566038},{"$f":"'CV Rotina <2A - procedência'!J10","v":0.8867924528301887},{"$f":"'CV Rotina <2A - procedência'!L10","v":0.90566037735849059},{"$f":"'CV Rotina <2A - procedência'!N10","v":1},{"$f":"'CV Rotina <2A - procedência'!X10","v":1.0754716981132075},{"$f":"'CV Rotina <2A - procedência'!R10","v":0.90566037735849059},{"$f":"'CV Rotina <2A - procedência'!T10","v":0.86792452830188682},{"$f":"'CV Rotina <2A - procedência'!V10","v":0.94339622641509435},{"$f":"'CV Rotina <2A - procedência'!Z10","v":0.16981132075471697},1,2,3,2]
["Metropolitana","Aracruz",{"$f":"'CV Rotina <2A - procedência'!H11","v":0.96025878003696863},{"$f":"'CV Rotina <2A - procedência'!P11","v":0.94177449168207028},{"$f":"'CV Rotina <2A - procedência'!J11","v":0.92144177449168208},{"$f":"'CV Rotina <2A - procedência'!L11","v":0.92144177449168208},{"$f":"'CV Rotina <2A - procedência'!N11","v":0.95563770794824399},{"$f":"'CV Rotina <2A - procedência'!X11","v":1.0314232902033271},{"$f":"'CV Rotina <2A - procedência'!R11","v":0.91589648798521262},{"$f":"'CV Rotina <2A - procedência'!T11","v":0.80036968576709799},{"$f":"'CV Rotina <2A - procedência'!V11","v":1.0184842883548983},{"$f":"'CV Rotina <2A - procedência'!Z11","v":0.48613678373382624},2,3,5,2]
["Sul","Atilio Vivacqua",{"$f":"'CV Rotina <2A - procedência'!H12","v":3.7383177570093455E-2},{"$f":"'CV Rotina <2A - procedência'!P12","v":0.94392523364485981},{"$f":"'CV Rotina <2A - procedência'!J12","v":0.93457943925233644},{"$f":"'CV Rotina <2A - procedência'!L12","v":0.92523364485981308},{"$f":"'CV Rotina <2A - procedência'!N12","v":0.95327102803738317},{"$f":"'CV Rotina <2A - procedência'!X12","v":1.1028037383177569},{"$f":"'CV Rotina <2A - procedência'!R12","v":0.91588785046728971},{"$f":"'CV Rotina <2A - procedência'!T12","v":0.76635514018691586},{"$f":"'CV Rotina <2A - procedência'!V12","v":0.99065420560747663},{"$f":"'CV Rotina <2A - procedência'!Z12","v":0.46728971962616822},1,3,4,2]
["Central","Baixo Guandu",{"$f":"'CV Rotina <2A - procedência'!H13","v":0.56537102473498235},{"$f":"'CV Rotina <2A - procedência'!P13","v":1.0954063604240283},{"$f":"'CV Rotina <2A - procedência'!J13","v":1.0318021201413428},{"$f":"'CV Rotina <2A - procedência'!L13","v":1.0388692579505301},{"$f":"'CV Rotina <2A - procedência'!N13","v":1.1307420494699647},{"$f":"'CV Rotina <2A - procedência'!X13","v":1.0388692579505301},{"$f":"'CV Rotina <2A - procedência'!R13","v":1.0777385159010602},{"$f":"'CV Rotina <2A - procedência'!T13","v":0.80212014134275622},{"$f":"'CV Rotina <2A - procedência'!V13","v":1.0070671378091873},{"$f":"'CV Rotina <2A - procedência'!Z13","v":0.43462897526501765},1,6,7,4]
["Norte","Barra de São Francisco",{"$f":"'CV Rotina <2A - procedência'!H14","v":0.83710407239819007},{"$f":"'CV Rotina <2A - procedência'!P14","v":0.90497737556561086},{"$f":"'CV Rotina <2A - procedência'!J14","v":0.84841628959276016},{"$f":"'CV Rotina <2A - procedência'!L14","v":0.84841628959276016},{"$f":"'CV Rotina <2A - procedência'!N14","v":0.92986425339366519},{"$f":"'CV Rotina <2A - procedência'!X14","v":0.95927601809954754},{"$f":"'CV Rotina <2A - procedência'!R14","v":0.88914027149321262},{"$f":"'CV Rotina <2A - procedência'!T14","v":0.79185520361990946},{"$f":"'CV Rotina <2A - procedência'!V14","v":0.74208144796380093},{"$f":"'CV Rotina <2A - procedência'!Z14","v":0.44117647058823528},1,1,2,1]
["Norte","Boa Esperança",{"$f":"'CV Rotina <2A - procedência'!H15","v":0.34415584415584416},{"$f":"'CV Rotina <2A - procedência'!P15","v":1.0064935064935066},{"$f":"'CV Rotina <2A - procedência'!J15","v":0.90259740259740262},{"$f":"'CV Rotina <2A - procedência'!L15","v":0.9285714285714286},{"$f":"'CV Rotina <2A - procedência'!N15","v":0.96103896103896103},{"$f":"'CV Rotina <2A - procedência'!X15","v":1.0129870129870129},{"$f":"'CV Rotina <2A - procedência'!R15","v":0.95454545454545459},{"$f":"'CV Rotina <2A - procedência'!T15","v":0.80519480519480524},{"$f":"'CV Rotina <2A - procedência'!V15","v":0.7142857142857143},{"$f":"'CV Rotina <2A - procedência'!Z15","v":0.56493506493506496},1,3,4,2]
["Sul","Bom Jesus do Norte",{"$f":"'CV Rotina <2A - procedência'!H16","v":0.84931506849315064},{"$f":"'CV Rotina <2A - procedência'!P16","v":1.1506849315068493},{"$f":"'CV Rotina <2A - procedência'!J16","v":1.2054794520547945},{"$f":"'CV Rotina <2A - procedência'!L16","v":1.178082191780822},{"$f":"'CV Rotina <2A - procedência'!N16","v":1.1917808219178083},{"$f":"'CV Rotina <2A - procedência'!X16","v":1.4657534246575343},{"$f":"'CV Rotina <2A - procedência'!R16","v":1.1232876712328768},{"$f":"'CV Rotina <2A - procedência'!T16","v":0.90410958904109584},{"$f":"'CV Rotina <2A - procedência'!V16","v":0.84931506849315064},{"$f":"'CV Rotina <2A - procedência'!Z16","v":0.38356164383561642},1,5,6,4]
["Metropolitana","Brejetuba",{"$f":"'CV Rotina <2A - procedência'!H17","v":0.79452054794520544},{"$f":"'CV Rotina <2A - procedência'!P17","v":1.0547945205479452},{"$f":"'CV Rotina <2A - procedência'!J17","v":1.0616438356164384},{"$f":"'CV Rotina <2A - procedência'!L17","v":1.0616438356164384},{"$f":"'CV Rotina <2A - procedência'!N17","v":1.0068493150684932},{"$f":"'CV Rotina <2A - procedência'!X17","v":1.0205479452054795},{"$f":"'CV Rotina <2A - procedência'!R17","v":1.0136986301369864},{"$f":"'CV Rotina <2A - procedência'!T17","v":0.92465753424657537},{"$f":"'CV Rotina <2A - procedência'!V17","v":0.76712328767123283},{"$f":"'CV Rotina <2A - procedência'!Z17","v":0.4041095890410959},1,5,6,4]
["Sul","Cachoeiro de Itapemirim",{"$f":"'CV Rotina <2A - procedência'!H18","v":1.983095615425251},{"$f":"'CV Rotina <2A - procedência'!P18","v":0.90438457474907552},{"$f":"'CV Rotina <2A - procedência'!J18","v":0.86265187533016374},{"$f":"'CV Rotina <2A - procedência'!L18","v":0.85419968304278926},{"$f":"'CV Rotina <2A - procedência'!N18","v":0.92762810353935554},{"$f":"'CV Rotina <2A - procedência'!X18","v":0.90649762282091917},{"$f":"'CV Rotina <2A - procedência'!R18","v":0.85895404120443741},{"$f":"'CV Rotina <2A - procedência'!T18","v":0.62916006339144215},{"$f":"'CV Rotina <2A - procedência'!V18","v":0.80771262546222922},{"$f":"'CV Rotina <2A - procedência'!Z18","v":0.33967247754886426},2,0,2,0]
["Metropolitana","Cariacica",{"$f":"'CV Rotina <2A - procedência'!H19","v":0.51428571428571423},{"$f":"'CV Rotina <2A - procedência'!P19","v":0.86495956873315361},{"$f":"'CV Rotina <2A - procedência'!J19","v":0.84204851752021559},{"$f":"'CV Rotina <2A - procedência'!L19","v":0.83315363881401616},{"$f":"'CV Rotina <2A - procedência'!N19","v":0.9},{"$f":"'CV Rotina <2A - procedência'!X19","v":0.90889487870619945},{"$f":"'CV Rotina <2A - procedência'!R19","v":0.84609164420485172},{"$f":"'CV Rotina <2A - procedência'!T19","v":0.66199460916442043},{"$f":"'CV Rotina <2A - procedência'!V19","v":0.63045822102425875},{"$f":"'CV Rotina <2A - procedência'!Z19","v":0.32264150943396225},0,0,0,0]
["Sul","Castelo",{"$f":"'CV Rotina <2A - procedência'!H20","v":0.59442724458204332},{"$f":"'CV Rotina <2A - procedência'!P20","v":0.99690402476780182},{"$f":"'CV Rotina <2A - procedência'!J20","v":0.99380804953560375},{"$f":"'CV Rotina <2A - procedência'!L20","v":0.99690402476780182},{"$f":"'CV Rotina <2A - procedência'!N20","v":1.0092879256965945},{"$f":"'CV Rotina <2A - procedência'!X20","v":1.0959752321981424},{"$f":"'CV Rotina <2A - procedência'!R20","v":0.96284829721362231},{"$f":"'CV Rotina <2A - procedência'!T20","v":0.86687306501547989},{"$f":"'CV Rotina <2A - procedência'!V20","v":0.79876160990712075},{"$f":"'CV Rotina <2A - procedência'!Z20","v":0.47368421052631576},1,5,6,4]
["Central","Colatina",{"$f":"'CV Rotina <2A - procedência'!H21","v":2.1169940222032451},{"$f":"'CV Rotina <2A - procedência'!P21","v":0.95132365499573013},{"$f":"'CV Rotina <2A - procedência'!J21","v":0.98548249359521778},{"$f":"'CV Rotina <2A - procedência'!L21","v":0.97608881298035866},{"$f":"'CV Rotina <2A - procedência'!N21","v":1.0068317677198975},{"$f":"'CV Rotina <2A - procedência'!X21","v":1.0324508966695132},{"$f":"'CV Rotina <2A - procedência'!R21","v":0.91801878736122977},{"$f":"'CV Rotina <2A - procedência'!T21","v":0.78394534585824083},{"$f":"'CV Rotina <2A - procedência'!V21","v":0.7224594363791631},{"$f":"'CV Rotina <2A - procedência'!Z21","v":0.50042698548249365},2,4,6,4]
["Norte","Conceição da Barra",{"$f":"'CV Rotina <2A - procedência'!H22","v":5.6338028169014086E-2},{"$f":"'CV Rotina <2A - procedência'!P22","v":1.0211267605633803},{"$f":"'CV Rotina <2A - procedência'!J22","v":0.95422535211267601},{"$f":"'CV Rotina <2A - procedência'!L22","v":0.95774647887323938},{"$f":"'CV Rotina <2A - procedência'!N22","v":1.045774647887324},{"$f":"'CV Rotina <2A - procedência'!X22","v":1.0211267605633803},{"$f":"'CV Rotina <2A - procedência'!R22","v":0.99295774647887325},{"$f":"'CV Rotina <2A - procedência'!T22","v":0.88380281690140849},{"$f":"'CV Rotina <2A - procedência'!V22","v":0.74295774647887325},{"$f":"'CV Rotina <2A - procedência'!Z22","v":0.45070422535211269},1,5,6,4]
["Metropolitana","Conceição do Castelo",{"$f":"'CV Rotina <2A - procedência'!H23","v":0},{"$f":"'CV Rotina <2A - procedência'!P23","v":0.7857142857142857},{"$f":"'CV Rotina <2A - procedência'!J23","v":0.81746031746031744},{"$f":"'CV Rotina <2A - procedência'!L23","v":0.80158730158730163},{"$f":"'CV Rotina <2A - procedência'!N23","v":0.80952380952380953},{"$f":"'CV Rotina <2A - procedência'!X23","v":0.89682539682539686},{"$f":"'CV Rotina <2A - procedência'!R23","v":0.79365079365079361},{"$f":"'CV Rotina <2A - procedência'!T23","v":0.80952380952380953},{"$f":"'CV Rotina <2A - procedência'!V23","v":0.88095238095238093},{"$f":"'CV Rotina <2A - procedência'!Z23","v":0.46825396825396826},0,0,0,0]
["Sul","Divino de São Lourenço",{"$f":"'CV Rotina <2A - procedência'!H24","v":0.70909090909090911},{"$f":"'CV Rotina <2A - procedência'!P24","v":1.1818181818181819},{"$f":"'CV Rotina <2A - procedência'!J24","v":1.0545454545454545},{"$f":"'CV Rotina <2A - procedência'!L24","v":1.0363636363636364},{"$f":"'CV Rotina <2A - procedência'!N24","v":1.2},{"$f":"'CV Rotina <2A - procedência'!X24","v":0.81818181818181823},{"$f":"'CV Rotina <2A - procedência'!R24","v":1.1454545454545455},{"$f":"'CV Rotina <2A - procedência'!T24","v":0.8545454545454545},{"$f":"'CV Rotina <2A - procedência'!V24","v":0.74545454545454548},{"$f":"'CV Rotina <2A - procedência'!Z24","v":0.45454545454545453},1,4,5,3]
["Metropolitana","Domingos Martins",{"$f":"'CV Rotina <2A - procedência'!H25","v":0.21452145214521451},{"$f":"'CV Rotina <2A - procedência'!P25","v":1.0033003300330032},{"$f":"'CV Rotina <2A - procedência'!J25","v":0.9273927392739274},{"$f":"'CV Rotina <2A - procedência'!L25","v":0.93069306930693074},{"$f":"'CV Rotina <2A - procedência'!N25","v":1.0165016501650166},{"$f":"'CV Rotina <2A - procedência'!X25","v":0.98019801980198018},{"$f":"'CV Rotina <2A - procedência'!R25","v":0.98679867986798675},{"$f":"'CV Rotina <2A - procedência'!T25","v":0.90099009900990101},{"$f":"'CV Rotina <2A - procedência'!V25","v":0.91419141914191415},{"$f":"'CV Rotina <2A - procedência'!Z25","v":0.62046204620462042},1,3,4,2]
["Sul","Dores do Rio Preto",{"$f":"'CV Rotina <2A - procedência'!H26","v":0.67567567567567566},{"$f":"'CV Rotina <2A - procedência'!P26","v":1.0675675675675675},{"$f":"'CV Rotina <2A - procedência'!J26","v":1.0405405405405406},{"$f":"'CV Rotina <2A - procedência'!L26","v":1.0810810810810811},{"$f":"'CV Rotina <2A - procedência'!N26","v":1.1081081081081081},{"$f":"'CV Rotina <2A - procedência'!X26","v":1.0810810810810811},{"$f":"'CV Rotina <2A - procedência'!R26","v":1.0810810810810811},{"$f":"'CV Rotina <2A - procedência'!T26","v":0.8783783783783784},{"$f":"'CV Rotina <2A - procedência'!V26","v":0.77027027027027029},{"$f":"'CV Rotina <2A - procedência'!Z26","v":0.39189189189189189},1,5,6,4]
["Norte","Ecoporanga",{"$f":"'CV Rotina <2A - procedência'!H27","v":0.50246305418719217},{"$f":"'CV Rotina <2A - procedência'!P27","v":0.96059113300492616},{"$f":"'CV Rotina <2A - procedência'!J27","v":0.8719211822660099},{"$f":"'CV Rotina <2A - procedência'!L27","v":0.8571428571428571},{"$f":"'CV Rotina <2A - procedência'!N27","v":1.0098522167487685},{"$f":"'CV Rotina <2A - procedência'!X27","v":0.98029556650246308},{"$f":"'CV Rotina <2A - procedência'!R27","v":0.94581280788177335},{"$f":"'CV Rotina <2A - procedência'!T27","v":0.75862068965517238},{"$f":"'CV Rotina <2A - procedência'!V27","v":0.81773399014778325},{"$f":"'CV Rotina <2A - procedência'!Z27","v":0.48768472906403942},1,2,3,2]
["Metropolitana","Fundão",{"$f":"'CV Rotina <2A - procedência'!H28","v":0.42045454545454547},{"$f":"'CV Rotina <2A - procedência'!P28","v":1.0681818181818181},{"$f":"'CV Rotina <2A - procedência'!J28","v":1.0170454545454546},{"$f":"'CV Rotina <2A - procedência'!L28","v":1.0170454545454546},{"$f":"'CV Rotina <2A - procedência'!N28","v":1.0681818181818181},{"$f":"'CV Rotina <2A - procedência'!X28","v":0.85795454545454541},{"$f":"'CV Rotina <2A - procedência'!R28","v":0.92045454545454541},{"$f":"'CV Rotina <2A - procedência'!T28","v":0.75},{"$f":"'CV Rotina <2A - procedência'!V28","v":1.0113636363636365},{"$f":"'CV Rotina <2A - procedência'!Z28","v":0.54545454545454541},1,4,5,3]
["Central","Governador Lindenberg",{"$f":"'CV Rotina <2A - procedência'!H29","v":0.18367346938775511},{"$f":"'CV Rotina <2A - procedência'!P29","v":0.91836734693877553},{"$f":"'CV Rotina <2A - procedência'!J29","v":0.91836734693877553},{"$f":"'CV Rotina <2A - procedência'!L29","v":0.88775510204081631},{"$f":"'CV Rotina <2A - procedência'!N29","v":0.88775510204081631},{"$f":"'CV Rotina <2A - procedência'!X29","v":1.1224489795918366},{"$f":"'CV Rotina <2A - procedência'!R29","v":0.95918367346938771},{"$f":"'CV Rotina <2A - procedência'!T29","v":1.0204081632653061},{"$f":"'CV Rotina <2A - procedência'!V29","v":1.1020408163265305},{"$f":"'CV Rotina <2A - procedência'!Z29","v":0.45918367346938777},1,4,5,1]
["Sul","Guaçuí",{"$f":"'CV Rotina <2A - procedência'!H30","v":0.5714285714285714},{"$f":"'CV Rotina <2A - procedência'!P30","v":0.90940766550522645},{"$f":"'CV Rotina <2A - procedência'!J30","v":0.98257839721254359},{"$f":"'CV Rotina <2A - procedência'!L30","v":0.95470383275261328},{"$f":"'CV Rotina <2A - procedência'!N30","v":0.96864111498257843},{"$f":"'CV Rotina <2A - procedência'!X30","v":1.10801393728223},{"$f":"'CV Rotina <2A - procedência'!R30","v":0.92682926829268297},{"$f":"'CV Rotina <2A - procedência'!T30","v":0.77700348432055744},{"$f":"'CV Rotina <2A - procedência'!V30","v":0.86411149825783973},{"$f":"'CV Rotina <2A - procedência'!Z30","v":0.35888501742160278},1,4,5,4]
["Metropolitana","Guarapari",{"$f":"'CV Rotina <2A - procedência'!H31","v":0.9799086757990868},{"$f":"'CV Rotina <2A - procedência'!P31","v":1.0264840182648403},{"$f":"'CV Rotina <2A - procedência'!J31","v":0.93150684931506844},{"$f":"'CV Rotina <2A - procedência'!L31","v":0.90958904109589045},{"$f":"'CV Rotina <2A - procedência'!N31","v":1.0684931506849316},{"$f":"'CV Rotina <2A - procedência'!X31","v":0.99908675799086755},{"$f":"'CV Rotina <2A - procedência'!R31","v":0.97534246575342465},{"$f":"'CV Rotina <2A - procedência'!T31","v":0.70045662100456618},{"$f":"'CV Rotina <2A - procedência'!V31","v":0.85936073059360729},{"$f":"'CV Rotina <2A - procedência'!Z31","v":0.48219178082191783},2,3,5,2]
["Metropolitana","Ibatiba",{"$f":"'CV Rotina <2A - procedência'!H32","v":0.84027777777777779},{"$f":"'CV Rotina <2A - procedência'!P32","v":0.96180555555555558},{"$f":"'CV Rotina <2A - procedência'!J32","v":0.96875},{"$f":"'CV Rotina <2A - procedência'!L32","v":0.96875},{"$f":"'CV Rotina <2A - procedência'!N32","v":0.99652777777777779},{"$f":"'CV Rotina <2A - procedência'!X32","v":0.98958333333333337},{"$f":"'CV Rotina <2A - procedência'!R32","v":0.99305555555555558},{"$f":"'CV Rotina <2A - procedência'!T32","v":0.85069444444444442},{"$f":"'CV Rotina <2A - procedência'!V32","v":0.875},{"$f":"'CV Rotina <2A - procedência'!Z32","v":0.19444444444444445},1,5,6,4]
["Metropolitana","Ibiraçu",{"$f":"'CV Rotina <2A - procedência'!H33","v":0.18487394957983194},{"$f":"'CV Rotina <2A - procedência'!P33","v":0.88235294117647056},{"$f":"'CV Rotina <2A - procedência'!J33","v":0.78991596638655459},{"$f":"'CV Rotina <2A - procedência'!L33","v":0.78151260504201681},{"$f":"'CV Rotina <2A - procedência'!N33","v":0.89075630252100846},{"$f":"'CV Rotina <2A - procedência'!X33","v":0.89075630252100846},{"$f":"'CV Rotina <2A - procedência'!R33","v":0.94957983193277307},{"$f":"'CV Rotina <2A - procedência'!T33","v":0.78991596638655459},{"$f":"'CV Rotina <2A - procedência'!V33","v":0.7142857142857143},{"$f":"'CV Rotina <2A - procedência'!Z33","v":0.36974789915966388},0,0,0,0]
["Sul","Ibitirama",{"$f":"'CV Rotina <2A - procedência'!H34","v":0.70192307692307687},{"$f":"'CV Rotina <2A - procedência'!P34","v":0.93269230769230771},{"$f":"'CV Rotina <2A - procedência'!J34","v":0.91346153846153844},{"$f":"'CV Rotina <2A - procedência'!L34","v":0.96153846153846156},{"$f":"'CV Rotina <2A - procedência'!N34","v":0.92307692307692313},{"$f":"'CV Rotina <2A - procedência'!X34","v":1.0288461538461537},{"$f":"'CV Rotina <2A - procedência'!R34","v":0.73076923076923073},{"$f":"'CV Rotina <2A - procedência'!T34","v":0.73076923076923073},{"$f":"'CV Rotina <2A - procedência'!V34","v":0.875},{"$f":"'CV Rotina <2A - procedência'!Z34","v":0.46153846153846156},1,2,3,2]
["Sul","Iconha",{"$f":"'CV Rotina <2A - procedência'!H35","v":0.3},{"$f":"'CV Rotina <2A - procedência'!P35","v":0.9555555555555556},{"$f":"'CV Rotina <2A - procedência'!J35","v":0.87777777777777777},{"$f":"'CV Rotina <2A - procedência'!L35","v":0.85555555555555551},{"$f":"'CV Rotina <2A - procedência'!N35","v":0.92222222222222228},{"$f":"'CV Rotina <2A - procedência'!X35","v":1.2666666666666666},{"$f":"'CV Rotina <2A - procedência'!R35","v":0.87777777777777777},{"$f":"'CV Rotina <2A - procedência'!T35","v":1.0666666666666667},{"$f":"'CV Rotina <2A - procedência'!V35","v":1.1444444444444444},{"$f":"'CV Rotina <2A - procedência'!Z35","v":0.34444444444444444},{"$f":"COUNTIF(C35:D35,\">=0,9\")","v":1},{"$f":"COUNTIFS(E35:L35,\">=0,95\")","v":3},4,1]
["Sul","Irupi",{"$f":"'CV Rotina <2A - procedência'!H36","v":0.70748299319727892},{"$f":"'CV Rotina <2A - procedência'!P36","v":1.1360544217687074},{"$f":"'CV Rotina <2A - procedência'!J36","v":1.0476190476190477},{"$f":"'CV Rotina <2A - procedência'!L36","v":1.0272108843537415},{"$f":"'CV Rotina <2A - procedência'!N36","v":1.1360544217687074},{"$f":"'CV Rotina <2A - procedência'!X36","v":1.1224489795918366},{"$f":"'CV Rotina <2A - procedência'!R36","v":1.1360544217687074},{"$f":"'CV Rotina <2A - procedência'!T36","v":0.91156462585034015},{"$f":"'CV Rotina <2A - procedência'!V36","v":0.97959183673469385},{"$f":"'CV Rotina <2A - procedência'!Z36","v":0.20408163265306123},1,6,7,4]
["Metropolitana","Itaguaçu",{"$f":"'CV Rotina <2A - procedência'!H37","v":0.69724770642201839},{"$f":"'CV Rotina <2A - procedência'!P37","v":1.0275229357798166},{"$f":"'CV Rotina <2A - procedência'!J37","v":0.88073394495412849},{"$f":"'CV Rotina <2A - procedência'!L37","v":0.88073394495412849},{"$f":"'CV Rotina <2A - procedência'!N37","v":1.036697247706422},{"$f":"'CV Rotina <2A - procedência'!X37","v":1.0458715596330275},{"$f":"'CV Rotina <2A - procedência'!R37","v":0.92660550458715596},{"$f":"'CV Rotina <2A - procedência'!T37","v":0.94495412844036697},{"$f":"'CV Rotina <2A - procedência'!V37","v":1.073394495412844},{"$f":"'CV Rotina <2A - procedência'!Z37","v":0.65137614678899081},1,3,4,2]
["Sul","Itapemirim",{"$f":"'CV Rotina <2A - procedência'!H38","v":0.48655913978494625},{"$f":"'CV Rotina <2A - procedência'!P38","v":0.87096774193548387},{"$f":"'CV Rotina <2A - procedência'!J38","v":0.92741935483870963},{"$f":"'CV Rotina <2A - procedência'!L38","v":0.92204301075268813},{"$f":"'CV Rotina <2A - procedência'!N38","v":0.95430107526881724},{"$f":"'CV Rotina <2A - procedência'!X38","v":0.978494623655914},{"$f":"'CV Rotina <2A - procedência'!R38","v":0.89784946236559138},{"$f":"'CV Rotina <2A - procedência'!T38","v":0.56182795698924726},{"$f":"'CV Rotina <2A - procedência'!V38","v":0.84677419354838712},{"$f":"'CV Rotina <2A - procedência'!Z38","v":0.38978494623655913},0,2,2,2]
["Metropolitana","Itarana",{"$f":"'CV Rotina <2A - procedência'!H39","v":0.91262135922330101},{"$f":"'CV Rotina <2A - procedência'!P39","v":0.93203883495145634},{"$f":"'CV Rotina <2A - procedência'!J39","v":0.95145631067961167},{"$f":"'CV Rotina <2A - procedência'!L39","v":0.95145631067961167},{"$f":"'CV Rotina <2A - procedência'!N39","v":0.91262135922330101},{"$f":"'CV Rotina <2A - procedência'!X39","v":1.0194174757281553},{"$f":"'CV Rotina <2A - procedência'!R39","v":0.90291262135922334},{"$f":"'CV Rotina <2A - procedência'!T39","v":0.98058252427184467},{"$f":"'CV Rotina <2A - procedência'!V39","v":0.72815533980582525},{"$f":"'CV Rotina <2A - procedência'!Z39","v":0.59223300970873782},2,4,6,3]
["Sul","Iúna",{"$f":"'CV Rotina <2A - procedência'!H40","v":0.66666666666666663},{"$f":"'CV Rotina <2A - procedência'!P40","v":0.93502824858757061},{"$f":"'CV Rotina <2A - procedência'!J40","v":0.90960451977401124},{"$f":"'CV Rotina <2A - procedência'!L40","v":0.903954802259887},{"$f":"'CV Rotina <2A - procedência'!N40","v":0.94350282485875703},{"$f":"'CV Rotina <2A - procedência'!X40","v":0.92937853107344637},{"$f":"'CV Rotina <2A - procedência'!R40","v":0.903954802259887},{"$f":"'CV Rotina <2A - procedência'!T40","v":0.87853107344632764},{"$f":"'CV Rotina <2A - procedência'!V40","v":0.67231638418079098},{"$f":"'CV Rotina <2A - procedência'!Z40","v":0.4463276836158192},1,0,1,0]
["Norte","Jaguaré",{"$f":"'CV Rotina <2A - procedência'!H41","v":0.75584415584415587},{"$f":"'CV Rotina <2A - procedência'!P41","v":0.88051948051948048},{"$f":"'CV Rotina <2A - procedência'!J41","v":0.88831168831168827},{"$f":"'CV Rotina <2A - procedência'!L41","v":0.88051948051948048},{"$f":"'CV Rotina <2A - procedência'!N41","v":0.89090909090909087},{"$f":"'CV Rotina <2A - procedência'!X41","v":0.97142857142857142},{"$f":"'CV Rotina <2A - procedência'!R41","v":0.85974025974025969},{"$f":"'CV Rotina <2A - procedência'!T41","v":0.81298701298701304},{"$f":"'CV Rotina <2A - procedência'!V41","v":0.74545454545454548},{"$f":"'CV Rotina <2A - procedência'!Z41","v":0.34285714285714286},0,1,1,1]
["Sul","Jerônimo Monteiro",{"$f":"'CV Rotina <2A - procedência'!H42","v":9.4017094017094016E-2},{"$f":"'CV Rotina <2A - procedência'!P42","v":0.97435897435897434},{"$f":"'CV Rotina <2A - procedência'!J42","v":1.0427350427350428},{"$f":"'CV Rotina <2A - procedência'!L42","v":1.0512820512820513},{"$f":"'CV Rotina <2A - procedência'!N42","v":0.97435897435897434},{"$f":"'CV Rotina <2A - procedência'!X42","v":1.0598290598290598},{"$f":"'CV Rotina <2A - procedência'!R42","v":0.97435897435897434},{"$f":"'CV Rotina <2A - procedência'!T42","v":0.99145299145299148},{"$f":"'CV Rotina <2A - procedência'!V42","v":1.0598290598290598},{"$f":"'CV Rotina <2A - procedência'!Z42","v":0.27350427350427353},1,7,8,4]
["Metropolitana","João Neiva",{"$f":"'CV Rotina <2A - procedência'!H43","v":0.27500000000000002},{"$f":"'CV Rotina <2A - procedência'!P43","v":1.0249999999999999},{"$f":"'CV Rotina <2A - procedência'!J43","v":0.95833333333333337},{"$f":"'CV Rotina <2A - procedência'!L43","v":0.97499999999999998},{"$f":"'CV Rotina <2A - procedência'!N43","v":1.0166666666666666},{"$f":"'CV Rotina <2A - procedência'!X43","v":1.2666666666666666},{"$f":"'CV Rotina <2A - procedência'!R43","v":0.96666666666666667},{"$f":"'CV Rotina <2A - procedência'!T43","v":1.0249999999999999},{"$f":"'CV Rotina <2A - procedência'!V43","v":0.94166666666666665},{"$f":"'CV Rotina <2A - procedência'!Z43","v":0.51666666666666672},1,6,7,4]
["Metropolitana","Laranja da Terra",{"$f":"'CV Rotina <2A - procedência'!H44","v":0.89552238805970152},{"$f":"'CV Rotina <2A - procedência'!P44","v":1.0149253731343284},{"$f":"'CV Rotina <2A - procedência'!J44","v":1.0746268656716418},{"$f":"'CV Rotina <2A - procedência'!L44","v":1.0746268656716418},{"$f":"'CV Rotina <2A - procedência'!N44","v":1.0298507462686568},{"$f":"'CV Rotina <2A - procedência'!X44","v":1.5522388059701493},{"$f":"'CV Rotina <2A - procedência'!R44","v":1.1343283582089552},{"$f":"'CV Rotina <2A - procedência'!T44","v":1.3134328358208955},{"$f":"'CV Rotina <2A - procedência'!V44","v":1.3731343283582089},{"$f":"'CV Rotina <2A - procedência'!Z44","v":0.97014925373134331},1,8,9,4]
["Central","Linhares",{"$f":"'CV Rotina <2A - procedência'!H45","v":0.93793445878848059},{"$f":"'CV Rotina <2A - procedência'!P45","v":0.86246276067527305},{"$f":"'CV Rotina <2A - procedência'!J45","v":0.81380337636544187},{"$f":"'CV Rotina <2A - procedência'!L45","v":0.8123138033763655},{"$f":"'CV Rotina <2A - procedência'!N45","v":0.86246276067527305},{"$f":"'CV Rotina <2A - procedência'!X45","v":0.8594836146971202},{"$f":"'CV Rotina <2A - procedência'!R45","v":0.83763654419066536},{"$f":"'CV Rotina <2A - procedência'!T45","v":0.67874875868917572},{"$f":"'CV Rotina <2A - procedência'!V45","v":0.78848063555114201},{"$f":"'CV Rotina <2A - procedência'!Z45","v":0.4016881827209533},1,0,1,0]
["Central","Mantenópolis",{"$f":"'CV Rotina <2A - procedência'!H46","v":0.5},{"$f":"'CV Rotina <2A - procedência'!P46","v":0.87931034482758619},{"$f":"'CV Rotina <2A - procedência'!J46","v":0.9568965517241379},{"$f":"'CV Rotina <2A - procedência'!L46","v":0.97413793103448276},{"$f":"'CV Rotina <2A - procedência'!N46","v":0.89655172413793105},{"$f":"'CV Rotina <2A - procedência'!X46","v":1.0689655172413792},{"$f":"'CV Rotina <2A - procedência'!R46","v":0.88793103448275867},{"$f":"'CV Rotina <2A - procedência'!T46","v":0.94827586206896552},{"$f":"'CV Rotina <2A - procedência'!V46","v":0.93103448275862066},{"$f":"'CV Rotina <2A - procedência'!Z46","v":0.47413793103448276},0,3,3,3]
["Sul","Marataízes",{"$f":"'CV Rotina <2A - procedência'!H47","v":0.42129629629629628},{"$f":"'CV Rotina <2A - procedência'!P47","v":1.0138888888888888},{"$f":"'CV Rotina <2A - procedência'!J47","v":1},{"$f":"'CV Rotina <2A - procedência'!L47","v":1},{"$f":"'CV Rotina <2A - procedência'!N47","v":1.0578703703703705},{"$f":"'CV Rotina <2A - procedência'!X47","v":1},{"$f":"'CV Rotina <2A - procedência'!R47","v":1.0023148148148149},{"$f":"'CV Rotina <2A - procedência'!T47","v":0.63888888888888884},{"$f":"'CV Rotina <2A - procedência'!V47","v":0.91666666666666663},{"$f":"'CV Rotina <2A - procedência'!Z47","v":0.4513888888888889},1,5,6,4]
["Metropolitana","Marechal Floriano",{"$f":"'CV Rotina <2A - procedência'!H48","v":0.20886075949367089},{"$f":"'CV Rotina <2A - procedência'!P48","v":1.0253164556962024},{"$f":"'CV Rotina <2A - procedência'!J48","v":0.97468354430379744},{"$f":"'CV Rotina <2A - procedência'!L48","v":0.96835443037974689},{"$f":"'CV Rotina <2A - procedência'!N48","v":1.0379746835443038},{"$f":"'CV Rotina <2A - procedência'!X48","v":1.0443037974683544},{"$f":"'CV Rotina <2A - procedência'!R48","v":1.0126582278481013},{"$f":"'CV Rotina <2A - procedência'!T48","v":0.79113924050632911},{"$f":"'CV Rotina <2A - procedência'!V48","v":1.0632911392405062},{"$f":"'CV Rotina <2A - procedência'!Z48","v":0.67721518987341767},1,6,7,4]
["Central","Marilândia",{"$f":"'CV Rotina <2A - procedência'!H49","v":0.45132743362831856},{"$f":"'CV Rotina <2A - procedência'!P49","v":0.96460176991150437},{"$f":"'CV Rotina <2A - procedência'!J49","v":0.84955752212389379},{"$f":"'CV Rotina <2A - procedência'!L49","v":0.84955752212389379},{"$f":"'CV Rotina <2A - procedência'!N49","v":0.8584070796460177},{"$f":"'CV Rotina <2A - procedência'!X49","v":0.95575221238938057},{"$f":"'CV Rotina <2A - procedência'!R49","v":0.93805309734513276},{"$f":"'CV Rotina <2A - procedência'!T49","v":0.94690265486725667},{"$f":"'CV Rotina <2A - procedência'!V49","v":0.92035398230088494},{"$f":"'CV Rotina <2A - procedência'!Z49","v":0.60176991150442483},1,1,2,1]
["Sul","Mimoso do Sul",{"$f":"'CV Rotina <2A - procedência'!H50","v":0.19},{"$f":"'CV Rotina <2A - procedência'!P50","v":0.72499999999999998},{"$f":"'CV Rotina <2A - procedência'!J50","v":0.7},{"$f":"'CV Rotina <2A - procedência'!L50","v":0.69499999999999995},{"$f":"'CV Rotina <2A - procedência'!N50","v":0.73499999999999999},{"$f":"'CV Rotina <2A - procedência'!X50","v":0.82},{"$f":"'CV Rotina <2A - procedência'!R50","v":0.68},{"$f":"'CV Rotina <2A - procedência'!T50","v":0.66},{"$f":"'CV Rotina <2A - procedência'!V50","v":0.66},{"$f":"'CV Rotina <2A - procedência'!Z50","v":0.41499999999999998},0,0,0,0]
["Norte","Montanha",{"$f":"'CV Rotina <2A - procedência'!H51","v":0.43274853801169588},{"$f":"'CV Rotina <2A - procedência'!P51","v":1.1345029239766082},{"$f":"'CV Rotina <2A - procedência'!J51","v":1.2280701754385965},{"$f":"'CV Rotina <2A - procedência'!L51","v":1.2456140350877194},{"$f":"'CV Rotina <2A - procedência'!N51","v":1.1578947368421053},{"$f":"'CV Rotina <2A - procedência'!X51","v":1.2163742690058479},{"$f":"'CV Rotina <2A - procedência'!R51","v":1.1754385964912282},{"$f":"'CV Rotina <2A - procedência'!T51","v":1.1403508771929824},{"$f":"'CV Rotina <2A - procedência'!V51","v":1.1228070175438596},{"$f":"'CV Rotina <2A - procedência'!Z51","v":0.59649122807017541},1,7,8,4]
["Norte","Mucurici",{"$f":"'CV Rotina <2A - procedência'!H52","v":0.19230769230769232},{"$f":"'CV Rotina <2A - procedência'!P52","v":1.1153846153846154},{"$f":"'CV Rotina <2A - procedência'!J52","v":1.1538461538461537},{"$f":"'CV Rotina <2A - procedência'!L52","v":1.1538461538461537},{"$f":"'CV Rotina <2A - procedência'!N52","v":1.1346153846153846},{"$f":"'CV Rotina <2A - procedência'!X52","v":1.3461538461538463},{"$f":"'CV Rotina <2A - procedência'!R52","v":1.0769230769230769},{"$f":"'CV Rotina <2A - procedência'!T52","v":1.3076923076923077},{"$f":"'CV Rotina <2A - procedência'!V52","v":0.94230769230769229},{"$f":"'CV Rotina <2A - procedência'!Z52","v":0.55769230769230771},1,6,7,4]
["Sul","Muniz Freire",{"$f":"'CV Rotina <2A - procedência'!H53","v":0.64596273291925466},{"$f":"'CV Rotina <2A - procedência'!P53","v":1.0807453416149069},{"$f":"'CV Rotina <2A - procedência'!J53","v":1.0559006211180124},{"$f":"'CV Rotina <2A - procedência'!L53","v":1.0248447204968945},{"$f":"'CV Rotina <2A - procedência'!N53","v":1.0745341614906831},{"$f":"'CV Rotina <2A - procedência'!X53","v":1.186335403726708},{"$f":"'CV Rotina <2A - procedência'!R53","v":1.0434782608695652},{"$f":"'CV Rotina <2A - procedência'!T53","v":1.0124223602484472},{"$f":"'CV Rotina <2A - procedência'!V53","v":1.0248447204968945},{"$f":"'CV Rotina <2A - procedência'!Z53","v":0.44720496894409939},1,7,8,4]
["Sul","Muqui",{"$f":"'CV Rotina <2A - procedência'!H54","v":0.13793103448275862},{"$f":"'CV Rotina <2A - procedência'!P54","v":1.0172413793103448},{"$f":"'CV Rotina <2A - procedência'!J54","v":1.146551724137931},{"$f":"'CV Rotina <2A - procedência'!L54","v":1.146551724137931},{"$f":"'CV Rotina <2A - procedência'!N54","v":1},{"$f":"'CV Rotina <2A - procedência'!X54","v":1.146551724137931},{"$f":"'CV Rotina <2A - procedência'!R54","v":1.0086206896551724},{"$f":"'CV Rotina <2A - procedência'!T54","v":1.0517241379310345},{"$f":"'CV Rotina <2A - procedência'!V54","v":0.81896551724137934},{"$f":"'CV Rotina <2A - procedência'!Z54","v":0.43965517241379309},1,6,7,4]
["Norte","Nova Venécia",{"$f":"'CV Rotina <2A - procedência'!H55","v":0.64742268041237117},{"$f":"'CV Rotina <2A - procedência'!P55","v":0.92989690721649487},{"$f":"'CV Rotina <2A - procedência'!J55","v":0.97113402061855669},{"$f":"'CV Rotina <2A - procedência'!L55","v":0.97113402061855669},{"$f":"'CV Rotina <2A - procedência'!N55","v":0.91958762886597933},{"$f":"'CV Rotina <2A - procedência'!X55","v":1.1030927835051547},{"$f":"'CV Rotina <2A - procedência'!R55","v":0.97525773195876286},{"$f":"'CV Rotina <2A - procedência'!T55","v":0.92371134020618562},{"$f":"'CV Rotina <2A - procedência'!V55","v":0.83092783505154644},{"$f":"'CV Rotina <2A - procedência'!Z55","v":0.47010309278350515},1,4,5,3]
["Central","Pancas",{"$f":"'CV Rotina <2A - procedência'!H56","v":0.49358974358974361},{"$f":"'CV Rotina <2A - procedência'!P56","v":1.0256410256410255},{"$f":"'CV Rotina <2A - procedência'!J56","v":1.0512820512820513},{"$f":"'CV Rotina <2A - procedência'!L56","v":1.0512820512820513},{"$f":"'CV Rotina <2A - procedência'!N56","v":1.0320512820512822},{"$f":"'CV Rotina <2A - procedência'!X56","v":1},{"$f":"'CV Rotina <2A - procedência'!R56","v":1.0320512820512822},{"$f":"'CV Rotina <2A - procedência'!T56","v":1.0064102564102564},{"$f":"'CV Rotina <2A - procedência'!V56","v":0.97435897435897434},{"$f":"'CV Rotina <2A - procedência'!Z56","v":0.73717948717948723},1,7,8,4]
["Norte","Pedro Canário",{"$f":"'CV Rotina <2A - procedência'!H57","v":7.2649572649572655E-2},{"$f":"'CV Rotina <2A - procedência'!P57","v":1.0042735042735043},{"$f":"'CV Rotina <2A - procedência'!J57","v":1.0726495726495726},{"$f":"'CV Rotina <2A - procedência'!L57","v":1.0641025641025641},{"$f":"'CV Rotina <2A - procedência'!N57","v":1.0213675213675213},{"$f":"'CV Rotina <2A - procedência'!X57","v":1.1794871794871795},{"$f":"'CV Rotina <2A - procedência'!R57","v":1.0555555555555556},{"$f":"'CV Rotina <2A - procedência'!T57","v":0.88461538461538458},{"$f":"'CV Rotina <2A - procedência'!V57","v":0.72222222222222221},{"$f":"'CV Rotina <2A - procedência'!Z57","v":0.55128205128205132},1,5,6,4]
["Norte","Pinheiros",{"$f":"'CV Rotina <2A - procedência'!H58","v":4.7619047619047616E-2},{"$f":"'CV Rotina <2A - procedência'!P58","v":0.94047619047619047},{"$f":"'CV Rotina <2A - procedência'!J58","v":1},{"$f":"'CV Rotina <2A - procedência'!L58","v":0.98412698412698407},{"$f":"'CV Rotina <2A - procedência'!N58","v":0.93650793650793651},{"$f":"'CV Rotina <2A - procedência'!X58","v":0.94841269841269837},{"$f":"'CV Rotina <2A - procedência'!R58","v":0.90873015873015872},{"$f":"'CV Rotina <2A - procedência'!T58","v":0.81349206349206349},{"$f":"'CV Rotina <2A - procedência'!V58","v":0.76984126984126988},{"$f":"'CV Rotina <2A - procedência'!Z58","v":0.31349206349206349},1,2,3,2]
["Sul","Piúma",{"$f":"'CV Rotina <2A - procedência'!H59","v":0.60679611650485432},{"$f":"'CV Rotina <2A - procedência'!P59","v":0.99029126213592233},{"$f":"'CV Rotina <2A - procedência'!J59","v":1},{"$f":"'CV Rotina <2A - procedência'!L59","v":0.99514563106796117},{"$f":"'CV Rotina <2A - procedência'!N59","v":1.0533980582524272},{"$f":"'CV Rotina <2A - procedência'!X59","v":0.93689320388349517},{"$f":"'CV Rotina <2A - procedência'!R59","v":0.90291262135922334},{"$f":"'CV Rotina <2A - procedência'!T59","v":0.66504854368932043},{"$f":"'CV Rotina <2A - procedência'!V59","v":0.80097087378640774},{"$f":"'CV Rotina <2A - procedência'!Z59","v":0.39320388349514562},1,3,4,3]
["Norte","Ponto Belo",{"$f":"'CV Rotina <2A - procedência'!H60","v":0.13461538461538461},{"$f":"'CV Rotina <2A - procedência'!P60","v":1.0769230769230769},{"$f":"'CV Rotina <2A - procedência'!J60","v":1.0192307692307692},{"$f":"'CV Rotina <2A - procedência'!L60","v":1},{"$f":"'CV Rotina <2A - procedência'!N60","v":1.0576923076923077},{"$f":"'CV Rotina <2A - procedência'!X60","v":1.3269230769230769},{"$f":"'CV Rotina <2A - procedência'!R60","v":0.96153846153846156},{"$f":"'CV Rotina <2A - procedência'!T60","v":1.0961538461538463},{"$f":"'CV Rotina <2A - procedência'!V60","v":0.69230769230769229},{"$f":"'CV Rotina <2A - procedência'!Z60","v":0.48076923076923078},1,6,7,4]
["Sul","Presidente Kennedy",{"$f":"'CV Rotina <2A - procedência'!H61","v":7.9754601226993863E-2},{"$f":"'CV Rotina <2A - procedência'!P61","v":0.83435582822085885},{"$f":"'CV Rotina <2A - procedência'!J61","v":0.76073619631901845},{"$f":"'CV Rotina <2A - procedência'!L61","v":0.77300613496932513},{"$f":"'CV Rotina <2A - procedência'!N61","v":0.8404907975460123},{"$f":"'CV Rotina <2A - procedência'!X61","v":1.0490797546012269},{"$f":"'CV Rotina <2A - procedência'!R61","v":0.87730061349693256},{"$f":"'CV Rotina <2A - procedência'!T61","v":0.68711656441717794},{"$f":"'CV Rotina <2A - procedência'!V61","v":0.92024539877300615},{"$f":"'CV Rotina <2A - procedência'!Z61","v":0.44785276073619634},0,1,1,1]
["Central","Rio Bananal",{"$f":"'CV Rotina <2A - procedência'!H62","v":0.18139534883720931},{"$f":"'CV Rotina <2A - procedência'!P62","v":1},{"$f":"'CV Rotina <2A - procedência'!J62","v":1.0093023255813953},{"$f":"'CV Rotina <2A - procedência'!L62","v":1.0046511627906978},{"$f":"'CV Rotina <2A - procedência'!N62","v":0.97209302325581393},{"$f":"'CV Rotina <2A - procedência'!X62","v":1.1813953488372093},{"$f":"'CV Rotina <2A - procedência'!R62","v":0.86976744186046506},{"$f":"'CV Rotina <2A - procedência'!T62","v":0.96279069767441861},{"$f":"'CV Rotina <2A - procedência'!V62","v":1.0883720930232559},{"$f":"'CV Rotina <2A - procedência'!Z62","v":0.55348837209302326},1,6,7,4]
["Sul","Rio Novo do Sul",{"$f":"'CV Rotina <2A - procedência'!H63","v":0.36363636363636365},{"$f":"'CV Rotina <2A - procedência'!P63","v":0.98701298701298701},{"$f":"'CV Rotina <2A - procedência'!J63","v":1.1688311688311688},{"$f":"'CV Rotina <2A - procedência'!L63","v":1.1428571428571428},{"$f":"'CV Rotina <2A - procedência'!N63","v":0.97402597402597402},{"$f":"'CV Rotina <2A - procedência'!X63","v":1.1428571428571428},{"$f":"'CV Rotina <2A - procedência'!R63","v":1.051948051948052},{"$f":"'CV Rotina <2A - procedência'!T63","v":0.97402597402597402},{"$f":"'CV Rotina <2A - procedência'!V63","v":1.0909090909090908},{"$f":"'CV Rotina <2A - procedência'!Z63","v":0.66233766233766234},1,7,8,4]
["Metropolitana","Santa Leopoldina",{"$f":"'CV Rotina <2A - procedência'!H64","v":0.28985507246376813},{"$f":"'CV Rotina <2A - procedência'!P64","v":1.144927536231884},{"$f":"'CV Rotina <2A - procedência'!J64","v":1.1304347826086956},{"$f":"'CV Rotina <2A - procedência'!L64","v":1.144927536231884},{"$f":"'CV Rotina <2A - procedência'!N64","v":1.1159420289855073},{"$f":"'CV Rotina <2A - procedência'!X64","v":1.2463768115942029},{"$f":"'CV Rotina <2A - procedência'!R64","v":1.1594202898550725},{"$f":"'CV Rotina <2A - procedência'!T64","v":1.0434782608695652},{"$f":"'CV Rotina <2A - procedência'!V64","v":1.3623188405797102},{"$f":"'CV Rotina <2A - procedência'!Z64","v":0.21739130434782608},1,7,8,4]
["Metropolitana","Santa Maria de Jetibá",{"$f":"'CV Rotina <2A - procedência'!H65","v":0.76200000000000001},{"$f":"'CV Rotina <2A - procedência'!P65","v":0.89400000000000002},{"$f":"'CV Rotina <2A - procedência'!J65","v":0.85199999999999998},{"$f":"'CV Rotina <2A - procedência'!L65","v":0.85},{"$f":"'CV Rotina <2A - procedência'!N65","v":0.86799999999999999},{"$f":"'CV Rotina <2A - procedência'!X65","v":0.91800000000000004},{"$f":"'CV Rotina <2A - procedência'!R65","v":0.874},{"$f":"'CV Rotina <2A - procedência'!T65","v":0.71199999999999997},{"$f":"'CV Rotina <2A - procedência'!V65","v":0.94599999999999995},{"$f":"'CV Rotina <2A - procedência'!Z65","v":0.39200000000000002},0,0,0,0]
["Metropolitana","Santa Teresa",{"$f":"'CV Rotina <2A - procedência'!H66","v":0.70940170940170943},{"$f":"'CV Rotina <2A - procedência'!P66","v":0.89743589743589747},{"$f":"'CV Rotina <2A - procedência'!J66","v":0.89743589743589747},{"$f":"'CV Rotina <2A - procedência'!L66","v":0.89743589743589747},{"$f":"'CV Rotina <2A - procedência'!N66","v":0.93162393162393164},{"$f":"'CV Rotina <2A - procedência'!X66","v":0.89316239316239321},{"$f":"'CV Rotina <2A - procedência'!R66","v":0.84615384615384615},{"$f":"'CV Rotina <2A - procedência'!T66","v":0.72222222222222221},{"$f":"'CV Rotina <2A - procedência'!V66","v":0.76923076923076927},{"$f":"'CV Rotina <2A - procedência'!Z66","v":0.51709401709401714},0,0,0,0]
["Central","São Domingos do Norte",{"$f":"'CV Rotina <2A - procedência'!H67","v":0.4823529411764706},{"$f":"'CV Rotina <2A - procedência'!P67","v":1.0117647058823529},{"$f":"'CV Rotina <2A - procedência'!J67","v":0.94117647058823528},{"$f":"'CV Rotina <2A - procedência'!L67","v":0.94117647058823528},{"$f":"'CV Rotina <2A - procedência'!N67","v":1.0352941176470589},{"$f":"'CV Rotina <2A - procedência'!X67","v":1.0352941176470589},{"$f":"'CV Rotina <2A - procedência'!R67","v":0.95294117647058818},{"$f":"'CV Rotina <2A - procedência'!T67","v":0.95294117647058818},{"$f":"'CV Rotina <2A - procedência'!V67","v":0.61176470588235299},{"$f":"'CV Rotina <2A - procedência'!Z67","v":0.38823529411764707},{"$f":"COUNTIF(C67:D67,\">=0,9\")","v":1},{"$f":"COUNTIFS(E67:L67,\">=0,95\")","v":4},5,2]
["Central","São Gabriel da Palha",{"$f":"'CV Rotina <2A - procedência'!H68","v":0.58381502890173409},{"$f":"'CV Rotina <2A - procedência'!P68","v":0.9277456647398844},{"$f":"'CV Rotina <2A - procedência'!J68","v":0.90751445086705207},{"$f":"'CV Rotina <2A - procedência'!L68","v":0.91329479768786126},{"$f":"'CV Rotina <2A - procedência'!N68","v":0.95953757225433522},{"$f":"'CV Rotina <2A - procedência'!X68","v":0.86127167630057799},{"$f":"'CV Rotina <2A - procedência'!R68","v":0.92485549132947975},{"$f":"'CV Rotina <2A - procedência'!T68","v":0.73121387283236994},{"$f":"'CV Rotina <2A - procedência'!V68","v":0.7832369942196532},{"$f":"'CV Rotina <2A - procedência'!Z68","v":0.37861271676300579},1,1,{"$f":"SUM(M68:N68)","v":2},{"$f":"COUNTIF(E68:H68,\">=0,95\")","v":1}]
["Sul","São José do Calçado",{"$f":"'CV Rotina <2A - procedência'!H69","v":0.71951219512195119},{"$f":"'CV Rotina <2A - procedência'!P69","v":0.92682926829268297},{"$f":"'CV Rotina <2A - procedência'!J69","v":1.1097560975609757},{"$f":"'CV Rotina <2A - procedência'!L69","v":1.1097560975609757},{"$f":"'CV Rotina <2A - procedência'!N69","v":1.0365853658536586},{"$f":"'CV Rotina <2A - procedência'!X69","v":1.2317073170731707},{"$f":"'CV Rotina <2A - procedência'!R69","v":1.1219512195121952},{"$f":"'CV Rotina <2A - procedência'!T69","v":0.87804878048780488},{"$f":"'CV Rotina <2A - procedência'!V69","v":0.90243902439024393},{"$f":"'CV Rotina <2A - procedência'!Z69","v":0.52439024390243905},1,5,6,4]
["Norte","São Mateus",{"$f":"'CV Rotina <2A - procedência'!H70","v":1.4289580514208389},{"$f":"'CV Rotina <2A - procedência'!P70","v":0.84776725304465494},{"$f":"'CV Rotina <2A - procedência'!J70","v":0.8700947225981055},{"$f":"'CV Rotina <2A - procedência'!L70","v":0.85385656292286871},{"$f":"'CV Rotina <2A - procedência'!N70","v":0.91204330175913395},{"$f":"'CV Rotina <2A - procedência'!X70","v":0.85588633288227334},{"$f":"'CV Rotina <2A - procedência'!R70","v":0.81393775372124488},{"$f":"'CV Rotina <2A - procedência'!T70","v":0.63870094722598103},{"$f":"'CV Rotina <2A - procedência'!V70","v":0.7138024357239513},{"$f":"'CV Rotina <2A - procedência'!Z70","v":0.35317997293640052},1,0,1,0]
["Central","São Roque do Canaã",{"$f":"'CV Rotina <2A - procedência'!H71","v":0.29629629629629628},{"$f":"'CV Rotina <2A - procedência'!P71","v":0.79629629629629628},{"$f":"'CV Rotina <2A - procedência'!J71","v":0.81481481481481477},{"$f":"'CV Rotina <2A - procedência'!L71","v":0.81481481481481477},{"$f":"'CV Rotina <2A - procedência'!N71","v":0.71296296296296291},{"$f":"'CV Rotina <2A - procedência'!X71","v":1.0092592592592593},{"$f":"'CV Rotina <2A - procedência'!R71","v":0.83333333333333337},{"$f":"'CV Rotina <2A - procedência'!T71","v":0.77777777777777779},{"$f":"'CV Rotina <2A - procedência'!V71","v":0.87962962962962965},{"$f":"'CV Rotina <2A - procedência'!Z71","v":0.37962962962962965},0,1,1,1]
["Metropolitana","Serra",{"$f":"'CV Rotina <2A - procedência'!H72","v":1.1423001949317739},{"$f":"'CV Rotina <2A - procedência'!P72","v":0.84334573808258018},{"$f":"'CV Rotina <2A - procedência'!J72","v":0.81676413255360625},{"$f":"'CV Rotina <2A - procedência'!L72","v":0.80914407230196705},{"$f":"'CV Rotina <2A - procedência'!N72","v":0.8699273436115541},{"$f":"'CV Rotina <2A - procedência'!X72","v":0.85273790536948435},{"$f":"'CV Rotina <2A - procedência'!R72","v":0.82349813928761295},{"$f":"'CV Rotina <2A - procedência'!T72","v":0.64114832535885169},{"$f":"'CV Rotina <2A - procedência'!V72","v":0.48768385610490872},{"$f":"'CV Rotina <2A - procedência'!Z72","v":0.26758816232500443},1,0,1,0]
["Central","Sooretama",{"$f":"'CV Rotina <2A - procedência'!H73","v":9.3167701863354033E-2},{"$f":"'CV Rotina <2A - procedência'!P73","v":1.0217391304347827},{"$f":"'CV Rotina <2A - procedência'!J73","v":0.9285714285714286},{"$f":"'CV Rotina <2A - procedência'!L73","v":0.93478260869565222},{"$f":"'CV Rotina <2A - procedência'!N73","v":1.0248447204968945},{"$f":"'CV Rotina <2A - procedência'!X73","v":0.97826086956521741},{"$f":"'CV Rotina <2A - procedência'!R73","v":0.86335403726708071},{"$f":"'CV Rotina <2A - procedência'!T73","v":0.81987577639751552},{"$f":"'CV Rotina <2A - procedência'!V73","v":0.92546583850931674},{"$f":"'CV Rotina <2A - procedência'!Z73","v":0.34161490683229812},1,2,3,2]
["Sul","Vargem Alta",{"$f":"'CV Rotina <2A - procedência'!H74","v":9.8522167487684734E-2},{"$f":"'CV Rotina <2A - procedência'!P74","v":0.90147783251231528},{"$f":"'CV Rotina <2A - procedência'!J74","v":0.80788177339901479},{"$f":"'CV Rotina <2A - procedência'!L74","v":0.80788177339901479},{"$f":"'CV Rotina <2A - procedência'!N74","v":0.8719211822660099},{"$f":"'CV Rotina <2A - procedência'!X74","v":0.95566502463054193},{"$f":"'CV Rotina <2A - procedência'!R74","v":0.87684729064039413},{"$f":"'CV Rotina <2A - procedência'!T74","v":0.77832512315270941},{"$f":"'CV Rotina <2A - procedência'!V74","v":0.88177339901477836},{"$f":"'CV Rotina <2A - procedência'!Z74","v":0.43842364532019706},1,1,2,1]
["Metropolitana","Venda Nova do Imigrante",{"$f":"'CV Rotina <2A - procedência'!H75","v":1.1948529411764706},{"$f":"'CV Rotina <2A - procedência'!P75","v":0.9375},{"$f":"'CV Rotina <2A - procedência'!J75","v":1.0698529411764706},{"$f":"'CV Rotina <2A - procedência'!L75","v":1.0698529411764706},{"$f":"'CV Rotina <2A - procedência'!N75","v":0.9595588235294118},{"$f":"'CV Rotina <2A - procedência'!X75","v":1.2647058823529411},{"$f":"'CV Rotina <2A - procedência'!R75","v":0.97058823529411764},{"$f":"'CV Rotina <2A - procedência'!T75","v":1.0110294117647058},{"$f":"'CV Rotina <2A - procedência'!V75","v":0.75735294117647056},{"$f":"'CV Rotina <2A - procedência'!Z75","v":0.4889705882352941},2,6,8,4]
["Metropolitana","Viana",{"$f":"'CV Rotina <2A - procedência'!H76","v":0.1744186046511628},{"$f":"'CV Rotina <2A - procedência'!P76","v":0.95930232558139539},{"$f":"'CV Rotina <2A - procedência'!J76","v":0.93895348837209303},{"$f":"'CV Rotina <2A - procedência'!L76","v":0.92151162790697672},{"$f":"'CV Rotina <2A - procedência'!N76","v":1.0087209302325582},{"$f":"'CV Rotina <2A - procedência'!X76","v":0.93023255813953487},{"$f":"'CV Rotina <2A - procedência'!R76","v":0.97383720930232553},{"$f":"'CV Rotina <2A - procedência'!T76","v":0.66715116279069764},{"$f":"'CV Rotina <2A - procedência'!V76","v":0.83139534883720934},{"$f":"'CV Rotina <2A - procedência'!Z76","v":0.26889534883720928},1,2,3,1]
["Norte","Vila Pavão",{"$f":"'CV Rotina <2A - procedência'!H77","v":0.57317073170731703},{"$f":"'CV Rotina <2A - procedência'!P77","v":0.8902439024390244},{"$f":"'CV Rotina <2A - procedência'!J77","v":0.91463414634146345},{"$f":"'CV Rotina <2A - procedência'!L77","v":0.90243902439024393},{"$f":"'CV Rotina <2A - procedência'!N77","v":0.8902439024390244},{"$f":"'CV Rotina <2A - procedência'!X77","v":1.1341463414634145},{"$f":"'CV Rotina <2A - procedência'!R77","v":0.95121951219512191},{"$f":"'CV Rotina <2A - procedência'!T77","v":0.91463414634146345},{"$f":"'CV Rotina <2A - procedência'!V77","v":1.1585365853658536},{"$f":"'CV Rotina <2A - procedência'!Z77","v":0.52439024390243905},0,3,3,1]
["Central","Vila Valério",{"$f":"'CV Rotina <2A - procedência'!H78","v":0.28191489361702127},{"$f":"'CV Rotina <2A - procedência'!P78","v":0.94148936170212771},{"$f":"'CV Rotina <2A - procedência'!J78","v":0.88829787234042556},{"$f":"'CV Rotina <2A - procedência'!L78","v":0.87234042553191493},{"$f":"'CV Rotina <2A - procedência'!N78","v":0.93085106382978722},{"$f":"'CV Rotina <2A - procedência'!X78","v":1.0053191489361701},{"$f":"'CV Rotina <2A - procedência'!R78","v":0.95744680851063835},{"$f":"'CV Rotina <2A - procedência'!T78","v":0.88297872340425532},{"$f":"'CV Rotina <2A - procedência'!V78","v":0.83510638297872342},{"$f":"'CV Rotina <2A - procedência'!Z78","v":0.37234042553191488},1,2,3,1]
["Metropolitana","Vila Velha",{"$f":"'CV Rotina <2A - procedência'!H79","v":0.75302044609665431},{"$f":"'CV Rotina <2A - procedência'!P79","v":0.83759293680297398},{"$f":"'CV Rotina <2A - procedência'!J79","v":0.80134758364312264},{"$f":"'CV Rotina <2A - procedência'!L79","v":0.80134758364312264},{"$f":"'CV Rotina <2A - procedência'!N79","v":0.85269516728624539},{"$f":"'CV Rotina <2A - procedência'!X79","v":0.88382899628252787},{"$f":"'CV Rotina <2A - procedência'!R79","v":0.82551115241635686},{"$f":"'CV Rotina <2A - procedência'!T79","v":0.65381040892193309},{"$f":"'CV Rotina <2A - procedência'!V79","v":0.7367565055762082},{"$f":"'CV Rotina <2A - procedência'!Z79","v":0.36802973977695169},0,0,0,0]
["Metropolitana","Vitória",{"$f":"'CV Rotina <2A - procedência'!H80","v":1.9429713040319652},{"$f":"'CV Rotina <2A - procedência'!P80","v":1.0483109335270613},{"$f":"'CV Rotina <2A - procedência'!J80","v":1.1209589538685072},{"$f":"'CV Rotina <2A - procedência'!L80","v":1.1205957137667999},{"$f":"'CV Rotina <2A - procedência'!N80","v":1.0998910279694878},{"$f":"'CV Rotina <2A - procedência'!X80","v":1.1514711224119143},{"$f":"'CV Rotina <2A - procedência'!R80","v":1.0512168543407192},{"$f":"'CV Rotina <2A - procedência'!T80","v":0.72938612422811477},{"$f":"'CV Rotina <2A - procedência'!V80","v":1.0940791863421722},{"$f":"'CV Rotina <2A - procedência'!Z80","v":0.57065019978205589},2,6,8,4]
[]
[null,"Total Norte",{"$f":"'CV Rotina <2A - procedência'!H82","v":0.78815848716794235},{"$f":"'CV Rotina <2A - procedência'!P82","v":0.91602881584871676},{"$f":"'CV Rotina <2A - procedência'!J82","v":0.92030616839261592},{"$f":"'CV Rotina <2A - procedência'!L82","v":0.91310220621341742},{"$f":"'CV Rotina <2A - procedência'!N82","v":0.94416929311121112},{"$f":"'CV Rotina <2A - procedência'!X82","v":0.97073390364700585},{"$f":"'CV Rotina <2A - procedência'!R82","v":0.90252138676271954},{"$f":"'CV Rotina <2A - procedência'!T82","v":0.78320576316974333},{"$f":"'CV Rotina <2A - procedência'!V82","v":0.7660963529941468},{"$f":"'CV Rotina <2A - procedência'!Z82","v":0.41355245384961731},{"$f":"COUNTIF(C82:D82,\">=0,9\")","v":1},{"$f":"COUNTIFS(E82:L82,\">=0,95\")","v":1},{"$f":"SUM(M82:N82)","v":2},{"$f":"COUNTIF(E82:H82,\">=0,95\")","v":1}]
[null,"Total Central",{"$f":"'CV Rotina <2A - procedência'!H83","v":0.96730094217624241},{"$f":"'CV Rotina <2A - procedência'!P83","v":0.93090707555883978},{"$f":"'CV Rotina <2A - procedência'!J83","v":0.90504341400332533},{"$f":"'CV Rotina <2A - procedência'!L83","v":0.90208756696840942},{"$f":"'CV Rotina <2A - procedência'!N83","v":0.94106779974136334},{"$f":"'CV Rotina <2A - procedência'!X83","v":0.95603177535562534},{"$f":"'CV Rotina <2A - procedência'!R83","v":0.89913171993349339},{"$f":"'CV Rotina <2A - procedência'!T83","v":0.77738777018289307},{"$f":"'CV Rotina <2A - procedência'!V83","v":0.82597450581932386},{"$f":"'CV Rotina <2A - procedência'!Z83","v":0.43968224644374654},{"$f":"COUNTIF(C83:D83,\">=0,9\")","v":2},{"$f":"COUNTIFS(E83:L83,\">=0,95\")","v":1},{"$f":"SUM(M83:N83)","v":3},{"$f":"COUNTIF(E83:H83,\">=0,95\")","v":1}]
[null,"Total Metropolitana",{"$f":"'CV Rotina <2A - procedência'!H84","v":0.94323261219381371},{"$f":"'CV Rotina <2A - procedência'!P84","v":0.9027802610405864},{"$f":"'CV Rotina <2A - procedência'!J84","v":0.88637582692651529},{"$f":"'CV Rotina <2A - procedência'!L84","v":0.88119077418201319},{"$f":"'CV Rotina <2A - procedência'!N84","v":0.92955480064366169},{"$f":"'CV Rotina <2A - procedência'!X84","v":0.94484176649383156},{"$f":"'CV Rotina <2A - procedência'!R84","v":0.88758269265152867},{"$f":"'CV Rotina <2A - procedência'!T84","v":0.69881995351332027},{"$f":"'CV Rotina <2A - procedência'!V84","v":0.74646880028607188},{"$f":"'CV Rotina <2A - procedência'!Z84","v":0.38329161451814769},{"$f":"COUNTIF(C84:D84,\">=0,9\")","v":2},{"$f":"COUNTIFS(E84:L84,\">=0,95\")","v":0},{"$f":"SUM(M84:N84)","v":2},{"$f":"COUNTIF(E84:H84,\">=0,95\")","v":0}]
[null,"Total Sul",{"$f":"'CV Rotina <2A - procedência'!H85","v":0.93297417208049438},{"$f":"'CV Rotina <2A - procedência'!P85","v":0.94739344002535253},{"$f":"'CV Rotina <2A - procedência'!J85","v":0.93852004436697833},{"$f":"'CV Rotina <2A - procedência'!L85","v":0.93344953256219299},{"$f":"'CV Rotina <2A - procedência'!N85","v":0.97084455712248452},{"$f":"'CV Rotina <2A - procedência'!X85","v":0.998257011567105},{"$f":"'CV Rotina <2A - procedência'!R85","v":0.92489304389161786},{"$f":"'CV Rotina <2A - procedência'!T85","v":0.75202028204721916},{"$f":"'CV Rotina <2A - procedência'!V85","v":0.86071937886230387},{"$f":"'CV Rotina <2A - procedência'!Z85","v":0.39074631595626685},{"$f":"COUNTIF(C85:D85,\">=0,9\")","v":2},{"$f":"COUNTIFS(E85:L85,\">=0,95\")","v":2},{"$f":"SUM(M85:N85)","v":4},{"$f":"COUNTIF(E85:H85,\">=0,95\")","v":2}]
[null,"Total Espírito Santo",{"$f":"'CV Rotina <2A - procedência'!H86","v":0.92705900669469099},{"$f":"'CV Rotina <2A - procedência'!P86","v":0.91556385904821214},{"$f":"'CV Rotina <2A - procedência'!J86","v":0.90144792153199438},{"$f":"'CV Rotina <2A - procedência'!L86","v":0.89636203227982769},{"$f":"'CV Rotina <2A - procedência'!N86","v":0.93961803933779642},{"$f":"'CV Rotina <2A - procedência'!X86","v":0.95814520732783226},{"$f":"'CV Rotina <2A - procedência'!R86","v":0.89703669105817629},{"$f":"'CV Rotina <2A - procedência'!T86","v":0.72829415122735996},{"$f":"'CV Rotina <2A - procedência'!V86","v":0.77860812704343763},{"$f":"'CV Rotina <2A - procedência'!Z86","v":0.39592090923244588},{"$f":"COUNTIF(C86:D86,\">=0,9\")","v":2},{"$f":"COUNTIFS(E86:L86,\">=0,95\")","v":1},{"$f":"SUM(M86:N86)","v":3},{"$f":"COUNTIF(E86:H86,\">=0,95\")","v":1}]
[]
[]
["Fonte: SIPNI/DATASUS, em 09 de junho de 2023.*"]
[" Vacina e Confia, em 12 de junho de 2023.**"]
["*Dados referentes às doses aplicadas pelas clínicas particulares de janeiro a maio de 2023"]
["**Dados referente às doses aplicadas no período de janeiro a maio de 2023"]
["Cobertura Calculada por município de vacinação"]
["1 População proporcional extraída do MS/SVS/DASIS - Sistema de Informações sobre Nascidos Vivos - SINASC"]
["2000 a 2021 – Estimativas preliminares elaboradas pelo Ministério da Saúde/SVS/DASNT/CGIAE"]
[" Nota: Dados preliminares 2021"]

{"sheet":"cálculos2","index":11,"n_rows":96,"n_cols":16,"rows_kept":96,"cut":false,"hidden":true,"merged":[[0,2,0,3],[0,4,0,11]]}
[null,null,0.9,null,0.95]
["Regional ","Município","Cobertura Vacinal BCG","Cobertura Vacinal Rotavírus","Cobertura Vacinal Pentavalente","Cobertura Vacinal Poliomielite ","Cobertura Vacinal Pneumo 10","Cobertura Vacinal Tríplice Viral","Cobertura Vacinal Meningo C","Cobertura Vacinal Febre Amarela","Cobertura Vacinal Hepatite A","Cobertura Varicela","META 90%","META 95%","ATINGIRAM META","PQA-VS"]
["Metropolitana","Afonso Cláudio",{"$f":"'CV Rotina <2A - residência'!H3","v":0.80781758957654726},{"$f":"'CV Rotina <2A - residência'!P3","v":0.88925081433224751},{"$f":"'CV Rotina <2A - residência'!J3","v":0.94788273615635177},{"$f":"'CV Rotina <2A - residência'!L3","v":0.96742671009771986},{"$f":"'CV Rotina <2A - residência'!N3","v":0.89576547231270354},{"$f":"'CV Rotina <2A - residência'!X3","v":1.0162866449511401},{"$f":"'CV Rotina <2A - residência'!R3","v":0.91205211726384361},{"$f":"'CV Rotina <2A - residência'!T3","v":0.90228013029315957},{"$f":"'CV Rotina <2A - residência'!V3","v":0.94462540716612375},{"$f":"'CV Rotina <2A - residência'!Z3","v":0.47557003257328989},{"$f":"COUNTIF(C3:D3,\">=0,9\")","v":0},{"$f":"COUNTIFS(E3:L3,\">=0,95\")","v":2},{"$f":"SUM(M3:N3)","v":2},{"$f":"COUNTIF(E3:H3,\">=0,95\")","v":2}]
["Norte","Água Doce do Norte",{"$f":"'CV Rotina <2A - residência'!H4","v":0.88690476190476186},{"$f":"'CV Rotina <2A - residência'!P4","v":0.8214285714285714},{"$f":"'CV Rotina <2A - residência'!J4","v":0.7857142857142857},{"$f":"'CV Rotina <2A - residência'!L4","v":0.7678571428571429},{"$f":"'CV Rotina <2A - residência'!N4","v":0.84523809523809523},{"$f":"'CV Rotina <2A - residência'!X4","v":0.68452380952380953},{"$f":"'CV Rotina <2A - residência'!R4","v":0.7857142857142857},{"$f":"'CV Rotina <2A - residência'!T4","v":0.54166666666666663},{"$f":"'CV Rotina <2A - residência'!V4","v":0.6071428571428571},{"$f":"'CV Rotina <2A - residência'!Z4","v":0.21428571428571427},0,0,{"$f":"SUM(M4:N4)","v":0},{"$f":"COUNTIF(E4:H4,\">=0,95\")","v":0}]
["Central","Águia Branca",{"$f":"'CV Rotina <2A - residência'!H5","v":0.90225563909774431},{"$f":"'CV Rotina <2A - residência'!P5","v":0.98496240601503759},{"$f":"'CV Rotina <2A - residência'!J5","v":0.90977443609022557},{"$f":"'CV Rotina <2A - residência'!L5","v":0.91729323308270672},{"$f":"'CV Rotina <2A - residência'!N5","v":0.99248120300751874},{"$f":"'CV Rotina <2A - residência'!X5","v":0.84962406015037595},{"$f":"'CV Rotina <2A - residência'!R5","v":0.91729323308270672},{"$f":"'CV Rotina <2A - residência'!T5","v":0.78195488721804507},{"$f":"'CV Rotina <2A - residência'!V5","v":0.73684210526315785},{"$f":"'CV Rotina <2A - residência'!Z5","v":0.30827067669172931},2,1,3,1]
["Sul","Alegre",{"$f":"'CV Rotina <2A - residência'!H6","v":0.95798319327731096},{"$f":"'CV Rotina <2A - residência'!P6","v":1.0042016806722689},{"$f":"'CV Rotina <2A - residência'!J6","v":1},{"$f":"'CV Rotina <2A - residência'!L6","v":1.0168067226890756},{"$f":"'CV Rotina <2A - residência'!N6","v":1.0336134453781514},{"$f":"'CV Rotina <2A - residência'!X6","v":0.96218487394957986},{"$f":"'CV Rotina <2A - residência'!R6","v":0.99579831932773111},{"$f":"'CV Rotina <2A - residência'!T6","v":0.95378151260504207},{"$f":"'CV Rotina <2A - residência'!V6","v":0.92436974789915971},{"$f":"'CV Rotina <2A - residência'!Z6","v":0.26050420168067229},2,6,8,4]
["Sul","Alfredo Chaves",{"$f":"'CV Rotina <2A - residência'!H7","v":0.76923076923076927},{"$f":"'CV Rotina <2A - residência'!P7","v":1.0769230769230769},{"$f":"'CV Rotina <2A - residência'!J7","v":1.0576923076923077},{"$f":"'CV Rotina <2A - residência'!L7","v":1.0576923076923077},{"$f":"'CV Rotina <2A - residência'!N7","v":1.0576923076923077},{"$f":"'CV Rotina <2A - residência'!X7","v":1},{"$f":"'CV Rotina <2A - residência'!R7","v":1.0673076923076923},{"$f":"'CV Rotina <2A - residência'!T7","v":1.0096153846153846},{"$f":"'CV Rotina <2A - residência'!V7","v":0.95192307692307687},{"$f":"'CV Rotina <2A - residência'!Z7","v":0.60576923076923073},1,7,8,4]
["Central","Alto Rio Novo",{"$f":"'CV Rotina <2A - residência'!H8","v":1.0615384615384615},{"$f":"'CV Rotina <2A - residência'!P8","v":1.0615384615384615},{"$f":"'CV Rotina <2A - residência'!J8","v":1.0461538461538462},{"$f":"'CV Rotina <2A - residência'!L8","v":1.0307692307692307},{"$f":"'CV Rotina <2A - residência'!N8","v":1.0769230769230769},{"$f":"'CV Rotina <2A - residência'!X8","v":1.0615384615384615},{"$f":"'CV Rotina <2A - residência'!R8","v":1.0923076923076922},{"$f":"'CV Rotina <2A - residência'!T8","v":0.90769230769230769},{"$f":"'CV Rotina <2A - residência'!V8","v":0.96923076923076923},{"$f":"'CV Rotina <2A - residência'!Z8","v":0.44615384615384618},2,6,8,4]
["Sul","Anchieta",{"$f":"'CV Rotina <2A - residência'!H9","v":0.9464285714285714},{"$f":"'CV Rotina <2A - residência'!P9","v":1.0607142857142857},{"$f":"'CV Rotina <2A - residência'!J9","v":1.1000000000000001},{"$f":"'CV Rotina <2A - residência'!L9","v":1.1285714285714286},{"$f":"'CV Rotina <2A - residência'!N9","v":1.0857142857142856},{"$f":"'CV Rotina <2A - residência'!X9","v":1.1071428571428572},{"$f":"'CV Rotina <2A - residência'!R9","v":1.0714285714285714},{"$f":"'CV Rotina <2A - residência'!T9","v":0.86428571428571432},{"$f":"'CV Rotina <2A - residência'!V9","v":1.0285714285714285},{"$f":"'CV Rotina <2A - residência'!Z9","v":0.47142857142857142},2,6,8,4]
["Sul","Apiacá",{"$f":"'CV Rotina <2A - residência'!H10","v":0.94339622641509435},{"$f":"'CV Rotina <2A - residência'!P10","v":0.96226415094339623},{"$f":"'CV Rotina <2A - residência'!J10","v":0.92452830188679247},{"$f":"'CV Rotina <2A - residência'!L10","v":0.92452830188679247},{"$f":"'CV Rotina <2A - residência'!N10","v":0.94339622641509435},{"$f":"'CV Rotina <2A - residência'!X10","v":0.98113207547169812},{"$f":"'CV Rotina <2A - residência'!R10","v":0.92452830188679247},{"$f":"'CV Rotina <2A - residência'!T10","v":0.81132075471698117},{"$f":"'CV Rotina <2A - residência'!V10","v":0.84905660377358494},{"$f":"'CV Rotina <2A - residência'!Z10","v":0.13207547169811321},2,1,3,1]
["Metropolitana","Aracruz",{"$f":"'CV Rotina <2A - residência'!H11","v":0.95471349353049906},{"$f":"'CV Rotina <2A - residência'!P11","v":0.94731977818853974},{"$f":"'CV Rotina <2A - residência'!J11","v":0.91404805914972276},{"$f":"'CV Rotina <2A - residência'!L11","v":0.92883548983364139},{"$f":"'CV Rotina <2A - residência'!N11","v":0.95841035120147877},{"$f":"'CV Rotina <2A - residência'!X11","v":0.98521256931608137},{"$f":"'CV Rotina <2A - residência'!R11","v":0.90942698706099812},{"$f":"'CV Rotina <2A - residência'!T11","v":0.76524953789279115},{"$f":"'CV Rotina <2A - residência'!V11","v":0.96025878003696863},{"$f":"'CV Rotina <2A - residência'!Z11","v":0.46487985212569316},2,3,5,2]
["Sul","Atilio Vivacqua",{"$f":"'CV Rotina <2A - residência'!H12","v":0.99065420560747663},{"$f":"'CV Rotina <2A - residência'!P12","v":0.90654205607476634},{"$f":"'CV Rotina <2A - residência'!J12","v":0.90654205607476634},{"$f":"'CV Rotina <2A - residência'!L12","v":0.90654205607476634},{"$f":"'CV Rotina <2A - residência'!N12","v":0.91588785046728971},{"$f":"'CV Rotina <2A - residência'!X12","v":0.95327102803738317},{"$f":"'CV Rotina <2A - residência'!R12","v":0.89719626168224298},{"$f":"'CV Rotina <2A - residência'!T12","v":0.71028037383177567},{"$f":"'CV Rotina <2A - residência'!V12","v":0.90654205607476634},{"$f":"'CV Rotina <2A - residência'!Z12","v":0.42056074766355139},2,1,3,1]
["Central","Baixo Guandu",{"$f":"'CV Rotina <2A - residência'!H13","v":0.9717314487632509},{"$f":"'CV Rotina <2A - residência'!P13","v":1.0706713780918728},{"$f":"'CV Rotina <2A - residência'!J13","v":1},{"$f":"'CV Rotina <2A - residência'!L13","v":1.0141342756183747},{"$f":"'CV Rotina <2A - residência'!N13","v":1.0954063604240283},{"$f":"'CV Rotina <2A - residência'!X13","v":0.98233215547703179},{"$f":"'CV Rotina <2A - residência'!R13","v":1.0565371024734982},{"$f":"'CV Rotina <2A - residência'!T13","v":0.80212014134275622},{"$f":"'CV Rotina <2A - residência'!V13","v":0.99293286219081267},{"$f":"'CV Rotina <2A - residência'!Z13","v":0.45229681978798586},2,6,8,4]
["Norte","Barra de São Francisco",{"$f":"'CV Rotina <2A - residência'!H14","v":0.9660633484162896},{"$f":"'CV Rotina <2A - residência'!P14","v":0.87782805429864252},{"$f":"'CV Rotina <2A - residência'!J14","v":0.85067873303167418},{"$f":"'CV Rotina <2A - residência'!L14","v":0.86425339366515841},{"$f":"'CV Rotina <2A - residência'!N14","v":0.9095022624434389},{"$f":"'CV Rotina <2A - residência'!X14","v":0.95022624434389136},{"$f":"'CV Rotina <2A - residência'!R14","v":0.90497737556561086},{"$f":"'CV Rotina <2A - residência'!T14","v":0.80090497737556565},{"$f":"'CV Rotina <2A - residência'!V14","v":0.74886877828054299},{"$f":"'CV Rotina <2A - residência'!Z14","v":0.45475113122171945},1,1,2,1]
["Norte","Boa Esperança",{"$f":"'CV Rotina <2A - residência'!H15","v":0.7142857142857143},{"$f":"'CV Rotina <2A - residência'!P15","v":0.99350649350649356},{"$f":"'CV Rotina <2A - residência'!J15","v":0.91558441558441561},{"$f":"'CV Rotina <2A - residência'!L15","v":0.97402597402597402},{"$f":"'CV Rotina <2A - residência'!N15","v":0.98701298701298701},{"$f":"'CV Rotina <2A - residência'!X15","v":0.97402597402597402},{"$f":"'CV Rotina <2A - residência'!R15","v":0.94805194805194803},{"$f":"'CV Rotina <2A - residência'!T15","v":0.85064935064935066},{"$f":"'CV Rotina <2A - residência'!V15","v":0.68181818181818177},{"$f":"'CV Rotina <2A - residência'!Z15","v":0.57792207792207795},1,3,4,3]
["Sul","Bom Jesus do Norte",{"$f":"'CV Rotina <2A - residência'!H16","v":0.73972602739726023},{"$f":"'CV Rotina <2A - residência'!P16","v":0.9726027397260274},{"$f":"'CV Rotina <2A - residência'!J16","v":1.0684931506849316},{"$f":"'CV Rotina <2A - residência'!L16","v":1.0410958904109588},{"$f":"'CV Rotina <2A - residência'!N16","v":1},{"$f":"'CV Rotina <2A - residência'!X16","v":1.0684931506849316},{"$f":"'CV Rotina <2A - residência'!R16","v":0.93150684931506844},{"$f":"'CV Rotina <2A - residência'!T16","v":0.87671232876712324},{"$f":"'CV Rotina <2A - residência'!V16","v":0.53424657534246578},{"$f":"'CV Rotina <2A - residência'!Z16","v":0.17808219178082191},1,4,5,4]
["Metropolitana","Brejetuba",{"$f":"'CV Rotina <2A - residência'!H17","v":0.95205479452054798},{"$f":"'CV Rotina <2A - residência'!P17","v":1.0342465753424657},{"$f":"'CV Rotina <2A - residência'!J17","v":1.047945205479452},{"$f":"'CV Rotina <2A - residência'!L17","v":1.047945205479452},{"$f":"'CV Rotina <2A - residência'!N17","v":0.99315068493150682},{"$f":"'CV Rotina <2A - residência'!X17","v":0.99315068493150682},{"$f":"'CV Rotina <2A - residência'!R17","v":1.0136986301369864},{"$f":"'CV Rotina <2A - residência'!T17","v":0.92465753424657537},{"$f":"'CV Rotina <2A - residência'!V17","v":0.80136986301369861},{"$f":"'CV Rotina <2A - residência'!Z17","v":0.39726027397260272},2,5,7,4]
["Sul","Cachoeiro de Itapemirim",{"$f":"'CV Rotina <2A - residência'!H18","v":1.0850501848917062},{"$f":"'CV Rotina <2A - residência'!P18","v":0.88748019017432644},{"$f":"'CV Rotina <2A - residência'!J18","v":0.84257791864764919},{"$f":"'CV Rotina <2A - residência'!L18","v":0.84997358689910196},{"$f":"'CV Rotina <2A - residência'!N18","v":0.90227152667723187},{"$f":"'CV Rotina <2A - residência'!X18","v":0.90913893291072367},{"$f":"'CV Rotina <2A - residência'!R18","v":0.83201267828843106},{"$f":"'CV Rotina <2A - residência'!T18","v":0.63761225567881674},{"$f":"'CV Rotina <2A - residência'!V18","v":0.82937136819862656},{"$f":"'CV Rotina <2A - residência'!Z18","v":0.34601162176439515},1,0,1,0]
["Metropolitana","Cariacica",{"$f":"'CV Rotina <2A - residência'!H19","v":0.91482479784366577},{"$f":"'CV Rotina <2A - residência'!P19","v":0.88005390835579511},{"$f":"'CV Rotina <2A - residência'!J19","v":0.86873315363881398},{"$f":"'CV Rotina <2A - residência'!L19","v":0.8716981132075472},{"$f":"'CV Rotina <2A - residência'!N19","v":0.92506738544474398},{"$f":"'CV Rotina <2A - residência'!X19","v":0.91105121293800539},{"$f":"'CV Rotina <2A - residência'!R19","v":0.86091644204851747},{"$f":"'CV Rotina <2A - residência'!T19","v":0.660377358490566},{"$f":"'CV Rotina <2A - residência'!V19","v":0.67196765498652289},{"$f":"'CV Rotina <2A - residência'!Z19","v":0.34393530997304583},1,0,1,0]
["Sul","Castelo",{"$f":"'CV Rotina <2A - residência'!H20","v":0.8297213622291022},{"$f":"'CV Rotina <2A - residência'!P20","v":0.99380804953560375},{"$f":"'CV Rotina <2A - residência'!J20","v":1.0185758513931888},{"$f":"'CV Rotina <2A - residência'!L20","v":1.0928792569659442},{"$f":"'CV Rotina <2A - residência'!N20","v":1.021671826625387},{"$f":"'CV Rotina <2A - residência'!X20","v":1.0371517027863777},{"$f":"'CV Rotina <2A - residência'!R20","v":0.98142414860681115},{"$f":"'CV Rotina <2A - residência'!T20","v":0.88235294117647056},{"$f":"'CV Rotina <2A - residência'!V20","v":0.80185758513931893},{"$f":"'CV Rotina <2A - residência'!Z20","v":0.46439628482972134},1,5,6,4]
["Central","Colatina",{"$f":"'CV Rotina <2A - residência'!H21","v":0.99316823228010243},{"$f":"'CV Rotina <2A - residência'!P21","v":0.92997438087105033},{"$f":"'CV Rotina <2A - residência'!J21","v":0.94022203245089664},{"$f":"'CV Rotina <2A - residência'!L21","v":0.98206660973526905},{"$f":"'CV Rotina <2A - residência'!N21","v":0.94876174210076858},{"$f":"'CV Rotina <2A - residência'!X21","v":0.98035866780529457},{"$f":"'CV Rotina <2A - residência'!R21","v":0.90435525192143462},{"$f":"'CV Rotina <2A - residência'!T21","v":0.78736122971818956},{"$f":"'CV Rotina <2A - residência'!V21","v":0.74210076857386853},{"$f":"'CV Rotina <2A - residência'!Z21","v":0.484201537147737},2,2,4,2]
["Norte","Conceição da Barra",{"$f":"'CV Rotina <2A - residência'!H22","v":0.528169014084507},{"$f":"'CV Rotina <2A - residência'!P22","v":0.96478873239436624},{"$f":"'CV Rotina <2A - residência'!J22","v":0.971830985915493},{"$f":"'CV Rotina <2A - residência'!L22","v":1.0035211267605635},{"$f":"'CV Rotina <2A - residência'!N22","v":1.0035211267605635},{"$f":"'CV Rotina <2A - residência'!X22","v":1.0387323943661972},{"$f":"'CV Rotina <2A - residência'!R22","v":0.97887323943661975},{"$f":"'CV Rotina <2A - residência'!T22","v":0.90492957746478875},{"$f":"'CV Rotina <2A - residência'!V22","v":0.78169014084507038},{"$f":"'CV Rotina <2A - residência'!Z22","v":0.47183098591549294},1,5,6,4]
["Metropolitana","Conceição do Castelo",{"$f":"'CV Rotina <2A - residência'!H23","v":0.83333333333333337},{"$f":"'CV Rotina <2A - residência'!P23","v":0.70634920634920639},{"$f":"'CV Rotina <2A - residência'!J23","v":0.72222222222222221},{"$f":"'CV Rotina <2A - residência'!L23","v":0.70634920634920639},{"$f":"'CV Rotina <2A - residência'!N23","v":0.72222222222222221},{"$f":"'CV Rotina <2A - residência'!X23","v":0.82539682539682535},{"$f":"'CV Rotina <2A - residência'!R23","v":0.7142857142857143},{"$f":"'CV Rotina <2A - residência'!T23","v":0.7142857142857143},{"$f":"'CV Rotina <2A - residência'!V23","v":0.80158730158730163},{"$f":"'CV Rotina <2A - residência'!Z23","v":0.43650793650793651},0,0,0,0]
["Sul","Divino de São Lourenço",{"$f":"'CV Rotina <2A - residência'!H24","v":0.89090909090909087},{"$f":"'CV Rotina <2A - residência'!P24","v":1.1818181818181819},{"$f":"'CV Rotina <2A - residência'!J24","v":1.0727272727272728},{"$f":"'CV Rotina <2A - residência'!L24","v":1.0727272727272728},{"$f":"'CV Rotina <2A - residência'!N24","v":1.2},{"$f":"'CV Rotina <2A - residência'!X24","v":0.76363636363636367},{"$f":"'CV Rotina <2A - residência'!R24","v":1.1454545454545455},{"$f":"'CV Rotina <2A - residência'!T24","v":0.8545454545454545},{"$f":"'CV Rotina <2A - residência'!V24","v":0.69090909090909092},{"$f":"'CV Rotina <2A - residência'!Z24","v":0.38181818181818183},1,4,5,3]
["Metropolitana","Domingos Martins",{"$f":"'CV Rotina <2A - residência'!H25","v":0.96699669966996704},{"$f":"'CV Rotina <2A - residência'!P25","v":1.0099009900990099},{"$f":"'CV Rotina <2A - residência'!J25","v":0.93399339933993397},{"$f":"'CV Rotina <2A - residência'!L25","v":0.95379537953795379},{"$f":"'CV Rotina <2A - residência'!N25","v":1.0297029702970297},{"$f":"'CV Rotina <2A - residência'!X25","v":0.94389438943894388},{"$f":"'CV Rotina <2A - residência'!R25","v":0.97359735973597361},{"$f":"'CV Rotina <2A - residência'!T25","v":0.84158415841584155},{"$f":"'CV Rotina <2A - residência'!V25","v":0.90429042904290424},{"$f":"'CV Rotina <2A - residência'!Z25","v":0.62376237623762376},2,3,5,2]
["Sul","Dores do Rio Preto",{"$f":"'CV Rotina <2A - residência'!H26","v":0.64864864864864868},{"$f":"'CV Rotina <2A - residência'!P26","v":0.94594594594594594},{"$f":"'CV Rotina <2A - residência'!J26","v":0.8783783783783784},{"$f":"'CV Rotina <2A - residência'!L26","v":0.91891891891891897},{"$f":"'CV Rotina <2A - residência'!N26","v":0.98648648648648651},{"$f":"'CV Rotina <2A - residência'!X26","v":0.7432432432432432},{"$f":"'CV Rotina <2A - residência'!R26","v":0.95945945945945943},{"$f":"'CV Rotina <2A - residência'!T26","v":0.77027027027027029},{"$f":"'CV Rotina <2A - residência'!V26","v":0.68918918918918914},{"$f":"'CV Rotina <2A - residência'!Z26","v":0.29729729729729731},1,2,3,1]
["Norte","Ecoporanga",{"$f":"'CV Rotina <2A - residência'!H27","v":1},{"$f":"'CV Rotina <2A - residência'!P27","v":1.0098522167487685},{"$f":"'CV Rotina <2A - residência'!J27","v":0.91133004926108374},{"$f":"'CV Rotina <2A - residência'!L27","v":0.90147783251231528},{"$f":"'CV Rotina <2A - residência'!N27","v":1.0591133004926108},{"$f":"'CV Rotina <2A - residência'!X27","v":0.95073891625615758},{"$f":"'CV Rotina <2A - residência'!R27","v":0.97536945812807885},{"$f":"'CV Rotina <2A - residência'!T27","v":0.78817733990147787},{"$f":"'CV Rotina <2A - residência'!V27","v":0.84729064039408863},{"$f":"'CV Rotina <2A - residência'!Z27","v":0.49261083743842365},2,3,5,2]
["Metropolitana","Fundão",{"$f":"'CV Rotina <2A - residência'!H28","v":0.875},{"$f":"'CV Rotina <2A - residência'!P28","v":0.99431818181818177},{"$f":"'CV Rotina <2A - residência'!J28","v":0.96022727272727271},{"$f":"'CV Rotina <2A - residência'!L28","v":0.96590909090909094},{"$f":"'CV Rotina <2A - residência'!N28","v":0.98295454545454541},{"$f":"'CV Rotina <2A - residência'!X28","v":0.88636363636363635},{"$f":"'CV Rotina <2A - residência'!R28","v":0.85227272727272729},{"$f":"'CV Rotina <2A - residência'!T28","v":0.76704545454545459},{"$f":"'CV Rotina <2A - residência'!V28","v":0.92613636363636365},{"$f":"'CV Rotina <2A - residência'!Z28","v":0.52840909090909094},1,3,4,3]
["Central","Governador Lindenberg",{"$f":"'CV Rotina <2A - residência'!H29","v":0.77551020408163263},{"$f":"'CV Rotina <2A - residência'!P29","v":1},{"$f":"'CV Rotina <2A - residência'!J29","v":0.95918367346938771},{"$f":"'CV Rotina <2A - residência'!L29","v":0.95918367346938771},{"$f":"'CV Rotina <2A - residência'!N29","v":0.98979591836734693},{"$f":"'CV Rotina <2A - residência'!X29","v":1.1428571428571428},{"$f":"'CV Rotina <2A - residência'!R29","v":0.98979591836734693},{"$f":"'CV Rotina <2A - residência'!T29","v":1.1122448979591837},{"$f":"'CV Rotina <2A - residência'!V29","v":1.0714285714285714},{"$f":"'CV Rotina <2A - residência'!Z29","v":0.53061224489795922},1,7,8,4]
["Sul","Guaçuí",{"$f":"'CV Rotina <2A - residência'!H30","v":0.80139372822299648},{"$f":"'CV Rotina <2A - residência'!P30","v":0.93728222996515675},{"$f":"'CV Rotina <2A - residência'!J30","v":1.0278745644599303},{"$f":"'CV Rotina <2A - residência'!L30","v":1.0174216027874565},{"$f":"'CV Rotina <2A - residência'!N30","v":1.0069686411149825},{"$f":"'CV Rotina <2A - residência'!X30","v":0.77700348432055744},{"$f":"'CV Rotina <2A - residência'!R30","v":0.97560975609756095},{"$f":"'CV Rotina <2A - residência'!T30","v":0.79442508710801396},{"$f":"'CV Rotina <2A - residência'!V30","v":0.88153310104529614},{"$f":"'CV Rotina <2A - residência'!Z30","v":0.3902439024390244},1,4,5,3]
["Metropolitana","Guarapari",{"$f":"'CV Rotina <2A - residência'!H31","v":1.1461187214611872},{"$f":"'CV Rotina <2A - residência'!P31","v":1.0767123287671232},{"$f":"'CV Rotina <2A - residência'!J31","v":0.97168949771689495},{"$f":"'CV Rotina <2A - residência'!L31","v":0.97168949771689495},{"$f":"'CV Rotina <2A - residência'!N31","v":1.1168949771689498},{"$f":"'CV Rotina <2A - residência'!X31","v":1.0127853881278539},{"$f":"'CV Rotina <2A - residência'!R31","v":1.015525114155251},{"$f":"'CV Rotina <2A - residência'!T31","v":0.74337899543378994},{"$f":"'CV Rotina <2A - residência'!V31","v":0.88675799086757989},{"$f":"'CV Rotina <2A - residência'!Z31","v":0.47945205479452052},2,5,7,4]
["Metropolitana","Ibatiba",{"$f":"'CV Rotina <2A - residência'!H32","v":1.0034722222222223},{"$f":"'CV Rotina <2A - residência'!P32","v":0.95486111111111116},{"$f":"'CV Rotina <2A - residência'!J32","v":0.9375},{"$f":"'CV Rotina <2A - residência'!L32","v":0.93402777777777779},{"$f":"'CV Rotina <2A - residência'!N32","v":0.98958333333333337},{"$f":"'CV Rotina <2A - residência'!X32","v":0.92013888888888884},{"$f":"'CV Rotina <2A - residência'!R32","v":0.96875},{"$f":"'CV Rotina <2A - residência'!T32","v":0.82986111111111116},{"$f":"'CV Rotina <2A - residência'!V32","v":0.84027777777777779},{"$f":"'CV Rotina <2A - residência'!Z32","v":0.22569444444444445},2,2,4,1]
["Metropolitana","Ibiraçu",{"$f":"'CV Rotina <2A - residência'!H33","v":0.94957983193277307},{"$f":"'CV Rotina <2A - residência'!P33","v":0.88235294117647056},{"$f":"'CV Rotina <2A - residência'!J33","v":0.81512605042016806},{"$f":"'CV Rotina <2A - residência'!L33","v":0.82352941176470584},{"$f":"'CV Rotina <2A - residência'!N33","v":0.89075630252100846},{"$f":"'CV Rotina <2A - residência'!X33","v":0.81512605042016806},{"$f":"'CV Rotina <2A - residência'!R33","v":0.89075630252100846},{"$f":"'CV Rotina <2A - residência'!T33","v":0.78991596638655459},{"$f":"'CV Rotina <2A - residência'!V33","v":0.70588235294117652},{"$f":"'CV Rotina <2A - residência'!Z33","v":0.29411764705882354},1,0,1,0]
["Sul","Ibitirama",{"$f":"'CV Rotina <2A - residência'!H34","v":0.99038461538461542},{"$f":"'CV Rotina <2A - residência'!P34","v":0.91346153846153844},{"$f":"'CV Rotina <2A - residência'!J34","v":0.89423076923076927},{"$f":"'CV Rotina <2A - residência'!L34","v":0.90384615384615385},{"$f":"'CV Rotina <2A - residência'!N34","v":0.89423076923076927},{"$f":"'CV Rotina <2A - residência'!X34","v":0.875},{"$f":"'CV Rotina <2A - residência'!R34","v":0.75},{"$f":"'CV Rotina <2A - residência'!T34","v":0.73076923076923073},{"$f":"'CV Rotina <2A - residência'!V34","v":0.80769230769230771},{"$f":"'CV Rotina <2A - residência'!Z34","v":0.39423076923076922},2,0,2,0]
["Sul","Iconha",{"$f":"'CV Rotina <2A - residência'!H35","v":0.68888888888888888},{"$f":"'CV Rotina <2A - residência'!P35","v":0.93333333333333335},{"$f":"'CV Rotina <2A - residência'!J35","v":0.94444444444444442},{"$f":"'CV Rotina <2A - residência'!L35","v":0.97777777777777775},{"$f":"'CV Rotina <2A - residência'!N35","v":0.93333333333333335},{"$f":"'CV Rotina <2A - residência'!X35","v":1.2444444444444445},{"$f":"'CV Rotina <2A - residência'!R35","v":0.85555555555555551},{"$f":"'CV Rotina <2A - residência'!T35","v":0.96666666666666667},{"$f":"'CV Rotina <2A - residência'!V35","v":1.1333333333333333},{"$f":"'CV Rotina <2A - residência'!Z35","v":0.51111111111111107},{"$f":"COUNTIF(C35:D35,\">=0,9\")","v":1},4,{"$f":"SUM(M35:N35)","v":5},2]
["Sul","Irupi",{"$f":"'CV Rotina <2A - residência'!H36","v":0.8231292517006803},{"$f":"'CV Rotina <2A - residência'!P36","v":1.0816326530612246},{"$f":"'CV Rotina <2A - residência'!J36","v":1.0068027210884354},{"$f":"'CV Rotina <2A - residência'!L36","v":0.97959183673469385},{"$f":"'CV Rotina <2A - residência'!N36","v":1.0816326530612246},{"$f":"'CV Rotina <2A - residência'!X36","v":1.0680272108843538},{"$f":"'CV Rotina <2A - residência'!R36","v":1.0612244897959184},{"$f":"'CV Rotina <2A - residência'!T36","v":0.90476190476190477},{"$f":"'CV Rotina <2A - residência'!V36","v":0.95918367346938771},{"$f":"'CV Rotina <2A - residência'!Z36","v":0.26530612244897961},1,6,7,4]
["Metropolitana","Itaguaçu",{"$f":"'CV Rotina <2A - residência'!H37","v":1.036697247706422},{"$f":"'CV Rotina <2A - residência'!P37","v":1.0091743119266054},{"$f":"'CV Rotina <2A - residência'!J37","v":0.92660550458715596},{"$f":"'CV Rotina <2A - residência'!L37","v":0.94495412844036697},{"$f":"'CV Rotina <2A - residência'!N37","v":1.0275229357798166},{"$f":"'CV Rotina <2A - residência'!X37","v":1.0183486238532109},{"$f":"'CV Rotina <2A - residência'!R37","v":0.92660550458715596},{"$f":"'CV Rotina <2A - residência'!T37","v":0.88073394495412849},{"$f":"'CV Rotina <2A - residência'!V37","v":1.0642201834862386},{"$f":"'CV Rotina <2A - residência'!Z37","v":0.60550458715596334},2,3,5,2]
["Sul","Itapemirim",{"$f":"'CV Rotina <2A - residência'!H38","v":0.89516129032258063},{"$f":"'CV Rotina <2A - residência'!P38","v":0.91397849462365588},{"$f":"'CV Rotina <2A - residência'!J38","v":0.95967741935483875},{"$f":"'CV Rotina <2A - residência'!L38","v":0.96505376344086025},{"$f":"'CV Rotina <2A - residência'!N38","v":1.0134408602150538},{"$f":"'CV Rotina <2A - residência'!X38","v":0.9731182795698925},{"$f":"'CV Rotina <2A - residência'!R38","v":0.94892473118279574},{"$f":"'CV Rotina <2A - residência'!T38","v":0.61021505376344087},{"$f":"'CV Rotina <2A - residência'!V38","v":0.90860215053763438},{"$f":"'CV Rotina <2A - residência'!Z38","v":0.40860215053763443},1,4,5,4]
["Metropolitana","Itarana",{"$f":"'CV Rotina <2A - residência'!H39","v":1.1359223300970873},{"$f":"'CV Rotina <2A - residência'!P39","v":1.0097087378640777},{"$f":"'CV Rotina <2A - residência'!J39","v":0.98058252427184467},{"$f":"'CV Rotina <2A - residência'!L39","v":1},{"$f":"'CV Rotina <2A - residência'!N39","v":1.0388349514563107},{"$f":"'CV Rotina <2A - residência'!X39","v":1.0097087378640777},{"$f":"'CV Rotina <2A - residência'!R39","v":0.970873786407767},{"$f":"'CV Rotina <2A - residência'!T39","v":0.970873786407767},{"$f":"'CV Rotina <2A - residência'!V39","v":0.72815533980582525},{"$f":"'CV Rotina <2A - residência'!Z39","v":0.59223300970873782},2,6,8,4]
["Sul","Iúna",{"$f":"'CV Rotina <2A - residência'!H40","v":0.70621468926553677},{"$f":"'CV Rotina <2A - residência'!P40","v":0.92937853107344637},{"$f":"'CV Rotina <2A - residência'!J40","v":0.903954802259887},{"$f":"'CV Rotina <2A - residência'!L40","v":0.903954802259887},{"$f":"'CV Rotina <2A - residência'!N40","v":0.94067796610169496},{"$f":"'CV Rotina <2A - residência'!X40","v":0.95480225988700562},{"$f":"'CV Rotina <2A - residência'!R40","v":0.903954802259887},{"$f":"'CV Rotina <2A - residência'!T40","v":0.85310734463276838},{"$f":"'CV Rotina <2A - residência'!V40","v":0.71186440677966101},{"$f":"'CV Rotina <2A - residência'!Z40","v":0.41807909604519772},1,1,2,1]
["Norte","Jaguaré",{"$f":"'CV Rotina <2A - residência'!H41","v":0.90649350649350646},{"$f":"'CV Rotina <2A - residência'!P41","v":0.94025974025974024},{"$f":"'CV Rotina <2A - residência'!J41","v":0.95584415584415583},{"$f":"'CV Rotina <2A - residência'!L41","v":0.95844155844155843},{"$f":"'CV Rotina <2A - residência'!N41","v":0.96363636363636362},{"$f":"'CV Rotina <2A - residência'!X41","v":0.94805194805194803},{"$f":"'CV Rotina <2A - residência'!R41","v":0.89350649350649347},{"$f":"'CV Rotina <2A - residência'!T41","v":0.81298701298701304},{"$f":"'CV Rotina <2A - residência'!V41","v":0.76883116883116887},{"$f":"'CV Rotina <2A - residência'!Z41","v":0.36883116883116884},2,3,5,3]
["Sul","Jerônimo Monteiro",{"$f":"'CV Rotina <2A - residência'!H42","v":0.82905982905982911},{"$f":"'CV Rotina <2A - residência'!P42","v":1.0427350427350428},{"$f":"'CV Rotina <2A - residência'!J42","v":1.0683760683760684},{"$f":"'CV Rotina <2A - residência'!L42","v":1.0769230769230769},{"$f":"'CV Rotina <2A - residência'!N42","v":1.0598290598290598},{"$f":"'CV Rotina <2A - residência'!X42","v":0.93162393162393164},{"$f":"'CV Rotina <2A - residência'!R42","v":0.98290598290598286},{"$f":"'CV Rotina <2A - residência'!T42","v":0.99145299145299148},{"$f":"'CV Rotina <2A - residência'!V42","v":0.99145299145299148},{"$f":"'CV Rotina <2A - residência'!Z42","v":0.29059829059829062},1,6,7,3]
["Metropolitana","João Neiva",{"$f":"'CV Rotina <2A - residência'!H43","v":0.93333333333333335},{"$f":"'CV Rotina <2A - residência'!P43","v":1.0083333333333333},{"$f":"'CV Rotina <2A - residência'!J43","v":0.95},{"$f":"'CV Rotina <2A - residência'!L43","v":0.96666666666666667},{"$f":"'CV Rotina <2A - residência'!N43","v":1.0083333333333333},{"$f":"'CV Rotina <2A - residência'!X43","v":1.2250000000000001},{"$f":"'CV Rotina <2A - residência'!R43","v":0.96666666666666667},{"$f":"'CV Rotina <2A - residência'!T43","v":0.97499999999999998},{"$f":"'CV Rotina <2A - residência'!V43","v":0.96666666666666667},{"$f":"'CV Rotina <2A - residência'!Z43","v":0.54166666666666663},2,7,9,4]
["Metropolitana","Laranja da Terra",{"$f":"'CV Rotina <2A - residência'!H44","v":1.0895522388059702},{"$f":"'CV Rotina <2A - residência'!P44","v":0.91044776119402981},{"$f":"'CV Rotina <2A - residência'!J44","v":0.95522388059701491},{"$f":"'CV Rotina <2A - residência'!L44","v":0.97014925373134331},{"$f":"'CV Rotina <2A - residência'!N44","v":0.92537313432835822},{"$f":"'CV Rotina <2A - residência'!X44","v":1.4328358208955223},{"$f":"'CV Rotina <2A - residência'!R44","v":1.044776119402985},{"$f":"'CV Rotina <2A - residência'!T44","v":1.1343283582089552},{"$f":"'CV Rotina <2A - residência'!V44","v":1.3134328358208955},{"$f":"'CV Rotina <2A - residência'!Z44","v":0.89552238805970152},2,6,8,3]
["Central","Linhares",{"$f":"'CV Rotina <2A - residência'!H45","v":0.73634558093346569},{"$f":"'CV Rotina <2A - residência'!P45","v":0.86891757696127114},{"$f":"'CV Rotina <2A - residência'!J45","v":0.82522343594836145},{"$f":"'CV Rotina <2A - residência'!L45","v":0.8470705064548163},{"$f":"'CV Rotina <2A - residência'!N45","v":0.86246276067527305},{"$f":"'CV Rotina <2A - residência'!X45","v":0.85898709036742804},{"$f":"'CV Rotina <2A - residência'!R45","v":0.83664349553128103},{"$f":"'CV Rotina <2A - residência'!T45","v":0.68917576961271099},{"$f":"'CV Rotina <2A - residência'!V45","v":0.79692154915590863},{"$f":"'CV Rotina <2A - residência'!Z45","v":0.38877855014895729},0,0,0,0]
["Central","Mantenópolis",{"$f":"'CV Rotina <2A - residência'!H46","v":1.0258620689655173},{"$f":"'CV Rotina <2A - residência'!P46","v":0.89655172413793105},{"$f":"'CV Rotina <2A - residência'!J46","v":0.93965517241379315},{"$f":"'CV Rotina <2A - residência'!L46","v":0.9568965517241379},{"$f":"'CV Rotina <2A - residência'!N46","v":0.93103448275862066},{"$f":"'CV Rotina <2A - residência'!X46","v":1.0603448275862069},{"$f":"'CV Rotina <2A - residência'!R46","v":0.87931034482758619},{"$f":"'CV Rotina <2A - residência'!T46","v":0.94827586206896552},{"$f":"'CV Rotina <2A - residência'!V46","v":0.92241379310344829},{"$f":"'CV Rotina <2A - residência'!Z46","v":0.43965517241379309},1,2,3,2]
["Sul","Marataízes",{"$f":"'CV Rotina <2A - residência'!H47","v":0.88888888888888884},{"$f":"'CV Rotina <2A - residência'!P47","v":1},{"$f":"'CV Rotina <2A - residência'!J47","v":0.96296296296296291},{"$f":"'CV Rotina <2A - residência'!L47","v":0.97453703703703709},{"$f":"'CV Rotina <2A - residência'!N47","v":1.0324074074074074},{"$f":"'CV Rotina <2A - residência'!X47","v":0.96064814814814814},{"$f":"'CV Rotina <2A - residência'!R47","v":0.98148148148148151},{"$f":"'CV Rotina <2A - residência'!T47","v":0.60648148148148151},{"$f":"'CV Rotina <2A - residência'!V47","v":0.82407407407407407},{"$f":"'CV Rotina <2A - residência'!Z47","v":0.40509259259259262},1,5,6,4]
["Metropolitana","Marechal Floriano",{"$f":"'CV Rotina <2A - residência'!H48","v":0.89873417721518989},{"$f":"'CV Rotina <2A - residência'!P48","v":1.0379746835443038},{"$f":"'CV Rotina <2A - residência'!J48","v":1.0316455696202531},{"$f":"'CV Rotina <2A - residência'!L48","v":1.0379746835443038},{"$f":"'CV Rotina <2A - residência'!N48","v":1.0506329113924051},{"$f":"'CV Rotina <2A - residência'!X48","v":0.98101265822784811},{"$f":"'CV Rotina <2A - residência'!R48","v":1.0506329113924051},{"$f":"'CV Rotina <2A - residência'!T48","v":0.77848101265822789},{"$f":"'CV Rotina <2A - residência'!V48","v":1.0126582278481013},{"$f":"'CV Rotina <2A - residência'!Z48","v":0.60126582278481011},1,6,7,4]
["Central","Marilândia",{"$f":"'CV Rotina <2A - residência'!H49","v":0.95575221238938057},{"$f":"'CV Rotina <2A - residência'!P49","v":1.0176991150442478},{"$f":"'CV Rotina <2A - residência'!J49","v":1.0707964601769913},{"$f":"'CV Rotina <2A - residência'!L49","v":1.1150442477876106},{"$f":"'CV Rotina <2A - residência'!N49","v":1},{"$f":"'CV Rotina <2A - residência'!X49","v":1.0530973451327434},{"$f":"'CV Rotina <2A - residência'!R49","v":1.1238938053097345},{"$f":"'CV Rotina <2A - residência'!T49","v":1},{"$f":"'CV Rotina <2A - residência'!V49","v":0.96460176991150437},{"$f":"'CV Rotina <2A - residência'!Z49","v":0.64601769911504425},2,7,9,4]
["Sul","Mimoso do Sul",{"$f":"'CV Rotina <2A - residência'!H50","v":0.86},{"$f":"'CV Rotina <2A - residência'!P50","v":0.85},{"$f":"'CV Rotina <2A - residência'!J50","v":0.84},{"$f":"'CV Rotina <2A - residência'!L50","v":0.85},{"$f":"'CV Rotina <2A - residência'!N50","v":0.85},{"$f":"'CV Rotina <2A - residência'!X50","v":0.88500000000000001},{"$f":"'CV Rotina <2A - residência'!R50","v":0.80500000000000005},{"$f":"'CV Rotina <2A - residência'!T50","v":0.72499999999999998},{"$f":"'CV Rotina <2A - residência'!V50","v":0.72499999999999998},{"$f":"'CV Rotina <2A - residência'!Z50","v":0.435},0,0,0,0]
["Norte","Montanha",{"$f":"'CV Rotina <2A - residência'!H51","v":0.70175438596491224},{"$f":"'CV Rotina <2A - residência'!P51","v":0.92397660818713445},{"$f":"'CV Rotina <2A - residência'!J51","v":1.0760233918128654},{"$f":"'CV Rotina <2A - residência'!L51","v":1.0935672514619883},{"$f":"'CV Rotina <2A - residência'!N51","v":0.92397660818713445},{"$f":"'CV Rotina <2A - residência'!X51","v":1.1169590643274854},{"$f":"'CV Rotina <2A - residência'!R51","v":0.95906432748538006},{"$f":"'CV Rotina <2A - residência'!T51","v":1.0818713450292399},{"$f":"'CV Rotina <2A - residência'!V51","v":1.0350877192982457},{"$f":"'CV Rotina <2A - residência'!Z51","v":0.52631578947368418},1,6,7,3]
["Norte","Mucurici",{"$f":"'CV Rotina <2A - residência'!H52","v":0.65384615384615385},{"$f":"'CV Rotina <2A - residência'!P52","v":1.1153846153846154},{"$f":"'CV Rotina <2A - residência'!J52","v":1.1730769230769231},{"$f":"'CV Rotina <2A - residência'!L52","v":1.1730769230769231},{"$f":"'CV Rotina <2A - residência'!N52","v":1.1153846153846154},{"$f":"'CV Rotina <2A - residência'!X52","v":1.2307692307692308},{"$f":"'CV Rotina <2A - residência'!R52","v":1.0576923076923077},{"$f":"'CV Rotina <2A - residência'!T52","v":1.2884615384615385},{"$f":"'CV Rotina <2A - residência'!V52","v":0.98076923076923073},{"$f":"'CV Rotina <2A - residência'!Z52","v":0.61538461538461542},1,7,8,4]
["Sul","Muniz Freire",{"$f":"'CV Rotina <2A - residência'!H53","v":0.98136645962732916},{"$f":"'CV Rotina <2A - residência'!P53","v":1.0683229813664596},{"$f":"'CV Rotina <2A - residência'!J53","v":1.0559006211180124},{"$f":"'CV Rotina <2A - residência'!L53","v":1.0559006211180124},{"$f":"'CV Rotina <2A - residência'!N53","v":1.0931677018633541},{"$f":"'CV Rotina <2A - residência'!X53","v":1.0745341614906831},{"$f":"'CV Rotina <2A - residência'!R53","v":1.0559006211180124},{"$f":"'CV Rotina <2A - residência'!T53","v":1},{"$f":"'CV Rotina <2A - residência'!V53","v":0.95652173913043481},{"$f":"'CV Rotina <2A - residência'!Z53","v":0.40993788819875776},2,7,9,4]
["Sul","Muqui",{"$f":"'CV Rotina <2A - residência'!H54","v":0.85344827586206895},{"$f":"'CV Rotina <2A - residência'!P54","v":0.92241379310344829},{"$f":"'CV Rotina <2A - residência'!J54","v":1.0517241379310345},{"$f":"'CV Rotina <2A - residência'!L54","v":1.0603448275862069},{"$f":"'CV Rotina <2A - residência'!N54","v":0.90517241379310343},{"$f":"'CV Rotina <2A - residência'!X54","v":1.0086206896551724},{"$f":"'CV Rotina <2A - residência'!R54","v":0.93965517241379315},{"$f":"'CV Rotina <2A - residência'!T54","v":1},{"$f":"'CV Rotina <2A - residência'!V54","v":0.83620689655172409},{"$f":"'CV Rotina <2A - residência'!Z54","v":0.42241379310344829},1,4,5,3]
["Norte","Nova Venécia",{"$f":"'CV Rotina <2A - residência'!H55","v":0.94639175257731956},{"$f":"'CV Rotina <2A - residência'!P55","v":0.96907216494845361},{"$f":"'CV Rotina <2A - residência'!J55","v":1.043298969072165},{"$f":"'CV Rotina <2A - residência'!L55","v":1.0701030927835051},{"$f":"'CV Rotina <2A - residência'!N55","v":1.0123711340206185},{"$f":"'CV Rotina <2A - residência'!X55","v":1.0989690721649485},{"$f":"'CV Rotina <2A - residência'!R55","v":1.0309278350515463},{"$f":"'CV Rotina <2A - residência'!T55","v":0.92989690721649487},{"$f":"'CV Rotina <2A - residência'!V55","v":0.82680412371134016},{"$f":"'CV Rotina <2A - residência'!Z55","v":0.5072164948453608},2,5,7,4]
["Central","Pancas",{"$f":"'CV Rotina <2A - residência'!H56","v":0.95512820512820518},{"$f":"'CV Rotina <2A - residência'!P56","v":1.108974358974359},{"$f":"'CV Rotina <2A - residência'!J56","v":1.1474358974358974},{"$f":"'CV Rotina <2A - residência'!L56","v":1.1666666666666667},{"$f":"'CV Rotina <2A - residência'!N56","v":1.1153846153846154},{"$f":"'CV Rotina <2A - residência'!X56","v":1.0961538461538463},{"$f":"'CV Rotina <2A - residência'!R56","v":1.0897435897435896},{"$f":"'CV Rotina <2A - residência'!T56","v":1.0128205128205128},{"$f":"'CV Rotina <2A - residência'!V56","v":1.0256410256410255},{"$f":"'CV Rotina <2A - residência'!Z56","v":0.78846153846153844},2,7,9,4]
["Norte","Pedro Canário",{"$f":"'CV Rotina <2A - residência'!H57","v":0.62820512820512819},{"$f":"'CV Rotina <2A - residência'!P57","v":0.87179487179487181},{"$f":"'CV Rotina <2A - residência'!J57","v":1.0427350427350428},{"$f":"'CV Rotina <2A - residência'!L57","v":1.0341880341880343},{"$f":"'CV Rotina <2A - residência'!N57","v":0.89743589743589747},{"$f":"'CV Rotina <2A - residência'!X57","v":1.2051282051282051},{"$f":"'CV Rotina <2A - residência'!R57","v":0.96581196581196582},{"$f":"'CV Rotina <2A - residência'!T57","v":0.86324786324786329},{"$f":"'CV Rotina <2A - residência'!V57","v":0.79487179487179482},{"$f":"'CV Rotina <2A - residência'!Z57","v":0.5854700854700855},0,4,4,3]
["Norte","Pinheiros",{"$f":"'CV Rotina <2A - residência'!H58","v":0.40873015873015872},{"$f":"'CV Rotina <2A - residência'!P58","v":0.75396825396825395},{"$f":"'CV Rotina <2A - residência'!J58","v":0.9285714285714286},{"$f":"'CV Rotina <2A - residência'!L58","v":0.92460317460317465},{"$f":"'CV Rotina <2A - residência'!N58","v":0.76587301587301593},{"$f":"'CV Rotina <2A - residência'!X58","v":0.90873015873015872},{"$f":"'CV Rotina <2A - residência'!R58","v":0.80555555555555558},{"$f":"'CV Rotina <2A - residência'!T58","v":0.76984126984126988},{"$f":"'CV Rotina <2A - residência'!V58","v":0.77777777777777779},{"$f":"'CV Rotina <2A - residência'!Z58","v":0.33333333333333331},0,0,0,0]
["Sul","Piúma",{"$f":"'CV Rotina <2A - residência'!H59","v":0.87864077669902918},{"$f":"'CV Rotina <2A - residência'!P59","v":0.98058252427184467},{"$f":"'CV Rotina <2A - residência'!J59","v":1.0048543689320388},{"$f":"'CV Rotina <2A - residência'!L59","v":1.0145631067961165},{"$f":"'CV Rotina <2A - residência'!N59","v":1.0436893203883495},{"$f":"'CV Rotina <2A - residência'!X59","v":0.970873786407767},{"$f":"'CV Rotina <2A - residência'!R59","v":0.93689320388349517},{"$f":"'CV Rotina <2A - residência'!T59","v":0.66990291262135926},{"$f":"'CV Rotina <2A - residência'!V59","v":0.81553398058252424},{"$f":"'CV Rotina <2A - residência'!Z59","v":0.42718446601941745},1,4,5,4]
["Norte","Ponto Belo",{"$f":"'CV Rotina <2A - residência'!H60","v":0.57692307692307687},{"$f":"'CV Rotina <2A - residência'!P60","v":0.92307692307692313},{"$f":"'CV Rotina <2A - residência'!J60","v":0.98076923076923073},{"$f":"'CV Rotina <2A - residência'!L60","v":1},{"$f":"'CV Rotina <2A - residência'!N60","v":0.90384615384615385},{"$f":"'CV Rotina <2A - residência'!X60","v":1.0769230769230769},{"$f":"'CV Rotina <2A - residência'!R60","v":0.96153846153846156},{"$f":"'CV Rotina <2A - residência'!T60","v":1.0961538461538463},{"$f":"'CV Rotina <2A - residência'!V60","v":0.75},{"$f":"'CV Rotina <2A - residência'!Z60","v":0.51923076923076927},1,5,6,3]
["Sul","Presidente Kennedy",{"$f":"'CV Rotina <2A - residência'!H61","v":1.01840490797546},{"$f":"'CV Rotina <2A - residência'!P61","v":0.8834355828220859},{"$f":"'CV Rotina <2A - residência'!J61","v":0.82208588957055218},{"$f":"'CV Rotina <2A - residência'!L61","v":0.85889570552147243},{"$f":"'CV Rotina <2A - residência'!N61","v":0.8834355828220859},{"$f":"'CV Rotina <2A - residência'!X61","v":1.0245398773006136},{"$f":"'CV Rotina <2A - residência'!R61","v":0.8834355828220859},{"$f":"'CV Rotina <2A - residência'!T61","v":0.68711656441717794},{"$f":"'CV Rotina <2A - residência'!V61","v":0.92638036809815949},{"$f":"'CV Rotina <2A - residência'!Z61","v":0.47239263803680981},1,1,2,1]
["Central","Rio Bananal",{"$f":"'CV Rotina <2A - residência'!H62","v":0.82790697674418601},{"$f":"'CV Rotina <2A - residência'!P62","v":0.97209302325581393},{"$f":"'CV Rotina <2A - residência'!J62","v":0.96744186046511627},{"$f":"'CV Rotina <2A - residência'!L62","v":0.99069767441860468},{"$f":"'CV Rotina <2A - residência'!N62","v":0.96279069767441861},{"$f":"'CV Rotina <2A - residência'!X62","v":1.0883720930232559},{"$f":"'CV Rotina <2A - residência'!R62","v":0.89767441860465114},{"$f":"'CV Rotina <2A - residência'!T62","v":0.93488372093023253},{"$f":"'CV Rotina <2A - residência'!V62","v":1.0558139534883721},{"$f":"'CV Rotina <2A - residência'!Z62","v":0.63255813953488371},1,5,6,4]
["Sul","Rio Novo do Sul",{"$f":"'CV Rotina <2A - residência'!H63","v":0.77922077922077926},{"$f":"'CV Rotina <2A - residência'!P63","v":1.0389610389610389},{"$f":"'CV Rotina <2A - residência'!J63","v":1.1298701298701299},{"$f":"'CV Rotina <2A - residência'!L63","v":1.1038961038961039},{"$f":"'CV Rotina <2A - residência'!N63","v":1.0129870129870129},{"$f":"'CV Rotina <2A - residência'!X63","v":1.1428571428571428},{"$f":"'CV Rotina <2A - residência'!R63","v":1.0779220779220779},{"$f":"'CV Rotina <2A - residência'!T63","v":1.051948051948052},{"$f":"'CV Rotina <2A - residência'!V63","v":0.97402597402597402},{"$f":"'CV Rotina <2A - residência'!Z63","v":0.54545454545454541},1,7,8,4]
["Metropolitana","Santa Leopoldina",{"$f":"'CV Rotina <2A - residência'!H64","v":0.71014492753623193},{"$f":"'CV Rotina <2A - residência'!P64","v":1.0434782608695652},{"$f":"'CV Rotina <2A - residência'!J64","v":1.1014492753623188},{"$f":"'CV Rotina <2A - residência'!L64","v":1.1159420289855073},{"$f":"'CV Rotina <2A - residência'!N64","v":1.0579710144927537},{"$f":"'CV Rotina <2A - residência'!X64","v":1.318840579710145},{"$f":"'CV Rotina <2A - residência'!R64","v":1.0869565217391304},{"$f":"'CV Rotina <2A - residência'!T64","v":1.0289855072463767},{"$f":"'CV Rotina <2A - residência'!V64","v":1.2753623188405796},{"$f":"'CV Rotina <2A - residência'!Z64","v":0.24637681159420291},1,7,8,4]
["Metropolitana","Santa Maria de Jetibá",{"$f":"'CV Rotina <2A - residência'!H65","v":0.90600000000000003},{"$f":"'CV Rotina <2A - residência'!P65","v":0.89},{"$f":"'CV Rotina <2A - residência'!J65","v":0.81200000000000006},{"$f":"'CV Rotina <2A - residência'!L65","v":0.82199999999999995},{"$f":"'CV Rotina <2A - residência'!N65","v":0.88200000000000001},{"$f":"'CV Rotina <2A - residência'!X65","v":0.88800000000000001},{"$f":"'CV Rotina <2A - residência'!R65","v":0.85599999999999998},{"$f":"'CV Rotina <2A - residência'!T65","v":0.69199999999999995},{"$f":"'CV Rotina <2A - residência'!V65","v":0.92600000000000005},{"$f":"'CV Rotina <2A - residência'!Z65","v":0.41199999999999998},1,0,1,0]
["Metropolitana","Santa Teresa",{"$f":"'CV Rotina <2A - residência'!H66","v":0.93162393162393164},{"$f":"'CV Rotina <2A - residência'!P66","v":0.97008547008547008},{"$f":"'CV Rotina <2A - residência'!J66","v":0.98290598290598286},{"$f":"'CV Rotina <2A - residência'!L66","v":0.99572649572649574},{"$f":"'CV Rotina <2A - residência'!N66","v":0.97008547008547008},{"$f":"'CV Rotina <2A - residência'!X66","v":0.89743589743589747},{"$f":"'CV Rotina <2A - residência'!R66","v":0.90598290598290598},{"$f":"'CV Rotina <2A - residência'!T66","v":0.82478632478632474},{"$f":"'CV Rotina <2A - residência'!V66","v":0.79914529914529919},{"$f":"'CV Rotina <2A - residência'!Z66","v":0.50427350427350426},2,3,5,3]
["Central","São Domingos do Norte",{"$f":"'CV Rotina <2A - residência'!H67","v":1.1058823529411765},{"$f":"'CV Rotina <2A - residência'!P67","v":1.0235294117647058},{"$f":"'CV Rotina <2A - residência'!J67","v":1.0823529411764705},{"$f":"'CV Rotina <2A - residência'!L67","v":1.0941176470588236},{"$f":"'CV Rotina <2A - residência'!N67","v":1.0705882352941176},{"$f":"'CV Rotina <2A - residência'!X67","v":1.0235294117647058},{"$f":"'CV Rotina <2A - residência'!R67","v":1.0352941176470589},{"$f":"'CV Rotina <2A - residência'!T67","v":0.97647058823529409},{"$f":"'CV Rotina <2A - residência'!V67","v":0.70588235294117652},{"$f":"'CV Rotina <2A - residência'!Z67","v":0.42352941176470588},{"$f":"COUNTIF(C67:D67,\">=0,9\")","v":2},{"$f":"COUNTIFS(E67:L67,\">=0,95\")","v":6},8,4]
["Central","São Gabriel da Palha",{"$f":"'CV Rotina <2A - residência'!H68","v":0.95086705202312138},{"$f":"'CV Rotina <2A - residência'!P68","v":0.95375722543352603},{"$f":"'CV Rotina <2A - residência'!J68","v":0.88439306358381498},{"$f":"'CV Rotina <2A - residência'!L68","v":0.90751445086705207},{"$f":"'CV Rotina <2A - residência'!N68","v":0.96820809248554918},{"$f":"'CV Rotina <2A - residência'!X68","v":0.86127167630057799},{"$f":"'CV Rotina <2A - residência'!R68","v":0.9219653179190751},{"$f":"'CV Rotina <2A - residência'!T68","v":0.72832369942196529},{"$f":"'CV Rotina <2A - residência'!V68","v":0.74277456647398843},{"$f":"'CV Rotina <2A - residência'!Z68","v":0.34971098265895956},2,1,{"$f":"SUM(M68:N68)","v":3},{"$f":"COUNTIF(E68:H68,\">=0,95\")","v":1}]
["Sul","São José do Calçado",{"$f":"'CV Rotina <2A - residência'!H69","v":0.96341463414634143},{"$f":"'CV Rotina <2A - residência'!P69","v":0.90243902439024393},{"$f":"'CV Rotina <2A - residência'!J69","v":1.0487804878048781},{"$f":"'CV Rotina <2A - residência'!L69","v":1.0731707317073171},{"$f":"'CV Rotina <2A - residência'!N69","v":1.0121951219512195},{"$f":"'CV Rotina <2A - residência'!X69","v":1.1341463414634145},{"$f":"'CV Rotina <2A - residência'!R69","v":1.0731707317073171},{"$f":"'CV Rotina <2A - residência'!T69","v":0.84146341463414631},{"$f":"'CV Rotina <2A - residência'!V69","v":0.93902439024390238},{"$f":"'CV Rotina <2A - residência'!Z69","v":0.56097560975609762},2,5,7,4]
["Norte","São Mateus",{"$f":"'CV Rotina <2A - residência'!H70","v":1.128552097428958},{"$f":"'CV Rotina <2A - residência'!P70","v":0.94113667117726663},{"$f":"'CV Rotina <2A - residência'!J70","v":0.87753721244925575},{"$f":"'CV Rotina <2A - residência'!L70","v":0.88092016238159676},{"$f":"'CV Rotina <2A - residência'!N70","v":0.9884979702300406},{"$f":"'CV Rotina <2A - residência'!X70","v":0.82746955345060891},{"$f":"'CV Rotina <2A - residência'!R70","v":0.86806495263870098},{"$f":"'CV Rotina <2A - residência'!T70","v":0.64411366711772666},{"$f":"'CV Rotina <2A - residência'!V70","v":0.70974289580514205},{"$f":"'CV Rotina <2A - residência'!Z70","v":0.32746955345060891},2,1,3,1]
["Central","São Roque do Canaã",{"$f":"'CV Rotina <2A - residência'!H71","v":1},{"$f":"'CV Rotina <2A - residência'!P71","v":0.81481481481481477},{"$f":"'CV Rotina <2A - residência'!J71","v":0.77777777777777779},{"$f":"'CV Rotina <2A - residência'!L71","v":0.80555555555555558},{"$f":"'CV Rotina <2A - residência'!N71","v":0.79629629629629628},{"$f":"'CV Rotina <2A - residência'!X71","v":0.87962962962962965},{"$f":"'CV Rotina <2A - residência'!R71","v":0.80555555555555558},{"$f":"'CV Rotina <2A - residência'!T71","v":0.70370370370370372},{"$f":"'CV Rotina <2A - residência'!V71","v":0.86111111111111116},{"$f":"'CV Rotina <2A - residência'!Z71","v":0.44444444444444442},1,0,1,0]
["Metropolitana","Serra",{"$f":"'CV Rotina <2A - residência'!H72","v":0.95073542441963499},{"$f":"'CV Rotina <2A - residência'!P72","v":0.86088959773170304},{"$f":"'CV Rotina <2A - residência'!J72","v":0.84316852737905368},{"$f":"'CV Rotina <2A - residência'!L72","v":0.85858585858585856},{"$f":"'CV Rotina <2A - residência'!N72","v":0.8924331029594188},{"$f":"'CV Rotina <2A - residência'!X72","v":0.86035796562112354},{"$f":"'CV Rotina <2A - residência'!R72","v":0.84547226652489815},{"$f":"'CV Rotina <2A - residência'!T72","v":0.64274322169059006},{"$f":"'CV Rotina <2A - residência'!V72","v":0.53712564238880023},{"$f":"'CV Rotina <2A - residência'!Z72","v":0.2980684033315612},1,0,1,0]
["Central","Sooretama",{"$f":"'CV Rotina <2A - residência'!H73","v":0.79192546583850931},{"$f":"'CV Rotina <2A - residência'!P73","v":0.98136645962732916},{"$f":"'CV Rotina <2A - residência'!J73","v":0.91925465838509313},{"$f":"'CV Rotina <2A - residência'!L73","v":0.94099378881987583},{"$f":"'CV Rotina <2A - residência'!N73","v":0.99689440993788825},{"$f":"'CV Rotina <2A - residência'!X73","v":0.95341614906832295},{"$f":"'CV Rotina <2A - residência'!R73","v":0.84782608695652173},{"$f":"'CV Rotina <2A - residência'!T73","v":0.7857142857142857},{"$f":"'CV Rotina <2A - residência'!V73","v":0.8850931677018633},{"$f":"'CV Rotina <2A - residência'!Z73","v":0.36645962732919257},1,2,3,2]
["Sul","Vargem Alta",{"$f":"'CV Rotina <2A - residência'!H74","v":0.95566502463054193},{"$f":"'CV Rotina <2A - residência'!P74","v":0.93596059113300489},{"$f":"'CV Rotina <2A - residência'!J74","v":0.8571428571428571},{"$f":"'CV Rotina <2A - residência'!L74","v":0.86699507389162567},{"$f":"'CV Rotina <2A - residência'!N74","v":0.94088669950738912},{"$f":"'CV Rotina <2A - residência'!X74","v":0.94088669950738912},{"$f":"'CV Rotina <2A - residência'!R74","v":0.90640394088669951},{"$f":"'CV Rotina <2A - residência'!T74","v":0.74876847290640391},{"$f":"'CV Rotina <2A - residência'!V74","v":0.89655172413793105},{"$f":"'CV Rotina <2A - residência'!Z74","v":0.46798029556650245},2,0,2,0]
["Metropolitana","Venda Nova do Imigrante",{"$f":"'CV Rotina <2A - residência'!H75","v":0.87867647058823528},{"$f":"'CV Rotina <2A - residência'!P75","v":0.98897058823529416},{"$f":"'CV Rotina <2A - residência'!J75","v":1.0625},{"$f":"'CV Rotina <2A - residência'!L75","v":1.1139705882352942},{"$f":"'CV Rotina <2A - residência'!N75","v":1.0036764705882353},{"$f":"'CV Rotina <2A - residência'!X75","v":1.2095588235294117},{"$f":"'CV Rotina <2A - residência'!R75","v":1},{"$f":"'CV Rotina <2A - residência'!T75","v":1.0147058823529411},{"$f":"'CV Rotina <2A - residência'!V75","v":0.79411764705882348},{"$f":"'CV Rotina <2A - residência'!Z75","v":0.50367647058823528},1,6,7,4]
["Metropolitana","Viana",{"$f":"'CV Rotina <2A - residência'!H76","v":0.93459302325581395},{"$f":"'CV Rotina <2A - residência'!P76","v":0.94767441860465118},{"$f":"'CV Rotina <2A - residência'!J76","v":0.96220930232558144},{"$f":"'CV Rotina <2A - residência'!L76","v":0.95784883720930236},{"$f":"'CV Rotina <2A - residência'!N76","v":1.004360465116279},{"$f":"'CV Rotina <2A - residência'!X76","v":0.98837209302325579},{"$f":"'CV Rotina <2A - residência'!R76","v":0.94767441860465118},{"$f":"'CV Rotina <2A - residência'!T76","v":0.67877906976744184},{"$f":"'CV Rotina <2A - residência'!V76","v":0.84593023255813948},{"$f":"'CV Rotina <2A - residência'!Z76","v":0.30232558139534882},2,4,6,4]
["Norte","Vila Pavão",{"$f":"'CV Rotina <2A - residência'!H77","v":1.1219512195121952},{"$f":"'CV Rotina <2A - residência'!P77","v":0.85365853658536583},{"$f":"'CV Rotina <2A - residência'!J77","v":0.80487804878048785},{"$f":"'CV Rotina <2A - residência'!L77","v":0.80487804878048785},{"$f":"'CV Rotina <2A - residência'!N77","v":0.85365853658536583},{"$f":"'CV Rotina <2A - residência'!X77","v":0.97560975609756095},{"$f":"'CV Rotina <2A - residência'!R77","v":0.85365853658536583},{"$f":"'CV Rotina <2A - residência'!T77","v":0.82926829268292679},{"$f":"'CV Rotina <2A - residência'!V77","v":0.98780487804878048},{"$f":"'CV Rotina <2A - residência'!Z77","v":0.43902439024390244},1,2,3,1]
["Central","Vila Valério",{"$f":"'CV Rotina <2A - residência'!H78","v":0.88297872340425532},{"$f":"'CV Rotina <2A - residência'!P78","v":0.9521276595744681},{"$f":"'CV Rotina <2A - residência'!J78","v":0.94680851063829785},{"$f":"'CV Rotina <2A - residência'!L78","v":0.96808510638297873},{"$f":"'CV Rotina <2A - residência'!N78","v":0.97340425531914898},{"$f":"'CV Rotina <2A - residência'!X78","v":0.8936170212765957},{"$f":"'CV Rotina <2A - residência'!R78","v":0.97872340425531912},{"$f":"'CV Rotina <2A - residência'!T78","v":0.85106382978723405},{"$f":"'CV Rotina <2A - residência'!V78","v":0.78723404255319152},{"$f":"'CV Rotina <2A - residência'!Z78","v":0.41489361702127658},1,3,4,2]
["Metropolitana","Vila Velha",{"$f":"'CV Rotina <2A - residência'!H79","v":0.89986059479553904},{"$f":"'CV Rotina <2A - residência'!P79","v":0.83805762081784385},{"$f":"'CV Rotina <2A - residência'!J79","v":0.82922862453531598},{"$f":"'CV Rotina <2A - residência'!L79","v":0.8810408921933085},{"$f":"'CV Rotina <2A - residência'!N79","v":0.85548327137546465},{"$f":"'CV Rotina <2A - residência'!X79","v":0.870817843866171},{"$f":"'CV Rotina <2A - residência'!R79","v":0.83805762081784385},{"$f":"'CV Rotina <2A - residência'!T79","v":0.66426579925650553},{"$f":"'CV Rotina <2A - residência'!V79","v":0.74953531598513012},{"$f":"'CV Rotina <2A - residência'!Z79","v":0.37453531598513012},0,0,0,0]
["Metropolitana","Vitória",{"$f":"'CV Rotina <2A - residência'!H80","v":0.93207410098074828},{"$f":"'CV Rotina <2A - residência'!P80","v":0.91899745731928806},{"$f":"'CV Rotina <2A - residência'!J80","v":0.91681801670904473},{"$f":"'CV Rotina <2A - residência'!L80","v":1.0232473665092625},{"$f":"'CV Rotina <2A - residência'!N80","v":0.93606974209952776},{"$f":"'CV Rotina <2A - residência'!X80","v":0.91863421721758087},{"$f":"'CV Rotina <2A - residência'!R80","v":0.91027969487831462},{"$f":"'CV Rotina <2A - residência'!T80","v":0.67635306937885942},{"$f":"'CV Rotina <2A - residência'!V80","v":0.89538685070831825},{"$f":"'CV Rotina <2A - residência'!Z80","v":0.43625136215038141},2,1,3,1]
[]
[null,"Total Norte",{"$f":"'CV Rotina <2A - residência'!H82","v":0.90972534894191803},{"$f":"'CV Rotina <2A - residência'!P82","v":0.92503376857271502},{"$f":"'CV Rotina <2A - residência'!J82","v":0.92773525438991444},{"$f":"'CV Rotina <2A - residência'!L82","v":0.93651508329581268},{"$f":"'CV Rotina <2A - residência'!N82","v":0.95790184601530837},{"$f":"'CV Rotina <2A - residência'!X82","v":0.94461954074741106},{"$f":"'CV Rotina <2A - residência'!R82","v":0.91152633948671768},{"$f":"'CV Rotina <2A - residência'!T82","v":0.78388113462404319},{"$f":"'CV Rotina <2A - residência'!V82","v":0.7672219720846466},{"$f":"'CV Rotina <2A - residência'!Z82","v":0.41377757766771722},{"$f":"COUNTIF(C82:D82,\">=0,9\")","v":2},{"$f":"COUNTIFS(E82:L82,\">=0,95\")","v":1},{"$f":"SUM(M82:N82)","v":3},{"$f":"COUNTIF(E82:H82,\">=0,95\")","v":1}]
[null,"Total Central",{"$f":"'CV Rotina <2A - residência'!H83","v":0.8668021429891003},{"$f":"'CV Rotina <2A - residência'!P83","v":0.93127655643820428},{"$f":"'CV Rotina <2A - residência'!J83","v":0.90559763532237203},{"$f":"'CV Rotina <2A - residência'!L83","v":0.93053759467947539},{"$f":"'CV Rotina <2A - residência'!N83","v":0.93755773138740073},{"$f":"'CV Rotina <2A - residência'!X83","v":0.933308701274709},{"$f":"'CV Rotina <2A - residência'!R83","v":0.90079438389063371},{"$f":"'CV Rotina <2A - residência'!T83","v":0.77868095326066877},{"$f":"'CV Rotina <2A - residência'!V83","v":0.82523554406059485},{"$f":"'CV Rotina <2A - residência'!Z83","v":0.44042120820247554},{"$f":"COUNTIF(C83:D83,\">=0,9\")","v":1},{"$f":"COUNTIFS(E83:L83,\">=0,95\")","v":0},{"$f":"SUM(M83:N83)","v":1},{"$f":"COUNTIF(E83:H83,\">=0,95\")","v":0}]
[null,"Total Metropolitana",{"$f":"'CV Rotina <2A - residência'!H84","v":0.93804755944931162},{"$f":"'CV Rotina <2A - residência'!P84","v":0.89679063114607549},{"$f":"'CV Rotina <2A - residência'!J84","v":0.87998390845699981},{"$f":"'CV Rotina <2A - residência'!L84","v":0.90988735919899877},{"$f":"'CV Rotina <2A - residência'!N84","v":0.92289468979080991},{"$f":"'CV Rotina <2A - residência'!X84","v":0.91270337922403},{"$f":"'CV Rotina <2A - residência'!R84","v":0.88119077418201319},{"$f":"'CV Rotina <2A - residência'!T84","v":0.69417128553549079},{"$f":"'CV Rotina <2A - residência'!V84","v":0.74141784373323794},{"$f":"'CV Rotina <2A - residência'!Z84","v":0.37873234400143035},{"$f":"COUNTIF(C84:D84,\">=0,9\")","v":1},{"$f":"COUNTIFS(E84:L84,\">=0,95\")","v":0},{"$f":"SUM(M84:N84)","v":1},{"$f":"COUNTIF(E84:H84,\">=0,95\")","v":0}]
[null,"Total Sul",{"$f":"'CV Rotina <2A - residência'!H85","v":0.93344953256219299},{"$f":"'CV Rotina <2A - residência'!P85","v":0.94628426556805578},{"$f":"'CV Rotina <2A - residência'!J85","v":0.93725241641578194},{"$f":"'CV Rotina <2A - residência'!L85","v":0.94818570749485032},{"$f":"'CV Rotina <2A - residência'!N85","v":0.97052765013468545},{"$f":"'CV Rotina <2A - residência'!X85","v":0.95721755664712405},{"$f":"'CV Rotina <2A - residência'!R85","v":0.92251624148312472},{"$f":"'CV Rotina <2A - residência'!T85","v":0.75392172397401358},{"$f":"'CV Rotina <2A - residência'!V85","v":0.85517350657582003},{"$f":"'CV Rotina <2A - residência'!Z85","v":0.39090476945016639},{"$f":"COUNTIF(C85:D85,\">=0,9\")","v":2},{"$f":"COUNTIFS(E85:L85,\">=0,95\")","v":2},{"$f":"SUM(M85:N85)","v":4},{"$f":"COUNTIF(E85:H85,\">=0,95\")","v":2}]
[null,"Total Espírito Santo",{"$f":"'CV Rotina <2A - residência'!H86","v":0.92402304219212206},{"$f":"'CV Rotina <2A - residência'!P86","v":0.9129949660075769},{"$f":"'CV Rotina <2A - residência'!J86","v":0.89846385385852923},{"$f":"'CV Rotina <2A - residência'!L86","v":0.92212880792983554},{"$f":"'CV Rotina <2A - residência'!N86","v":0.9367896621516425},{"$f":"'CV Rotina <2A - residência'!X86","v":0.92656598681820546},{"$f":"'CV Rotina <2A - residência'!R86","v":0.89420831387202238},{"$f":"'CV Rotina <2A - residência'!T86","v":0.72616638123410659},{"$f":"'CV Rotina <2A - residência'!V86","v":0.77479371010431264},{"$f":"'CV Rotina <2A - residência'!Z86","v":0.39342986143546627},{"$f":"COUNTIF(C86:D86,\">=0,9\")","v":2},{"$f":"COUNTIFS(E86:L86,\">=0,95\")","v":0},{"$f":"SUM(M86:N86)","v":2},{"$f":"COUNTIF(E86:H86,\">=0,95\")","v":0}]
[]
[]
["Fonte: SIPNI/DATASUS, em 09 de junho de 2023.*"]
[" Vacina e Confia, em 12 de junho de 2023.**"]
["*Dados referentes às doses aplicadas pelas clínicas particulares de janeiro a maio de 2023"]
["**Dados referente às doses aplicadas no período de janeiro a maio de 2023"]
["Cobertura Calculada por município de vacinação"]
["1 População proporcional extraída do MS/SVS/DASIS - Sistema de Informações sobre Nascidos Vivos - SINASC"]
["2000 a 2021 – Estimativas preliminares elaboradas pelo Ministério da Saúde/SVS/DASNT/CGIAE"]
[" Nota: Dados preliminares 2021"]