{"text_format":"1","workbook":"xlsx","n_sheets":9,"sheets":["GRÁFICOS - Biv - resid","GRÁFICOS - Biv - proced","GRÁFICOS - Monov - resid","GRÁFICOS - Monov - proc","Bivalente - resid","Bivalente - proced","Monovalente - resid","Monovalente - proc","LIBERAÇÃO"],"not_rendered":{"charts":20,"images":0,"macros":1,"external_links":0,"defined_names":0,"comments":0,"pivot_tables":0},"unopened":[],"bounds":{"document_bytes":16777216,"sheet_cells":100000,"rows_first":2000,"rows_last":500,"rows_between":2000,"halvings":0,"cell_chars":16384,"cell_head_chars":4096},"cells_cut":0,"cells_raw":0,"read":"whole","date_system":"1900"}

{"sheet":"GRÁFICOS - Biv - resid","index":0,"n_rows":0,"n_cols":0,"rows_kept":0,"cut":false,"hidden":false,"merged":[]}

{"sheet":"GRÁFICOS - Biv - proced","index":1,"n_rows":0,"n_cols":0,"rows_kept":0,"cut":false,"hidden":false,"merged":[]}

{"sheet":"GRÁFICOS - Monov - resid","index":2,"n_rows":0,"n_cols":0,"rows_kept":0,"cut":false,"hidden":false,"merged":[]}

{"sheet":"GRÁFICOS - Monov - proc","index":3,"n_rows":0,"n_cols":0,"rows_kept":0,"cut":false,"hidden":false,"merged":[]}

{"sheet":"Bivalente - resid","index":4,"n_rows":97,"n_cols":84,"rows_kept":97,"cut":false,"hidden":false,"merged":[[0,79,0,83],[0,52,0,56],[0,57,0,61],[0,62,0,66],[0,67,0,71],[0,72,0,76],[0,47,0,51],[0,0,1,0],[0,1,1,1],[0,2,0,6],[0,7,0,11],[0,12,0,16],[0,17,0,21],[0,22,0,26],[0,27,0,31],[0,32,0,36],[0,37,0,41],[0,42,0,46]]}
["REGIONAL","MUNICÍPIO","12 A 17 ANOS",null,null,null,null,"18 A 19 ANOS",null,null,null,null,"20 A 24 ANOS",null,null,null,null,"25 A 29 ANOS",null,null,null,null,"30 A 34 ANOS",null,null,null,null,"35 A 39 ANOS",null,null,null,null,"40 A 44 ANOS",null,null,null,null,"45 A 49 ANOS",null,null,null,null,"50 A 54 ANOS",null,null,null,null,"55 A 59 ANOS",null,null,null,null,"60 A 64 ANOS",null,null,null,null,"65 A 69 ANOS",null,null,null,null,"70 A 74 ANOS",null,null,null,null,"75 A 79 ANOS",null,null,null,null,"80 ANOS OU MAIS",null,null,null,null,null,"MUNICÍPIO","GERAL"]
[null,null,"ESTIMATIVA POPULACIONAL","REFORÇO BIVALENTE\n(1 dose)","COBERTURA VACINAL REFORÇO BIVALENTE","2º REFORÇO BIVALENTE\n(2 doses)","2º COBERTURA VACINAL REFORÇO BIVALENTE","ESTIMATIVA POPULACIONAL","REFORÇO BIVALENTE\n(1 dose)","COBERTURA VACINAL REFORÇO BIVALENTE","2º REFORÇO BIVALENTE\n(2 doses)","2º COBERTURA VACINAL REFORÇO BIVALENTE","ESTIMATIVA POPULACIONAL","REFORÇO BIVALENTE\n(1 dose)","COBERTURA VACINAL REFORÇO BIVALENTE","2º REFORÇO BIVALENTE\n(2 doses)","2º COBERTURA VACINAL REFORÇO BIVALENTE","ESTIMATIVA POPULACIONAL","REFORÇO BIVALENTE\n(1 dose)","COBERTURA VACINAL REFORÇO BIVALENTE","2º REFORÇO BIVALENTE\n(2 doses)","2º COBERTURA VACINAL REFORÇO BIVALENTE","ESTIMATIVA POPULACIONAL","REFORÇO BIVALENTE\n(1 dose)","COBERTURA VACINAL REFORÇO BIVALENTE","2º REFORÇO BIVALENTE\n(2 doses)","2º COBERTURA VACINAL REFORÇO BIVALENTE","ESTIMATIVA POPULACIONAL","REFORÇO BIVALENTE\n(1 dose)","COBERTURA VACINAL REFORÇO BIVALENTE","2º REFORÇO BIVALENTE\n(2 doses)","2º COBERTURA VACINAL REFORÇO BIVALENTE","ESTIMATIVA POPULACIONAL","REFORÇO BIVALENTE\n(1 dose)","COBERTURA VACINAL REFORÇO BIVALENTE","2º REFORÇO BIVALENTE\n(2 doses)","2º COBERTURA VACINAL REFORÇO BIVALENTE","ESTIMATIVA POPULACIONAL","REFORÇO BIVALENTE\n(1 dose)","COBERTURA VACINAL REFORÇO BIVALENTE","2º REFORÇO BIVALENTE\n(2 doses)","2º COBERTURA VACINAL REFORÇO BIVALENTE","ESTIMATIVA POPULACIONAL","REFORÇO BIVALENTE\n(1 dose)","COBERTURA VACINAL REFORÇO BIVALENTE","2º REFORÇO BIVALENTE\n(2 doses)","2º COBERTURA VACINAL REFORÇO BIVALENTE","ESTIMATIVA POPULACIONAL","REFORÇO BIVALENTE\n(1 dose)","COBERTURA VACINAL REFORÇO BIVALENTE","2º REFORÇO BIVALENTE\n(2 doses)","2º COBERTURA VACINAL REFORÇO BIVALENTE","ESTIMATIVA POPULACIONAL","REFORÇO BIVALENTE\n(1 dose)","COBERTURA VACINAL REFORÇO BIVALENTE","2º REFORÇO BIVALENTE\n(2 doses)","2º COBERTURA VACINAL REFORÇO BIVALENTE","ESTIMATIVA POPULACIONAL","REFORÇO BIVALENTE\n(1 dose)","COBERTURA VACINAL REFORÇO BIVALENTE","2º REFORÇO BIVALENTE\n(2 doses)","2º COBERTURA VACINAL REFORÇO BIVALENTE","ESTIMATIVA POPULACIONAL","REFORÇO BIVALENTE\n(1 dose)","COBERTURA VACINAL REFORÇO BIVALENTE","2º REFORÇO BIVALENTE\n(2 doses)","2º COBERTURA VACINAL REFORÇO BIVALENTE","ESTIMATIVA POPULACIONAL","REFORÇO BIVALENTE\n(1 dose)","COBERTURA VACINAL REFORÇO BIVALENTE","2º REFORÇO BIVALENTE\n(2 doses)","2º COBERTURA VACINAL REFORÇO BIVALENTE","ESTIMATIVA POPULACIONAL","REFORÇO BIVALENTE\n(1 dose)","COBERTURA VACINAL REFORÇO BIVALENTE","2º REFORÇO BIVALENTE\n(2 doses)","2º COBERTURA VACINAL REFORÇO BIVALENTE",null,null,"ESTIMATIVA POPULACIONAL","REFORÇO BIVALENTE\n(1 dose)","COBERTURA VACINAL REFORÇO BIVALENTE","2º REFORÇO BIVALENTE\n(2 doses)","2º COBERTURA VACINAL REFORÇO BIVALENTE"]
["Regional Metropolitana","Afonso Cláudio",2476,15,"0.61%",0,"0.00%",799,55,"6.88%",0,"0.00%",1946,149,"7.66%",1,"0.05%",1960,160,"8.16%",1,"0.05%",2107,176,"8.35%",3,"0.14%",2257,192,"8.51%",1,"0.04%",2550,266,"10.43%",2,"0.08%",2210,273,"12.35%",0,"0.00%",1972,278,"14.10%",2,"0.10%",1928,328,"17.01%",1,"0.05%",1679,491,"29.24%",21,"1.25%",1450,534,"36.83%",29,"2.00%",1113,490,"44.03%",17,"1.53%",726,320,"44.08%",13,"1.79%",937,428,"45.68%",8,"0.85%",null,"Afonso Cláudio",{"$f":"SUM(C3,H3,M3,R3,W3,AB3,AG3,AL3,AQ3,AV3,BA3,BF3,BK3,BP3,BU3)","v":26110},{"$f":"SUM(D3,I3,N3,S3,X3,AC3,AH3,AM3,AR3,AW3,BB3,BG3,BL3,BQ3,BV3)","v":4155},{"$f":"CC3/CB3","v":0.15913443125239371},{"$f":"SUM(F3,K3,P3,U3,Z3,AE3,AJ3,AO3,AT3,AY3,BD3,BI3,BN3,BS3,BX3)","v":99},{"$f":"CE3/CB3","v":3.7916507085407891E-3}]
["Regional Norte","Água Doce do Norte",1021,4,"0.39%",0,"0.00%",315,34,"10.79%",0,"0.00%",785,88,"11.21%",0,"0.00%",750,99,"13.20%",1,"0.13%",713,96,"13.46%",0,"0.00%",836,105,"12.56%",0,"0.00%",913,129,"14.13%",3,"0.33%",883,148,"16.76%",2,"0.23%",833,162,"19.45%",3,"0.36%",774,166,"21.45%",3,"0.39%",696,198,"28.45%",10,"1.44%",601,214,"35.61%",15,"2.50%",397,175,"44.08%",13,"3.27%",281,111,"39.50%",7,"2.49%",382,173,"45.29%",9,"2.36%",null,"Água Doce do Norte",{"$f":"SUM(C4,H4,M4,R4,W4,AB4,AG4,AL4,AQ4,AV4,BA4,BF4,BK4,BP4,BU4)","v":10180},1902,{"$f":"CC4/CB4","v":0.18683693516699409},{"$f":"SUM(F4,K4,P4,U4,Z4,AE4,AJ4,AO4,AT4,AY4,BD4,BI4,BN4,BS4,BX4)","v":66},{"$f":"CE4/CB4","v":6.4833005893909623E-3}]
["Regional Central","Águia Branca",787,3,"0.38%",0,"0.00%",271,14,"5.17%",0,"0.00%",631,35,"5.55%",0,"0.00%",653,51,"7.81%",1,"0.15%",682,50,"7.33%",0,"0.00%",702,77,"10.97%",1,"0.14%",713,80,"11.22%",0,"0.00%",683,70,"10.25%",1,"0.15%",742,91,"12.26%",3,"0.40%",608,106,"17.43%",0,"0.00%",572,195,"34.09%",18,"3.15%",432,218,"50.46%",14,"3.24%",331,161,"48.64%",16,"4.83%",206,98,"47.57%",9,"4.37%",234,127,"54.27%",9,"3.85%",null,"Águia Branca",8247,1376,0.16684855098823814,72,8.730447435431065E-3]
["Regional Sul","Alegre",2030,11,"0.54%",0,"0.00%",819,68,"8.30%",0,"0.00%",2206,273,"12.38%",2,"0.09%",2017,319,"15.82%",3,"0.15%",2063,265,"12.85%",1,"0.05%",2096,289,"13.79%",1,"0.05%",2244,304,"13.55%",1,"0.04%",1867,324,"17.35%",1,"0.05%",1917,309,"16.12%",3,"0.16%",1843,371,"20.13%",1,"0.05%",1719,662,"38.51%",27,"1.57%",1457,750,"51.48%",43,"2.95%",1093,652,"59.65%",34,"3.11%",694,456,"65.71%",20,"2.88%",986,668,"67.75%",43,"4.36%",null,"Alegre",25051,5721,0.22837411680172448,180,7.1853419025188613E-3]
["Regional Sul","Alfredo Chaves",1022,0,"0.00%",0,"0.00%",298,28,"9.40%",0,"0.00%",806,78,"9.68%",1,"0.12%",857,73,"8.52%",2,"0.23%",898,93,"10.36%",2,"0.22%",1058,97,"9.17%",1,"0.09%",1111,115,"10.35%",1,"0.09%",1046,113,"10.80%",1,"0.10%",945,117,"12.38%",0,"0.00%",963,132,"13.71%",3,"0.31%",882,283,"32.09%",15,"1.70%",727,331,"45.53%",33,"4.54%",548,275,"50.18%",34,"6.20%",368,195,"52.99%",25,"6.79%",515,258,"50.10%",26,"5.05%",null,"Alfredo Chaves",12044,2188,0.18166722019262704,144,1.195616074393889E-2]
["Regional Central","Alto Rio Novo",634,0,"0.00%",0,"0.00%",204,15,"7.35%",0,"0.00%",453,44,"9.71%",0,"0.00%",408,37,"9.07%",1,"0.25%",477,45,"9.43%",0,"0.00%",557,71,"12.75%",0,"0.00%",595,62,"10.42%",1,"0.17%",553,88,"15.91%",3,"0.54%",527,82,"15.56%",3,"0.57%",474,94,"19.83%",0,"0.00%",435,143,"32.87%",19,"4.37%",366,145,"39.62%",17,"4.64%",246,136,"55.28%",14,"5.69%",171,82,"47.95%",5,"2.92%",199,82,"41.21%",9,"4.52%",null,"Alto Rio Novo",6299,1126,0.17875853310049214,72,1.1430385775519924E-2]
["Regional Sul","Anchieta",2371,17,"0.72%",2,"0.08%",812,109,"13.42%",0,"0.00%",1886,330,"17.50%",1,"0.05%",1990,315,"15.83%",4,"0.20%",2260,339,"15.00%",2,"0.09%",2624,466,"17.76%",6,"0.23%",2607,532,"20.41%",9,"0.35%",2035,460,"22.60%",8,"0.39%",1869,419,"22.42%",6,"0.32%",1719,409,"23.79%",12,"0.70%",1608,562,"34.95%",42,"2.61%",1331,649,"48.76%",58,"4.36%",874,501,"57.32%",68,"7.78%",569,363,"63.80%",44,"7.73%",698,454,"65.04%",49,"7.02%",null,"Anchieta",25253,5925,0.23462558903892608,311,1.2315368471072743E-2]
["Regional Sul","Apiacá",568,1,"0.18%",0,"0.00%",183,9,"4.92%",0,"0.00%",468,31,"6.62%",1,"0.21%",498,36,"7.23%",1,"0.20%",467,32,"6.85%",1,"0.21%",537,34,"6.33%",1,"0.19%",533,48,"9.01%",2,"0.38%",471,67,"14.23%",1,"0.21%",495,54,"10.91%",0,"0.00%",466,60,"12.88%",0,"0.00%",422,115,"27.25%",1,"0.24%",396,150,"37.88%",2,"0.51%",282,130,"46.10%",8,"2.84%",184,94,"51.09%",2,"1.09%",252,119,"47.22%",4,"1.59%",null,"Apiacá",6222,980,0.15750562520090003,24,3.8572806171648989E-3]
["Regional Metropolitana","Aracruz",8266,315,"3.81%",24,"0.29%",2607,429,"16.46%",18,"0.69%",6996,1268,"18.12%",58,"0.83%",7010,1329,"18.96%",50,"0.71%",7439,1373,"18.46%",66,"0.89%",8029,1446,"18.01%",65,"0.81%",7786,1415,"18.17%",59,"0.76%",6548,1403,"21.43%",49,"0.75%",5631,1295,"23.00%",70,"1.24%",4949,1288,"26.03%",71,"1.43%",4417,1621,"36.70%",269,"6.09%",3470,1672,"48.18%",359,"10.35%",2261,1316,"58.20%",277,"12.25%",1325,784,"59.17%",143,"10.79%",1574,1026,"65.18%",164,"10.42%",null,"Aracruz",78308,17980,0.22960617050620627,1742,2.224549215916637E-2]
["Regional Sul","Atílio Vivacqua",856,5,"0.58%",0,"0.00%",278,30,"10.79%",0,"0.00%",688,76,"11.05%",1,"0.15%",696,93,"13.36%",1,"0.14%",798,98,"12.28%",0,"0.00%",830,135,"16.27%",0,"0.00%",836,140,"16.75%",1,"0.12%",684,130,"19.01%",2,"0.29%",684,135,"19.74%",2,"0.29%",627,166,"26.48%",2,"0.32%",590,269,"45.59%",14,"2.37%",454,239,"52.64%",18,"3.96%",351,210,"59.83%",22,"6.27%",212,140,"66.04%",10,"4.72%",236,161,"68.22%",10,"4.24%",null,"Atílio Vivacqua",8820,2027,0.22981859410430838,83,9.4104308390022678E-3]
["Regional Central","Baixo Guandu",2426,11,"0.45%",1,"0.04%",807,45,"5.58%",0,"0.00%",2105,139,"6.60%",2,"0.10%",2024,159,"7.86%",0,"0.00%",2152,183,"8.50%",0,"0.00%",2159,199,"9.22%",2,"0.09%",2327,226,"9.71%",4,"0.17%",2122,243,"11.45%",4,"0.19%",2020,306,"15.15%",3,"0.15%",2007,321,"15.99%",3,"0.15%",1714,416,"24.27%",30,"1.75%",1361,400,"29.39%",29,"2.13%",967,376,"38.88%",16,"1.65%",697,258,"37.02%",17,"2.44%",967,360,"37.23%",11,"1.14%",null,"Baixo Guandu",25855,3642,0.1408625024173274,122,4.7186230903113521E-3]
["Regional Norte","Barra de São Francisco",3499,8,"0.23%",0,"0.00%",1126,43,"3.82%",0,"0.00%",2926,158,"5.40%",0,"0.00%",2931,215,"7.34%",3,"0.10%",2959,159,"5.37%",0,"0.00%",3237,211,"6.52%",1,"0.03%",3253,223,"6.86%",1,"0.03%",2908,248,"8.53%",3,"0.10%",2875,258,"8.97%",3,"0.10%",2624,283,"10.79%",2,"0.08%",2221,427,"19.23%",38,"1.71%",1761,497,"28.22%",56,"3.18%",1284,427,"33.26%",52,"4.05%",878,270,"30.75%",27,"3.08%",1082,330,"30.50%",22,"2.03%",null,"Barra de São Francisco",35564,3757,0.10564053537284895,208,5.8486109548982115E-3]
["Regional Norte","Boa Esperança",1154,6,"0.52%",0,"0.00%",416,29,"6.97%",0,"0.00%",927,118,"12.73%",0,"0.00%",936,125,"13.35%",1,"0.11%",944,133,"14.09%",0,"0.00%",1025,137,"13.37%",0,"0.00%",1043,171,"16.40%",2,"0.19%",964,168,"17.43%",2,"0.21%",878,164,"18.68%",1,"0.11%",832,199,"23.92%",1,"0.12%",705,293,"41.56%",13,"1.84%",592,284,"47.97%",16,"2.70%",402,237,"58.96%",27,"6.72%",287,149,"51.92%",5,"1.74%",331,225,"67.98%",10,"3.02%",null,"Boa Esperança",11436,2438,0.21318642882126618,78,6.8205666316894023E-3]
["Regional Sul","Bom Jesus do Norte",806,2,"0.25%",0,"0.00%",248,15,"6.05%",0,"0.00%",745,48,"6.44%",1,"0.13%",686,59,"8.60%",0,"0.00%",763,57,"7.47%",0,"0.00%",738,42,"5.69%",1,"0.14%",858,71,"8.28%",2,"0.23%",692,62,"8.96%",0,"0.00%",668,68,"10.18%",2,"0.30%",599,95,"15.86%",2,"0.33%",576,126,"21.88%",19,"3.30%",534,192,"35.96%",28,"5.24%",342,141,"41.23%",18,"5.26%",199,85,"42.71%",9,"4.52%",340,153,"45.00%",17,"5.00%",null,"Bom Jesus do Norte",8794,1216,0.13827609733909485,99,1.1257675687969071E-2]
["Regional Metropolitana","Brejetuba",1189,0,"0.00%",0,"0.00%",405,37,"9.14%",0,"0.00%",1043,69,"6.62%",0,"0.00%",928,85,"9.16%",0,"0.00%",944,83,"8.79%",1,"0.11%",1105,111,"10.05%",0,"0.00%",1109,122,"11.00%",0,"0.00%",869,117,"13.46%",2,"0.23%",781,107,"13.70%",1,"0.13%",660,118,"17.88%",0,"0.00%",571,161,"28.20%",6,"1.05%",433,157,"36.26%",3,"0.69%",279,133,"47.67%",3,"1.08%",165,72,"43.64%",3,"1.82%",189,84,"44.44%",3,"1.59%",null,"Brejetuba",10670,1456,0.13645735707591378,22,2.0618556701030928E-3]
["Regional Sul","Cachoeiro de Itapemirim",13632,122,"0.89%",5,"0.04%",4626,501,"10.83%",2,"0.04%",12452,1457,"11.70%",10,"0.08%",13666,1685,"12.33%",7,"0.05%",14562,1828,"12.55%",13,"0.09%",14793,2073,"14.01%",15,"0.10%",15106,2351,"15.56%",17,"0.11%",12366,2212,"17.89%",16,"0.13%",12351,2196,"17.78%",14,"0.11%",11848,2778,"23.45%",28,"0.24%",10478,3582,"34.19%",289,"2.76%",8383,3753,"44.77%",360,"4.29%",5765,3006,"52.14%",309,"5.36%",3534,1928,"54.56%",185,"5.23%",4746,2691,"56.70%",238,"5.01%",null,"Cachoeiro de Itapemirim",158308,32163,0.20316724360108143,1508,9.5257346438588075E-3]
["Regional Metropolitana","Cariacica",29716,308,"1.04%",7,"0.02%",9902,1335,"13.48%",6,"0.06%",26053,4258,"16.34%",65,"0.25%",25148,4881,"19.41%",90,"0.36%",26548,4851,"18.27%",74,"0.28%",28348,5396,"19.03%",97,"0.34%",28814,5658,"19.64%",118,"0.41%",24129,5095,"21.12%",113,"0.47%",22496,4953,"22.02%",102,"0.45%",20080,5221,"26.00%",94,"0.47%",17848,6740,"37.76%",952,"5.33%",14188,7084,"49.93%",1192,"8.40%",9488,5454,"57.48%",1002,"10.56%",5811,3400,"58.51%",615,"10.58%",6670,3658,"54.84%",476,"7.14%",null,"Cariacica",295239,68292,0.23131090404722954,5003,1.6945593231246548E-2]
["Regional Sul","Castelo",2533,8,"0.32%",0,"0.00%",907,70,"7.72%",0,"0.00%",2489,247,"9.92%",2,"0.08%",2494,268,"10.75%",1,"0.04%",2747,269,"9.79%",1,"0.04%",2993,340,"11.36%",2,"0.07%",3061,400,"13.07%",2,"0.07%",2517,350,"13.91%",1,"0.04%",2497,387,"15.50%",5,"0.20%",2463,484,"19.65%",1,"0.04%",2183,714,"32.71%",36,"1.65%",1707,765,"44.82%",53,"3.10%",1240,641,"51.69%",37,"2.98%",864,488,"56.48%",37,"4.28%",1177,662,"56.24%",34,"2.89%",null,"Castelo",31872,6093,0.19117093373493976,212,6.6516064257028116E-3]
["Regional Central","Colatina",8293,33,"0.40%",0,"0.00%",3034,200,"6.59%",1,"0.03%",8455,734,"8.68%",5,"0.06%",8813,906,"10.28%",8,"0.09%",9183,930,"10.13%",8,"0.09%",9662,1108,"11.47%",6,"0.06%",9799,1186,"12.10%",9,"0.09%",8251,1088,"13.19%",8,"0.10%",8261,1224,"14.82%",5,"0.06%",7584,1465,"19.32%",11,"0.15%",6687,2010,"30.06%",87,"1.30%",5306,2265,"42.69%",99,"1.87%",3744,1846,"49.31%",76,"2.03%",2455,1255,"51.12%",71,"2.89%",3299,1567,"47.50%",71,"2.15%",null,"Colatina",102826,17817,0.17327329663703733,465,4.5222025557738318E-3]
["Regional Norte","Conceição da Barra",2506,68,"2.71%",0,"0.00%",832,52,"6.25%",0,"0.00%",1816,222,"12.22%",2,"0.11%",1859,282,"15.17%",2,"0.11%",1794,229,"12.76%",4,"0.22%",2107,269,"12.77%",1,"0.05%",2191,321,"14.65%",3,"0.14%",1817,267,"14.69%",2,"0.11%",1721,280,"16.27%",4,"0.23%",1585,318,"20.06%",11,"0.69%",1458,445,"30.52%",51,"3.50%",1137,417,"36.68%",46,"4.05%",801,328,"40.95%",46,"5.74%",495,259,"52.32%",32,"6.46%",577,295,"51.13%",21,"3.64%",null,"Conceição da Barra",22696,4052,0.17853366231935142,225,9.9136411702502644E-3]
["Regional Metropolitana","Conceição do Castelo",956,2,"0.21%",0,"0.00%",335,18,"5.37%",0,"0.00%",812,40,"4.93%",0,"0.00%",801,37,"4.62%",1,"0.12%",883,33,"3.74%",0,"0.00%",965,66,"6.84%",0,"0.00%",979,79,"8.07%",0,"0.00%",818,67,"8.19%",1,"0.12%",731,69,"9.44%",0,"0.00%",659,83,"12.59%",0,"0.00%",663,162,"24.43%",8,"1.21%",527,181,"34.35%",14,"2.66%",400,143,"35.75%",13,"3.25%",248,106,"42.74%",9,"3.63%",338,130,"38.46%",7,"2.07%",null,"Conceição do Castelo",10115,1216,0.12021749876421156,53,5.2397429560059319E-3]
["Regional Sul","Divino de São Lourenço",417,2,"0.48%",0,"0.00%",153,17,"11.11%",0,"0.00%",368,42,"11.41%",0,"0.00%",359,47,"13.09%",0,"0.00%",384,64,"16.67%",0,"0.00%",429,81,"18.88%",0,"0.00%",346,80,"23.12%",0,"0.00%",338,58,"17.16%",0,"0.00%",327,67,"20.49%",0,"0.00%",327,77,"23.55%",2,"0.61%",280,126,"45.00%",23,"8.21%",227,99,"43.61%",19,"8.37%",150,94,"62.67%",20,"13.33%",90,58,"64.44%",19,"21.11%",100,61,"61.00%",19,"19.00%",null,"Divino de São Lourenço",4295,973,0.22654249126891735,102,2.3748544819557627E-2]
["Regional Metropolitana","Domingos Martins",2643,19,"0.72%",2,"0.08%",903,98,"10.85%",1,"0.11%",2261,276,"12.21%",0,"0.00%",2426,335,"13.81%",5,"0.21%",2544,346,"13.60%",3,"0.12%",2821,444,"15.74%",3,"0.11%",3050,495,"16.23%",8,"0.26%",2600,497,"19.12%",6,"0.23%",2446,496,"20.28%",5,"0.20%",2318,548,"23.64%",5,"0.22%",2066,848,"41.05%",113,"5.47%",1522,816,"53.61%",132,"8.67%",1143,665,"58.18%",101,"8.84%",711,478,"67.23%",79,"11.11%",916,602,"65.72%",78,"8.52%",null,"Domingos Martins",30370,6963,0.22927230819888048,541,1.7813631873559433E-2]
["Regional Sul","Dores do Rio Preto",545,2,"0.37%",0,"0.00%",206,17,"8.25%",0,"0.00%",489,50,"10.22%",1,"0.20%",432,44,"10.19%",0,"0.00%",479,66,"13.78%",0,"0.00%",512,55,"10.74%",1,"0.20%",492,82,"16.67%",0,"0.00%",482,82,"17.01%",3,"0.62%",425,55,"12.94%",2,"0.47%",405,85,"20.99%",6,"1.48%",367,115,"31.34%",19,"5.18%",278,117,"42.09%",20,"7.19%",214,105,"49.07%",18,"8.41%",116,68,"58.62%",14,"12.07%",170,82,"48.24%",14,"8.24%",null,"Dores do Rio Preto",5612,1025,0.18264433357091947,98,1.7462580185317177E-2]
["Regional Norte","Ecoporanga",1788,12,"0.67%",0,"0.00%",575,76,"13.22%",0,"0.00%",1434,191,"13.32%",7,"0.49%",1306,176,"13.48%",1,"0.08%",1379,213,"15.45%",2,"0.15%",1646,237,"14.40%",6,"0.36%",1773,288,"16.24%",7,"0.39%",1586,329,"20.74%",8,"0.50%",1536,304,"19.79%",11,"0.72%",1426,337,"23.63%",9,"0.63%",1291,434,"33.62%",37,"2.87%",1094,401,"36.65%",31,"2.83%",770,329,"42.73%",32,"4.16%",490,229,"46.73%",18,"3.67%",629,307,"48.81%",17,"2.70%",null,"Ecoporanga",18723,3863,0.20632377289964215,186,9.934305399775677E-3]
["Regional Metropolitana","Fundão",1417,7,"0.49%",0,"0.00%",450,66,"14.67%",0,"0.00%",1205,209,"17.34%",1,"0.08%",1151,198,"17.20%",3,"0.26%",1307,199,"15.23%",0,"0.00%",1278,226,"17.68%",0,"0.00%",1387,237,"17.09%",1,"0.07%",1238,227,"18.34%",1,"0.08%",1237,222,"17.95%",2,"0.16%",1187,231,"19.46%",8,"0.67%",1103,329,"29.83%",23,"2.09%",865,352,"40.69%",43,"4.97%",594,265,"44.61%",26,"4.38%",333,173,"51.95%",14,"4.20%",537,278,"51.77%",25,"4.66%",null,"Fundão",15289,3219,0.21054352802668586,147,9.6147557067172481E-3]
["Regional Central","Governador Lindenberg",875,1,"0.11%",0,"0.00%",292,23,"7.88%",0,"0.00%",755,74,"9.80%",0,"0.00%",740,88,"11.89%",1,"0.14%",787,105,"13.34%",0,"0.00%",871,84,"9.64%",1,"0.11%",862,133,"15.43%",2,"0.23%",727,121,"16.64%",1,"0.14%",771,114,"14.79%",1,"0.13%",717,155,"21.62%",1,"0.14%",650,248,"38.15%",8,"1.23%",476,255,"53.57%",9,"1.89%",319,239,"74.92%",12,"3.76%",238,165,"69.33%",10,"4.20%",304,215,"70.72%",6,"1.97%",null,"Governador Lindenberg",9384,2020,0.21526001705029837,52,5.5413469735720372E-3]
["Regional Sul","Guaçuí",2243,16,"0.71%",0,"0.00%",820,65,"7.93%",0,"0.00%",2146,186,"8.67%",0,"0.00%",2100,172,"8.19%",0,"0.00%",2097,190,"9.06%",0,"0.00%",2164,214,"9.89%",0,"0.00%",2126,240,"11.29%",2,"0.09%",1896,266,"14.03%",2,"0.11%",1744,290,"16.63%",2,"0.11%",1748,305,"17.45%",3,"0.17%",1571,484,"30.81%",29,"1.85%",1438,508,"35.33%",36,"2.50%",1029,491,"47.72%",43,"4.18%",600,310,"51.67%",19,"3.17%",866,440,"50.81%",25,"2.89%",null,"Guaçuí",24588,4177,0.16987961607288107,161,6.5479095493736778E-3]
["Regional Metropolitana","Guarapari",9825,29,"0.30%",0,"0.00%",3349,161,"4.81%",0,"0.00%",8558,667,"7.79%",3,"0.04%",8664,787,"9.08%",12,"0.14%",8786,738,"8.40%",13,"0.15%",9693,816,"8.42%",7,"0.07%",10536,957,"9.08%",9,"0.09%",8546,810,"9.48%",13,"0.15%",8314,954,"11.47%",3,"0.04%",7624,1073,"14.07%",20,"0.26%",7167,1526,"21.29%",114,"1.59%",5657,1584,"28.00%",142,"2.51%",3910,1440,"36.83%",152,"3.89%",2336,930,"39.81%",69,"2.95%",2685,1043,"38.85%",83,"3.09%",null,"Guarapari",105650,13515,0.12792238523426408,640,6.0577378135352579E-3]
["Regional Metropolitana","Ibatiba",2143,6,"0.28%",0,"0.00%",765,58,"7.58%",0,"0.00%",1971,177,"8.98%",1,"0.05%",1898,222,"11.70%",1,"0.05%",1912,186,"9.73%",0,"0.00%",1953,255,"13.06%",1,"0.05%",2106,282,"13.39%",1,"0.05%",1732,260,"15.01%",1,"0.06%",1562,250,"16.01%",3,"0.19%",1288,262,"20.34%",1,"0.08%",1140,384,"33.68%",5,"0.44%",981,413,"42.10%",15,"1.53%",724,341,"47.10%",7,"0.97%",444,231,"52.03%",11,"2.48%",563,345,"61.28%",7,"1.24%",null,"Ibatiba",21182,3672,0.17335473515248795,54,2.5493343404777639E-3]
["Regional Metropolitana","Ibiraçu",835,45,"5.39%",0,"0.00%",312,75,"24.04%",0,"0.00%",794,183,"23.05%",1,"0.13%",803,173,"21.54%",1,"0.12%",893,223,"24.97%",3,"0.34%",905,233,"25.75%",2,"0.22%",952,240,"25.21%",7,"0.74%",763,239,"31.32%",2,"0.26%",771,225,"29.18%",3,"0.39%",734,219,"29.84%",2,"0.27%",637,265,"41.60%",11,"1.73%",549,297,"54.10%",6,"1.09%",375,217,"57.87%",10,"2.67%",229,194,"84.72%",6,"2.62%",331,243,"73.41%",5,"1.51%",null,"Ibiraçu",9883,3071,0.31073560659718708,59,5.9698472123849034E-3]
["Regional Sul","Ibitirama",848,3,"0.35%",0,"0.00%",310,15,"4.84%",0,"0.00%",747,49,"6.56%",0,"0.00%",641,44,"6.86%",0,"0.00%",694,55,"7.93%",1,"0.14%",728,66,"9.07%",1,"0.14%",736,67,"9.10%",1,"0.14%",598,50,"8.36%",1,"0.17%",540,56,"10.37%",0,"0.00%",555,55,"9.91%",1,"0.18%",471,98,"20.81%",4,"0.85%",372,137,"36.83%",9,"2.42%",222,85,"38.29%",1,"0.45%",156,45,"28.85%",0,"0.00%",179,55,"30.73%",0,"0.00%",null,"Ibitirama",7797,880,0.11286392202129024,19,2.43683468000513E-3]
["Regional Sul","Iconha",802,7,"0.87%",0,"0.00%",271,45,"16.61%",0,"0.00%",752,162,"21.54%",0,"0.00%",804,134,"16.67%",1,"0.12%",865,171,"19.77%",4,"0.46%",1061,241,"22.71%",1,"0.09%",1046,257,"24.57%",2,"0.19%",860,234,"27.21%",2,"0.23%",856,200,"23.36%",1,"0.12%",886,249,"28.10%",3,"0.34%",791,338,"42.73%",43,"5.44%",673,368,"54.68%",50,"7.43%",413,294,"71.19%",42,"10.17%",267,196,"73.41%",19,"7.12%",416,322,"77.40%",29,"6.97%",null,"Iconha",10763,3218,0.2989872712069126,197,1.8303446994332437E-2]
["Regional Sul","Irupi",1198,43,"3.59%",0,"0.00%",441,60,"13.61%",2,"0.45%",1044,136,"13.03%",2,"0.19%",952,133,"13.97%",3,"0.32%",990,123,"12.42%",1,"0.10%",1143,158,"13.82%",1,"0.09%",1115,153,"13.72%",8,"0.72%",940,147,"15.64%",6,"0.64%",846,155,"18.32%",3,"0.35%",731,155,"21.20%",6,"0.82%",595,211,"35.46%",21,"3.53%",495,193,"38.99%",24,"4.85%",382,159,"41.62%",16,"4.19%",250,102,"40.80%",8,"3.20%",284,139,"48.94%",11,"3.87%",null,"Irupi",11406,2067,0.18122041031036296,112,9.819393301770998E-3]
["Regional Metropolitana","Itaguaçu",913,5,"0.55%",0,"0.00%",352,39,"11.08%",0,"0.00%",836,101,"12.08%",1,"0.12%",735,130,"17.69%",0,"0.00%",887,123,"13.87%",2,"0.23%",990,157,"15.86%",3,"0.30%",1036,183,"17.66%",2,"0.19%",959,177,"18.46%",1,"0.10%",979,183,"18.69%",5,"0.51%",945,241,"25.50%",3,"0.32%",907,376,"41.46%",30,"3.31%",787,450,"57.18%",46,"5.84%",558,398,"71.33%",36,"6.45%",376,242,"64.36%",25,"6.65%",586,410,"69.97%",35,"5.97%",null,"Itaguaçu",11846,3215,0.27139962856660477,189,1.5954752659125444E-2]
["Regional Sul","Itapemirim",3500,32,"0.91%",1,"0.03%",1159,53,"4.57%",0,"0.00%",2820,173,"6.13%",2,"0.07%",2672,224,"8.38%",3,"0.11%",2808,198,"7.05%",3,"0.11%",3046,235,"7.72%",4,"0.13%",3139,260,"8.28%",3,"0.10%",2668,247,"9.26%",4,"0.15%",2404,226,"9.40%",5,"0.21%",2353,276,"11.73%",4,"0.17%",2101,410,"19.51%",17,"0.81%",1709,474,"27.74%",40,"2.34%",1215,330,"27.16%",26,"2.14%",702,264,"37.61%",18,"2.56%",822,277,"33.70%",21,"2.55%",null,"Itapemirim",33118,3679,0.11108762606437587,151,4.5594540733136062E-3]
["Regional Metropolitana","Itarana",658,5,"0.76%",0,"0.00%",261,15,"5.75%",0,"0.00%",722,63,"8.73%",2,"0.28%",686,81,"11.81%",2,"0.29%",685,62,"9.05%",0,"0.00%",794,79,"9.95%",0,"0.00%",849,99,"11.66%",2,"0.24%",730,98,"13.42%",1,"0.14%",752,134,"17.82%",0,"0.00%",724,143,"19.75%",0,"0.00%",640,225,"35.16%",56,"8.75%",580,267,"46.03%",66,"11.38%",434,251,"57.83%",91,"20.97%",306,178,"58.17%",44,"14.38%",429,263,"61.31%",59,"13.75%",null,"Itarana",9250,1963,0.21221621621621622,323,3.491891891891892E-2]
["Regional Sul","Iúna",2413,31,"1.28%",0,"0.00%",806,47,"5.83%",1,"0.12%",2163,171,"7.91%",1,"0.05%",2049,191,"9.32%",2,"0.10%",2147,213,"9.92%",2,"0.09%",2283,253,"11.08%",4,"0.18%",2274,265,"11.65%",0,"0.00%",1879,279,"14.85%",3,"0.16%",1691,285,"16.85%",5,"0.30%",1644,325,"19.77%",5,"0.30%",1415,427,"30.18%",15,"1.06%",1117,444,"39.75%",19,"1.70%",767,326,"42.50%",8,"1.04%",524,231,"44.08%",5,"0.95%",594,280,"47.14%",8,"1.35%",null,"Iúna",23766,3768,0.15854582176218127,78,3.281999495077001E-3]
["Regional Norte","Jaguaré",2688,17,"0.63%",0,"0.00%",873,62,"7.10%",1,"0.11%",2202,212,"9.63%",0,"0.00%",2164,217,"10.03%",2,"0.09%",2244,214,"9.54%",4,"0.18%",2391,307,"12.84%",3,"0.13%",2307,316,"13.70%",0,"0.00%",1862,266,"14.29%",1,"0.05%",1649,294,"17.83%",4,"0.24%",1482,253,"17.07%",4,"0.27%",1202,476,"39.60%",51,"4.24%",986,506,"51.32%",66,"6.69%",653,411,"62.94%",65,"9.95%",405,252,"62.22%",35,"8.64%",488,342,"70.08%",60,"12.30%",null,"Jaguaré",23596,4145,0.17566536701135785,296,1.2544499067638583E-2]
["Regional Sul","Jerônimo Monteiro",856,8,"0.93%",0,"0.00%",314,44,"14.01%",1,"0.32%",809,134,"16.56%",1,"0.12%",781,131,"16.77%",1,"0.13%",827,163,"19.71%",0,"0.00%",792,135,"17.05%",3,"0.38%",816,175,"21.45%",1,"0.12%",762,187,"24.54%",2,"0.26%",762,159,"20.87%",0,"0.00%",787,189,"24.02%",4,"0.51%",648,229,"35.34%",39,"6.02%",560,243,"43.39%",25,"4.46%",404,227,"56.19%",22,"5.45%",318,165,"51.89%",20,"6.29%",426,274,"64.32%",14,"3.29%",null,"Jerônimo Monteiro",9862,2463,0.24974650172378829,133,1.3486108294463598E-2]
["Regional Metropolitana","João Neiva",1004,3,"0.30%",0,"0.00%",317,48,"15.14%",0,"0.00%",896,125,"13.95%",0,"0.00%",866,132,"15.24%",1,"0.12%",939,116,"12.35%",1,"0.11%",994,156,"15.69%",0,"0.00%",1133,203,"17.92%",1,"0.09%",1044,227,"21.74%",1,"0.10%",922,178,"19.31%",2,"0.22%",998,225,"22.55%",3,"0.30%",877,382,"43.56%",7,"0.80%",739,427,"57.78%",21,"2.84%",515,335,"65.05%",14,"2.72%",366,232,"63.39%",6,"1.64%",515,310,"60.19%",5,"0.97%",null,"João Neiva",12125,3099,0.25558762886597935,62,5.1134020618556703E-3]
["Regional Metropolitana","Laranja da Terra",699,24,"3.43%",1,"0.14%",248,31,"12.50%",2,"0.81%",651,75,"11.52%",2,"0.31%",689,95,"13.79%",3,"0.44%",746,123,"16.49%",4,"0.54%",789,148,"18.76%",4,"0.51%",871,145,"16.65%",5,"0.57%",805,161,"20.00%",4,"0.50%",902,157,"17.41%",12,"1.33%",824,191,"23.18%",15,"1.82%",676,241,"35.65%",37,"5.47%",600,266,"44.33%",47,"7.83%",457,232,"50.77%",42,"9.19%",371,188,"50.67%",35,"9.43%",367,232,"63.22%",31,"8.45%",null,"Laranja da Terra",9695,2309,0.23816400206291902,244,2.5167612171222278E-2]
["Regional Central","Linhares",14437,51,"0.35%",0,"0.00%",4933,279,"5.66%",4,"0.08%",13238,959,"7.24%",5,"0.04%",13493,1070,"7.93%",7,"0.05%",13785,1024,"7.43%",8,"0.06%",14112,1132,"8.02%",14,"0.10%",14130,1189,"8.41%",16,"0.11%",10688,1130,"10.57%",10,"0.09%",9616,1121,"11.66%",11,"0.11%",8135,1330,"16.35%",16,"0.20%",7008,1816,"25.91%",92,"1.31%",5664,2081,"36.74%",109,"1.92%",3728,1707,"45.79%",101,"2.71%",2414,1171,"48.51%",44,"1.82%",2926,1346,"46.00%",57,"1.95%",null,"Linhares",138307,17406,0.12585046310020462,494,3.5717642635586053E-3]
["Regional Central","Mantenópolis",1020,3,"0.29%",0,"0.00%",339,17,"5.01%",0,"0.00%",751,42,"5.59%",0,"0.00%",758,63,"8.31%",0,"0.00%",780,48,"6.15%",0,"0.00%",912,57,"6.25%",1,"0.11%",965,84,"8.70%",0,"0.00%",901,87,"9.66%",0,"0.00%",906,106,"11.70%",0,"0.00%",908,132,"14.54%",1,"0.11%",782,177,"22.63%",2,"0.26%",629,223,"35.45%",2,"0.32%",419,164,"39.14%",0,"0.00%",295,132,"44.75%",0,"0.00%",399,165,"41.35%",1,"0.25%",null,"Mantenópolis",10764,1500,0.13935340022296544,7,6.5031586770717201E-4]
["Regional Sul","Marataízes",3459,9,"0.26%",0,"0.00%",1235,70,"5.67%",1,"0.08%",2948,204,"6.92%",6,"0.20%",2813,229,"8.14%",6,"0.21%",2934,203,"6.92%",4,"0.14%",3085,263,"8.53%",7,"0.23%",3342,267,"7.99%",8,"0.24%",2847,313,"10.99%",7,"0.25%",2582,301,"11.66%",6,"0.23%",2455,335,"13.65%",14,"0.57%",2375,516,"21.73%",66,"2.78%",2022,594,"29.38%",72,"3.56%",1407,461,"32.76%",66,"4.69%",863,328,"38.01%",45,"5.21%",944,381,"40.36%",47,"4.98%",null,"Marataízes",35311,4474,0.1267027271954915,355,1.0053524397496532E-2]
["Regional Metropolitana","Marechal Floriano",1421,6,"0.42%",0,"0.00%",439,46,"10.48%",0,"0.00%",1245,134,"10.76%",1,"0.08%",1297,140,"10.79%",2,"0.15%",1260,175,"13.89%",2,"0.16%",1471,213,"14.48%",5,"0.34%",1446,241,"16.67%",2,"0.14%",1320,241,"18.26%",4,"0.30%",1133,247,"21.80%",5,"0.44%",987,249,"25.23%",3,"0.30%",893,334,"37.40%",44,"4.93%",743,351,"47.24%",51,"6.86%",511,316,"61.84%",59,"11.55%",318,232,"72.96%",40,"12.58%",414,311,"75.12%",67,"16.18%",null,"Marechal Floriano",14898,3236,0.21721036380722245,285,1.9130084575110753E-2]
["Regional Central","Marilândia",847,6,"0.71%",0,"0.00%",317,31,"9.78%",0,"0.00%",834,71,"8.51%",0,"0.00%",842,98,"11.64%",0,"0.00%",869,63,"7.25%",1,"0.12%",956,61,"6.38%",0,"0.00%",981,78,"7.95%",0,"0.00%",851,75,"8.81%",0,"0.00%",912,81,"8.88%",1,"0.11%",846,98,"11.58%",1,"0.12%",735,181,"24.63%",4,"0.54%",584,208,"35.62%",10,"1.71%",403,180,"44.67%",4,"0.99%",339,149,"43.95%",2,"0.59%",415,204,"49.16%",1,"0.24%",null,"Marilândia",10731,1584,0.14760972882303605,24,2.2365110427732737E-3]
["Regional Sul","Mimoso do Sul",1828,10,"0.55%",0,"0.00%",600,49,"8.17%",0,"0.00%",1550,148,"9.55%",0,"0.00%",1579,174,"11.02%",1,"0.06%",1698,151,"8.89%",1,"0.06%",1863,195,"10.47%",1,"0.05%",1837,205,"11.16%",1,"0.05%",1753,215,"12.26%",1,"0.06%",1598,244,"15.27%",2,"0.13%",1789,289,"16.15%",2,"0.11%",1576,481,"30.52%",11,"0.70%",1280,586,"45.78%",14,"1.09%",925,454,"49.08%",20,"2.16%",554,340,"61.37%",11,"1.99%",742,406,"54.72%",8,"1.08%",null,"Mimoso do Sul",21172,3947,0.18642546759871528,73,3.4479501228037029E-3]
["Regional Norte","Montanha",1593,8,"0.50%",0,"0.00%",567,40,"7.05%",0,"0.00%",1241,121,"9.75%",0,"0.00%",1305,153,"11.72%",0,"0.00%",1299,150,"11.55%",2,"0.15%",1461,162,"11.09%",1,"0.07%",1401,196,"13.99%",6,"0.43%",1304,213,"16.33%",3,"0.23%",1185,193,"16.29%",5,"0.42%",1132,219,"19.35%",3,"0.27%",966,300,"31.06%",40,"4.14%",763,292,"38.27%",46,"6.03%",575,253,"44.00%",33,"5.74%",412,224,"54.37%",28,"6.80%",588,302,"51.36%",52,"8.84%",null,"Montanha",15792,2826,0.178951367781155,219,1.3867781155015198E-2]
["Regional Norte","Mucurici",410,0,"0.00%",0,"0.00%",154,11,"7.14%",0,"0.00%",333,25,"7.51%",0,"0.00%",325,36,"11.08%",0,"0.00%",368,52,"14.13%",0,"0.00%",389,53,"13.62%",0,"0.00%",431,61,"14.15%",1,"0.23%",369,55,"14.91%",0,"0.00%",395,71,"17.97%",0,"0.00%",379,76,"20.05%",0,"0.00%",330,103,"31.21%",8,"2.42%",261,115,"44.06%",8,"3.07%",171,92,"53.80%",7,"4.09%",145,83,"57.24%",6,"4.14%",183,107,"58.47%",9,"4.92%",null,"Mucurici",4643,940,0.2024553090674133,39,8.3997415464139562E-3]
["Regional Sul","Muniz Freire",1468,11,"0.75%",0,"0.00%",509,47,"9.23%",0,"0.00%",1219,122,"10.01%",0,"0.00%",1253,163,"13.01%",0,"0.00%",1268,200,"15.77%",2,"0.16%",1348,241,"17.88%",0,"0.00%",1388,246,"17.72%",1,"0.07%",1213,290,"23.91%",0,"0.00%",1226,287,"23.41%",2,"0.16%",1098,353,"32.15%",2,"0.18%",985,444,"45.08%",13,"1.32%",824,441,"53.52%",10,"1.21%",559,338,"60.47%",6,"1.07%",404,257,"63.61%",7,"1.73%",537,355,"66.11%",7,"1.30%",null,"Muniz Freire",15299,3795,0.24805542845937642,50,3.2681874632328909E-3]
["Regional Sul","Muqui",1019,6,"0.59%",0,"0.00%",358,49,"13.69%",0,"0.00%",856,146,"17.06%",1,"0.12%",893,142,"15.90%",1,"0.11%",998,173,"17.33%",0,"0.00%",1062,178,"16.76%",0,"0.00%",1016,197,"19.39%",0,"0.00%",929,223,"24.00%",0,"0.00%",921,222,"24.10%",4,"0.43%",911,255,"27.99%",3,"0.33%",838,354,"42.24%",27,"3.22%",655,341,"52.06%",34,"5.19%",496,265,"53.43%",31,"6.25%",302,213,"70.53%",19,"6.29%",489,307,"62.78%",13,"2.66%",null,"Muqui",11743,3071,0.2615174997871072,133,1.132589627863408E-2]
["Regional Norte","Nova Venécia",3770,5,"0.13%",0,"0.00%",1298,69,"5.32%",0,"0.00%",3500,237,"6.77%",2,"0.06%",3760,338,"8.99%",1,"0.03%",3710,390,"10.51%",3,"0.08%",3758,422,"11.23%",1,"0.03%",3780,459,"12.14%",3,"0.08%",3387,450,"13.29%",1,"0.03%",3303,463,"14.02%",2,"0.06%",3043,537,"17.65%",6,"0.20%",2686,788,"29.34%",61,"2.27%",2115,861,"40.71%",61,"2.88%",1415,654,"46.22%",46,"3.25%",890,428,"48.09%",36,"4.04%",1246,599,"48.07%",38,"3.05%",null,"Nova Venécia",41661,6700,0.16082187177456134,261,6.264852019874703E-3]
["Regional Central","Pancas",1487,8,"0.54%",0,"0.00%",543,64,"11.79%",0,"0.00%",1171,159,"13.58%",1,"0.09%",1202,179,"14.89%",2,"0.17%",1275,176,"13.80%",4,"0.31%",1368,174,"12.72%",1,"0.07%",1462,201,"13.75%",0,"0.00%",1341,199,"14.84%",2,"0.15%",1335,234,"17.53%",0,"0.00%",1245,263,"21.12%",1,"0.08%",1120,392,"35.00%",16,"1.43%",903,429,"47.51%",25,"2.77%",672,347,"51.64%",9,"1.34%",454,287,"63.22%",18,"3.96%",538,333,"61.90%",6,"1.12%",null,"Pancas",16116,3445,0.21376272027798462,85,5.2742616033755272E-3]
["Regional Norte","Pedro Canário",2005,28,"1.40%",1,"0.05%",606,64,"10.56%",0,"0.00%",1501,231,"15.39%",1,"0.07%",1510,249,"16.49%",2,"0.13%",1449,214,"14.77%",1,"0.07%",1644,248,"15.09%",0,"0.00%",1702,230,"13.51%",2,"0.12%",1493,222,"14.87%",0,"0.00%",1276,199,"15.60%",0,"0.00%",1216,198,"16.28%",2,"0.16%",1065,322,"30.23%",18,"1.69%",799,347,"43.43%",21,"2.63%",563,232,"41.21%",15,"2.66%",390,186,"47.69%",8,"2.05%",436,200,"45.87%",13,"2.98%",null,"Pedro Canário",17655,3170,0.17955253469272162,84,4.7578589634664405E-3]
["Regional Norte","Pinheiros",2185,5,"0.23%",0,"0.00%",706,36,"5.10%",0,"0.00%",1744,155,"8.89%",2,"0.11%",1606,167,"10.40%",2,"0.12%",1614,144,"8.92%",2,"0.12%",1852,216,"11.66%",3,"0.16%",1920,270,"14.06%",1,"0.05%",1649,245,"14.86%",1,"0.06%",1445,210,"14.53%",4,"0.28%",1350,221,"16.37%",2,"0.15%",1127,323,"28.66%",20,"1.77%",922,359,"38.94%",30,"3.25%",652,316,"48.47%",31,"4.75%",480,231,"48.12%",17,"3.54%",581,299,"51.46%",21,"3.61%",null,"Pinheiros",19833,3197,0.16119598648716785,136,6.8572581051782383E-3]
["Regional Sul","Piúma",1660,5,"0.30%",0,"0.00%",593,41,"6.91%",0,"0.00%",1504,124,"8.24%",0,"0.00%",1610,158,"9.81%",4,"0.25%",1562,149,"9.54%",2,"0.13%",1698,167,"9.84%",0,"0.00%",1851,186,"10.05%",2,"0.11%",1503,196,"13.04%",0,"0.00%",1491,202,"13.55%",1,"0.07%",1316,200,"15.20%",4,"0.30%",1262,327,"25.91%",34,"2.69%",1045,356,"34.07%",48,"4.59%",664,273,"41.11%",40,"6.02%",423,209,"49.41%",23,"5.44%",492,232,"47.15%",21,"4.27%",null,"Piúma",18674,2825,0.1512798543429367,179,9.5855199742958131E-3]
["Regional Norte","Ponto Belo",548,3,"0.55%",0,"0.00%",187,16,"8.56%",0,"0.00%",400,25,"6.25%",0,"0.00%",385,34,"8.83%",1,"0.26%",390,43,"11.03%",0,"0.00%",380,38,"10.00%",0,"0.00%",492,58,"11.79%",0,"0.00%",443,62,"14.00%",0,"0.00%",470,54,"11.49%",0,"0.00%",436,69,"15.83%",1,"0.23%",349,102,"29.23%",0,"0.00%",325,111,"34.15%",2,"0.62%",240,119,"49.58%",2,"0.83%",182,83,"45.60%",0,"0.00%",234,125,"53.42%",1,"0.43%",null,"Ponto Belo",5461,942,0.17249587987548068,7,1.2818165171214063E-3]
["Regional Sul","Presidente Kennedy",1153,33,"2.86%",0,"0.00%",392,36,"9.18%",0,"0.00%",955,98,"10.26%",0,"0.00%",997,136,"13.64%",0,"0.00%",984,141,"14.33%",0,"0.00%",1083,154,"14.22%",0,"0.00%",1052,186,"17.68%",0,"0.00%",893,173,"19.37%",1,"0.11%",786,153,"19.47%",0,"0.00%",755,179,"23.71%",0,"0.00%",677,202,"29.84%",3,"0.44%",575,200,"34.78%",7,"1.22%",399,175,"43.86%",2,"0.50%",283,101,"35.69%",4,"1.41%",280,117,"41.79%",2,"0.71%",null,"Presidente Kennedy",11264,2084,0.18501420454545456,19,1.6867897727272727E-3]
["Regional Central","Rio Bananal",1482,9,"0.61%",0,"0.00%",536,44,"8.21%",0,"0.00%",1366,119,"8.71%",0,"0.00%",1401,151,"10.78%",1,"0.07%",1456,148,"10.16%",0,"0.00%",1564,207,"13.24%",3,"0.19%",1557,203,"13.04%",2,"0.13%",1306,185,"14.17%",2,"0.15%",1228,208,"16.94%",2,"0.16%",1179,221,"18.74%",1,"0.08%",944,324,"34.32%",25,"2.65%",790,354,"44.81%",29,"3.67%",537,288,"53.63%",25,"4.66%",357,231,"64.71%",20,"5.60%",443,305,"68.85%",40,"9.03%",null,"Rio Bananal",16146,2997,0.18561872909698995,150,9.2902266815310299E-3]
["Regional Sul","Rio Novo do Sul",786,2,"0.25%",0,"0.00%",271,30,"11.07%",0,"0.00%",708,76,"10.73%",1,"0.14%",695,100,"14.39%",1,"0.14%",788,96,"12.18%",0,"0.00%",890,101,"11.35%",4,"0.45%",882,115,"13.04%",1,"0.11%",730,109,"14.93%",0,"0.00%",736,112,"15.22%",1,"0.14%",718,147,"20.47%",0,"0.00%",662,211,"31.87%",14,"2.11%",577,243,"42.11%",17,"2.95%",396,194,"48.99%",21,"5.30%",249,128,"51.41%",17,"6.83%",348,184,"52.87%",8,"2.30%",null,"Rio Novo do Sul",9436,1848,0.19584569732937684,85,9.0080542602797801E-3]
["Regional Metropolitana","Santa Leopoldina",997,12,"1.20%",0,"0.00%",331,33,"9.97%",0,"0.00%",825,93,"11.27%",0,"0.00%",801,108,"13.48%",1,"0.12%",864,125,"14.47%",2,"0.23%",941,152,"16.15%",1,"0.11%",1013,160,"15.79%",0,"0.00%",931,166,"17.83%",1,"0.11%",972,198,"20.37%",1,"0.10%",920,217,"23.59%",2,"0.22%",846,309,"36.52%",30,"3.55%",646,314,"48.61%",36,"5.57%",488,265,"54.30%",27,"5.53%",276,147,"53.26%",17,"6.16%",378,209,"55.29%",20,"5.29%",null,"Santa Leopoldina",11229,2508,0.2233502538071066,138,1.2289607266898209E-2]
["Regional Metropolitana","Santa Maria de Jetibá",3202,298,"9.31%",1,"0.03%",1199,106,"8.84%",1,"0.08%",3375,180,"5.33%",1,"0.03%",3413,217,"6.36%",2,"0.06%",3529,243,"6.89%",2,"0.06%",3680,319,"8.67%",3,"0.08%",3496,339,"9.70%",6,"0.17%",2809,325,"11.57%",7,"0.25%",2501,247,"9.88%",3,"0.12%",2085,303,"14.53%",8,"0.38%",1731,401,"23.17%",52,"3.00%",1496,386,"25.80%",35,"2.34%",977,328,"33.57%",40,"4.09%",695,253,"36.40%",22,"3.17%",653,259,"39.66%",14,"2.14%",null,"Santa Maria de Jetibá",34841,4204,0.12066243793232112,197,5.6542579145259899E-3]
["Regional Metropolitana","Santa Teresa",1606,14,"0.87%",0,"0.00%",563,82,"14.56%",1,"0.18%",1397,213,"15.25%",0,"0.00%",1464,224,"15.30%",4,"0.27%",1661,247,"14.87%",3,"0.18%",1830,295,"16.12%",2,"0.11%",1799,345,"19.18%",4,"0.22%",1559,323,"20.72%",2,"0.13%",1591,313,"19.67%",7,"0.44%",1560,360,"23.08%",4,"0.26%",1375,523,"38.04%",51,"3.71%",1131,560,"49.51%",87,"7.69%",871,471,"54.08%",67,"7.69%",606,355,"58.58%",52,"8.58%",784,526,"67.09%",77,"9.82%",null,"Santa Teresa",19797,4851,0.24503712683739962,361,1.8235086124160225E-2]
["Regional Central","São Domingos do Norte",619,2,"0.32%",0,"0.00%",224,17,"7.59%",0,"0.00%",661,105,"15.89%",1,"0.15%",634,96,"15.14%",1,"0.16%",641,98,"15.29%",1,"0.16%",668,93,"13.92%",0,"0.00%",689,93,"13.50%",0,"0.00%",590,62,"10.51%",0,"0.00%",579,68,"11.74%",1,"0.17%",527,82,"15.56%",0,"0.00%",469,152,"32.41%",24,"5.12%",409,133,"32.52%",16,"3.91%",244,95,"38.93%",13,"5.33%",182,79,"43.41%",9,"4.95%",216,96,"44.44%",12,"5.56%",null,"São Domingos do Norte",7352,1271,0.17287812840043526,78,1.0609357997823721E-2]
["Regional Central","São Gabriel da Palha",2474,13,"0.53%",0,"0.00%",807,17,"2.11%",0,"0.00%",2139,99,"4.63%",1,"0.05%",2379,95,"3.99%",0,"0.00%",2433,108,"4.44%",3,"0.12%",2731,140,"5.13%",3,"0.11%",2843,153,"5.38%",1,"0.04%",2248,154,"6.85%",0,"0.00%",2076,158,"7.61%",4,"0.19%",1921,191,"9.94%",2,"0.10%",1693,397,"23.45%",10,"0.59%",1404,453,"32.26%",20,"1.42%",927,431,"46.49%",18,"1.94%",626,285,"45.53%",12,"1.92%",806,357,"44.29%",12,"1.49%",null,"São Gabriel da Palha",{"$f":"SUM(C68,H68,M68,R68,W68,AB68,AG68,AL68,AQ68,AV68,BA68,BF68,BK68,BP68,BU68)","v":27507},3051,{"$f":"CC68/CB68","v":0.1109172210710001},{"$f":"SUM(F68,K68,P68,U68,Z68,AE68,AJ68,AO68,AT68,AY68,BD68,BI68,BN68,BS68,BX68)","v":86},{"$f":"CE68/CB68","v":3.126476896789908E-3}]
["Regional Sul","São José do Calçado",798,1,"0.13%",0,"0.00%",288,9,"3.12%",0,"0.00%",707,37,"5.23%",0,"0.00%",742,57,"7.68%",0,"0.00%",699,57,"8.15%",0,"0.00%",695,77,"11.08%",0,"0.00%",735,59,"8.03%",0,"0.00%",663,72,"10.86%",0,"0.00%",755,89,"11.79%",0,"0.00%",757,113,"14.93%",0,"0.00%",692,198,"28.61%",7,"1.01%",596,233,"39.09%",15,"2.52%",466,216,"46.35%",18,"3.86%",312,133,"42.63%",9,"2.88%",390,177,"45.38%",11,"2.82%",null,"São José do Calçado",9295,1528,0.16438945669714899,60,6.4550833781603012E-3]
["Regional Norte","São Mateus",10454,129,"1.23%",2,"0.02%",3870,280,"7.24%",1,"0.03%",9749,937,"9.61%",5,"0.05%",9496,1073,"11.30%",12,"0.13%",9200,937,"10.18%",7,"0.08%",10015,1161,"11.59%",7,"0.07%",9939,1249,"12.57%",5,"0.05%",8604,1173,"13.63%",11,"0.13%",7593,1150,"15.15%",13,"0.17%",6871,1138,"16.56%",19,"0.28%",5876,1676,"28.52%",144,"2.45%",4566,1690,"37.01%",170,"3.72%",3125,1344,"43.01%",155,"4.96%",1788,878,"49.11%",91,"5.09%",2294,1065,"46.43%",68,"2.96%",null,"São Mateus",103440,15880,0.15351894818252126,710,6.8638824439288476E-3]
["Regional Central","São Roque do Canaã",783,4,"0.51%",0,"0.00%",271,35,"12.92%",0,"0.00%",718,94,"13.09%",0,"0.00%",691,115,"16.64%",1,"0.14%",700,97,"13.86%",0,"0.00%",774,108,"13.95%",2,"0.26%",828,125,"15.10%",3,"0.36%",817,123,"15.06%",2,"0.24%",861,122,"14.17%",5,"0.58%",766,145,"18.93%",3,"0.39%",672,228,"33.93%",25,"3.72%",571,260,"45.53%",39,"6.83%",412,222,"53.88%",29,"7.04%",283,155,"54.77%",20,"7.07%",432,209,"48.38%",18,"4.17%",null,"São Roque do Canaã",9579,2042,0.2131746528865226,147,1.5346069527090511E-2]
["Regional Metropolitana","Serra",43428,448,"1.03%",7,"0.02%",14664,1182,"8.06%",9,"0.06%",39738,4250,"10.70%",26,"0.07%",40291,4979,"12.36%",43,"0.11%",43267,4873,"11.26%",39,"0.09%",47524,5829,"12.27%",46,"0.10%",45103,6415,"14.22%",78,"0.17%",35226,5688,"16.15%",54,"0.15%",30278,5127,"16.93%",68,"0.22%",26431,5422,"20.51%",71,"0.27%",23125,7367,"31.86%",819,"3.54%",18306,7613,"41.59%",1068,"5.83%",11385,5807,"51.01%",850,"7.47%",6462,3358,"51.97%",466,"7.21%",7203,3671,"50.96%",398,"5.53%",null,"Serra",432431,72029,0.16656761425522221,4042,9.3471559624541262E-3]
["Regional Central","Sooretama",2601,9,"0.35%",0,"0.00%",875,56,"6.40%",0,"0.00%",2216,166,"7.49%",3,"0.14%",2086,182,"8.72%",1,"0.05%",1984,157,"7.91%",0,"0.00%",2117,186,"8.79%",0,"0.00%",2040,198,"9.71%",0,"0.00%",1736,174,"10.02%",0,"0.00%",1410,187,"13.26%",0,"0.00%",1222,211,"17.27%",2,"0.16%",1020,297,"29.12%",11,"1.08%",811,334,"41.18%",11,"1.36%",557,264,"47.40%",10,"1.80%",343,177,"51.60%",3,"0.87%",366,167,"45.63%",4,"1.09%",null,"Sooretama",21384,2765,0.12930228208005987,45,2.1043771043771043E-3]
["Regional Sul","Vargem Alta",1601,21,"1.31%",0,"0.00%",499,51,"10.22%",1,"0.20%",1455,173,"11.89%",1,"0.07%",1391,169,"12.15%",2,"0.14%",1376,170,"12.35%",1,"0.07%",1517,217,"14.30%",2,"0.13%",1582,246,"15.55%",0,"0.00%",1243,194,"15.61%",1,"0.08%",1299,202,"15.55%",5,"0.38%",1289,312,"24.20%",3,"0.23%",1073,386,"35.97%",25,"2.33%",806,413,"51.24%",45,"5.58%",607,343,"56.51%",43,"7.08%",347,214,"61.67%",22,"6.34%",532,325,"61.09%",28,"5.26%",null,"Vargem Alta",16617,3436,0.20677619305530481,179,1.0772100860564482E-2]
["Regional Metropolitana","Venda Nova do Imigrante",1772,10,"0.56%",0,"0.00%",636,64,"10.06%",0,"0.00%",1745,190,"10.89%",1,"0.06%",1826,201,"11.01%",3,"0.16%",1922,239,"12.43%",0,"0.00%",2063,270,"13.09%",3,"0.15%",1925,263,"13.66%",0,"0.00%",1698,298,"17.55%",3,"0.18%",1582,274,"17.32%",6,"0.38%",1448,293,"20.23%",6,"0.41%",1148,447,"38.94%",53,"4.62%",910,446,"49.01%",67,"7.36%",670,350,"52.24%",62,"9.25%",446,240,"53.81%",55,"12.33%",592,349,"58.95%",80,"13.51%",null,"Venda Nova do Imigrante",20383,3934,0.19300397389981847,339,1.6631506647696609E-2]
["Regional Metropolitana","Viana",6087,39,"0.64%",0,"0.00%",2053,203,"9.89%",0,"0.00%",5629,825,"14.66%",10,"0.18%",5867,962,"16.40%",10,"0.17%",6074,907,"14.93%",6,"0.10%",6403,1072,"16.74%",14,"0.22%",6300,1075,"17.06%",17,"0.27%",5006,1052,"21.01%",14,"0.28%",4349,846,"19.45%",13,"0.30%",3856,861,"22.33%",12,"0.31%",3453,1273,"36.87%",110,"3.19%",2598,1304,"50.19%",126,"4.85%",1712,983,"57.42%",97,"5.67%",919,596,"64.85%",57,"6.20%",1076,692,"64.31%",33,"3.07%",null,"Viana",61382,12690,0.20673813169984687,519,8.4552474666840446E-3]
["Regional Norte","Vila Pavão",661,7,"1.06%",0,"0.00%",250,22,"8.80%",0,"0.00%",528,63,"11.93%",1,"0.19%",650,72,"11.08%",2,"0.31%",632,93,"14.72%",0,"0.00%",703,111,"15.79%",2,"0.28%",710,123,"17.32%",0,"0.00%",685,113,"16.50%",3,"0.44%",649,105,"16.18%",3,"0.46%",574,128,"22.30%",8,"1.39%",500,179,"35.80%",18,"3.60%",373,185,"49.60%",22,"5.90%",249,155,"62.25%",22,"8.84%",185,105,"56.76%",10,"5.41%",203,118,"58.13%",8,"3.94%",null,"Vila Pavão",7552,1579,0.20908368644067796,99,1.3109110169491525E-2]
["Regional Central","Vila Valério",1091,2,"0.18%",0,"0.00%",352,17,"4.83%",0,"0.00%",993,65,"6.55%",0,"0.00%",1036,83,"8.01%",0,"0.00%",1042,75,"7.20%",0,"0.00%",1102,93,"8.44%",0,"0.00%",1163,104,"8.94%",0,"0.00%",983,101,"10.27%",0,"0.00%",869,134,"15.42%",0,"0.00%",844,127,"15.05%",0,"0.00%",693,203,"29.29%",3,"0.43%",532,213,"40.04%",5,"0.94%",403,163,"40.45%",4,"0.99%",240,119,"49.58%",3,"1.25%",292,127,"43.49%",8,"2.74%",null,"Vila Valério",11635,1626,0.13975075204125484,23,1.9767941555651051E-3]
["Regional Metropolitana","Vila Velha",33559,221,"0.66%",4,"0.01%",11690,1245,"10.65%",5,"0.04%",34117,4578,"13.42%",110,"0.32%",35678,5382,"15.08%",152,"0.43%",37276,5509,"14.78%",153,"0.41%",39602,6071,"15.33%",179,"0.45%",39329,6783,"17.25%",252,"0.64%",31720,6363,"20.06%",222,"0.70%",30013,5992,"19.96%",210,"0.70%",28733,6953,"24.20%",253,"0.88%",25601,8931,"34.89%",1457,"5.69%",20643,9099,"44.08%",1751,"8.48%",14310,7128,"49.81%",1300,"9.08%",9116,4753,"52.14%",829,"9.09%",11379,6105,"53.65%",906,"7.96%",null,"Vila Velha",402766,85113,0.21132121380652785,7783,1.932387540159795E-2]
["Regional Metropolitana","Vitória",21536,379,"1.76%",6,"0.03%",7743,1085,"14.01%",8,"0.10%",22666,3925,"17.32%",48,"0.21%",23212,4946,"21.31%",78,"0.34%",23980,4806,"20.04%",91,"0.38%",26637,5919,"22.22%",129,"0.48%",26887,6920,"25.74%",152,"0.57%",22069,6528,"29.58%",151,"0.68%",20112,5914,"29.41%",169,"0.84%",20532,6921,"33.71%",241,"1.17%",19349,8933,"46.17%",1758,"9.09%",16196,9150,"56.50%",2146,"13.25%",11644,7055,"60.59%",1728,"14.84%",7493,4771,"63.67%",1128,"15.05%",10123,6866,"67.83%",1588,"15.69%",null,"Vitória",280179,84118,0.30022949614353683,9421,3.3624932632352889E-2]
[null,"TOTAL ESPÍRITO SANTO",{"$f":"SUM(C3:C80)","v":300898},{"$f":"SUM(D3:D80)","v":3073},{"$f":"D81/C81","v":1.0212763129033759E-2},{"$f":"SUM(F3:F80)","v":64},{"$f":"F81/C81","v":2.1269666132709423E-4},{"$f":"SUM(H3:H80)","v":103299},{"$f":"SUM(I3:I80)","v":9794},{"$f":"I81/H81","v":9.4812147261832153E-2},{"$f":"SUM(K3:K80)","v":66},{"$f":"K81/H81","v":6.3892196439462143E-4},{"$f":"SUM(M3:M80)","v":276033},{"$f":"SUM(N3:N80)","v":32507},{"$f":"N81/M81","v":0.11776490492078846},{"$f":"SUM(P3:P80)","v":405},{"$f":"P81/M81","v":1.4672158763626088E-3},{"$f":"SUM(R3:R80)","v":279424},{"$f":"SUM(S3:S80)","v":37709},{"$f":"S81/R81","v":0.13495261681172699},{"$f":"SUM(U3:U80)","v":563},{"$f":"U81/R81","v":2.0148591387998166E-3},{"$f":"SUM(W3:W80)","v":291550},{"$f":"SUM(X3:X80)","v":37694},{"$f":"X81/W81","v":0.12928828674326873},{"$f":"SUM(Z3:Z80)","v":559},{"$f":"Z81/W81","v":1.9173383639169953E-3},{"$f":"SUM(AB3:AB80)","v":313839},{"$f":"SUM(AC3:AC80)","v":43839},{"$f":"AC81/AB81","v":0.13968627226061769},{"$f":"SUM(AE3:AE80)","v":680},{"$f":"AE81/AB81","v":2.1667160550473334E-3},{"$f":"SUM(AG3:AG80)","v":315396},{"$f":"SUM(AH3:AH80)","v":48378},{"$f":"AH81/AG81","v":0.15338812159951298},{"$f":"SUM(AJ3:AJ80)","v":863},{"$f":"AJ81/AG81","v":2.7362426917272253E-3},{"$f":"SUM(AL3:AL80)","v":260955},{"$f":"SUM(AM3:AM80)","v":45547},{"$f":"AM81/AL81","v":0.17453967159088732},{"$f":"SUM(AO3:AO80)","v":786},{"$f":"AO81/AL81","v":3.0120135655572798E-3},{"$f":"SUM(AQ3:AQ80)","v":242363},{"$f":"SUM(AR3:AR80)","v":43792},{"$f":"AR81/AQ81","v":0.18068764621662547},{"$f":"SUM(AT3:AT80)","v":855},{"$f":"AT81/AQ81","v":3.5277662019367641E-3},{"$f":"SUM(AV3:AV80)","v":225229},{"$f":"SUM(AW3:AW80)","v":49227},{"$f":"AW81/AV81","v":0.21856421686372537},{"$f":"SUM(AY3:AY80)","v":1047},{"$f":"AY81/AV81","v":4.6486020894289815E-3},{"$f":"SUM(BA3:BA80)","v":200415},{"$f":"SUM(BB3:BB80)","v":67384},{"$f":"BB81/BA81","v":0.33622233864730683},{"$f":"SUM(BD3:BD80)","v":7762},{"$f":"BD81/BA81","v":3.8729636005289024E-2},{"$f":"SUM(BF3:BF80)","v":161788},{"$f":"SUM(BG3:BG80)","v":70792},{"$f":"BG81/BF81","v":0.43756026404924964},{"$f":"SUM(BI3:BI80)","v":9605},{"$f":"BI81/BF81","v":5.9367814671051004E-2},{"$f":"SUM(BK3:BK80)","v":111235},{"$f":"SUM(BL3:BL80)","v":56460},{"$f":"BL81/BK81","v":0.5075740549287544},{"$f":"SUM(BN3:BN80)","v":7887},{"$f":"BN81/BK81","v":7.0903942104553419E-2},{"$f":"SUM(BP3:BP80)","v":70070},{"$f":"SUM(BQ3:BQ80)","v":37475},{"$f":"BQ81/BP81","v":0.53482232053660628},{"$f":"SUM(BS3:BS80)","v":4912},{"$f":"BS81/BP81","v":7.0101327244184386E-2},{"$f":"SUM(BU3:BU80)","v":87890},{"$f":"SUM(BV3:BV80)","v":47767},{"$f":"BV81/BU81","v":0.54348617590169535},{"$f":"SUM(BX3:BX80)","v":5490},{"$f":"BX81/BU81","v":6.2464444191603137E-2},null,"TOTAL ESPÍRITO SANTO",3240384,631438,0.19486517647291185,41544,1.2820702731528116E-2]
[null,"Regional Metropolitana",{"$f":"SUMIF($A$3:$A$80,$B82,C$3:C$80)","v":176348},{"$f":"SUMIF($A$3:$A$80,$B82,D$3:D$80)","v":2210},{"$f":"D82/C82","v":1.2532038923038537E-2},{"$f":"SUMIF($A$3:$A$80,$B82,F$3:F$80)","v":52},{"$f":"F82/C82","v":2.9487150407149498E-4},{"$f":"SUMIF($A$3:$A$80,$B82,H$3:H$80)","v":60323},{"$f":"SUMIF($A$3:$A$80,$B82,I$3:I$80)","v":6511},{"$f":"I82/H82","v":0.10793561328183281},{"$f":"SUMIF($A$3:$A$80,$B82,K$3:K$80)","v":51},{"$f":"K82/H82","v":8.4544866800391222E-4},{"$f":"SUMIF($A$3:$A$80,$B82,M$3:M$80)","v":165481},{"$f":"SUMIF($A$3:$A$80,$B82,N$3:N$80)","v":22048},{"$f":"N82/M82","v":0.13323583976408168},{"$f":"SUMIF($A$3:$A$80,$B82,P$3:P$80)","v":332},{"$f":"P82/M82","v":2.0062726234431746E-3},{"$f":"SUMIF($A$3:$A$80,$B82,R$3:R$80)","v":167614},{"$f":"SUMIF($A$3:$A$80,$B82,S$3:S$80)","v":25804},{"$f":"S82/R82","v":0.15394895414464185},{"$f":"SUMIF($A$3:$A$80,$B82,U$3:U$80)","v":465},{"$f":"U82/R82","v":2.7742312694643647E-3},{"$f":"SUMIF($A$3:$A$80,$B82,W$3:W$80)","v":176453},{"$f":"SUMIF($A$3:$A$80,$B82,X$3:X$80)","v":25756},{"$f":"X82/W82","v":0.14596521453304845},{"$f":"SUMIF($A$3:$A$80,$B82,Z$3:Z$80)","v":468},{"$f":"Z82/W82","v":2.6522643423461203E-3},{"$f":"SUMIF($A$3:$A$80,$B82,AB$3:AB$80)","v":191072},{"$f":"SUMIF($A$3:$A$80,$B82,AC$3:AC$80)","v":29865},{"$f":"AC82/AB82","v":0.15630233629207838},{"$f":"SUMIF($A$3:$A$80,$B82,AE$3:AE$80)","v":565},{"$f":"AE82/AB82","v":2.957000502428404E-3},{"$f":"SUMIF($A$3:$A$80,$B82,AG$3:AG$80)","v":190456},{"$f":"SUMIF($A$3:$A$80,$B82,AH$3:AH$80)","v":32922},{"$f":"AH82/AG82","v":0.17285882303524175},{"$f":"SUMIF($A$3:$A$80,$B82,AJ$3:AJ$80)","v":726},{"$f":"AJ82/AG82","v":3.8119040618305542E-3},{"$f":"SUMIF($A$3:$A$80,$B82,AL$3:AL$80)","v":155329},{"$f":"SUMIF($A$3:$A$80,$B82,AM$3:AM$80)","v":30635},{"$f":"AM82/AL82","v":0.19722653207063717},{"$f":"SUMIF($A$3:$A$80,$B82,AO$3:AO$80)","v":653},{"$f":"AO82/AL82","v":4.2039799393545317E-3},{"$f":"SUMIF($A$3:$A$80,$B82,AQ$3:AQ$80)","v":142027},{"$f":"SUMIF($A$3:$A$80,$B82,AR$3:AR$80)","v":28659},{"$f":"AR82/AQ82","v":0.20178557598203159},{"$f":"SUMIF($A$3:$A$80,$B82,AT$3:AT$80)","v":692},{"$f":"AT82/AQ82","v":4.872313010906377E-3},{"$f":"SUMIF($A$3:$A$80,$B82,AV$3:AV$80)","v":131470},{"$f":"SUMIF($A$3:$A$80,$B82,AW$3:AW$80)","v":31750},{"$f":"AW82/AV82","v":0.24149996196850992},{"$f":"SUMIF($A$3:$A$80,$B82,AY$3:AY$80)","v":823},{"$f":"AY82/AV82","v":6.2599832661443672E-3},{"$f":"SUMIF($A$3:$A$80,$B82,BA$3:BA$80)","v":117912},{"$f":"SUMIF($A$3:$A$80,$B82,BB$3:BB$80)","v":42269},{"$f":"BB82/BA82","v":0.35847920483072121},{"$f":"SUMIF($A$3:$A$80,$B82,BD$3:BD$80)","v":6026},{"$f":"BD82/BA82","v":5.1105909491824413E-2},{"$f":"SUMIF($A$3:$A$80,$B82,BF$3:BF$80)","v":95017},{"$f":"SUMIF($A$3:$A$80,$B82,BG$3:BG$80)","v":43723},{"$f":"BG82/BF82","v":0.4601597608848943},{"$f":"SUMIF($A$3:$A$80,$B82,BI$3:BI$80)","v":7482},{"$f":"BI82/BF82","v":7.8743803740383297E-2},{"$f":"SUMIF($A$3:$A$80,$B82,BK$3:BK$80)","v":64819},{"$f":"SUMIF($A$3:$A$80,$B82,BL$3:BL$80)","v":34383},{"$f":"BL82/BK82","v":0.53044631975192458},{"$f":"SUMIF($A$3:$A$80,$B82,BN$3:BN$80)","v":6021},{"$f":"BN82/BK82","v":9.2889430568197595E-2},{"$f":"SUMIF($A$3:$A$80,$B82,BP$3:BP$80)","v":40078},{"$f":"SUMIF($A$3:$A$80,$B82,BQ$3:BQ$80)","v":22233},{"$f":"BQ82/BP82","v":0.55474325066121066},{"$f":"SUMIF($A$3:$A$80,$B82,BS$3:BS$80)","v":3738},{"$f":"BS82/BP82","v":9.3268127152053501E-2},{"$f":"SUMIF($A$3:$A$80,$B82,BU$3:BU$80)","v":49239},{"$f":"SUMIF($A$3:$A$80,$B82,BV$3:BV$80)","v":28040},{"$f":"BV82/BU82","v":0.56946729218708747},{"$f":"SUMIF($A$3:$A$80,$B82,BX$3:BX$80)","v":4169},{"$f":"BX82/BU82","v":8.4668656958914679E-2},null,"Regional Metropolitana",1923638,406808,0.2114784590447891,32263,1.6771866640189058E-2]
[null,"Regional Norte",{"$f":"SUMIF($A$3:$A$80,$B83,C$3:C$80)","v":34282},300,{"$f":"D83/C83","v":8.750948019368765E-3},3,{"$f":"F83/C83","v":8.7509480193687648E-5},{"$f":"SUMIF($A$3:$A$80,$B83,H$3:H$80)","v":11775},834,{"$f":"I83/H83","v":7.0828025477707002E-2},2,{"$f":"K83/H83","v":1.6985138004246286E-4},{"$f":"SUMIF($A$3:$A$80,$B83,M$3:M$80)","v":29086},2783,{"$f":"N83/M83","v":9.568177129890669E-2},20,{"$f":"P83/M83","v":6.8761603520594097E-4},{"$f":"SUMIF($A$3:$A$80,$B83,R$3:R$80)","v":28983},3236,{"$f":"S83/R83","v":0.11165165786840561},30,{"$f":"U83/R83","v":1.0350895352447987E-3},{"$f":"SUMIF($A$3:$A$80,$B83,W$3:W$80)","v":28695},3067,{"$f":"X83/W83","v":0.1068827321833072},25,{"$f":"Z83/W83","v":8.7123192193761976E-4},{"$f":"SUMIF($A$3:$A$80,$B83,AB$3:AB$80)","v":31444},3677,{"$f":"AC83/AB83","v":0.11693804859432642},25,{"$f":"AE83/AB83","v":7.9506424119068825E-4},{"$f":"SUMIF($A$3:$A$80,$B83,AG$3:AG$80)","v":31855},4094,{"$f":"AH83/AG83","v":0.12851985559566786},34,{"$f":"AJ83/AG83","v":1.0673363679171244E-3},{"$f":"SUMIF($A$3:$A$80,$B83,AL$3:AL$80)","v":27954},3959,{"$f":"AM83/AL83","v":0.14162552765257208},37,{"$f":"AO83/AL83","v":1.3236030621735708E-3},{"$f":"SUMIF($A$3:$A$80,$B83,AQ$3:AQ$80)","v":25808},3907,{"$f":"AR83/AQ83","v":0.15138716676999381},53,{"$f":"AT83/AQ83","v":2.0536267823930564E-3},{"$f":"SUMIF($A$3:$A$80,$B83,AV$3:AV$80)","v":23724},4142,{"$f":"AW83/AV83","v":0.17459113134378687},71,{"$f":"AY83/AV83","v":2.992749957848592E-3},{"$f":"SUMIF($A$3:$A$80,$B83,BA$3:BA$80)","v":20472},6066,{"$f":"BB83/BA83","v":0.29630715123094958},509,{"$f":"BD83/BA83","v":2.4863227823368503E-2},{"$f":"SUMIF($A$3:$A$80,$B83,BF$3:BF$80)","v":16295},6279,{"$f":"BG83/BF83","v":0.38533292420988036},590,{"$f":"BI83/BF83","v":3.6207425590671985E-2},{"$f":"SUMIF($A$3:$A$80,$B83,BK$3:BK$80)","v":11297},5072,{"$f":"BL83/BK83","v":0.44896875276622111},546,{"$f":"BN83/BK83","v":4.8331415420023012E-2},{"$f":"SUMIF($A$3:$A$80,$B83,BP$3:BP$80)","v":7308},3488,{"$f":"BQ83/BP83","v":0.47728516694033934},320,{"$f":"BS83/BP83","v":4.3787629994526546E-2},{"$f":"SUMIF($A$3:$A$80,$B83,BU$3:BU$80)","v":9254},4487,{"$f":"BV83/BU83","v":0.48487140695915282},349,{"$f":"BX83/BU83","v":3.7713421223254807E-2},null,"Regional Norte",338232,55391,0.16376629059343883,2614,7.7284230942075262E-3]
[null,"Regional Central",39856,155,{"$f":"D84/C84","v":3.8890004014452027E-3},1,{"$f":"F84/C84","v":2.5090325170614212E-5},13805,874,{"$f":"I84/H84","v":6.3310394784498375E-2},5,{"$f":"K84/H84","v":3.6218761318362912E-4},36486,2905,{"$f":"N84/M84","v":7.961958011292003E-2},18,{"$f":"P84/M84","v":4.9333991119881603E-4},37160,3373,{"$f":"S84/R84","v":9.0769644779332609E-2},24,{"$f":"U84/R84","v":6.4585575888051667E-4},38246,3307,{"$f":"X84/W84","v":8.6466558594362808E-2},25,{"$f":"Z84/W84","v":6.5366312817026614E-4},40255,3790,{"$f":"AC84/AB84","v":9.4149795056514718E-2},34,{"$f":"AE84/AB84","v":8.4461557570488139E-4},40954,4115,{"$f":"AH84/AG84","v":0.1004785857303316},38,{"$f":"AJ84/AG84","v":9.2787029350002443E-4},33797,3900,{"$f":"AM84/AL84","v":0.11539485753173359},33,{"$f":"AO84/AL84","v":9.7641802526851498E-4},32113,4236,{"$f":"AR84/AQ84","v":0.13190919565285086},39,{"$f":"AT84/AQ84","v":1.214461433064491E-3},28983,4941,{"$f":"AW84/AV84","v":0.17047924645481835},42,{"$f":"AY84/AV84","v":1.4491253493427181E-3},25194,7179,{"$f":"BB84/BA84","v":0.28494879733269829},374,{"$f":"BD84/BA84","v":1.4844804318488529E-2},20238,7971,{"$f":"BG84/BF84","v":0.39386302994367034},434,{"$f":"BI84/BF84","v":2.1444806799090818E-2},13909,6619,{"$f":"BL84/BK84","v":0.47587892731325043},347,{"$f":"BN84/BK84","v":2.4947875476310302E-2},9300,4643,{"$f":"BQ84/BP84","v":0.49924731182795701},243,{"$f":"BS84/BP84","v":2.6129032258064518E-2},11836,5660,{"$f":"BV84/BU84","v":0.47820209530246705},265,{"$f":"BX84/BU84","v":2.2389320716458262E-2},null,"Regional Central",422132,63668,0.15082486047018467,1922,4.5530781840751235E-3]
[null,"Regional Sul",50412,408,{"$f":"D85/C85","v":8.0933111164008566E-3},8,{"$f":"F85/C85","v":1.5869237483138936E-4},17396,1575,{"$f":"I85/H85","v":9.0538054725224193E-2},8,{"$f":"K85/H85","v":4.5987583352494828E-4},44980,4771,{"$f":"N85/M85","v":0.10606936416184971},35,{"$f":"P85/M85","v":7.7812361049355266E-4},45667,5296,{"$f":"S85/R85","v":0.11596995642367575},44,{"$f":"U85/R85","v":9.6349661681301591E-4},48156,5564,{"$f":"X85/W85","v":0.11554115790348035},41,{"$f":"Z85/W85","v":8.5139961790846417E-4},51068,6507,{"$f":"AC85/AB85","v":0.12741834416855957},56,{"$f":"AE85/AB85","v":1.0965771128691156E-3},52131,7247,{"$f":"AH85/AG85","v":0.13901517331338359},65,{"$f":"AJ85/AG85","v":1.2468588747578217E-3},43875,7053,{"$f":"AM85/AL85","v":0.16075213675213676},63,{"$f":"AO85/AL85","v":1.435897435897436E-3},42415,6990,{"$f":"AR85/AQ85","v":0.16480018861251916},71,{"$f":"AT85/AQ85","v":1.6739361075091359E-3},41052,8394,{"$f":"AW85/AV85","v":0.20447237649809996},111,{"$f":"AY85/AV85","v":2.7038877521192634E-3},36837,11870,{"$f":"BB85/BA85","v":0.32223036620788881},853,{"$f":"BD85/BA85","v":2.315606591199066E-2},30238,12819,{"$f":"BG85/BF85","v":0.42393676830478205},1099,{"$f":"BI85/BF85","v":3.6344996362193266E-2},21210,10386,{"$f":"BL85/BK85","v":0.48967468175388967},973,{"$f":"BN85/BK85","v":4.5874587458745876E-2},13384,7111,{"$f":"BQ85/BP85","v":0.53130603705917512},611,{"$f":"BS85/BP85","v":4.5651524208009567E-2},17561,9580,{"$f":"BV85/BU85","v":0.545527020101361},707,{"$f":"BX85/BU85","v":4.0259666306019022E-2},null,"Regional Sul",556382,105571,0.18974553454281412,4745,8.5283132811629428E-3]
[]
[]
[]
[]
[null,null,{"$f":"'Bivalente - resid'!E2","v":"COBERTURA VACINAL REFORÇO BIVALENTE"},{"$f":"'Bivalente - resid'!G2","v":"2º COBERTURA VACINAL REFORÇO BIVALENTE"},{"$f":"'Bivalente - resid'!J2","v":"COBERTURA VACINAL REFORÇO BIVALENTE"},{"$f":"'Bivalente - resid'!L2","v":"2º COBERTURA VACINAL REFORÇO BIVALENTE"},{"$f":"'Bivalente - resid'!O2","v":"COBERTURA VACINAL REFORÇO BIVALENTE"},{"$f":"'Bivalente - resid'!Q2","v":"2º COBERTURA VACINAL REFORÇO BIVALENTE"},{"$f":"'Bivalente - resid'!T2","v":"COBERTURA VACINAL REFORÇO BIVALENTE"},{"$f":"'Bivalente - resid'!V2","v":"2º COBERTURA VACINAL REFORÇO BIVALENTE"},{"$f":"'Bivalente - resid'!Y2","v":"COBERTURA VACINAL REFORÇO BIVALENTE"},{"$f":"'Bivalente - resid'!AA2","v":"2º COBERTURA VACINAL REFORÇO BIVALENTE"},{"$f":"'Bivalente - resid'!AD2","v":"COBERTURA VACINAL REFORÇO BIVALENTE"},{"$f":"'Bivalente - resid'!AF2","v":"2º COBERTURA VACINAL REFORÇO BIVALENTE"},{"$f":"'Bivalente - resid'!AI2","v":"COBERTURA VACINAL REFORÇO BIVALENTE"},{"$f":"'Bivalente - resid'!AK2","v":"2º COBERTURA VACINAL REFORÇO BIVALENTE"},{"$f":"'Bivalente - resid'!AN2","v":"COBERTURA VACINAL REFORÇO BIVALENTE"},{"$f":"'Bivalente - resid'!AP2","v":"2º COBERTURA VACINAL REFORÇO BIVALENTE"},{"$f":"'Bivalente - resid'!AS2","v":"COBERTURA VACINAL REFORÇO BIVALENTE"},{"$f":"'Bivalente - resid'!AU2","v":"2º COBERTURA VACINAL REFORÇO BIVALENTE"},{"$f":"'Bivalente - resid'!AX2","v":"COBERTURA VACINAL REFORÇO BIVALENTE"},{"$f":"'Bivalente - resid'!AZ2","v":"2º COBERTURA VACINAL REFORÇO BIVALENTE"},{"$f":"'Bivalente - resid'!BC2","v":"COBERTURA VACINAL REFORÇO BIVALENTE"},{"$f":"'Bivalente - resid'!BE2","v":"2º COBERTURA VACINAL REFORÇO BIVALENTE"},{"$f":"'Bivalente - resid'!BH2","v":"COBERTURA VACINAL REFORÇO BIVALENTE"},{"$f":"'Bivalente - resid'!BJ2","v":"2º COBERTURA VACINAL REFORÇO BIVALENTE"},{"$f":"'Bivalente - resid'!BM2","v":"COBERTURA VACINAL REFORÇO BIVALENTE"},{"$f":"'Bivalente - resid'!BO2","v":"2º COBERTURA VACINAL REFORÇO BIVALENTE"},{"$f":"'Bivalente - resid'!BR2","v":"COBERTURA VACINAL REFORÇO BIVALENTE"},{"$f":"'Bivalente - resid'!BT2","v":"2º COBERTURA VACINAL REFORÇO BIVALENTE"},{"$f":"'Bivalente - resid'!BW2","v":"COBERTURA VACINAL REFORÇO BIVALENTE"},{"$f":"'Bivalente - resid'!BY2","v":"2º COBERTURA VACINAL REFORÇO BIVALENTE"}]
[null,null,"12 A 17 ANOS","12 A 17 ANOS","18 A 19 ANOS","18 A 19 ANOS","20 A 24 ANOS","20 A 24 ANOS","25 A 29 ANOS","25 A 29 ANOS","30 A 34 ANOS","30 A 34 ANOS","35 A 39 ANOS","35 A 39 ANOS","40 A 44 ANOS","40 A 44 ANOS","45 A 49 ANOS","45 A 49 ANOS","50 A 54 ANOS","50 A 54 ANOS","55 A 59 ANOS","55 A 59 ANOS","60 A 64 ANOS","60 A 64 ANOS","65 A 69 ANOS","65 A 69 ANOS","70 A 74 ANOS","70 A 74 ANOS","75 A 79 ANOS","75 A 79 ANOS","80 ANOS OU MAIS","80 ANOS OU MAIS"]
[null,{"$f":"'Bivalente - resid'!B81","v":"TOTAL ESPÍRITO SANTO"},{"$f":"'Bivalente - resid'!E81","v":1.0212763129033759E-2},{"$f":"'Bivalente - resid'!G81","v":2.1269666132709423E-4},{"$f":"'Bivalente - resid'!J81","v":9.4812147261832153E-2},{"$f":"'Bivalente - resid'!L81","v":6.3892196439462143E-4},{"$f":"'Bivalente - resid'!O81","v":0.11776490492078846},{"$f":"'Bivalente - resid'!Q81","v":1.4672158763626088E-3},{"$f":"'Bivalente - resid'!T81","v":0.13495261681172699},{"$f":"'Bivalente - resid'!V81","v":2.0148591387998166E-3},{"$f":"'Bivalente - resid'!Y81","v":0.12928828674326873},{"$f":"'Bivalente - resid'!AA81","v":1.9173383639169953E-3},{"$f":"'Bivalente - resid'!AD81","v":0.13968627226061769},{"$f":"'Bivalente - resid'!AF81","v":2.1667160550473334E-3},{"$f":"'Bivalente - resid'!AI81","v":0.15338812159951298},{"$f":"'Bivalente - resid'!AK81","v":2.7362426917272253E-3},{"$f":"'Bivalente - resid'!AN81","v":0.17453967159088732},{"$f":"'Bivalente - resid'!AP81","v":3.0120135655572798E-3},{"$f":"'Bivalente - resid'!AS81","v":0.18068764621662547},{"$f":"'Bivalente - resid'!AU81","v":3.5277662019367641E-3},{"$f":"'Bivalente - resid'!AX81","v":0.21856421686372537},{"$f":"'Bivalente - resid'!AZ81","v":4.6486020894289815E-3},{"$f":"'Bivalente - resid'!BC81","v":0.33622233864730683},{"$f":"'Bivalente - resid'!BE81","v":3.8729636005289024E-2},{"$f":"'Bivalente - resid'!BH81","v":0.43756026404924964},{"$f":"'Bivalente - resid'!BJ81","v":5.9367814671051004E-2},{"$f":"'Bivalente - resid'!BM81","v":0.5075740549287544},{"$f":"'Bivalente - resid'!BO81","v":7.0903942104553419E-2},{"$f":"'Bivalente - resid'!BR81","v":0.53482232053660628},{"$f":"'Bivalente - resid'!BT81","v":7.0101327244184386E-2},{"$f":"'Bivalente - resid'!BW81","v":0.54348617590169535},{"$f":"'Bivalente - resid'!BY81","v":6.2464444191603137E-2}]
[null,{"$f":"'Bivalente - resid'!B82","v":"Regional Metropolitana"},{"$f":"'Bivalente - resid'!E82","v":1.2532038923038537E-2},{"$f":"'Bivalente - resid'!G82","v":2.9487150407149498E-4},{"$f":"'Bivalente - resid'!J82","v":0.10793561328183281},{"$f":"'Bivalente - resid'!L82","v":8.4544866800391222E-4},{"$f":"'Bivalente - resid'!O82","v":0.13323583976408168},{"$f":"'Bivalente - resid'!Q82","v":2.0062726234431746E-3},{"$f":"'Bivalente - resid'!T82","v":0.15394895414464185},{"$f":"'Bivalente - resid'!V82","v":2.7742312694643647E-3},{"$f":"'Bivalente - resid'!Y82","v":0.14596521453304845},{"$f":"'Bivalente - resid'!AA82","v":2.6522643423461203E-3},{"$f":"'Bivalente - resid'!AD82","v":0.15630233629207838},{"$f":"'Bivalente - resid'!AF82","v":2.957000502428404E-3},{"$f":"'Bivalente - resid'!AI82","v":0.17285882303524175},{"$f":"'Bivalente - resid'!AK82","v":3.8119040618305542E-3},{"$f":"'Bivalente - resid'!AN82","v":0.19722653207063717},{"$f":"'Bivalente - resid'!AP82","v":4.2039799393545317E-3},{"$f":"'Bivalente - resid'!AS82","v":0.20178557598203159},{"$f":"'Bivalente - resid'!AU82","v":4.872313010906377E-3},{"$f":"'Bivalente - resid'!AX82","v":0.24149996196850992},{"$f":"'Bivalente - resid'!AZ82","v":6.2599832661443672E-3},{"$f":"'Bivalente - resid'!BC82","v":0.35847920483072121},{"$f":"'Bivalente - resid'!BE82","v":5.1105909491824413E-2},{"$f":"'Bivalente - resid'!BH82","v":0.4601597608848943},{"$f":"'Bivalente - resid'!BJ82","v":7.8743803740383297E-2},{"$f":"'Bivalente - resid'!BM82","v":0.53044631975192458},{"$f":"'Bivalente - resid'!BO82","v":9.2889430568197595E-2},{"$f":"'Bivalente - resid'!BR82","v":0.55474325066121066},{"$f":"'Bivalente - resid'!BT82","v":9.3268127152053501E-2},{"$f":"'Bivalente - resid'!BW82","v":0.56946729218708747},{"$f":"'Bivalente - resid'!BY82","v":8.4668656958914679E-2}]
[null,{"$f":"'Bivalente - resid'!B83","v":"Regional Norte"},{"$f":"'Bivalente - resid'!E83","v":8.750948019368765E-3},{"$f":"'Bivalente - resid'!G83","v":8.7509480193687648E-5},{"$f":"'Bivalente - resid'!J83","v":7.0828025477707002E-2},{"$f":"'Bivalente - resid'!L83","v":1.6985138004246286E-4},{"$f":"'Bivalente - resid'!O83","v":9.568177129890669E-2},{"$f":"'Bivalente - resid'!Q83","v":6.8761603520594097E-4},{"$f":"'Bivalente - resid'!T83","v":0.11165165786840561},{"$f":"'Bivalente - resid'!V83","v":1.0350895352447987E-3},{"$f":"'Bivalente - resid'!Y83","v":0.1068827321833072},{"$f":"'Bivalente - resid'!AA83","v":8.7123192193761976E-4},{"$f":"'Bivalente - resid'!AD83","v":0.11693804859432642},{"$f":"'Bivalente - resid'!AF83","v":7.9506424119068825E-4},{"$f":"'Bivalente - resid'!AI83","v":0.12851985559566786},{"$f":"'Bivalente - resid'!AK83","v":1.0673363679171244E-3},{"$f":"'Bivalente - resid'!AN83","v":0.14162552765257208},{"$f":"'Bivalente - resid'!AP83","v":1.3236030621735708E-3},{"$f":"'Bivalente - resid'!AS83","v":0.15138716676999381},{"$f":"'Bivalente - resid'!AU83","v":2.0536267823930564E-3},{"$f":"'Bivalente - resid'!AX83","v":0.17459113134378687},{"$f":"'Bivalente - resid'!AZ83","v":2.992749957848592E-3},{"$f":"'Bivalente - resid'!BC83","v":0.29630715123094958},{"$f":"'Bivalente - resid'!BE83","v":2.4863227823368503E-2},{"$f":"'Bivalente - resid'!BH83","v":0.38533292420988036},{"$f":"'Bivalente - resid'!BJ83","v":3.6207425590671985E-2},{"$f":"'Bivalente - resid'!BM83","v":0.44896875276622111},{"$f":"'Bivalente - resid'!BO83","v":4.8331415420023012E-2},{"$f":"'Bivalente - resid'!BR83","v":0.47728516694033934},{"$f":"'Bivalente - resid'!BT83","v":4.3787629994526546E-2},{"$f":"'Bivalente - resid'!BW83","v":0.48487140695915282},{"$f":"'Bivalente - resid'!BY83","v":3.7713421223254807E-2}]
[null,{"$f":"'Bivalente - resid'!B84","v":"Regional Central"},{"$f":"'Bivalente - resid'!E84","v":3.8890004014452027E-3},{"$f":"'Bivalente - resid'!G84","v":2.5090325170614212E-5},{"$f":"'Bivalente - resid'!J84","v":6.3310394784498375E-2},{"$f":"'Bivalente - resid'!L84","v":3.6218761318362912E-4},{"$f":"'Bivalente - resid'!O84","v":7.961958011292003E-2},{"$f":"'Bivalente - resid'!Q84","v":4.9333991119881603E-4},{"$f":"'Bivalente - resid'!T84","v":9.0769644779332609E-2},{"$f":"'Bivalente - resid'!V84","v":6.4585575888051667E-4},{"$f":"'Bivalente - resid'!Y84","v":8.6466558594362808E-2},{"$f":"'Bivalente - resid'!AA84","v":6.5366312817026614E-4},{"$f":"'Bivalente - resid'!AD84","v":9.4149795056514718E-2},{"$f":"'Bivalente - resid'!AF84","v":8.4461557570488139E-4},{"$f":"'Bivalente - resid'!AI84","v":0.1004785857303316},{"$f":"'Bivalente - resid'!AK84","v":9.2787029350002443E-4},{"$f":"'Bivalente - resid'!AN84","v":0.11539485753173359},{"$f":"'Bivalente - resid'!AP84","v":9.7641802526851498E-4},{"$f":"'Bivalente - resid'!AS84","v":0.13190919565285086},{"$f":"'Bivalente - resid'!AU84","v":1.214461433064491E-3},{"$f":"'Bivalente - resid'!AX84","v":0.17047924645481835},{"$f":"'Bivalente - resid'!AZ84","v":1.4491253493427181E-3},{"$f":"'Bivalente - resid'!BC84","v":0.28494879733269829},{"$f":"'Bivalente - resid'!BE84","v":1.4844804318488529E-2},{"$f":"'Bivalente - resid'!BH84","v":0.39386302994367034},{"$f":"'Bivalente - resid'!BJ84","v":2.1444806799090818E-2},{"$f":"'Bivalente - resid'!BM84","v":0.47587892731325043},{"$f":"'Bivalente - resid'!BO84","v":2.4947875476310302E-2},{"$f":"'Bivalente - resid'!BR84","v":0.49924731182795701},{"$f":"'Bivalente - resid'!BT84","v":2.6129032258064518E-2},{"$f":"'Bivalente - resid'!BW84","v":0.47820209530246705},{"$f":"'Bivalente - resid'!BY84","v":2.2389320716458262E-2}]
[null,{"$f":"'Bivalente - resid'!B85","v":"Regional Sul"},{"$f":"'Bivalente - resid'!E85","v":8.0933111164008566E-3},{"$f":"'Bivalente - resid'!G85","v":1.5869237483138936E-4},{"$f":"'Bivalente - resid'!J85","v":9.0538054725224193E-2},{"$f":"'Bivalente - resid'!L85","v":4.5987583352494828E-4},{"$f":"'Bivalente - resid'!O85","v":0.10606936416184971},{"$f":"'Bivalente - resid'!Q85","v":7.7812361049355266E-4},{"$f":"'Bivalente - resid'!T85","v":0.11596995642367575},{"$f":"'Bivalente - resid'!V85","v":9.6349661681301591E-4},{"$f":"'Bivalente - resid'!Y85","v":0.11554115790348035},{"$f":"'Bivalente - resid'!AA85","v":8.5139961790846417E-4},{"$f":"'Bivalente - resid'!AD85","v":0.12741834416855957},{"$f":"'Bivalente - resid'!AF85","v":1.0965771128691156E-3},{"$f":"'Bivalente - resid'!AI85","v":0.13901517331338359},{"$f":"'Bivalente - resid'!AK85","v":1.2468588747578217E-3},{"$f":"'Bivalente - resid'!AN85","v":0.16075213675213676},{"$f":"'Bivalente - resid'!AP85","v":1.435897435897436E-3},{"$f":"'Bivalente - resid'!AS85","v":0.16480018861251916},{"$f":"'Bivalente - resid'!AU85","v":1.6739361075091359E-3},{"$f":"'Bivalente - resid'!AX85","v":0.20447237649809996},{"$f":"'Bivalente - resid'!AZ85","v":2.7038877521192634E-3},{"$f":"'Bivalente - resid'!BC85","v":0.32223036620788881},{"$f":"'Bivalente - resid'!BE85","v":2.315606591199066E-2},{"$f":"'Bivalente - resid'!BH85","v":0.42393676830478205},{"$f":"'Bivalente - resid'!BJ85","v":3.6344996362193266E-2},{"$f":"'Bivalente - resid'!BM85","v":0.48967468175388967},{"$f":"'Bivalente - resid'!BO85","v":4.5874587458745876E-2},{"$f":"'Bivalente - resid'!BR85","v":0.53130603705917512},{"$f":"'Bivalente - resid'!BT85","v":4.5651524208009567E-2},{"$f":"'Bivalente - resid'!BW85","v":0.545527020101361},{"$f":"'Bivalente - resid'!BY85","v":4.0259666306019022E-2}]
[null,"META",0.9,0.9,0.9,0.9,0.9,0.9,0.9,0.9,0.9,0.9,0.9,0.9,0.9,0.9,0.9,0.9,0.9,0.9,0.9,0.9,0.9,0.9,0.9,0.9,0.9,0.9,0.9,0.9,0.9,0.9]

{"sheet":"Bivalente - proced","index":5,"n_rows":97,"n_cols":84,"rows_kept":97,"cut":false,"hidden":false,"merged":[[0,67,0,71],[0,79,0,83],[0,37,0,41],[0,42,0,46],[0,47,0,51],[0,52,0,56],[0,57,0,61],[0,62,0,66],[0,32,0,36],[0,0,1,0],[0,1,1,1],[0,2,0,6],[0,7,0,11],[0,12,0,16],[0,17,0,21],[0,22,0,26],[0,27,0,31]]}
["REGIONAL","MUNICÍPIO","12 A 17 ANOS",null,null,null,null,"18 A 19 ANOS",null,null,null,null,"20 A 24 ANOS",null,null,null,null,"25 A 29 ANOS",null,null,null,null,"30 A 34 ANOS",null,null,null,null,"35 A 39 ANOS",null,null,null,null,"40 A 44 ANOS",null,null,null,null,"45 A 49 ANOS",null,null,null,null,"50 A 54 ANOS",null,null,null,null,"55 A 59 ANOS",null,null,null,null,"60 A 64 ANOS",null,null,null,null,"65 A 69 ANOS",null,null,null,null,"70 A 74 ANOS",null,null,null,null,"75 A 79 ANOS",null,null,null,null,"80 ANOS OU MAIS",null,null,null,null,null,"MUNICÍPIO","GERAL"]
[null,null,"ESTIMATIVA POPULACIONAL","REFORÇO BIVALENTE\n(1 dose)","COBERTURA VACINAL REFORÇO BIVALENTE","2º REFORÇO BIVALENTE\n(2 doses)","2º COBERTURA VACINAL REFORÇO BIVALENTE","ESTIMATIVA POPULACIONAL","REFORÇO BIVALENTE\n(1 dose)","COBERTURA VACINAL REFORÇO BIVALENTE","2º REFORÇO BIVALENTE\n(2 doses)","2º COBERTURA VACINAL REFORÇO BIVALENTE","ESTIMATIVA POPULACIONAL","REFORÇO BIVALENTE\n(1 dose)","COBERTURA VACINAL REFORÇO BIVALENTE","2º REFORÇO BIVALENTE\n(2 doses)","2º COBERTURA VACINAL REFORÇO BIVALENTE","ESTIMATIVA POPULACIONAL","REFORÇO BIVALENTE\n(1 dose)","COBERTURA VACINAL REFORÇO BIVALENTE","2º REFORÇO BIVALENTE\n(2 doses)","2º COBERTURA VACINAL REFORÇO BIVALENTE","ESTIMATIVA POPULACIONAL","REFORÇO BIVALENTE\n(1 dose)","COBERTURA VACINAL REFORÇO BIVALENTE","2º REFORÇO BIVALENTE\n(2 doses)","2º COBERTURA VACINAL REFORÇO BIVALENTE","ESTIMATIVA POPULACIONAL","REFORÇO BIVALENTE\n(1 dose)","COBERTURA VACINAL REFORÇO BIVALENTE","2º REFORÇO BIVALENTE\n(2 doses)","2º COBERTURA VACINAL REFORÇO BIVALENTE","ESTIMATIVA POPULACIONAL","REFORÇO BIVALENTE\n(1 dose)","COBERTURA VACINAL REFORÇO BIVALENTE","2º REFORÇO BIVALENTE\n(2 doses)","2º COBERTURA VACINAL REFORÇO BIVALENTE","ESTIMATIVA POPULACIONAL","REFORÇO BIVALENTE\n(1 dose)","COBERTURA VACINAL REFORÇO BIVALENTE","2º REFORÇO BIVALENTE\n(2 doses)","2º COBERTURA VACINAL REFORÇO BIVALENTE","ESTIMATIVA POPULACIONAL","REFORÇO BIVALENTE\n(1 dose)","COBERTURA VACINAL REFORÇO BIVALENTE","2º REFORÇO BIVALENTE\n(2 doses)","2º COBERTURA VACINAL REFORÇO BIVALENTE","ESTIMATIVA POPULACIONAL","REFORÇO BIVALENTE\n(1 dose)","COBERTURA VACINAL REFORÇO BIVALENTE","2º REFORÇO BIVALENTE\n(2 doses)","2º COBERTURA VACINAL REFORÇO BIVALENTE","ESTIMATIVA POPULACIONAL","REFORÇO BIVALENTE\n(1 dose)","COBERTURA VACINAL REFORÇO BIVALENTE","2º REFORÇO BIVALENTE\n(2 doses)","2º COBERTURA VACINAL REFORÇO BIVALENTE","ESTIMATIVA POPULACIONAL","REFORÇO BIVALENTE\n(1 dose)","COBERTURA VACINAL REFORÇO BIVALENTE","2º REFORÇO BIVALENTE\n(2 doses)","2º COBERTURA VACINAL REFORÇO BIVALENTE","ESTIMATIVA POPULACIONAL","REFORÇO BIVALENTE\n(1 dose)","COBERTURA VACINAL REFORÇO BIVALENTE","2º REFORÇO BIVALENTE\n(2 doses)","2º COBERTURA VACINAL REFORÇO BIVALENTE","ESTIMATIVA POPULACIONAL","REFORÇO BIVALENTE\n(1 dose)","COBERTURA VACINAL REFORÇO BIVALENTE","2º REFORÇO BIVALENTE\n(2 doses)","2º COBERTURA VACINAL REFORÇO BIVALENTE","ESTIMATIVA POPULACIONAL","REFORÇO BIVALENTE\n(1 dose)","COBERTURA VACINAL REFORÇO BIVALENTE","2º REFORÇO BIVALENTE\n(2 doses)","2º COBERTURA VACINAL REFORÇO BIVALENTE",null,null,"ESTIMATIVA POPULACIONAL","REFORÇO BIVALENTE\n(1 dose)","COBERTURA VACINAL REFORÇO BIVALENTE","2º REFORÇO BIVALENTE\n(2 doses)","2º COBERTURA VACINAL REFORÇO BIVALENTE"]
["Regional Metropolitana","Afonso Cláudio",2476,2,"0.08%",0,"0.00%",799,52,"6.51%",0,"0.00%",1946,103,"5.29%",0,"0.00%",1960,124,"6.33%",0,"0.00%",2107,142,"6.74%",0,"0.00%",2257,163,"7.22%",0,"0.00%",2550,262,"10.27%",0,"0.00%",2210,279,"12.62%",0,"0.00%",1972,261,"13.24%",1,"0.05%",1928,332,"17.22%",1,"0.05%",1679,492,"29.30%",15,"0.89%",1450,558,"38.48%",26,"1.79%",1113,493,"44.29%",17,"1.53%",726,333,"45.87%",12,"1.65%",937,427,"45.57%",5,"0.53%",null,"Afonso Cláudio",{"$f":"SUM(C3,H3,M3,R3,W3,AB3,AG3,AL3,AQ3,AV3,BA3,BF3,BK3,BP3,BU3)","v":26110},{"$f":"SUM(D3,I3,N3,S3,X3,AC3,AH3,AM3,AR3,AW3,BB3,BG3,BL3,BQ3,BV3)","v":4023},{"$f":"CC3/CB3","v":0.15407889697433932},{"$f":"SUM(F3,K3,P3,U3,Z3,AE3,AJ3,AO3,AT3,AY3,BD3,BI3,BN3,BS3,BX3)","v":77},{"$f":"CE3/CB3","v":2.9490616621983914E-3}]
["Regional Norte","Água Doce do Norte",1021,3,"0.29%",0,"0.00%",315,31,"9.84%",0,"0.00%",785,87,"11.08%",0,"0.00%",750,114,"15.20%",1,"0.13%",713,103,"14.45%",1,"0.14%",836,119,"14.23%",1,"0.12%",913,145,"15.88%",4,"0.44%",883,171,"19.37%",3,"0.34%",833,185,"22.21%",4,"0.48%",774,195,"25.19%",4,"0.52%",696,224,"32.18%",10,"1.44%",601,252,"41.93%",16,"2.66%",397,195,"49.12%",12,"3.02%",281,128,"45.55%",9,"3.20%",382,190,"49.74%",9,"2.36%",null,"Água Doce do Norte",{"$f":"SUM(C4,H4,M4,R4,W4,AB4,AG4,AL4,AQ4,AV4,BA4,BF4,BK4,BP4,BU4)","v":10180},{"$f":"SUM(D4,I4,N4,S4,X4,AC4,AH4,AM4,AR4,AW4,BB4,BG4,BL4,BQ4,BV4)","v":2142},{"$f":"CC4/CB4","v":0.21041257367387034},{"$f":"SUM(F4,K4,P4,U4,Z4,AE4,AJ4,AO4,AT4,AY4,BD4,BI4,BN4,BS4,BX4)","v":74},{"$f":"CE4/CB4","v":7.2691552062868368E-3}]
["Regional Central","Águia Branca",787,4,"0.51%",0,"0.00%",271,16,"5.90%",0,"0.00%",631,39,"6.18%",0,"0.00%",653,59,"9.04%",0,"0.00%",682,61,"8.94%",0,"0.00%",702,82,"11.68%",1,"0.14%",713,81,"11.36%",0,"0.00%",683,80,"11.71%",1,"0.15%",742,104,"14.02%",2,"0.27%",608,119,"19.57%",0,"0.00%",572,225,"39.34%",25,"4.37%",432,252,"58.33%",19,"4.40%",331,196,"59.21%",18,"5.44%",206,112,"54.37%",12,"5.83%",234,150,"64.10%",11,"4.70%",null,"Águia Branca",8247,1580,0.19158481872195951,89,1.0791803079907845E-2]
["Regional Sul","Alegre",2030,7,"0.34%",0,"0.00%",819,71,"8.67%",0,"0.00%",2206,272,"12.33%",0,"0.00%",2017,226,"11.20%",2,"0.10%",2063,211,"10.23%",0,"0.00%",2096,272,"12.98%",1,"0.05%",2244,290,"12.92%",1,"0.04%",1867,327,"17.51%",0,"0.00%",1917,304,"15.86%",5,"0.26%",1843,365,"19.80%",1,"0.05%",1719,672,"39.09%",20,"1.16%",1457,766,"52.57%",47,"3.23%",1093,664,"60.75%",40,"3.66%",694,457,"65.85%",19,"2.74%",986,641,"65.01%",30,"3.04%",null,"Alegre",25051,5545,0.22134844916370605,166,6.6264819767673944E-3]
["Regional Sul","Alfredo Chaves",1022,0,"0.00%",0,"0.00%",298,24,"8.05%",0,"0.00%",806,49,"6.08%",1,"0.12%",857,53,"6.18%",1,"0.12%",898,55,"6.12%",0,"0.00%",1058,69,"6.52%",1,"0.09%",1111,96,"8.64%",0,"0.00%",1046,96,"9.18%",1,"0.10%",945,119,"12.59%",0,"0.00%",963,146,"15.16%",4,"0.42%",882,291,"32.99%",18,"2.04%",727,352,"48.42%",32,"4.40%",548,296,"54.01%",35,"6.39%",368,203,"55.16%",25,"6.79%",515,269,"52.23%",27,"5.24%",null,"Alfredo Chaves",12044,2118,0.17585519760876786,145,1.2039189637994023E-2]
["Regional Central","Alto Rio Novo",634,0,"0.00%",0,"0.00%",204,14,"6.86%",0,"0.00%",453,37,"8.17%",0,"0.00%",408,35,"8.58%",1,"0.25%",477,44,"9.22%",0,"0.00%",557,66,"11.85%",0,"0.00%",595,71,"11.93%",1,"0.17%",553,98,"17.72%",3,"0.54%",527,93,"17.65%",4,"0.76%",474,105,"22.15%",1,"0.21%",435,159,"36.55%",21,"4.83%",366,168,"45.90%",17,"4.64%",246,137,"55.69%",14,"5.69%",171,90,"52.63%",5,"2.92%",199,97,"48.74%",13,"6.53%",null,"Alto Rio Novo",6299,1214,0.19272900460390538,80,1.2700428639466582E-2]
["Regional Sul","Anchieta",2371,18,"0.76%",2,"0.08%",812,108,"13.30%",0,"0.00%",1886,332,"17.60%",1,"0.05%",1990,332,"16.68%",5,"0.25%",2260,372,"16.46%",3,"0.13%",2624,501,"19.09%",6,"0.23%",2607,573,"21.98%",12,"0.46%",2035,494,"24.28%",11,"0.54%",1869,440,"23.54%",5,"0.27%",1719,450,"26.18%",15,"0.87%",1608,625,"38.87%",50,"3.11%",1331,675,"50.71%",64,"4.81%",874,549,"62.81%",84,"9.61%",569,380,"66.78%",45,"7.91%",698,469,"67.19%",48,"6.88%",null,"Anchieta",25253,6318,0.25018809646378648,351,1.3899338692432582E-2]
["Regional Sul","Apiacá",568,0,"0.00%",0,"0.00%",183,9,"4.92%",0,"0.00%",468,25,"5.34%",0,"0.00%",498,28,"5.62%",0,"0.00%",467,26,"5.57%",0,"0.00%",537,36,"6.70%",0,"0.00%",533,45,"8.44%",2,"0.38%",471,69,"14.65%",1,"0.21%",495,57,"11.52%",0,"0.00%",466,63,"13.52%",0,"0.00%",422,124,"29.38%",2,"0.47%",396,150,"37.88%",4,"1.01%",282,129,"45.74%",4,"1.42%",184,96,"52.17%",2,"1.09%",252,115,"45.63%",1,"0.40%",null,"Apiacá",6222,972,0.1562198649951784,16,2.5715204114432656E-3]
["Regional Metropolitana","Aracruz",8266,324,"3.92%",23,"0.28%",2607,481,"18.45%",18,"0.69%",6996,1378,"19.70%",60,"0.86%",7010,1455,"20.76%",52,"0.74%",7439,1544,"20.76%",71,"0.95%",8029,1641,"20.44%",64,"0.80%",7786,1610,"20.68%",70,"0.90%",6548,1627,"24.85%",54,"0.82%",5631,1437,"25.52%",78,"1.39%",4949,1462,"29.54%",76,"1.54%",4417,1824,"41.29%",305,"6.91%",3470,1859,"53.57%",412,"11.87%",2261,1435,"63.47%",304,"13.45%",1325,864,"65.21%",160,"12.08%",1574,1116,"70.90%",184,"11.69%",null,"Aracruz",78308,20057,0.25612964192675081,1931,2.4659038667824488E-2]
["Regional Sul","Atílio Vivacqua",856,3,"0.35%",0,"0.00%",278,28,"10.07%",0,"0.00%",688,66,"9.59%",1,"0.15%",696,74,"10.63%",0,"0.00%",798,94,"11.78%",0,"0.00%",830,115,"13.86%",0,"0.00%",836,124,"14.83%",0,"0.00%",684,131,"19.15%",2,"0.29%",684,127,"18.57%",1,"0.15%",627,147,"23.44%",2,"0.32%",590,259,"43.90%",12,"2.03%",454,227,"50.00%",14,"3.08%",351,200,"56.98%",20,"5.70%",212,132,"62.26%",10,"4.72%",236,156,"66.10%",10,"4.24%",null,"Atílio Vivacqua",8820,1883,0.21349206349206348,72,8.1632653061224497E-3]
["Regional Central","Baixo Guandu",2426,8,"0.33%",1,"0.04%",807,48,"5.95%",0,"0.00%",2105,132,"6.27%",0,"0.00%",2024,149,"7.36%",0,"0.00%",2152,169,"7.85%",0,"0.00%",2159,220,"10.19%",2,"0.09%",2327,253,"10.87%",3,"0.13%",2122,266,"12.54%",3,"0.14%",2020,331,"16.39%",2,"0.10%",2007,358,"17.84%",2,"0.10%",1714,435,"25.38%",27,"1.58%",1361,465,"34.17%",36,"2.65%",967,390,"40.33%",18,"1.86%",697,280,"40.17%",21,"3.01%",967,388,"40.12%",10,"1.03%",null,"Baixo Guandu",25855,3892,0.15053181202862115,125,4.8346548056468772E-3]
["Regional Norte","Barra de São Francisco",3499,9,"0.26%",0,"0.00%",1126,38,"3.37%",0,"0.00%",2926,138,"4.72%",0,"0.00%",2931,207,"7.06%",1,"0.03%",2959,166,"5.61%",1,"0.03%",3237,212,"6.55%",0,"0.00%",3253,232,"7.13%",0,"0.00%",2908,252,"8.67%",1,"0.03%",2875,262,"9.11%",1,"0.03%",2624,287,"10.94%",1,"0.04%",2221,430,"19.36%",38,"1.71%",1761,507,"28.79%",56,"3.18%",1284,424,"33.02%",56,"4.36%",878,275,"31.32%",29,"3.30%",1082,307,"28.37%",20,"1.85%",null,"Barra de São Francisco",35564,3746,0.10533123383196491,204,5.7361376673040155E-3]
["Regional Norte","Boa Esperança",1154,5,"0.43%",0,"0.00%",416,36,"8.65%",0,"0.00%",927,103,"11.11%",0,"0.00%",936,111,"11.86%",0,"0.00%",944,129,"13.67%",0,"0.00%",1025,142,"13.85%",0,"0.00%",1043,182,"17.45%",2,"0.19%",964,193,"20.02%",2,"0.21%",878,173,"19.70%",1,"0.11%",832,206,"24.76%",1,"0.12%",705,311,"44.11%",13,"1.84%",592,283,"47.80%",16,"2.70%",402,240,"59.70%",26,"6.47%",287,166,"57.84%",5,"1.74%",331,229,"69.18%",7,"2.11%",null,"Boa Esperança",11436,2509,0.21939489331934242,73,6.3833508219657224E-3]
["Regional Sul","Bom Jesus do Norte",806,3,"0.37%",0,"0.00%",248,24,"9.68%",0,"0.00%",745,60,"8.05%",1,"0.13%",686,82,"11.95%",2,"0.29%",763,80,"10.48%",2,"0.26%",738,78,"10.57%",1,"0.14%",858,113,"13.17%",4,"0.47%",692,107,"15.46%",3,"0.43%",668,109,"16.32%",4,"0.60%",599,133,"22.20%",4,"0.67%",576,182,"31.60%",30,"5.21%",534,253,"47.38%",36,"6.74%",342,205,"59.94%",31,"9.06%",199,132,"66.33%",18,"9.05%",340,219,"64.41%",28,"8.24%",null,"Bom Jesus do Norte",8794,1780,0.20241073459176712,164,1.8649078917443711E-2]
["Regional Metropolitana","Brejetuba",1189,0,"0.00%",0,"0.00%",405,28,"6.91%",0,"0.00%",1043,50,"4.79%",0,"0.00%",928,67,"7.22%",0,"0.00%",944,86,"9.11%",0,"0.00%",1105,88,"7.96%",0,"0.00%",1109,127,"11.45%",0,"0.00%",869,114,"13.12%",1,"0.12%",781,101,"12.93%",1,"0.13%",660,110,"16.67%",0,"0.00%",571,168,"29.42%",9,"1.58%",433,149,"34.41%",1,"0.23%",279,138,"49.46%",1,"0.36%",165,65,"39.39%",2,"1.21%",189,85,"44.97%",2,"1.06%",null,"Brejetuba",10670,1376,0.12895970009372071,17,1.5932521087160263E-3]
["Regional Sul","Cachoeiro de Itapemirim",13632,139,"1.02%",5,"0.04%",4626,509,"11.00%",2,"0.04%",12452,1643,"13.19%",7,"0.06%",13666,1923,"14.07%",9,"0.07%",14562,1939,"13.32%",15,"0.10%",14793,2130,"14.40%",15,"0.10%",15106,2412,"15.97%",18,"0.12%",12366,2229,"18.03%",14,"0.11%",12351,2208,"17.88%",17,"0.14%",11848,2772,"23.40%",25,"0.21%",10478,3527,"33.66%",275,"2.62%",8383,3630,"43.30%",332,"3.96%",5765,2935,"50.91%",299,"5.19%",3534,1895,"53.62%",190,"5.38%",4746,2638,"55.58%",231,"4.87%",null,"Cachoeiro de Itapemirim",158308,32529,0.20547919246026733,1454,9.1846274351264617E-3]
["Regional Metropolitana","Cariacica",29716,278,"0.94%",5,"0.02%",9902,1179,"11.91%",4,"0.04%",26053,3367,"12.92%",29,"0.11%",25148,3909,"15.54%",45,"0.18%",26548,4062,"15.30%",47,"0.18%",28348,4769,"16.82%",62,"0.22%",28814,5167,"17.93%",61,"0.21%",24129,4814,"19.95%",78,"0.32%",22496,4628,"20.57%",68,"0.30%",20080,5082,"25.31%",88,"0.44%",17848,6717,"37.63%",949,"5.32%",14188,7109,"50.11%",1198,"8.44%",9488,5475,"57.70%",1023,"10.78%",5811,3409,"58.66%",640,"11.01%",6670,3655,"54.80%",483,"7.24%",null,"Cariacica",295239,63620,0.21548643641253357,4780,1.6190272965292525E-2]
["Regional Sul","Castelo",2533,7,"0.28%",0,"0.00%",907,57,"6.28%",0,"0.00%",2489,190,"7.63%",1,"0.04%",2494,215,"8.62%",2,"0.08%",2747,218,"7.94%",0,"0.00%",2993,308,"10.29%",1,"0.03%",3061,392,"12.81%",1,"0.03%",2517,344,"13.67%",1,"0.04%",2497,368,"14.74%",4,"0.16%",2463,461,"18.72%",0,"0.00%",2183,712,"32.62%",36,"1.65%",1707,751,"44.00%",49,"2.87%",1240,629,"50.73%",36,"2.90%",864,473,"54.75%",38,"4.40%",1177,646,"54.89%",31,"2.63%",null,"Castelo",31872,5771,0.1810680220883534,200,6.2751004016064257E-3]
["Regional Central","Colatina",8293,29,"0.35%",0,"0.00%",3034,239,"7.88%",0,"0.00%",8455,851,"10.07%",3,"0.04%",8813,1041,"11.81%",4,"0.05%",9183,965,"10.51%",6,"0.07%",9662,1111,"11.50%",6,"0.06%",9799,1183,"12.07%",8,"0.08%",8251,1085,"13.15%",6,"0.07%",8261,1198,"14.50%",2,"0.02%",7584,1438,"18.96%",5,"0.07%",6687,1964,"29.37%",78,"1.17%",5306,2226,"41.95%",86,"1.62%",3744,1815,"48.48%",73,"1.95%",2455,1235,"50.31%",61,"2.48%",3299,1501,"45.50%",56,"1.70%",null,"Colatina",102826,17881,0.17389570731138038,394,3.8317157139244936E-3]
["Regional Norte","Conceição da Barra",2506,80,"3.19%",0,"0.00%",832,71,"8.53%",0,"0.00%",1816,204,"11.23%",4,"0.22%",1859,265,"14.25%",2,"0.11%",1794,234,"13.04%",5,"0.28%",2107,309,"14.67%",0,"0.00%",2191,366,"16.70%",5,"0.23%",1817,323,"17.78%",2,"0.11%",1721,324,"18.83%",5,"0.29%",1585,380,"23.97%",11,"0.69%",1458,531,"36.42%",67,"4.60%",1137,519,"45.65%",65,"5.72%",801,408,"50.94%",55,"6.87%",495,293,"59.19%",41,"8.28%",577,345,"59.79%",25,"4.33%",null,"Conceição da Barra",22696,4652,0.20497003877335213,287,1.2645400070497003E-2]
["Regional Metropolitana","Conceição do Castelo",956,2,"0.21%",0,"0.00%",335,12,"3.58%",0,"0.00%",812,17,"2.09%",0,"0.00%",801,13,"1.62%",0,"0.00%",883,19,"2.15%",0,"0.00%",965,41,"4.25%",0,"0.00%",979,49,"5.01%",0,"0.00%",818,47,"5.75%",0,"0.00%",731,52,"7.11%",0,"0.00%",659,69,"10.47%",1,"0.15%",663,144,"21.72%",8,"1.21%",527,178,"33.78%",13,"2.47%",400,139,"34.75%",11,"2.75%",248,100,"40.32%",8,"3.23%",338,113,"33.43%",4,"1.18%",null,"Conceição do Castelo",10115,995,9.836875926841325E-2,45,4.448838358872961E-3]
["Regional Sul","Divino de São Lourenço",417,1,"0.24%",0,"0.00%",153,16,"10.46%",0,"0.00%",368,38,"10.33%",0,"0.00%",359,47,"13.09%",0,"0.00%",384,65,"16.93%",0,"0.00%",429,75,"17.48%",0,"0.00%",346,85,"24.57%",0,"0.00%",338,72,"21.30%",0,"0.00%",327,76,"23.24%",0,"0.00%",327,77,"23.55%",1,"0.31%",280,138,"49.29%",28,"10.00%",227,109,"48.02%",23,"10.13%",150,96,"64.00%",22,"14.67%",90,63,"70.00%",19,"21.11%",100,70,"70.00%",20,"20.00%",null,"Divino de São Lourenço",4295,1028,0.23934807916181605,113,2.6309662398137368E-2]
["Regional Metropolitana","Domingos Martins",2643,15,"0.57%",2,"0.08%",903,90,"9.97%",1,"0.11%",2261,220,"9.73%",0,"0.00%",2426,309,"12.74%",6,"0.25%",2544,361,"14.19%",1,"0.04%",2821,437,"15.49%",4,"0.14%",3050,501,"16.43%",7,"0.23%",2600,523,"20.12%",6,"0.23%",2446,506,"20.69%",8,"0.33%",2318,591,"25.50%",4,"0.17%",2066,883,"42.74%",121,"5.86%",1522,846,"55.58%",139,"9.13%",1143,681,"59.58%",104,"9.10%",711,467,"65.68%",79,"11.11%",916,595,"64.96%",73,"7.97%",null,"Domingos Martins",30370,7025,0.23131379650971354,555,1.8274613105037866E-2]
["Regional Sul","Dores do Rio Preto",545,5,"0.92%",0,"0.00%",206,15,"7.28%",0,"0.00%",489,64,"13.09%",1,"0.20%",432,58,"13.43%",0,"0.00%",479,80,"16.70%",0,"0.00%",512,83,"16.21%",1,"0.20%",492,83,"16.87%",0,"0.00%",482,97,"20.12%",3,"0.62%",425,72,"16.94%",3,"0.71%",405,97,"23.95%",8,"1.98%",367,121,"32.97%",20,"5.45%",278,139,"50.00%",23,"8.27%",214,127,"59.35%",21,"9.81%",116,82,"70.69%",19,"16.38%",170,100,"58.82%",17,"10.00%",null,"Dores do Rio Preto",5612,1223,0.21792587312900927,116,2.0669992872416252E-2]
["Regional Norte","Ecoporanga",1788,12,"0.67%",0,"0.00%",575,72,"12.52%",0,"0.00%",1434,159,"11.09%",4,"0.28%",1306,169,"12.94%",1,"0.08%",1379,199,"14.43%",2,"0.15%",1646,241,"14.64%",5,"0.30%",1773,304,"17.15%",8,"0.45%",1586,353,"22.26%",8,"0.50%",1536,348,"22.66%",11,"0.72%",1426,374,"26.23%",13,"0.91%",1291,457,"35.40%",39,"3.02%",1094,443,"40.49%",31,"2.83%",770,353,"45.84%",32,"4.16%",490,247,"50.41%",20,"4.08%",629,321,"51.03%",14,"2.23%",null,"Ecoporanga",18723,4052,0.21641830903167228,188,1.0041125887945307E-2]
["Regional Metropolitana","Fundão",1417,2,"0.14%",0,"0.00%",450,68,"15.11%",0,"0.00%",1205,175,"14.52%",2,"0.17%",1151,175,"15.20%",0,"0.00%",1307,198,"15.15%",0,"0.00%",1278,229,"17.92%",1,"0.08%",1387,252,"18.17%",2,"0.14%",1238,242,"19.55%",0,"0.00%",1237,246,"19.89%",3,"0.24%",1187,280,"23.59%",3,"0.25%",1103,390,"35.36%",26,"2.36%",865,462,"53.41%",50,"5.78%",594,342,"57.58%",27,"4.55%",333,234,"70.27%",17,"5.11%",537,308,"57.36%",19,"3.54%",null,"Fundão",15289,3603,0.23565962456668194,150,9.8109752109359662E-3]
["Regional Central","Governador Lindenberg",875,1,"0.11%",0,"0.00%",292,11,"3.77%",0,"0.00%",755,53,"7.02%",0,"0.00%",740,80,"10.81%",1,"0.14%",787,101,"12.83%",0,"0.00%",871,70,"8.04%",1,"0.11%",862,121,"14.04%",1,"0.12%",727,106,"14.58%",0,"0.00%",771,112,"14.53%",1,"0.13%",717,149,"20.78%",1,"0.14%",650,241,"37.08%",6,"0.92%",476,237,"49.79%",8,"1.68%",319,220,"68.97%",8,"2.51%",238,150,"63.03%",9,"3.78%",304,206,"67.76%",3,"0.99%",null,"Governador Lindenberg",9384,1858,0.19799658994032396,39,4.1560102301790285E-3]
["Regional Sul","Guaçuí",2243,16,"0.71%",0,"0.00%",820,72,"8.78%",0,"0.00%",2146,177,"8.25%",0,"0.00%",2100,147,"7.00%",0,"0.00%",2097,186,"8.87%",0,"0.00%",2164,226,"10.44%",0,"0.00%",2126,266,"12.51%",1,"0.05%",1896,270,"14.24%",3,"0.16%",1744,308,"17.66%",2,"0.11%",1748,344,"19.68%",2,"0.11%",1571,521,"33.16%",29,"1.85%",1438,536,"37.27%",32,"2.23%",1029,535,"51.99%",45,"4.37%",600,319,"53.17%",18,"3.00%",866,450,"51.96%",24,"2.77%",null,"Guaçuí",24588,4373,0.17785098421994469,156,6.3445583211322598E-3]
["Regional Metropolitana","Guarapari",9825,23,"0.23%",0,"0.00%",3349,135,"4.03%",0,"0.00%",8558,378,"4.42%",2,"0.02%",8664,497,"5.74%",3,"0.03%",8786,532,"6.06%",4,"0.05%",9693,718,"7.41%",2,"0.02%",10536,936,"8.88%",3,"0.03%",8546,860,"10.06%",7,"0.08%",8314,967,"11.63%",3,"0.04%",7624,1114,"14.61%",18,"0.24%",7167,1747,"24.38%",136,"1.90%",5657,1906,"33.69%",188,"3.32%",3910,1702,"43.53%",182,"4.65%",2336,1107,"47.39%",90,"3.85%",2685,1210,"45.07%",96,"3.58%",null,"Guarapari",105650,13832,0.13092285849503077,734,6.9474680548982492E-3]
["Regional Metropolitana","Ibatiba",2143,4,"0.19%",0,"0.00%",765,62,"8.10%",0,"0.00%",1971,168,"8.52%",0,"0.00%",1898,200,"10.54%",1,"0.05%",1912,187,"9.78%",0,"0.00%",1953,265,"13.57%",1,"0.05%",2106,306,"14.53%",1,"0.05%",1732,279,"16.11%",2,"0.12%",1562,266,"17.03%",2,"0.13%",1288,295,"22.90%",0,"0.00%",1140,426,"37.37%",4,"0.35%",981,472,"48.11%",16,"1.63%",724,377,"52.07%",6,"0.83%",444,261,"58.78%",9,"2.03%",563,384,"68.21%",6,"1.07%",null,"Ibatiba",21182,3952,0.18657350580681711,48,2.2660749693135681E-3]
["Regional Metropolitana","Ibiraçu",835,48,"5.75%",0,"0.00%",312,69,"22.12%",0,"0.00%",794,175,"22.04%",0,"0.00%",803,172,"21.42%",2,"0.25%",893,205,"22.96%",1,"0.11%",905,237,"26.19%",1,"0.11%",952,230,"24.16%",2,"0.21%",763,231,"30.28%",2,"0.26%",771,230,"29.83%",1,"0.13%",734,222,"30.25%",1,"0.14%",637,288,"45.21%",10,"1.57%",549,298,"54.28%",6,"1.09%",375,222,"59.20%",9,"2.40%",229,194,"84.72%",5,"2.18%",331,242,"73.11%",5,"1.51%",null,"Ibiraçu",9883,3063,0.30992613578872813,45,4.5532732975817058E-3]
["Regional Sul","Ibitirama",848,1,"0.12%",0,"0.00%",310,12,"3.87%",0,"0.00%",747,30,"4.02%",0,"0.00%",641,30,"4.68%",0,"0.00%",694,39,"5.62%",1,"0.14%",728,49,"6.73%",1,"0.14%",736,55,"7.47%",0,"0.00%",598,36,"6.02%",1,"0.17%",540,46,"8.52%",0,"0.00%",555,54,"9.73%",2,"0.36%",471,100,"21.23%",3,"0.64%",372,118,"31.72%",1,"0.27%",222,85,"38.29%",0,"0.00%",156,42,"26.92%",0,"0.00%",179,46,"25.70%",0,"0.00%",null,"Ibitirama",7797,743,9.5293061433884829E-2,9,1.1542901115813775E-3]
["Regional Sul","Iconha",802,7,"0.87%",0,"0.00%",271,47,"17.34%",0,"0.00%",752,141,"18.75%",0,"0.00%",804,124,"15.42%",1,"0.12%",865,149,"17.23%",2,"0.23%",1061,238,"22.43%",1,"0.09%",1046,228,"21.80%",2,"0.19%",860,220,"25.58%",2,"0.23%",856,203,"23.71%",0,"0.00%",886,246,"27.77%",3,"0.34%",791,342,"43.24%",46,"5.82%",673,370,"54.98%",51,"7.58%",413,290,"70.22%",41,"9.93%",267,195,"73.03%",18,"6.74%",416,326,"78.37%",31,"7.45%",null,"Iconha",10763,3126,0.29043946854966085,198,1.8396357892780824E-2]
["Regional Sul","Irupi",1198,56,"4.67%",0,"0.00%",441,65,"14.74%",3,"0.68%",1044,166,"15.90%",3,"0.29%",952,187,"19.64%",3,"0.32%",990,165,"16.67%",2,"0.20%",1143,202,"17.67%",1,"0.09%",1115,193,"17.31%",8,"0.72%",940,193,"20.53%",7,"0.74%",846,199,"23.52%",3,"0.35%",731,190,"25.99%",9,"1.23%",595,254,"42.69%",28,"4.71%",495,240,"48.48%",33,"6.67%",382,213,"55.76%",21,"5.50%",250,133,"53.20%",12,"4.80%",284,154,"54.23%",13,"4.58%",null,"Irupi",11406,2610,0.22882693319305628,146,1.2800280554094337E-2]
["Regional Metropolitana","Itaguaçu",913,4,"0.44%",0,"0.00%",352,37,"10.51%",0,"0.00%",836,89,"10.65%",1,"0.12%",735,115,"15.65%",0,"0.00%",887,109,"12.29%",1,"0.11%",990,156,"15.76%",3,"0.30%",1036,173,"16.70%",1,"0.10%",959,174,"18.14%",2,"0.21%",979,187,"19.10%",6,"0.61%",945,247,"26.14%",4,"0.42%",907,397,"43.77%",31,"3.42%",787,461,"58.58%",52,"6.61%",558,412,"73.84%",35,"6.27%",376,255,"67.82%",24,"6.38%",586,400,"68.26%",31,"5.29%",null,"Itaguaçu",11846,3216,0.27148404524734088,191,1.6123586020597672E-2]
["Regional Sul","Itapemirim",3500,30,"0.86%",1,"0.03%",1159,40,"3.45%",0,"0.00%",2820,107,"3.79%",1,"0.04%",2672,135,"5.05%",2,"0.07%",2808,142,"5.06%",1,"0.04%",3046,181,"5.94%",2,"0.07%",3139,199,"6.34%",1,"0.03%",2668,203,"7.61%",4,"0.15%",2404,194,"8.07%",4,"0.17%",2353,256,"10.88%",3,"0.13%",2101,403,"19.18%",20,"0.95%",1709,485,"28.38%",37,"2.17%",1215,348,"28.64%",18,"1.48%",702,280,"39.89%",14,"1.99%",822,265,"32.24%",15,"1.82%",null,"Itapemirim",33118,3268,9.8677456368138169E-2,123,3.7139923908448579E-3]
["Regional Metropolitana","Itarana",658,0,"0.00%",0,"0.00%",261,11,"4.21%",0,"0.00%",722,38,"5.26%",0,"0.00%",686,67,"9.77%",0,"0.00%",685,50,"7.30%",0,"0.00%",794,66,"8.31%",0,"0.00%",849,92,"10.84%",0,"0.00%",730,86,"11.78%",0,"0.00%",752,130,"17.29%",1,"0.13%",724,139,"19.20%",1,"0.14%",640,224,"35.00%",58,"9.06%",580,265,"45.69%",67,"11.55%",434,241,"55.53%",87,"20.05%",306,185,"60.46%",46,"15.03%",429,265,"61.77%",61,"14.22%",null,"Itarana",9250,1859,0.20097297297297298,321,3.4702702702702704E-2]
["Regional Sul","Iúna",2413,24,"0.99%",0,"0.00%",806,36,"4.47%",0,"0.00%",2163,133,"6.15%",1,"0.05%",2049,136,"6.64%",1,"0.05%",2147,149,"6.94%",1,"0.05%",2283,207,"9.07%",2,"0.09%",2274,218,"9.59%",0,"0.00%",1879,233,"12.40%",1,"0.05%",1691,245,"14.49%",6,"0.35%",1644,283,"17.21%",2,"0.12%",1415,368,"26.01%",8,"0.57%",1117,411,"36.79%",12,"1.07%",767,285,"37.16%",6,"0.78%",524,214,"40.84%",3,"0.57%",594,271,"45.62%",7,"1.18%",null,"Iúna",23766,3213,0.13519313304721031,50,2.1038458301775647E-3]
["Regional Norte","Jaguaré",2688,15,"0.56%",0,"0.00%",873,66,"7.56%",1,"0.11%",2202,167,"7.58%",0,"0.00%",2164,195,"9.01%",1,"0.05%",2244,194,"8.65%",3,"0.13%",2391,292,"12.21%",4,"0.17%",2307,301,"13.05%",0,"0.00%",1862,284,"15.25%",1,"0.05%",1649,293,"17.77%",2,"0.12%",1482,272,"18.35%",2,"0.13%",1202,474,"39.43%",54,"4.49%",986,514,"52.13%",65,"6.59%",653,398,"60.95%",68,"10.41%",405,266,"65.68%",38,"9.38%",488,355,"72.75%",67,"13.73%",null,"Jaguaré",23596,4086,0.17316494321071368,306,1.2968299711815562E-2]
["Regional Sul","Jerônimo Monteiro",856,11,"1.29%",0,"0.00%",314,50,"15.92%",1,"0.32%",809,137,"16.93%",1,"0.12%",781,144,"18.44%",1,"0.13%",827,167,"20.19%",2,"0.24%",792,151,"19.07%",2,"0.25%",816,173,"21.20%",1,"0.12%",762,183,"24.02%",1,"0.13%",762,164,"21.52%",0,"0.00%",787,215,"27.32%",4,"0.51%",648,250,"38.58%",44,"6.79%",560,259,"46.25%",26,"4.64%",404,243,"60.15%",24,"5.94%",318,181,"56.92%",23,"7.23%",426,292,"68.54%",16,"3.76%",null,"Jerônimo Monteiro",9862,2620,0.2656661934698844,146,1.4804299330764551E-2]
["Regional Metropolitana","João Neiva",1004,1,"0.10%",0,"0.00%",317,44,"13.88%",0,"0.00%",896,91,"10.16%",0,"0.00%",866,101,"11.66%",0,"0.00%",939,103,"10.97%",0,"0.00%",994,148,"14.89%",0,"0.00%",1133,173,"15.27%",0,"0.00%",1044,211,"20.21%",1,"0.10%",922,177,"19.20%",1,"0.11%",998,221,"22.14%",2,"0.20%",877,395,"45.04%",6,"0.68%",739,441,"59.68%",17,"2.30%",515,354,"68.74%",12,"2.33%",366,253,"69.13%",3,"0.82%",515,314,"60.97%",4,"0.78%",null,"João Neiva",12125,3027,0.24964948453608246,46,3.7938144329896909E-3]
["Regional Metropolitana","Laranja da Terra",699,27,"3.86%",1,"0.14%",248,28,"11.29%",1,"0.40%",651,78,"11.98%",2,"0.31%",689,95,"13.79%",6,"0.87%",746,129,"17.29%",4,"0.54%",789,161,"20.41%",4,"0.51%",871,156,"17.91%",6,"0.69%",805,165,"20.50%",4,"0.50%",902,177,"19.62%",13,"1.44%",824,207,"25.12%",16,"1.94%",676,259,"38.31%",45,"6.66%",600,284,"47.33%",51,"8.50%",457,251,"54.92%",45,"9.85%",371,207,"55.80%",40,"10.78%",367,231,"62.94%",31,"8.45%",null,"Laranja da Terra",9695,2455,0.25322331098504386,269,2.7746260959257349E-2]
["Regional Central","Linhares",14437,61,"0.42%",0,"0.00%",4933,209,"4.24%",2,"0.04%",13238,939,"7.09%",8,"0.06%",13493,1094,"8.11%",12,"0.09%",13785,1073,"7.78%",9,"0.07%",14112,1166,"8.26%",14,"0.10%",14130,1277,"9.04%",18,"0.13%",10688,1178,"11.02%",13,"0.12%",9616,1155,"12.01%",14,"0.15%",8135,1394,"17.14%",17,"0.21%",7008,1903,"27.15%",86,"1.23%",5664,2180,"38.49%",107,"1.89%",3728,1778,"47.69%",96,"2.58%",2414,1223,"50.66%",44,"1.82%",2926,1400,"47.85%",46,"1.57%",null,"Linhares",138307,18030,0.1303621653278576,486,3.5139219273066439E-3]
["Regional Central","Mantenópolis",1020,0,"0.00%",0,"0.00%",339,16,"4.72%",0,"0.00%",751,39,"5.19%",0,"0.00%",758,58,"7.65%",0,"0.00%",780,39,"5.00%",0,"0.00%",912,59,"6.47%",0,"0.00%",965,85,"8.81%",0,"0.00%",901,84,"9.32%",0,"0.00%",906,111,"12.25%",0,"0.00%",908,156,"17.18%",0,"0.00%",782,211,"26.98%",1,"0.13%",629,263,"41.81%",1,"0.16%",419,195,"46.54%",0,"0.00%",295,151,"51.19%",0,"0.00%",399,179,"44.86%",0,"0.00%",null,"Mantenópolis",10764,1646,0.15291713117800074,2,1.8580453363062059E-4]
["Regional Sul","Marataízes",3459,7,"0.20%",0,"0.00%",1235,78,"6.32%",1,"0.08%",2948,212,"7.19%",7,"0.24%",2813,232,"8.25%",4,"0.14%",2934,216,"7.36%",5,"0.17%",3085,272,"8.82%",9,"0.29%",3342,330,"9.87%",11,"0.33%",2847,372,"13.07%",10,"0.35%",2582,351,"13.59%",7,"0.27%",2455,393,"16.01%",18,"0.73%",2375,639,"26.91%",95,"4.00%",2022,759,"37.54%",105,"5.19%",1407,577,"41.01%",92,"6.54%",863,405,"46.93%",52,"6.03%",944,470,"49.79%",64,"6.78%",null,"Marataízes",35311,5313,0.15046302851802554,480,1.3593497776896718E-2]
["Regional Metropolitana","Marechal Floriano",1421,5,"0.35%",0,"0.00%",439,52,"11.85%",0,"0.00%",1245,160,"12.85%",0,"0.00%",1297,149,"11.49%",1,"0.08%",1260,170,"13.49%",3,"0.24%",1471,228,"15.50%",3,"0.20%",1446,250,"17.29%",1,"0.07%",1320,237,"17.95%",2,"0.15%",1133,245,"21.62%",4,"0.35%",987,262,"26.55%",2,"0.20%",893,350,"39.19%",49,"5.49%",743,356,"47.91%",52,"7.00%",511,312,"61.06%",67,"13.11%",318,233,"73.27%",41,"12.89%",414,313,"75.60%",66,"15.94%",null,"Marechal Floriano",14898,3322,0.22298295073164184,291,1.9532823197744662E-2]
["Regional Central","Marilândia",847,5,"0.59%",0,"0.00%",317,34,"10.73%",0,"0.00%",834,85,"10.19%",0,"0.00%",842,88,"10.45%",0,"0.00%",869,65,"7.48%",0,"0.00%",956,59,"6.17%",0,"0.00%",981,76,"7.75%",0,"0.00%",851,82,"9.64%",1,"0.12%",912,94,"10.31%",0,"0.00%",846,98,"11.58%",0,"0.00%",735,181,"24.63%",5,"0.68%",584,219,"37.50%",10,"1.71%",403,190,"47.15%",6,"1.49%",339,148,"43.66%",2,"0.59%",415,211,"50.84%",1,"0.24%",null,"Marilândia",10731,1635,0.15236231478892928,25,2.3296990028888269E-3]
["Regional Sul","Mimoso do Sul",1828,11,"0.60%",0,"0.00%",600,45,"7.50%",0,"0.00%",1550,133,"8.58%",0,"0.00%",1579,145,"9.18%",1,"0.06%",1698,121,"7.13%",1,"0.06%",1863,182,"9.77%",1,"0.05%",1837,189,"10.29%",1,"0.05%",1753,211,"12.04%",1,"0.06%",1598,233,"14.58%",1,"0.06%",1789,274,"15.32%",2,"0.11%",1576,521,"33.06%",11,"0.70%",1280,621,"48.52%",13,"1.02%",925,481,"52.00%",18,"1.95%",554,348,"62.82%",8,"1.44%",742,426,"57.41%",7,"0.94%",null,"Mimoso do Sul",21172,3941,0.1861420744379369,65,3.0700925750991874E-3]
["Regional Norte","Montanha",1593,7,"0.44%",0,"0.00%",567,43,"7.58%",0,"0.00%",1241,78,"6.29%",0,"0.00%",1305,136,"10.42%",0,"0.00%",1299,144,"11.09%",2,"0.15%",1461,159,"10.88%",1,"0.07%",1401,200,"14.28%",5,"0.36%",1304,202,"15.49%",3,"0.23%",1185,177,"14.94%",5,"0.42%",1132,225,"19.88%",3,"0.27%",966,306,"31.68%",40,"4.14%",763,309,"40.50%",50,"6.55%",575,253,"44.00%",32,"5.57%",412,215,"52.18%",24,"5.83%",588,301,"51.19%",54,"9.18%",null,"Montanha",15792,2755,0.17445542046605877,219,1.3867781155015198E-2]
["Regional Norte","Mucurici",410,1,"0.24%",0,"0.00%",154,11,"7.14%",0,"0.00%",333,20,"6.01%",0,"0.00%",325,33,"10.15%",0,"0.00%",368,47,"12.77%",0,"0.00%",389,51,"13.11%",1,"0.26%",431,63,"14.62%",0,"0.00%",369,64,"17.34%",0,"0.00%",395,80,"20.25%",0,"0.00%",379,91,"24.01%",2,"0.53%",330,123,"37.27%",12,"3.64%",261,127,"48.66%",8,"3.07%",171,98,"57.31%",8,"4.68%",145,87,"60.00%",8,"5.52%",183,127,"69.40%",12,"6.56%",null,"Mucurici",4643,1023,0.22033168210208917,51,1.098427740684902E-2]
["Regional Sul","Muniz Freire",1468,12,"0.82%",0,"0.00%",509,50,"9.82%",0,"0.00%",1219,134,"10.99%",0,"0.00%",1253,189,"15.08%",0,"0.00%",1268,219,"17.27%",0,"0.00%",1348,285,"21.14%",0,"0.00%",1388,273,"19.67%",1,"0.07%",1213,338,"27.86%",1,"0.08%",1226,317,"25.86%",2,"0.16%",1098,385,"35.06%",2,"0.18%",985,488,"49.54%",13,"1.32%",824,494,"59.95%",12,"1.46%",559,377,"67.44%",5,"0.89%",404,285,"70.54%",6,"1.49%",537,383,"71.32%",7,"1.30%",null,"Muniz Freire",15299,4229,0.27642329564023793,49,3.2028237139682331E-3]
["Regional Sul","Muqui",1019,4,"0.39%",0,"0.00%",358,49,"13.69%",0,"0.00%",856,135,"15.77%",1,"0.12%",893,141,"15.79%",1,"0.11%",998,158,"15.83%",0,"0.00%",1062,185,"17.42%",0,"0.00%",1016,215,"21.16%",0,"0.00%",929,233,"25.08%",2,"0.22%",921,244,"26.49%",4,"0.43%",911,288,"31.61%",2,"0.22%",838,387,"46.18%",26,"3.10%",655,387,"59.08%",42,"6.41%",496,303,"61.09%",29,"5.85%",302,237,"78.48%",18,"5.96%",489,321,"65.64%",15,"3.07%",null,"Muqui",11743,3287,0.27991143660052797,140,1.1921996082772716E-2]
["Regional Norte","Nova Venécia",3770,4,"0.11%",0,"0.00%",1298,56,"4.31%",0,"0.00%",3500,162,"4.63%",1,"0.03%",3760,240,"6.38%",0,"0.00%",3710,273,"7.36%",2,"0.05%",3758,349,"9.29%",1,"0.03%",3780,395,"10.45%",1,"0.03%",3387,362,"10.69%",0,"0.00%",3303,410,"12.41%",0,"0.00%",3043,475,"15.61%",2,"0.07%",2686,721,"26.84%",43,"1.60%",2115,800,"37.83%",60,"2.84%",1415,626,"44.24%",45,"3.18%",890,391,"43.93%",34,"3.82%",1246,547,"43.90%",31,"2.49%",null,"Nova Venécia",41661,5811,0.139482969683877,220,5.2807181776721637E-3]
["Regional Central","Pancas",1487,6,"0.40%",0,"0.00%",543,51,"9.39%",0,"0.00%",1171,127,"10.85%",2,"0.17%",1202,139,"11.56%",1,"0.08%",1275,156,"12.24%",2,"0.16%",1368,158,"11.55%",0,"0.00%",1462,184,"12.59%",0,"0.00%",1341,198,"14.77%",0,"0.00%",1335,221,"16.55%",0,"0.00%",1245,265,"21.29%",0,"0.00%",1120,414,"36.96%",15,"1.34%",903,439,"48.62%",23,"2.55%",672,342,"50.89%",7,"1.04%",454,280,"61.67%",12,"2.64%",538,349,"64.87%",4,"0.74%",null,"Pancas",16116,3329,0.20656490444278977,66,4.0953090096798213E-3]
["Regional Norte","Pedro Canário",2005,29,"1.45%",1,"0.05%",606,49,"8.09%",0,"0.00%",1501,179,"11.93%",1,"0.07%",1510,231,"15.30%",2,"0.13%",1449,210,"14.49%",2,"0.14%",1644,243,"14.78%",0,"0.00%",1702,230,"13.51%",2,"0.12%",1493,212,"14.20%",0,"0.00%",1276,211,"16.54%",0,"0.00%",1216,209,"17.19%",2,"0.16%",1065,329,"30.89%",17,"1.60%",799,372,"46.56%",24,"3.00%",563,254,"45.12%",15,"2.66%",390,201,"51.54%",9,"2.31%",436,217,"49.77%",10,"2.29%",null,"Pedro Canário",17655,3176,0.17989238176154063,85,4.8145001416029457E-3]
["Regional Norte","Pinheiros",2185,2,"0.09%",0,"0.00%",706,34,"4.82%",0,"0.00%",1744,114,"6.54%",0,"0.00%",1606,128,"7.97%",2,"0.12%",1614,119,"7.37%",3,"0.19%",1852,186,"10.04%",3,"0.16%",1920,250,"13.02%",1,"0.05%",1649,239,"14.49%",1,"0.06%",1445,209,"14.46%",3,"0.21%",1350,220,"16.30%",2,"0.15%",1127,346,"30.70%",25,"2.22%",922,370,"40.13%",33,"3.58%",652,320,"49.08%",34,"5.21%",480,243,"50.62%",17,"3.54%",581,317,"54.56%",23,"3.96%",null,"Pinheiros",19833,3097,0.15615388493924268,147,7.4118892754500079E-3]
["Regional Sul","Piúma",1660,6,"0.36%",0,"0.00%",593,52,"8.77%",0,"0.00%",1504,95,"6.32%",0,"0.00%",1610,111,"6.89%",2,"0.12%",1562,130,"8.32%",2,"0.13%",1698,161,"9.48%",1,"0.06%",1851,187,"10.10%",3,"0.16%",1503,185,"12.31%",1,"0.07%",1491,227,"15.22%",3,"0.20%",1316,242,"18.39%",3,"0.23%",1262,368,"29.16%",36,"2.85%",1045,419,"40.10%",57,"5.45%",664,319,"48.04%",44,"6.63%",423,226,"53.43%",27,"6.38%",492,259,"52.64%",24,"4.88%",null,"Piúma",18674,2987,0.15995501767162901,203,1.0870729356324301E-2]
["Regional Norte","Ponto Belo",548,2,"0.36%",0,"0.00%",187,10,"5.35%",0,"0.00%",400,16,"4.00%",0,"0.00%",385,12,"3.12%",1,"0.26%",390,32,"8.21%",0,"0.00%",380,31,"8.16%",0,"0.00%",492,50,"10.16%",0,"0.00%",443,50,"11.29%",0,"0.00%",470,49,"10.43%",1,"0.21%",436,71,"16.28%",2,"0.46%",349,104,"29.80%",0,"0.00%",325,115,"35.38%",3,"0.92%",240,132,"55.00%",1,"0.42%",182,90,"49.45%",0,"0.00%",234,133,"56.84%",1,"0.43%",null,"Ponto Belo",5461,897,0.16425563083684308,9,1.6480498077275224E-3]
["Regional Sul","Presidente Kennedy",1153,34,"2.95%",0,"0.00%",392,36,"9.18%",0,"0.00%",955,95,"9.95%",0,"0.00%",997,137,"13.74%",0,"0.00%",984,143,"14.53%",0,"0.00%",1083,160,"14.77%",0,"0.00%",1052,213,"20.25%",0,"0.00%",893,184,"20.60%",1,"0.11%",786,166,"21.12%",0,"0.00%",755,201,"26.62%",0,"0.00%",677,210,"31.02%",2,"0.30%",575,216,"37.57%",4,"0.70%",399,181,"45.36%",2,"0.50%",283,97,"34.28%",1,"0.35%",280,128,"45.71%",1,"0.36%",null,"Presidente Kennedy",11264,2201,0.19540127840909091,11,9.765625E-4]
["Regional Central","Rio Bananal",1482,8,"0.54%",0,"0.00%",536,44,"8.21%",0,"0.00%",1366,98,"7.17%",0,"0.00%",1401,122,"8.71%",0,"0.00%",1456,130,"8.93%",0,"0.00%",1564,181,"11.57%",3,"0.19%",1557,193,"12.40%",1,"0.06%",1306,180,"13.78%",2,"0.15%",1228,205,"16.69%",4,"0.33%",1179,211,"17.90%",1,"0.08%",944,310,"32.84%",24,"2.54%",790,337,"42.66%",30,"3.80%",537,290,"54.00%",24,"4.47%",357,232,"64.99%",18,"5.04%",443,306,"69.07%",40,"9.03%",null,"Rio Bananal",16146,2847,0.17632850241545894,147,9.1044221479004081E-3]
["Regional Sul","Rio Novo do Sul",786,3,"0.38%",0,"0.00%",271,28,"10.33%",0,"0.00%",708,50,"7.06%",0,"0.00%",695,62,"8.92%",0,"0.00%",788,74,"9.39%",0,"0.00%",890,90,"10.11%",2,"0.22%",882,103,"11.68%",1,"0.11%",730,96,"13.15%",0,"0.00%",736,105,"14.27%",1,"0.14%",718,145,"20.19%",0,"0.00%",662,209,"31.57%",9,"1.36%",577,246,"42.63%",21,"3.64%",396,191,"48.23%",19,"4.80%",249,128,"51.41%",17,"6.83%",348,177,"50.86%",7,"2.01%",null,"Rio Novo do Sul",9436,1707,0.18090292496820687,77,8.1602373887240363E-3]
["Regional Metropolitana","Santa Leopoldina",997,0,"0.00%",0,"0.00%",331,35,"10.57%",0,"0.00%",825,100,"12.12%",0,"0.00%",801,106,"13.23%",0,"0.00%",864,133,"15.39%",0,"0.00%",941,143,"15.20%",1,"0.11%",1013,176,"17.37%",0,"0.00%",931,190,"20.41%",1,"0.11%",972,217,"22.33%",3,"0.31%",920,231,"25.11%",1,"0.11%",846,364,"43.03%",37,"4.37%",646,345,"53.41%",37,"5.73%",488,294,"60.25%",27,"5.53%",276,168,"60.87%",18,"6.52%",378,228,"60.32%",16,"4.23%",null,"Santa Leopoldina",11229,2730,0.24312049158429067,141,1.2556772642265563E-2]
["Regional Metropolitana","Santa Maria de Jetibá",3202,376,"11.74%",1,"0.03%",1199,112,"9.34%",1,"0.08%",3375,186,"5.51%",0,"0.00%",3413,266,"7.79%",1,"0.03%",3529,266,"7.54%",2,"0.06%",3680,324,"8.80%",2,"0.05%",3496,346,"9.90%",4,"0.11%",2809,362,"12.89%",7,"0.25%",2501,280,"11.20%",4,"0.16%",2085,325,"15.59%",6,"0.29%",1731,424,"24.49%",44,"2.54%",1496,406,"27.14%",35,"2.34%",977,320,"32.75%",28,"2.87%",695,236,"33.96%",19,"2.73%",653,252,"38.59%",9,"1.38%",null,"Santa Maria de Jetibá",34841,4481,0.12861284119284749,163,4.6783961424758189E-3]
["Regional Metropolitana","Santa Teresa",1606,9,"0.56%",0,"0.00%",563,84,"14.92%",1,"0.18%",1397,204,"14.60%",0,"0.00%",1464,222,"15.16%",4,"0.27%",1661,231,"13.91%",2,"0.12%",1830,284,"15.52%",1,"0.05%",1799,323,"17.95%",2,"0.11%",1559,305,"19.56%",3,"0.19%",1591,312,"19.61%",6,"0.38%",1560,363,"23.27%",5,"0.32%",1375,533,"38.76%",52,"3.78%",1131,592,"52.34%",85,"7.52%",871,506,"58.09%",80,"9.18%",606,364,"60.07%",55,"9.08%",784,530,"67.60%",77,"9.82%",null,"Santa Teresa",19797,4862,0.24559276658079507,373,1.8841238571500732E-2]
["Regional Central","São Domingos do Norte",619,0,"0.00%",0,"0.00%",224,17,"7.59%",0,"0.00%",661,46,"6.96%",1,"0.15%",634,54,"8.52%",0,"0.00%",641,66,"10.30%",0,"0.00%",668,83,"12.43%",0,"0.00%",689,86,"12.48%",0,"0.00%",590,58,"9.83%",0,"0.00%",579,80,"13.82%",0,"0.00%",527,81,"15.37%",0,"0.00%",469,152,"32.41%",25,"5.33%",409,150,"36.67%",22,"5.38%",244,95,"38.93%",14,"5.74%",182,81,"44.51%",11,"6.04%",216,90,"41.67%",11,"5.09%",null,"São Domingos do Norte",7352,1139,0.15492383025027204,84,1.1425462459194777E-2]
["Regional Central","São Gabriel da Palha",2474,7,"0.28%",0,"0.00%",807,12,"1.49%",0,"0.00%",2139,56,"2.62%",0,"0.00%",2379,57,"2.40%",0,"0.00%",2433,71,"2.92%",1,"0.04%",2731,101,"3.70%",3,"0.11%",2843,116,"4.08%",1,"0.04%",2248,125,"5.56%",0,"0.00%",2076,124,"5.97%",3,"0.14%",1921,180,"9.37%",1,"0.05%",1693,354,"20.91%",7,"0.41%",1404,413,"29.42%",16,"1.14%",927,399,"43.04%",16,"1.73%",626,266,"42.49%",10,"1.60%",806,330,"40.94%",12,"1.49%",null,"São Gabriel da Palha",{"$f":"SUM(C68,H68,M68,R68,W68,AB68,AG68,AL68,AQ68,AV68,BA68,BF68,BK68,BP68,BU68)","v":27507},{"$f":"SUM(D68,I68,N68,S68,X68,AC68,AH68,AM68,AR68,AW68,BB68,BG68,BL68,BQ68,BV68)","v":2611},{"$f":"CC68/CB68","v":9.4921292761842441E-2},{"$f":"SUM(F68,K68,P68,U68,Z68,AE68,AJ68,AO68,AT68,AY68,BD68,BI68,BN68,BS68,BX68)","v":70},{"$f":"CE68/CB68","v":2.544806776456902E-3}]
["Regional Sul","São José do Calçado",798,0,"0.00%",0,"0.00%",288,10,"3.47%",0,"0.00%",707,34,"4.81%",0,"0.00%",742,39,"5.26%",0,"0.00%",699,40,"5.72%",0,"0.00%",695,57,"8.20%",0,"0.00%",735,52,"7.07%",0,"0.00%",663,63,"9.50%",0,"0.00%",755,86,"11.39%",0,"0.00%",757,123,"16.25%",2,"0.26%",692,201,"29.05%",9,"1.30%",596,243,"40.77%",14,"2.35%",466,240,"51.50%",21,"4.51%",312,149,"47.76%",12,"3.85%",390,175,"44.87%",13,"3.33%",null,"São José do Calçado",9295,1512,0.16266810112963959,71,7.6385153308230229E-3]
["Regional Norte","São Mateus",10454,133,"1.27%",2,"0.02%",3870,332,"8.58%",1,"0.03%",9749,1343,"13.78%",8,"0.08%",9496,1312,"13.82%",10,"0.11%",9200,1191,"12.95%",5,"0.05%",10015,1416,"14.14%",5,"0.05%",9939,1449,"14.58%",8,"0.08%",8604,1326,"15.41%",8,"0.09%",7593,1287,"16.95%",14,"0.18%",6871,1270,"18.48%",22,"0.32%",5876,1880,"31.99%",159,"2.71%",4566,1877,"41.11%",182,"3.99%",3125,1482,"47.42%",171,"5.47%",1788,934,"52.24%",100,"5.59%",2294,1177,"51.31%",75,"3.27%",null,"São Mateus",103440,18409,0.17796790409899457,770,7.4439288476411446E-3]
["Regional Central","São Roque do Canaã",783,2,"0.26%",0,"0.00%",271,23,"8.49%",0,"0.00%",718,69,"9.61%",1,"0.14%",691,71,"10.27%",1,"0.14%",700,80,"11.43%",1,"0.14%",774,91,"11.76%",2,"0.26%",828,112,"13.53%",4,"0.48%",817,115,"14.08%",2,"0.24%",861,129,"14.98%",7,"0.81%",766,143,"18.67%",3,"0.39%",672,225,"33.48%",29,"4.32%",571,250,"43.78%",38,"6.65%",412,229,"55.58%",27,"6.55%",283,167,"59.01%",22,"7.77%",432,222,"51.39%",21,"4.86%",null,"São Roque do Canaã",9579,1928,0.20127361937571772,158,1.6494414865852385E-2]
["Regional Metropolitana","Serra",43428,452,"1.04%",7,"0.02%",14664,1048,"7.15%",7,"0.05%",39738,3716,"9.35%",18,"0.05%",40291,4561,"11.32%",25,"0.06%",43267,4784,"11.06%",28,"0.06%",47524,5696,"11.99%",31,"0.07%",45103,6303,"13.97%",49,"0.11%",35226,5601,"15.90%",42,"0.12%",30278,4928,"16.28%",50,"0.17%",26431,5275,"19.96%",65,"0.25%",23125,7188,"31.08%",791,"3.42%",18306,7586,"41.44%",1057,"5.77%",11385,5786,"50.82%",863,"7.58%",6462,3324,"51.44%",459,"7.10%",7203,3780,"52.48%",405,"5.62%",null,"Serra",432431,70028,0.16194028642719879,3897,9.0118423517277901E-3]
["Regional Central","Sooretama",2601,4,"0.15%",0,"0.00%",875,41,"4.69%",0,"0.00%",2216,124,"5.60%",0,"0.00%",2086,152,"7.29%",0,"0.00%",1984,133,"6.70%",0,"0.00%",2117,164,"7.75%",1,"0.05%",2040,186,"9.12%",0,"0.00%",1736,159,"9.16%",0,"0.00%",1410,180,"12.77%",0,"0.00%",1222,205,"16.78%",2,"0.16%",1020,292,"28.63%",5,"0.49%",811,342,"42.17%",11,"1.36%",557,273,"49.01%",8,"1.44%",343,187,"54.52%",4,"1.17%",366,173,"47.27%",1,"0.27%",null,"Sooretama",21384,2615,0.12228769173213618,32,1.4964459408903852E-3]
["Regional Sul","Vargem Alta",1601,23,"1.44%",0,"0.00%",499,51,"10.22%",1,"0.20%",1455,153,"10.52%",1,"0.07%",1391,180,"12.94%",2,"0.14%",1376,181,"13.15%",1,"0.07%",1517,216,"14.24%",4,"0.26%",1582,264,"16.69%",1,"0.06%",1243,208,"16.73%",1,"0.08%",1299,227,"17.47%",5,"0.38%",1289,315,"24.44%",4,"0.31%",1073,429,"39.98%",28,"2.61%",806,457,"56.70%",52,"6.45%",607,371,"61.12%",51,"8.40%",347,241,"69.45%",22,"6.34%",532,351,"65.98%",30,"5.64%",null,"Vargem Alta",16617,3667,0.22067761930553048,203,1.2216404886561954E-2]
["Regional Metropolitana","Venda Nova do Imigrante",1772,8,"0.45%",0,"0.00%",636,67,"10.53%",0,"0.00%",1745,150,"8.60%",0,"0.00%",1826,178,"9.75%",4,"0.22%",1922,225,"11.71%",0,"0.00%",2063,252,"12.22%",2,"0.10%",1925,261,"13.56%",0,"0.00%",1698,281,"16.55%",2,"0.12%",1582,282,"17.83%",7,"0.44%",1448,289,"19.96%",6,"0.41%",1148,446,"38.85%",54,"4.70%",910,437,"48.02%",70,"7.69%",670,356,"53.13%",66,"9.85%",446,237,"53.14%",55,"12.33%",592,356,"60.14%",77,"13.01%",null,"Venda Nova do Imigrante",20383,3825,0.18765638031693077,343,1.6827748614041113E-2]
["Regional Metropolitana","Viana",6087,35,"0.57%",0,"0.00%",2053,183,"8.91%",0,"0.00%",5629,562,"9.98%",2,"0.04%",5867,879,"14.98%",4,"0.07%",6074,876,"14.42%",1,"0.02%",6403,973,"15.20%",5,"0.08%",6300,967,"15.35%",4,"0.06%",5006,939,"18.76%",5,"0.10%",4349,873,"20.07%",10,"0.23%",3856,899,"23.31%",11,"0.29%",3453,1372,"39.73%",107,"3.10%",2598,1474,"56.74%",131,"5.04%",1712,1118,"65.30%",102,"5.96%",919,688,"74.86%",56,"6.09%",1076,788,"73.23%",36,"3.35%",null,"Viana",61382,12626,0.20569548075983188,474,7.7221335244860058E-3]
["Regional Norte","Vila Pavão",661,3,"0.45%",0,"0.00%",250,23,"9.20%",0,"0.00%",528,64,"12.12%",0,"0.00%",650,71,"10.92%",2,"0.31%",632,96,"15.19%",0,"0.00%",703,117,"16.64%",2,"0.28%",710,143,"20.14%",1,"0.14%",685,130,"18.98%",5,"0.73%",649,110,"16.95%",3,"0.46%",574,152,"26.48%",10,"1.74%",500,193,"38.60%",23,"4.60%",373,202,"54.16%",24,"6.43%",249,173,"69.48%",21,"8.43%",185,116,"62.70%",11,"5.95%",203,136,"67.00%",9,"4.43%",null,"Vila Pavão",7552,1729,0.22894597457627119,111,1.4698093220338984E-2]
["Regional Central","Vila Valério",1091,3,"0.27%",0,"0.00%",352,15,"4.26%",0,"0.00%",993,57,"5.74%",0,"0.00%",1036,82,"7.92%",0,"0.00%",1042,73,"7.01%",0,"0.00%",1102,90,"8.17%",0,"0.00%",1163,118,"10.15%",0,"0.00%",983,117,"11.90%",0,"0.00%",869,141,"16.23%",0,"0.00%",844,138,"16.35%",0,"0.00%",693,220,"31.75%",2,"0.29%",532,230,"43.23%",4,"0.75%",403,180,"44.67%",2,"0.50%",240,127,"52.92%",1,"0.42%",292,134,"45.89%",3,"1.03%",null,"Vila Valério",11635,1725,0.14825956166738288,12,1.0313708637730984E-3]
["Regional Metropolitana","Vila Velha",33559,223,"0.66%",2,"0.01%",11690,1396,"11.94%",11,"0.09%",34117,6054,"17.74%",201,"0.59%",35678,7673,"21.51%",300,"0.84%",37276,7422,"19.91%",272,"0.73%",39602,7773,"19.63%",301,"0.76%",39329,8015,"20.38%",406,"1.03%",31720,7073,"22.30%",334,"1.05%",30013,6461,"21.53%",284,"0.95%",28733,7219,"25.12%",307,"1.07%",25601,9324,"36.42%",1560,"6.09%",20643,9466,"45.86%",1858,"9.00%",14310,7336,"51.26%",1359,"9.50%",9116,4938,"54.17%",854,"9.37%",11379,6515,"57.25%",970,"8.52%",null,"Vila Velha",402766,96888,0.24055655144674576,9019,2.239265479211254E-2]
["Regional Metropolitana","Vitória",21536,439,"2.04%",11,"0.05%",7743,1575,"20.34%",11,"0.14%",22666,6117,"26.99%",46,"0.20%",23212,6525,"28.11%",57,"0.25%",23980,6138,"25.60%",71,"0.30%",26637,7559,"28.38%",120,"0.45%",26887,8510,"31.65%",153,"0.57%",22069,7673,"34.77%",133,"0.60%",20112,6871,"34.16%",170,"0.85%",20532,7526,"36.65%",235,"1.14%",19349,9166,"47.37%",1821,"9.41%",16196,9013,"55.65%",2164,"13.36%",11644,7080,"60.80%",1735,"14.90%",7493,4787,"63.89%",1164,"15.53%",10123,6985,"69.00%",1680,"16.60%",null,"Vitória",280179,95964,0.34250960992793894,9571,3.4160304662376552E-2]
[null,"TOTAL ESPÍRITO SANTO",{"$f":"SUM(C3:C80)","v":300898},{"$f":"SUM(D3:D80)","v":3148},{"$f":"D81/C81","v":1.0462017029026447E-2},{"$f":"SUM(F3:F80)","v":64},{"$f":"F81/C81","v":2.1269666132709423E-4},{"$f":"SUM(H3:H80)","v":103299},{"$f":"SUM(I3:I80)","v":10092},{"$f":"I81/H81","v":9.769697673743212E-2},{"$f":"SUM(K3:K80)","v":67},{"$f":"K81/H81","v":6.4860260021878241E-4},{"$f":"SUM(M3:M80)","v":276033},{"$f":"SUM(N3:N80)","v":33833},{"$f":"N81/M81","v":0.12256867838265714},{"$f":"SUM(P3:P80)","v":424},{"$f":"P81/M81","v":1.5360482261178917E-3},{"$f":"SUM(R3:R80)","v":279424},{"$f":"SUM(S3:S80)","v":39540},{"$f":"S81/R81","v":0.14150538250114522},{"$f":"SUM(U3:U80)","v":593},{"$f":"U81/R81","v":2.1222228584516722E-3},{"$f":"SUM(W3:W80)","v":291550},{"$f":"SUM(X3:X80)","v":39754},{"$f":"X81/W81","v":0.13635397015949235},{"$f":"SUM(Z3:Z80)","v":591},{"$f":"Z81/W81","v":2.0270965529068769E-3},{"$f":"SUM(AB3:AB80)","v":313839},{"$f":"SUM(AC3:AC80)","v":46448},{"$f":"AC81/AB81","v":0.14799945194829195},{"$f":"SUM(AE3:AE80)","v":716},{"$f":"AE81/AB81","v":2.281424552079251E-3},{"$f":"SUM(AG3:AG80)","v":315396},{"$f":"SUM(AH3:AH80)","v":51008},{"$f":"AH81/AG81","v":0.16172684498218112},{"$f":"SUM(AJ3:AJ80)","v":915},{"$f":"AJ81/AG81","v":2.9011147890271277E-3},{"$f":"SUM(AL3:AL80)","v":260955},{"$f":"SUM(AM3:AM80)","v":47599},{"$f":"AM81/AL81","v":0.18240309631928878},{"$f":"SUM(AO3:AO80)","v":823},{"$f":"AO81/AL81","v":3.1538004636814778E-3},{"$f":"SUM(AQ3:AQ80)","v":242363},{"$f":"SUM(AR3:AR80)","v":45425},{"$f":"AR81/AQ81","v":0.18742547336020762},{"$f":"SUM(AT3:AT80)","v":890},{"$f":"AT81/AQ81","v":3.672177683887392E-3},{"$f":"SUM(AV3:AV80)","v":225229},{"$f":"SUM(AW3:AW80)","v":50892},{"$f":"AW81/AV81","v":0.22595669296582591},{"$f":"SUM(AY3:AY80)","v":1081},{"$f":"AY81/AV81","v":4.7995595593817849E-3},{"$f":"SUM(BA3:BA80)","v":200415},{"$f":"SUM(BB3:BB80)","v":69577},{"$f":"BB81/BA81","v":0.34716463338572462},{"$f":"SUM(BD3:BD80)","v":8032},{"$f":"BD81/BA81","v":4.0076840555846621E-2},{"$f":"SUM(BF3:BF80)","v":161788},{"$f":"SUM(BG3:BG80)","v":73137},{"$f":"BG81/BF81","v":0.45205454050980293},{"$f":"SUM(BI3:BI80)","v":9922},{"$f":"BI81/BF81","v":6.1327168887680174E-2},{"$f":"SUM(BK3:BK80)","v":111235},{"$f":"SUM(BL3:BL80)","v":58324},{"$f":"BL81/BK81","v":0.52433137052186807},{"$f":"SUM(BN3:BN80)","v":8125},{"$f":"BN81/BK81","v":7.3043556434575455E-2},{"$f":"SUM(BP3:BP80)","v":70070},{"$f":"SUM(BQ3:BQ80)","v":38683},{"$f":"BQ81/BP81","v":0.55206222349079492},{"$f":"SUM(BS3:BS80)","v":5069},{"$f":"BS81/BP81","v":7.2341943770515199E-2},{"$f":"SUM(BU3:BU80)","v":87890},{"$f":"SUM(BV3:BV80)","v":49347},{"$f":"BV81/BU81","v":0.56146319262714761},{"$f":"SUM(BX3:BX80)","v":5646},{"$f":"BX81/BU81","v":6.4239390146774378E-2},null,"TOTAL ESPÍRITO SANTO",3240384,656807,0.20269418686180404,42958,1.3257070766921451E-2]
[null,"Regional Metropolitana",{"$f":"SUMIF($A$3:$A$80,$B82,C$3:C$80)","v":176348},{"$f":"SUMIF($A$3:$A$80,$B82,D$3:D$80)","v":2277},{"$f":"D82/C82","v":1.2911969514822964E-2},{"$f":"SUMIF($A$3:$A$80,$B82,F$3:F$80)","v":52},{"$f":"F82/C82","v":2.9487150407149498E-4},{"$f":"SUMIF($A$3:$A$80,$B82,H$3:H$80)","v":60323},{"$f":"SUMIF($A$3:$A$80,$B82,I$3:I$80)","v":6848},{"$f":"I82/H82","v":0.11352220546060375},{"$f":"SUMIF($A$3:$A$80,$B82,K$3:K$80)","v":55},{"$f":"K82/H82","v":9.1175836745519955E-4},{"$f":"SUMIF($A$3:$A$80,$B82,M$3:M$80)","v":165481},{"$f":"SUMIF($A$3:$A$80,$B82,N$3:N$80)","v":23576},{"$f":"N82/M82","v":0.142469528223784},{"$f":"SUMIF($A$3:$A$80,$B82,P$3:P$80)","v":363},{"$f":"P82/M82","v":2.1936053081622665E-3},{"$f":"SUMIF($A$3:$A$80,$B82,R$3:R$80)","v":167614},{"$f":"SUMIF($A$3:$A$80,$B82,S$3:S$80)","v":27858},{"$f":"S82/R82","v":0.16620330044029735},{"$f":"SUMIF($A$3:$A$80,$B82,U$3:U$80)","v":511},{"$f":"U82/R82","v":3.0486713520350328E-3},{"$f":"SUMIF($A$3:$A$80,$B82,W$3:W$80)","v":176453},{"$f":"SUMIF($A$3:$A$80,$B82,X$3:X$80)","v":27972},{"$f":"X82/W82","v":0.15852379953868737},{"$f":"SUMIF($A$3:$A$80,$B82,Z$3:Z$80)","v":508},{"$f":"Z82/W82","v":2.8789536023757036E-3},{"$f":"SUMIF($A$3:$A$80,$B82,AB$3:AB$80)","v":191072},{"$f":"SUMIF($A$3:$A$80,$B82,AC$3:AC$80)","v":32351},{"$f":"AC82/AB82","v":0.16931313850276336},{"$f":"SUMIF($A$3:$A$80,$B82,AE$3:AE$80)","v":608},{"$f":"AE82/AB82","v":3.1820465583654329E-3},{"$f":"SUMIF($A$3:$A$80,$B82,AG$3:AG$80)","v":190456},{"$f":"SUMIF($A$3:$A$80,$B82,AH$3:AH$80)","v":35185},{"$f":"AH82/AG82","v":0.18474083252824799},{"$f":"SUMIF($A$3:$A$80,$B82,AJ$3:AJ$80)","v":772},{"$f":"AJ82/AG82","v":4.0534296635443357E-3},{"$f":"SUMIF($A$3:$A$80,$B82,AL$3:AL$80)","v":155329},{"$f":"SUMIF($A$3:$A$80,$B82,AM$3:AM$80)","v":32313},{"$f":"AM82/AL82","v":0.20802940854573196},{"$f":"SUMIF($A$3:$A$80,$B82,AO$3:AO$80)","v":686},{"$f":"AO82/AL82","v":4.4164322180661689E-3},{"$f":"SUMIF($A$3:$A$80,$B82,AQ$3:AQ$80)","v":142027},{"$f":"SUMIF($A$3:$A$80,$B82,AR$3:AR$80)","v":29834},{"$f":"AR82/AQ82","v":0.21005865081991451},{"$f":"SUMIF($A$3:$A$80,$B82,AT$3:AT$80)","v":724},{"$f":"AT82/AQ82","v":5.0976222830870187E-3},{"$f":"SUMIF($A$3:$A$80,$B82,AV$3:AV$80)","v":131470},{"$f":"SUMIF($A$3:$A$80,$B82,AW$3:AW$80)","v":32760},{"$f":"AW82/AV82","v":0.24918232296341369},{"$f":"SUMIF($A$3:$A$80,$B82,AY$3:AY$80)","v":853},{"$f":"AY82/AV82","v":6.4881722065870543E-3},{"$f":"SUMIF($A$3:$A$80,$B82,BA$3:BA$80)","v":117912},{"$f":"SUMIF($A$3:$A$80,$B82,BB$3:BB$80)","v":43521},{"$f":"BB82/BA82","v":0.36909729289639731},{"$f":"SUMIF($A$3:$A$80,$B82,BD$3:BD$80)","v":6238},{"$f":"BD82/BA82","v":5.2903860506140175E-2},{"$f":"SUMIF($A$3:$A$80,$B82,BF$3:BF$80)","v":95017},{"$f":"SUMIF($A$3:$A$80,$B82,BG$3:BG$80)","v":44963},{"$f":"BG82/BF82","v":0.47321005714766834},{"$f":"SUMIF($A$3:$A$80,$B82,BI$3:BI$80)","v":7725},{"$f":"BI82/BF82","v":8.1301240830588206E-2},{"$f":"SUMIF($A$3:$A$80,$B82,BK$3:BK$80)","v":64819},{"$f":"SUMIF($A$3:$A$80,$B82,BL$3:BL$80)","v":35370},{"$f":"BL82/BK82","v":0.54567333652169892},{"$f":"SUMIF($A$3:$A$80,$B82,BN$3:BN$80)","v":6190},{"$f":"BN82/BK82","v":9.5496690785109306E-2},{"$f":"SUMIF($A$3:$A$80,$B82,BP$3:BP$80)","v":40078},{"$f":"SUMIF($A$3:$A$80,$B82,BQ$3:BQ$80)","v":22909},{"$f":"BQ82/BP82","v":0.57161035979839314},{"$f":"SUMIF($A$3:$A$80,$B82,BS$3:BS$80)","v":3856},{"$f":"BS82/BP82","v":9.6212385847597184E-2},{"$f":"SUMIF($A$3:$A$80,$B82,BU$3:BU$80)","v":49239},{"$f":"SUMIF($A$3:$A$80,$B82,BV$3:BV$80)","v":29092},{"$f":"BV82/BU82","v":0.59083247019638907},{"$f":"SUMIF($A$3:$A$80,$B82,BX$3:BX$80)","v":4340},{"$f":"BX82/BU82","v":8.8141513840654759E-2},null,"Regional Metropolitana",1923638,426829,0.22188634244072949,33481,1.7405041904973804E-2]
[null,"Regional Norte",{"$f":"SUMIF($A$3:$A$80,$B83,C$3:C$80)","v":34282},305,{"$f":"D83/C83","v":8.8967971530249119E-3},3,{"$f":"F83/C83","v":8.7509480193687648E-5},{"$f":"SUMIF($A$3:$A$80,$B83,H$3:H$80)","v":11775},872,{"$f":"I83/H83","v":7.4055201698513803E-2},2,{"$f":"K83/H83","v":1.6985138004246286E-4},{"$f":"SUMIF($A$3:$A$80,$B83,M$3:M$80)","v":29086},2834,{"$f":"N83/M83","v":9.7435192188681838E-2},18,{"$f":"P83/M83","v":6.1885443168534693E-4},{"$f":"SUMIF($A$3:$A$80,$B83,R$3:R$80)","v":28983},3224,{"$f":"S83/R83","v":0.11123762205430769},23,{"$f":"U83/R83","v":7.9356864368767903E-4},{"$f":"SUMIF($A$3:$A$80,$B83,W$3:W$80)","v":28695},3137,{"$f":"X83/W83","v":0.10932218156473253},26,{"$f":"Z83/W83","v":9.0608119881512462E-4},{"$f":"SUMIF($A$3:$A$80,$B83,AB$3:AB$80)","v":31444},3867,{"$f":"AC83/AB83","v":0.12298053682737566},23,{"$f":"AE83/AB83","v":7.3145910189543312E-4},{"$f":"SUMIF($A$3:$A$80,$B83,AG$3:AG$80)","v":31855},4310,{"$f":"AH83/AG83","v":0.13530058075655313},37,{"$f":"AJ83/AG83","v":1.161513106262753E-3},{"$f":"SUMIF($A$3:$A$80,$B83,AL$3:AL$80)","v":27954},4161,{"$f":"AM83/AL83","v":0.1488516849109251},34,{"$f":"AO83/AL83","v":1.2162838949703084E-3},{"$f":"SUMIF($A$3:$A$80,$B83,AQ$3:AQ$80)","v":25808},4118,{"$f":"AR83/AQ83","v":0.15956292622442653},50,{"$f":"AT83/AQ83","v":1.9373837569745815E-3},{"$f":"SUMIF($A$3:$A$80,$B83,AV$3:AV$80)","v":23724},4427,{"$f":"AW83/AV83","v":0.18660428258303827},77,{"$f":"AY83/AV83","v":3.2456584049907265E-3},{"$f":"SUMIF($A$3:$A$80,$B83,BA$3:BA$80)","v":20472},6429,{"$f":"BB83/BA83","v":0.31403868698710435},540,{"$f":"BD83/BA83","v":2.6377491207502931E-2},{"$f":"SUMIF($A$3:$A$80,$B83,BF$3:BF$80)","v":16295},6690,{"$f":"BG83/BF83","v":0.41055538508745015},633,{"$f":"BI83/BF83","v":3.8846271862534518E-2},{"$f":"SUMIF($A$3:$A$80,$B83,BK$3:BK$80)","v":11297},5356,{"$f":"BL83/BK83","v":0.47410817031070196},576,{"$f":"BN83/BK83","v":5.0986987695848453E-2},{"$f":"SUMIF($A$3:$A$80,$B83,BP$3:BP$80)","v":7308},3652,{"$f":"BQ83/BP83","v":0.49972632731253419},345,{"$f":"BS83/BP83","v":4.7208538587848931E-2},{"$f":"SUMIF($A$3:$A$80,$B83,BU$3:BU$80)","v":9254},4702,{"$f":"BV83/BU83","v":0.50810460341473962},357,{"$f":"BX83/BU83","v":3.8577912254160365E-2},null,"Regional Norte",338232,58084,0.17172828117978192,2744,8.1127746635445488E-3]
[null,"Regional Central",39856,138,{"$f":"D84/C84","v":3.462464873544761E-3},1,{"$f":"F84/C84","v":2.5090325170614212E-5},13805,790,{"$f":"I84/H84","v":5.7225642883013399E-2},2,{"$f":"K84/H84","v":1.4487504527345164E-4},36486,2752,{"$f":"N84/M84","v":7.5426190867730086E-2},15,{"$f":"P84/M84","v":4.1111659266567999E-4},37160,3281,{"$f":"S84/R84","v":8.8293864370290631E-2},20,{"$f":"U84/R84","v":5.3821313240043052E-4},38246,3226,{"$f":"X84/W84","v":8.4348690059091153E-2},19,{"$f":"Z84/W84","v":4.9678397740940232E-4},40255,3701,{"$f":"AC84/AB84","v":9.1938889578934299E-2},33,{"$f":"AE84/AB84","v":8.1977394112532609E-4},40954,4142,{"$f":"AH84/AG84","v":0.10113786199150267},37,{"$f":"AJ84/AG84","v":9.0345265419739223E-4},33797,3931,{"$f":"AM84/AL84","v":0.11631209870698583},31,{"$f":"AO84/AL84","v":9.1724117525224128E-4},32113,4278,{"$f":"AR84/AQ84","v":0.13321707719615108},39,{"$f":"AT84/AQ84","v":1.214461433064491E-3},28983,5040,{"$f":"AW84/AV84","v":0.17389504192112618},33,{"$f":"AY84/AV84","v":1.1385984887692785E-3},25194,7286,{"$f":"BB84/BA84","v":0.28919584027943163},356,{"$f":"BD84/BA84","v":1.4130348495673573E-2},20238,8171,{"$f":"BG84/BF84","v":0.40374542939025593},428,{"$f":"BI84/BF84","v":2.114833481569325E-2},13909,6729,{"$f":"BL84/BK84","v":0.48378747573513553},331,{"$f":"BN84/BK84","v":2.3797541160399741E-2},9300,4729,{"$f":"BQ84/BP84","v":0.50849462365591402},232,{"$f":"BS84/BP84","v":2.4946236559139787E-2},11836,5736,{"$f":"BV84/BU84","v":0.48462318350794187},232,{"$f":"BX84/BU84","v":1.9601216627238932E-2},null,"Regional Central",422132,63930,0.15144551941098994,1809,4.2853894042621738E-3]
[null,"Regional Sul",50412,428,{"$f":"D85/C85","v":8.4900420534793301E-3},8,{"$f":"F85/C85","v":1.5869237483138936E-4},17396,1582,{"$f":"I85/H85","v":9.0940446079558521E-2},8,{"$f":"K85/H85","v":4.5987583352494828E-4},44980,4671,{"$f":"N85/M85","v":0.10384615384615385},28,{"$f":"P85/M85","v":6.2249888839484215E-4},45667,5177,{"$f":"S85/R85","v":0.11336413602820418},39,{"$f":"U85/R85","v":8.54008364902446E-4},48156,5419,{"$f":"X85/W85","v":0.11253011047429189},38,{"$f":"Z85/W85","v":7.8910208489077168E-4},51068,6529,{"$f":"AC85/AB85","v":0.12784914232004385},52,{"$f":"AE85/AB85","v":1.0182501762356073E-3},52131,7371,{"$f":"AH85/AG85","v":0.14139379639753696},69,{"$f":"AJ85/AG85","v":1.3235886516659954E-3},43875,7194,{"$f":"AM85/AL85","v":0.16396581196581198},72,{"$f":"AO85/AL85","v":1.6410256410256409E-3},42415,7195,{"$f":"AR85/AQ85","v":0.1696333844158906},77,{"$f":"AT85/AQ85","v":1.8153954968761052E-3},41052,8665,{"$f":"AW85/AV85","v":0.21107376010912987},118,{"$f":"AY85/AV85","v":2.8744031959466042E-3},36837,12341,{"$f":"BB85/BA85","v":0.33501642370442763},898,{"$f":"BD85/BA85","v":2.4377663761978446E-2},30238,13313,{"$f":"BG85/BF85","v":0.44027382763410278},1136,{"$f":"BI85/BF85","v":3.7568622263377205E-2},21210,10869,{"$f":"BL85/BK85","v":0.51244695898161241},1028,{"$f":"BN85/BK85","v":4.8467703913248471E-2},13384,7393,{"$f":"BQ85/BP85","v":0.55237597130902572},636,{"$f":"BS85/BP85","v":4.7519426180514045E-2},17561,9817,{"$f":"BV85/BU85","v":0.5590228346905074},717,{"$f":"BX85/BU85","v":4.0829109959569503E-2},null,"Regional Sul",556382,107964,0.19404653637249228,4924,8.85003468839754E-3]
[]
[]
[]
[]
[null,null,{"$f":"'Bivalente - proced'!E2","v":"COBERTURA VACINAL REFORÇO BIVALENTE"},{"$f":"'Bivalente - proced'!G2","v":"2º COBERTURA VACINAL REFORÇO BIVALENTE"},{"$f":"'Bivalente - proced'!J2","v":"COBERTURA VACINAL REFORÇO BIVALENTE"},{"$f":"'Bivalente - proced'!L2","v":"2º COBERTURA VACINAL REFORÇO BIVALENTE"},{"$f":"'Bivalente - proced'!O2","v":"COBERTURA VACINAL REFORÇO BIVALENTE"},{"$f":"'Bivalente - proced'!Q2","v":"2º COBERTURA VACINAL REFORÇO BIVALENTE"},{"$f":"'Bivalente - proced'!T2","v":"COBERTURA VACINAL REFORÇO BIVALENTE"},{"$f":"'Bivalente - proced'!V2","v":"2º COBERTURA VACINAL REFORÇO BIVALENTE"},{"$f":"'Bivalente - proced'!Y2","v":"COBERTURA VACINAL REFORÇO BIVALENTE"},{"$f":"'Bivalente - proced'!AA2","v":"2º COBERTURA VACINAL REFORÇO BIVALENTE"},{"$f":"'Bivalente - proced'!AD2","v":"COBERTURA VACINAL REFORÇO BIVALENTE"},{"$f":"'Bivalente - proced'!AF2","v":"2º COBERTURA VACINAL REFORÇO BIVALENTE"},{"$f":"'Bivalente - proced'!AI2","v":"COBERTURA VACINAL REFORÇO BIVALENTE"},{"$f":"'Bivalente - proced'!AK2","v":"2º COBERTURA VACINAL REFORÇO BIVALENTE"},{"$f":"'Bivalente - proced'!AN2","v":"COBERTURA VACINAL REFORÇO BIVALENTE"},{"$f":"'Bivalente - proced'!AP2","v":"2º COBERTURA VACINAL REFORÇO BIVALENTE"},{"$f":"'Bivalente - proced'!AS2","v":"COBERTURA VACINAL REFORÇO BIVALENTE"},{"$f":"'Bivalente - proced'!AU2","v":"2º COBERTURA VACINAL REFORÇO BIVALENTE"},{"$f":"'Bivalente - proced'!AX2","v":"COBERTURA VACINAL REFORÇO BIVALENTE"},{"$f":"'Bivalente - proced'!AZ2","v":"2º COBERTURA VACINAL REFORÇO BIVALENTE"},{"$f":"'Bivalente - proced'!BC2","v":"COBERTURA VACINAL REFORÇO BIVALENTE"},{"$f":"'Bivalente - proced'!BE2","v":"2º COBERTURA VACINAL REFORÇO BIVALENTE"},{"$f":"'Bivalente - proced'!BH2","v":"COBERTURA VACINAL REFORÇO BIVALENTE"},{"$f":"'Bivalente - proced'!BJ2","v":"2º COBERTURA VACINAL REFORÇO BIVALENTE"},{"$f":"'Bivalente - proced'!BM2","v":"COBERTURA VACINAL REFORÇO BIVALENTE"},{"$f":"'Bivalente - proced'!BO2","v":"2º COBERTURA VACINAL REFORÇO BIVALENTE"},{"$f":"'Bivalente - proced'!BR2","v":"COBERTURA VACINAL REFORÇO BIVALENTE"},{"$f":"'Bivalente - proced'!BT2","v":"2º COBERTURA VACINAL REFORÇO BIVALENTE"},{"$f":"'Bivalente - proced'!BW2","v":"COBERTURA VACINAL REFORÇO BIVALENTE"},{"$f":"'Bivalente - proced'!BY2","v":"2º COBERTURA VACINAL REFORÇO BIVALENTE"}]
[null,null,"12 A 17 ANOS","12 A 17 ANOS","18 A 19 ANOS","18 A 19 ANOS","20 A 24 ANOS","20 A 24 ANOS","25 A 29 ANOS","25 A 29 ANOS","30 A 34 ANOS","30 A 34 ANOS","35 A 39 ANOS","35 A 39 ANOS","40 A 44 ANOS","40 A 44 ANOS","45 A 49 ANOS","45 A 49 ANOS","50 A 54 ANOS","50 A 54 ANOS","55 A 59 ANOS","55 A 59 ANOS","60 A 64 ANOS","60 A 64 ANOS","65 A 69 ANOS","65 A 69 ANOS","70 A 74 ANOS","70 A 74 ANOS","75 A 79 ANOS","75 A 79 ANOS","80 ANOS OU MAIS","80 ANOS OU MAIS"]
[null,{"$f":"'Bivalente - proced'!B81","v":"TOTAL ESPÍRITO SANTO"},{"$f":"'Bivalente - proced'!E81","v":1.0462017029026447E-2},{"$f":"'Bivalente - proced'!G81","v":2.1269666132709423E-4},{"$f":"'Bivalente - proced'!J81","v":9.769697673743212E-2},{"$f":"'Bivalente - proced'!L81","v":6.4860260021878241E-4},{"$f":"'Bivalente - proced'!O81","v":0.12256867838265714},{"$f":"'Bivalente - proced'!Q81","v":1.5360482261178917E-3},{"$f":"'Bivalente - proced'!T81","v":0.14150538250114522},{"$f":"'Bivalente - proced'!V81","v":2.1222228584516722E-3},{"$f":"'Bivalente - proced'!Y81","v":0.13635397015949235},{"$f":"'Bivalente - proced'!AA81","v":2.0270965529068769E-3},{"$f":"'Bivalente - proced'!AD81","v":0.14799945194829195},{"$f":"'Bivalente - proced'!AF81","v":2.281424552079251E-3},{"$f":"'Bivalente - proced'!AI81","v":0.16172684498218112},{"$f":"'Bivalente - proced'!AK81","v":2.9011147890271277E-3},{"$f":"'Bivalente - proced'!AN81","v":0.18240309631928878},{"$f":"'Bivalente - proced'!AP81","v":3.1538004636814778E-3},{"$f":"'Bivalente - proced'!AS81","v":0.18742547336020762},{"$f":"'Bivalente - proced'!AU81","v":3.672177683887392E-3},{"$f":"'Bivalente - proced'!AX81","v":0.22595669296582591},{"$f":"'Bivalente - proced'!AZ81","v":4.7995595593817849E-3},{"$f":"'Bivalente - proced'!BC81","v":0.34716463338572462},{"$f":"'Bivalente - proced'!BE81","v":4.0076840555846621E-2},{"$f":"'Bivalente - proced'!BH81","v":0.45205454050980293},{"$f":"'Bivalente - proced'!BJ81","v":6.1327168887680174E-2},{"$f":"'Bivalente - proced'!BM81","v":0.52433137052186807},{"$f":"'Bivalente - proced'!BO81","v":7.3043556434575455E-2},{"$f":"'Bivalente - proced'!BR81","v":0.55206222349079492},{"$f":"'Bivalente - proced'!BT81","v":7.2341943770515199E-2},{"$f":"'Bivalente - proced'!BW81","v":0.56146319262714761},{"$f":"'Bivalente - proced'!BY81","v":6.4239390146774378E-2}]
[null,{"$f":"'Bivalente - proced'!B82","v":"Regional Metropolitana"},{"$f":"'Bivalente - proced'!E82","v":1.2911969514822964E-2},{"$f":"'Bivalente - proced'!G82","v":2.9487150407149498E-4},{"$f":"'Bivalente - proced'!J82","v":0.11352220546060375},{"$f":"'Bivalente - proced'!L82","v":9.1175836745519955E-4},{"$f":"'Bivalente - proced'!O82","v":0.142469528223784},{"$f":"'Bivalente - proced'!Q82","v":2.1936053081622665E-3},{"$f":"'Bivalente - proced'!T82","v":0.16620330044029735},{"$f":"'Bivalente - proced'!V82","v":3.0486713520350328E-3},{"$f":"'Bivalente - proced'!Y82","v":0.15852379953868737},{"$f":"'Bivalente - proced'!AA82","v":2.8789536023757036E-3},{"$f":"'Bivalente - proced'!AD82","v":0.16931313850276336},{"$f":"'Bivalente - proced'!AF82","v":3.1820465583654329E-3},{"$f":"'Bivalente - proced'!AI82","v":0.18474083252824799},{"$f":"'Bivalente - proced'!AK82","v":4.0534296635443357E-3},{"$f":"'Bivalente - proced'!AN82","v":0.20802940854573196},{"$f":"'Bivalente - proced'!AP82","v":4.4164322180661689E-3},{"$f":"'Bivalente - proced'!AS82","v":0.21005865081991451},{"$f":"'Bivalente - proced'!AU82","v":5.0976222830870187E-3},{"$f":"'Bivalente - proced'!AX82","v":0.24918232296341369},{"$f":"'Bivalente - proced'!AZ82","v":6.4881722065870543E-3},{"$f":"'Bivalente - proced'!BC82","v":0.36909729289639731},{"$f":"'Bivalente - proced'!BE82","v":5.2903860506140175E-2},{"$f":"'Bivalente - proced'!BH82","v":0.47321005714766834},{"$f":"'Bivalente - proced'!BJ82","v":8.1301240830588206E-2},{"$f":"'Bivalente - proced'!BM82","v":0.54567333652169892},{"$f":"'Bivalente - proced'!BO82","v":9.5496690785109306E-2},{"$f":"'Bivalente - proced'!BR82","v":0.57161035979839314},{"$f":"'Bivalente - proced'!BT82","v":9.6212385847597184E-2},{"$f":"'Bivalente - proced'!BW82","v":0.59083247019638907},{"$f":"'Bivalente - proced'!BY82","v":8.8141513840654759E-2}]
[null,{"$f":"'Bivalente - proced'!B83","v":"Regional Norte"},{"$f":"'Bivalente - proced'!E83","v":8.8967971530249119E-3},{"$f":"'Bivalente - proced'!G83","v":8.7509480193687648E-5},{"$f":"'Bivalente - proced'!J83","v":7.4055201698513803E-2},{"$f":"'Bivalente - proced'!L83","v":1.6985138004246286E-4},{"$f":"'Bivalente - proced'!O83","v":9.7435192188681838E-2},{"$f":"'Bivalente - proced'!Q83","v":6.1885443168534693E-4},{"$f":"'Bivalente - proced'!T83","v":0.11123762205430769},{"$f":"'Bivalente - proced'!V83","v":7.9356864368767903E-4},{"$f":"'Bivalente - proced'!Y83","v":0.10932218156473253},{"$f":"'Bivalente - proced'!AA83","v":9.0608119881512462E-4},{"$f":"'Bivalente - proced'!AD83","v":0.12298053682737566},{"$f":"'Bivalente - proced'!AF83","v":7.3145910189543312E-4},{"$f":"'Bivalente - proced'!AI83","v":0.13530058075655313},{"$f":"'Bivalente - proced'!AK83","v":1.161513106262753E-3},{"$f":"'Bivalente - proced'!AN83","v":0.1488516849109251},{"$f":"'Bivalente - proced'!AP83","v":1.2162838949703084E-3},{"$f":"'Bivalente - proced'!AS83","v":0.15956292622442653},{"$f":"'Bivalente - proced'!AU83","v":1.9373837569745815E-3},{"$f":"'Bivalente - proced'!AX83","v":0.18660428258303827},{"$f":"'Bivalente - proced'!AZ83","v":3.2456584049907265E-3},{"$f":"'Bivalente - proced'!BC83","v":0.31403868698710435},{"$f":"'Bivalente - proced'!BE83","v":2.6377491207502931E-2},{"$f":"'Bivalente - proced'!BH83","v":0.41055538508745015},{"$f":"'Bivalente - proced'!BJ83","v":3.8846271862534518E-2},{"$f":"'Bivalente - proced'!BM83","v":0.47410817031070196},{"$f":"'Bivalente - proced'!BO83","v":5.0986987695848453E-2},{"$f":"'Bivalente - proced'!BR83","v":0.49972632731253419},{"$f":"'Bivalente - proced'!BT83","v":4.7208538587848931E-2},{"$f":"'Bivalente - proced'!BW83","v":0.50810460341473962},{"$f":"'Bivalente - proced'!BY83","v":3.8577912254160365E-2}]
[null,{"$f":"'Bivalente - proced'!B84","v":"Regional Central"},{"$f":"'Bivalente - proced'!E84","v":3.462464873544761E-3},{"$f":"'Bivalente - proced'!G84","v":2.5090325170614212E-5},{"$f":"'Bivalente - proced'!J84","v":5.7225642883013399E-2},{"$f":"'Bivalente - proced'!L84","v":1.4487504527345164E-4},{"$f":"'Bivalente - proced'!O84","v":7.5426190867730086E-2},{"$f":"'Bivalente - proced'!Q84","v":4.1111659266567999E-4},{"$f":"'Bivalente - proced'!T84","v":8.8293864370290631E-2},{"$f":"'Bivalente - proced'!V84","v":5.3821313240043052E-4},{"$f":"'Bivalente - proced'!Y84","v":8.4348690059091153E-2},{"$f":"'Bivalente - proced'!AA84","v":4.9678397740940232E-4},{"$f":"'Bivalente - proced'!AD84","v":9.1938889578934299E-2},{"$f":"'Bivalente - proced'!AF84","v":8.1977394112532609E-4},{"$f":"'Bivalente - proced'!AI84","v":0.10113786199150267},{"$f":"'Bivalente - proced'!AK84","v":9.0345265419739223E-4},{"$f":"'Bivalente - proced'!AN84","v":0.11631209870698583},{"$f":"'Bivalente - proced'!AP84","v":9.1724117525224128E-4},{"$f":"'Bivalente - proced'!AS84","v":0.13321707719615108},{"$f":"'Bivalente - proced'!AU84","v":1.214461433064491E-3},{"$f":"'Bivalente - proced'!AX84","v":0.17389504192112618},{"$f":"'Bivalente - proced'!AZ84","v":1.1385984887692785E-3},{"$f":"'Bivalente - proced'!BC84","v":0.28919584027943163},{"$f":"'Bivalente - proced'!BE84","v":1.4130348495673573E-2},{"$f":"'Bivalente - proced'!BH84","v":0.40374542939025593},{"$f":"'Bivalente - proced'!BJ84","v":2.114833481569325E-2},{"$f":"'Bivalente - proced'!BM84","v":0.48378747573513553},{"$f":"'Bivalente - proced'!BO84","v":2.3797541160399741E-2},{"$f":"'Bivalente - proced'!BR84","v":0.50849462365591402},{"$f":"'Bivalente - proced'!BT84","v":2.4946236559139787E-2},{"$f":"'Bivalente - proced'!BW84","v":0.48462318350794187},{"$f":"'Bivalente - proced'!BY84","v":1.9601216627238932E-2}]
[null,{"$f":"'Bivalente - proced'!B85","v":"Regional Sul"},{"$f":"'Bivalente - proced'!E85","v":8.4900420534793301E-3},{"$f":"'Bivalente - proced'!G85","v":1.5869237483138936E-4},{"$f":"'Bivalente - proced'!J85","v":9.0940446079558521E-2},{"$f":"'Bivalente - proced'!L85","v":4.5987583352494828E-4},{"$f":"'Bivalente - proced'!O85","v":0.10384615384615385},{"$f":"'Bivalente - proced'!Q85","v":6.2249888839484215E-4},{"$f":"'Bivalente - proced'!T85","v":0.11336413602820418},{"$f":"'Bivalente - proced'!V85","v":8.54008364902446E-4},{"$f":"'Bivalente - proced'!Y85","v":0.11253011047429189},{"$f":"'Bivalente - proced'!AA85","v":7.8910208489077168E-4},{"$f":"'Bivalente - proced'!AD85","v":0.12784914232004385},{"$f":"'Bivalente - proced'!AF85","v":1.0182501762356073E-3},{"$f":"'Bivalente - proced'!AI85","v":0.14139379639753696},{"$f":"'Bivalente - proced'!AK85","v":1.3235886516659954E-3},{"$f":"'Bivalente - proced'!AN85","v":0.16396581196581198},{"$f":"'Bivalente - proced'!AP85","v":1.6410256410256409E-3},{"$f":"'Bivalente - proced'!AS85","v":0.1696333844158906},{"$f":"'Bivalente - proced'!AU85","v":1.8153954968761052E-3},{"$f":"'Bivalente - proced'!AX85","v":0.21107376010912987},{"$f":"'Bivalente - proced'!AZ85","v":2.8744031959466042E-3},{"$f":"'Bivalente - proced'!BC85","v":0.33501642370442763},{"$f":"'Bivalente - proced'!BE85","v":2.4377663761978446E-2},{"$f":"'Bivalente - proced'!BH85","v":0.44027382763410278},{"$f":"'Bivalente - proced'!BJ85","v":3.7568622263377205E-2},{"$f":"'Bivalente - proced'!BM85","v":0.51244695898161241},{"$f":"'Bivalente - proced'!BO85","v":4.8467703913248471E-2},{"$f":"'Bivalente - proced'!BR85","v":0.55237597130902572},{"$f":"'Bivalente - proced'!BT85","v":4.7519426180514045E-2},{"$f":"'Bivalente - proced'!BW85","v":0.5590228346905074},{"$f":"'Bivalente - proced'!BY85","v":4.0829109959569503E-2}]
[null,"META",0.9,0.9,0.9,0.9,0.9,0.9,0.9,0.9,0.9,0.9,0.9,0.9,0.9,0.9,0.9,0.9,0.9,0.9,0.9,0.9,0.9,0.9,0.9,0.9,0.9,0.9,0.9,0.9,0.9,0.9]

{"sheet":"Monovalente - resid","index":6,"n_rows":97,"n_cols":137,"rows_kept":97,"cut":false,"hidden":false,"merged":[[0,114,0,120],[0,121,0,127],[0,130,0,136],[0,79,0,85],[0,86,0,92],[0,93,0,99],[0,100,0,106],[0,107,0,113],[0,65,0,71],[0,0,1,0],[0,1,1,1],[0,2,0,8],[0,9,0,15],[0,16,0,22],[0,23,0,29],[0,30,0,36],[0,37,0,43],[0,44,0,50],[0,51,0,57],[0,58,0,64]]}
["REGIONAL","MUNICÍPIO","6 MESES A 2 ANOS",null,null,null,null,null,null,"3 A 4 ANOS",null,null,null,null,null,null,"5 A 11 ANOS",null,null,null,null,null,null,"12 A 17 ANOS",null,null,null,null,null,null,"18 A 19 ANOS",null,null,null,null,null,null,"20 A 24 ANOS",null,null,null,null,null,null,"25 A 29 ANOS",null,null,null,null,null,null,"30 A 34 ANOS",null,null,null,null,null,null,"35 A 39 ANOS",null,null,null,null,null,null,"40 A 44 ANOS",null,null,null,null,null,null,"45 A 49 ANOS",null,null,null,null,null,null,"50 A 54 ANOS",null,null,null,null,null,null,"55 A 59 ANOS",null,null,null,null,null,null,"60 A 64 ANOS",null,null,null,null,null,null,"65 A 69 ANOS",null,null,null,null,null,null,"70 A 74 ANOS",null,null,null,null,null,null,"75 A 79 ANOS",null,null,null,null,null,null,"80 ANOS OU MAIS",null,null,null,null,null,null,null,"MUNICÍPIO","GERAL"]
[null,null,"ESTIMATIVA POPULACIONAL","ESQUEMA PRIMÁRIO\n(3 doses)","COBERTURA VACINAL ESQUEMA PRIMÁRIO","1º REFORÇO MONOVALENTE","COBERTURA VACINAL 1° REFORÇO MONOVALENTE\n(4 doses)","2º REFORÇO MONOVALENTE","COBERTURA VACINAL 2º REFORÇO MONOVALENTE\n(5 doses)","ESTIMATIVA POPULACIONAL","ESQUEMA PRIMÁRIO\n(3 doses)","COBERTURA VACINAL ESQUEMA PRIMÁRIO","1º REFORÇO MONOVALENTE","COBERTURA VACINAL 1° REFORÇO MONOVALENTE\n(4 doses)","2º REFORÇO MONOVALENTE","COBERTURA VACINAL 2º REFORÇO MONOVALENTE\n(5 doses)","ESTIMATIVA POPULACIONAL","ESQUEMA PRIMÁRIO\n(2 doses)","COBERTURA VACINAL ESQUEMA PRIMÁRIO","1º REFORÇO MONOVALENTE","COBERTURA VACINAL 1° REFORÇO MONOVALENTE\n(3 doses)","2º REFORÇO MONOVALENTE","COBERTURA VACINAL 2º REFORÇO MONOVALENTE\n(4 doses)","ESTIMATIVA POPULACIONAL","ESQUEMA PRIMÁRIO\n(2 doses)","COBERTURA VACINAL ESQUEMA PRIMÁRIO","1º REFORÇO MONOVALENTE","COBERTURA VACINAL 1° REFORÇO MONOVALENTE\n(3 doses)","2º REFORÇO MONOVALENTE","COBERTURA VACINAL 2º REFORÇO MONOVALENTE\n(4 doses)","ESTIMATIVA POPULACIONAL","ESQUEMA PRIMÁRIO\n(2 doses)","COBERTURA VACINAL ESQUEMA PRIMÁRIO","1º REFORÇO MONOVALENTE","COBERTURA VACINAL 1° REFORÇO MONOVALENTE\n(3 doses)","2º REFORÇO MONOVALENTE","COBERTURA VACINAL 2º REFORÇO MONOVALENTE\n(4 doses)","ESTIMATIVA POPULACIONAL","ESQUEMA PRIMÁRIO\n(2 doses)","COBERTURA VACINAL ESQUEMA PRIMÁRIO","1º REFORÇO MONOVALENTE","COBERTURA VACINAL 1° REFORÇO MONOVALENTE\n(3 doses)","2º REFORÇO MONOVALENTE","COBERTURA VACINAL 2º REFORÇO MONOVALENTE\n(4 doses)","ESTIMATIVA POPULACIONAL","ESQUEMA PRIMÁRIO\n(2 doses)","COBERTURA VACINAL ESQUEMA PRIMÁRIO","1º REFORÇO MONOVALENTE","COBERTURA VACINAL 1° REFORÇO MONOVALENTE\n(3 doses)","2º REFORÇO MONOVALENTE","COBERTURA VACINAL 2º REFORÇO MONOVALENTE\n(4 doses)","ESTIMATIVA POPULACIONAL","ESQUEMA PRIMÁRIO\n(2 doses)","COBERTURA VACINAL ESQUEMA PRIMÁRIO","1º REFORÇO MONOVALENTE","COBERTURA VACINAL 1° REFORÇO MONOVALENTE\n(3 doses)","2º REFORÇO MONOVALENTE","COBERTURA VACINAL 2º REFORÇO MONOVALENTE\n(4 doses)","ESTIMATIVA POPULACIONAL","ESQUEMA PRIMÁRIO\n(2 doses)","COBERTURA VACINAL ESQUEMA PRIMÁRIO","1º REFORÇO MONOVALENTE","COBERTURA VACINAL 1° REFORÇO MONOVALENTE\n(3 doses)","2º REFORÇO MONOVALENTE","COBERTURA VACINAL 2º REFORÇO MONOVALENTE\n(4 doses)","ESTIMATIVA POPULACIONAL","ESQUEMA PRIMÁRIO\n(2 doses)","COBERTURA VACINAL ESQUEMA PRIMÁRIO","1º REFORÇO MONOVALENTE","COBERTURA VACINAL 1° REFORÇO MONOVALENTE\n(3 doses)","2º REFORÇO MONOVALENTE","COBERTURA VACINAL 2º REFORÇO MONOVALENTE\n(4 doses)","ESTIMATIVA POPULACIONAL","ESQUEMA PRIMÁRIO\n(2 doses)","COBERTURA VACINAL ESQUEMA PRIMÁRIO","1º REFORÇO MONOVALENTE","COBERTURA VACINAL 1° REFORÇO MONOVALENTE\n(3 doses)","2º REFORÇO MONOVALENTE","COBERTURA VACINAL 2º REFORÇO MONOVALENTE\n(4 doses)","ESTIMATIVA POPULACIONAL","ESQUEMA PRIMÁRIO\n(2 doses)","COBERTURA VACINAL ESQUEMA PRIMÁRIO","1º REFORÇO MONOVALENTE","COBERTURA VACINAL 1° REFORÇO MONOVALENTE\n(3 doses)","2º REFORÇO MONOVALENTE","COBERTURA VACINAL 2º REFORÇO MONOVALENTE\n(4 doses)","ESTIMATIVA POPULACIONAL","ESQUEMA PRIMÁRIO\n(2 doses)","COBERTURA VACINAL ESQUEMA PRIMÁRIO","1º REFORÇO MONOVALENTE","COBERTURA VACINAL 1° REFORÇO MONOVALENTE\n(3 doses)","2º REFORÇO MONOVALENTE","COBERTURA VACINAL 2º REFORÇO MONOVALENTE\n(4 doses)","ESTIMATIVA POPULACIONAL","ESQUEMA PRIMÁRIO\n(2 doses)","COBERTURA VACINAL ESQUEMA PRIMÁRIO","1º REFORÇO MONOVALENTE","COBERTURA VACINAL 1° REFORÇO MONOVALENTE\n(3 doses)","2º REFORÇO MONOVALENTE","COBERTURA VACINAL 2º REFORÇO MONOVALENTE\n(4 doses)","ESTIMATIVA POPULACIONAL","ESQUEMA PRIMÁRIO\n(2 doses)","COBERTURA VACINAL ESQUEMA PRIMÁRIO","1º REFORÇO MONOVALENTE","COBERTURA VACINAL 1° REFORÇO MONOVALENTE\n(3 doses)","2º REFORÇO MONOVALENTE","COBERTURA VACINAL 2º REFORÇO MONOVALENTE\n(4 doses)","ESTIMATIVA POPULACIONAL","ESQUEMA PRIMÁRIO\n(2 doses)","COBERTURA VACINAL ESQUEMA PRIMÁRIO","1º REFORÇO MONOVALENTE","COBERTURA VACINAL 1° REFORÇO MONOVALENTE\n(3 doses)","2º REFORÇO MONOVALENTE","COBERTURA VACINAL 2º REFORÇO MONOVALENTE\n(4 doses)","ESTIMATIVA POPULACIONAL","ESQUEMA PRIMÁRIO\n(2 doses)","COBERTURA VACINAL ESQUEMA PRIMÁRIO","1º REFORÇO MONOVALENTE","COBERTURA VACINAL 1° REFORÇO MONOVALENTE\n(3 doses)","2º REFORÇO MONOVALENTE","COBERTURA VACINAL 2º REFORÇO MONOVALENTE\n(4 doses)","ESTIMATIVA POPULACIONAL","ESQUEMA PRIMÁRIO\n(2 doses)","COBERTURA VACINAL ESQUEMA PRIMÁRIO","1º REFORÇO MONOVALENTE","COBERTURA VACINAL 1° REFORÇO MONOVALENTE\n(3 doses)","2º REFORÇO MONOVALENTE","COBERTURA VACINAL 2º REFORÇO MONOVALENTE\n(4 doses)",null,null,"ESTIMATIVA POPULACIONAL","ESQUEMA PRIMÁRIO\n(2 doses)","COBERTURA VACINAL ESQUEMA PRIMÁRIO","1º REFORÇO MONOVALENTE","COBERTURA VACINAL 1° REFORÇO MONOVALENTE\n(3 doses)","2º REFORÇO MONOVALENTE","COBERTURA VACINAL 2º REFORÇO MONOVALENTE\n(4 doses)"]
["Regional Metropolitana","Afonso Cláudio",1181,23,"1.95%",0,"0.00%",0,"0.00%",815,15,"1.84%",0,"0.00%",0,"0.00%",2641,1118,"42.33%",141,"5.34%",0,"0.00%",2476,1859,"75.08%",772,"31.18%",8,"0.32%",799,669,"83.73%",293,"36.67%",31,"3.88%",1946,1734,"89.11%",749,"38.49%",216,"11.10%",1960,1784,"91.02%",835,"42.60%",244,"12.45%",2107,1792,"85.05%",929,"44.09%",322,"15.28%",2257,1975,"87.51%",1108,"49.09%",399,"17.68%",2550,2247,"88.12%",1333,"52.27%",531,"20.82%",2210,2126,"96.20%",1335,"60.41%",595,"26.92%",1972,1923,"97.52%",1255,"63.64%",613,"31.09%",1928,1837,"95.28%",1337,"69.35%",674,"34.96%",1679,1676,"99.82%",1296,"77.19%",798,"47.53%",1450,1509,"104.07%",1334,"92.00%",921,"63.52%",1113,1220,"109.61%",1088,"97.75%",797,"71.61%",726,876,"120.66%",775,"106.75%",568,"78.24%",937,1260,"134.47%",1083,"115.58%",727,"77.59%",null,"Afonso Cláudio",{"$f":"SUM(C3,J3,Q3,X3,AE3,AL3,AS3,AZ3,BG3,BN3,BU3,CB3,CI3,CP3,CW3,DD3,DK3,DR3)","v":30747},{"$f":"SUM(D3,K3,R3,Y3,AF3,AM3,AT3,BA3,BH3,BO3,BV3,CC3,CJ3,CQ3,CX3,DE3,DL3,DS3)","v":25643},{"$f":"EB3/EA3","v":0.83400006504699642},{"$f":"SUM(F3,M3,T3,AA3,AH3,AO3,AV3,BC3,BJ3,BQ3,BX3,CE3,CL3,CS3,CZ3,DG3,DN3,DU3)","v":15663},{"$f":"ED3/EA3","v":0.50941555273685235},{"$f":"SUM(H3,O3,V3,AC3,AJ3,AQ3,AX3,BE3,BL3,BS3,BZ3,CG3,CN3,CU3,DB3,DI3,DP3,DW3)","v":7444},{"$f":"EF3/EA3","v":0.24210492080528181}]
["Regional Norte","Água Doce do Norte",463,23,"4.97%",0,"0.00%",0,"0.00%",305,33,"10.82%",0,"0.00%",0,"0.00%",1102,543,"49.27%",193,"17.51%",4,"0.36%",1021,707,"69.25%",287,"28.11%",2,"0.20%",315,266,"84.44%",86,"27.30%",7,"2.22%",785,629,"80.13%",290,"36.94%",57,"7.26%",750,638,"85.07%",305,"40.67%",64,"8.53%",713,569,"79.80%",294,"41.23%",92,"12.90%",836,661,"79.07%",346,"41.39%",112,"13.40%",913,756,"82.80%",444,"48.63%",158,"17.31%",883,747,"84.60%",469,"53.11%",159,"18.01%",833,725,"87.03%",490,"58.82%",185,"22.21%",774,643,"83.07%",422,"54.52%",178,"23.00%",696,599,"86.06%",450,"64.66%",233,"33.48%",601,550,"91.51%",471,"78.37%",292,"48.59%",397,418,"105.29%",350,"88.16%",220,"55.42%",281,273,"97.15%",238,"84.70%",140,"49.82%",382,443,"115.97%",373,"97.64%",189,"49.48%",null,"Água Doce do Norte",{"$f":"SUM(C4,J4,Q4,X4,AE4,AL4,AS4,AZ4,BG4,BN4,BU4,CB4,CI4,CP4,CW4,DD4,DK4,DR4)","v":12050},9223,{"$f":"EB4/EA4","v":0.76539419087136928},{"$f":"SUM(F4,M4,T4,AA4,AH4,AO4,AV4,BC4,BJ4,BQ4,BX4,CE4,CL4,CS4,CZ4,DG4,DN4,DU4)","v":5508},{"$f":"ED4/EA4","v":0.45709543568464728},{"$f":"SUM(H4,O4,V4,AC4,AJ4,AQ4,AX4,BE4,BL4,BS4,BZ4,CG4,CN4,CU4,DB4,DI4,DP4,DW4)","v":2092},{"$f":"EF4/EA4","v":0.17360995850622407}]
["Regional Central","Águia Branca",420,19,"4.52%",0,"0.00%",0,"0.00%",264,26,"9.85%",1,"0.38%",0,"0.00%",834,522,"62.59%",130,"15.59%",1,"0.12%",787,623,"79.16%",370,"47.01%",4,"0.51%",271,199,"73.43%",98,"36.16%",9,"3.32%",631,540,"85.58%",328,"51.98%",99,"15.69%",653,528,"80.86%",354,"54.21%",137,"20.98%",682,493,"72.29%",348,"51.03%",163,"23.90%",702,584,"83.19%",404,"57.55%",196,"27.92%",713,549,"77.00%",399,"55.96%",197,"27.63%",683,556,"81.41%",447,"65.45%",259,"37.92%",742,625,"84.23%",524,"70.62%",332,"44.74%",608,535,"87.99%",463,"76.15%",297,"48.85%",572,506,"88.46%",462,"80.77%",346,"60.49%",432,428,"99.07%",406,"93.98%",324,"75.00%",331,318,"96.07%",299,"90.33%",250,"75.53%",206,222,"107.77%",210,"101.94%",168,"81.55%",234,280,"119.66%",270,"115.38%",225,"96.15%",null,"Águia Branca",9765,7553,0.77347670250896061,5513,0.56456733230926781,3007,0.30793650793650795]
["Regional Sul","Alegre",1070,41,"3.83%",0,"0.00%",0,"0.00%",717,82,"11.44%",0,"0.00%",0,"0.00%",2414,1504,"62.30%",326,"13.50%",2,"0.08%",2030,1869,"92.07%",1004,"49.46%",4,"0.20%",819,640,"78.14%",347,"42.37%",34,"4.15%",2206,2157,"97.78%",1284,"58.20%",374,"16.95%",2017,2372,"117.60%",1446,"71.69%",472,"23.40%",2063,2065,"100.10%",1288,"62.43%",495,"23.99%",2096,2015,"96.14%",1327,"63.31%",595,"28.39%",2244,2059,"91.76%",1518,"67.65%",709,"31.60%",1867,1945,"104.18%",1475,"79.00%",793,"42.47%",1917,1816,"94.73%",1412,"73.66%",752,"39.23%",1843,1857,"100.76%",1471,"79.82%",860,"46.66%",1719,1702,"99.01%",1458,"84.82%",973,"56.60%",1457,1548,"106.25%",1411,"96.84%",1063,"72.96%",1093,1197,"109.52%",1100,"100.64%",846,"77.40%",694,808,"116.43%",724,"104.32%",588,"84.73%",986,1346,"136.51%",1183,"119.98%",915,"92.80%",null,"Alegre",29252,27023,0.9238000820456721,18774,0.64180226993026113,9475,0.32390947627512651]
["Regional Sul","Alfredo Chaves",458,9,"1.97%",0,"0.00%",0,"0.00%",314,20,"6.37%",1,"0.32%",0,"0.00%",1080,621,"57.50%",70,"6.48%",0,"0.00%",1022,930,"91.00%",392,"38.36%",2,"0.20%",298,346,"116.11%",156,"52.35%",9,"3.02%",806,834,"103.47%",436,"54.09%",98,"12.16%",857,917,"107.00%",486,"56.71%",138,"16.10%",898,962,"107.13%",573,"63.81%",189,"21.05%",1058,1039,"98.20%",583,"55.10%",189,"17.86%",1111,1091,"98.20%",671,"60.40%",236,"21.24%",1046,1073,"102.58%",734,"70.17%",305,"29.16%",945,949,"100.42%",694,"73.44%",325,"34.39%",963,1012,"105.09%",766,"79.54%",351,"36.45%",882,916,"103.85%",763,"86.51%",481,"54.54%",727,789,"108.53%",739,"101.65%",539,"74.14%",548,591,"107.85%",557,"101.64%",449,"81.93%",368,440,"119.57%",410,"111.41%",331,"89.95%",515,694,"134.76%",647,"125.63%",506,"98.25%",null,"Alfredo Chaves",13896,13233,0.95228842832469773,8678,0.62449625791594698,4148,0.29850316637881402]
["Regional Central","Alto Rio Novo",258,6,"2.33%",0,"0.00%",0,"0.00%",197,4,"2.03%",0,"0.00%",0,"0.00%",672,372,"55.36%",9,"1.34%",0,"0.00%",634,514,"81.07%",317,"50.00%",4,"0.63%",204,192,"94.12%",120,"58.82%",6,"2.94%",453,438,"96.69%",219,"48.34%",70,"15.45%",408,406,"99.51%",198,"48.53%",65,"15.93%",477,386,"80.92%",228,"47.80%",93,"19.50%",557,475,"85.28%",297,"53.32%",134,"24.06%",595,470,"78.99%",288,"48.40%",115,"19.33%",553,494,"89.33%",345,"62.39%",188,"34.00%",527,456,"86.53%",346,"65.65%",190,"36.05%",474,448,"94.51%",350,"73.84%",194,"40.93%",435,396,"91.03%",332,"76.32%",224,"51.49%",366,362,"98.91%",310,"84.70%",226,"61.75%",246,248,"100.81%",225,"91.46%",165,"67.07%",171,161,"94.15%",139,"81.29%",104,"60.82%",199,236,"118.59%",190,"95.48%",132,"66.33%",null,"Alto Rio Novo",7426,6064,0.81659035820091574,3913,0.52693239967681116,1910,0.25720441691354701]
["Regional Sul","Anchieta",1179,133,"11.28%",0,"0.00%",0,"0.00%",782,149,"19.05%",2,"0.26%",0,"0.00%",2859,1759,"61.53%",813,"28.44%",2,"0.07%",2371,2044,"86.21%",1044,"44.03%",13,"0.55%",812,719,"88.55%",301,"37.07%",32,"3.94%",1886,1857,"98.46%",954,"50.58%",264,"14.00%",1990,1759,"88.39%",1012,"50.85%",285,"14.32%",2260,1856,"82.12%",1167,"51.64%",408,"18.05%",2624,2335,"88.99%",1565,"59.64%",581,"22.14%",2607,2368,"90.83%",1620,"62.14%",674,"25.85%",2035,2049,"100.69%",1438,"70.66%",680,"33.42%",1869,1883,"100.75%",1408,"75.33%",730,"39.06%",1719,1750,"101.80%",1351,"78.59%",746,"43.40%",1608,1556,"96.77%",1315,"81.78%",849,"52.80%",1331,1394,"104.73%",1250,"93.91%",895,"67.24%",874,1005,"114.99%",901,"103.09%",692,"79.18%",569,699,"122.85%",629,"110.54%",469,"82.43%",698,981,"140.54%",888,"127.22%",675,"96.70%",null,"Anchieta",30073,26296,0.87440561300834641,17658,0.58717121670601535,7995,0.26585309081235659]
["Regional Sul","Apiacá",217,7,"3.23%",0,"0.00%",0,"0.00%",151,5,"3.31%",0,"0.00%",0,"0.00%",610,308,"50.49%",15,"2.46%",0,"0.00%",568,437,"76.94%",145,"25.53%",2,"0.35%",183,149,"81.42%",52,"28.42%",6,"3.28%",468,422,"90.17%",234,"50.00%",43,"9.19%",498,458,"91.97%",256,"51.41%",77,"15.46%",467,447,"95.72%",259,"55.46%",77,"16.49%",537,409,"76.16%",249,"46.37%",85,"15.83%",533,473,"88.74%",338,"63.41%",123,"23.08%",471,484,"102.76%",369,"78.34%",164,"34.82%",495,438,"88.48%",347,"70.10%",157,"31.72%",466,420,"90.13%",341,"73.18%",175,"37.55%",422,400,"94.79%",354,"83.89%",219,"51.90%",396,384,"96.97%",353,"89.14%",227,"57.32%",282,307,"108.87%",278,"98.58%",183,"64.89%",184,229,"124.46%",211,"114.67%",142,"77.17%",252,327,"129.76%",292,"115.87%",201,"79.76%",null,"Apiacá",7200,6104,0.84777777777777774,4093,0.56847222222222227,1881,0.26124999999999998]
["Regional Metropolitana","Aracruz",4425,347,"7.84%",1,"0.02%",0,"0.00%",2840,392,"13.80%",2,"0.07%",0,"0.00%",9698,4867,"50.19%",2077,"21.42%",4,"0.04%",8266,6158,"74.50%",3228,"39.05%",19,"0.23%",2607,2445,"93.79%",1046,"40.12%",91,"3.49%",6996,6213,"88.81%",3185,"45.53%",822,"11.75%",7010,6512,"92.90%",3718,"53.04%",1168,"16.66%",7439,6563,"88.22%",4025,"54.11%",1408,"18.93%",8029,6743,"83.98%",4182,"52.09%",1667,"20.76%",7786,6821,"87.61%",4417,"56.73%",1894,"24.33%",6548,6257,"95.56%",4321,"65.99%",2079,"31.75%",5631,5277,"93.71%",3748,"66.56%",1926,"34.20%",4949,4773,"96.44%",3643,"73.61%",2050,"41.42%",4417,4348,"98.44%",3514,"79.56%",2268,"51.35%",3470,3643,"104.99%",3156,"90.95%",2252,"64.90%",2261,2588,"114.46%",2322,"102.70%",1719,"76.03%",1325,1558,"117.58%",1397,"105.43%",1028,"77.58%",1574,2104,"133.67%",1820,"115.63%",1255,"79.73%",null,"Aracruz",95271,77609,0.81461305119081362,49802,0.52274039319415144,21650,0.22724648633896988]
["Regional Sul","Atílio Vivacqua",400,15,"3.75%",0,"0.00%",0,"0.00%",322,14,"4.35%",0,"0.00%",0,"0.00%",993,475,"47.83%",94,"9.47%",0,"0.00%",856,650,"75.93%",308,"35.98%",8,"0.93%",278,274,"98.56%",123,"44.24%",15,"5.40%",688,601,"87.35%",250,"36.34%",63,"9.16%",696,614,"88.22%",309,"44.40%",74,"10.63%",798,678,"84.96%",380,"47.62%",122,"15.29%",830,790,"95.18%",447,"53.86%",154,"18.55%",836,770,"92.11%",493,"58.97%",203,"24.28%",684,694,"101.46%",433,"63.30%",200,"29.24%",684,629,"91.96%",434,"63.45%",195,"28.51%",627,667,"106.38%",481,"76.71%",260,"41.47%",590,650,"110.17%",538,"91.19%",342,"57.97%",454,510,"112.33%",432,"95.15%",310,"68.28%",351,401,"114.25%",369,"105.13%",275,"78.35%",212,268,"126.42%",241,"113.68%",190,"89.62%",236,329,"139.41%",296,"125.42%",219,"92.80%",null,"Atílio Vivacqua",10535,9029,0.85704793545325109,5628,0.53421926910299,2630,0.24964404366397722]
["Regional Central","Baixo Guandu",1174,16,"1.36%",0,"0.00%",0,"0.00%",841,31,"3.69%",0,"0.00%",0,"0.00%",2770,835,"30.14%",129,"4.66%",2,"0.07%",2426,1302,"53.67%",387,"15.95%",1,"0.04%",807,546,"67.66%",175,"21.69%",16,"1.98%",2105,1418,"67.36%",577,"27.41%",120,"5.70%",2024,1578,"77.96%",758,"37.45%",198,"9.78%",2152,1541,"71.61%",784,"36.43%",219,"10.18%",2159,1532,"70.96%",810,"37.52%",241,"11.16%",2327,1742,"74.86%",1050,"45.12%",416,"17.88%",2122,1781,"83.93%",1138,"53.63%",454,"21.39%",2020,1671,"82.72%",1144,"56.63%",517,"25.59%",2007,1691,"84.26%",1217,"60.64%",606,"30.19%",1714,1582,"92.30%",1274,"74.33%",725,"42.30%",1361,1262,"92.73%",1148,"84.35%",740,"54.37%",967,1013,"104.76%",977,"101.03%",661,"68.36%",697,696,"99.86%",667,"95.70%",445,"63.85%",967,1096,"113.34%",1047,"108.27%",667,"68.98%",null,"Baixo Guandu",30640,21333,0.69624673629242817,13282,0.43348563968668408,6028,0.19673629242819843]
["Regional Norte","Barra de São Francisco",1740,22,"1.26%",0,"0.00%",0,"0.00%",1204,41,"3.41%",1,"0.08%",0,"0.00%",4063,1494,"36.77%",275,"6.77%",0,"0.00%",3499,2281,"65.19%",748,"21.38%",5,"0.14%",1126,909,"80.73%",270,"23.98%",16,"1.42%",2926,2262,"77.31%",893,"30.52%",197,"6.73%",2931,2551,"87.04%",1123,"38.31%",262,"8.94%",2959,2435,"82.29%",1215,"41.06%",319,"10.78%",3237,2635,"81.40%",1370,"42.32%",423,"13.07%",3253,2642,"81.22%",1529,"47.00%",554,"17.03%",2908,2600,"89.41%",1623,"55.81%",640,"22.01%",2875,2427,"84.42%",1652,"57.46%",747,"25.98%",2624,2411,"91.88%",1728,"65.85%",832,"31.71%",2221,2091,"94.15%",1616,"72.76%",905,"40.75%",1761,1771,"100.57%",1477,"83.87%",926,"52.58%",1284,1373,"106.93%",1196,"93.15%",786,"61.21%",878,893,"101.71%",772,"87.93%",532,"60.59%",1082,1363,"125.97%",1124,"103.88%",697,"64.42%",null,"Barra de São Francisco",42571,32201,0.75640694369406403,18612,0.43719903220502221,7841,0.18418641798407367]
["Regional Norte","Boa Esperança",600,29,"4.83%",0,"0.00%",0,"0.00%",385,27,"7.01%",1,"0.26%",0,"0.00%",1285,811,"63.11%",267,"20.78%",0,"0.00%",1154,929,"80.50%",512,"44.37%",5,"0.43%",416,365,"87.74%",198,"47.60%",17,"4.09%",927,888,"95.79%",439,"47.36%",116,"12.51%",936,871,"93.06%",478,"51.07%",154,"16.45%",944,861,"91.21%",495,"52.44%",177,"18.75%",1025,893,"87.12%",533,"52.00%",207,"20.20%",1043,977,"93.67%",629,"60.31%",272,"26.08%",964,916,"95.02%",629,"65.25%",320,"33.20%",878,853,"97.15%",632,"71.98%",354,"40.32%",832,820,"98.56%",657,"78.97%",379,"45.55%",705,772,"109.50%",662,"93.90%",451,"63.97%",592,640,"108.11%",579,"97.80%",440,"74.32%",402,475,"118.16%",419,"104.23%",328,"81.59%",287,306,"106.62%",276,"96.17%",209,"72.82%",331,491,"148.34%",427,"129.00%",322,"97.28%",null,"Boa Esperança",13706,11924,0.869983948635634,7833,0.57150153217568944,3751,0.2736757624398074]
["Regional Sul","Bom Jesus do Norte",256,27,"10.55%",0,"0.00%",0,"0.00%",270,21,"7.78%",0,"0.00%",0,"0.00%",852,327,"38.38%",110,"12.91%",0,"0.00%",806,365,"45.29%",123,"15.26%",1,"0.12%",248,127,"51.21%",50,"20.16%",3,"1.21%",745,368,"49.40%",172,"23.09%",50,"6.71%",686,392,"57.14%",206,"30.03%",80,"11.66%",763,373,"48.89%",190,"24.90%",66,"8.65%",738,409,"55.42%",219,"29.67%",76,"10.30%",858,435,"50.70%",276,"32.17%",117,"13.64%",692,413,"59.68%",268,"38.73%",118,"17.05%",668,392,"58.68%",273,"40.87%",123,"18.41%",599,446,"74.46%",319,"53.26%",182,"30.38%",576,393,"68.23%",321,"55.73%",186,"32.29%",534,448,"83.90%",384,"71.91%",253,"47.38%",342,318,"92.98%",282,"82.46%",199,"58.19%",199,188,"94.47%",172,"86.43%",119,"59.80%",340,336,"98.82%",296,"87.06%",202,"59.41%",null,"Bom Jesus do Norte",10172,5778,0.56802988596146287,3661,0.35990955564294141,1775,0.17449862367282737]
["Regional Metropolitana","Brejetuba",633,19,"3.00%",0,"0.00%",0,"0.00%",395,26,"6.58%",0,"0.00%",0,"0.00%",1303,642,"49.27%",191,"14.66%",0,"0.00%",1189,827,"69.55%",314,"26.41%",2,"0.17%",405,301,"74.32%",103,"25.43%",11,"2.72%",1043,856,"82.07%",337,"32.31%",80,"7.67%",928,801,"86.31%",370,"39.87%",95,"10.24%",944,769,"81.46%",401,"42.48%",123,"13.03%",1105,929,"84.07%",510,"46.15%",170,"15.38%",1109,1013,"91.34%",548,"49.41%",204,"18.39%",869,885,"101.84%",531,"61.10%",168,"19.33%",781,728,"93.21%",465,"59.54%",191,"24.46%",660,648,"98.18%",471,"71.36%",209,"31.67%",571,562,"98.42%",478,"83.71%",256,"44.83%",433,490,"113.16%",427,"98.61%",280,"64.67%",279,311,"111.47%",293,"105.02%",191,"68.46%",165,212,"128.48%",185,"112.12%",115,"69.70%",189,259,"137.04%",215,"113.76%",133,"70.37%",null,"Brejetuba",13001,10278,0.79055457272517493,5839,0.44911929851549881,2228,0.17137143296669488]
["Regional Sul","Cachoeiro de Itapemirim",7232,263,"3.64%",0,"0.00%",0,"0.00%",4696,322,"6.86%",2,"0.04%",0,"0.00%",16445,7622,"46.35%",2325,"14.14%",8,"0.05%",13632,10434,"76.54%",4463,"32.74%",55,"0.40%",4626,4007,"86.62%",1457,"31.50%",125,"2.70%",12452,10416,"83.65%",4596,"36.91%",1251,"10.05%",13666,11182,"81.82%",5078,"37.16%",1523,"11.14%",14562,12050,"82.75%",6077,"41.73%",2141,"14.70%",14793,12317,"83.26%",6462,"43.68%",2382,"16.10%",15106,12874,"85.22%",7543,"49.93%",3135,"20.75%",12366,11822,"95.60%",7279,"58.86%",3272,"26.46%",12351,10937,"88.55%",7287,"59.00%",3522,"28.52%",11848,11651,"98.34%",8263,"69.74%",4325,"36.50%",10478,10567,"100.85%",8431,"80.46%",5357,"51.13%",8383,8993,"107.28%",7784,"92.85%",5551,"66.22%",5765,6682,"115.91%",5961,"103.40%",4398,"76.29%",3534,4272,"120.88%",3872,"109.56%",2873,"81.30%",4746,6476,"136.45%",5694,"119.97%",3971,"83.67%",null,"Cachoeiro de Itapemirim",186681,152887,0.81897461444924768,92574,0.49589406527713048,43889,0.23510159041359324]
["Regional Metropolitana","Cariacica",14624,586,"4.01%",0,"0.00%",0,"0.00%",9863,657,"6.66%",3,"0.03%",0,"0.00%",35286,17627,"49.95%",4560,"12.92%",6,"0.02%",29716,23970,"80.66%",10184,"34.27%",73,"0.25%",9902,8935,"90.23%",3518,"35.53%",290,"2.93%",26053,25383,"97.43%",11697,"44.90%",3126,"12.00%",25148,27017,"107.43%",13461,"53.53%",4285,"17.04%",26548,26871,"101.22%",14588,"54.95%",5347,"20.14%",28348,28008,"98.80%",16173,"57.05%",6599,"23.28%",28814,27996,"97.16%",17146,"59.51%",7678,"26.65%",24129,24208,"100.33%",15422,"63.91%",7221,"29.93%",22496,21645,"96.22%",14647,"65.11%",7527,"33.46%",20080,20220,"100.70%",14611,"72.76%",8064,"40.16%",17848,17737,"99.38%",14135,"79.20%",9065,"50.79%",14188,15095,"106.39%",12985,"91.52%",9267,"65.32%",9488,10580,"111.51%",9381,"98.87%",6966,"73.42%",5811,6744,"116.06%",6004,"103.32%",4432,"76.27%",6670,8575,"128.56%",7155,"107.27%",4904,"73.52%",null,"Cariacica",355012,311854,0.87843227834552073,185670,0.52299640575529838,84850,0.23900600543080233]
["Regional Sul","Castelo",1343,45,"3.35%",1,"0.07%",0,"0.00%",870,38,"4.37%",1,"0.11%",0,"0.00%",2930,1189,"40.58%",128,"4.37%",1,"0.03%",2533,1964,"77.54%",798,"31.50%",4,"0.16%",907,897,"98.90%",356,"39.25%",21,"2.32%",2489,2389,"95.98%",1131,"45.44%",252,"10.12%",2494,2588,"103.77%",1230,"49.32%",313,"12.55%",2747,2651,"96.51%",1420,"51.69%",440,"16.02%",2993,2929,"97.86%",1653,"55.23%",581,"19.41%",3061,2936,"95.92%",1738,"56.78%",661,"21.59%",2517,2497,"99.21%",1589,"63.13%",620,"24.63%",2497,2445,"97.92%",1742,"69.76%",815,"32.64%",2463,2557,"103.82%",1964,"79.74%",1017,"41.29%",2183,2352,"107.74%",1966,"90.06%",1182,"54.15%",1707,1938,"113.53%",1725,"101.05%",1152,"67.49%",1240,1412,"113.87%",1314,"105.97%",937,"75.56%",864,1064,"123.15%",970,"112.27%",707,"81.83%",1177,1655,"140.61%",1484,"126.08%",1035,"87.94%",null,"Castelo",37015,33546,0.90628123733621502,21210,0.5730109415101986,9738,0.26308253410779414]
["Regional Central","Colatina",4600,93,"2.02%",0,"0.00%",0,"0.00%",3037,128,"4.21%",1,"0.03%",0,"0.00%",10109,3600,"35.61%",735,"7.27%",6,"0.06%",8293,5548,"66.90%",2061,"24.85%",33,"0.40%",3034,2226,"73.37%",735,"24.23%",56,"1.85%",8455,6507,"76.96%",2875,"34.00%",756,"8.94%",8813,7320,"83.06%",3687,"41.84%",1081,"12.27%",9183,7269,"79.16%",3564,"38.81%",1051,"11.45%",9662,8100,"83.83%",4501,"46.58%",1552,"16.06%",9799,8719,"88.98%",5377,"54.87%",2156,"22.00%",8251,7775,"94.23%",4941,"59.88%",2050,"24.85%",8261,7723,"93.49%",5233,"63.35%",2403,"29.09%",7584,7702,"101.56%",5562,"73.34%",2854,"37.63%",6687,6912,"103.36%",5470,"81.80%",3371,"50.41%",5306,5896,"111.12%",5104,"96.19%",3498,"65.93%",3744,4240,"113.25%",3793,"101.31%",2701,"72.14%",2455,2852,"116.17%",2577,"104.97%",1865,"75.97%",3299,4323,"131.04%",3764,"114.10%",2535,"76.84%",null,"Colatina",120572,96933,0.80394287230866202,59980,0.49746209733603158,27968,0.23196098596689116]
["Regional Norte","Conceição da Barra",1164,56,"4.81%",0,"0.00%",0,"0.00%",781,82,"10.50%",1,"0.13%",0,"0.00%",2829,1459,"51.57%",409,"14.46%",8,"0.28%",2506,1835,"73.22%",666,"26.58%",30,"1.20%",832,591,"71.03%",189,"22.72%",17,"2.04%",1816,1587,"87.39%",676,"37.22%",169,"9.31%",1859,1638,"88.11%",785,"42.23%",231,"12.43%",1794,1534,"85.51%",769,"42.87%",245,"13.66%",2107,1597,"75.79%",844,"40.06%",290,"13.76%",2191,1847,"84.30%",1087,"49.61%",433,"19.76%",1817,1546,"85.09%",989,"54.43%",398,"21.90%",1721,1400,"81.35%",919,"53.40%",405,"23.53%",1585,1387,"87.51%",1015,"64.04%",500,"31.55%",1458,1251,"85.80%",997,"68.38%",573,"39.30%",1137,1021,"89.80%",905,"79.60%",613,"53.91%",801,738,"92.13%",668,"83.40%",483,"60.30%",495,525,"106.06%",498,"100.61%",341,"68.89%",577,671,"116.29%",649,"112.48%",412,"71.40%",null,"Conceição da Barra",27470,20765,0.75591554423006913,12066,0.43924281033855117,5148,0.18740444120859118]
["Regional Metropolitana","Conceição do Castelo",489,5,"1.02%",0,"0.00%",0,"0.00%",298,8,"2.68%",0,"0.00%",0,"0.00%",1087,573,"52.71%",68,"6.26%",1,"0.09%",956,831,"86.92%",255,"26.67%",1,"0.10%",335,332,"99.10%",135,"40.30%",4,"1.19%",812,730,"89.90%",293,"36.08%",55,"6.77%",801,755,"94.26%",360,"44.94%",75,"9.36%",883,750,"84.94%",366,"41.45%",108,"12.23%",965,882,"91.40%",458,"47.46%",142,"14.72%",979,1021,"104.29%",592,"60.47%",219,"22.37%",818,903,"110.39%",550,"67.24%",202,"24.69%",731,827,"113.13%",543,"74.28%",230,"31.46%",659,734,"111.38%",520,"78.91%",247,"37.48%",663,700,"105.58%",569,"85.82%",309,"46.61%",527,633,"120.11%",549,"104.17%",378,"71.73%",400,462,"115.50%",422,"105.50%",282,"70.50%",248,328,"132.26%",294,"118.55%",191,"77.02%",338,456,"134.91%",389,"115.09%",267,"78.99%",null,"Conceição do Castelo",11989,10930,0.91166902994411547,6363,0.53073650846609388,2711,0.22612394695137208]
["Regional Sul","Divino de São Lourenço",207,14,"6.76%",0,"0.00%",0,"0.00%",146,25,"17.12%",0,"0.00%",0,"0.00%",441,286,"64.85%",82,"18.59%",0,"0.00%",417,401,"96.16%",218,"52.28%",1,"0.24%",153,157,"102.61%",76,"49.67%",10,"6.54%",368,368,"100.00%",195,"52.99%",45,"12.23%",359,388,"108.08%",189,"52.65%",48,"13.37%",384,372,"96.88%",218,"56.77%",71,"18.49%",429,409,"95.34%",242,"56.41%",99,"23.08%",346,368,"106.36%",237,"68.50%",100,"28.90%",338,294,"86.98%",208,"61.54%",93,"27.51%",327,302,"92.35%",210,"64.22%",92,"28.13%",327,261,"79.82%",204,"62.39%",99,"30.28%",280,278,"99.29%",237,"84.64%",149,"53.21%",227,220,"96.92%",201,"88.55%",142,"62.56%",150,177,"118.00%",166,"110.67%",117,"78.00%",90,101,"112.22%",96,"106.67%",74,"82.22%",100,137,"137.00%",122,"122.00%",77,"77.00%",null,"Divino de São Lourenço",5089,4558,0.89565730005895072,2901,0.57005305561013953,1217,0.2391432501473767]
["Regional Metropolitana","Domingos Martins",1287,89,"6.92%",1,"0.08%",0,"0.00%",856,137,"16.00%",5,"0.58%",0,"0.00%",3031,1993,"65.75%",722,"23.82%",2,"0.07%",2643,2474,"93.61%",1328,"50.25%",14,"0.53%",903,939,"103.99%",428,"47.40%",40,"4.43%",2261,2480,"109.69%",1264,"55.90%",346,"15.30%",2426,2617,"107.87%",1360,"56.06%",427,"17.60%",2544,2694,"105.90%",1532,"60.22%",588,"23.11%",2821,2963,"105.03%",1774,"62.89%",694,"24.60%",3050,3078,"100.92%",1889,"61.93%",805,"26.39%",2600,2888,"111.08%",1922,"73.92%",849,"32.65%",2446,2651,"108.38%",1855,"75.84%",924,"37.78%",2318,2486,"107.25%",1911,"82.44%",1007,"43.44%",2066,2325,"112.54%",1937,"93.76%",1258,"60.89%",1522,1858,"122.08%",1693,"111.24%",1218,"80.03%",1143,1409,"123.27%",1303,"114.00%",1011,"88.45%",711,963,"135.44%",904,"127.14%",713,"100.28%",916,1342,"146.51%",1221,"133.30%",920,"100.44%",null,"Domingos Martins",35544,35386,0.99555480531172635,23049,0.64846387575962183,10816,0.30429889714157099]
["Regional Sul","Dores do Rio Preto",281,10,"3.56%",1,"0.36%",0,"0.00%",172,15,"8.72%",1,"0.58%",0,"0.00%",585,282,"48.21%",64,"10.94%",2,"0.34%",545,376,"68.99%",131,"24.04%",8,"1.47%",206,142,"68.93%",45,"21.84%",6,"2.91%",489,376,"76.89%",161,"32.92%",35,"7.16%",432,371,"85.88%",187,"43.29%",56,"12.96%",479,341,"71.19%",184,"38.41%",62,"12.94%",512,388,"75.78%",222,"43.36%",82,"16.02%",492,400,"81.30%",240,"48.78%",88,"17.89%",482,406,"84.23%",262,"54.36%",113,"23.44%",425,342,"80.47%",214,"50.35%",86,"20.24%",405,377,"93.09%",273,"67.41%",109,"26.91%",367,340,"92.64%",269,"73.30%",129,"35.15%",278,274,"98.56%",243,"87.41%",143,"51.44%",214,215,"100.47%",188,"87.85%",119,"55.61%",116,142,"122.41%",122,"105.17%",68,"58.62%",170,177,"104.12%",154,"90.59%",101,"59.41%",null,"Dores do Rio Preto",6650,4974,0.74796992481203006,2961,0.44526315789473686,1207,0.18150375939849625]
["Regional Norte","Ecoporanga",822,39,"4.74%",0,"0.00%",0,"0.00%",595,60,"10.08%",0,"0.00%",0,"0.00%",1863,895,"48.04%",351,"18.84%",2,"0.11%",1788,1406,"78.64%",759,"42.45%",18,"1.01%",575,534,"92.87%",209,"36.35%",26,"4.52%",1434,1286,"89.68%",526,"36.68%",147,"10.25%",1306,1289,"98.70%",564,"43.19%",175,"13.40%",1379,1225,"88.83%",621,"45.03%",223,"16.17%",1646,1326,"80.56%",715,"43.44%",269,"16.34%",1773,1551,"87.48%",891,"50.25%",347,"19.57%",1586,1507,"95.02%",947,"59.71%",402,"25.35%",1536,1389,"90.43%",913,"59.44%",445,"28.97%",1426,1273,"89.27%",904,"63.39%",475,"33.31%",1291,1244,"96.36%",989,"76.61%",588,"45.55%",1094,1064,"97.26%",919,"84.00%",617,"56.40%",770,834,"108.31%",737,"95.71%",517,"67.14%",490,550,"112.24%",477,"97.35%",344,"70.20%",629,777,"123.53%",665,"105.72%",446,"70.91%",null,"Ecoporanga",22003,18249,0.82938690178612007,11187,0.50843066854519836,5041,0.22910512202881425]
["Regional Metropolitana","Fundão",625,42,"6.72%",0,"0.00%",0,"0.00%",451,66,"14.63%",0,"0.00%",0,"0.00%",1638,942,"57.51%",252,"15.38%",2,"0.12%",1417,1210,"85.39%",541,"38.18%",4,"0.28%",450,417,"92.67%",212,"47.11%",25,"5.56%",1205,1170,"97.10%",597,"49.54%",157,"13.03%",1151,1193,"103.65%",629,"54.65%",193,"16.77%",1307,1116,"85.39%",649,"49.66%",234,"17.90%",1278,1208,"94.52%",704,"55.09%",285,"22.30%",1387,1199,"86.45%",745,"53.71%",324,"23.36%",1238,1160,"93.70%",806,"65.11%",404,"32.63%",1237,1024,"82.78%",729,"58.93%",391,"31.61%",1187,1008,"84.92%",760,"64.03%",429,"36.14%",1103,897,"81.32%",751,"68.09%",490,"44.42%",865,822,"95.03%",728,"84.16%",555,"64.16%",594,575,"96.80%",520,"87.54%",404,"68.01%",333,355,"106.61%",320,"96.10%",247,"74.17%",537,620,"115.46%",570,"106.15%",437,"81.38%",null,"Fundão",18003,15024,0.83452757873687722,9513,0.52841193134477582,4581,0.25445759040159971]
["Regional Central","Governador Lindenberg",433,34,"7.85%",0,"0.00%",0,"0.00%",285,41,"14.39%",0,"0.00%",0,"0.00%",918,678,"73.86%",225,"24.51%",1,"0.11%",875,829,"94.74%",441,"50.40%",2,"0.23%",292,309,"105.82%",155,"53.08%",24,"8.22%",755,809,"107.15%",476,"63.05%",118,"15.63%",740,876,"118.38%",523,"70.68%",158,"21.35%",787,891,"113.21%",574,"72.94%",232,"29.48%",871,884,"101.49%",569,"65.33%",240,"27.55%",862,943,"109.40%",652,"75.64%",281,"32.60%",727,896,"123.25%",679,"93.40%",332,"45.67%",771,877,"113.75%",703,"91.18%",367,"47.60%",717,779,"108.65%",646,"90.10%",375,"52.30%",650,701,"107.85%",639,"98.31%",446,"68.62%",476,557,"117.02%",528,"110.92%",430,"90.34%",319,435,"136.36%",418,"131.03%",347,"108.78%",238,292,"122.69%",278,"116.81%",229,"96.22%",304,438,"144.08%",400,"131.58%",328,"107.89%",null,"Governador Lindenberg",11020,11269,1.022595281306715,7906,0.71742286751361162,3910,0.35480943738656989]
["Regional Sul","Guaçuí",1225,72,"5.88%",0,"0.00%",0,"0.00%",792,68,"8.59%",0,"0.00%",0,"0.00%",2799,1177,"42.05%",293,"10.47%",0,"0.00%",2243,1522,"67.86%",568,"25.32%",5,"0.22%",820,583,"71.10%",197,"24.02%",19,"2.32%",2146,1508,"70.27%",635,"29.59%",157,"7.32%",2100,1599,"76.14%",695,"33.10%",192,"9.14%",2097,1551,"73.96%",773,"36.86%",250,"11.92%",2164,1572,"72.64%",826,"38.17%",305,"14.09%",2126,1694,"79.68%",973,"45.77%",367,"17.26%",1896,1620,"85.44%",1003,"52.90%",442,"23.31%",1744,1488,"85.32%",970,"55.62%",468,"26.83%",1748,1454,"83.18%",1029,"58.87%",523,"29.92%",1571,1427,"90.83%",1118,"71.16%",672,"42.78%",1438,1331,"92.56%",1141,"79.35%",741,"51.53%",1029,1066,"103.60%",942,"91.55%",659,"64.04%",600,670,"111.67%",594,"99.00%",411,"68.50%",866,1116,"128.87%",967,"111.66%",647,"74.71%",null,"Guaçuí",29404,21518,0.73180519657189502,12724,0.43273024078356687,5858,0.19922459529315739]
["Regional Metropolitana","Guarapari",5071,61,"1.20%",2,"0.04%",0,"0.00%",3126,54,"1.73%",1,"0.03%",0,"0.00%",11586,3189,"27.52%",386,"3.33%",3,"0.03%",9825,6144,"62.53%",1882,"19.16%",17,"0.17%",3349,2544,"75.96%",684,"20.42%",38,"1.13%",8558,6921,"80.87%",2400,"28.04%",444,"5.19%",8664,7234,"83.49%",2842,"32.80%",669,"7.72%",8786,6543,"74.47%",2823,"32.13%",786,"8.95%",9693,6857,"70.74%",3209,"33.11%",1007,"10.39%",10536,7855,"74.55%",4137,"39.27%",1494,"14.18%",8546,7005,"81.97%",3738,"43.74%",1374,"16.08%",8314,6689,"80.45%",3792,"45.61%",1584,"19.05%",7624,6359,"83.41%",3975,"52.14%",1814,"23.79%",7167,5729,"79.94%",4026,"56.17%",2242,"31.28%",5657,4958,"87.64%",3945,"69.74%",2427,"42.90%",3910,3779,"96.65%",3109,"79.51%",1965,"50.26%",2336,2416,"103.42%",2022,"86.56%",1286,"55.05%",2685,3156,"117.54%",2531,"94.26%",1537,"57.24%",null,"Guarapari",125433,87493,0.69752776382610637,45504,0.36277534620076057,18687,0.14897993351032024]
["Regional Metropolitana","Ibatiba",1081,67,"6.20%",0,"0.00%",0,"0.00%",718,83,"11.56%",1,"0.14%",1,"0.14%",2406,1273,"52.91%",400,"16.63%",1,"0.04%",2143,1799,"83.95%",1023,"47.74%",6,"0.28%",765,662,"86.54%",307,"40.13%",37,"4.84%",1971,1838,"93.25%",809,"41.05%",235,"11.92%",1898,1731,"91.20%",827,"43.57%",290,"15.28%",1912,1668,"87.24%",794,"41.53%",286,"14.96%",1953,1749,"89.55%",916,"46.90%",330,"16.90%",2106,1784,"84.71%",952,"45.20%",356,"16.90%",1732,1536,"88.68%",937,"54.10%",376,"21.71%",1562,1425,"91.23%",916,"58.64%",408,"26.12%",1288,1204,"93.48%",825,"64.05%",400,"31.06%",1140,1101,"96.58%",908,"79.65%",541,"47.46%",981,952,"97.04%",833,"84.91%",577,"58.82%",724,732,"101.10%",649,"89.64%",489,"67.54%",444,454,"102.25%",412,"92.79%",316,"71.17%",563,711,"126.29%",619,"109.95%",476,"84.55%",null,"Ibatiba",25387,20769,0.81809587584196641,12128,0.47772481978965614,5125,0.20187497538110055]
["Regional Metropolitana","Ibiraçu",437,62,"14.19%",0,"0.00%",0,"0.00%",320,110,"34.38%",0,"0.00%",0,"0.00%",1102,836,"75.86%",535,"48.55%",0,"0.00%",835,815,"97.60%",572,"68.50%",3,"0.36%",312,276,"88.46%",164,"52.56%",17,"5.45%",794,741,"93.32%",425,"53.53%",115,"14.48%",803,835,"103.99%",463,"57.66%",126,"15.69%",893,858,"96.08%",568,"63.61%",205,"22.96%",905,906,"100.11%",575,"63.54%",231,"25.52%",952,943,"99.05%",654,"68.70%",309,"32.46%",763,868,"113.76%",653,"85.58%",336,"44.04%",771,763,"98.96%",598,"77.56%",349,"45.27%",734,756,"103.00%",629,"85.69%",377,"51.36%",637,671,"105.34%",574,"90.11%",402,"63.11%",549,603,"109.84%",539,"98.18%",436,"79.42%",375,423,"112.80%",398,"106.13%",314,"83.73%",229,320,"139.74%",313,"136.68%",263,"114.85%",331,434,"131.12%",413,"124.77%",329,"99.40%",null,"Ibiraçu",11742,11220,0.95554420030659171,8073,0.68753193663771073,3812,0.32464656787600066]
["Regional Sul","Ibitirama",427,1,"0.23%",0,"0.00%",0,"0.00%",307,6,"1.95%",0,"0.00%",0,"0.00%",999,404,"40.44%",24,"2.40%",1,"0.10%",848,680,"80.19%",250,"29.48%",8,"0.94%",310,219,"70.65%",72,"23.23%",6,"1.94%",747,639,"85.54%",239,"31.99%",53,"7.10%",641,556,"86.74%",231,"36.04%",59,"9.20%",694,525,"75.65%",246,"35.45%",79,"11.38%",728,600,"82.42%",310,"42.58%",114,"15.66%",736,619,"84.10%",321,"43.61%",87,"11.82%",598,557,"93.14%",309,"51.67%",113,"18.90%",540,497,"92.04%",285,"52.78%",118,"21.85%",555,502,"90.45%",321,"57.84%",124,"22.34%",471,437,"92.78%",342,"72.61%",172,"36.52%",372,415,"111.56%",372,"100.00%",204,"54.84%",222,253,"113.96%",229,"103.15%",128,"57.66%",156,172,"110.26%",157,"100.64%",108,"69.23%",179,261,"145.81%",221,"123.46%",128,"71.51%",null,"Ibitirama",9530,7343,0.77051416579223508,3929,0.41227701993704091,1502,0.15760755508919203]
["Regional Sul","Iconha",374,30,"8.02%",0,"0.00%",0,"0.00%",279,55,"19.71%",0,"0.00%",0,"0.00%",924,573,"62.01%",213,"23.05%",2,"0.22%",802,706,"88.03%",394,"49.13%",6,"0.75%",271,271,"100.00%",136,"50.18%",10,"3.69%",752,769,"102.26%",411,"54.65%",139,"18.48%",804,879,"109.33%",470,"58.46%",142,"17.66%",865,977,"112.95%",610,"70.52%",229,"26.47%",1061,1058,"99.72%",652,"61.45%",273,"25.73%",1046,1146,"109.56%",741,"70.84%",362,"34.61%",860,1055,"122.67%",745,"86.63%",375,"43.60%",856,905,"105.72%",681,"79.56%",357,"41.71%",886,942,"106.32%",756,"85.33%",444,"50.11%",791,838,"105.94%",723,"91.40%",526,"66.50%",673,745,"110.70%",687,"102.08%",537,"79.79%",413,516,"124.94%",490,"118.64%",393,"95.16%",267,332,"124.34%",312,"116.85%",252,"94.38%",416,534,"128.37%",502,"120.67%",409,"98.32%",null,"Iconha",12340,12331,0.99927066450567259,8523,0.69068071312803891,4456,0.36110210696920586]
["Regional Sul","Irupi",649,38,"5.86%",1,"0.15%",0,"0.00%",414,44,"10.63%",0,"0.00%",0,"0.00%",1289,564,"43.75%",196,"15.21%",2,"0.16%",1198,792,"66.11%",351,"29.30%",8,"0.67%",441,342,"77.55%",136,"30.84%",20,"4.54%",1044,730,"69.92%",334,"31.99%",116,"11.11%",952,616,"64.71%",321,"33.72%",126,"13.24%",990,658,"66.46%",383,"38.69%",160,"16.16%",1143,801,"70.08%",471,"41.21%",206,"18.02%",1115,886,"79.46%",525,"47.09%",201,"18.03%",940,797,"84.79%",510,"54.26%",207,"22.02%",846,687,"81.21%",467,"55.20%",217,"25.65%",731,586,"80.16%",418,"57.18%",203,"27.77%",595,510,"85.71%",415,"69.75%",254,"42.69%",495,447,"90.30%",402,"81.21%",264,"53.33%",382,356,"93.19%",330,"86.39%",225,"58.90%",250,225,"90.00%",208,"83.20%",140,"56.00%",284,318,"111.97%",277,"97.54%",183,"64.44%",null,"Irupi",13758,9397,0.68302078790521881,5745,0.41757522895769733,2532,0.18403837767117315]
["Regional Metropolitana","Itaguaçu",441,51,"11.56%",0,"0.00%",0,"0.00%",307,46,"14.98%",0,"0.00%",0,"0.00%",1014,616,"60.75%",122,"12.03%",0,"0.00%",913,777,"85.10%",394,"43.15%",1,"0.11%",352,318,"90.34%",140,"39.77%",11,"3.12%",836,778,"93.06%",386,"46.17%",98,"11.72%",735,782,"106.39%",446,"60.68%",136,"18.50%",887,859,"96.84%",523,"58.96%",175,"19.73%",990,920,"92.93%",537,"54.24%",185,"18.69%",1036,1010,"97.49%",632,"61.00%",239,"23.07%",959,956,"99.69%",705,"73.51%",303,"31.60%",979,908,"92.75%",709,"72.42%",317,"32.38%",945,951,"100.63%",749,"79.26%",402,"42.54%",907,877,"96.69%",764,"84.23%",530,"58.43%",787,816,"103.68%",773,"98.22%",628,"79.80%",558,649,"116.31%",624,"111.83%",535,"95.88%",376,413,"109.84%",396,"105.32%",335,"89.10%",586,731,"124.74%",685,"116.89%",560,"95.56%",null,"Itaguaçu",13608,12458,0.91549088771310994,8585,0.63087889476778369,4455,0.32738095238095238]
["Regional Sul","Itapemirim",1649,23,"1.39%",0,"0.00%",0,"0.00%",1095,34,"3.11%",0,"0.00%",0,"0.00%",4074,1180,"28.96%",164,"4.03%",2,"0.05%",3500,2209,"63.11%",713,"20.37%",12,"0.34%",1159,864,"74.55%",262,"22.61%",18,"1.55%",2820,2384,"84.54%",890,"31.56%",158,"5.60%",2672,2377,"88.96%",994,"37.20%",238,"8.91%",2808,2283,"81.30%",1011,"36.00%",283,"10.08%",3046,2532,"83.13%",1191,"39.10%",361,"11.85%",3139,2708,"86.27%",1401,"44.63%",468,"14.91%",2668,2559,"95.91%",1406,"52.70%",548,"20.54%",2404,2234,"92.93%",1283,"53.37%",499,"20.76%",2353,2126,"90.35%",1356,"57.63%",623,"26.48%",2101,2043,"97.24%",1469,"69.92%",814,"38.74%",1709,1828,"106.96%",1492,"87.30%",932,"54.53%",1215,1316,"108.31%",1099,"90.45%",684,"56.30%",702,846,"120.51%",703,"100.14%",446,"63.53%",822,1057,"128.59%",874,"106.33%",521,"63.38%",null,"Itapemirim",39936,30603,0.76630108173076927,16308,0.40835336538461536,6607,0.16543970352564102]
["Regional Metropolitana","Itarana",377,49,"13.00%",0,"0.00%",0,"0.00%",247,34,"13.77%",0,"0.00%",0,"0.00%",761,493,"64.78%",175,"23.00%",0,"0.00%",658,589,"89.51%",365,"55.47%",1,"0.15%",261,211,"80.84%",122,"46.74%",19,"7.28%",722,713,"98.75%",438,"60.66%",136,"18.84%",686,698,"101.75%",425,"61.95%",145,"21.14%",685,638,"93.14%",407,"59.42%",160,"23.36%",794,781,"98.36%",547,"68.89%",242,"30.48%",849,838,"98.70%",591,"69.61%",269,"31.68%",730,700,"95.89%",477,"65.34%",211,"28.90%",752,721,"95.88%",561,"74.60%",305,"40.56%",724,749,"103.45%",612,"84.53%",355,"49.03%",640,659,"102.97%",605,"94.53%",416,"65.00%",580,615,"106.03%",569,"98.10%",447,"77.07%",434,481,"110.83%",465,"107.14%",378,"87.10%",306,332,"108.50%",314,"102.61%",250,"81.70%",429,548,"127.74%",510,"118.88%",393,"91.61%",null,"Itarana",10635,9849,0.92609308885754582,7183,0.6754113775270334,3727,0.35044663845792196]
["Regional Sul","Iúna",1385,30,"2.17%",0,"0.00%",0,"0.00%",835,32,"3.83%",0,"0.00%",0,"0.00%",2783,1222,"43.91%",138,"4.96%",0,"0.00%",2413,1830,"75.84%",947,"39.25%",12,"0.50%",806,655,"81.27%",313,"38.83%",25,"3.10%",2163,1724,"79.70%",715,"33.06%",172,"7.95%",2049,1738,"84.82%",839,"40.95%",231,"11.27%",2147,1734,"80.76%",943,"43.92%",326,"15.18%",2283,1949,"85.37%",1096,"48.01%",392,"17.17%",2274,1930,"84.87%",1118,"49.16%",442,"19.44%",1879,1813,"96.49%",1087,"57.85%",465,"24.75%",1691,1608,"95.09%",1039,"61.44%",462,"27.32%",1644,1650,"100.36%",1118,"68.00%",578,"35.16%",1415,1442,"101.91%",1087,"76.82%",654,"46.22%",1117,1251,"112.00%",1076,"96.33%",750,"67.14%",767,945,"123.21%",820,"106.91%",581,"75.75%",524,629,"120.04%",549,"104.77%",380,"72.52%",594,867,"145.96%",722,"121.55%",479,"80.64%",null,"Iúna",28769,23049,0.80117487573429735,13607,0.47297438214745036,5949,0.20678508116375266]
["Regional Norte","Jaguaré",1476,76,"5.15%",0,"0.00%",0,"0.00%",926,76,"8.21%",0,"0.00%",0,"0.00%",3122,1528,"48.94%",383,"12.27%",0,"0.00%",2688,1987,"73.92%",716,"26.64%",4,"0.15%",873,690,"79.04%",239,"27.38%",22,"2.52%",2202,1910,"86.74%",819,"37.19%",224,"10.17%",2164,2032,"93.90%",964,"44.55%",284,"13.12%",2244,1980,"88.24%",1030,"45.90%",378,"16.84%",2391,2274,"95.11%",1234,"51.61%",462,"19.32%",2307,2132,"92.41%",1216,"52.71%",494,"21.41%",1862,1831,"98.34%",1160,"62.30%",524,"28.14%",1649,1575,"95.51%",1152,"69.86%",591,"35.84%",1482,1474,"99.46%",1110,"74.90%",627,"42.31%",1202,1271,"105.74%",1072,"89.18%",721,"59.98%",986,1107,"112.27%",1001,"101.52%",718,"72.82%",653,779,"119.30%",720,"110.26%",538,"82.39%",405,477,"117.78%",442,"109.14%",343,"84.69%",488,653,"133.81%",584,"119.67%",432,"88.52%",null,"Jaguaré",29120,23852,0.81909340659340657,13842,0.47534340659340657,6362,0.21847527472527473]
["Regional Sul","Jerônimo Monteiro",455,22,"4.84%",0,"0.00%",0,"0.00%",319,35,"10.97%",0,"0.00%",0,"0.00%",979,508,"51.89%",141,"14.40%",0,"0.00%",856,635,"74.18%",280,"32.71%",3,"0.35%",314,251,"79.94%",100,"31.85%",8,"2.55%",809,707,"87.39%",355,"43.88%",85,"10.51%",781,776,"99.36%",437,"55.95%",122,"15.62%",827,811,"98.07%",483,"58.40%",174,"21.04%",792,750,"94.70%",432,"54.55%",156,"19.70%",816,761,"93.26%",465,"56.99%",182,"22.30%",762,761,"99.87%",532,"69.82%",232,"30.45%",762,711,"93.31%",516,"67.72%",217,"28.48%",787,785,"99.75%",598,"75.98%",274,"34.82%",648,667,"102.93%",550,"84.88%",332,"51.23%",560,555,"99.11%",506,"90.36%",351,"62.68%",404,471,"116.58%",432,"106.93%",289,"71.53%",318,327,"102.83%",302,"94.97%",228,"71.70%",426,556,"130.52%",519,"121.83%",356,"83.57%",null,"Jerônimo Monteiro",11615,10089,0.86861816616444254,6648,0.57236332328885065,3009,0.25906155832974603]
["Regional Metropolitana","João Neiva",585,28,"4.79%",0,"0.00%",0,"0.00%",300,28,"9.33%",0,"0.00%",0,"0.00%",1180,693,"58.73%",160,"13.56%",1,"0.08%",1004,908,"90.44%",456,"45.42%",5,"0.50%",317,344,"108.52%",192,"60.57%",13,"4.10%",896,866,"96.65%",510,"56.92%",138,"15.40%",866,916,"105.77%",575,"66.40%",147,"16.97%",939,998,"106.28%",661,"70.39%",221,"23.54%",994,1101,"110.76%",732,"73.64%",283,"28.47%",1133,1264,"111.56%",863,"76.17%",332,"29.30%",1044,1199,"114.85%",954,"91.38%",504,"48.28%",922,1047,"113.56%",830,"90.02%",498,"54.01%",998,1057,"105.91%",887,"88.88%",559,"56.01%",877,930,"106.04%",828,"94.41%",606,"69.10%",739,866,"117.19%",818,"110.69%",656,"88.77%",515,621,"120.58%",578,"112.23%",476,"92.43%",366,403,"110.11%",384,"104.92%",317,"86.61%",515,689,"133.79%",638,"123.88%",484,"93.98%",null,"João Neiva",14190,13958,0.98365045806906271,10066,0.70937279774489082,5240,0.36927413671599718]
["Regional Metropolitana","Laranja da Terra",320,43,"13.44%",0,"0.00%",0,"0.00%",252,50,"19.84%",0,"0.00%",0,"0.00%",842,558,"66.27%",253,"30.05%",1,"0.12%",699,640,"91.56%",365,"52.22%",3,"0.43%",248,267,"107.66%",118,"47.58%",7,"2.82%",651,634,"97.39%",384,"58.99%",120,"18.43%",689,693,"100.58%",420,"60.96%",146,"21.19%",746,731,"97.99%",480,"64.34%",183,"24.53%",789,790,"100.13%",549,"69.58%",198,"25.10%",871,806,"92.54%",538,"61.77%",197,"22.62%",805,832,"103.35%",630,"78.26%",313,"38.88%",902,853,"94.57%",672,"74.50%",319,"35.37%",824,803,"97.45%",651,"79.00%",353,"42.84%",676,691,"102.22%",622,"92.01%",397,"58.73%",600,597,"99.50%",560,"93.33%",404,"67.33%",457,450,"98.47%",422,"92.34%",333,"72.87%",371,398,"107.28%",375,"101.08%",290,"78.17%",367,527,"143.60%",483,"131.61%",367,"100.00%",null,"Laranja da Terra",11109,10363,0.93284724097578542,7522,0.67710865064362225,3631,0.32685210189936087]
["Regional Central","Linhares",7685,84,"1.09%",0,"0.00%",0,"0.00%",4781,98,"2.05%",3,"0.06%",0,"0.00%",16864,5774,"34.24%",499,"2.96%",4,"0.02%",14437,10153,"70.33%",3163,"21.91%",64,"0.44%",4933,4020,"81.49%",1170,"23.72%",105,"2.13%",13238,10542,"79.63%",4038,"30.50%",842,"6.36%",13493,11184,"82.89%",4696,"34.80%",1044,"7.74%",13785,11073,"80.33%",5128,"37.20%",1328,"9.63%",14112,11263,"79.81%",5824,"41.27%",1794,"12.71%",14130,11214,"79.36%",6262,"44.32%",2235,"15.82%",10688,9817,"91.85%",6073,"56.82%",2318,"21.69%",9616,8699,"90.46%",5802,"60.34%",2518,"26.19%",8135,7754,"95.32%",5604,"68.89%",2742,"33.71%",7008,6771,"96.62%",5325,"75.98%",3086,"44.04%",5664,5972,"105.44%",5072,"89.55%",3386,"59.78%",3728,4139,"111.02%",3650,"97.91%",2474,"66.36%",2414,2754,"114.08%",2426,"100.50%",1687,"69.88%",2926,3759,"128.47%",3150,"107.66%",2088,"71.36%",null,"Linhares",167637,125070,0.74607634352798013,67885,0.40495236731747764,27715,0.16532746350745958]
["Regional Central","Mantenópolis",494,7,"1.42%",0,"0.00%",0,"0.00%",317,15,"4.73%",1,"0.32%",0,"0.00%",1210,566,"46.78%",63,"5.21%",0,"0.00%",1020,833,"81.67%",311,"30.49%",3,"0.29%",339,272,"80.24%",102,"30.09%",7,"2.06%",751,663,"88.28%",304,"40.48%",67,"8.92%",758,711,"93.80%",351,"46.31%",101,"13.32%",780,587,"75.26%",308,"39.49%",110,"14.10%",912,726,"79.61%",409,"44.85%",161,"17.65%",965,767,"79.48%",479,"49.64%",195,"20.21%",901,765,"84.91%",521,"57.82%",253,"28.08%",906,767,"84.66%",523,"57.73%",273,"30.13%",908,766,"84.36%",551,"60.68%",281,"30.95%",782,699,"89.39%",559,"71.48%",339,"43.35%",629,618,"98.25%",547,"86.96%",377,"59.94%",419,399,"95.23%",353,"84.25%",257,"61.34%",295,321,"108.81%",293,"99.32%",222,"75.25%",399,464,"116.29%",412,"103.26%",269,"67.42%",null,"Mantenópolis",12785,9946,0.77794290183809156,6087,0.47610481032459911,2915,0.22800156433320298]
["Regional Sul","Marataízes",1603,28,"1.75%",0,"0.00%",0,"0.00%",1138,31,"2.72%",1,"0.09%",0,"0.00%",3946,976,"24.73%",189,"4.79%",0,"0.00%",3459,1890,"54.64%",570,"16.48%",20,"0.58%",1235,753,"60.97%",188,"15.22%",18,"1.46%",2948,2081,"70.59%",752,"25.51%",187,"6.34%",2813,2117,"75.26%",820,"29.15%",206,"7.32%",2934,2134,"72.73%",902,"30.74%",260,"8.86%",3085,2237,"72.51%",965,"31.28%",300,"9.72%",3342,2378,"71.15%",1121,"33.54%",408,"12.21%",2847,2224,"78.12%",1160,"40.74%",451,"15.84%",2582,2065,"79.98%",1139,"44.11%",511,"19.79%",2455,2134,"86.92%",1350,"54.99%",689,"28.07%",2375,2060,"86.74%",1474,"62.06%",872,"36.72%",2022,1882,"93.08%",1525,"75.42%",1008,"49.85%",1407,1447,"102.84%",1226,"87.14%",807,"57.36%",863,899,"104.17%",774,"89.69%",542,"62.80%",944,1165,"123.41%",972,"102.97%",621,"65.78%",null,"Marataízes",41998,28501,0.67862755369303296,15128,0.3602076289347112,6900,0.16429353778751368]
["Regional Metropolitana","Marechal Floriano",673,40,"5.94%",0,"0.00%",0,"0.00%",460,59,"12.83%",1,"0.22%",0,"0.00%",1625,898,"55.26%",343,"21.11%",2,"0.12%",1421,1116,"78.54%",574,"40.39%",5,"0.35%",439,381,"86.79%",147,"33.49%",16,"3.64%",1245,993,"79.76%",512,"41.12%",144,"11.57%",1297,1062,"81.88%",577,"44.49%",170,"13.11%",1260,1121,"88.97%",664,"52.70%",242,"19.21%",1471,1247,"84.77%",717,"48.74%",290,"19.71%",1446,1302,"90.04%",802,"55.46%",334,"23.10%",1320,1242,"94.09%",830,"62.88%",395,"29.92%",1133,1145,"101.06%",808,"71.32%",428,"37.78%",987,1035,"104.86%",811,"82.17%",454,"46.00%",893,947,"106.05%",787,"88.13%",505,"56.55%",743,822,"110.63%",754,"101.48%",573,"77.12%",511,630,"123.29%",583,"114.09%",451,"88.26%",318,400,"125.79%",375,"117.92%",300,"94.34%",414,604,"145.89%",559,"135.02%",411,"99.28%",null,"Marechal Floriano",17656,15044,0.85206162211146352,9844,0.55754417761667419,4720,0.26733121884911643]
["Regional Central","Marilândia",486,14,"2.88%",0,"0.00%",0,"0.00%",310,16,"5.16%",0,"0.00%",0,"0.00%",941,291,"30.92%",82,"8.71%",0,"0.00%",847,585,"69.07%",209,"24.68%",0,"0.00%",317,265,"83.60%",93,"29.34%",7,"2.21%",834,700,"83.93%",278,"33.33%",71,"8.51%",842,812,"96.44%",350,"41.57%",102,"12.11%",869,812,"93.44%",350,"40.28%",98,"11.28%",956,906,"94.77%",423,"44.25%",126,"13.18%",981,979,"99.80%",519,"52.91%",153,"15.60%",851,858,"100.82%",486,"57.11%",156,"18.33%",912,836,"91.67%",537,"58.88%",221,"24.23%",846,880,"104.02%",634,"74.94%",251,"29.67%",735,777,"105.71%",612,"83.27%",323,"43.95%",584,649,"111.13%",580,"99.32%",349,"59.76%",403,487,"120.84%",451,"111.91%",297,"73.70%",339,374,"110.32%",349,"102.95%",233,"68.73%",415,557,"134.22%",499,"120.24%",339,"81.69%",null,"Marilândia",12468,10798,0.86605710619185117,6452,0.51748476098812957,2726,0.21863971767725376]
["Regional Sul","Mimoso do Sul",826,14,"1.69%",0,"0.00%",0,"0.00%",569,14,"2.46%",0,"0.00%",0,"0.00%",1927,669,"34.72%",135,"7.01%",0,"0.00%",1828,1181,"64.61%",289,"15.81%",8,"0.44%",600,458,"76.33%",114,"19.00%",8,"1.33%",1550,1245,"80.32%",607,"39.16%",94,"6.06%",1579,1319,"83.53%",685,"43.38%",130,"8.23%",1698,1337,"78.74%",727,"42.82%",179,"10.54%",1863,1404,"75.36%",801,"43.00%",235,"12.61%",1837,1552,"84.49%",894,"48.67%",283,"15.41%",1753,1529,"87.22%",983,"56.08%",349,"19.91%",1598,1373,"85.92%",950,"59.45%",395,"24.72%",1789,1553,"86.81%",1110,"62.05%",493,"27.56%",1576,1433,"90.93%",1134,"71.95%",603,"38.26%",1280,1347,"105.23%",1144,"89.38%",725,"56.64%",925,947,"102.38%",819,"88.54%",571,"61.73%",554,629,"113.54%",549,"99.10%",381,"68.77%",742,947,"127.63%",764,"102.96%",450,"60.65%",null,"Mimoso do Sul",24494,18951,0.7736996815546664,11705,0.47787213195068179,4904,0.20021229688903405]
["Regional Norte","Montanha",793,52,"6.56%",0,"0.00%",0,"0.00%",548,53,"9.67%",1,"0.18%",0,"0.00%",1826,930,"50.93%",289,"15.83%",0,"0.00%",1593,1285,"80.67%",664,"41.68%",3,"0.19%",567,446,"78.66%",194,"34.22%",17,"3.00%",1241,1165,"93.88%",505,"40.69%",127,"10.23%",1305,1214,"93.03%",573,"43.91%",164,"12.57%",1299,1193,"91.84%",622,"47.88%",203,"15.63%",1461,1317,"90.14%",706,"48.32%",254,"17.39%",1401,1315,"93.86%",774,"55.25%",296,"21.13%",1304,1335,"102.38%",826,"63.34%",350,"26.84%",1185,1188,"100.25%",801,"67.59%",364,"30.72%",1132,1189,"105.04%",856,"75.62%",406,"35.87%",966,1026,"106.21%",821,"84.99%",445,"46.07%",763,879,"115.20%",781,"102.36%",543,"71.17%",575,650,"113.04%",573,"99.65%",408,"70.96%",412,512,"124.27%",472,"114.56%",330,"80.10%",588,798,"135.71%",714,"121.43%",470,"79.93%",null,"Montanha",18959,16547,0.87277810011076529,10172,0.53652618809008912,4380,0.23102484308244106]
["Regional Norte","Mucurici",217,12,"5.53%",0,"0.00%",0,"0.00%",166,18,"10.84%",0,"0.00%",0,"0.00%",463,286,"61.77%",89,"19.22%",1,"0.22%",410,284,"69.27%",146,"35.61%",1,"0.24%",154,124,"80.52%",68,"44.16%",7,"4.55%",333,339,"101.80%",157,"47.15%",36,"10.81%",325,294,"90.46%",174,"53.54%",53,"16.31%",368,322,"87.50%",205,"55.71%",90,"24.46%",389,349,"89.72%",217,"55.78%",79,"20.31%",431,366,"84.92%",235,"54.52%",99,"22.97%",369,350,"94.85%",233,"63.14%",105,"28.46%",395,353,"89.37%",272,"68.86%",138,"34.94%",379,320,"84.43%",259,"68.34%",159,"41.95%",330,304,"92.12%",273,"82.73%",175,"53.03%",261,275,"105.36%",251,"96.17%",190,"72.80%",171,185,"108.19%",162,"94.74%",125,"73.10%",145,153,"105.52%",143,"98.62%",107,"73.79%",183,218,"119.13%",193,"105.46%",145,"79.23%",null,"Mucurici",5489,4552,0.82929495354345051,3077,0.56057569684824193,1510,0.27509564583712881]
["Regional Sul","Muniz Freire",716,45,"6.28%",0,"0.00%",0,"0.00%",527,59,"11.20%",0,"0.00%",0,"0.00%",1633,1042,"63.81%",328,"20.09%",1,"0.06%",1468,1084,"73.84%",651,"44.35%",6,"0.41%",509,427,"83.89%",240,"47.15%",17,"3.34%",1219,1066,"87.45%",575,"47.17%",153,"12.55%",1253,1080,"86.19%",642,"51.24%",202,"16.12%",1268,1100,"86.75%",698,"55.05%",272,"21.45%",1348,1185,"87.91%",799,"59.27%",371,"27.52%",1388,1200,"86.46%",776,"55.91%",336,"24.21%",1213,1152,"94.97%",873,"71.97%",413,"34.05%",1226,1068,"87.11%",869,"70.88%",480,"39.15%",1098,1075,"97.91%",896,"81.60%",513,"46.72%",985,933,"94.72%",823,"83.55%",581,"58.98%",824,787,"95.51%",747,"90.66%",597,"72.45%",559,577,"103.22%",547,"97.85%",435,"77.82%",404,451,"111.63%",434,"107.43%",348,"86.14%",537,670,"124.77%",614,"114.34%",488,"90.88%",null,"Muniz Freire",18175,15001,0.82536451169188441,10512,0.5783768913342503,5213,0.28682255845942228]
["Regional Sul","Muqui",477,72,"15.09%",0,"0.00%",0,"0.00%",320,76,"23.75%",1,"0.31%",0,"0.00%",1221,851,"69.70%",321,"26.29%",0,"0.00%",1019,889,"87.24%",569,"55.84%",2,"0.20%",358,322,"89.94%",169,"47.21%",16,"4.47%",856,820,"95.79%",455,"53.15%",150,"17.52%",893,821,"91.94%",481,"53.86%",139,"15.57%",998,953,"95.49%",576,"57.72%",221,"22.14%",1062,975,"91.81%",618,"58.19%",268,"25.24%",1016,953,"93.80%",612,"60.24%",297,"29.23%",929,906,"97.52%",663,"71.37%",321,"34.55%",921,862,"93.59%",631,"68.51%",343,"37.24%",911,859,"94.29%",677,"74.31%",413,"45.33%",838,848,"101.19%",726,"86.63%",456,"54.42%",655,708,"108.09%",641,"97.86%",516,"78.78%",496,508,"102.42%",474,"95.56%",380,"76.61%",302,364,"120.53%",341,"112.91%",279,"92.38%",489,608,"124.34%",540,"110.43%",426,"87.12%",null,"Muqui",13761,12395,0.90073395828791514,8495,0.61732432236029355,4227,0.30717244386309134]
["Regional Norte","Nova Venécia",2024,37,"1.83%",0,"0.00%",0,"0.00%",1289,47,"3.65%",0,"0.00%",0,"0.00%",4253,1646,"38.70%",314,"7.38%",2,"0.05%",3770,2855,"75.73%",978,"25.94%",4,"0.11%",1298,1115,"85.90%",336,"25.89%",16,"1.23%",3500,3091,"88.31%",1183,"33.80%",217,"6.20%",3760,3574,"95.05%",1537,"40.88%",351,"9.34%",3710,3700,"99.73%",1744,"47.01%",466,"12.56%",3758,3807,"101.30%",2005,"53.35%",596,"15.86%",3780,3654,"96.67%",2035,"53.84%",702,"18.57%",3387,3567,"105.31%",2117,"62.50%",762,"22.50%",3303,3488,"105.60%",2282,"69.09%",895,"27.10%",3043,3290,"108.12%",2333,"76.67%",1058,"34.77%",2686,2930,"109.08%",2309,"85.96%",1288,"47.95%",2115,2489,"117.68%",2128,"100.61%",1399,"66.15%",1415,1747,"123.46%",1582,"111.80%",1087,"76.82%",890,1147,"128.88%",1039,"116.74%",680,"76.40%",1246,1737,"139.41%",1544,"123.92%",1030,"82.66%",null,"Nova Venécia",49227,43921,0.89221362260548076,25466,0.51731773213886689,10553,0.21437422552664187]
["Regional Central","Pancas",654,21,"3.21%",0,"0.00%",0,"0.00%",476,60,"12.61%",0,"0.00%",0,"0.00%",1627,990,"60.85%",366,"22.50%",2,"0.12%",1487,1370,"92.13%",809,"54.40%",33,"2.22%",543,550,"101.29%",293,"53.96%",46,"8.47%",1171,1282,"109.48%",687,"58.67%",232,"19.81%",1202,1337,"111.23%",738,"61.40%",256,"21.30%",1275,1276,"100.08%",767,"60.16%",315,"24.71%",1368,1345,"98.32%",819,"59.87%",312,"22.81%",1462,1392,"95.21%",890,"60.88%",382,"26.13%",1341,1306,"97.39%",916,"68.31%",448,"33.41%",1335,1233,"92.36%",904,"67.72%",515,"38.58%",1245,1209,"97.11%",899,"72.21%",518,"41.61%",1120,1090,"97.32%",928,"82.86%",598,"53.39%",903,991,"109.75%",884,"97.90%",666,"73.75%",672,727,"108.18%",655,"97.47%",508,"75.60%",454,526,"115.86%",495,"109.03%",395,"87.00%",538,682,"126.77%",607,"112.83%",472,"87.73%",null,"Pancas",18873,17387,0.92126318020452502,11657,0.61765485084512262,5698,0.30191278546071104]
["Regional Norte","Pedro Canário",1007,56,"5.56%",0,"0.00%",0,"0.00%",664,55,"8.28%",0,"0.00%",0,"0.00%",2258,1161,"51.42%",283,"12.53%",0,"0.00%",2005,1463,"72.97%",541,"26.98%",5,"0.25%",606,571,"94.22%",192,"31.68%",27,"4.46%",1501,1488,"99.13%",644,"42.90%",181,"12.06%",1510,1596,"105.70%",783,"51.85%",249,"16.49%",1449,1400,"96.62%",676,"46.65%",235,"16.22%",1644,1465,"89.11%",829,"50.43%",307,"18.67%",1702,1490,"87.54%",913,"53.64%",357,"20.98%",1493,1356,"90.82%",842,"56.40%",365,"24.45%",1276,1140,"89.34%",771,"60.42%",323,"25.31%",1216,1094,"89.97%",785,"64.56%",374,"30.76%",1065,993,"93.24%",772,"72.49%",455,"42.72%",799,870,"108.89%",767,"95.99%",455,"56.95%",563,578,"102.66%",519,"92.18%",326,"57.90%",390,401,"102.82%",350,"89.74%",228,"58.46%",436,538,"123.39%",469,"107.57%",301,"69.04%",null,"Pedro Canário",21584,17715,0.82074684951816157,10136,0.46960711638250557,4188,0.19403261675315048]
["Regional Norte","Pinheiros",994,49,"4.93%",0,"0.00%",0,"0.00%",709,66,"9.31%",0,"0.00%",0,"0.00%",2398,1013,"42.24%",360,"15.01%",3,"0.13%",2185,1505,"68.88%",655,"29.98%",8,"0.37%",706,587,"83.14%",243,"34.42%",6,"0.85%",1744,1328,"76.15%",562,"32.22%",121,"6.94%",1606,1316,"81.94%",573,"35.68%",107,"6.66%",1614,1267,"78.50%",596,"36.93%",148,"9.17%",1852,1426,"77.00%",716,"38.66%",276,"14.90%",1920,1645,"85.68%",981,"51.09%",375,"19.53%",1649,1484,"89.99%",973,"59.01%",407,"24.68%",1445,1292,"89.41%",882,"61.04%",434,"30.03%",1350,1270,"94.07%",936,"69.33%",474,"35.11%",1127,1056,"93.70%",887,"78.70%",496,"44.01%",922,956,"103.69%",880,"95.44%",558,"60.52%",652,710,"108.90%",678,"103.99%",453,"69.48%",480,514,"107.08%",481,"100.21%",323,"67.29%",581,764,"131.50%",720,"123.92%",425,"73.15%",null,"Pinheiros",23934,18248,0.7624300158769951,11123,0.4647363583187098,4614,0.19278014539984958]
["Regional Sul","Piúma",871,19,"2.18%",0,"0.00%",0,"0.00%",641,28,"4.37%",1,"0.16%",0,"0.00%",2118,793,"37.44%",136,"6.42%",0,"0.00%",1660,1096,"66.02%",337,"20.30%",2,"0.12%",593,421,"70.99%",153,"25.80%",26,"4.38%",1504,1165,"77.46%",441,"29.32%",105,"6.98%",1610,1335,"82.92%",603,"37.45%",159,"9.88%",1562,1277,"81.75%",589,"37.71%",184,"11.78%",1698,1345,"79.21%",708,"41.70%",243,"14.31%",1851,1284,"69.37%",684,"36.95%",242,"13.07%",1503,1255,"83.50%",711,"47.31%",302,"20.09%",1491,1188,"79.68%",751,"50.37%",322,"21.60%",1316,1180,"89.67%",761,"57.83%",394,"29.94%",1262,1125,"89.14%",829,"65.69%",501,"39.70%",1045,964,"92.25%",811,"77.61%",515,"49.28%",664,658,"99.10%",544,"81.93%",364,"54.82%",423,497,"117.49%",441,"104.26%",300,"70.92%",492,592,"120.33%",492,"100.00%",343,"69.72%",null,"Piúma",22304,16222,0.7273134863701578,8992,0.4031563845050215,4002,0.17942969870875181]
["Regional Norte","Ponto Belo",274,14,"5.11%",0,"0.00%",0,"0.00%",173,19,"10.98%",0,"0.00%",0,"0.00%",604,368,"60.93%",89,"14.74%",2,"0.33%",548,501,"91.42%",246,"44.89%",1,"0.18%",187,178,"95.19%",90,"48.13%",4,"2.14%",400,421,"105.25%",181,"45.25%",35,"8.75%",385,403,"104.68%",214,"55.58%",35,"9.09%",390,424,"108.72%",214,"54.87%",56,"14.36%",380,427,"112.37%",222,"58.42%",62,"16.32%",492,519,"105.49%",331,"67.28%",116,"23.58%",443,490,"110.61%",329,"74.27%",120,"27.09%",470,466,"99.15%",330,"70.21%",127,"27.02%",436,477,"109.40%",357,"81.88%",175,"40.14%",349,400,"114.61%",336,"96.28%",184,"52.72%",325,353,"108.62%",299,"92.00%",192,"59.08%",240,269,"112.08%",250,"104.17%",173,"72.08%",182,194,"106.59%",179,"98.35%",128,"70.33%",234,294,"125.64%",267,"114.10%",182,"77.78%",null,"Ponto Belo",6512,6217,0.95469901719901717,3934,0.60411547911547914,1592,0.24447174447174447]
["Regional Sul","Presidente Kennedy",610,9,"1.48%",0,"0.00%",0,"0.00%",447,22,"4.92%",0,"0.00%",0,"0.00%",1401,563,"40.19%",91,"6.50%",0,"0.00%",1153,886,"76.84%",387,"33.56%",0,"0.00%",392,333,"84.95%",154,"39.29%",9,"2.30%",955,856,"89.63%",409,"42.83%",88,"9.21%",997,939,"94.18%",508,"50.95%",127,"12.74%",984,913,"92.78%",522,"53.05%",177,"17.99%",1083,957,"88.37%",601,"55.49%",177,"16.34%",1052,950,"90.30%",623,"59.22%",243,"23.10%",893,829,"92.83%",588,"65.85%",251,"28.11%",786,748,"95.17%",557,"70.87%",278,"35.37%",755,708,"93.77%",552,"73.11%",299,"39.60%",677,681,"100.59%",558,"82.42%",337,"49.78%",575,572,"99.48%",499,"86.78%",352,"61.22%",399,418,"104.76%",383,"95.99%",283,"70.93%",283,307,"108.48%",276,"97.53%",201,"71.02%",280,385,"137.50%",339,"121.07%",237,"84.64%",null,"Presidente Kennedy",13722,11076,0.80717096633143859,7047,0.51355487538259725,3059,0.22292668707185542]
["Regional Central","Rio Bananal",925,22,"2.38%",0,"0.00%",0,"0.00%",501,42,"8.38%",0,"0.00%",0,"0.00%",1816,960,"52.86%",227,"12.50%",1,"0.06%",1482,1331,"89.81%",595,"40.15%",16,"1.08%",536,546,"101.87%",246,"45.90%",36,"6.72%",1366,1390,"101.76%",757,"55.42%",234,"17.13%",1401,1510,"107.78%",865,"61.74%",287,"20.49%",1456,1483,"101.85%",848,"58.24%",283,"19.44%",1564,1688,"107.93%",1065,"68.09%",397,"25.38%",1557,1693,"108.73%",1076,"69.11%",412,"26.46%",1306,1506,"115.31%",975,"74.66%",400,"30.63%",1228,1396,"113.68%",1042,"84.85%",486,"39.58%",1179,1296,"109.92%",1029,"87.28%",550,"46.65%",944,1130,"119.70%",982,"104.03%",627,"66.42%",790,923,"116.84%",854,"108.10%",640,"81.01%",537,648,"120.67%",622,"115.83%",493,"91.81%",357,457,"128.01%",440,"123.25%",376,"105.32%",443,649,"146.50%",597,"134.76%",489,"110.38%",null,"Rio Bananal",19388,18670,0.96296678357747056,12220,0.63028677532494326,5727,0.2953889003507324]
["Regional Sul","Rio Novo do Sul",389,18,"4.63%",0,"0.00%",0,"0.00%",290,28,"9.66%",0,"0.00%",0,"0.00%",955,400,"41.88%",99,"10.37%",2,"0.21%",786,617,"78.50%",300,"38.17%",3,"0.38%",271,256,"94.46%",127,"46.86%",14,"5.17%",708,728,"102.82%",406,"57.34%",96,"13.56%",695,727,"104.60%",395,"56.83%",120,"17.27%",788,790,"100.25%",486,"61.68%",160,"20.30%",890,864,"97.08%",543,"61.01%",200,"22.47%",882,899,"101.93%",566,"64.17%",250,"28.34%",730,787,"107.81%",545,"74.66%",273,"37.40%",736,724,"98.37%",526,"71.47%",298,"40.49%",718,745,"103.76%",602,"83.84%",336,"46.80%",662,680,"102.72%",582,"87.92%",389,"58.76%",577,595,"103.12%",541,"93.76%",434,"75.22%",396,455,"114.90%",427,"107.83%",335,"84.60%",249,294,"118.07%",273,"109.64%",206,"82.73%",348,488,"140.23%",441,"126.72%",340,"97.70%",null,"Rio Novo do Sul",11070,10095,0.91192411924119243,6859,0.61960252935862692,3456,0.31219512195121951]
["Regional Metropolitana","Santa Leopoldina",402,15,"3.73%",0,"0.00%",0,"0.00%",316,23,"7.28%",1,"0.32%",0,"0.00%",1099,631,"57.42%",116,"10.56%",2,"0.18%",997,696,"69.81%",379,"38.01%",0,"0.00%",331,278,"83.99%",167,"50.45%",34,"10.27%",825,685,"83.03%",481,"58.30%",183,"22.18%",801,683,"85.27%",498,"62.17%",182,"22.72%",864,706,"81.71%",516,"59.72%",240,"27.78%",941,797,"84.70%",606,"64.40%",292,"31.03%",1013,845,"83.42%",629,"62.09%",316,"31.19%",931,821,"88.18%",644,"69.17%",347,"37.27%",972,752,"77.37%",650,"66.87%",392,"40.33%",920,830,"90.22%",719,"78.15%",447,"48.59%",846,740,"87.47%",677,"80.02%",487,"57.57%",646,613,"94.89%",566,"87.62%",452,"69.97%",488,474,"97.13%",442,"90.57%",355,"72.75%",276,285,"103.26%",268,"97.10%",221,"80.07%",378,451,"119.31%",402,"106.35%",316,"83.60%",null,"Santa Leopoldina",13046,10325,0.79143032347079567,7761,0.59489498696918597,4266,0.326996780622413]
["Regional Metropolitana","Santa Maria de Jetibá",1959,47,"2.40%",0,"0.00%",0,"0.00%",1276,57,"4.47%",0,"0.00%",0,"0.00%",3777,1397,"36.99%",259,"6.86%",3,"0.08%",3202,2311,"72.17%",574,"17.93%",7,"0.22%",1199,925,"77.15%",260,"21.68%",19,"1.58%",3375,2527,"74.87%",909,"26.93%",181,"5.36%",3413,2854,"83.62%",1147,"33.61%",247,"7.24%",3529,2763,"78.29%",1218,"34.51%",309,"8.76%",3680,3093,"84.05%",1459,"39.65%",482,"13.10%",3496,3076,"87.99%",1552,"44.39%",542,"15.50%",2809,2715,"96.65%",1426,"50.77%",528,"18.80%",2501,2296,"91.80%",1322,"52.86%",532,"21.27%",2085,2104,"100.91%",1345,"64.51%",562,"26.95%",1731,1816,"104.91%",1356,"78.34%",715,"41.31%",1496,1514,"101.20%",1310,"87.57%",777,"51.94%",977,1186,"121.39%",1059,"108.39%",656,"67.14%",695,814,"117.12%",727,"104.60%",451,"64.89%",653,957,"146.55%",821,"125.73%",456,"69.83%",null,"Santa Maria de Jetibá",41853,32452,0.77538049841110557,16744,0.40006690081953505,6467,0.15451699997610685]
["Regional Metropolitana","Santa Teresa",854,56,"6.56%",1,"0.12%",0,"0.00%",501,63,"12.57%",1,"0.20%",0,"0.00%",1742,1005,"57.69%",254,"14.58%",2,"0.11%",1606,1315,"81.88%",670,"41.72%",2,"0.12%",563,525,"93.25%",275,"48.85%",37,"6.57%",1397,1441,"103.15%",802,"57.41%",277,"19.83%",1464,1546,"105.60%",869,"59.36%",297,"20.29%",1661,1660,"99.94%",1026,"61.77%",425,"25.59%",1830,1865,"101.91%",1152,"62.95%",465,"25.41%",1799,1802,"100.17%",1175,"65.31%",561,"31.18%",1559,1624,"104.17%",1147,"73.57%",547,"35.09%",1591,1638,"102.95%",1257,"79.01%",646,"40.60%",1560,1692,"108.46%",1366,"87.56%",748,"47.95%",1375,1476,"107.35%",1281,"93.16%",826,"60.07%",1131,1264,"111.76%",1139,"100.71%",862,"76.22%",871,1006,"115.50%",956,"109.76%",730,"83.81%",606,690,"113.86%",656,"108.25%",534,"88.12%",784,1120,"142.86%",1027,"130.99%",803,"102.42%",null,"Santa Teresa",22894,21788,0.95169039923123966,15054,0.65755219708220491,7762,0.33904079671529658]
["Regional Central","São Domingos do Norte",323,11,"3.41%",0,"0.00%",0,"0.00%",214,4,"1.87%",0,"0.00%",0,"0.00%",723,331,"45.78%",40,"5.53%",0,"0.00%",619,617,"99.68%",257,"41.52%",3,"0.48%",224,217,"96.88%",94,"41.96%",12,"5.36%",661,712,"107.72%",384,"58.09%",108,"16.34%",634,728,"114.83%",385,"60.73%",122,"19.24%",641,676,"105.46%",371,"57.88%",125,"19.50%",668,687,"102.84%",389,"58.23%",151,"22.60%",689,683,"99.13%",422,"61.25%",162,"23.51%",590,597,"101.19%",390,"66.10%",158,"26.78%",579,602,"103.97%",409,"70.64%",169,"29.19%",527,550,"104.36%",388,"73.62%",201,"38.14%",469,504,"107.46%",419,"89.34%",250,"53.30%",409,446,"109.05%",405,"99.02%",288,"70.42%",244,299,"122.54%",277,"113.52%",181,"74.18%",182,226,"124.18%",213,"117.03%",158,"86.81%",216,303,"140.28%",258,"119.44%",194,"89.81%",null,"São Domingos do Norte",8612,8193,0.95134695773339528,5101,0.59231305155596836,2282,0.26497909893172317]
["Regional Central","São Gabriel da Palha",1298,18,"1.39%",0,"0.00%",0,"0.00%",840,26,"3.10%",0,"0.00%",0,"0.00%",2739,943,"34.43%",97,"3.54%",0,"0.00%",2474,1721,"69.56%",536,"21.67%",8,"0.32%",807,685,"84.88%",196,"24.29%",15,"1.86%",2139,1744,"81.53%",665,"31.09%",116,"5.42%",2379,1931,"81.17%",828,"34.80%",179,"7.52%",2433,2156,"88.61%",985,"40.48%",301,"12.37%",2731,2410,"88.25%",1221,"44.71%",388,"14.21%",2843,2461,"86.56%",1332,"46.85%",474,"16.67%",2248,2294,"102.05%",1311,"58.32%",494,"21.98%",2076,2008,"96.72%",1223,"58.91%",522,"25.14%",1921,2007,"104.48%",1340,"69.76%",594,"30.92%",1693,1823,"107.68%",1420,"83.87%",780,"46.07%",1404,1517,"108.05%",1318,"93.87%",827,"58.90%",927,1115,"120.28%",958,"103.34%",618,"66.67%",626,750,"119.81%",664,"106.07%",428,"68.37%",806,1114,"138.21%",959,"118.98%",576,"71.46%",null,"São Gabriel da Palha",{"$f":"SUM(C68,J68,Q68,X68,AE68,AL68,AS68,AZ68,BG68,BN68,BU68,CB68,CI68,CP68,CW68,DD68,DK68,DR68)","v":32384},26723,{"$f":"EB68/EA68","v":0.82519145256916993},{"$f":"SUM(F68,M68,T68,AA68,AH68,AO68,AV68,BC68,BJ68,BQ68,BX68,CE68,CL68,CS68,CZ68,DG68,DN68,DU68)","v":15053},{"$f":"ED68/EA68","v":0.46482831027667987},{"$f":"SUM(H68,O68,V68,AC68,AJ68,AQ68,AX68,BE68,BL68,BS68,BZ68,CG68,CN68,CU68,DB68,DI68,DP68,DW68)","v":6320},{"$f":"EF68/EA68","v":0.19515810276679843}]
["Regional Sul","São José do Calçado",369,3,"0.81%",0,"0.00%",0,"0.00%",297,4,"1.35%",0,"0.00%",0,"0.00%",945,439,"46.46%",93,"9.84%",1,"0.11%",798,644,"80.70%",245,"30.70%",2,"0.25%",288,225,"78.12%",80,"27.78%",4,"1.39%",707,596,"84.30%",265,"37.48%",67,"9.48%",742,606,"81.67%",296,"39.89%",77,"10.38%",699,647,"92.56%",359,"51.36%",122,"17.45%",695,639,"91.94%",370,"53.24%",124,"17.84%",735,647,"88.03%",403,"54.83%",168,"22.86%",663,625,"94.27%",410,"61.84%",188,"28.36%",755,676,"89.54%",462,"61.19%",209,"27.68%",757,667,"88.11%",500,"66.05%",237,"31.31%",692,684,"98.84%",568,"82.08%",331,"47.83%",596,616,"103.36%",565,"94.80%",403,"67.62%",466,507,"108.80%",467,"100.21%",336,"72.10%",312,352,"112.82%",324,"103.85%",247,"79.17%",390,533,"136.67%",472,"121.03%",319,"81.79%",null,"São José do Calçado",10906,9110,0.83532000733541167,5879,0.53906106730240233,2835,0.25994865211810014]
["Regional Norte","São Mateus",5429,136,"2.51%",0,"0.00%",0,"0.00%",3484,177,"5.08%",1,"0.03%",0,"0.00%",11933,4517,"37.85%",774,"6.49%",6,"0.05%",10454,6294,"60.21%",2030,"19.42%",25,"0.24%",3870,2556,"66.05%",808,"20.88%",65,"1.68%",9749,6905,"70.83%",2788,"28.60%",661,"6.78%",9496,7120,"74.98%",3310,"34.86%",859,"9.05%",9200,6680,"72.61%",3361,"36.53%",1052,"11.43%",10015,7060,"70.49%",3814,"38.08%",1345,"13.43%",9939,7810,"78.58%",4673,"47.02%",1775,"17.86%",8604,7257,"84.34%",4585,"53.29%",1887,"21.93%",7593,6369,"83.88%",4229,"55.70%",1872,"24.65%",6871,6110,"88.92%",4233,"61.61%",2138,"31.12%",5876,5287,"89.98%",4180,"71.14%",2432,"41.39%",4566,4464,"97.77%",3779,"82.76%",2448,"53.61%",3125,3158,"101.06%",2728,"87.30%",1823,"58.34%",1788,2047,"114.49%",1775,"99.27%",1179,"65.94%",2294,2748,"119.79%",2284,"99.56%",1410,"61.46%",null,"São Mateus",124286,86695,0.69754437346121045,49352,0.39708414463415026,20977,0.16878007176994994]
["Regional Central","São Roque do Canaã",351,25,"7.12%",0,"0.00%",0,"0.00%",213,32,"15.02%",0,"0.00%",0,"0.00%",766,511,"66.71%",117,"15.27%",2,"0.26%",783,732,"93.49%",422,"53.90%",8,"1.02%",271,275,"101.48%",136,"50.18%",22,"8.12%",718,801,"111.56%",457,"63.65%",143,"19.92%",691,858,"124.17%",510,"73.81%",158,"22.87%",700,810,"115.71%",490,"70.00%",204,"29.14%",774,876,"113.18%",530,"68.48%",205,"26.49%",828,917,"110.75%",621,"75.00%",296,"35.75%",817,847,"103.67%",599,"73.32%",306,"37.45%",861,886,"102.90%",654,"75.96%",340,"39.49%",766,839,"109.53%",645,"84.20%",359,"46.87%",672,700,"104.17%",581,"86.46%",392,"58.33%",571,608,"106.48%",567,"99.30%",433,"75.83%",412,476,"115.53%",441,"107.04%",349,"84.71%",283,327,"115.55%",308,"108.83%",254,"89.75%",432,495,"114.58%",451,"104.40%",365,"84.49%",null,"São Roque do Canaã",10909,11015,1.0097167476395636,7529,0.69016408470070589,3836,0.3516362636355303]
["Regional Metropolitana","Serra",22028,673,"3.06%",0,"0.00%",0,"0.00%",15117,818,"5.41%",4,"0.03%",0,"0.00%",53165,19508,"36.69%",4650,"8.75%",23,"0.04%",43428,27385,"63.06%",9467,"21.80%",48,"0.11%",14664,10699,"72.96%",3317,"22.62%",256,"1.75%",39738,30380,"76.45%",12820,"32.26%",3237,"8.15%",40291,33189,"82.37%",15549,"38.59%",4510,"11.19%",43267,33179,"76.68%",16996,"39.28%",5607,"12.96%",47524,37962,"79.88%",20810,"43.79%",7450,"15.68%",45103,37673,"83.53%",21694,"48.10%",8513,"18.87%",35226,32037,"90.95%",19761,"56.10%",8533,"24.22%",30278,26918,"88.90%",17629,"58.22%",8270,"27.31%",26431,24700,"93.45%",17347,"65.63%",9132,"34.55%",23125,22211,"96.05%",17213,"74.43%",10544,"45.60%",18306,18721,"102.27%",15953,"87.15%",11121,"60.75%",11385,12813,"112.54%",11162,"98.04%",8159,"71.66%",6462,7576,"117.24%",6616,"102.38%",4781,"73.99%",7203,9206,"127.81%",7723,"107.22%",5276,"73.25%",null,"Serra",522741,385648,0.73774201755745195,218711,0.41839266481871518,95460,0.18261433482355507]
["Regional Central","Sooretama",1296,21,"1.62%",0,"0.00%",0,"0.00%",835,27,"3.23%",0,"0.00%",0,"0.00%",3021,1375,"45.51%",211,"6.98%",0,"0.00%",2601,1990,"76.51%",736,"28.30%",6,"0.23%",875,743,"84.91%",263,"30.06%",20,"2.29%",2216,2018,"91.06%",849,"38.31%",181,"8.17%",2086,1947,"93.34%",914,"43.82%",250,"11.98%",1984,1798,"90.62%",899,"45.31%",291,"14.67%",2117,1779,"84.03%",948,"44.78%",294,"13.89%",2040,1884,"92.35%",1082,"53.04%",401,"19.66%",1736,1657,"95.45%",1044,"60.14%",467,"26.90%",1410,1380,"97.87%",959,"68.01%",489,"34.68%",1222,1238,"101.31%",923,"75.53%",501,"41.00%",1020,1014,"99.41%",809,"79.31%",484,"47.45%",811,868,"107.03%",760,"93.71%",517,"63.75%",557,610,"109.52%",547,"98.20%",381,"68.40%",343,413,"120.41%",368,"107.29%",263,"76.68%",366,475,"129.78%",407,"111.20%",277,"75.68%",null,"Sooretama",26536,21237,0.80030901416943023,11719,0.44162646970153752,4822,0.18171540548688575]
["Regional Sul","Vargem Alta",793,47,"5.93%",0,"0.00%",0,"0.00%",540,51,"9.44%",1,"0.19%",0,"0.00%",1700,892,"52.47%",335,"19.71%",2,"0.12%",1601,1306,"81.57%",695,"43.41%",15,"0.94%",499,511,"102.40%",243,"48.70%",17,"3.41%",1455,1311,"90.10%",640,"43.99%",139,"9.55%",1391,1271,"91.37%",665,"47.81%",158,"11.36%",1376,1211,"88.01%",668,"48.55%",220,"15.99%",1517,1400,"92.29%",814,"53.66%",333,"21.95%",1582,1430,"90.39%",859,"54.30%",344,"21.74%",1243,1260,"101.37%",820,"65.97%",312,"25.10%",1299,1174,"90.38%",847,"65.20%",384,"29.56%",1289,1265,"98.14%",966,"74.94%",510,"39.57%",1073,1054,"98.23%",883,"82.29%",545,"50.79%",806,899,"111.54%",807,"100.12%",567,"70.35%",607,674,"111.04%",616,"101.48%",442,"72.82%",347,388,"111.82%",360,"103.75%",273,"78.67%",532,714,"134.21%",625,"117.48%",474,"89.10%",null,"Vargem Alta",19650,16858,0.8579134860050891,10844,0.55185750636132314,4735,0.24096692111959286]
["Regional Metropolitana","Venda Nova do Imigrante",1066,79,"7.41%",1,"0.09%",0,"0.00%",620,89,"14.35%",0,"0.00%",0,"0.00%",1942,1160,"59.73%",370,"19.05%",0,"0.00%",1772,1509,"85.16%",742,"41.87%",10,"0.56%",636,601,"94.50%",269,"42.30%",34,"5.35%",1745,1800,"103.15%",846,"48.48%",229,"13.12%",1826,1922,"105.26%",1003,"54.93%",289,"15.83%",1922,1849,"96.20%",974,"50.68%",343,"17.85%",2063,2024,"98.11%",1174,"56.91%",454,"22.01%",1925,1814,"94.23%",976,"50.70%",371,"19.27%",1698,1816,"106.95%",1153,"67.90%",502,"29.56%",1582,1571,"99.30%",1073,"67.83%",535,"33.82%",1448,1522,"105.11%",1126,"77.76%",591,"40.81%",1148,1273,"110.89%",1064,"92.68%",669,"58.28%",910,1064,"116.92%",997,"109.56%",721,"79.23%",670,753,"112.39%",711,"106.12%",544,"81.19%",446,519,"116.37%",491,"110.09%",361,"80.94%",592,800,"135.14%",733,"123.82%",531,"89.70%",null,"Venda Nova do Imigrante",24011,22165,0.92311857065511638,13703,0.57069676398317437,6184,0.25754862354754071]
["Regional Metropolitana","Viana",3039,92,"3.03%",0,"0.00%",0,"0.00%",2092,137,"6.55%",0,"0.00%",0,"0.00%",7308,3286,"44.96%",1022,"13.98%",9,"0.12%",6087,3774,"62.00%",1497,"24.59%",18,"0.30%",2053,1421,"69.22%",488,"23.77%",37,"1.80%",5629,5079,"90.23%",2300,"40.86%",588,"10.45%",5867,5721,"97.51%",2763,"47.09%",803,"13.69%",6074,5650,"93.02%",2929,"48.22%",986,"16.23%",6403,6012,"93.89%",3354,"52.38%",1233,"19.26%",6300,5937,"94.24%",3458,"54.89%",1411,"22.40%",5006,5003,"99.94%",3051,"60.95%",1297,"25.91%",4349,3882,"89.26%",2531,"58.20%",1219,"28.03%",3856,3465,"89.86%",2434,"63.12%",1281,"33.22%",3453,3174,"91.92%",2504,"72.52%",1564,"45.29%",2598,2700,"103.93%",2321,"89.34%",1595,"61.39%",1712,1836,"107.24%",1618,"94.51%",1147,"67.00%",919,1072,"116.65%",960,"104.46%",677,"73.67%",1076,1341,"124.63%",1150,"106.88%",789,"73.33%",null,"Viana",73821,59582,0.80711450671218221,34380,0.46572113626203926,14654,0.19850719984828166]
["Regional Norte","Vila Pavão",304,32,"10.53%",0,"0.00%",0,"0.00%",236,58,"24.58%",0,"0.00%",0,"0.00%",796,478,"60.05%",229,"28.77%",0,"0.00%",661,619,"93.65%",354,"53.56%",3,"0.45%",250,228,"91.20%",87,"34.80%",10,"4.00%",528,537,"101.70%",249,"47.16%",66,"12.50%",650,567,"87.23%",290,"44.62%",93,"14.31%",632,595,"94.15%",347,"54.91%",151,"23.89%",703,643,"91.47%",354,"50.36%",147,"20.91%",710,657,"92.54%",414,"58.31%",182,"25.63%",685,585,"85.40%",378,"55.18%",183,"26.72%",649,563,"86.75%",395,"60.86%",179,"27.58%",574,543,"94.60%",407,"70.91%",220,"38.33%",500,468,"93.60%",374,"74.80%",236,"47.20%",373,416,"111.53%",363,"97.32%",253,"67.83%",249,263,"105.62%",249,"100.00%",197,"79.12%",185,210,"113.51%",191,"103.24%",130,"70.27%",203,264,"130.05%",235,"115.76%",174,"85.71%",null,"Vila Pavão",8888,7726,0.86926192619261922,4916,0.55310531053105305,2224,0.25022502250225021]
["Regional Central","Vila Valério",681,17,"2.50%",0,"0.00%",0,"0.00%",379,21,"5.54%",0,"0.00%",0,"0.00%",1180,495,"41.95%",100,"8.47%",1,"0.08%",1091,810,"74.24%",304,"27.86%",2,"0.18%",352,286,"81.25%",90,"25.57%",12,"3.41%",993,836,"84.19%",336,"33.84%",83,"8.36%",1036,861,"83.11%",394,"38.03%",117,"11.29%",1042,918,"88.10%",458,"43.95%",147,"14.11%",1102,1036,"94.01%",551,"50.00%",190,"17.24%",1163,943,"81.08%",522,"44.88%",175,"15.05%",983,910,"92.57%",546,"55.54%",211,"21.46%",869,883,"101.61%",558,"64.21%",248,"28.54%",844,806,"95.50%",547,"64.81%",248,"29.38%",693,700,"101.01%",553,"79.80%",311,"44.88%",532,631,"118.61%",542,"101.88%",335,"62.97%",403,457,"113.40%",403,"100.00%",275,"68.24%",240,302,"125.83%",266,"110.83%",180,"75.00%",292,382,"130.82%",326,"111.64%",197,"67.47%",null,"Vila Valério",13875,11294,0.81398198198198202,6496,0.46818018018018021,2732,0.1969009009009009]
["Regional Metropolitana","Vila Velha",16888,584,"3.46%",1,"0.01%",0,"0.00%",11235,682,"6.07%",5,"0.04%",0,"0.00%",39031,15761,"40.38%",4079,"10.45%",10,"0.03%",33559,22705,"67.66%",9842,"29.33%",73,"0.22%",11690,8772,"75.04%",3436,"29.39%",383,"3.28%",34117,24778,"72.63%",11683,"34.24%",3570,"10.46%",35678,27689,"77.61%",14486,"40.60%",5095,"14.28%",37276,28661,"76.89%",16045,"43.04%",6336,"17.00%",39602,31427,"79.36%",18719,"47.27%",7921,"20.00%",39329,32330,"82.20%",19880,"50.55%",9049,"23.01%",31720,28808,"90.82%",18763,"59.15%",9148,"28.84%",30013,25876,"86.22%",17976,"59.89%",9437,"31.44%",28733,26314,"91.58%",19156,"66.67%",10918,"38.00%",25601,24539,"95.85%",19288,"75.34%",12130,"47.38%",20643,20993,"101.70%",17712,"85.80%",12179,"59.00%",14310,15269,"106.70%",13318,"93.07%",9440,"65.97%",9116,9913,"108.74%",8688,"95.30%",6070,"66.59%",11379,13993,"122.97%",11743,"103.20%",7769,"68.27%",null,"Vila Velha",469920,359094,0.76415985699693567,224820,0.47842185903983658,109528,0.23307797071842015]
["Regional Metropolitana","Vitória",11020,694,"6.30%",2,"0.02%",0,"0.00%",7492,837,"11.17%",3,"0.04%",0,"0.00%",25612,14355,"56.05%",4676,"18.26%",19,"0.07%",21536,18294,"84.95%",8937,"41.50%",66,"0.31%",7743,6538,"84.44%",2967,"38.32%",308,"3.98%",22666,18404,"81.20%",10212,"45.05%",3589,"15.83%",23212,22125,"95.32%",13669,"58.89%",5580,"24.04%",23980,22436,"93.56%",14486,"60.41%",6473,"26.99%",26637,25811,"96.90%",16914,"63.50%",7891,"29.62%",26887,28289,"105.21%",19409,"72.19%",9633,"35.83%",22069,24558,"111.28%",17716,"80.28%",9623,"43.60%",20112,21355,"106.18%",16191,"80.50%",9574,"47.60%",20532,21782,"106.09%",17136,"83.46%",10896,"53.07%",19349,21347,"110.33%",17878,"92.40%",12596,"65.10%",16196,18982,"117.20%",16719,"103.23%",12658,"78.16%",11644,14125,"121.31%",12809,"110.01%",9934,"85.31%",7493,9368,"125.02%",8582,"114.53%",6592,"87.98%",10123,13837,"136.69%",12281,"121.32%",9237,"91.25%",null,"Vitória",324303,303137,0.93473387541897546,210587,0.64935261160087943,114669,0.35358599827938686]
[null,"TOTAL ESPÍRITO SANTO",{"$f":"SUM(C3:C80)","v":153351},{"$f":"SUM(D3:D80)","v":5828},{"$f":"D81/C81","v":3.8004316893923092E-2},{"$f":"SUM(F3:F80)","v":12},{"$f":"F81/C81","v":7.8251853590781927E-5},{"$f":"SUM(H3:H80)","v":0},{"$f":"H81/C81","v":0},{"$f":"SUM(J3:J80)","v":102102},{"$f":"SUM(K3:K80)","v":7132},{"$f":"K81/J81","v":6.9851716910540443E-2},{"$f":"SUM(M3:M80)","v":49},{"$f":"M81/J81","v":4.7991224461812695E-4},{"$f":"SUM(O3:O80)","v":1},{"$f":"O81/J81","v":9.7941274411862641E-6},{"$f":"SUM(Q3:Q80)","v":352763},{"$f":"SUM(R3:R80)","v":155419},{"$f":"R81/Q81","v":0.44057625091066804},{"$f":"SUM(T3:T80)","v":40069},{"$f":"T81/Q81","v":0.11358617542089165},{"$f":"SUM(V3:V80)","v":167},{"$f":"V81/Q81","v":4.7340565762282326E-4},{"$f":"SUM(X3:X80)","v":300898},{"$f":"SUM(Y3:Y80)","v":218452},{"$f":"Y81/X81","v":0.72600017281603735},{"$f":"SUM(AA3:AA80)","v":90753},{"$f":"AA81/X81","v":0.30160718914715284},{"$f":"SUM(AC3:AC80)","v":897},{"$f":"AC81/X81","v":2.9810766439125553E-3},{"$f":"SUM(AE3:AE80)","v":103299},{"$f":"SUM(AF3:AF80)","v":83640},{"$f":"AF81/AE81","v":0.80968838033282031},{"$f":"SUM(AH3:AH80)","v":31610},{"$f":"AH81/AE81","v":0.30600489840172701},{"$f":"SUM(AJ3:AJ80)","v":2904},{"$f":"AJ81/AE81","v":2.8112566433363344E-2},{"$f":"SUM(AL3:AL80)","v":276033},{"$f":"SUM(AM3:AM80)","v":229497},{"$f":"AM81/AL81","v":0.83141146167306079},{"$f":"SUM(AO3:AO80)","v":104723},{"$f":"AO81/AL81","v":0.37938579807486789},{"$f":"SUM(AQ3:AQ80)","v":28114},{"$f":"AQ81/AL81","v":0.101850141106317},{"$f":"SUM(AS3:AS80)","v":279424},{"$f":"SUM(AT3:AT80)","v":247846},{"$f":"AT81/AS81","v":0.88698894869445721},{"$f":"SUM(AV3:AV80)","v":123997},{"$f":"AV81/AS81","v":0.44375930485570314},{"$f":"SUM(AX3:AX80)","v":38149},{"$f":"AX81/AS81","v":0.1365272846999542},{"$f":"SUM(AZ3:AZ80)","v":291550},{"$f":"SUM(BA3:BA80)","v":247925},{"$f":"BA81/AZ81","v":0.85036871891613786},{"$f":"SUM(BC3:BC80)","v":133623},{"$f":"BC81/AZ81","v":0.45831932773109246},{"$f":"SUM(BE3:BE80)","v":47269},{"$f":"BE81/AZ81","v":0.16212999485508489},{"$f":"SUM(BG3:BG80)","v":313839},{"$f":"SUM(BH3:BH80)","v":269529},{"$f":"BH81/BG81","v":0.85881295823654802},{"$f":"SUM(BJ3:BJ80)","v":153710},{"$f":"BJ81/BG81","v":0.48977341885489056},{"$f":"SUM(BL3:BL80)","v":59002},{"$f":"BL81/BG81","v":0.18800085394103347},{"$f":"SUM(BN3:BN80)","v":315396},{"$f":"SUM(BO3:BO80)","v":278471},{"$f":"BO81/BN81","v":0.8829249578307905},{"$f":"SUM(BQ3:BQ80)","v":168491},{"$f":"BQ81/BN81","v":0.53422047204149703},{"$f":"SUM(BS3:BS80)","v":70517},{"$f":"BS81/BN81","v":0.22358241702494641},{"$f":"SUM(BU3:BU80)","v":260955},{"$f":"SUM(BV3:BV80)","v":249183},{"$f":"BV81/BU81","v":0.95488877392653904},{"$f":"SUM(BX3:BX80)","v":160383},{"$f":"BX81/BU81","v":0.61460021842846468},{"$f":"SUM(BZ3:BZ80)","v":72571},{"$f":"BZ81/BU81","v":0.27809775631813916},{"$f":"SUM(CB3:CB80)","v":242363},{"$f":"SUM(CC3:CC80)","v":223325},{"$f":"CC81/CB81","v":0.92144840590354138},{"$f":"SUM(CE3:CE80)","v":153032},{"$f":"CE81/CB81","v":0.63141651159624201},{"$f":"SUM(CG3:CG80)","v":75619},{"$f":"CG81/CB81","v":0.31200719581784347},{"$f":"SUM(CI3:CI80)","v":225229},{"$f":"SUM(CJ3:CJ80)","v":217059},{"$f":"CJ81/CI81","v":0.9637258079554587},{"$f":"SUM(CL3:CL80)","v":158264},{"$f":"CL81/CI81","v":0.7026803830767796},{"$f":"SUM(CN3:CN80)","v":85312},{"$f":"CN81/CI81","v":0.37877893166510529},{"$f":"SUM(CP3:CP80)","v":200415},{"$f":"SUM(CQ3:CQ80)","v":197439},{"$f":"CQ81/CP81","v":0.98515081206496524},{"$f":"SUM(CS3:CS80)","v":158091},{"$f":"CS81/CP81","v":0.78881820223037202},{"$f":"SUM(CU3:CU80)","v":99004},{"$f":"CU81/CP81","v":0.4939949604570516},{"$f":"SUM(CW3:CW80)","v":161788},{"$f":"SUM(CX3:CX80)","v":170153},{"$f":"CX81/CW81","v":1.051703463792123},{"$f":"SUM(CZ3:CZ80)","v":147483},{"$f":"CZ81/CW81","v":0.91158182312656066},{"$f":"SUM(DB3:DB80)","v":103235},{"$f":"DB81/CW81","v":0.6380881153113952},{"$f":"SUM(DD3:DD80)","v":111235},{"$f":"SUM(DE3:DE80)","v":123579},{"$f":"DE81/DD81","v":1.1109722659234953},{"$f":"SUM(DG3:DG80)","v":110093},{"$f":"DG81/DD81","v":0.98973344720636491},{"$f":"SUM(DI3:DI80)","v":79824},{"$f":"DI81/DD81","v":0.71761585831797547},{"$f":"SUM(DK3:DK80)","v":70070},{"$f":"SUM(DL3:DL80)","v":80877},{"$f":"DL81/DK81","v":1.1542314828029114},{"$f":"SUM(DN3:DN80)","v":72528},{"$f":"DN81/DK81","v":1.0350792065077778},{"$f":"SUM(DP3:DP80)","v":52662},{"$f":"DP81/DK81","v":0.75156272299129445},{"$f":"SUM(DR3:DR80)","v":87890},{"$f":"SUM(DS3:DS80)","v":114002},{"$f":"DS81/DR81","v":1.2970986460348162},{"$f":"SUM(DU3:DU80)","v":98753},{"$f":"DU81/DR81","v":1.1235976789168278},{"$f":"SUM(DW3:DW80)","v":68488},{"$f":"DW81/DR81","v":0.7792467857549209},null,"TOTAL ESPÍRITO SANTO",3848600,3119356,0.81051707114275318,1905664,0.495157719690277,883735,0.22962505846281764]
[null,"Regional Metropolitana",{"$f":"SUMIF($A$3:$A$80,$B82,C$3:C$80)","v":89505},{"$f":"SUMIF($A$3:$A$80,$B82,D$3:D$80)","v":3752},{"$f":"D82/C82","v":4.1919445841014466E-2},{"$f":"SUMIF($A$3:$A$80,$B82,F$3:F$80)","v":9},{"$f":"F82/C82","v":1.0055304172951231E-4},{"$f":"SUMIF($A$3:$A$80,$B82,H$3:H$80)","v":0},{"$f":"H82/C82","v":0},{"$f":"SUMIF($A$3:$A$80,$B82,J$3:J$80)","v":59897},{"$f":"SUMIF($A$3:$A$80,$B82,K$3:K$80)","v":4471},{"$f":"K82/J82","v":7.4644806918543499E-2},{"$f":"SUMIF($A$3:$A$80,$B82,M$3:M$80)","v":27},{"$f":"M82/J82","v":4.5077382840542934E-4},{"$f":"SUMIF($A$3:$A$80,$B82,O$3:O$80)","v":1},{"$f":"O82/J82","v":1.6695326977978864E-5},{"$f":"SUMIF($A$3:$A$80,$B82,Q$3:Q$80)","v":208876},{"$f":"SUMIF($A$3:$A$80,$B82,R$3:R$80)","v":93421},{"$f":"R82/Q82","v":0.44725578812309696},{"$f":"SUMIF($A$3:$A$80,$B82,T$3:T$80)","v":25811},{"$f":"T82/Q82","v":0.12357092246117314},{"$f":"SUMIF($A$3:$A$80,$B82,V$3:V$80)","v":91},{"$f":"V82/Q82","v":4.3566517934085294E-4},{"$f":"SUMIF($A$3:$A$80,$B82,X$3:X$80)","v":176348},{"$f":"SUMIF($A$3:$A$80,$B82,Y$3:Y$80)","v":128106},{"$f":"Y82/X82","v":0.72643863270351805},{"$f":"SUMIF($A$3:$A$80,$B82,AA$3:AA$80)","v":54361},{"$f":"AA82/X82","v":0.30825980447751039},{"$f":"SUMIF($A$3:$A$80,$B82,AC$3:AC$80)","v":386},{"$f":"AC82/X82","v":2.1888538571460973E-3},{"$f":"SUMIF($A$3:$A$80,$B82,AE$3:AE$80)","v":60323},{"$f":"SUMIF($A$3:$A$80,$B82,AF$3:AF$80)","v":48800},{"$f":"AF82/AE82","v":0.80897833330570434},{"$f":"SUMIF($A$3:$A$80,$B82,AH$3:AH$80)","v":18788},{"$f":"AH82/AE82","v":0.31145665832269614},{"$f":"SUMIF($A$3:$A$80,$B82,AJ$3:AJ$80)","v":1758},{"$f":"AJ82/AE82","v":2.9143112908840741E-2},{"$f":"SUMIF($A$3:$A$80,$B82,AL$3:AL$80)","v":165481},{"$f":"SUMIF($A$3:$A$80,$B82,AM$3:AM$80)","v":137144},{"$f":"AM82/AL82","v":0.82875979719726134},{"$f":"SUMIF($A$3:$A$80,$B82,AO$3:AO$80)","v":64039},{"$f":"AO82/AL82","v":0.38698702570083576},{"$f":"SUMIF($A$3:$A$80,$B82,AQ$3:AQ$80)","v":18086},{"$f":"AQ82/AL82","v":0.10929351405901584},{"$f":"SUMIF($A$3:$A$80,$B82,AS$3:AS$80)","v":167614},{"$f":"SUMIF($A$3:$A$80,$B82,AT$3:AT$80)","v":150359},{"$f":"AT82/AS82","v":0.89705513859224173},{"$f":"SUMIF($A$3:$A$80,$B82,AV$3:AV$80)","v":77292},{"$f":"AV82/AS82","v":0.4611309317837412},{"$f":"SUMIF($A$3:$A$80,$B82,AX$3:AX$80)","v":25319},{"$f":"AX82/AS82","v":0.15105540110014676},{"$f":"SUMIF($A$3:$A$80,$B82,AZ$3:AZ$80)","v":176453},{"$f":"SUMIF($A$3:$A$80,$B82,BA$3:BA$80)","v":150875},{"$f":"BA82/AZ82","v":0.85504355267408316},{"$f":"SUMIF($A$3:$A$80,$B82,BC$3:BC$80)","v":83600},{"$f":"BC82/AZ82","v":0.47378055346182835},{"$f":"SUMIF($A$3:$A$80,$B82,BE$3:BE$80)","v":31107},{"$f":"BE82/AZ82","v":0.17629057029350592},{"$f":"SUMIF($A$3:$A$80,$B82,BG$3:BG$80)","v":191072},{"$f":"SUMIF($A$3:$A$80,$B82,BH$3:BH$80)","v":166050},{"$f":"BH82/BG82","v":0.8690441299614805},{"$f":"SUMIF($A$3:$A$80,$B82,BJ$3:BJ$80)","v":96879},{"$f":"BJ82/BG82","v":0.50702876402612629},{"$f":"SUMIF($A$3:$A$80,$B82,BL$3:BL$80)","v":38910},{"$f":"BL82/BG82","v":0.20364051247697204},{"$f":"SUMIF($A$3:$A$80,$B82,BN$3:BN$80)","v":190456},{"$f":"SUMIF($A$3:$A$80,$B82,BO$3:BO$80)","v":170943},{"$f":"BO82/BN82","v":0.8975458898643256},{"$f":"SUMIF($A$3:$A$80,$B82,BQ$3:BQ$80)","v":104612},{"$f":"BQ82/BN82","v":0.54927122274961149},{"$f":"SUMIF($A$3:$A$80,$B82,BS$3:BS$80)","v":45581},{"$f":"BS82/BN82","v":0.23932561851556264},{"$f":"SUMIF($A$3:$A$80,$B82,BU$3:BU$80)","v":155329},{"$f":"SUMIF($A$3:$A$80,$B82,BV$3:BV$80)","v":150147},{"$f":"BV82/BU82","v":0.96663855429443313},{"$f":"SUMIF($A$3:$A$80,$B82,BX$3:BX$80)","v":97472},{"$f":"BX82/BU82","v":0.62751965183578085},{"$f":"SUMIF($A$3:$A$80,$B82,BZ$3:BZ$80)","v":45855},{"$f":"BZ82/BU82","v":0.29521209819158045},{"$f":"SUMIF($A$3:$A$80,$B82,CB$3:CB$80)","v":142027},{"$f":"SUMIF($A$3:$A$80,$B82,CC$3:CC$80)","v":131914},{"$f":"CC82/CB82","v":0.92879522907616152},{"$f":"SUMIF($A$3:$A$80,$B82,CE$3:CE$80)","v":90757},{"$f":"CE82/CB82","v":0.63901230047807811},{"$f":"SUMIF($A$3:$A$80,$B82,CG$3:CG$80)","v":46615},{"$f":"CG82/CB82","v":0.32821224133439414},{"$f":"SUMIF($A$3:$A$80,$B82,CI$3:CI$80)","v":131470},{"$f":"SUMIF($A$3:$A$80,$B82,CJ$3:CJ$80)","v":127029},{"$f":"CJ82/CI82","v":0.96622043051646767},{"$f":"SUMIF($A$3:$A$80,$B82,CL$3:CL$80)","v":93021},{"$f":"CL82/CI82","v":0.7075454476306382},{"$f":"SUMIF($A$3:$A$80,$B82,CN$3:CN$80)","v":51969},{"$f":"CN82/CI82","v":0.39529170152886589},{"$f":"SUMIF($A$3:$A$80,$B82,CP$3:CP$80)","v":117912},{"$f":"SUMIF($A$3:$A$80,$B82,CQ$3:CQ$80)","v":116426},{"$f":"CQ82/CP82","v":0.98739738109776787},{"$f":"SUMIF($A$3:$A$80,$B82,CS$3:CS$80)","v":93055},{"$f":"CS82/CP82","v":0.78919024357147705},{"$f":"SUMIF($A$3:$A$80,$B82,CU$3:CU$80)","v":59614},{"$f":"CU82/CP82","v":0.50558043286518761},{"$f":"SUMIF($A$3:$A$80,$B82,CW$3:CW$80)","v":95017},{"$f":"SUMIF($A$3:$A$80,$B82,CX$3:CX$80)","v":100130},{"$f":"CX82/CW82","v":1.053811423219003},{"$f":"SUMIF($A$3:$A$80,$B82,CZ$3:CZ$80)","v":86380},{"$f":"CZ82/CW82","v":0.90910047675679084},{"$f":"SUMIF($A$3:$A$80,$B82,DB$3:DB$80)","v":61384},{"$f":"DB82/CW82","v":0.64603176273719443},{"$f":"SUMIF($A$3:$A$80,$B82,DD$3:DD$80)","v":64819},{"$f":"SUMIF($A$3:$A$80,$B82,DE$3:DE$80)","v":72372},{"$f":"DE82/DD82","v":1.116524475848131},{"$f":"SUMIF($A$3:$A$80,$B82,DG$3:DG$80)","v":64232},{"$f":"DG82/DD82","v":0.99094401332942506},{"$f":"SUMIF($A$3:$A$80,$B82,DI$3:DI$80)","v":47276},{"$f":"DI82/DD82","v":0.72935404742436627},{"$f":"SUMIF($A$3:$A$80,$B82,DK$3:DK$80)","v":40078},{"$f":"SUMIF($A$3:$A$80,$B82,DL$3:DL$80)","v":46409},{"$f":"DL82/DK82","v":1.1579669644193822},{"$f":"SUMIF($A$3:$A$80,$B82,DN$3:DN$80)","v":41458},{"$f":"DN82/DK82","v":1.0344328559309346},{"$f":"SUMIF($A$3:$A$80,$B82,DP$3:DP$80)","v":30338},{"$f":"DP82/DK82","v":0.75697390089325811},{"$f":"SUMIF($A$3:$A$80,$B82,DR$3:DR$80)","v":49239},{"$f":"SUMIF($A$3:$A$80,$B82,DS$3:DS$80)","v":63721},{"$f":"DS82/DR82","v":1.2941164524056135},{"$f":"SUMIF($A$3:$A$80,$B82,DU$3:DU$80)","v":54771},{"$f":"DU82/DR82","v":1.1123499664899774},{"$f":"SUMIF($A$3:$A$80,$B82,DW$3:DW$80)","v":38377},{"$f":"DW82/DR82","v":0.77940250614350415},null,"Regional Metropolitana",2281916,1862069,0.81601119410179868,1146564,0.50245670743357773,542667,0.23781199658532567]
[null,"Regional Norte",{"$f":"SUMIF($A$3:$A$80,$B83,C$3:C$80)","v":17307},633,{"$f":"D83/C83","v":3.6574796325186343E-2},0,0,0,{"$f":"H83/C83","v":0},11465,812,{"$f":"K83/J83","v":7.0824247710423033E-2},5,4.3610989969472308E-4,0,{"$f":"O83/J83","v":0},38795,17129,{"$f":"R83/Q83","v":0.44152596984147441},{"$f":"SUMIF($A$3:$A$80,$B83,T$3:T$80)","v":4305},0.11096790823559737,28,{"$f":"V83/Q83","v":7.2174249258925122E-4},{"$f":"SUMIF($A$3:$A$80,$B83,X$3:X$80)","v":34282},23951,{"$f":"Y83/X83","v":0.69864652003967098},9302,0.27133772825389418,114,{"$f":"AC83/X83","v":3.3253602473601305E-3},{"$f":"SUMIF($A$3:$A$80,$B83,AE$3:AE$80)","v":11775},9160,{"$f":"AF83/AE83","v":0.77791932059447988},3209,0.27252653927813164,257,{"$f":"AJ83/AE83","v":2.1825902335456476E-2},{"$f":"SUMIF($A$3:$A$80,$B83,AL$3:AL$80)","v":29086},23836,{"$f":"AM83/AL83","v":0.81950079075844051},9912,0.34078250704806434,2354,{"$f":"AQ83/AL83","v":8.0932407343739257E-2},{"$f":"SUMIF($A$3:$A$80,$B83,AS$3:AS$80)","v":28983},25103,{"$f":"AT83/AS83","v":0.86612842010833935},11673,0.40275333816375114,3081,{"$f":"AX83/AS83","v":0.10630369526964083},{"$f":"SUMIF($A$3:$A$80,$B83,AZ$3:AZ$80)","v":28695},24185,{"$f":"BA83/AZ83","v":0.84282976128245335},12189,0.42477783585990592,3835,{"$f":"BE83/AZ83","v":0.13364697682523088},{"$f":"SUMIF($A$3:$A$80,$B83,BG$3:BG$80)","v":31444},25880,{"$f":"BH83/BG83","v":0.82305050248060041},13905,0.44221473095026076,4829,{"$f":"BL83/BG83","v":0.15357460882839333},{"$f":"SUMIF($A$3:$A$80,$B83,BN$3:BN$80)","v":31855},27361,{"$f":"BO83/BN83","v":0.85892324595824832},16152,0.50704755925286449,6160,{"$f":"BS83/BN83","v":0.19337623606969079},{"$f":"SUMIF($A$3:$A$80,$B83,BU$3:BU$80)","v":27954},25571,{"$f":"BV83/BU83","v":0.91475280818487514},16100,0.5759461973241754,6622,{"$f":"BZ83/BU83","v":0.23688917507333476},{"$f":"SUMIF($A$3:$A$80,$B83,CB$3:CB$80)","v":25808},23228,{"$f":"CC83/CB83","v":0.90003099814011156},15720,0.60911345319280841,7059,{"$f":"CG83/CB83","v":0.2735198388096714},{"$f":"SUMIF($A$3:$A$80,$B83,CI$3:CI$80)","v":23724},22301,{"$f":"CJ83/CI83","v":0.94001854661945705},16002,0.67450682852807287,7995,{"$f":"CN83/CI83","v":0.33700050581689428},{"$f":"SUMIF($A$3:$A$80,$B83,CP$3:CP$80)","v":20472},19692,{"$f":"CQ83/CP83","v":0.96189917936694025},15738,0.76875732708089095,9182,{"$f":"CU83/CP83","v":0.44851504493942945},{"$f":"SUMIF($A$3:$A$80,$B83,CW$3:CW$80)","v":16295},16855,{"$f":"CX83/CW83","v":1.0343663700521633},14600,0.89598036207425591,9644,{"$f":"DB83/CW83","v":0.59183798711261126},{"$f":"SUMIF($A$3:$A$80,$B83,DD$3:DD$80)","v":11297},12177,{"$f":"DE83/DD83","v":1.0778967867575462},10831,0.95875011064884486,7464,{"$f":"DI83/DD83","v":0.66070638222536959},{"$f":"SUMIF($A$3:$A$80,$B83,DK$3:DK$80)","v":7308},8202,{"$f":"DL83/DK83","v":1.1223316912972086},7333,1.0034209085933223,5014,{"$f":"DP83/DK83","v":0.68609742747673785},{"$f":"SUMIF($A$3:$A$80,$B83,DR$3:DR$80)","v":9254},11759,{"$f":"DS83/DR83","v":1.2706937540523018},10248,1.1074130105900151,6635,{"$f":"DW83/DR83","v":0.71698724875729414},null,"Regional Norte",405799,317835,0.7832325855904031,187224,0.46137127001298672,80273,0.19781468165273941]
[null,"Regional Central",21078,408,1.9356675206376316E-2,0,0,0,0,13490,571,4.2327650111193479E-2,6,4.4477390659747963E-4,0,0,46190,18243,0.39495561809915564,3030,6.5598614418705348E-2,20,4.3299415457891317E-4,39856,28958,0.7265656362906463,10918,0.27393617021276595,187,4.6918908069048578E-3,13805,11331,0.82078956899674027,3966,0.28728721477725461,393,2.8467946396233249E-2,36486,30400,0.83319629446911148,13230,0.36260483473112975,3240,8.8801184015786877E-2,37160,32587,0.87693756727664152,15551,0.41848762109795479,4255,0.1145048439181916,38246,32169,0.84110756680437171,16102,0.42101134759190506,4960,0.12968676462898082,40255,34291,0.85184449136753193,18760,0.46602906471245809,6381,0.1585144702521426,40954,35356,0.86331005518386483,20971,0.51206231381550027,8050,0.19656199638618937,33797,32059,0.9485753173358582,20411,0.60392934284108057,8494,0.2513240820191141,32113,30042,0.935508983900601,20561,0.64027029551894876,9590,0.29863295238688381,28983,28500,0.98333505848255875,20798,0.71759307180071075,10571,0.36473104923575889,25194,25305,1.0044058109073588,20365,0.80832737953480982,12302,0.48829086290386597,20238,21728,1.0736238758770629,19025,0.94006324735645819,13036,0.64413479592845146,13909,15611,1.122366812854986,14069,1.0115033431591056,9957,0.71586742397009129,9300,10673,1.1476344086021506,9693,1.042258064516129,7007,0.75344086021505374,11836,15253,1.2886955052382563,13337,1.1268164920581278,9153,0.77331868874619802,null,"Regional Central",502890,403485,0.80233251804569583,240793,0.47881842947761938,107596,0.2139553381455189]
[null,"Regional Sul",25461,1035,4.065040650406504E-2,3,1.1782726522917403E-4,0,0,17250,1278,7.4086956521739133E-2,11,6.3768115942028987E-4,0,0,58902,26626,0.4520389800006791,6923,0.11753420936470749,28,4.753658619401718E-4,50412,37437,0.74262080457034041,16172,0.32079663572165357,210,4.1656748393239709E-3,17396,14349,0.82484479190618532,5647,0.32461485398942286,496,2.8512301678546792E-2,44980,38117,0.8474210760337928,17542,0.3899955535793686,4434,9.8577145397954646E-2,45667,39797,0.8714607922569908,19481,0.42658812709396282,5494,0.12030569119933431,48156,40696,0.84508680122933799,21732,0.45128332918016445,7367,0.15298197524711354,51068,43308,0.848045742930994,24166,0.47321218767134016,8882,0.1739249627947051,52131,44811,0.85958450825804222,26756,0.51324547773877349,10726,0.20575089677926761,43875,41406,0.9437264957264957,26400,0.60170940170940168,11600,0.26438746438746441,42415,38141,0.89923376164092894,25994,0.61284922786749974,12355,0.29128845927148417,41052,39229,0.95559290655753681,28443,0.69285296696872256,14777,0.35995810191951672,36837,36016,0.97771262589244512,28933,0.78543312430436785,17906,0.48608735781958357,30238,31440,1.039751306303327,27478,0.90872412196573848,19171,0.6340035716647926,21210,23419,1.104148986327204,20961,0.98826025459688827,15127,0.71320132013201321,13384,15593,1.1650478182904962,14044,1.0493126120741183,10303,0.76979976090854751,17561,23269,1.3250384374466146,20397,1.1614942201469165,14323,0.81561414498035423,null,"Regional Sul",657995,535967,0.814545703234827,331083,0.50316947697170955,153199,0.23282699716563196]
[]
[]
[]
[]
[null,null,{"$f":"'Monovalente - resid'!E2","v":"COBERTURA VACINAL ESQUEMA PRIMÁRIO"},{"$f":"'Monovalente - resid'!G2","v":"COBERTURA VACINAL 1° REFORÇO MONOVALENTE\n(4 doses)"},{"$f":"'Monovalente - resid'!I2","v":"COBERTURA VACINAL 2º REFORÇO MONOVALENTE\n(5 doses)"},{"$f":"'Monovalente - resid'!L2","v":"COBERTURA VACINAL ESQUEMA PRIMÁRIO"},{"$f":"'Monovalente - resid'!N2","v":"COBERTURA VACINAL 1° REFORÇO MONOVALENTE\n(4 doses)"},{"$f":"'Monovalente - resid'!P2","v":"COBERTURA VACINAL 2º REFORÇO MONOVALENTE\n(5 doses)"},{"$f":"'Monovalente - resid'!S2","v":"COBERTURA VACINAL ESQUEMA PRIMÁRIO"},{"$f":"'Monovalente - resid'!U2","v":"COBERTURA VACINAL 1° REFORÇO MONOVALENTE\n(3 doses)"},{"$f":"'Monovalente - resid'!W2","v":"COBERTURA VACINAL 2º REFORÇO MONOVALENTE\n(4 doses)"},{"$f":"'Monovalente - resid'!Z2","v":"COBERTURA VACINAL ESQUEMA PRIMÁRIO"},{"$f":"'Monovalente - resid'!AB2","v":"COBERTURA VACINAL 1° REFORÇO MONOVALENTE\n(3 doses)"},{"$f":"'Monovalente - resid'!AD2","v":"COBERTURA VACINAL 2º REFORÇO MONOVALENTE\n(4 doses)"},{"$f":"'Monovalente - resid'!AG2","v":"COBERTURA VACINAL ESQUEMA PRIMÁRIO"},{"$f":"'Monovalente - resid'!AI2","v":"COBERTURA VACINAL 1° REFORÇO MONOVALENTE\n(3 doses)"},{"$f":"'Monovalente - resid'!AK2","v":"COBERTURA VACINAL 2º REFORÇO MONOVALENTE\n(4 doses)"},{"$f":"'Monovalente - resid'!AN2","v":"COBERTURA VACINAL ESQUEMA PRIMÁRIO"},{"$f":"'Monovalente - resid'!AP2","v":"COBERTURA VACINAL 1° REFORÇO MONOVALENTE\n(3 doses)"},{"$f":"'Monovalente - resid'!AR2","v":"COBERTURA VACINAL 2º REFORÇO MONOVALENTE\n(4 doses)"},{"$f":"'Monovalente - resid'!AU2","v":"COBERTURA VACINAL ESQUEMA PRIMÁRIO"},{"$f":"'Monovalente - resid'!AW2","v":"COBERTURA VACINAL 1° REFORÇO MONOVALENTE\n(3 doses)"},{"$f":"'Monovalente - resid'!AY2","v":"COBERTURA VACINAL 2º REFORÇO MONOVALENTE\n(4 doses)"},{"$f":"'Monovalente - resid'!BB2","v":"COBERTURA VACINAL ESQUEMA PRIMÁRIO"},{"$f":"'Monovalente - resid'!BD2","v":"COBERTURA VACINAL 1° REFORÇO MONOVALENTE\n(3 doses)"},{"$f":"'Monovalente - resid'!BF2","v":"COBERTURA VACINAL 2º REFORÇO MONOVALENTE\n(4 doses)"},{"$f":"'Monovalente - resid'!BI2","v":"COBERTURA VACINAL ESQUEMA PRIMÁRIO"},{"$f":"'Monovalente - resid'!BK2","v":"COBERTURA VACINAL 1° REFORÇO MONOVALENTE\n(3 doses)"},{"$f":"'Monovalente - resid'!BM2","v":"COBERTURA VACINAL 2º REFORÇO MONOVALENTE\n(4 doses)"},{"$f":"'Monovalente - resid'!BP2","v":"COBERTURA VACINAL ESQUEMA PRIMÁRIO"},{"$f":"'Monovalente - resid'!BR2","v":"COBERTURA VACINAL 1° REFORÇO MONOVALENTE\n(3 doses)"},{"$f":"'Monovalente - resid'!BT2","v":"COBERTURA VACINAL 2º REFORÇO MONOVALENTE\n(4 doses)"},{"$f":"'Monovalente - resid'!BW2","v":"COBERTURA VACINAL ESQUEMA PRIMÁRIO"},{"$f":"'Monovalente - resid'!BY2","v":"COBERTURA VACINAL 1° REFORÇO MONOVALENTE\n(3 doses)"},{"$f":"'Monovalente - resid'!CA2","v":"COBERTURA VACINAL 2º REFORÇO MONOVALENTE\n(4 doses)"},{"$f":"'Monovalente - resid'!CD2","v":"COBERTURA VACINAL ESQUEMA PRIMÁRIO"},{"$f":"'Monovalente - resid'!CF2","v":"COBERTURA VACINAL 1° REFORÇO MONOVALENTE\n(3 doses)"},{"$f":"'Monovalente - resid'!CH2","v":"COBERTURA VACINAL 2º REFORÇO MONOVALENTE\n(4 doses)"},{"$f":"'Monovalente - resid'!CK2","v":"COBERTURA VACINAL ESQUEMA PRIMÁRIO"},{"$f":"'Monovalente - resid'!CM2","v":"COBERTURA VACINAL 1° REFORÇO MONOVALENTE\n(3 doses)"},{"$f":"'Monovalente - resid'!CO2","v":"COBERTURA VACINAL 2º REFORÇO MONOVALENTE\n(4 doses)"},{"$f":"'Monovalente - resid'!CR2","v":"COBERTURA VACINAL ESQUEMA PRIMÁRIO"},{"$f":"'Monovalente - resid'!CT2","v":"COBERTURA VACINAL 1° REFORÇO MONOVALENTE\n(3 doses)"},{"$f":"'Monovalente - resid'!CV2","v":"COBERTURA VACINAL 2º REFORÇO MONOVALENTE\n(4 doses)"},{"$f":"'Monovalente - resid'!CY2","v":"COBERTURA VACINAL ESQUEMA PRIMÁRIO"},{"$f":"'Monovalente - resid'!DA2","v":"COBERTURA VACINAL 1° REFORÇO MONOVALENTE\n(3 doses)"},{"$f":"'Monovalente - resid'!DC2","v":"COBERTURA VACINAL 2º REFORÇO MONOVALENTE\n(4 doses)"},{"$f":"'Monovalente - resid'!DF2","v":"COBERTURA VACINAL ESQUEMA PRIMÁRIO"},{"$f":"'Monovalente - resid'!DH2","v":"COBERTURA VACINAL 1° REFORÇO MONOVALENTE\n(3 doses)"},{"$f":"'Monovalente - resid'!DJ2","v":"COBERTURA VACINAL 2º REFORÇO MONOVALENTE\n(4 doses)"},{"$f":"'Monovalente - resid'!DM2","v":"COBERTURA VACINAL ESQUEMA PRIMÁRIO"},{"$f":"'Monovalente - resid'!DO2","v":"COBERTURA VACINAL 1° REFORÇO MONOVALENTE\n(3 doses)"},{"$f":"'Monovalente - resid'!DQ2","v":"COBERTURA VACINAL 2º REFORÇO MONOVALENTE\n(4 doses)"},{"$f":"'Monovalente - resid'!DT2","v":"COBERTURA VACINAL ESQUEMA PRIMÁRIO"},{"$f":"'Monovalente - resid'!DV2","v":"COBERTURA VACINAL 1° REFORÇO MONOVALENTE\n(3 doses)"},{"$f":"'Monovalente - resid'!DX2","v":"COBERTURA VACINAL 2º REFORÇO MONOVALENTE\n(4 doses)"}]
[null,null,"6 MESES A 2 ANOS","6 MESES A 2 ANOS","6 MESES A 2 ANOS","3 A 4 ANOS","3 A 4 ANOS","3 A 4 ANOS","5 A 11 ANOS","5 A 11 ANOS","5 A 11 ANOS","12 A 17 ANOS","12 A 17 ANOS","12 A 17 ANOS","18 A 19 ANOS","18 A 19 ANOS","18 A 19 ANOS","20 A 24 ANOS","20 A 24 ANOS","20 A 24 ANOS","25 A 29 ANOS","25 A 29 ANOS","25 A 29 ANOS","30 A 34 ANOS","30 A 34 ANOS","30 A 34 ANOS","35 A 39 ANOS","35 A 39 ANOS","35 A 39 ANOS","40 A 44 ANOS","40 A 44 ANOS","40 A 44 ANOS","45 A 49 ANOS","45 A 49 ANOS","45 A 49 ANOS","50 A 54 ANOS","50 A 54 ANOS","50 A 54 ANOS","55 A 59 ANOS","55 A 59 ANOS","55 A 59 ANOS","60 A 64 ANOS","60 A 64 ANOS","60 A 64 ANOS","65 A 69 ANOS","65 A 69 ANOS","65 A 69 ANOS","70 A 74 ANOS","70 A 74 ANOS","70 A 74 ANOS","75 A 79 ANOS","75 A 79 ANOS","75 A 79 ANOS","80 ANOS OU MAIS","80 ANOS OU MAIS","80 ANOS OU MAIS"]
[null,{"$f":"'Monovalente - resid'!B81","v":"TOTAL ESPÍRITO SANTO"},{"$f":"'Monovalente - resid'!E81","v":3.8004316893923092E-2},{"$f":"'Monovalente - resid'!G81","v":7.8251853590781927E-5},{"$f":"'Monovalente - resid'!I81","v":0},{"$f":"'Monovalente - resid'!L81","v":6.9851716910540443E-2},{"$f":"'Monovalente - resid'!N81","v":4.7991224461812695E-4},{"$f":"'Monovalente - resid'!P81","v":9.7941274411862641E-6},{"$f":"'Monovalente - resid'!S81","v":0.44057625091066804},{"$f":"'Monovalente - resid'!U81","v":0.11358617542089165},{"$f":"'Monovalente - resid'!W81","v":4.7340565762282326E-4},{"$f":"'Monovalente - resid'!Z81","v":0.72600017281603735},{"$f":"'Monovalente - resid'!AB81","v":0.30160718914715284},{"$f":"'Monovalente - resid'!AD81","v":2.9810766439125553E-3},{"$f":"'Monovalente - resid'!AG81","v":0.80968838033282031},{"$f":"'Monovalente - resid'!AI81","v":0.30600489840172701},{"$f":"'Monovalente - resid'!AK81","v":2.8112566433363344E-2},{"$f":"'Monovalente - resid'!AN81","v":0.83141146167306079},{"$f":"'Monovalente - resid'!AP81","v":0.37938579807486789},{"$f":"'Monovalente - resid'!AR81","v":0.101850141106317},{"$f":"'Monovalente - resid'!AU81","v":0.88698894869445721},{"$f":"'Monovalente - resid'!AW81","v":0.44375930485570314},{"$f":"'Monovalente - resid'!AY81","v":0.1365272846999542},{"$f":"'Monovalente - resid'!BB81","v":0.85036871891613786},{"$f":"'Monovalente - resid'!BD81","v":0.45831932773109246},{"$f":"'Monovalente - resid'!BF81","v":0.16212999485508489},{"$f":"'Monovalente - resid'!BI81","v":0.85881295823654802},{"$f":"'Monovalente - resid'!BK81","v":0.48977341885489056},{"$f":"'Monovalente - resid'!BM81","v":0.18800085394103347},{"$f":"'Monovalente - resid'!BP81","v":0.8829249578307905},{"$f":"'Monovalente - resid'!BR81","v":0.53422047204149703},{"$f":"'Monovalente - resid'!BT81","v":0.22358241702494641},{"$f":"'Monovalente - resid'!BW81","v":0.95488877392653904},{"$f":"'Monovalente - resid'!BY81","v":0.61460021842846468},{"$f":"'Monovalente - resid'!CA81","v":0.27809775631813916},{"$f":"'Monovalente - resid'!CD81","v":0.92144840590354138},{"$f":"'Monovalente - resid'!CF81","v":0.63141651159624201},{"$f":"'Monovalente - resid'!CH81","v":0.31200719581784347},{"$f":"'Monovalente - resid'!CK81","v":0.9637258079554587},{"$f":"'Monovalente - resid'!CM81","v":0.7026803830767796},{"$f":"'Monovalente - resid'!CO81","v":0.37877893166510529},{"$f":"'Monovalente - resid'!CR81","v":0.98515081206496524},{"$f":"'Monovalente - resid'!CT81","v":0.78881820223037202},{"$f":"'Monovalente - resid'!CV81","v":0.4939949604570516},{"$f":"'Monovalente - resid'!CY81","v":1.051703463792123},{"$f":"'Monovalente - resid'!DA81","v":0.91158182312656066},{"$f":"'Monovalente - resid'!DC81","v":0.6380881153113952},{"$f":"'Monovalente - resid'!DF81","v":1.1109722659234953},{"$f":"'Monovalente - resid'!DH81","v":0.98973344720636491},{"$f":"'Monovalente - resid'!DJ81","v":0.71761585831797547},{"$f":"'Monovalente - resid'!DM81","v":1.1542314828029114},{"$f":"'Monovalente - resid'!DO81","v":1.0350792065077778},{"$f":"'Monovalente - resid'!DQ81","v":0.75156272299129445},{"$f":"'Monovalente - resid'!DT81","v":1.2970986460348162},{"$f":"'Monovalente - resid'!DV81","v":1.1235976789168278},{"$f":"'Monovalente - resid'!DX81","v":0.7792467857549209}]
[null,{"$f":"'Monovalente - resid'!B82","v":"Regional Metropolitana"},{"$f":"'Monovalente - resid'!E82","v":4.1919445841014466E-2},{"$f":"'Monovalente - resid'!G82","v":1.0055304172951231E-4},{"$f":"'Monovalente - resid'!I82","v":0},{"$f":"'Monovalente - resid'!L82","v":7.4644806918543499E-2},{"$f":"'Monovalente - resid'!N82","v":4.5077382840542934E-4},{"$f":"'Monovalente - resid'!P82","v":1.6695326977978864E-5},{"$f":"'Monovalente - resid'!S82","v":0.44725578812309696},{"$f":"'Monovalente - resid'!U82","v":0.12357092246117314},{"$f":"'Monovalente - resid'!W82","v":4.3566517934085294E-4},{"$f":"'Monovalente - resid'!Z82","v":0.72643863270351805},{"$f":"'Monovalente - resid'!AB82","v":0.30825980447751039},{"$f":"'Monovalente - resid'!AD82","v":2.1888538571460973E-3},{"$f":"'Monovalente - resid'!AG82","v":0.80897833330570434},{"$f":"'Monovalente - resid'!AI82","v":0.31145665832269614},{"$f":"'Monovalente - resid'!AK82","v":2.9143112908840741E-2},{"$f":"'Monovalente - resid'!AN82","v":0.82875979719726134},{"$f":"'Monovalente - resid'!AP82","v":0.38698702570083576},{"$f":"'Monovalente - resid'!AR82","v":0.10929351405901584},{"$f":"'Monovalente - resid'!AU82","v":0.89705513859224173},{"$f":"'Monovalente - resid'!AW82","v":0.4611309317837412},{"$f":"'Monovalente - resid'!AY82","v":0.15105540110014676},{"$f":"'Monovalente - resid'!BB82","v":0.85504355267408316},{"$f":"'Monovalente - resid'!BD82","v":0.47378055346182835},{"$f":"'Monovalente - resid'!BF82","v":0.17629057029350592},{"$f":"'Monovalente - resid'!BI82","v":0.8690441299614805},{"$f":"'Monovalente - resid'!BK82","v":0.50702876402612629},{"$f":"'Monovalente - resid'!BM82","v":0.20364051247697204},{"$f":"'Monovalente - resid'!BP82","v":0.8975458898643256},{"$f":"'Monovalente - resid'!BR82","v":0.54927122274961149},{"$f":"'Monovalente - resid'!BT82","v":0.23932561851556264},{"$f":"'Monovalente - resid'!BW82","v":0.96663855429443313},{"$f":"'Monovalente - resid'!BY82","v":0.62751965183578085},{"$f":"'Monovalente - resid'!CA82","v":0.29521209819158045},{"$f":"'Monovalente - resid'!CD82","v":0.92879522907616152},{"$f":"'Monovalente - resid'!CF82","v":0.63901230047807811},{"$f":"'Monovalente - resid'!CH82","v":0.32821224133439414},{"$f":"'Monovalente - resid'!CK82","v":0.96622043051646767},{"$f":"'Monovalente - resid'!CM82","v":0.7075454476306382},{"$f":"'Monovalente - resid'!CO82","v":0.39529170152886589},{"$f":"'Monovalente - resid'!CR82","v":0.98739738109776787},{"$f":"'Monovalente - resid'!CT82","v":0.78919024357147705},{"$f":"'Monovalente - resid'!CV82","v":0.50558043286518761},{"$f":"'Monovalente - resid'!CY82","v":1.053811423219003},{"$f":"'Monovalente - resid'!DA82","v":0.90910047675679084},{"$f":"'Monovalente - resid'!DC82","v":0.64603176273719443},{"$f":"'Monovalente - resid'!DF82","v":1.116524475848131},{"$f":"'Monovalente - resid'!DH82","v":0.99094401332942506},{"$f":"'Monovalente - resid'!DJ82","v":0.72935404742436627},{"$f":"'Monovalente - resid'!DM82","v":1.1579669644193822},{"$f":"'Monovalente - resid'!DO82","v":1.0344328559309346},{"$f":"'Monovalente - resid'!DQ82","v":0.75697390089325811},{"$f":"'Monovalente - resid'!DT82","v":1.2941164524056135},{"$f":"'Monovalente - resid'!DV82","v":1.1123499664899774},{"$f":"'Monovalente - resid'!DX82","v":0.77940250614350415}]
[null,{"$f":"'Monovalente - resid'!B83","v":"Regional Norte"},{"$f":"'Monovalente - resid'!E83","v":3.6574796325186343E-2},{"$f":"'Monovalente - resid'!G83","v":0},{"$f":"'Monovalente - resid'!I83","v":0},{"$f":"'Monovalente - resid'!L83","v":7.0824247710423033E-2},{"$f":"'Monovalente - resid'!N83","v":4.3610989969472308E-4},{"$f":"'Monovalente - resid'!P83","v":0},{"$f":"'Monovalente - resid'!S83","v":0.44152596984147441},{"$f":"'Monovalente - resid'!U83","v":0.11096790823559737},{"$f":"'Monovalente - resid'!W83","v":7.2174249258925122E-4},{"$f":"'Monovalente - resid'!Z83","v":0.69864652003967098},{"$f":"'Monovalente - resid'!AB83","v":0.27133772825389418},{"$f":"'Monovalente - resid'!AD83","v":3.3253602473601305E-3},{"$f":"'Monovalente - resid'!AG83","v":0.77791932059447988},{"$f":"'Monovalente - resid'!AI83","v":0.27252653927813164},{"$f":"'Monovalente - resid'!AK83","v":2.1825902335456476E-2},{"$f":"'Monovalente - resid'!AN83","v":0.81950079075844051},{"$f":"'Monovalente - resid'!AP83","v":0.34078250704806434},{"$f":"'Monovalente - resid'!AR83","v":8.0932407343739257E-2},{"$f":"'Monovalente - resid'!AU83","v":0.86612842010833935},{"$f":"'Monovalente - resid'!AW83","v":0.40275333816375114},{"$f":"'Monovalente - resid'!AY83","v":0.10630369526964083},{"$f":"'Monovalente - resid'!BB83","v":0.84282976128245335},{"$f":"'Monovalente - resid'!BD83","v":0.42477783585990592},{"$f":"'Monovalente - resid'!BF83","v":0.13364697682523088},{"$f":"'Monovalente - resid'!BI83","v":0.82305050248060041},{"$f":"'Monovalente - resid'!BK83","v":0.44221473095026076},{"$f":"'Monovalente - resid'!BM83","v":0.15357460882839333},{"$f":"'Monovalente - resid'!BP83","v":0.85892324595824832},{"$f":"'Monovalente - resid'!BR83","v":0.50704755925286449},{"$f":"'Monovalente - resid'!BT83","v":0.19337623606969079},{"$f":"'Monovalente - resid'!BW83","v":0.91475280818487514},{"$f":"'Monovalente - resid'!BY83","v":0.5759461973241754},{"$f":"'Monovalente - resid'!CA83","v":0.23688917507333476},{"$f":"'Monovalente - resid'!CD83","v":0.90003099814011156},{"$f":"'Monovalente - resid'!CF83","v":0.60911345319280841},{"$f":"'Monovalente - resid'!CH83","v":0.2735198388096714},{"$f":"'Monovalente - resid'!CK83","v":0.94001854661945705},{"$f":"'Monovalente - resid'!CM83","v":0.67450682852807287},{"$f":"'Monovalente - resid'!CO83","v":0.33700050581689428},{"$f":"'Monovalente - resid'!CR83","v":0.96189917936694025},{"$f":"'Monovalente - resid'!CT83","v":0.76875732708089095},{"$f":"'Monovalente - resid'!CV83","v":0.44851504493942945},{"$f":"'Monovalente - resid'!CY83","v":1.0343663700521633},{"$f":"'Monovalente - resid'!DA83","v":0.89598036207425591},{"$f":"'Monovalente - resid'!DC83","v":0.59183798711261126},{"$f":"'Monovalente - resid'!DF83","v":1.0778967867575462},{"$f":"'Monovalente - resid'!DH83","v":0.95875011064884486},{"$f":"'Monovalente - resid'!DJ83","v":0.66070638222536959},{"$f":"'Monovalente - resid'!DM83","v":1.1223316912972086},{"$f":"'Monovalente - resid'!DO83","v":1.0034209085933223},{"$f":"'Monovalente - resid'!DQ83","v":0.68609742747673785},{"$f":"'Monovalente - resid'!DT83","v":1.2706937540523018},{"$f":"'Monovalente - resid'!DV83","v":1.1074130105900151},{"$f":"'Monovalente - resid'!DX83","v":0.71698724875729414}]
[null,{"$f":"'Monovalente - resid'!B84","v":"Regional Central"},{"$f":"'Monovalente - resid'!E84","v":1.9356675206376316E-2},{"$f":"'Monovalente - resid'!G84","v":0},{"$f":"'Monovalente - resid'!I84","v":0},{"$f":"'Monovalente - resid'!L84","v":4.2327650111193479E-2},{"$f":"'Monovalente - resid'!N84","v":4.4477390659747963E-4},{"$f":"'Monovalente - resid'!P84","v":0},{"$f":"'Monovalente - resid'!S84","v":0.39495561809915564},{"$f":"'Monovalente - resid'!U84","v":6.5598614418705348E-2},{"$f":"'Monovalente - resid'!W84","v":4.3299415457891317E-4},{"$f":"'Monovalente - resid'!Z84","v":0.7265656362906463},{"$f":"'Monovalente - resid'!AB84","v":0.27393617021276595},{"$f":"'Monovalente - resid'!AD84","v":4.6918908069048578E-3},{"$f":"'Monovalente - resid'!AG84","v":0.82078956899674027},{"$f":"'Monovalente - resid'!AI84","v":0.28728721477725461},{"$f":"'Monovalente - resid'!AK84","v":2.8467946396233249E-2},{"$f":"'Monovalente - resid'!AN84","v":0.83319629446911148},{"$f":"'Monovalente - resid'!AP84","v":0.36260483473112975},{"$f":"'Monovalente - resid'!AR84","v":8.8801184015786877E-2},{"$f":"'Monovalente - resid'!AU84","v":0.87693756727664152},{"$f":"'Monovalente - resid'!AW84","v":0.41848762109795479},{"$f":"'Monovalente - resid'!AY84","v":0.1145048439181916},{"$f":"'Monovalente - resid'!BB84","v":0.84110756680437171},{"$f":"'Monovalente - resid'!BD84","v":0.42101134759190506},{"$f":"'Monovalente - resid'!BF84","v":0.12968676462898082},{"$f":"'Monovalente - resid'!BI84","v":0.85184449136753193},{"$f":"'Monovalente - resid'!BK84","v":0.46602906471245809},{"$f":"'Monovalente - resid'!BM84","v":0.1585144702521426},{"$f":"'Monovalente - resid'!BP84","v":0.86331005518386483},{"$f":"'Monovalente - resid'!BR84","v":0.51206231381550027},{"$f":"'Monovalente - resid'!BT84","v":0.19656199638618937},{"$f":"'Monovalente - resid'!BW84","v":0.9485753173358582},{"$f":"'Monovalente - resid'!BY84","v":0.60392934284108057},{"$f":"'Monovalente - resid'!CA84","v":0.2513240820191141},{"$f":"'Monovalente - resid'!CD84","v":0.935508983900601},{"$f":"'Monovalente - resid'!CF84","v":0.64027029551894876},{"$f":"'Monovalente - resid'!CH84","v":0.29863295238688381},{"$f":"'Monovalente - resid'!CK84","v":0.98333505848255875},{"$f":"'Monovalente - resid'!CM84","v":0.71759307180071075},{"$f":"'Monovalente - resid'!CO84","v":0.36473104923575889},{"$f":"'Monovalente - resid'!CR84","v":1.0044058109073588},{"$f":"'Monovalente - resid'!CT84","v":0.80832737953480982},{"$f":"'Monovalente - resid'!CV84","v":0.48829086290386597},{"$f":"'Monovalente - resid'!CY84","v":1.0736238758770629},{"$f":"'Monovalente - resid'!DA84","v":0.94006324735645819},{"$f":"'Monovalente - resid'!DC84","v":0.64413479592845146},{"$f":"'Monovalente - resid'!DF84","v":1.122366812854986},{"$f":"'Monovalente - resid'!DH84","v":1.0115033431591056},{"$f":"'Monovalente - resid'!DJ84","v":0.71586742397009129},{"$f":"'Monovalente - resid'!DM84","v":1.1476344086021506},{"$f":"'Monovalente - resid'!DO84","v":1.042258064516129},{"$f":"'Monovalente - resid'!DQ84","v":0.75344086021505374},{"$f":"'Monovalente - resid'!DT84","v":1.2886955052382563},{"$f":"'Monovalente - resid'!DV84","v":1.1268164920581278},{"$f":"'Monovalente - resid'!DX84","v":0.77331868874619802}]
[null,{"$f":"'Monovalente - resid'!B85","v":"Regional Sul"},{"$f":"'Monovalente - resid'!E85","v":4.065040650406504E-2},{"$f":"'Monovalente - resid'!G85","v":1.1782726522917403E-4},{"$f":"'Monovalente - resid'!I85","v":0},{"$f":"'Monovalente - resid'!L85","v":7.4086956521739133E-2},{"$f":"'Monovalente - resid'!N85","v":6.3768115942028987E-4},{"$f":"'Monovalente - resid'!P85","v":0},{"$f":"'Monovalente - resid'!S85","v":0.4520389800006791},{"$f":"'Monovalente - resid'!U85","v":0.11753420936470749},{"$f":"'Monovalente - resid'!W85","v":4.753658619401718E-4},{"$f":"'Monovalente - resid'!Z85","v":0.74262080457034041},{"$f":"'Monovalente - resid'!AB85","v":0.32079663572165357},{"$f":"'Monovalente - resid'!AD85","v":4.1656748393239709E-3},{"$f":"'Monovalente - resid'!AG85","v":0.82484479190618532},{"$f":"'Monovalente - resid'!AI85","v":0.32461485398942286},{"$f":"'Monovalente - resid'!AK85","v":2.8512301678546792E-2},{"$f":"'Monovalente - resid'!AN85","v":0.8474210760337928},{"$f":"'Monovalente - resid'!AP85","v":0.3899955535793686},{"$f":"'Monovalente - resid'!AR85","v":9.8577145397954646E-2},{"$f":"'Monovalente - resid'!AU85","v":0.8714607922569908},{"$f":"'Monovalente - resid'!AW85","v":0.42658812709396282},{"$f":"'Monovalente - resid'!AY85","v":0.12030569119933431},{"$f":"'Monovalente - resid'!BB85","v":0.84508680122933799},{"$f":"'Monovalente - resid'!BD85","v":0.45128332918016445},{"$f":"'Monovalente - resid'!BF85","v":0.15298197524711354},{"$f":"'Monovalente - resid'!BI85","v":0.848045742930994},{"$f":"'Monovalente - resid'!BK85","v":0.47321218767134016},{"$f":"'Monovalente - resid'!BM85","v":0.1739249627947051},{"$f":"'Monovalente - resid'!BP85","v":0.85958450825804222},{"$f":"'Monovalente - resid'!BR85","v":0.51324547773877349},{"$f":"'Monovalente - resid'!BT85","v":0.20575089677926761},{"$f":"'Monovalente - resid'!BW85","v":0.9437264957264957},{"$f":"'Monovalente - resid'!BY85","v":0.60170940170940168},{"$f":"'Monovalente - resid'!CA85","v":0.26438746438746441},{"$f":"'Monovalente - resid'!CD85","v":0.89923376164092894},{"$f":"'Monovalente - resid'!CF85","v":0.61284922786749974},{"$f":"'Monovalente - resid'!CH85","v":0.29128845927148417},{"$f":"'Monovalente - resid'!CK85","v":0.95559290655753681},{"$f":"'Monovalente - resid'!CM85","v":0.69285296696872256},{"$f":"'Monovalente - resid'!CO85","v":0.35995810191951672},{"$f":"'Monovalente - resid'!CR85","v":0.97771262589244512},{"$f":"'Monovalente - resid'!CT85","v":0.78543312430436785},{"$f":"'Monovalente - resid'!CV85","v":0.48608735781958357},{"$f":"'Monovalente - resid'!CY85","v":1.039751306303327},{"$f":"'Monovalente - resid'!DA85","v":0.90872412196573848},{"$f":"'Monovalente - resid'!DC85","v":0.6340035716647926},{"$f":"'Monovalente - resid'!DF85","v":1.104148986327204},{"$f":"'Monovalente - resid'!DH85","v":0.98826025459688827},{"$f":"'Monovalente - resid'!DJ85","v":0.71320132013201321},{"$f":"'Monovalente - resid'!DM85","v":1.1650478182904962},{"$f":"'Monovalente - resid'!DO85","v":1.0493126120741183},{"$f":"'Monovalente - resid'!DQ85","v":0.76979976090854751},{"$f":"'Monovalente - resid'!DT85","v":1.3250384374466146},{"$f":"'Monovalente - resid'!DV85","v":1.1614942201469165},{"$f":"'Monovalente - resid'!DX85","v":0.81561414498035423}]
[null,"META",0.9,0.9,0.9,0.9,0.9,0.9,0.9,0.9,0.9,0.9,0.9,0.9,0.9,0.9,0.9,0.9,0.9,0.9,0.9,0.9,0.9,0.9,0.9,0.9,0.9,0.9,0.9,0.9,0.9,0.9,0.9,0.9,0.9,0.9,0.9,0.9,0.9,0.9,0.9,0.9,0.9,0.9,0.9,0.9,0.9,0.9,0.9,0.9,0.9,0.9,0.9,0.9,0.9,0.9]

{"sheet":"Monovalente - proc","index":7,"n_rows":97,"n_cols":137,"rows_kept":97,"cut":false,"hidden":false,"merged":[[0,130,0,136],[0,93,0,99],[0,100,0,106],[0,107,0,113],[0,114,0,120],[0,121,0,127],[0,58,0,64],[0,65,0,71],[0,79,0,85],[0,86,0,92],[0,23,0,29],[0,30,0,36],[0,37,0,43],[0,44,0,50],[0,51,0,57],[0,0,1,0],[0,1,1,1],[0,2,0,8],[0,9,0,15],[0,16,0,22]]}
["REGIONAL","MUNICÍPIO","6 MESES A 2 ANOS",null,null,null,null,null,null,"3 A 4 ANOS",null,null,null,null,null,null,"5 A 11 ANOS",null,null,null,null,null,null,"12 A 17 ANOS",null,null,null,null,null,null,"18 A 19 ANOS",null,null,null,null,null,null,"20 A 24 ANOS",null,null,null,null,null,null,"25 A 29 ANOS",null,null,null,null,null,null,"30 A 34 ANOS",null,null,null,null,null,null,"35 A 39 ANOS",null,null,null,null,null,null,"40 A 44 ANOS",null,null,null,null,null,null,"45 A 49 ANOS",null,null,null,null,null,null,"50 A 54 ANOS",null,null,null,null,null,null,"55 A 59 ANOS",null,null,null,null,null,null,"60 A 64 ANOS",null,null,null,null,null,null,"65 A 69 ANOS",null,null,null,null,null,null,"70 A 74 ANOS",null,null,null,null,null,null,"75 A 79 ANOS",null,null,null,null,null,null,"80 ANOS OU MAIS",null,null,null,null,null,null,null,"MUNICÍPIO","GERAL"]
[null,null,"ESTIMATIVA POPULACIONAL","ESQUEMA PRIMÁRIO\n(3 doses)","COBERTURA VACINAL ESQUEMA PRIMÁRIO","1º REFORÇO MONOVALENTE","COBERTURA VACINAL 1° REFORÇO MONOVALENTE\n(4 doses)","2º REFORÇO MONOVALENTE","COBERTURA VACINAL 2º REFORÇO MONOVALENTE\n(5 doses)","ESTIMATIVA POPULACIONAL","ESQUEMA PRIMÁRIO\n(3 doses)","COBERTURA VACINAL ESQUEMA PRIMÁRIO","1º REFORÇO MONOVALENTE","COBERTURA VACINAL 1° REFORÇO MONOVALENTE\n(4 doses)","2º REFORÇO MONOVALENTE","COBERTURA VACINAL 2º REFORÇO MONOVALENTE\n(5 doses)","ESTIMATIVA POPULACIONAL","ESQUEMA PRIMÁRIO\n(2 doses)","COBERTURA VACINAL ESQUEMA PRIMÁRIO","1º REFORÇO MONOVALENTE","COBERTURA VACINAL 1° REFORÇO MONOVALENTE\n(3 doses)","2º REFORÇO MONOVALENTE","COBERTURA VACINAL 2º REFORÇO MONOVALENTE\n(4 doses)","ESTIMATIVA POPULACIONAL","ESQUEMA PRIMÁRIO\n(2 doses)","COBERTURA VACINAL ESQUEMA PRIMÁRIO","1º REFORÇO MONOVALENTE","COBERTURA VACINAL 1° REFORÇO MONOVALENTE\n(3 doses)","2º REFORÇO MONOVALENTE","COBERTURA VACINAL 2º REFORÇO MONOVALENTE\n(4 doses)","ESTIMATIVA POPULACIONAL","ESQUEMA PRIMÁRIO\n(2 doses)","COBERTURA VACINAL ESQUEMA PRIMÁRIO","1º REFORÇO MONOVALENTE","COBERTURA VACINAL 1° REFORÇO MONOVALENTE\n(3 doses)","2º REFORÇO MONOVALENTE","COBERTURA VACINAL 2º REFORÇO MONOVALENTE\n(4 doses)","ESTIMATIVA POPULACIONAL","ESQUEMA PRIMÁRIO\n(2 doses)","COBERTURA VACINAL ESQUEMA PRIMÁRIO","1º REFORÇO MONOVALENTE","COBERTURA VACINAL 1° REFORÇO MONOVALENTE\n(3 doses)","2º REFORÇO MONOVALENTE","COBERTURA VACINAL 2º REFORÇO MONOVALENTE\n(4 doses)","ESTIMATIVA POPULACIONAL","ESQUEMA PRIMÁRIO\n(2 doses)","COBERTURA VACINAL ESQUEMA PRIMÁRIO","1º REFORÇO MONOVALENTE","COBERTURA VACINAL 1° REFORÇO MONOVALENTE\n(3 doses)","2º REFORÇO MONOVALENTE","COBERTURA VACINAL 2º REFORÇO MONOVALENTE\n(4 doses)","ESTIMATIVA POPULACIONAL","ESQUEMA PRIMÁRIO\n(2 doses)","COBERTURA VACINAL ESQUEMA PRIMÁRIO","1º REFORÇO MONOVALENTE","COBERTURA VACINAL 1° REFORÇO MONOVALENTE\n(3 doses)","2º REFORÇO MONOVALENTE","COBERTURA VACINAL 2º REFORÇO MONOVALENTE\n(4 doses)","ESTIMATIVA POPULACIONAL","ESQUEMA PRIMÁRIO\n(2 doses)","COBERTURA VACINAL ESQUEMA PRIMÁRIO","1º REFORÇO MONOVALENTE","COBERTURA VACINAL 1° REFORÇO MONOVALENTE\n(3 doses)","2º REFORÇO MONOVALENTE","COBERTURA VACINAL 2º REFORÇO MONOVALENTE\n(4 doses)","ESTIMATIVA POPULACIONAL","ESQUEMA PRIMÁRIO\n(2 doses)","COBERTURA VACINAL ESQUEMA PRIMÁRIO","1º REFORÇO MONOVALENTE","COBERTURA VACINAL 1° REFORÇO MONOVALENTE\n(3 doses)","2º REFORÇO MONOVALENTE","COBERTURA VACINAL 2º REFORÇO MONOVALENTE\n(4 doses)","ESTIMATIVA POPULACIONAL","ESQUEMA PRIMÁRIO\n(2 doses)","COBERTURA VACINAL ESQUEMA PRIMÁRIO","1º REFORÇO MONOVALENTE","COBERTURA VACINAL 1° REFORÇO MONOVALENTE\n(3 doses)","2º REFORÇO MONOVALENTE","COBERTURA VACINAL 2º REFORÇO MONOVALENTE\n(4 doses)","ESTIMATIVA POPULACIONAL","ESQUEMA PRIMÁRIO\n(2 doses)","COBERTURA VACINAL ESQUEMA PRIMÁRIO","1º REFORÇO MONOVALENTE","COBERTURA VACINAL 1° REFORÇO MONOVALENTE\n(3 doses)","2º REFORÇO MONOVALENTE","COBERTURA VACINAL 2º REFORÇO MONOVALENTE\n(4 doses)","ESTIMATIVA POPULACIONAL","ESQUEMA PRIMÁRIO\n(2 doses)","COBERTURA VACINAL ESQUEMA PRIMÁRIO","1º REFORÇO MONOVALENTE","COBERTURA VACINAL 1° REFORÇO MONOVALENTE\n(3 doses)","2º REFORÇO MONOVALENTE","COBERTURA VACINAL 2º REFORÇO MONOVALENTE\n(4 doses)","ESTIMATIVA POPULACIONAL","ESQUEMA PRIMÁRIO\n(2 doses)","COBERTURA VACINAL ESQUEMA PRIMÁRIO","1º REFORÇO MONOVALENTE","COBERTURA VACINAL 1° REFORÇO MONOVALENTE\n(3 doses)","2º REFORÇO MONOVALENTE","COBERTURA VACINAL 2º REFORÇO MONOVALENTE\n(4 doses)","ESTIMATIVA POPULACIONAL","ESQUEMA PRIMÁRIO\n(2 doses)","COBERTURA VACINAL ESQUEMA PRIMÁRIO","1º REFORÇO MONOVALENTE","COBERTURA VACINAL 1° REFORÇO MONOVALENTE\n(3 doses)","2º REFORÇO MONOVALENTE","COBERTURA VACINAL 2º REFORÇO MONOVALENTE\n(4 doses)","ESTIMATIVA POPULACIONAL","ESQUEMA PRIMÁRIO\n(2 doses)","COBERTURA VACINAL ESQUEMA PRIMÁRIO","1º REFORÇO MONOVALENTE","COBERTURA VACINAL 1° REFORÇO MONOVALENTE\n(3 doses)","2º REFORÇO MONOVALENTE","COBERTURA VACINAL 2º REFORÇO MONOVALENTE\n(4 doses)","ESTIMATIVA POPULACIONAL","ESQUEMA PRIMÁRIO\n(2 doses)","COBERTURA VACINAL ESQUEMA PRIMÁRIO","1º REFORÇO MONOVALENTE","COBERTURA VACINAL 1° REFORÇO MONOVALENTE\n(3 doses)","2º REFORÇO MONOVALENTE","COBERTURA VACINAL 2º REFORÇO MONOVALENTE\n(4 doses)","ESTIMATIVA POPULACIONAL","ESQUEMA PRIMÁRIO\n(2 doses)","COBERTURA VACINAL ESQUEMA PRIMÁRIO","1º REFORÇO MONOVALENTE","COBERTURA VACINAL 1° REFORÇO MONOVALENTE\n(3 doses)","2º REFORÇO MONOVALENTE","COBERTURA VACINAL 2º REFORÇO MONOVALENTE\n(4 doses)",null,null,"ESTIMATIVA POPULACIONAL","ESQUEMA PRIMÁRIO\n(2 doses)","COBERTURA VACINAL ESQUEMA PRIMÁRIO","1º REFORÇO MONOVALENTE","COBERTURA VACINAL 1° REFORÇO MONOVALENTE\n(3 doses)","2º REFORÇO MONOVALENTE","COBERTURA VACINAL 2º REFORÇO MONOVALENTE\n(4 doses)"]
["Regional Metropolitana","Afonso Cláudio",1181,21,"1.78%",0,"0.00%",0,"0.00%",815,14,"1.72%",0,"0.00%",0,"0.00%",2641,1072,"40.59%",99,"3.75%",0,"0.00%",2476,1831,"73.95%",778,"31.42%",8,"0.32%",799,649,"81.23%",293,"36.67%",37,"4.63%",1946,1576,"80.99%",667,"34.28%",181,"9.30%",1960,1661,"84.74%",773,"39.44%",219,"11.17%",2107,1715,"81.40%",876,"41.58%",284,"13.48%",2257,1917,"84.94%",1066,"47.23%",399,"17.68%",2550,2214,"86.82%",1295,"50.78%",529,"20.75%",2210,2114,"95.66%",1306,"59.10%",582,"26.33%",1972,1922,"97.46%",1237,"62.73%",589,"29.87%",1928,1834,"95.12%",1335,"69.24%",682,"35.37%",1679,1679,"100.00%",1290,"76.83%",807,"48.06%",1450,1528,"105.38%",1343,"92.62%",938,"64.69%",1113,1223,"109.88%",1090,"97.93%",800,"71.88%",726,889,"122.45%",785,"108.13%",572,"78.79%",937,1240,"132.34%",1068,"113.98%",718,"76.63%",null,"Afonso Cláudio",{"$f":"SUM(C3,J3,Q3,X3,AE3,AL3,AS3,AZ3,BG3,BN3,BU3,CB3,CI3,CP3,CW3,DD3,DK3,DR3)","v":30747},{"$f":"SUM(D3,K3,R3,Y3,AF3,AM3,AT3,BA3,BH3,BO3,BV3,CC3,CJ3,CQ3,CX3,DE3,DL3,DS3)","v":25099},{"$f":"EB3/EA3","v":0.81630728201125313},{"$f":"SUM(F3,M3,T3,AA3,AH3,AO3,AV3,BC3,BJ3,BQ3,BX3,CE3,CL3,CS3,CZ3,DG3,DN3,DU3)","v":15301},{"$f":"ED3/EA3","v":0.49764204637850845},{"$f":"SUM(H3,O3,V3,AC3,AJ3,AQ3,AX3,BE3,BL3,BS3,BZ3,CG3,CN3,CU3,DB3,DI3,DP3,DW3)","v":7345},{"$f":"EF3/EA3","v":0.23888509448076234}]
["Regional Norte","Água Doce do Norte",463,22,"4.75%",0,"0.00%",0,"0.00%",305,36,"11.80%",0,"0.00%",0,"0.00%",1102,585,"53.09%",208,"18.87%",4,"0.36%",1021,789,"77.28%",316,"30.95%",4,"0.39%",315,302,"95.87%",95,"30.16%",6,"1.90%",785,659,"83.95%",289,"36.82%",47,"5.99%",750,671,"89.47%",327,"43.60%",63,"8.40%",713,576,"80.79%",300,"42.08%",96,"13.46%",836,728,"87.08%",392,"46.89%",126,"15.07%",913,793,"86.86%",461,"50.49%",169,"18.51%",883,819,"92.75%",509,"57.64%",173,"19.59%",833,791,"94.96%",538,"64.59%",194,"23.29%",774,745,"96.25%",502,"64.86%",212,"27.39%",696,666,"95.69%",497,"71.41%",260,"37.36%",601,629,"104.66%",540,"89.85%",329,"54.74%",397,471,"118.64%",390,"98.24%",241,"60.71%",281,308,"109.61%",265,"94.31%",151,"53.74%",382,489,"128.01%",405,"106.02%",205,"53.66%",null,"Água Doce do Norte",{"$f":"SUM(C4,J4,Q4,X4,AE4,AL4,AS4,AZ4,BG4,BN4,BU4,CB4,CI4,CP4,CW4,DD4,DK4,DR4)","v":12050},{"$f":"SUM(D4,K4,R4,Y4,AF4,AM4,AT4,BA4,BH4,BO4,BV4,CC4,CJ4,CQ4,CX4,DE4,DL4,DS4)","v":10079},{"$f":"EB4/EA4","v":0.83643153526970959},{"$f":"SUM(F4,M4,T4,AA4,AH4,AO4,AV4,BC4,BJ4,BQ4,BX4,CE4,CL4,CS4,CZ4,DG4,DN4,DU4)","v":6034},{"$f":"ED4/EA4","v":0.500746887966805},{"$f":"SUM(H4,O4,V4,AC4,AJ4,AQ4,AX4,BE4,BL4,BS4,BZ4,CG4,CN4,CU4,DB4,DI4,DP4,DW4)","v":2280},{"$f":"EF4/EA4","v":0.1892116182572614}]
["Regional Central","Águia Branca",420,22,"5.24%",0,"0.00%",0,"0.00%",264,32,"12.12%",1,"0.38%",0,"0.00%",834,610,"73.14%",168,"20.14%",1,"0.12%",787,752,"95.55%",454,"57.69%",5,"0.64%",271,240,"88.56%",131,"48.34%",12,"4.43%",631,588,"93.19%",370,"58.64%",121,"19.18%",653,626,"95.87%",429,"65.70%",160,"24.50%",682,639,"93.70%",452,"66.28%",218,"31.96%",702,711,"101.28%",501,"71.37%",247,"35.19%",713,712,"99.86%",501,"70.27%",252,"35.34%",683,699,"102.34%",571,"83.60%",320,"46.85%",742,749,"100.94%",634,"85.44%",396,"53.37%",608,648,"106.58%",560,"92.11%",355,"58.39%",572,588,"102.80%",537,"93.88%",393,"68.71%",432,518,"119.91%",489,"113.19%",385,"89.12%",331,364,"109.97%",348,"105.14%",295,"89.12%",206,272,"132.04%",254,"123.30%",200,"97.09%",234,328,"140.17%",316,"135.04%",269,"114.96%",null,"Águia Branca",9765,9098,0.93169482846902196,6716,0.68776241679467487,3629,0.37163338453661032]
["Regional Sul","Alegre",1070,41,"3.83%",0,"0.00%",0,"0.00%",717,77,"10.74%",0,"0.00%",0,"0.00%",2414,1483,"61.43%",306,"12.68%",2,"0.08%",2030,1831,"90.20%",1008,"49.66%",5,"0.25%",819,674,"82.30%",372,"45.42%",39,"4.76%",2206,2211,"100.23%",1362,"61.74%",410,"18.59%",2017,2094,"103.82%",1299,"64.40%",411,"20.38%",2063,1891,"91.66%",1172,"56.81%",445,"21.57%",2096,1993,"95.09%",1313,"62.64%",608,"29.01%",2244,2027,"90.33%",1517,"67.60%",733,"32.66%",1867,1924,"103.05%",1477,"79.11%",796,"42.64%",1917,1817,"94.78%",1416,"73.87%",761,"39.70%",1843,1847,"100.22%",1459,"79.16%",880,"47.75%",1719,1722,"100.17%",1480,"86.10%",1002,"58.29%",1457,1568,"107.62%",1439,"98.76%",1088,"74.67%",1093,1194,"109.24%",1087,"99.45%",833,"76.21%",694,832,"119.88%",741,"106.77%",600,"86.46%",986,1334,"135.29%",1168,"118.46%",899,"91.18%",null,"Alegre",29252,26560,0.90797210447148913,18616,0.63640092985095031,9512,0.32517434705319292]
["Regional Sul","Alfredo Chaves",458,7,"1.53%",0,"0.00%",0,"0.00%",314,20,"6.37%",1,"0.32%",0,"0.00%",1080,557,"51.57%",45,"4.17%",0,"0.00%",1022,872,"85.32%",365,"35.71%",2,"0.20%",298,320,"107.38%",138,"46.31%",5,"1.68%",806,727,"90.20%",373,"46.28%",78,"9.68%",857,805,"93.93%",428,"49.94%",122,"14.24%",898,817,"90.98%",476,"53.01%",133,"14.81%",1058,954,"90.17%",547,"51.70%",166,"15.69%",1111,1020,"91.81%",627,"56.44%",219,"19.71%",1046,1008,"96.37%",687,"65.68%",280,"26.77%",945,968,"102.43%",711,"75.24%",336,"35.56%",963,999,"103.74%",760,"78.92%",371,"38.53%",882,959,"108.73%",792,"89.80%",514,"58.28%",727,838,"115.27%",782,"107.57%",574,"78.95%",548,622,"113.50%",592,"108.03%",480,"87.59%",368,447,"121.47%",420,"114.13%",338,"91.85%",515,707,"137.28%",659,"127.96%",524,"101.75%",null,"Alfredo Chaves",13896,12647,0.91011801957397809,8403,0.60470639032815199,4142,0.2980713874496258]
["Regional Central","Alto Rio Novo",258,6,"2.33%",0,"0.00%",0,"0.00%",197,3,"1.52%",0,"0.00%",0,"0.00%",672,411,"61.16%",3,"0.45%",0,"0.00%",634,563,"88.80%",356,"56.15%",5,"0.79%",204,202,"99.02%",129,"63.24%",7,"3.43%",453,406,"89.62%",206,"45.47%",63,"13.91%",408,364,"89.22%",176,"43.14%",60,"14.71%",477,388,"81.34%",230,"48.22%",97,"20.34%",557,491,"88.15%",321,"57.63%",148,"26.57%",595,503,"84.54%",319,"53.61%",131,"22.02%",553,556,"100.54%",393,"71.07%",211,"38.16%",527,512,"97.15%",371,"70.40%",207,"39.28%",474,500,"105.49%",393,"82.91%",213,"44.94%",435,447,"102.76%",378,"86.90%",256,"58.85%",366,425,"116.12%",374,"102.19%",272,"74.32%",246,278,"113.01%",248,"100.81%",182,"73.98%",171,183,"107.02%",157,"91.81%",115,"67.25%",199,281,"141.21%",229,"115.08%",157,"78.89%",null,"Alto Rio Novo",7426,6519,0.87786156746566124,4283,0.57675733907891191,2124,0.28602208456773498]
["Regional Sul","Anchieta",1179,138,"11.70%",0,"0.00%",0,"0.00%",782,153,"19.57%",2,"0.26%",0,"0.00%",2859,1901,"66.49%",868,"30.36%",4,"0.14%",2371,2148,"90.59%",1092,"46.06%",12,"0.51%",812,749,"92.24%",303,"37.32%",29,"3.57%",1886,1914,"101.48%",962,"51.01%",233,"12.35%",1990,1919,"96.43%",1103,"55.43%",270,"13.57%",2260,2099,"92.88%",1357,"60.04%",420,"18.58%",2624,2557,"97.45%",1711,"65.21%",585,"22.29%",2607,2578,"98.89%",1772,"67.97%",715,"27.43%",2035,2178,"107.03%",1530,"75.18%",703,"34.55%",1869,2030,"108.61%",1501,"80.31%",735,"39.33%",1719,1875,"109.08%",1439,"83.71%",800,"46.54%",1608,1705,"106.03%",1443,"89.74%",921,"57.28%",1331,1487,"111.72%",1326,"99.62%",941,"70.70%",874,1091,"124.83%",973,"111.33%",741,"84.78%",569,725,"127.42%",648,"113.88%",486,"85.41%",698,980,"140.40%",886,"126.93%",678,"97.13%",null,"Anchieta",30073,28227,0.93861603431649654,18916,0.62900275995078647,8273,0.27509726332590695]
["Regional Sul","Apiacá",217,5,"2.30%",0,"0.00%",0,"0.00%",151,4,"2.65%",0,"0.00%",0,"0.00%",610,318,"52.13%",2,"0.33%",0,"0.00%",568,438,"77.11%",144,"25.35%",1,"0.18%",183,160,"87.43%",59,"32.24%",8,"4.37%",468,398,"85.04%",217,"46.37%",35,"7.48%",498,450,"90.36%",260,"52.21%",72,"14.46%",467,426,"91.22%",233,"49.89%",73,"15.63%",537,423,"78.77%",275,"51.21%",89,"16.57%",533,505,"94.75%",359,"67.35%",126,"23.64%",471,512,"108.70%",408,"86.62%",179,"38.00%",495,463,"93.54%",372,"75.15%",158,"31.92%",466,455,"97.64%",366,"78.54%",192,"41.20%",422,427,"101.18%",373,"88.39%",235,"55.69%",396,417,"105.30%",373,"94.19%",242,"61.11%",282,317,"112.41%",281,"99.65%",179,"63.48%",184,238,"129.35%",217,"117.93%",149,"80.98%",252,325,"128.97%",287,"113.89%",199,"78.97%",null,"Apiacá",7200,6281,0.87236111111111114,4226,0.58694444444444449,1937,0.26902777777777775]
["Regional Metropolitana","Aracruz",4425,365,"8.25%",1,"0.02%",0,"0.00%",2840,417,"14.68%",4,"0.14%",0,"0.00%",9698,5357,"55.24%",2266,"23.37%",4,"0.04%",8266,6753,"81.70%",3566,"43.14%",21,"0.25%",2607,2663,"102.15%",1123,"43.08%",90,"3.45%",6996,6833,"97.67%",3439,"49.16%",859,"12.28%",7010,7342,"104.74%",4130,"58.92%",1206,"17.20%",7439,7645,"102.77%",4628,"62.21%",1586,"21.32%",8029,8166,"101.71%",4991,"62.16%",1894,"23.59%",7786,8053,"103.43%",5157,"66.23%",2179,"27.99%",6548,7289,"111.32%",4961,"75.76%",2383,"36.39%",5631,6038,"107.23%",4280,"76.01%",2200,"39.07%",4949,5474,"110.61%",4141,"83.67%",2347,"47.42%",4417,4796,"108.58%",3840,"86.94%",2484,"56.24%",3470,4068,"117.23%",3475,"100.14%",2478,"71.41%",2261,2834,"125.34%",2517,"111.32%",1855,"82.04%",1325,1701,"128.38%",1503,"113.43%",1105,"83.40%",1574,2259,"143.52%",1953,"124.08%",1362,"86.53%",null,"Aracruz",95271,88053,0.92423717605567279,55975,0.58753450682789099,24053,0.25246927186657009]
["Regional Sul","Atílio Vivacqua",400,12,"3.00%",0,"0.00%",0,"0.00%",322,12,"3.73%",0,"0.00%",0,"0.00%",993,463,"46.63%",89,"8.96%",0,"0.00%",856,661,"77.22%",311,"36.33%",6,"0.70%",278,262,"94.24%",115,"41.37%",11,"3.96%",688,583,"84.74%",230,"33.43%",47,"6.83%",696,572,"82.18%",277,"39.80%",62,"8.91%",798,666,"83.46%",370,"46.37%",103,"12.91%",830,783,"94.34%",447,"53.86%",150,"18.07%",836,747,"89.35%",463,"55.38%",194,"23.21%",684,721,"105.41%",448,"65.50%",194,"28.36%",684,626,"91.52%",431,"63.01%",188,"27.49%",627,634,"101.12%",458,"73.05%",244,"38.92%",590,632,"107.12%",518,"87.80%",330,"55.93%",454,497,"109.47%",420,"92.51%",301,"66.30%",351,380,"108.26%",350,"99.72%",254,"72.36%",212,261,"123.11%",234,"110.38%",185,"87.26%",236,325,"137.71%",287,"121.61%",211,"89.41%",null,"Atílio Vivacqua",10535,8837,0.8388229710488847,5448,0.5171333649738965,2480,0.23540579022306596]
["Regional Central","Baixo Guandu",1174,16,"1.36%",0,"0.00%",0,"0.00%",841,35,"4.16%",0,"0.00%",0,"0.00%",2770,991,"35.78%",151,"5.45%",3,"0.11%",2426,1560,"64.30%",431,"17.77%",2,"0.08%",807,702,"86.99%",204,"25.28%",17,"2.11%",2105,1571,"74.63%",615,"29.22%",115,"5.46%",2024,1720,"84.98%",801,"39.58%",204,"10.08%",2152,1721,"79.97%",812,"37.73%",201,"9.34%",2159,1771,"82.03%",890,"41.22%",261,"12.09%",2327,2037,"87.54%",1193,"51.27%",448,"19.25%",2122,2058,"96.98%",1281,"60.37%",526,"24.79%",2020,1944,"96.24%",1296,"64.16%",573,"28.37%",2007,1938,"96.56%",1371,"68.31%",658,"32.79%",1714,1784,"104.08%",1413,"82.44%",779,"45.45%",1361,1545,"113.52%",1378,"101.25%",864,"63.48%",967,1125,"116.34%",1071,"110.75%",707,"73.11%",697,774,"111.05%",748,"107.32%",480,"68.87%",967,1202,"124.30%",1144,"118.30%",710,"73.42%",null,"Baixo Guandu",30640,24494,0.79941253263707568,14799,0.48299608355091384,6548,0.21370757180156658]
["Regional Norte","Barra de São Francisco",1740,22,"1.26%",0,"0.00%",0,"0.00%",1204,46,"3.82%",1,"0.08%",0,"0.00%",4063,1491,"36.70%",258,"6.35%",0,"0.00%",3499,2252,"64.36%",703,"20.09%",4,"0.11%",1126,900,"79.93%",269,"23.89%",17,"1.51%",2926,2268,"77.51%",883,"30.18%",195,"6.66%",2931,2628,"89.66%",1128,"38.49%",251,"8.56%",2959,2548,"86.11%",1244,"42.04%",339,"11.46%",3237,2783,"85.97%",1381,"42.66%",436,"13.47%",3253,2869,"88.20%",1620,"49.80%",587,"18.04%",2908,2790,"95.94%",1693,"58.22%",658,"22.63%",2875,2640,"91.83%",1725,"60.00%",775,"26.96%",2624,2574,"98.09%",1802,"68.67%",856,"32.62%",2221,2256,"101.58%",1679,"75.60%",937,"42.19%",1761,1871,"106.25%",1533,"87.05%",972,"55.20%",1284,1447,"112.69%",1244,"96.88%",821,"63.94%",878,921,"104.90%",789,"89.86%",533,"60.71%",1082,1388,"128.28%",1135,"104.90%",682,"63.03%",null,"Barra de São Francisco",42571,33694,0.79147776655469682,19087,0.44835686265297975,8063,0.18940123558290856]
["Regional Norte","Boa Esperança",600,30,"5.00%",0,"0.00%",0,"0.00%",385,30,"7.79%",1,"0.26%",0,"0.00%",1285,851,"66.23%",276,"21.48%",1,"0.08%",1154,1034,"89.60%",568,"49.22%",5,"0.43%",416,406,"97.60%",231,"55.53%",17,"4.09%",927,870,"93.85%",411,"44.34%",103,"11.11%",936,864,"92.31%",477,"50.96%",144,"15.38%",944,847,"89.72%",519,"54.98%",174,"18.43%",1025,921,"89.85%",572,"55.80%",224,"21.85%",1043,1036,"99.33%",678,"65.00%",293,"28.09%",964,981,"101.76%",684,"70.95%",346,"35.89%",878,895,"101.94%",665,"75.74%",367,"41.80%",832,876,"105.29%",695,"83.53%",397,"47.72%",705,814,"115.46%",697,"98.87%",479,"67.94%",592,671,"113.34%",609,"102.87%",463,"78.21%",402,500,"124.38%",444,"110.45%",344,"85.57%",287,327,"113.94%",296,"103.14%",230,"80.14%",331,502,"151.66%",442,"133.53%",335,"101.21%",null,"Boa Esperança",13706,12455,0.90872610535531884,8265,0.60302057493068728,3922,0.28615205019699402]
["Regional Sul","Bom Jesus do Norte",256,44,"17.19%",0,"0.00%",0,"0.00%",270,33,"12.22%",0,"0.00%",0,"0.00%",852,509,"59.74%",170,"19.95%",0,"0.00%",806,485,"60.17%",172,"21.34%",1,"0.12%",248,157,"63.31%",59,"23.79%",4,"1.61%",745,510,"68.46%",218,"29.26%",51,"6.85%",686,563,"82.07%",264,"38.48%",76,"11.08%",763,579,"75.88%",278,"36.44%",81,"10.62%",738,687,"93.09%",368,"49.86%",120,"16.26%",858,705,"82.17%",433,"50.47%",175,"20.40%",692,646,"93.35%",418,"60.40%",183,"26.45%",668,561,"83.98%",381,"57.04%",174,"26.05%",599,641,"107.01%",440,"73.46%",236,"39.40%",576,556,"96.53%",433,"75.17%",259,"44.97%",534,597,"111.80%",494,"92.51%",327,"61.24%",342,434,"126.90%",374,"109.36%",266,"77.78%",199,272,"136.68%",232,"116.58%",158,"79.40%",340,458,"134.71%",394,"115.88%",273,"80.29%",null,"Bom Jesus do Norte",10172,8437,0.82943373967754619,5128,0.50412898151789221,2384,0.23436885568226504]
["Regional Metropolitana","Brejetuba",633,21,"3.32%",0,"0.00%",0,"0.00%",395,24,"6.08%",0,"0.00%",0,"0.00%",1303,722,"55.41%",212,"16.27%",0,"0.00%",1189,906,"76.20%",342,"28.76%",3,"0.25%",405,311,"76.79%",98,"24.20%",14,"3.46%",1043,876,"83.99%",338,"32.41%",76,"7.29%",928,849,"91.49%",370,"39.87%",95,"10.24%",944,798,"84.53%",431,"45.66%",130,"13.77%",1105,964,"87.24%",521,"47.15%",165,"14.93%",1109,1020,"91.97%",558,"50.32%",204,"18.39%",869,922,"106.10%",547,"62.95%",175,"20.14%",781,761,"97.44%",487,"62.36%",198,"25.35%",660,672,"101.82%",491,"74.39%",218,"33.03%",571,609,"106.65%",510,"89.32%",276,"48.34%",433,496,"114.55%",433,"100.00%",273,"63.05%",279,319,"114.34%",293,"105.02%",200,"71.68%",165,220,"133.33%",185,"112.12%",113,"68.48%",189,271,"143.39%",223,"117.99%",142,"75.13%",null,"Brejetuba",13001,10761,0.82770556111068383,6039,0.46450273055918778,2282,0.17552495961849088]
["Regional Sul","Cachoeiro de Itapemirim",7232,259,"3.58%",0,"0.00%",0,"0.00%",4696,312,"6.64%",2,"0.04%",0,"0.00%",16445,7628,"46.38%",2323,"14.13%",8,"0.05%",13632,10562,"77.48%",4559,"33.44%",54,"0.40%",4626,4085,"88.31%",1472,"31.82%",124,"2.68%",12452,10911,"87.62%",4848,"38.93%",1348,"10.83%",13666,11945,"87.41%",5518,"40.38%",1699,"12.43%",14562,12637,"86.78%",6313,"43.35%",2160,"14.83%",14793,12745,"86.16%",6661,"45.03%",2431,"16.43%",15106,13391,"88.65%",7723,"51.13%",3223,"21.34%",12366,12135,"98.13%",7416,"59.97%",3337,"26.99%",12351,11008,"89.13%",7280,"58.94%",3507,"28.39%",11848,11686,"98.63%",8244,"69.58%",4295,"36.25%",10478,10496,"100.17%",8326,"79.46%",5291,"50.50%",8383,8836,"105.40%",7607,"90.74%",5415,"64.60%",5765,6659,"115.51%",5925,"102.78%",4364,"75.70%",3534,4245,"120.12%",3826,"108.26%",2832,"80.14%",4746,6403,"134.91%",5621,"118.44%",3908,"82.34%",null,"Cachoeiro de Itapemirim",186681,155943,0.83534478602535878,93664,0.50173290265211778,43996,0.2356747606880186]
["Regional Metropolitana","Cariacica",14624,588,"4.02%",0,"0.00%",0,"0.00%",9863,645,"6.54%",2,"0.02%",0,"0.00%",35286,16952,"48.04%",4318,"12.24%",6,"0.02%",29716,22616,"76.11%",9553,"32.15%",69,"0.23%",9902,8320,"84.02%",3239,"32.71%",264,"2.67%",26053,22422,"86.06%",10129,"38.88%",2539,"9.75%",25148,23387,"93.00%",11543,"45.90%",3433,"13.65%",26548,23613,"88.94%",12817,"48.28%",4527,"17.05%",28348,25586,"90.26%",14781,"52.14%",5798,"20.45%",28814,26402,"91.63%",16042,"55.67%",6974,"24.20%",24129,23266,"96.42%",14716,"60.99%",6783,"28.11%",22496,20810,"92.51%",14006,"62.26%",7115,"31.63%",20080,19635,"97.78%",14182,"70.63%",7833,"39.01%",17848,17524,"98.18%",13986,"78.36%",8969,"50.25%",14188,15071,"106.22%",12931,"91.14%",9216,"64.96%",9488,10680,"112.56%",9398,"99.05%",6949,"73.24%",5811,6822,"117.40%",6029,"103.75%",4423,"76.11%",6670,8702,"130.46%",7183,"107.69%",4909,"73.60%",null,"Cariacica",355012,293041,0.82543970344664408,174855,0.49253264678377068,79807,0.22480085180219261]
["Regional Sul","Castelo",1343,49,"3.65%",1,"0.07%",0,"0.00%",870,35,"4.02%",1,"0.11%",0,"0.00%",2930,1108,"37.82%",100,"3.41%",0,"0.00%",2533,1790,"70.67%",715,"28.23%",2,"0.08%",907,818,"90.19%",317,"34.95%",18,"1.98%",2489,2234,"89.75%",1029,"41.34%",196,"7.87%",2494,2400,"96.23%",1114,"44.67%",255,"10.22%",2747,2394,"87.15%",1293,"47.07%",381,"13.87%",2993,2657,"88.77%",1482,"49.52%",519,"17.34%",3061,2772,"90.56%",1638,"53.51%",625,"20.42%",2517,2390,"94.95%",1522,"60.47%",596,"23.68%",2497,2307,"92.39%",1639,"65.64%",794,"31.80%",2463,2421,"98.29%",1867,"75.80%",982,"39.87%",2183,2254,"103.25%",1890,"86.58%",1152,"52.77%",1707,1843,"107.97%",1632,"95.61%",1101,"64.50%",1240,1346,"108.55%",1242,"100.16%",884,"71.29%",864,1025,"118.63%",934,"108.10%",679,"78.59%",1177,1611,"136.87%",1431,"121.58%",993,"84.37%",null,"Castelo",37015,31454,0.84976360934756179,19847,0.53618803187896802,9177,0.24792651627718493]
["Regional Central","Colatina",4600,93,"2.02%",0,"0.00%",0,"0.00%",3037,126,"4.15%",1,"0.03%",0,"0.00%",10109,3716,"36.76%",759,"7.51%",6,"0.06%",8293,5801,"69.95%",2114,"25.49%",33,"0.40%",3034,2401,"79.14%",769,"25.35%",53,"1.75%",8455,7513,"88.86%",3323,"39.30%",872,"10.31%",8813,8443,"95.80%",4217,"47.85%",1249,"14.17%",9183,7850,"85.48%",3795,"41.33%",1056,"11.50%",9662,8533,"88.32%",4665,"48.28%",1617,"16.74%",9799,9075,"92.61%",5544,"56.58%",2176,"22.21%",8251,8003,"96.99%",5086,"61.64%",2097,"25.42%",8261,7722,"93.48%",5205,"63.01%",2413,"29.21%",7584,7607,"100.30%",5467,"72.09%",2800,"36.92%",6687,6764,"101.15%",5344,"79.92%",3276,"48.99%",5306,5743,"108.24%",4971,"93.69%",3410,"64.27%",3744,4167,"111.30%",3707,"99.01%",2625,"70.11%",2455,2820,"114.87%",2542,"103.54%",1840,"74.95%",3299,4183,"126.80%",3628,"109.97%",2453,"74.36%",null,"Colatina",120572,100560,0.83402448329628764,61137,0.50705802342168993,27976,0.23202733636333478]
["Regional Norte","Conceição da Barra",1164,59,"5.07%",0,"0.00%",0,"0.00%",781,85,"10.88%",1,"0.13%",0,"0.00%",2829,1541,"54.47%",445,"15.73%",9,"0.32%",2506,2058,"82.12%",753,"30.05%",35,"1.40%",832,674,"81.01%",209,"25.12%",19,"2.28%",1816,1656,"91.19%",664,"36.56%",149,"8.20%",1859,1725,"92.79%",763,"41.04%",222,"11.94%",1794,1670,"93.09%",817,"45.54%",255,"14.21%",2107,1893,"89.84%",996,"47.27%",339,"16.09%",2191,2195,"100.18%",1245,"56.82%",484,"22.09%",1817,1891,"104.07%",1166,"64.17%",461,"25.37%",1721,1689,"98.14%",1093,"63.51%",464,"26.96%",1585,1678,"105.87%",1206,"76.09%",579,"36.53%",1458,1547,"106.10%",1206,"82.72%",670,"45.95%",1137,1288,"113.28%",1127,"99.12%",736,"64.73%",801,918,"114.61%",826,"103.12%",572,"71.41%",495,627,"126.67%",597,"120.61%",400,"80.81%",577,820,"142.11%",800,"138.65%",488,"84.58%",null,"Conceição da Barra",27470,24014,0.87419002548234437,13914,0.50651619949035309,5882,0.21412449945394976]
["Regional Metropolitana","Conceição do Castelo",489,5,"1.02%",0,"0.00%",0,"0.00%",298,4,"1.34%",0,"0.00%",0,"0.00%",1087,581,"53.45%",50,"4.60%",1,"0.09%",956,810,"84.73%",227,"23.74%",1,"0.10%",335,315,"94.03%",119,"35.52%",3,"0.90%",812,687,"84.61%",253,"31.16%",42,"5.17%",801,685,"85.52%",310,"38.70%",55,"6.87%",883,690,"78.14%",322,"36.47%",91,"10.31%",965,827,"85.70%",415,"43.01%",117,"12.12%",979,942,"96.22%",529,"54.03%",184,"18.79%",818,822,"100.49%",488,"59.66%",177,"21.64%",731,771,"105.47%",504,"68.95%",213,"29.14%",659,711,"107.89%",491,"74.51%",226,"34.29%",663,668,"100.75%",540,"81.45%",294,"44.34%",527,630,"119.54%",551,"104.55%",383,"72.68%",400,453,"113.25%",410,"102.50%",279,"69.75%",248,314,"126.61%",284,"114.52%",191,"77.02%",338,435,"128.70%",380,"112.43%",258,"76.33%",null,"Conceição do Castelo",11989,10350,0.86329135040453753,5873,0.48986571023438152,2515,0.20977562765868712]
["Regional Sul","Divino de São Lourenço",207,14,"6.76%",0,"0.00%",0,"0.00%",146,28,"19.18%",0,"0.00%",0,"0.00%",441,297,"67.35%",88,"19.95%",0,"0.00%",417,365,"87.53%",200,"47.96%",1,"0.24%",153,145,"94.77%",72,"47.06%",9,"5.88%",368,318,"86.41%",187,"50.82%",39,"10.60%",359,332,"92.48%",175,"48.75%",44,"12.26%",384,331,"86.20%",198,"51.56%",69,"17.97%",429,388,"90.44%",232,"54.08%",90,"20.98%",346,352,"101.73%",239,"69.08%",102,"29.48%",338,333,"98.52%",236,"69.82%",102,"30.18%",327,319,"97.55%",213,"65.14%",96,"29.36%",327,295,"90.21%",223,"68.20%",112,"34.25%",280,312,"111.43%",263,"93.93%",164,"58.57%",227,237,"104.41%",215,"94.71%",150,"66.08%",150,189,"126.00%",176,"117.33%",126,"84.00%",90,111,"123.33%",106,"117.78%",78,"86.67%",100,151,"151.00%",132,"132.00%",83,"83.00%",null,"Divino de São Lourenço",5089,4517,0.88760070740813524,2955,0.58066417763804279,1265,0.24857535861662408]
["Regional Metropolitana","Domingos Martins",1287,89,"6.92%",1,"0.08%",0,"0.00%",856,145,"16.94%",5,"0.58%",0,"0.00%",3031,1964,"64.80%",731,"24.12%",2,"0.07%",2643,2457,"92.96%",1330,"50.32%",14,"0.53%",903,890,"98.56%",421,"46.62%",43,"4.76%",2261,2254,"99.69%",1143,"50.55%",308,"13.62%",2426,2430,"100.16%",1258,"51.85%",380,"15.66%",2544,2539,"99.80%",1466,"57.63%",546,"21.46%",2821,2837,"100.57%",1714,"60.76%",677,"24.00%",3050,3029,"99.31%",1886,"61.84%",800,"26.23%",2600,2826,"108.69%",1903,"73.19%",851,"32.73%",2446,2644,"108.09%",1852,"75.72%",929,"37.98%",2318,2537,"109.45%",1971,"85.03%",1063,"45.86%",2066,2405,"116.41%",2008,"97.19%",1308,"63.31%",1522,1913,"125.69%",1742,"114.45%",1268,"83.31%",1143,1446,"126.51%",1330,"116.36%",1046,"91.51%",711,950,"133.61%",895,"125.88%",706,"99.30%",916,1335,"145.74%",1209,"131.99%",905,"98.80%",null,"Domingos Martins",35544,34690,0.97597344136844477,22865,0.6432871933378348,10846,0.30514292144947108]
["Regional Sul","Dores do Rio Preto",281,13,"4.63%",1,"0.36%",0,"0.00%",172,20,"11.63%",1,"0.58%",0,"0.00%",585,348,"59.49%",74,"12.65%",1,"0.17%",545,487,"89.36%",158,"28.99%",7,"1.28%",206,170,"82.52%",47,"22.82%",6,"2.91%",489,486,"99.39%",192,"39.26%",43,"8.79%",432,473,"109.49%",215,"49.77%",60,"13.89%",479,431,"89.98%",221,"46.14%",72,"15.03%",512,482,"94.14%",272,"53.12%",93,"18.16%",492,473,"96.14%",281,"57.11%",100,"20.33%",482,474,"98.34%",306,"63.49%",137,"28.42%",425,419,"98.59%",253,"59.53%",97,"22.82%",405,424,"104.69%",307,"75.80%",121,"29.88%",367,374,"101.91%",285,"77.66%",138,"37.60%",278,321,"115.47%",281,"101.08%",154,"55.40%",214,250,"116.82%",211,"98.60%",133,"62.15%",116,154,"132.76%",135,"116.38%",80,"68.97%",170,214,"125.88%",188,"110.59%",117,"68.82%",null,"Dores do Rio Preto",6650,6013,0.90421052631578946,3428,0.51548872180451133,1359,0.2043609022556391]
["Regional Norte","Ecoporanga",822,38,"4.62%",0,"0.00%",0,"0.00%",595,61,"10.25%",0,"0.00%",0,"0.00%",1863,970,"52.07%",386,"20.72%",3,"0.16%",1788,1359,"76.01%",739,"41.33%",19,"1.06%",575,508,"88.35%",194,"33.74%",22,"3.83%",1434,1129,"78.73%",455,"31.73%",122,"8.51%",1306,1131,"86.60%",487,"37.29%",144,"11.03%",1379,1121,"81.29%",569,"41.26%",203,"14.72%",1646,1276,"77.52%",714,"43.38%",261,"15.86%",1773,1552,"87.54%",882,"49.75%",350,"19.74%",1586,1568,"98.87%",992,"62.55%",417,"26.29%",1536,1460,"95.05%",981,"63.87%",484,"31.51%",1426,1371,"96.14%",963,"67.53%",505,"35.41%",1291,1315,"101.86%",1035,"80.17%",610,"47.25%",1094,1143,"104.48%",984,"89.95%",658,"60.15%",770,897,"116.49%",787,"102.21%",546,"70.91%",490,588,"120.00%",513,"104.69%",371,"75.71%",629,829,"131.80%",705,"112.08%",471,"74.88%",null,"Ecoporanga",22003,18316,0.83243194109894103,11386,0.51747488978775624,5186,0.23569513248193427]
["Regional Metropolitana","Fundão",625,43,"6.88%",0,"0.00%",0,"0.00%",451,65,"14.41%",0,"0.00%",0,"0.00%",1638,1036,"63.25%",244,"14.90%",1,"0.06%",1417,1279,"90.26%",540,"38.11%",4,"0.28%",450,443,"98.44%",207,"46.00%",23,"5.11%",1205,1170,"97.10%",560,"46.47%",139,"11.54%",1151,1190,"103.39%",591,"51.35%",164,"14.25%",1307,1181,"90.36%",643,"49.20%",222,"16.99%",1278,1322,"103.44%",720,"56.34%",289,"22.61%",1387,1336,"96.32%",807,"58.18%",330,"23.79%",1238,1338,"108.08%",892,"72.05%",432,"34.89%",1237,1223,"98.87%",865,"69.93%",445,"35.97%",1187,1290,"108.68%",951,"80.12%",525,"44.23%",1103,1167,"105.80%",957,"86.76%",615,"55.76%",865,1078,"124.62%",946,"109.36%",703,"81.27%",594,737,"124.07%",659,"110.94%",514,"86.53%",333,467,"140.24%",423,"127.03%",321,"96.40%",537,738,"137.43%",647,"120.48%",480,"89.39%",null,"Fundão",18003,17103,0.95000833194467593,10652,0.59167916458368053,5207,0.28922957284896961]
["Regional Central","Governador Lindenberg",433,37,"8.55%",0,"0.00%",0,"0.00%",285,45,"15.79%",0,"0.00%",0,"0.00%",918,678,"73.86%",226,"24.62%",0,"0.00%",875,789,"90.17%",428,"48.91%",2,"0.23%",292,282,"96.58%",154,"52.74%",22,"7.53%",755,711,"94.17%",423,"56.03%",108,"14.30%",740,762,"102.97%",467,"63.11%",147,"19.86%",787,797,"101.27%",539,"68.49%",229,"29.10%",871,830,"95.29%",543,"62.34%",230,"26.41%",862,871,"101.04%",592,"68.68%",258,"29.93%",727,820,"112.79%",640,"88.03%",319,"43.88%",771,821,"106.49%",666,"86.38%",354,"45.91%",717,739,"103.07%",623,"86.89%",371,"51.74%",650,682,"104.92%",617,"94.92%",437,"67.23%",476,533,"111.97%",510,"107.14%",411,"86.34%",319,409,"128.21%",393,"123.20%",329,"103.13%",238,268,"112.61%",255,"107.14%",211,"88.66%",304,412,"135.53%",380,"125.00%",322,"105.92%",null,"Governador Lindenberg",11020,10486,0.9515426497277677,7456,0.67658802177858435,3750,0.34029038112522686]
["Regional Sul","Guaçuí",1225,70,"5.71%",0,"0.00%",0,"0.00%",792,66,"8.33%",0,"0.00%",0,"0.00%",2799,1241,"44.34%",316,"11.29%",1,"0.04%",2243,1622,"72.31%",599,"26.71%",7,"0.31%",820,606,"73.90%",215,"26.22%",19,"2.32%",2146,1621,"75.54%",660,"30.75%",169,"7.88%",2100,1702,"81.05%",712,"33.90%",183,"8.71%",2097,1714,"81.74%",819,"39.06%",246,"11.73%",2164,1719,"79.44%",845,"39.05%",294,"13.59%",2126,1884,"88.62%",1052,"49.48%",385,"18.11%",1896,1736,"91.56%",1052,"55.49%",464,"24.47%",1744,1592,"91.28%",1026,"58.83%",495,"28.38%",1748,1571,"89.87%",1103,"63.10%",566,"32.38%",1571,1527,"97.20%",1181,"75.18%",711,"45.26%",1438,1433,"99.65%",1206,"83.87%",769,"53.48%",1029,1176,"114.29%",1033,"100.39%",720,"69.97%",600,707,"117.83%",616,"102.67%",429,"71.50%",866,1130,"130.48%",975,"112.59%",649,"74.94%",null,"Guaçuí",29404,23117,0.78618555298598836,13410,0.45606039994558562,6107,0.20769283090735954]
["Regional Metropolitana","Guarapari",5071,62,"1.22%",2,"0.04%",0,"0.00%",3126,50,"1.60%",1,"0.03%",0,"0.00%",11586,3276,"28.28%",366,"3.16%",2,"0.02%",9825,6246,"63.57%",1834,"18.67%",16,"0.16%",3349,2538,"75.78%",649,"19.38%",35,"1.05%",8558,6741,"78.77%",2201,"25.72%",375,"4.38%",8664,6828,"78.81%",2479,"28.61%",523,"6.04%",8786,6670,"75.92%",2667,"30.36%",677,"7.71%",9693,7354,"75.87%",3316,"34.21%",981,"10.12%",10536,8712,"82.69%",4385,"41.62%",1495,"14.19%",8546,7821,"91.52%",4096,"47.93%",1444,"16.90%",8314,7303,"87.84%",4072,"48.98%",1671,"20.10%",7624,6974,"91.47%",4252,"55.77%",1856,"24.34%",7167,6510,"90.83%",4533,"63.25%",2502,"34.91%",5657,5834,"103.13%",4607,"81.44%",2798,"49.46%",3910,4444,"113.66%",3625,"92.71%",2257,"57.72%",2336,2894,"123.89%",2374,"101.63%",1462,"62.59%",2685,3715,"138.36%",2906,"108.23%",1739,"64.77%",null,"Guarapari",125433,93972,0.74918083757862763,48365,0.38558433586057894,19833,0.15811628518810839]
["Regional Metropolitana","Ibatiba",1081,69,"6.38%",0,"0.00%",0,"0.00%",718,88,"12.26%",1,"0.14%",1,"0.14%",2406,1299,"53.99%",410,"17.04%",1,"0.04%",2143,1825,"85.16%",1059,"49.42%",5,"0.23%",765,695,"90.85%",315,"41.18%",37,"4.84%",1971,1823,"92.49%",799,"40.54%",233,"11.82%",1898,1694,"89.25%",792,"41.73%",293,"15.44%",1912,1656,"86.61%",775,"40.53%",284,"14.85%",1953,1835,"93.96%",949,"48.59%",342,"17.51%",2106,1956,"92.88%",1052,"49.95%",396,"18.80%",1732,1740,"100.46%",1037,"59.87%",413,"23.85%",1562,1629,"104.29%",1025,"65.62%",441,"28.23%",1288,1405,"109.08%",941,"73.06%",459,"35.64%",1140,1277,"112.02%",1022,"89.65%",615,"53.95%",981,1106,"112.74%",962,"98.06%",661,"67.38%",724,835,"115.33%",738,"101.93%",554,"76.52%",444,529,"119.14%",476,"107.21%",362,"81.53%",563,789,"140.14%",684,"121.49%",528,"93.78%",null,"Ibatiba",25387,22250,0.87643281994721711,13037,0.51353054713042112,5625,0.22157009493047622]
["Regional Metropolitana","Ibiraçu",437,73,"16.70%",0,"0.00%",0,"0.00%",320,117,"36.56%",0,"0.00%",0,"0.00%",1102,904,"82.03%",598,"54.26%",2,"0.18%",835,872,"104.43%",611,"73.17%",3,"0.36%",312,273,"87.50%",165,"52.88%",17,"5.45%",794,692,"87.15%",398,"50.13%",106,"13.35%",803,765,"95.27%",427,"53.18%",116,"14.45%",893,756,"84.66%",508,"56.89%",190,"21.28%",905,823,"90.94%",527,"58.23%",214,"23.65%",952,890,"93.49%",604,"63.45%",290,"30.46%",763,818,"107.21%",615,"80.60%",321,"42.07%",771,766,"99.35%",606,"78.60%",359,"46.56%",734,746,"101.63%",623,"84.88%",383,"52.18%",637,682,"107.06%",588,"92.31%",420,"65.93%",549,596,"108.56%",534,"97.27%",433,"78.87%",375,422,"112.53%",402,"107.20%",320,"85.33%",229,307,"134.06%",301,"131.44%",259,"113.10%",331,429,"129.61%",412,"124.47%",327,"98.79%",null,"Ibiraçu",11742,10931,0.93093169817748256,7919,0.67441662408448311,3760,0.32021802078010558]
["Regional Sul","Ibitirama",427,0,"0.00%",0,"0.00%",0,"0.00%",307,1,"0.33%",0,"0.00%",0,"0.00%",999,392,"39.24%",8,"0.80%",1,"0.10%",848,666,"78.54%",237,"27.95%",7,"0.83%",310,207,"66.77%",63,"20.32%",4,"1.29%",747,561,"75.10%",193,"25.84%",38,"5.09%",641,516,"80.50%",198,"30.89%",46,"7.18%",694,499,"71.90%",240,"34.58%",64,"9.22%",728,573,"78.71%",293,"40.25%",104,"14.29%",736,625,"84.92%",323,"43.89%",85,"11.55%",598,515,"86.12%",278,"46.49%",99,"16.56%",540,479,"88.70%",281,"52.04%",113,"20.93%",555,493,"88.83%",306,"55.14%",118,"21.26%",471,442,"93.84%",339,"71.97%",174,"36.94%",372,396,"106.45%",352,"94.62%",184,"49.46%",222,262,"118.02%",232,"104.50%",127,"57.21%",156,177,"113.46%",162,"103.85%",106,"67.95%",179,273,"152.51%",235,"131.28%",122,"68.16%",null,"Ibitirama",9530,7077,0.74260230849947539,3740,0.39244491080797483,1392,0.14606505771248687]
["Regional Sul","Iconha",374,28,"7.49%",0,"0.00%",0,"0.00%",279,54,"19.35%",0,"0.00%",0,"0.00%",924,551,"59.63%",212,"22.94%",2,"0.22%",802,673,"83.92%",384,"47.88%",6,"0.75%",271,264,"97.42%",132,"48.71%",8,"2.95%",752,684,"90.96%",357,"47.47%",118,"15.69%",804,773,"96.14%",419,"52.11%",120,"14.93%",865,855,"98.84%",528,"61.04%",198,"22.89%",1061,964,"90.86%",610,"57.49%",267,"25.16%",1046,1046,"100.00%",682,"65.20%",334,"31.93%",860,978,"113.72%",702,"81.63%",354,"41.16%",856,873,"101.99%",666,"77.80%",353,"41.24%",886,897,"101.24%",724,"81.72%",428,"48.31%",791,844,"106.70%",728,"92.04%",534,"67.51%",673,733,"108.92%",680,"101.04%",533,"79.20%",413,499,"120.82%",475,"115.01%",390,"94.43%",267,321,"120.22%",303,"113.48%",253,"94.76%",416,518,"124.52%",490,"117.79%",402,"96.63%",null,"Iconha",12340,11555,0.93638573743922204,8092,0.6557536466774716,4300,0.34846029173419774]
["Regional Sul","Irupi",649,43,"6.63%",1,"0.15%",0,"0.00%",414,43,"10.39%",0,"0.00%",0,"0.00%",1289,627,"48.64%",250,"19.39%",2,"0.16%",1198,886,"73.96%",381,"31.80%",14,"1.17%",441,352,"79.82%",128,"29.02%",26,"5.90%",1044,886,"84.87%",404,"38.70%",152,"14.56%",952,805,"84.56%",432,"45.38%",165,"17.33%",990,791,"79.90%",469,"47.37%",189,"19.09%",1143,989,"86.53%",596,"52.14%",258,"22.57%",1115,997,"89.42%",597,"53.54%",235,"21.08%",940,944,"100.43%",583,"62.02%",244,"25.96%",846,835,"98.70%",568,"67.14%",263,"31.09%",731,697,"95.35%",491,"67.17%",242,"33.11%",595,601,"101.01%",480,"80.67%",292,"49.08%",495,546,"110.30%",487,"98.38%",321,"64.85%",382,452,"118.32%",416,"108.90%",289,"75.65%",250,289,"115.60%",262,"104.80%",177,"70.80%",284,387,"136.27%",329,"115.85%",211,"74.30%",null,"Irupi",13758,11170,0.81189126326500949,6874,0.49963657508358772,3080,0.22386974850995783]
["Regional Metropolitana","Itaguaçu",441,50,"11.34%",0,"0.00%",0,"0.00%",307,46,"14.98%",0,"0.00%",0,"0.00%",1014,669,"65.98%",123,"12.13%",0,"0.00%",913,794,"86.97%",403,"44.14%",1,"0.11%",352,316,"89.77%",136,"38.64%",10,"2.84%",836,719,"86.00%",354,"42.34%",90,"10.77%",735,714,"97.14%",390,"53.06%",107,"14.56%",887,780,"87.94%",472,"53.21%",153,"17.25%",990,882,"89.09%",528,"53.33%",172,"17.37%",1036,939,"90.64%",583,"56.27%",219,"21.14%",959,933,"97.29%",689,"71.85%",280,"29.20%",979,919,"93.87%",718,"73.34%",313,"31.97%",945,953,"100.85%",753,"79.68%",401,"42.43%",907,899,"99.12%",788,"86.88%",547,"60.31%",787,832,"105.72%",791,"100.51%",644,"81.83%",558,667,"119.53%",641,"114.87%",552,"98.92%",376,418,"111.17%",401,"106.65%",339,"90.16%",586,723,"123.38%",682,"116.38%",555,"94.71%",null,"Itaguaçu",13608,12253,0.90042621987066429,8452,0.62110523221634328,4383,0.32208994708994709]
["Regional Sul","Itapemirim",1649,25,"1.52%",0,"0.00%",0,"0.00%",1095,31,"2.83%",0,"0.00%",0,"0.00%",4074,1121,"27.52%",132,"3.24%",2,"0.05%",3500,2083,"59.51%",639,"18.26%",12,"0.34%",1159,808,"69.72%",228,"19.67%",14,"1.21%",2820,2100,"74.47%",757,"26.84%",117,"4.15%",2672,2052,"76.80%",833,"31.18%",168,"6.29%",2808,2075,"73.90%",925,"32.94%",253,"9.01%",3046,2330,"76.49%",1108,"36.38%",330,"10.83%",3139,2579,"82.16%",1313,"41.83%",439,"13.99%",2668,2470,"92.58%",1346,"50.45%",524,"19.64%",2404,2206,"91.76%",1280,"53.24%",485,"20.17%",2353,2129,"90.48%",1361,"57.84%",621,"26.39%",2101,2083,"99.14%",1466,"69.78%",806,"38.36%",1709,1890,"110.59%",1522,"89.06%",941,"55.06%",1215,1388,"114.24%",1145,"94.24%",722,"59.42%",702,894,"127.35%",734,"104.56%",470,"66.95%",822,1089,"132.48%",883,"107.42%",525,"63.87%",null,"Itapemirim",39936,29353,0.7350010016025641,15672,0.39242788461538464,6429,0.16098257211538461]
["Regional Metropolitana","Itarana",377,46,"12.20%",0,"0.00%",0,"0.00%",247,38,"15.38%",0,"0.00%",0,"0.00%",761,529,"69.51%",180,"23.65%",0,"0.00%",658,593,"90.12%",366,"55.62%",0,"0.00%",261,207,"79.31%",127,"48.66%",18,"6.90%",722,694,"96.12%",437,"60.53%",132,"18.28%",686,684,"99.71%",431,"62.83%",149,"21.72%",685,640,"93.43%",423,"61.75%",163,"23.80%",794,756,"95.21%",548,"69.02%",237,"29.85%",849,839,"98.82%",598,"70.44%",267,"31.45%",730,688,"94.25%",476,"65.21%",210,"28.77%",752,754,"100.27%",593,"78.86%",321,"42.69%",724,757,"104.56%",626,"86.46%",362,"50.00%",640,644,"100.62%",590,"92.19%",412,"64.38%",580,624,"107.59%",575,"99.14%",453,"78.10%",434,474,"109.22%",460,"105.99%",371,"85.48%",306,346,"113.07%",326,"106.54%",262,"85.62%",429,554,"129.14%",511,"119.11%",395,"92.07%",null,"Itarana",10635,9867,0.92778561354019751,7267,0.68330982604607426,3752,0.35279736718382698]
["Regional Sul","Iúna",1385,25,"1.81%",0,"0.00%",0,"0.00%",835,35,"4.19%",0,"0.00%",0,"0.00%",2783,1288,"46.28%",112,"4.02%",0,"0.00%",2413,1924,"79.73%",976,"40.45%",9,"0.37%",806,704,"87.34%",343,"42.56%",22,"2.73%",2163,1619,"74.85%",646,"29.87%",148,"6.84%",2049,1632,"79.65%",754,"36.80%",192,"9.37%",2147,1650,"76.85%",847,"39.45%",286,"13.32%",2283,1846,"80.86%",993,"43.50%",352,"15.42%",2274,1838,"80.83%",1029,"45.25%",387,"17.02%",1879,1781,"94.78%",1051,"55.93%",433,"23.04%",1691,1544,"91.31%",975,"57.66%",429,"25.37%",1644,1613,"98.11%",1075,"65.39%",534,"32.48%",1415,1378,"97.39%",1036,"73.22%",603,"42.61%",1117,1194,"106.89%",1011,"90.51%",703,"62.94%",767,899,"117.21%",765,"99.74%",529,"68.97%",524,594,"113.36%",513,"97.90%",349,"66.60%",594,851,"143.27%",703,"118.35%",474,"79.80%",null,"Iúna",28769,22415,0.77913726580694498,12829,0.44593138447634606,5450,0.18944002224616774]
["Regional Norte","Jaguaré",1476,79,"5.35%",0,"0.00%",0,"0.00%",926,78,"8.42%",0,"0.00%",0,"0.00%",3122,1672,"53.56%",416,"13.32%",1,"0.03%",2688,2116,"78.72%",729,"27.12%",4,"0.15%",873,702,"80.41%",228,"26.12%",20,"2.29%",2202,1766,"80.20%",745,"33.83%",193,"8.76%",2164,1876,"86.69%",874,"40.39%",257,"11.88%",2244,1845,"82.22%",973,"43.36%",368,"16.40%",2391,2196,"91.84%",1167,"48.81%",418,"17.48%",2307,2068,"89.64%",1181,"51.19%",476,"20.63%",1862,1854,"99.57%",1157,"62.14%",529,"28.41%",1649,1611,"97.70%",1164,"70.59%",599,"36.33%",1482,1502,"101.35%",1131,"76.32%",644,"43.45%",1202,1305,"108.57%",1091,"90.77%",736,"61.23%",986,1154,"117.04%",1032,"104.67%",758,"76.88%",653,777,"118.99%",712,"109.04%",539,"82.54%",405,492,"121.48%",455,"112.35%",347,"85.68%",488,676,"138.52%",604,"123.77%",447,"91.60%",null,"Jaguaré",29120,23769,0.81624313186813191,13659,0.46905906593406593,6336,0.21758241758241759]
["Regional Sul","Jerônimo Monteiro",455,23,"5.05%",0,"0.00%",0,"0.00%",319,38,"11.91%",0,"0.00%",0,"0.00%",979,536,"54.75%",151,"15.42%",0,"0.00%",856,694,"81.07%",301,"35.16%",3,"0.35%",314,270,"85.99%",101,"32.17%",8,"2.55%",809,694,"85.78%",349,"43.14%",85,"10.51%",781,766,"98.08%",431,"55.19%",123,"15.75%",827,817,"98.79%",485,"58.65%",173,"20.92%",792,745,"94.07%",424,"53.54%",157,"19.82%",816,732,"89.71%",456,"55.88%",183,"22.43%",762,793,"104.07%",560,"73.49%",250,"32.81%",762,713,"93.57%",516,"67.72%",225,"29.53%",787,845,"107.37%",644,"81.83%",296,"37.61%",648,704,"108.64%",583,"89.97%",346,"53.40%",560,604,"107.86%",549,"98.04%",373,"66.61%",404,507,"125.50%",466,"115.35%",320,"79.21%",318,356,"111.95%",322,"101.26%",247,"77.67%",426,592,"138.97%",551,"129.34%",386,"90.61%",null,"Jerônimo Monteiro",11615,10429,0.89789065863108053,6889,0.59311235471373225,3175,0.27335342229875159]
["Regional Metropolitana","João Neiva",585,27,"4.62%",0,"0.00%",0,"0.00%",300,30,"10.00%",1,"0.33%",0,"0.00%",1180,750,"63.56%",168,"14.24%",1,"0.08%",1004,973,"96.91%",504,"50.20%",7,"0.70%",317,357,"112.62%",206,"64.98%",15,"4.73%",896,878,"97.99%",503,"56.14%",139,"15.51%",866,964,"111.32%",586,"67.67%",144,"16.63%",939,1044,"111.18%",678,"72.20%",213,"22.68%",994,1130,"113.68%",732,"73.64%",251,"25.25%",1133,1216,"107.33%",795,"70.17%",288,"25.42%",1044,1194,"114.37%",949,"90.90%",503,"48.18%",922,1058,"114.75%",853,"92.52%",519,"56.29%",998,1086,"108.82%",895,"89.68%",549,"55.01%",877,950,"108.32%",839,"95.67%",600,"68.42%",739,906,"122.60%",858,"116.10%",684,"92.56%",515,653,"126.80%",607,"117.86%",500,"97.09%",366,434,"118.58%",414,"113.11%",337,"92.08%",515,700,"135.92%",648,"125.83%",494,"95.92%",null,"João Neiva",14190,14350,1.0112755461592671,10236,0.72135306553911205,5244,0.36955602536997884]
["Regional Metropolitana","Laranja da Terra",320,46,"14.38%",0,"0.00%",0,"0.00%",252,53,"21.03%",0,"0.00%",0,"0.00%",842,603,"71.62%",280,"33.25%",0,"0.00%",699,695,"99.43%",403,"57.65%",4,"0.57%",248,268,"108.06%",122,"49.19%",5,"2.02%",651,608,"93.39%",375,"57.60%",113,"17.36%",689,674,"97.82%",422,"61.25%",146,"21.19%",746,727,"97.45%",504,"67.56%",196,"26.27%",789,790,"100.13%",567,"71.86%",207,"26.24%",871,819,"94.03%",549,"63.03%",199,"22.85%",805,836,"103.85%",647,"80.37%",323,"40.12%",902,912,"101.11%",727,"80.60%",349,"38.69%",824,824,"100.00%",675,"81.92%",373,"45.27%",676,733,"108.43%",662,"97.93%",431,"63.76%",600,648,"108.00%",605,"100.83%",442,"73.67%",457,485,"106.13%",454,"99.34%",353,"77.24%",371,424,"114.29%",403,"108.63%",316,"85.18%",367,548,"149.32%",496,"135.15%",382,"104.09%",null,"Laranja da Terra",11109,10693,0.96255288504815917,7891,0.71032496174273108,3839,0.34557565937528129]
["Regional Central","Linhares",7685,68,"0.88%",0,"0.00%",0,"0.00%",4781,69,"1.44%",1,"0.02%",0,"0.00%",16864,5345,"31.69%",328,"1.94%",4,"0.02%",14437,9767,"67.65%",2937,"20.34%",65,"0.45%",4933,3897,"79.00%",1119,"22.68%",103,"2.09%",13238,11051,"83.48%",4135,"31.24%",842,"6.36%",13493,12130,"89.90%",5000,"37.06%",1098,"8.14%",13785,12226,"88.69%",5642,"40.93%",1451,"10.53%",14112,12606,"89.33%",6439,"45.63%",1939,"13.74%",14130,12521,"88.61%",6943,"49.14%",2435,"17.23%",10688,10684,"99.96%",6473,"60.56%",2442,"22.85%",9616,9354,"97.28%",6197,"64.44%",2633,"27.38%",8135,8461,"104.01%",6073,"74.65%",2948,"36.24%",7008,7313,"104.35%",5699,"81.32%",3296,"47.03%",5664,6371,"112.48%",5366,"94.74%",3559,"62.84%",3728,4411,"118.32%",3843,"103.08%",2598,"69.69%",2414,2921,"121.00%",2561,"106.09%",1757,"72.78%",2926,3985,"136.19%",3315,"113.29%",2193,"74.95%",null,"Linhares",167637,133180,0.79445468482494919,72071,0.42992298836175785,29363,0.17515822879197313]
["Regional Central","Mantenópolis",494,7,"1.42%",0,"0.00%",0,"0.00%",317,17,"5.36%",1,"0.32%",0,"0.00%",1210,618,"51.07%",64,"5.29%",0,"0.00%",1020,924,"90.59%",333,"32.65%",3,"0.29%",339,295,"87.02%",112,"33.04%",8,"2.36%",751,693,"92.28%",311,"41.41%",68,"9.05%",758,743,"98.02%",372,"49.08%",105,"13.85%",780,625,"80.13%",316,"40.51%",115,"14.74%",912,806,"88.38%",453,"49.67%",171,"18.75%",965,833,"86.32%",516,"53.47%",203,"21.04%",901,875,"97.11%",573,"63.60%",258,"28.63%",906,894,"98.68%",602,"66.45%",299,"33.00%",908,912,"100.44%",650,"71.59%",331,"36.45%",782,806,"103.07%",632,"80.82%",373,"47.70%",629,738,"117.33%",645,"102.54%",435,"69.16%",419,478,"114.08%",415,"99.05%",302,"72.08%",295,363,"123.05%",330,"111.86%",238,"80.68%",399,524,"131.33%",464,"116.29%",305,"76.44%",null,"Mantenópolis",12785,11151,0.87219397731716852,6789,0.53101290574892457,3214,0.25138834571763785]
["Regional Sul","Marataízes",1603,28,"1.75%",0,"0.00%",0,"0.00%",1138,40,"3.51%",1,"0.09%",0,"0.00%",3946,1057,"26.79%",201,"5.09%",0,"0.00%",3459,2069,"59.81%",612,"17.69%",23,"0.66%",1235,832,"67.37%",214,"17.33%",19,"1.54%",2948,2284,"77.48%",799,"27.10%",187,"6.34%",2813,2306,"81.98%",862,"30.64%",197,"7.00%",2934,2335,"79.58%",970,"33.06%",263,"8.96%",3085,2541,"82.37%",1108,"35.92%",326,"10.57%",3342,2724,"81.51%",1306,"39.08%",458,"13.70%",2847,2589,"90.94%",1354,"47.56%",524,"18.41%",2582,2391,"92.60%",1322,"51.20%",589,"22.81%",2455,2442,"99.47%",1557,"63.42%",763,"31.08%",2375,2454,"103.33%",1774,"74.69%",1051,"44.25%",2022,2264,"111.97%",1824,"90.21%",1219,"60.29%",1407,1682,"119.55%",1423,"101.14%",947,"67.31%",863,1053,"122.02%",898,"104.06%",623,"72.19%",944,1360,"144.07%",1130,"119.70%",738,"78.18%",null,"Marataízes",41998,32451,0.77267965141197203,17355,0.41323396352207248,7927,0.18874708319443784]
["Regional Metropolitana","Marechal Floriano",673,48,"7.13%",0,"0.00%",0,"0.00%",460,57,"12.39%",1,"0.22%",0,"0.00%",1625,997,"61.35%",374,"23.02%",1,"0.06%",1421,1189,"83.67%",609,"42.86%",7,"0.49%",439,412,"93.85%",147,"33.49%",17,"3.87%",1245,1112,"89.32%",564,"45.30%",160,"12.85%",1297,1184,"91.29%",644,"49.65%",186,"14.34%",1260,1200,"95.24%",690,"54.76%",246,"19.52%",1471,1333,"90.62%",757,"51.46%",299,"20.33%",1446,1357,"93.85%",834,"57.68%",334,"23.10%",1320,1338,"101.36%",899,"68.11%",400,"30.30%",1133,1200,"105.91%",842,"74.32%",440,"38.83%",987,1122,"113.68%",873,"88.45%",475,"48.13%",893,1005,"112.54%",833,"93.28%",531,"59.46%",743,857,"115.34%",780,"104.98%",585,"78.73%",511,633,"123.87%",586,"114.68%",457,"89.43%",318,408,"128.30%",384,"120.75%",316,"99.37%",414,605,"146.14%",560,"135.27%",419,"101.21%",null,"Marechal Floriano",17656,16057,0.90943588581785229,10377,0.58773221567739009,4873,0.27599682827367467]
["Regional Central","Marilândia",486,13,"2.67%",0,"0.00%",0,"0.00%",310,18,"5.81%",0,"0.00%",0,"0.00%",941,309,"32.84%",94,"9.99%",0,"0.00%",847,636,"75.09%",231,"27.27%",0,"0.00%",317,283,"89.27%",97,"30.60%",9,"2.84%",834,735,"88.13%",291,"34.89%",75,"8.99%",842,780,"92.64%",344,"40.86%",91,"10.81%",869,812,"93.44%",344,"39.59%",96,"11.05%",956,904,"94.56%",402,"42.05%",114,"11.92%",981,948,"96.64%",498,"50.76%",146,"14.88%",851,847,"99.53%",493,"57.93%",160,"18.80%",912,871,"95.50%",567,"62.17%",231,"25.33%",846,906,"107.09%",645,"76.24%",257,"30.38%",735,789,"107.35%",627,"85.31%",329,"44.76%",584,666,"114.04%",590,"101.03%",361,"61.82%",403,515,"127.79%",479,"118.86%",315,"78.16%",339,383,"112.98%",353,"104.13%",232,"68.44%",415,567,"136.63%",507,"122.17%",350,"84.34%",null,"Marilândia",12468,10982,0.88081488610843761,6562,0.52630734680782809,2766,0.22184793070259864]
["Regional Sul","Mimoso do Sul",826,14,"1.69%",0,"0.00%",0,"0.00%",569,11,"1.93%",0,"0.00%",0,"0.00%",1927,693,"35.96%",140,"7.27%",0,"0.00%",1828,1198,"65.54%",273,"14.93%",7,"0.38%",600,473,"78.83%",108,"18.00%",9,"1.50%",1550,1209,"78.00%",564,"36.39%",67,"4.32%",1579,1245,"78.85%",595,"37.68%",82,"5.19%",1698,1334,"78.56%",692,"40.75%",153,"9.01%",1863,1457,"78.21%",788,"42.30%",214,"11.49%",1837,1564,"85.14%",876,"47.69%",249,"13.55%",1753,1521,"86.77%",942,"53.74%",321,"18.31%",1598,1374,"85.98%",916,"57.32%",362,"22.65%",1789,1584,"88.54%",1100,"61.49%",464,"25.94%",1576,1499,"95.11%",1174,"74.49%",606,"38.45%",1280,1423,"111.17%",1192,"93.12%",743,"58.05%",925,1001,"108.22%",859,"92.86%",591,"63.89%",554,659,"118.95%",558,"100.72%",378,"68.23%",742,1009,"135.98%",807,"108.76%",464,"62.53%",null,"Mimoso do Sul",24494,19268,0.78664162652078062,11584,0.47293214664815875,4710,0.19229198987507146]
["Regional Norte","Montanha",793,54,"6.81%",0,"0.00%",0,"0.00%",548,57,"10.40%",1,"0.18%",0,"0.00%",1826,998,"54.65%",310,"16.98%",0,"0.00%",1593,1365,"85.69%",720,"45.20%",3,"0.19%",567,494,"87.13%",234,"41.27%",21,"3.70%",1241,1071,"86.30%",446,"35.94%",97,"7.82%",1305,1141,"87.43%",562,"43.07%",144,"11.03%",1299,1189,"91.53%",620,"47.73%",198,"15.24%",1461,1292,"88.43%",708,"48.46%",246,"16.84%",1401,1309,"93.43%",780,"55.67%",299,"21.34%",1304,1348,"103.37%",829,"63.57%",334,"25.61%",1185,1187,"100.17%",799,"67.43%",356,"30.04%",1132,1186,"104.77%",864,"76.33%",408,"36.04%",966,1024,"106.00%",828,"85.71%",447,"46.27%",763,893,"117.04%",796,"104.33%",556,"72.87%",575,653,"113.57%",573,"99.65%",414,"72.00%",412,494,"119.90%",446,"108.25%",307,"74.51%",588,787,"133.84%",696,"118.37%",465,"79.08%",null,"Montanha",18959,16542,0.87251437312094515,10212,0.53863600400865019,4295,0.22654148425549872]
["Regional Norte","Mucurici",217,11,"5.07%",0,"0.00%",0,"0.00%",166,18,"10.84%",0,"0.00%",0,"0.00%",463,305,"65.87%",102,"22.03%",1,"0.22%",410,335,"81.71%",163,"39.76%",1,"0.24%",154,128,"83.12%",67,"43.51%",6,"3.90%",333,334,"100.30%",152,"45.65%",32,"9.61%",325,302,"92.92%",179,"55.08%",51,"15.69%",368,339,"92.12%",219,"59.51%",95,"25.82%",389,365,"93.83%",231,"59.38%",86,"22.11%",431,372,"86.31%",229,"53.13%",97,"22.51%",369,385,"104.34%",258,"69.92%",115,"31.17%",395,395,"100.00%",300,"75.95%",161,"40.76%",379,371,"97.89%",292,"77.04%",181,"47.76%",330,357,"108.18%",311,"94.24%",197,"59.70%",261,312,"119.54%",280,"107.28%",209,"80.08%",171,202,"118.13%",185,"108.19%",136,"79.53%",145,175,"120.69%",157,"108.28%",119,"82.07%",183,246,"134.43%",216,"118.03%",163,"89.07%",null,"Mucurici",5489,4952,0.90216797230825285,3341,0.60867188923301152,1650,0.30060120240480964]
["Regional Sul","Muniz Freire",716,46,"6.42%",0,"0.00%",0,"0.00%",527,65,"12.33%",0,"0.00%",0,"0.00%",1633,1089,"66.69%",355,"21.74%",1,"0.06%",1468,1230,"83.79%",731,"49.80%",7,"0.48%",509,471,"92.53%",270,"53.05%",19,"3.73%",1219,1141,"93.60%",618,"50.70%",163,"13.37%",1253,1194,"95.29%",710,"56.66%",228,"18.20%",1268,1208,"95.27%",774,"61.04%",287,"22.63%",1348,1329,"98.59%",905,"67.14%",405,"30.04%",1388,1333,"96.04%",872,"62.82%",373,"26.87%",1213,1288,"106.18%",990,"81.62%",466,"38.42%",1226,1160,"94.62%",950,"77.49%",510,"41.60%",1098,1174,"106.92%",983,"89.53%",555,"50.55%",985,1023,"103.86%",907,"92.08%",628,"63.76%",824,902,"109.47%",849,"103.03%",665,"80.70%",559,633,"113.24%",599,"107.16%",483,"86.40%",404,493,"122.03%",469,"116.09%",376,"93.07%",537,724,"134.82%",661,"123.09%",517,"96.28%",null,"Muniz Freire",18175,16503,0.90800550206327368,11643,0.64060522696011002,5683,0.31268225584594223]
["Regional Sul","Muqui",477,76,"15.93%",0,"0.00%",0,"0.00%",320,84,"26.25%",1,"0.31%",0,"0.00%",1221,882,"72.24%",345,"28.26%",0,"0.00%",1019,935,"91.76%",595,"58.39%",3,"0.29%",358,332,"92.74%",179,"50.00%",16,"4.47%",856,779,"91.00%",452,"52.80%",155,"18.11%",893,803,"89.92%",481,"53.86%",146,"16.35%",998,872,"87.37%",516,"51.70%",194,"19.44%",1062,931,"87.66%",589,"55.46%",264,"24.86%",1016,967,"95.18%",642,"63.19%",330,"32.48%",929,893,"96.12%",666,"71.69%",311,"33.48%",921,890,"96.63%",663,"71.99%",366,"39.74%",911,926,"101.65%",727,"79.80%",460,"50.49%",838,898,"107.16%",765,"91.29%",485,"57.88%",655,773,"118.02%",699,"106.72%",560,"85.50%",496,561,"113.10%",526,"106.05%",426,"85.89%",302,395,"130.79%",370,"122.52%",302,"100.00%",489,646,"132.11%",575,"117.59%",454,"92.84%",null,"Muqui",13761,12643,0.91875590436741517,8791,0.63883438703582585,4472,0.32497638253033939]
["Regional Norte","Nova Venécia",2024,38,"1.88%",0,"0.00%",0,"0.00%",1289,40,"3.10%",0,"0.00%",0,"0.00%",4253,1452,"34.14%",269,"6.32%",1,"0.02%",3770,2617,"69.42%",871,"23.10%",3,"0.08%",1298,1024,"78.89%",290,"22.34%",14,"1.08%",3500,2781,"79.46%",991,"28.31%",171,"4.89%",3760,3051,"81.14%",1222,"32.50%",261,"6.94%",3710,3142,"84.69%",1370,"36.93%",329,"8.87%",3758,3269,"86.99%",1652,"43.96%",475,"12.64%",3780,3126,"82.70%",1701,"45.00%",550,"14.55%",3387,3174,"93.71%",1841,"54.35%",632,"18.66%",3303,3143,"95.16%",2026,"61.34%",795,"24.07%",3043,3010,"98.92%",2105,"69.18%",932,"30.63%",2686,2725,"101.45%",2138,"79.60%",1170,"43.56%",2115,2328,"110.07%",1973,"93.29%",1298,"61.37%",1415,1646,"116.33%",1481,"104.66%",1026,"72.51%",890,1042,"117.08%",944,"106.07%",625,"70.22%",1246,1605,"128.81%",1420,"113.96%",952,"76.40%",null,"Nova Venécia",49227,39213,0.79657505027728681,22294,0.45288154874357567,9234,0.18757998659272351]
["Regional Central","Pancas",654,25,"3.82%",0,"0.00%",0,"0.00%",476,58,"12.18%",0,"0.00%",0,"0.00%",1627,918,"56.42%",364,"22.37%",2,"0.12%",1487,1261,"84.80%",775,"52.12%",36,"2.42%",543,499,"91.90%",270,"49.72%",43,"7.92%",1171,1088,"92.91%",594,"50.73%",215,"18.36%",1202,1084,"90.18%",615,"51.16%",217,"18.05%",1275,1081,"84.78%",666,"52.24%",270,"21.18%",1368,1224,"89.47%",743,"54.31%",295,"21.56%",1462,1316,"90.01%",868,"59.37%",382,"26.13%",1341,1298,"96.79%",912,"68.01%",449,"33.48%",1335,1210,"90.64%",897,"67.19%",505,"37.83%",1245,1216,"97.67%",919,"73.82%",531,"42.65%",1120,1116,"99.64%",955,"85.27%",613,"54.73%",903,1019,"112.85%",904,"100.11%",685,"75.86%",672,734,"109.23%",660,"98.21%",520,"77.38%",454,519,"114.32%",486,"107.05%",390,"85.90%",538,715,"132.90%",637,"118.40%",484,"89.96%",null,"Pancas",18873,16381,0.8679595188894188,11265,0.59688443808615488,5637,0.29868065490383089]
["Regional Norte","Pedro Canário",1007,54,"5.36%",0,"0.00%",0,"0.00%",664,54,"8.13%",0,"0.00%",0,"0.00%",2258,1135,"50.27%",274,"12.13%",0,"0.00%",2005,1450,"72.32%",529,"26.38%",4,"0.20%",606,547,"90.26%",167,"27.56%",20,"3.30%",1501,1300,"86.61%",528,"35.18%",151,"10.06%",1510,1458,"96.56%",724,"47.95%",225,"14.90%",1449,1348,"93.03%",646,"44.58%",230,"15.87%",1644,1483,"90.21%",812,"49.39%",297,"18.07%",1702,1608,"94.48%",987,"57.99%",378,"22.21%",1493,1459,"97.72%",909,"60.88%",377,"25.25%",1276,1247,"97.73%",817,"64.03%",362,"28.37%",1216,1215,"99.92%",850,"69.90%",417,"34.29%",1065,1110,"104.23%",851,"79.91%",482,"45.26%",799,976,"122.15%",859,"107.51%",490,"61.33%",563,659,"117.05%",589,"104.62%",357,"63.41%",390,463,"118.72%",398,"102.05%",248,"63.59%",436,617,"141.51%",518,"118.81%",327,"75.00%",null,"Pedro Canário",21584,18183,0.84242957746478875,10458,0.48452557449962935,4365,0.20223313565604151]
["Regional Norte","Pinheiros",994,52,"5.23%",0,"0.00%",0,"0.00%",709,69,"9.73%",0,"0.00%",0,"0.00%",2398,1036,"43.20%",371,"15.47%",4,"0.17%",2185,1512,"69.20%",677,"30.98%",10,"0.46%",706,568,"80.45%",240,"33.99%",7,"0.99%",1744,1319,"75.63%",513,"29.42%",85,"4.87%",1606,1298,"80.82%",540,"33.62%",70,"4.36%",1614,1271,"78.75%",569,"35.25%",138,"8.55%",1852,1405,"75.86%",654,"35.31%",234,"12.63%",1920,1666,"86.77%",968,"50.42%",362,"18.85%",1649,1568,"95.09%",1019,"61.80%",426,"25.83%",1445,1355,"93.77%",914,"63.25%",442,"30.59%",1350,1325,"98.15%",961,"71.19%",473,"35.04%",1127,1083,"96.10%",905,"80.30%",505,"44.81%",922,987,"107.05%",907,"98.37%",576,"62.47%",652,733,"112.42%",698,"107.06%",466,"71.47%",480,542,"112.92%",503,"104.79%",332,"69.17%",581,800,"137.69%",764,"131.50%",446,"76.76%",null,"Pinheiros",23934,18589,0.77667752987381966,11203,0.46807888359655719,4576,0.19119244589287207]
["Regional Sul","Piúma",871,17,"1.95%",0,"0.00%",0,"0.00%",641,26,"4.06%",1,"0.16%",0,"0.00%",2118,803,"37.91%",147,"6.94%",0,"0.00%",1660,1159,"69.82%",379,"22.83%",1,"0.06%",593,470,"79.26%",196,"33.05%",35,"5.90%",1504,1136,"75.53%",445,"29.59%",116,"7.71%",1610,1238,"76.89%",509,"31.61%",128,"7.95%",1562,1241,"79.45%",546,"34.96%",154,"9.86%",1698,1411,"83.10%",742,"43.70%",243,"14.31%",1851,1383,"74.72%",709,"38.30%",261,"14.10%",1503,1365,"90.82%",769,"51.16%",326,"21.69%",1491,1309,"87.79%",849,"56.94%",367,"24.61%",1316,1319,"100.23%",869,"66.03%",447,"33.97%",1262,1275,"101.03%",950,"75.28%",558,"44.22%",1045,1140,"109.09%",956,"91.48%",596,"57.03%",664,784,"118.07%",630,"94.88%",407,"61.30%",423,552,"130.50%",481,"113.71%",314,"74.23%",492,664,"134.96%",542,"110.16%",380,"77.24%",null,"Piúma",22304,17292,0.77528694404591103,9720,0.43579626972740315,4333,0.19427008608321378]
["Regional Norte","Ponto Belo",274,16,"5.84%",0,"0.00%",0,"0.00%",173,21,"12.14%",0,"0.00%",0,"0.00%",604,378,"62.58%",91,"15.07%",2,"0.33%",548,510,"93.07%",253,"46.17%",1,"0.18%",187,162,"86.63%",82,"43.85%",4,"2.14%",400,371,"92.75%",154,"38.50%",27,"6.75%",385,362,"94.03%",189,"49.09%",31,"8.05%",390,359,"92.05%",184,"47.18%",43,"11.03%",380,376,"98.95%",195,"51.32%",53,"13.95%",492,493,"100.20%",310,"63.01%",106,"21.54%",443,453,"102.26%",304,"68.62%",111,"25.06%",470,462,"98.30%",319,"67.87%",119,"25.32%",436,513,"117.66%",377,"86.47%",185,"42.43%",349,418,"119.77%",346,"99.14%",187,"53.58%",325,366,"112.62%",312,"96.00%",193,"59.38%",240,290,"120.83%",268,"111.67%",190,"79.17%",182,213,"117.03%",196,"107.69%",134,"73.63%",234,322,"137.61%",291,"124.36%",203,"86.75%",null,"Ponto Belo",6512,6085,0.93442874692874689,3871,0.59444103194103193,1589,0.24401105651105651]
["Regional Sul","Presidente Kennedy",610,9,"1.48%",0,"0.00%",0,"0.00%",447,23,"5.15%",0,"0.00%",0,"0.00%",1401,561,"40.04%",80,"5.71%",0,"0.00%",1153,895,"77.62%",392,"34.00%",0,"0.00%",392,331,"84.44%",150,"38.27%",9,"2.30%",955,812,"85.03%",384,"40.21%",84,"8.80%",997,913,"91.57%",486,"48.75%",118,"11.84%",984,915,"92.99%",518,"52.64%",178,"18.09%",1083,1002,"92.52%",621,"57.34%",181,"16.71%",1052,1073,"102.00%",711,"67.59%",266,"25.29%",893,914,"102.35%",645,"72.23%",263,"29.45%",786,825,"104.96%",617,"78.50%",313,"39.82%",755,801,"106.09%",616,"81.59%",338,"44.77%",677,730,"107.83%",606,"89.51%",359,"53.03%",575,620,"107.83%",546,"94.96%",384,"66.78%",399,442,"110.78%",401,"100.50%",296,"74.19%",283,318,"112.37%",287,"101.41%",205,"72.44%",280,396,"141.43%",345,"123.21%",245,"87.50%",null,"Presidente Kennedy",13722,11580,0.84390030607783117,7405,0.53964436671039206,3239,0.2360443084098528]
["Regional Central","Rio Bananal",925,23,"2.49%",0,"0.00%",0,"0.00%",501,42,"8.38%",0,"0.00%",0,"0.00%",1816,974,"53.63%",235,"12.94%",1,"0.06%",1482,1360,"91.77%",611,"41.23%",19,"1.28%",536,540,"100.75%",247,"46.08%",35,"6.53%",1366,1298,"95.02%",716,"52.42%",216,"15.81%",1401,1404,"100.21%",803,"57.32%",265,"18.92%",1456,1372,"94.23%",797,"54.74%",253,"17.38%",1564,1528,"97.70%",953,"60.93%",358,"22.89%",1557,1592,"102.25%",1013,"65.06%",387,"24.86%",1306,1422,"108.88%",935,"71.59%",378,"28.94%",1228,1338,"108.96%",1001,"81.51%",473,"38.52%",1179,1228,"104.16%",980,"83.12%",513,"43.51%",944,1077,"114.09%",934,"98.94%",607,"64.30%",790,852,"107.85%",796,"100.76%",599,"75.82%",537,641,"119.37%",617,"114.90%",494,"91.99%",357,444,"124.37%",429,"120.17%",364,"101.96%",443,636,"143.57%",583,"131.60%",486,"109.71%",null,"Rio Bananal",19388,17771,0.91659789560552918,11650,0.60088714668867338,5448,0.2809985558077161]
["Regional Sul","Rio Novo do Sul",389,17,"4.37%",0,"0.00%",0,"0.00%",290,28,"9.66%",0,"0.00%",0,"0.00%",955,431,"45.13%",106,"11.10%",2,"0.21%",786,625,"79.52%",301,"38.30%",2,"0.25%",271,251,"92.62%",122,"45.02%",11,"4.06%",708,625,"88.28%",326,"46.05%",63,"8.90%",695,622,"89.50%",328,"47.19%",88,"12.66%",788,688,"87.31%",419,"53.17%",137,"17.39%",890,789,"88.65%",492,"55.28%",178,"20.00%",882,835,"94.67%",533,"60.43%",239,"27.10%",730,735,"100.68%",512,"70.14%",260,"35.62%",736,697,"94.70%",507,"68.89%",289,"39.27%",718,735,"102.37%",585,"81.48%",339,"47.21%",662,679,"102.57%",584,"88.22%",403,"60.88%",577,594,"102.95%",536,"92.89%",431,"74.70%",396,458,"115.66%",428,"108.08%",333,"84.09%",249,295,"118.47%",272,"109.24%",201,"80.72%",348,477,"137.07%",430,"123.56%",335,"96.26%",null,"Rio Novo do Sul",11070,9581,0.86549232158988254,6481,0.58545618789521225,3311,0.299096657633243]
["Regional Metropolitana","Santa Leopoldina",402,16,"3.98%",0,"0.00%",0,"0.00%",316,23,"7.28%",1,"0.32%",0,"0.00%",1099,716,"65.15%",137,"12.47%",3,"0.27%",997,831,"83.35%",434,"43.53%",1,"0.10%",331,319,"96.37%",198,"59.82%",30,"9.06%",825,748,"90.67%",546,"66.18%",193,"23.39%",801,786,"98.13%",569,"71.04%",205,"25.59%",864,808,"93.52%",594,"68.75%",271,"31.37%",941,881,"93.62%",686,"72.90%",315,"33.48%",1013,954,"94.18%",738,"72.85%",360,"35.54%",931,949,"101.93%",760,"81.63%",406,"43.61%",972,884,"90.95%",775,"79.73%",444,"45.68%",920,929,"100.98%",794,"86.30%",482,"52.39%",846,854,"100.95%",778,"91.96%",559,"66.08%",646,705,"109.13%",655,"101.39%",518,"80.19%",488,540,"110.66%",505,"103.48%",410,"84.02%",276,317,"114.86%",304,"110.14%",259,"93.84%",378,492,"130.16%",447,"118.25%",352,"93.12%",null,"Santa Leopoldina",13046,11752,0.90081250958148096,8921,0.68381112984822934,4808,0.36854208186417292]
["Regional Metropolitana","Santa Maria de Jetibá",1959,52,"2.65%",0,"0.00%",0,"0.00%",1276,53,"4.15%",0,"0.00%",0,"0.00%",3777,1356,"35.90%",224,"5.93%",4,"0.11%",3202,2356,"73.58%",549,"17.15%",4,"0.12%",1199,945,"78.82%",245,"20.43%",17,"1.42%",3375,2761,"81.81%",945,"28.00%",201,"5.96%",3413,3180,"93.17%",1249,"36.60%",277,"8.12%",3529,3057,"86.63%",1344,"38.08%",355,"10.06%",3680,3308,"89.89%",1538,"41.79%",490,"13.32%",3496,3243,"92.76%",1609,"46.02%",590,"16.88%",2809,2891,"102.92%",1490,"53.04%",561,"19.97%",2501,2417,"96.64%",1380,"55.18%",578,"23.11%",2085,2184,"104.75%",1392,"66.76%",600,"28.78%",1731,1909,"110.28%",1437,"83.02%",749,"43.27%",1496,1565,"104.61%",1354,"90.51%",803,"53.68%",977,1195,"122.31%",1061,"108.60%",645,"66.02%",695,802,"115.40%",712,"102.45%",441,"63.45%",653,951,"145.64%",805,"123.28%",441,"67.53%",null,"Santa Maria de Jetibá",41853,34225,0.81774305306668582,17334,0.41416385922156118,6756,0.16142212027811625]
["Regional Metropolitana","Santa Teresa",854,45,"5.27%",1,"0.12%",0,"0.00%",501,55,"10.98%",1,"0.20%",0,"0.00%",1742,977,"56.08%",240,"13.78%",1,"0.06%",1606,1353,"84.25%",690,"42.96%",4,"0.25%",563,550,"97.69%",300,"53.29%",42,"7.46%",1397,1459,"104.44%",817,"58.48%",270,"19.33%",1464,1426,"97.40%",798,"54.51%",282,"19.26%",1661,1609,"96.87%",992,"59.72%",397,"23.90%",1830,1771,"96.78%",1072,"58.58%",427,"23.33%",1799,1776,"98.72%",1153,"64.09%",517,"28.74%",1559,1618,"103.78%",1135,"72.80%",530,"34.00%",1591,1627,"102.26%",1246,"78.32%",640,"40.23%",1560,1733,"111.09%",1384,"88.72%",745,"47.76%",1375,1518,"110.40%",1317,"95.78%",846,"61.53%",1131,1330,"117.60%",1208,"106.81%",907,"80.19%",871,1080,"124.00%",1029,"118.14%",789,"90.59%",606,723,"119.31%",687,"113.37%",555,"91.58%",784,1120,"142.86%",1030,"131.38%",802,"102.30%",null,"Santa Teresa",22894,21770,0.95090416703066305,15100,0.65956145715034509,7754,0.33869136018170698]
["Regional Central","São Domingos do Norte",323,6,"1.86%",0,"0.00%",0,"0.00%",214,2,"0.93%",0,"0.00%",0,"0.00%",723,294,"40.66%",29,"4.01%",0,"0.00%",619,562,"90.79%",239,"38.61%",0,"0.00%",224,192,"85.71%",80,"35.71%",10,"4.46%",661,603,"91.23%",334,"50.53%",78,"11.80%",634,631,"99.53%",322,"50.79%",94,"14.83%",641,594,"92.67%",335,"52.26%",111,"17.32%",668,649,"97.16%",388,"58.08%",153,"22.90%",689,651,"94.48%",410,"59.51%",160,"23.22%",590,570,"96.61%",373,"63.22%",161,"27.29%",579,618,"106.74%",421,"72.71%",188,"32.47%",527,555,"105.31%",390,"74.00%",205,"38.90%",469,515,"109.81%",431,"91.90%",251,"53.52%",409,481,"117.60%",436,"106.60%",309,"75.55%",244,316,"129.51%",289,"118.44%",189,"77.46%",182,224,"123.08%",210,"115.38%",156,"85.71%",216,310,"143.52%",273,"126.39%",204,"94.44%",null,"São Domingos do Norte",8612,7773,0.90257779842080821,4960,0.57594054807245698,2269,0.2634695773339526]
["Regional Central","São Gabriel da Palha",1298,21,"1.62%",0,"0.00%",0,"0.00%",840,26,"3.10%",0,"0.00%",0,"0.00%",2739,911,"33.26%",69,"2.52%",0,"0.00%",2474,1664,"67.26%",493,"19.93%",8,"0.32%",807,655,"81.16%",176,"21.81%",10,"1.24%",2139,1689,"78.96%",579,"27.07%",86,"4.02%",2379,1901,"79.91%",743,"31.23%",136,"5.72%",2433,2124,"87.30%",943,"38.76%",265,"10.89%",2731,2277,"83.38%",1129,"41.34%",350,"12.82%",2843,2308,"81.18%",1216,"42.77%",410,"14.42%",2248,2195,"97.64%",1229,"54.67%",461,"20.51%",2076,1945,"93.69%",1164,"56.07%",492,"23.70%",1921,1928,"100.36%",1266,"65.90%",556,"28.94%",1693,1735,"102.48%",1349,"79.68%",731,"43.18%",1404,1484,"105.70%",1277,"90.95%",787,"56.05%",927,1055,"113.81%",901,"97.20%",572,"61.70%",626,708,"113.10%",625,"99.84%",393,"62.78%",806,1070,"132.75%",919,"114.02%",540,"67.00%",null,"São Gabriel da Palha",{"$f":"SUM(C68,J68,Q68,X68,AE68,AL68,AS68,AZ68,BG68,BN68,BU68,CB68,CI68,CP68,CW68,DD68,DK68,DR68)","v":32384},{"$f":"SUM(D68,K68,R68,Y68,AF68,AM68,AT68,BA68,BH68,BO68,BV68,CC68,CJ68,CQ68,CX68,DE68,DL68,DS68)","v":25696},{"$f":"EB68/EA68","v":0.79347826086956519},{"$f":"SUM(F68,M68,T68,AA68,AH68,AO68,AV68,BC68,BJ68,BQ68,BX68,CE68,CL68,CS68,CZ68,DG68,DN68,DU68)","v":14078},{"$f":"ED68/EA68","v":0.43472084980237152},{"$f":"SUM(H68,O68,V68,AC68,AJ68,AQ68,AX68,BE68,BL68,BS68,BZ68,CG68,CN68,CU68,DB68,DI68,DP68,DW68)","v":5797},{"$f":"EF68/EA68","v":0.17900815217391305}]
["Regional Sul","São José do Calçado",369,4,"1.08%",0,"0.00%",0,"0.00%",297,5,"1.68%",0,"0.00%",0,"0.00%",945,441,"46.67%",90,"9.52%",1,"0.11%",798,622,"77.94%",234,"29.32%",2,"0.25%",288,224,"77.78%",76,"26.39%",3,"1.04%",707,581,"82.18%",255,"36.07%",65,"9.19%",742,586,"78.98%",277,"37.33%",71,"9.57%",699,593,"84.84%",334,"47.78%",116,"16.60%",695,588,"84.60%",348,"50.07%",116,"16.69%",735,656,"89.25%",407,"55.37%",175,"23.81%",663,631,"95.17%",406,"61.24%",187,"28.21%",755,685,"90.73%",458,"60.66%",204,"27.02%",757,703,"92.87%",519,"68.56%",245,"32.36%",692,703,"101.59%",579,"83.67%",333,"48.12%",596,646,"108.39%",582,"97.65%",411,"68.96%",466,530,"113.73%",491,"105.36%",366,"78.54%",312,382,"122.44%",340,"108.97%",260,"83.33%",390,531,"136.15%",470,"120.51%",319,"81.79%",null,"São José do Calçado",10906,9111,0.83541169998166143,5866,0.53786906290115533,2874,0.26352466532184121]
["Regional Norte","São Mateus",5429,133,"2.45%",0,"0.00%",0,"0.00%",3484,175,"5.02%",1,"0.03%",0,"0.00%",11933,4920,"41.23%",804,"6.74%",5,"0.04%",10454,6990,"66.86%",2227,"21.30%",23,"0.22%",3870,2852,"73.70%",890,"23.00%",71,"1.83%",9749,8311,"85.25%",3426,"35.14%",866,"8.88%",9496,8449,"88.97%",3885,"40.91%",1060,"11.16%",9200,7995,"86.90%",3962,"43.07%",1219,"13.25%",10015,8500,"84.87%",4499,"44.92%",1593,"15.91%",9939,9134,"91.90%",5366,"53.99%",1992,"20.04%",8604,8279,"96.22%",5178,"60.18%",2084,"24.22%",7593,7111,"93.65%",4670,"61.50%",2049,"26.99%",6871,6802,"99.00%",4648,"67.65%",2305,"33.55%",5876,5892,"100.27%",4597,"78.23%",2643,"44.98%",4566,5009,"109.70%",4195,"91.87%",2696,"59.05%",3125,3514,"112.45%",2982,"95.42%",1976,"63.23%",1788,2227,"124.55%",1898,"106.15%",1248,"69.80%",2294,3057,"133.26%",2494,"108.72%",1522,"66.35%",null,"São Mateus",124286,99350,0.79936597846901503,55722,0.44833690037494167,23352,0.18788922324316495]
["Regional Central","São Roque do Canaã",351,31,"8.83%",0,"0.00%",0,"0.00%",213,37,"17.37%",0,"0.00%",0,"0.00%",766,503,"65.67%",123,"16.06%",3,"0.39%",783,695,"88.76%",413,"52.75%",9,"1.15%",271,253,"93.36%",130,"47.97%",23,"8.49%",718,716,"99.72%",408,"56.82%",122,"16.99%",691,692,"100.14%",402,"58.18%",120,"17.37%",700,679,"97.00%",428,"61.14%",186,"26.57%",774,765,"98.84%",491,"63.44%",203,"26.23%",828,848,"102.42%",590,"71.26%",282,"34.06%",817,807,"98.78%",580,"70.99%",303,"37.09%",861,876,"101.74%",665,"77.24%",349,"40.53%",766,830,"108.36%",646,"84.33%",354,"46.21%",672,701,"104.32%",595,"88.54%",403,"59.97%",571,594,"104.03%",553,"96.85%",428,"74.96%",412,468,"113.59%",436,"105.83%",358,"86.89%",283,343,"121.20%",323,"114.13%",265,"93.64%",432,528,"122.22%",484,"112.04%",395,"91.44%",null,"São Roque do Canaã",10909,10366,0.95022458520487674,7267,0.66614721789348241,3803,0.34861123842698688]
["Regional Metropolitana","Serra",22028,621,"2.82%",0,"0.00%",0,"0.00%",15117,779,"5.15%",3,"0.02%",0,"0.00%",53165,19397,"36.48%",4613,"8.68%",18,"0.03%",43428,27675,"63.73%",9336,"21.50%",51,"0.12%",14664,10664,"72.72%",3167,"21.60%",237,"1.62%",39738,30889,"77.73%",12515,"31.49%",2945,"7.41%",40291,33914,"84.17%",15634,"38.80%",4315,"10.71%",43267,34614,"80.00%",17872,"41.31%",5675,"13.12%",47524,39765,"83.67%",21879,"46.04%",7681,"16.16%",45103,39628,"87.86%",22888,"50.75%",8741,"19.38%",35226,32798,"93.11%",20214,"57.38%",8550,"24.27%",30278,27020,"89.24%",17614,"58.17%",8109,"26.78%",26431,24538,"92.84%",17211,"65.12%",8916,"33.73%",23125,22273,"96.32%",17157,"74.19%",10331,"44.67%",18306,18937,"103.45%",15983,"87.31%",11075,"60.50%",11385,13021,"114.37%",11251,"98.82%",8212,"72.13%",6462,7593,"117.50%",6567,"101.62%",4755,"73.58%",7203,9466,"131.42%",7848,"108.95%",5308,"73.69%",null,"Serra",522741,393592,0.75293883586709287,221752,0.42421007726579701,94919,0.18157940547996043]
["Regional Central","Sooretama",1296,21,"1.62%",0,"0.00%",0,"0.00%",835,25,"2.99%",0,"0.00%",0,"0.00%",3021,1364,"45.15%",195,"6.45%",0,"0.00%",2601,1942,"74.66%",701,"26.95%",6,"0.23%",875,747,"85.37%",267,"30.51%",17,"1.94%",2216,1900,"85.74%",797,"35.97%",161,"7.27%",2086,1896,"90.89%",884,"42.38%",239,"11.46%",1984,1762,"88.81%",878,"44.25%",278,"14.01%",2117,1796,"84.84%",951,"44.92%",279,"13.18%",2040,1919,"94.07%",1126,"55.20%",407,"19.95%",1736,1704,"98.16%",1059,"61.00%",468,"26.96%",1410,1407,"99.79%",967,"68.58%",472,"33.48%",1222,1269,"103.85%",936,"76.60%",510,"41.73%",1020,1026,"100.59%",810,"79.41%",480,"47.06%",811,882,"108.75%",776,"95.68%",526,"64.86%",557,623,"111.85%",559,"100.36%",391,"70.20%",343,428,"124.78%",386,"112.54%",284,"82.80%",366,503,"137.43%",426,"116.39%",282,"77.05%",null,"Sooretama",26536,21214,0.79944226710883326,11718,0.44158878504672899,4800,0.18088634308109738]
["Regional Sul","Vargem Alta",793,48,"6.05%",0,"0.00%",0,"0.00%",540,51,"9.44%",1,"0.19%",0,"0.00%",1700,937,"55.12%",373,"21.94%",2,"0.12%",1601,1399,"87.38%",740,"46.22%",14,"0.87%",499,519,"104.01%",249,"49.90%",15,"3.01%",1455,1343,"92.30%",660,"45.36%",130,"8.93%",1391,1316,"94.61%",690,"49.60%",153,"11.00%",1376,1245,"90.48%",716,"52.03%",234,"17.01%",1517,1453,"95.78%",863,"56.89%",323,"21.29%",1582,1481,"93.62%",904,"57.14%",359,"22.69%",1243,1302,"104.75%",867,"69.75%",338,"27.19%",1299,1250,"96.23%",920,"70.82%",417,"32.10%",1289,1337,"103.72%",1024,"79.44%",547,"42.44%",1073,1162,"108.29%",990,"92.26%",605,"56.38%",806,990,"122.83%",895,"111.04%",634,"78.66%",607,731,"120.43%",663,"109.23%",466,"76.77%",347,435,"125.36%",406,"117.00%",311,"89.63%",532,761,"143.05%",667,"125.38%",494,"92.86%",null,"Vargem Alta",19650,17760,0.90381679389312974,11628,0.59175572519083974,5042,0.25659033078880406]
["Regional Metropolitana","Venda Nova do Imigrante",1066,78,"7.32%",1,"0.09%",0,"0.00%",620,88,"14.19%",0,"0.00%",0,"0.00%",1942,1125,"57.93%",377,"19.41%",0,"0.00%",1772,1496,"84.42%",728,"41.08%",9,"0.51%",636,651,"102.36%",287,"45.13%",35,"5.50%",1745,1747,"100.11%",827,"47.39%",213,"12.21%",1826,1909,"104.55%",993,"54.38%",294,"16.10%",1922,1869,"97.24%",977,"50.83%",350,"18.21%",2063,2019,"97.87%",1166,"56.52%",446,"21.62%",1925,1910,"99.22%",1031,"53.56%",371,"19.27%",1698,1835,"108.07%",1161,"68.37%",493,"29.03%",1582,1639,"103.60%",1121,"70.86%",545,"34.45%",1448,1532,"105.80%",1137,"78.52%",583,"40.26%",1148,1288,"112.20%",1085,"94.51%",672,"58.54%",910,1091,"119.89%",1011,"111.10%",737,"80.99%",670,783,"116.87%",742,"110.75%",558,"83.28%",446,531,"119.06%",502,"112.56%",368,"82.51%",592,806,"136.15%",745,"125.84%",541,"91.39%",null,"Venda Nova do Imigrante",24011,22397,0.93278080879596847,13891,0.57852650868352007,6215,0.25883969847153387]
["Regional Metropolitana","Viana",3039,86,"2.83%",0,"0.00%",0,"0.00%",2092,135,"6.45%",0,"0.00%",0,"0.00%",7308,3382,"46.28%",1078,"14.75%",9,"0.12%",6087,4149,"68.16%",1585,"26.04%",19,"0.31%",2053,1496,"72.87%",505,"24.60%",37,"1.80%",5629,4879,"86.68%",1960,"34.82%",451,"8.01%",5867,5649,"96.28%",2497,"42.56%",795,"13.55%",6074,5799,"95.47%",2701,"44.47%",1004,"16.53%",6403,6209,"96.97%",3202,"50.01%",1240,"19.37%",6300,6048,"96.00%",3236,"51.37%",1334,"21.17%",5006,5144,"102.76%",2944,"58.81%",1239,"24.75%",4349,4258,"97.91%",2647,"60.86%",1256,"28.88%",3856,3977,"103.14%",2638,"68.41%",1389,"36.02%",3453,3604,"104.37%",2741,"79.38%",1690,"48.94%",2598,3132,"120.55%",2664,"102.54%",1814,"69.82%",1712,2113,"123.42%",1857,"108.47%",1297,"75.76%",919,1290,"140.37%",1148,"124.92%",792,"86.18%",1076,1594,"148.14%",1353,"125.74%",900,"83.64%",null,"Viana",73821,62944,0.85265710299237341,34756,0.47081453786862815,15266,0.20679752373985721]
["Regional Norte","Vila Pavão",304,35,"11.51%",0,"0.00%",0,"0.00%",236,64,"27.12%",0,"0.00%",0,"0.00%",796,521,"65.45%",254,"31.91%",0,"0.00%",661,660,"99.85%",387,"58.55%",2,"0.30%",250,215,"86.00%",83,"33.20%",10,"4.00%",528,533,"100.95%",250,"47.35%",71,"13.45%",650,563,"86.62%",296,"45.54%",91,"14.00%",632,634,"100.32%",354,"56.01%",155,"24.53%",703,667,"94.88%",366,"52.06%",147,"20.91%",710,735,"103.52%",465,"65.49%",208,"29.30%",685,675,"98.54%",443,"64.67%",215,"31.39%",649,618,"95.22%",431,"66.41%",201,"30.97%",574,616,"107.32%",464,"80.84%",248,"43.21%",500,519,"103.80%",415,"83.00%",263,"52.60%",373,471,"126.27%",406,"108.85%",278,"74.53%",249,292,"117.27%",279,"112.05%",211,"84.74%",185,230,"124.32%",208,"112.43%",149,"80.54%",203,285,"140.39%",255,"125.62%",198,"97.54%",null,"Vila Pavão",8888,8333,0.93755625562556255,5356,0.6026102610261026,2447,0.27531503150315034]
["Regional Central","Vila Valério",681,19,"2.79%",0,"0.00%",0,"0.00%",379,23,"6.07%",0,"0.00%",0,"0.00%",1180,565,"47.88%",123,"10.42%",1,"0.08%",1091,935,"85.70%",345,"31.62%",4,"0.37%",352,325,"92.33%",104,"29.55%",13,"3.69%",993,889,"89.53%",328,"33.03%",79,"7.96%",1036,963,"92.95%",428,"41.31%",116,"11.20%",1042,961,"92.23%",461,"44.24%",140,"13.44%",1102,1128,"102.36%",576,"52.27%",179,"16.24%",1163,1055,"90.71%",582,"50.04%",193,"16.60%",983,1070,"108.85%",646,"65.72%",237,"24.11%",869,965,"111.05%",606,"69.74%",256,"29.46%",844,915,"108.41%",620,"73.46%",276,"32.70%",693,779,"112.41%",616,"88.89%",337,"48.63%",532,671,"126.13%",577,"108.46%",362,"68.05%",403,513,"127.30%",450,"111.66%",306,"75.93%",240,337,"140.42%",297,"123.75%",198,"82.50%",292,422,"144.52%",343,"117.47%",208,"71.23%",null,"Vila Valério",13875,12535,0.90342342342342341,7102,0.5118558558558558,2905,0.20936936936936937]
["Regional Metropolitana","Vila Velha",16888,565,"3.35%",1,"0.01%",0,"0.00%",11235,674,"6.00%",5,"0.04%",0,"0.00%",39031,15834,"40.57%",4222,"10.82%",11,"0.03%",33559,23679,"70.56%",10411,"31.02%",78,"0.23%",11690,9311,"79.65%",3638,"31.12%",414,"3.54%",34117,28265,"82.85%",13476,"39.50%",4143,"12.14%",35678,32767,"91.84%",17400,"48.77%",6402,"17.94%",37276,32931,"88.34%",18612,"49.93%",7748,"20.79%",39602,35120,"88.68%",20979,"52.97%",9032,"22.81%",39329,35159,"89.40%",21713,"55.21%",10033,"25.51%",31720,29943,"94.40%",19560,"61.66%",9628,"30.35%",30013,26131,"87.07%",18217,"60.70%",9621,"32.06%",28733,26328,"91.63%",19278,"67.09%",10987,"38.24%",25601,24865,"97.13%",19409,"75.81%",12198,"47.65%",20643,21269,"103.03%",17805,"86.25%",12296,"59.56%",14310,15191,"106.16%",13178,"92.09%",9370,"65.48%",9116,9946,"109.10%",8668,"95.09%",6099,"66.90%",11379,14400,"126.55%",12018,"105.62%",7956,"69.92%",null,"Vila Velha",469920,382378,0.81370871637725573,238590,0.5077247191011236,116016,0.24688457609805925]
["Regional Metropolitana","Vitória",11020,772,"7.01%",2,"0.02%",0,"0.00%",7492,957,"12.77%",4,"0.05%",0,"0.00%",25612,16615,"64.87%",5161,"20.15%",23,"0.09%",21536,20598,"95.64%",9891,"45.93%",67,"0.31%",7743,7993,"103.23%",3638,"46.98%",393,"5.08%",22666,24724,"109.08%",14071,"62.08%",5129,"22.63%",23212,29460,"126.92%",17752,"76.48%",7309,"31.49%",23980,29446,"122.79%",18212,"75.95%",8181,"34.12%",26637,32891,"123.48%",21177,"79.50%",10045,"37.71%",26887,34131,"126.94%",23030,"85.65%",11714,"43.57%",22069,29148,"132.08%",20625,"93.46%",11227,"50.87%",20112,25310,"125.85%",18558,"92.27%",10921,"54.30%",20532,24426,"118.97%",18709,"91.12%",11790,"57.42%",19349,22419,"115.87%",18470,"95.46%",12983,"67.10%",16196,19174,"118.39%",16702,"103.12%",12486,"77.09%",11644,14382,"123.51%",12915,"110.92%",9875,"84.81%",7493,9747,"130.08%",8827,"117.80%",6662,"88.91%",10123,14266,"140.93%",12612,"124.59%",9378,"92.64%",null,"Vitória",324303,356459,1.0991541860543999,240356,0.74114639704227214,128183,0.39525690480815778]
[null,"TOTAL ESPÍRITO SANTO",{"$f":"SUM(C3:C80)","v":153351},{"$f":"SUM(D3:D80)","v":5894},{"$f":"D81/C81","v":3.843470208867239E-2},{"$f":"SUM(F3:F80)","v":12},{"$f":"F81/C81","v":7.8251853590781927E-5},{"$f":"SUM(H3:H80)","v":0},{"$f":"H81/C81","v":0},{"$f":"SUM(J3:J80)","v":102102},{"$f":"SUM(K3:K80)","v":7244},{"$f":"K81/J81","v":7.0948659183953308E-2},{"$f":"SUM(M3:M80)","v":49},{"$f":"M81/J81","v":4.7991224461812695E-4},{"$f":"SUM(O3:O80)","v":1},{"$f":"O81/J81","v":9.7941274411862641E-6},{"$f":"SUM(Q3:Q80)","v":352763},{"$f":"SUM(R3:R80)","v":159437},{"$f":"R81/Q81","v":0.45196633433778488},{"$f":"SUM(T3:T80)","v":40949},{"$f":"T81/Q81","v":0.11608076810776641},{"$f":"SUM(V3:V80)","v":171},{"$f":"V81/Q81","v":4.8474471529043577E-4},{"$f":"SUM(X3:X80)","v":300898},{"$f":"SUM(Y3:Y80)","v":224553},{"$f":"Y81/X81","v":0.74627614673410925},{"$f":"SUM(AA3:AA80)","v":92743},{"$f":"AA81/X81","v":0.30822072596029221},{"$f":"SUM(AC3:AC80)","v":919},{"$f":"AC81/X81","v":3.0541911212437437E-3},{"$f":"SUM(AE3:AE80)","v":103299},{"$f":"SUM(AF3:AF80)","v":86235},{"$f":"AF81/AE81","v":0.83480963029651789},{"$f":"SUM(AH3:AH80)","v":32341},{"$f":"AH81/AE81","v":0.31308144318918868},{"$f":"SUM(AJ3:AJ80)","v":2959},{"$f":"AJ81/AE81","v":2.8645001403692194E-2},{"$f":"SUM(AL3:AL80)","v":276033},{"$f":"SUM(AM3:AM80)","v":238743},{"$f":"AM81/AL81","v":0.86490745671713165},{"$f":"SUM(AO3:AO80)","v":108141},{"$f":"AO81/AL81","v":0.39176837552031823},{"$f":"SUM(AQ3:AQ80)","v":28904},{"$f":"AQ81/AL81","v":0.10471211775403666},{"$f":"SUM(AS3:AS80)","v":279424},{"$f":"SUM(AT3:AT80)","v":259822},{"$f":"AT81/AS81","v":0.92984854557947783},{"$f":"SUM(AV3:AV80)","v":129064},{"$f":"AV81/AS81","v":0.46189303710490154},{"$f":"SUM(AX3:AX80)","v":39689},{"$f":"AX81/AS81","v":0.14203862230874942},{"$f":"SUM(AZ3:AZ80)","v":291550},{"$f":"SUM(BA3:BA80)","v":261405},{"$f":"BA81/AZ81","v":0.89660435602812549},{"$f":"SUM(BC3:BC80)","v":139897},{"$f":"BC81/AZ81","v":0.47983879265992113},{"$f":"SUM(BE3:BE80)","v":49359},{"$f":"BE81/AZ81","v":0.16929857657348654},{"$f":"SUM(BG3:BG80)","v":313839},{"$f":"SUM(BH3:BH80)","v":285995},{"$f":"BH81/BG81","v":0.91127935024009121},{"$f":"SUM(BJ3:BJ80)","v":162248},{"$f":"BJ81/BG81","v":0.51697845073429372},{"$f":"SUM(BL3:BL80)","v":62060},{"$f":"BL81/BG81","v":0.19774470349446691},{"$f":"SUM(BN3:BN80)","v":315396},{"$f":"SUM(BO3:BO80)","v":295005},{"$f":"BO81/BN81","v":0.93534794353764794},{"$f":"SUM(BQ3:BQ80)","v":177320},{"$f":"BQ81/BN81","v":0.56221385179266703},{"$f":"SUM(BS3:BS80)","v":73939},{"$f":"BS81/BN81","v":0.23443226927418229},{"$f":"SUM(BU3:BU80)","v":260955},{"$f":"SUM(BV3:BV80)","v":261899},{"$f":"BV81/BU81","v":1.0036174819413308},{"$f":"SUM(BX3:BX80)","v":167507},{"$f":"BX81/BU81","v":0.6418999444348642},{"$f":"SUM(BZ3:BZ80)","v":75450},{"$f":"BZ81/BU81","v":0.28913030982353277},{"$f":"SUM(CB3:CB80)","v":242363},{"$f":"SUM(CC3:CC80)","v":233167},{"$f":"CC81/CB81","v":0.96205691462805787},{"$f":"SUM(CE3:CE80)","v":158637},{"$f":"CE81/CB81","v":0.65454297892004965},{"$f":"SUM(CG3:CG80)","v":78051},{"$f":"CG81/CB81","v":0.32204173079224141},{"$f":"SUM(CI3:CI80)","v":225229},{"$f":"SUM(CJ3:CJ80)","v":225646},{"$f":"CJ81/CI81","v":1.0018514489697152},{"$f":"SUM(CL3:CL80)","v":163389},{"$f":"CL81/CI81","v":0.72543500170937136},{"$f":"SUM(CN3:CN80)","v":87660},{"$f":"CN81/CI81","v":0.38920387694302244},{"$f":"SUM(CP3:CP80)","v":200415},{"$f":"SUM(CQ3:CQ80)","v":204870},{"$f":"CQ81/CP81","v":1.0222288750842004},{"$f":"SUM(CS3:CS80)","v":162858},{"$f":"CS81/CP81","v":0.81260384701743882},{"$f":"SUM(CU3:CU80)","v":101486},{"$f":"CU81/CP81","v":0.50637926302921443},{"$f":"SUM(CW3:CW80)","v":161788},{"$f":"SUM(CX3:CX80)","v":176799},{"$f":"CX81/CW81","v":1.0927819121319258},{"$f":"SUM(CZ3:CZ80)","v":152165},{"$f":"CZ81/CW81","v":0.94052092862264203},{"$f":"SUM(DB3:DB80)","v":105960},{"$f":"DB81/CW81","v":0.65493114446065226},{"$f":"SUM(DD3:DD80)","v":111235},{"$f":"SUM(DE3:DE80)","v":128193},{"$f":"DE81/DD81","v":1.1524520160021576},{"$f":"SUM(DG3:DG80)","v":113385},{"$f":"DG81/DD81","v":1.0193284487796108},{"$f":"SUM(DI3:DI80)","v":81857},{"$f":"DI81/DD81","v":0.73589247988492834},{"$f":"SUM(DK3:DK80)","v":70070},{"$f":"SUM(DL3:DL80)","v":83938},{"$f":"DL81/DK81","v":1.1979163693449408},{"$f":"SUM(DN3:DN80)","v":74705},{"$f":"DN81/DK81","v":1.066148137576709},{"$f":"SUM(DP3:DP80)","v":53918},{"$f":"DP81/DK81","v":0.76948765520194096},{"$f":"SUM(DR3:DR80)","v":87890},{"$f":"SUM(DS3:DS80)","v":118143},{"$f":"DS81/DR81","v":1.3442143588576629},{"$f":"SUM(DU3:DU80)","v":101659},{"$f":"DU81/DR81","v":1.1566617362612357},{"$f":"SUM(DW3:DW80)","v":70153},{"$f":"DW81/DR81","v":0.79819092046876783},null,"TOTAL ESPÍRITO SANTO",3848600,3256988,0.84627864678064746,1977069,0.51371121966429356,912536,0.23710855895650365]
[null,"Regional Metropolitana",{"$f":"SUMIF($A$3:$A$80,$B82,C$3:C$80)","v":89505},{"$f":"SUMIF($A$3:$A$80,$B82,D$3:D$80)","v":3788},{"$f":"D82/C82","v":4.2321658007932521E-2},{"$f":"SUMIF($A$3:$A$80,$B82,F$3:F$80)","v":9},{"$f":"F82/C82","v":1.0055304172951231E-4},{"$f":"SUMIF($A$3:$A$80,$B82,H$3:H$80)","v":0},{"$f":"H82/C82","v":0},{"$f":"SUMIF($A$3:$A$80,$B82,J$3:J$80)","v":59897},{"$f":"SUMIF($A$3:$A$80,$B82,K$3:K$80)","v":4557},{"$f":"K82/J82","v":7.6080605038649676E-2},{"$f":"SUMIF($A$3:$A$80,$B82,M$3:M$80)","v":29},{"$f":"M82/J82","v":4.8416448236138703E-4},{"$f":"SUMIF($A$3:$A$80,$B82,O$3:O$80)","v":1},{"$f":"O82/J82","v":1.6695326977978864E-5},{"$f":"SUMIF($A$3:$A$80,$B82,Q$3:Q$80)","v":208876},{"$f":"SUMIF($A$3:$A$80,$B82,R$3:R$80)","v":96113},{"$f":"R82/Q82","v":0.46014381738447691},{"$f":"SUMIF($A$3:$A$80,$B82,T$3:T$80)","v":26471},{"$f":"T82/Q82","v":0.12673069189375516},{"$f":"SUMIF($A$3:$A$80,$B82,V$3:V$80)","v":90},{"$f":"V82/Q82","v":4.3087764989754689E-4},{"$f":"SUMIF($A$3:$A$80,$B82,X$3:X$80)","v":176348},{"$f":"SUMIF($A$3:$A$80,$B82,Y$3:Y$80)","v":131976},{"$f":"Y82/X82","v":0.74838387733345435},{"$f":"SUMIF($A$3:$A$80,$B82,AA$3:AA$80)","v":55749},{"$f":"AA82/X82","v":0.31613060539388027},{"$f":"SUMIF($A$3:$A$80,$B82,AC$3:AC$80)","v":396},{"$f":"AC82/X82","v":2.245559915621385E-3},{"$f":"SUMIF($A$3:$A$80,$B82,AE$3:AE$80)","v":60323},{"$f":"SUMIF($A$3:$A$80,$B82,AF$3:AF$80)","v":50586},{"$f":"AF82/AE82","v":0.83858561411070409},{"$f":"SUMIF($A$3:$A$80,$B82,AH$3:AH$80)","v":19345},{"$f":"AH82/AE82","v":0.3206902839712879},{"$f":"SUMIF($A$3:$A$80,$B82,AJ$3:AJ$80)","v":1833},{"$f":"AJ82/AE82","v":3.0386419773552376E-2},{"$f":"SUMIF($A$3:$A$80,$B82,AL$3:AL$80)","v":165481},{"$f":"SUMIF($A$3:$A$80,$B82,AM$3:AM$80)","v":144557},{"$f":"AM82/AL82","v":0.87355648080444281},{"$f":"SUMIF($A$3:$A$80,$B82,AO$3:AO$80)","v":67317},{"$f":"AO82/AL82","v":0.40679594636242228},{"$f":"SUMIF($A$3:$A$80,$B82,AQ$3:AQ$80)","v":19037},{"$f":"AQ82/AL82","v":0.1150403973870112},{"$f":"SUMIF($A$3:$A$80,$B82,AS$3:AS$80)","v":167614},{"$f":"SUMIF($A$3:$A$80,$B82,AT$3:AT$80)","v":160142},{"$f":"AT82/AS82","v":0.95542138484852102},{"$f":"SUMIF($A$3:$A$80,$B82,AV$3:AV$80)","v":82038},{"$f":"AV82/AS82","v":0.48944598899853237},{"$f":"SUMIF($A$3:$A$80,$B82,AX$3:AX$80)","v":27095},{"$f":"AX82/AS82","v":0.16165117472287518},{"$f":"SUMIF($A$3:$A$80,$B82,AZ$3:AZ$80)","v":176453},{"$f":"SUMIF($A$3:$A$80,$B82,BA$3:BA$80)","v":161787},{"$f":"BA82/AZ82","v":0.91688438281015339},{"$f":"SUMIF($A$3:$A$80,$B82,BC$3:BC$80)","v":89204},{"$f":"BC82/AZ82","v":0.5055397187919729},{"$f":"SUMIF($A$3:$A$80,$B82,BE$3:BE$80)","v":33489},{"$f":"BE82/AZ82","v":0.18978991572826759},{"$f":"SUMIF($A$3:$A$80,$B82,BG$3:BG$80)","v":191072},{"$f":"SUMIF($A$3:$A$80,$B82,BH$3:BH$80)","v":178486},{"$f":"BH82/BG82","v":0.93412954279015237},{"$f":"SUMIF($A$3:$A$80,$B82,BJ$3:BJ$80)","v":103831},{"$f":"BJ82/BG82","v":0.54341295427901526},{"$f":"SUMIF($A$3:$A$80,$B82,BL$3:BL$80)","v":41718},{"$f":"BL82/BG82","v":0.21833654329258081},{"$f":"SUMIF($A$3:$A$80,$B82,BN$3:BN$80)","v":190456},{"$f":"SUMIF($A$3:$A$80,$B82,BO$3:BO$80)","v":182573},{"$f":"BO82/BN82","v":0.95860986264544046},{"$f":"SUMIF($A$3:$A$80,$B82,BQ$3:BQ$80)","v":111072},{"$f":"BQ82/BN82","v":0.58318981812072079},{"$f":"SUMIF($A$3:$A$80,$B82,BS$3:BS$80)","v":48348},{"$f":"BS82/BN82","v":0.25385390851430251},{"$f":"SUMIF($A$3:$A$80,$B82,BU$3:BU$80)","v":155329},{"$f":"SUMIF($A$3:$A$80,$B82,BV$3:BV$80)","v":158271},{"$f":"BV82/BU82","v":1.0189404425445345},{"$f":"SUMIF($A$3:$A$80,$B82,BX$3:BX$80)","v":102110},{"$f":"BX82/BU82","v":0.65737885391652562},{"$f":"SUMIF($A$3:$A$80,$B82,BZ$3:BZ$80)","v":47911},{"$f":"BZ82/BU82","v":0.30844851895009945},{"$f":"SUMIF($A$3:$A$80,$B82,CB$3:CB$80)","v":142027},{"$f":"SUMIF($A$3:$A$80,$B82,CC$3:CC$80)","v":137996},{"$f":"CC82/CB82","v":0.97161807261999478},{"$f":"SUMIF($A$3:$A$80,$B82,CE$3:CE$80)","v":94225},{"$f":"CE82/CB82","v":0.66343019285065519},{"$f":"SUMIF($A$3:$A$80,$B82,CG$3:CG$80)","v":48216},{"$f":"CG82/CB82","v":0.33948474585818189},{"$f":"SUMIF($A$3:$A$80,$B82,CI$3:CI$80)","v":131470},{"$f":"SUMIF($A$3:$A$80,$B82,CJ$3:CJ$80)","v":131667},{"$f":"CJ82/CI82","v":1.0014984407089069},{"$f":"SUMIF($A$3:$A$80,$B82,CL$3:CL$80)","v":95743},{"$f":"CL82/CI82","v":0.72824979082680463},{"$f":"SUMIF($A$3:$A$80,$B82,CN$3:CN$80)","v":53244},{"$f":"CN82/CI82","v":0.40498973149768008},{"$f":"SUMIF($A$3:$A$80,$B82,CP$3:CP$80)","v":117912},{"$f":"SUMIF($A$3:$A$80,$B82,CQ$3:CQ$80)","v":120278},{"$f":"CQ82/CP82","v":1.0200658117918449},{"$f":"SUMIF($A$3:$A$80,$B82,CS$3:CS$80)","v":95380},{"$f":"CS82/CP82","v":0.80890833842187393},{"$f":"SUMIF($A$3:$A$80,$B82,CU$3:CU$80)","v":60839},{"$f":"CU82/CP82","v":0.51596953660356881},{"$f":"SUMIF($A$3:$A$80,$B82,CW$3:CW$80)","v":95017},{"$f":"SUMIF($A$3:$A$80,$B82,CX$3:CX$80)","v":103390},{"$f":"CX82/CW82","v":1.0881210730711346},{"$f":"SUMIF($A$3:$A$80,$B82,CZ$3:CZ$80)","v":88515},{"$f":"CZ82/CW82","v":0.93157014008019623},{"$f":"SUMIF($A$3:$A$80,$B82,DB$3:DB$80)","v":62595},{"$f":"DB82/CW82","v":0.658776850458339},{"$f":"SUMIF($A$3:$A$80,$B82,DD$3:DD$80)","v":64819},{"$f":"SUMIF($A$3:$A$80,$B82,DE$3:DE$80)","v":74610},{"$f":"DE82/DD82","v":1.1510513892531511},{"$f":"SUMIF($A$3:$A$80,$B82,DG$3:DG$80)","v":65748},{"$f":"DG82/DD82","v":1.0143322174053904},{"$f":"SUMIF($A$3:$A$80,$B82,DI$3:DI$80)","v":48163},{"$f":"DI82/DD82","v":0.74303830666934079},{"$f":"SUMIF($A$3:$A$80,$B82,DK$3:DK$80)","v":40078},{"$f":"SUMIF($A$3:$A$80,$B82,DL$3:DL$80)","v":48072},{"$f":"DL82/DK82","v":1.1994610509506463},{"$f":"SUMIF($A$3:$A$80,$B82,DN$3:DN$80)","v":42598},{"$f":"DN82/DK82","v":1.0628773890912719},{"$f":"SUMIF($A$3:$A$80,$B82,DP$3:DP$80)","v":31015},{"$f":"DP82/DK82","v":0.77386596137531816},{"$f":"SUMIF($A$3:$A$80,$B82,DR$3:DR$80)","v":49239},{"$f":"SUMIF($A$3:$A$80,$B82,DS$3:DS$80)","v":66138},{"$f":"DS82/DR82","v":1.3432035581551209},{"$f":"SUMIF($A$3:$A$80,$B82,DU$3:DU$80)","v":56420},{"$f":"DU82/DR82","v":1.145839679928512},{"$f":"SUMIF($A$3:$A$80,$B82,DW$3:DW$80)","v":39291},{"$f":"DW82/DR82","v":0.79796502772192779},null,"Regional Metropolitana",2281916,1954987,0.8567304843824225,1195804,0.524035065269712,563281,0.24684563323102165]
[null,"Regional Norte",{"$f":"SUMIF($A$3:$A$80,$B83,C$3:C$80)","v":17307},643,{"$f":"D83/C83","v":3.7152597214999708E-2},{"$f":"SUMIF($A$3:$A$80,$B83,F$3:F$80)","v":0},0,0,{"$f":"H83/C83","v":0},11465,834,{"$f":"K83/J83","v":7.2743131269079803E-2},5,4.3610989969472308E-4,0,{"$f":"O83/J83","v":0},38795,17855,{"$f":"R83/Q83","v":0.46023972161360999},{"$f":"SUMIF($A$3:$A$80,$B83,T$3:T$80)","v":4464},0.11506637453280062,31,{"$f":"V83/Q83","v":7.9907204536667099E-4},{"$f":"SUMIF($A$3:$A$80,$B83,X$3:X$80)","v":34282},25047,{"$f":"Y83/X83","v":0.7306166501370982},9635,0.28105128055539352,118,{"$f":"AC83/X83","v":3.4420395542850476E-3},{"$f":"SUMIF($A$3:$A$80,$B83,AE$3:AE$80)","v":11775},9482,{"$f":"AF83/AE83","v":0.80526539278131637},3279,0.27847133757961784,254,{"$f":"AJ83/AE83","v":2.1571125265392781E-2},{"$f":"SUMIF($A$3:$A$80,$B83,AL$3:AL$80)","v":29086},24368,{"$f":"AM83/AL83","v":0.83779137729491848},9907,0.34061060303926288,2309,{"$f":"AQ83/AL83","v":7.9385271264525895E-2},{"$f":"SUMIF($A$3:$A$80,$B83,AS$3:AS$80)","v":28983},25519,{"$f":"AT83/AS83","v":0.88048166166373387},11653,0.40206327847358797,3014,{"$f":"AX83/AS83","v":0.10399199530759411},{"$f":"SUMIF($A$3:$A$80,$B83,AZ$3:AZ$80)","v":28695},24884,{"$f":"BA83/AZ83","v":0.86718940581982928},12346,0.43024917232967413,3842,{"$f":"BE83/AZ83","v":0.13389092176337342},{"$f":"SUMIF($A$3:$A$80,$B83,BG$3:BG$80)","v":31444},27154,{"$f":"BH83/BG83","v":0.86356697621167788},14339,0.45601704617733113,4935,{"$f":"BL83/BG83","v":0.15694568121104185},{"$f":"SUMIF($A$3:$A$80,$B83,BN$3:BN$80)","v":31855},28956,{"$f":"BO83/BN83","v":0.90899387851200752},16873,0.52968136870193061,6351,{"$f":"BS83/BN83","v":0.19937215507769582},{"$f":"SUMIF($A$3:$A$80,$B83,BU$3:BU$80)","v":27954},27244,{"$f":"BV83/BU83","v":0.97460113042856122},16982,0.60749803248193457,6878,{"$f":"BZ83/BU83","v":0.24604707734134651},{"$f":"SUMIF($A$3:$A$80,$B83,CB$3:CB$80)","v":25808},24604,{"$f":"CC83/CB83","v":0.95334779913205203},16442,0.63708927464352139,7368,{"$f":"CG83/CB83","v":0.28549287042777433},{"$f":"SUMIF($A$3:$A$80,$B83,CI$3:CI$80)","v":23724},23784,{"$f":"CJ83/CI83","v":1.0025290844714214},16860,0.7106727364693981,8342,{"$f":"CN83/CI83","v":0.35162704434328107},{"$f":"SUMIF($A$3:$A$80,$B83,CP$3:CP$80)","v":20472},21031,{"$f":"CQ83/CP83","v":1.0273055881203594},16596,0.81066822977725672,9586,{"$f":"CU83/CP83","v":0.46824931613911686},{"$f":"SUMIF($A$3:$A$80,$B83,CW$3:CW$80)","v":16295},18098,{"$f":"CX83/CW83","v":1.1106474378643756},15553,0.95446455968088373,10212,{"$f":"DB83/CW83","v":0.6266953053083768},{"$f":"SUMIF($A$3:$A$80,$B83,DD$3:DD$80)","v":11297},12999,{"$f":"DE83/DD83","v":1.1506594671151633},11458,1.0142515712135964,7839,{"$f":"DI83/DD83","v":0.69390103567318762},{"$f":"SUMIF($A$3:$A$80,$B83,DK$3:DK$80)","v":7308},8649,{"$f":"DL83/DK83","v":1.1834975369458127},7665,1.0488505747126438,5194,{"$f":"DP83/DK83","v":0.71072796934865901},{"$f":"SUMIF($A$3:$A$80,$B83,DR$3:DR$80)","v":9254},12423,{"$f":"DS83/DR83","v":1.3424465096174627},10745,1.1611195158850227,6904,{"$f":"DW83/DR83","v":0.7460557596714934},null,"Regional Norte",405799,333574,0.82201779698816413,194802,0.48004553978693887,83177,0.20497093388598789]
[null,"Regional Central",21078,408,1.9356675206376316E-2,0,0,0,0,13490,558,4.1363973313565602E-2,4,2.9651593773165309E-4,0,0,46190,18207,0.39417622862091362,2931,6.3455293353539721E-2,21,4.5464386230785887E-4,39856,29211,0.73291348855881178,10861,0.27250602167804094,197,4.9427940586109992E-3,13805,11513,0.8339731981166244,3989,0.28895327779789931,382,2.7671133647229264E-2,36486,31451,0.86200186372855336,13430,0.36808638930000548,3221,8.8280436331743678E-2,37160,34139,0.91870290635091501,16003,0.43065123789020454,4301,0.11574273412271259,38246,33631,0.8793337865397689,16638,0.43502588505987555,4966,0.12984364377974167,40255,36019,0.89477083592100359,19445,0.4830455843994535,6544,0.16256365668861011,40954,37189,0.90806758802558973,21911,0.53501489475997466,8270,0.20193387703276847,33797,33608,0.99440778767346216,21244,0.62857650087285855,8790,0.26008225582152261,32113,31226,0.97237878740696915,21259,0.66200604116712858,9841,0.30644910160993988,28983,29652,1.0230824966359591,21539,0.74315978332125732,10878,0.37532346547976397,25194,26122,1.0368341668651266,20937,0.83103119790426294,12561,0.49857108835437008,20238,22522,1.1128570016800079,19642,0.97055044964917481,13393,0.66177487894060683,13909,16097,1.1573082177007692,14416,1.036451218635416,10183,0.73211589618232797,9300,10987,1.1813978494623656,9956,1.0705376344086022,7123,0.76591397849462362,11836,15666,1.3235890503548495,13648,1.1530922608989524,9358,0.79063872930043932,null,"Regional Central",502890,418206,0.83160532124321418,247853,0.49285728489331665,110029,0.21879337429656584]
[null,"Regional Sul",25461,1055,4.1435921605592868E-2,3,1.1782726522917403E-4,0,0,17250,1295,7.5072463768115938E-2,11,6.3768115942028987E-4,0,0,58902,27262,0.46283657600760586,7083,0.12025058571865133,29,4.9234321415232078E-4,50412,38319,0.76011663889550107,16498,0.32726334999603268,208,4.1260017456161233E-3,17396,14654,0.84237755805932402,5728,0.32927109680386296,490,2.8167394803403082E-2,44980,38367,0.85297910182303249,17487,0.38877278790573588,4337,9.6420631391729655E-2,45667,40022,0.87638776359296644,19370,0.42415748790154817,5279,0.1155976963671798,48156,41103,0.85353849987540498,21709,0.45080571476036213,7062,0.14664839272364813,51068,44336,0.86817576564580556,24633,0.48235685752330226,8863,0.17355290984569594,52131,46287,0.88789779593715834,27464,0.52682664825152026,10970,0.21043141317066621,43875,42776,0.97495156695156693,27171,0.61928205128205127,11871,0.27056410256410257,42415,39341,0.92752563951432276,26711,0.62975362489685249,12626,0.29767770835789226,41052,40543,0.98760109129884055,29247,0.71243788365974858,15196,0.37016466920003899,36837,37439,1.0163422645709477,29945,0.81290550261964867,18500,0.50221244943942234,30238,32789,1.0843640452410874,28455,0.94103445995105495,19760,0.65348237317282887,21210,24487,1.1545025931164545,21763,1.026072607260726,15672,0.73889674681753892,13384,16230,1.2126419605499104,14486,1.0823371189479976,10586,0.79094441123729831,17561,23916,1.3618814418313308,20846,1.1870622401913331,14600,0.83138773418370249,null,"Regional Sul",657995,550221,0.83620848182736951,338610,0.51460877362289992,156049,0.23715833706943062]
[]
[]
[]
[]
[null,null,{"$f":"'Monovalente - proc'!E2","v":"COBERTURA VACINAL ESQUEMA PRIMÁRIO"},{"$f":"'Monovalente - proc'!G2","v":"COBERTURA VACINAL 1° REFORÇO MONOVALENTE\n(4 doses)"},{"$f":"'Monovalente - proc'!I2","v":"COBERTURA VACINAL 2º REFORÇO MONOVALENTE\n(5 doses)"},{"$f":"'Monovalente - proc'!L2","v":"COBERTURA VACINAL ESQUEMA PRIMÁRIO"},{"$f":"'Monovalente - proc'!N2","v":"COBERTURA VACINAL 1° REFORÇO MONOVALENTE\n(4 doses)"},{"$f":"'Monovalente - proc'!P2","v":"COBERTURA VACINAL 2º REFORÇO MONOVALENTE\n(5 doses)"},{"$f":"'Monovalente - proc'!S2","v":"COBERTURA VACINAL ESQUEMA PRIMÁRIO"},{"$f":"'Monovalente - proc'!U2","v":"COBERTURA VACINAL 1° REFORÇO MONOVALENTE\n(3 doses)"},{"$f":"'Monovalente - proc'!W2","v":"COBERTURA VACINAL 2º REFORÇO MONOVALENTE\n(4 doses)"},{"$f":"'Monovalente - proc'!Z2","v":"COBERTURA VACINAL ESQUEMA PRIMÁRIO"},{"$f":"'Monovalente - proc'!AB2","v":"COBERTURA VACINAL 1° REFORÇO MONOVALENTE\n(3 doses)"},{"$f":"'Monovalente - proc'!AD2","v":"COBERTURA VACINAL 2º REFORÇO MONOVALENTE\n(4 doses)"},{"$f":"'Monovalente - proc'!AG2","v":"COBERTURA VACINAL ESQUEMA PRIMÁRIO"},{"$f":"'Monovalente - proc'!AI2","v":"COBERTURA VACINAL 1° REFORÇO MONOVALENTE\n(3 doses)"},{"$f":"'Monovalente - proc'!AK2","v":"COBERTURA VACINAL 2º REFORÇO MONOVALENTE\n(4 doses)"},{"$f":"'Monovalente - proc'!AN2","v":"COBERTURA VACINAL ESQUEMA PRIMÁRIO"},{"$f":"'Monovalente - proc'!AP2","v":"COBERTURA VACINAL 1° REFORÇO MONOVALENTE\n(3 doses)"},{"$f":"'Monovalente - proc'!AR2","v":"COBERTURA VACINAL 2º REFORÇO MONOVALENTE\n(4 doses)"},{"$f":"'Monovalente - proc'!AU2","v":"COBERTURA VACINAL ESQUEMA PRIMÁRIO"},{"$f":"'Monovalente - proc'!AW2","v":"COBERTURA VACINAL 1° REFORÇO MONOVALENTE\n(3 doses)"},{"$f":"'Monovalente - proc'!AY2","v":"COBERTURA VACINAL 2º REFORÇO MONOVALENTE\n(4 doses)"},{"$f":"'Monovalente - proc'!BB2","v":"COBERTURA VACINAL ESQUEMA PRIMÁRIO"},{"$f":"'Monovalente - proc'!BD2","v":"COBERTURA VACINAL 1° REFORÇO MONOVALENTE\n(3 doses)"},{"$f":"'Monovalente - proc'!BF2","v":"COBERTURA VACINAL 2º REFORÇO MONOVALENTE\n(4 doses)"},{"$f":"'Monovalente - proc'!BI2","v":"COBERTURA VACINAL ESQUEMA PRIMÁRIO"},{"$f":"'Monovalente - proc'!BK2","v":"COBERTURA VACINAL 1° REFORÇO MONOVALENTE\n(3 doses)"},{"$f":"'Monovalente - proc'!BM2","v":"COBERTURA VACINAL 2º REFORÇO MONOVALENTE\n(4 doses)"},{"$f":"'Monovalente - proc'!BP2","v":"COBERTURA VACINAL ESQUEMA PRIMÁRIO"},{"$f":"'Monovalente - proc'!BR2","v":"COBERTURA VACINAL 1° REFORÇO MONOVALENTE\n(3 doses)"},{"$f":"'Monovalente - proc'!BT2","v":"COBERTURA VACINAL 2º REFORÇO MONOVALENTE\n(4 doses)"},{"$f":"'Monovalente - proc'!BW2","v":"COBERTURA VACINAL ESQUEMA PRIMÁRIO"},{"$f":"'Monovalente - proc'!BY2","v":"COBERTURA VACINAL 1° REFORÇO MONOVALENTE\n(3 doses)"},{"$f":"'Monovalente - proc'!CA2","v":"COBERTURA VACINAL 2º REFORÇO MONOVALENTE\n(4 doses)"},{"$f":"'Monovalente - proc'!CD2","v":"COBERTURA VACINAL ESQUEMA PRIMÁRIO"},{"$f":"'Monovalente - proc'!CF2","v":"COBERTURA VACINAL 1° REFORÇO MONOVALENTE\n(3 doses)"},{"$f":"'Monovalente - proc'!CH2","v":"COBERTURA VACINAL 2º REFORÇO MONOVALENTE\n(4 doses)"},{"$f":"'Monovalente - proc'!CK2","v":"COBERTURA VACINAL ESQUEMA PRIMÁRIO"},{"$f":"'Monovalente - proc'!CM2","v":"COBERTURA VACINAL 1° REFORÇO MONOVALENTE\n(3 doses)"},{"$f":"'Monovalente - proc'!CO2","v":"COBERTURA VACINAL 2º REFORÇO MONOVALENTE\n(4 doses)"},{"$f":"'Monovalente - proc'!CR2","v":"COBERTURA VACINAL ESQUEMA PRIMÁRIO"},{"$f":"'Monovalente - proc'!CT2","v":"COBERTURA VACINAL 1° REFORÇO MONOVALENTE\n(3 doses)"},{"$f":"'Monovalente - proc'!CV2","v":"COBERTURA VACINAL 2º REFORÇO MONOVALENTE\n(4 doses)"},{"$f":"'Monovalente - proc'!CY2","v":"COBERTURA VACINAL ESQUEMA PRIMÁRIO"},{"$f":"'Monovalente - proc'!DA2","v":"COBERTURA VACINAL 1° REFORÇO MONOVALENTE\n(3 doses)"},{"$f":"'Monovalente - proc'!DC2","v":"COBERTURA VACINAL 2º REFORÇO MONOVALENTE\n(4 doses)"},{"$f":"'Monovalente - proc'!DF2","v":"COBERTURA VACINAL ESQUEMA PRIMÁRIO"},{"$f":"'Monovalente - proc'!DH2","v":"COBERTURA VACINAL 1° REFORÇO MONOVALENTE\n(3 doses)"},{"$f":"'Monovalente - proc'!DJ2","v":"COBERTURA VACINAL 2º REFORÇO MONOVALENTE\n(4 doses)"},{"$f":"'Monovalente - proc'!DM2","v":"COBERTURA VACINAL ESQUEMA PRIMÁRIO"},{"$f":"'Monovalente - proc'!DO2","v":"COBERTURA VACINAL 1° REFORÇO MONOVALENTE\n(3 doses)"},{"$f":"'Monovalente - proc'!DQ2","v":"COBERTURA VACINAL 2º REFORÇO MONOVALENTE\n(4 doses)"},{"$f":"'Monovalente - proc'!DT2","v":"COBERTURA VACINAL ESQUEMA PRIMÁRIO"},{"$f":"'Monovalente - proc'!DV2","v":"COBERTURA VACINAL 1° REFORÇO MONOVALENTE\n(3 doses)"},{"$f":"'Monovalente - proc'!DX2","v":"COBERTURA VACINAL 2º REFORÇO MONOVALENTE\n(4 doses)"}]
[null,null,"6 MESES A 2 ANOS","6 MESES A 2 ANOS","6 MESES A 2 ANOS","3 A 4 ANOS","3 A 4 ANOS","3 A 4 ANOS","5 A 11 ANOS","5 A 11 ANOS","5 A 11 ANOS","12 A 17 ANOS","12 A 17 ANOS","12 A 17 ANOS","18 A 19 ANOS","18 A 19 ANOS","18 A 19 ANOS","20 A 24 ANOS","20 A 24 ANOS","20 A 24 ANOS","25 A 29 ANOS","25 A 29 ANOS","25 A 29 ANOS","30 A 34 ANOS","30 A 34 ANOS","30 A 34 ANOS","35 A 39 ANOS","35 A 39 ANOS","35 A 39 ANOS","40 A 44 ANOS","40 A 44 ANOS","40 A 44 ANOS","45 A 49 ANOS","45 A 49 ANOS","45 A 49 ANOS","50 A 54 ANOS","50 A 54 ANOS","50 A 54 ANOS","55 A 59 ANOS","55 A 59 ANOS","55 A 59 ANOS","60 A 64 ANOS","60 A 64 ANOS","60 A 64 ANOS","65 A 69 ANOS","65 A 69 ANOS","65 A 69 ANOS","70 A 74 ANOS","70 A 74 ANOS","70 A 74 ANOS","75 A 79 ANOS","75 A 79 ANOS","75 A 79 ANOS","80 ANOS OU MAIS","80 ANOS OU MAIS","80 ANOS OU MAIS"]
[null,{"$f":"'Monovalente - proc'!B81","v":"TOTAL ESPÍRITO SANTO"},{"$f":"'Monovalente - proc'!E81","v":3.843470208867239E-2},{"$f":"'Monovalente - proc'!G81","v":7.8251853590781927E-5},{"$f":"'Monovalente - proc'!I81","v":0},{"$f":"'Monovalente - proc'!L81","v":7.0948659183953308E-2},{"$f":"'Monovalente - proc'!N81","v":4.7991224461812695E-4},{"$f":"'Monovalente - proc'!P81","v":9.7941274411862641E-6},{"$f":"'Monovalente - proc'!S81","v":0.45196633433778488},{"$f":"'Monovalente - proc'!U81","v":0.11608076810776641},{"$f":"'Monovalente - proc'!W81","v":4.8474471529043577E-4},{"$f":"'Monovalente - proc'!Z81","v":0.74627614673410925},{"$f":"'Monovalente - proc'!AB81","v":0.30822072596029221},{"$f":"'Monovalente - proc'!AD81","v":3.0541911212437437E-3},{"$f":"'Monovalente - proc'!AG81","v":0.83480963029651789},{"$f":"'Monovalente - proc'!AI81","v":0.31308144318918868},{"$f":"'Monovalente - proc'!AK81","v":2.8645001403692194E-2},{"$f":"'Monovalente - proc'!AN81","v":0.86490745671713165},{"$f":"'Monovalente - proc'!AP81","v":0.39176837552031823},{"$f":"'Monovalente - proc'!AR81","v":0.10471211775403666},{"$f":"'Monovalente - proc'!AU81","v":0.92984854557947783},{"$f":"'Monovalente - proc'!AW81","v":0.46189303710490154},{"$f":"'Monovalente - proc'!AY81","v":0.14203862230874942},{"$f":"'Monovalente - proc'!BB81","v":0.89660435602812549},{"$f":"'Monovalente - proc'!BD81","v":0.47983879265992113},{"$f":"'Monovalente - proc'!BF81","v":0.16929857657348654},{"$f":"'Monovalente - proc'!BI81","v":0.91127935024009121},{"$f":"'Monovalente - proc'!BK81","v":0.51697845073429372},{"$f":"'Monovalente - proc'!BM81","v":0.19774470349446691},{"$f":"'Monovalente - proc'!BP81","v":0.93534794353764794},{"$f":"'Monovalente - proc'!BR81","v":0.56221385179266703},{"$f":"'Monovalente - proc'!BT81","v":0.23443226927418229},{"$f":"'Monovalente - proc'!BW81","v":1.0036174819413308},{"$f":"'Monovalente - proc'!BY81","v":0.6418999444348642},{"$f":"'Monovalente - proc'!CA81","v":0.28913030982353277},{"$f":"'Monovalente - proc'!CD81","v":0.96205691462805787},{"$f":"'Monovalente - proc'!CF81","v":0.65454297892004965},{"$f":"'Monovalente - proc'!CH81","v":0.32204173079224141},{"$f":"'Monovalente - proc'!CK81","v":1.0018514489697152},{"$f":"'Monovalente - proc'!CM81","v":0.72543500170937136},{"$f":"'Monovalente - proc'!CO81","v":0.38920387694302244},{"$f":"'Monovalente - proc'!CR81","v":1.0222288750842004},{"$f":"'Monovalente - proc'!CT81","v":0.81260384701743882},{"$f":"'Monovalente - proc'!CV81","v":0.50637926302921443},{"$f":"'Monovalente - proc'!CY81","v":1.0927819121319258},{"$f":"'Monovalente - proc'!DA81","v":0.94052092862264203},{"$f":"'Monovalente - proc'!DC81","v":0.65493114446065226},{"$f":"'Monovalente - proc'!DF81","v":1.1524520160021576},{"$f":"'Monovalente - proc'!DH81","v":1.0193284487796108},{"$f":"'Monovalente - proc'!DJ81","v":0.73589247988492834},{"$f":"'Monovalente - proc'!DM81","v":1.1979163693449408},{"$f":"'Monovalente - proc'!DO81","v":1.066148137576709},{"$f":"'Monovalente - proc'!DQ81","v":0.76948765520194096},{"$f":"'Monovalente - proc'!DT81","v":1.3442143588576629},{"$f":"'Monovalente - proc'!DV81","v":1.1566617362612357},{"$f":"'Monovalente - proc'!DX81","v":0.79819092046876783}]
[null,{"$f":"'Monovalente - proc'!B82","v":"Regional Metropolitana"},{"$f":"'Monovalente - proc'!E82","v":4.2321658007932521E-2},{"$f":"'Monovalente - proc'!G82","v":1.0055304172951231E-4},{"$f":"'Monovalente - proc'!I82","v":0},{"$f":"'Monovalente - proc'!L82","v":7.6080605038649676E-2},{"$f":"'Monovalente - proc'!N82","v":4.8416448236138703E-4},{"$f":"'Monovalente - proc'!P82","v":1.6695326977978864E-5},{"$f":"'Monovalente - proc'!S82","v":0.46014381738447691},{"$f":"'Monovalente - proc'!U82","v":0.12673069189375516},{"$f":"'Monovalente - proc'!W82","v":4.3087764989754689E-4},{"$f":"'Monovalente - proc'!Z82","v":0.74838387733345435},{"$f":"'Monovalente - proc'!AB82","v":0.31613060539388027},{"$f":"'Monovalente - proc'!AD82","v":2.245559915621385E-3},{"$f":"'Monovalente - proc'!AG82","v":0.83858561411070409},{"$f":"'Monovalente - proc'!AI82","v":0.3206902839712879},{"$f":"'Monovalente - proc'!AK82","v":3.0386419773552376E-2},{"$f":"'Monovalente - proc'!AN82","v":0.87355648080444281},{"$f":"'Monovalente - proc'!AP82","v":0.40679594636242228},{"$f":"'Monovalente - proc'!AR82","v":0.1150403973870112},{"$f":"'Monovalente - proc'!AU82","v":0.95542138484852102},{"$f":"'Monovalente - proc'!AW82","v":0.48944598899853237},{"$f":"'Monovalente - proc'!AY82","v":0.16165117472287518},{"$f":"'Monovalente - proc'!BB82","v":0.91688438281015339},{"$f":"'Monovalente - proc'!BD82","v":0.5055397187919729},{"$f":"'Monovalente - proc'!BF82","v":0.18978991572826759},{"$f":"'Monovalente - proc'!BI82","v":0.93412954279015237},{"$f":"'Monovalente - proc'!BK82","v":0.54341295427901526},{"$f":"'Monovalente - proc'!BM82","v":0.21833654329258081},{"$f":"'Monovalente - proc'!BP82","v":0.95860986264544046},{"$f":"'Monovalente - proc'!BR82","v":0.58318981812072079},{"$f":"'Monovalente - proc'!BT82","v":0.25385390851430251},{"$f":"'Monovalente - proc'!BW82","v":1.0189404425445345},{"$f":"'Monovalente - proc'!BY82","v":0.65737885391652562},{"$f":"'Monovalente - proc'!CA82","v":0.30844851895009945},{"$f":"'Monovalente - proc'!CD82","v":0.97161807261999478},{"$f":"'Monovalente - proc'!CF82","v":0.66343019285065519},{"$f":"'Monovalente - proc'!CH82","v":0.33948474585818189},{"$f":"'Monovalente - proc'!CK82","v":1.0014984407089069},{"$f":"'Monovalente - proc'!CM82","v":0.72824979082680463},{"$f":"'Monovalente - proc'!CO82","v":0.40498973149768008},{"$f":"'Monovalente - proc'!CR82","v":1.0200658117918449},{"$f":"'Monovalente - proc'!CT82","v":0.80890833842187393},{"$f":"'Monovalente - proc'!CV82","v":0.51596953660356881},{"$f":"'Monovalente - proc'!CY82","v":1.0881210730711346},{"$f":"'Monovalente - proc'!DA82","v":0.93157014008019623},{"$f":"'Monovalente - proc'!DC82","v":0.658776850458339},{"$f":"'Monovalente - proc'!DF82","v":1.1510513892531511},{"$f":"'Monovalente - proc'!DH82","v":1.0143322174053904},{"$f":"'Monovalente - proc'!DJ82","v":0.74303830666934079},{"$f":"'Monovalente - proc'!DM82","v":1.1994610509506463},{"$f":"'Monovalente - proc'!DO82","v":1.0628773890912719},{"$f":"'Monovalente - proc'!DQ82","v":0.77386596137531816},{"$f":"'Monovalente - proc'!DT82","v":1.3432035581551209},{"$f":"'Monovalente - proc'!DV82","v":1.145839679928512},{"$f":"'Monovalente - proc'!DX82","v":0.79796502772192779}]
[null,{"$f":"'Monovalente - proc'!B83","v":"Regional Norte"},{"$f":"'Monovalente - proc'!E83","v":3.7152597214999708E-2},{"$f":"'Monovalente - proc'!G83","v":0},{"$f":"'Monovalente - proc'!I83","v":0},{"$f":"'Monovalente - proc'!L83","v":7.2743131269079803E-2},{"$f":"'Monovalente - proc'!N83","v":4.3610989969472308E-4},{"$f":"'Monovalente - proc'!P83","v":0},{"$f":"'Monovalente - proc'!S83","v":0.46023972161360999},{"$f":"'Monovalente - proc'!U83","v":0.11506637453280062},{"$f":"'Monovalente - proc'!W83","v":7.9907204536667099E-4},{"$f":"'Monovalente - proc'!Z83","v":0.7306166501370982},{"$f":"'Monovalente - proc'!AB83","v":0.28105128055539352},{"$f":"'Monovalente - proc'!AD83","v":3.4420395542850476E-3},{"$f":"'Monovalente - proc'!AG83","v":0.80526539278131637},{"$f":"'Monovalente - proc'!AI83","v":0.27847133757961784},{"$f":"'Monovalente - proc'!AK83","v":2.1571125265392781E-2},{"$f":"'Monovalente - proc'!AN83","v":0.83779137729491848},{"$f":"'Monovalente - proc'!AP83","v":0.34061060303926288},{"$f":"'Monovalente - proc'!AR83","v":7.9385271264525895E-2},{"$f":"'Monovalente - proc'!AU83","v":0.88048166166373387},{"$f":"'Monovalente - proc'!AW83","v":0.40206327847358797},{"$f":"'Monovalente - proc'!AY83","v":0.10399199530759411},{"$f":"'Monovalente - proc'!BB83","v":0.86718940581982928},{"$f":"'Monovalente - proc'!BD83","v":0.43024917232967413},{"$f":"'Monovalente - proc'!BF83","v":0.13389092176337342},{"$f":"'Monovalente - proc'!BI83","v":0.86356697621167788},{"$f":"'Monovalente - proc'!BK83","v":0.45601704617733113},{"$f":"'Monovalente - proc'!BM83","v":0.15694568121104185},{"$f":"'Monovalente - proc'!BP83","v":0.90899387851200752},{"$f":"'Monovalente - proc'!BR83","v":0.52968136870193061},{"$f":"'Monovalente - proc'!BT83","v":0.19937215507769582},{"$f":"'Monovalente - proc'!BW83","v":0.97460113042856122},{"$f":"'Monovalente - proc'!BY83","v":0.60749803248193457},{"$f":"'Monovalente - proc'!CA83","v":0.24604707734134651},{"$f":"'Monovalente - proc'!CD83","v":0.95334779913205203},{"$f":"'Monovalente - proc'!CF83","v":0.63708927464352139},{"$f":"'Monovalente - proc'!CH83","v":0.28549287042777433},{"$f":"'Monovalente - proc'!CK83","v":1.0025290844714214},{"$f":"'Monovalente - proc'!CM83","v":0.7106727364693981},{"$f":"'Monovalente - proc'!CO83","v":0.35162704434328107},{"$f":"'Monovalente - proc'!CR83","v":1.0273055881203594},{"$f":"'Monovalente - proc'!CT83","v":0.81066822977725672},{"$f":"'Monovalente - proc'!CV83","v":0.46824931613911686},{"$f":"'Monovalente - proc'!CY83","v":1.1106474378643756},{"$f":"'Monovalente - proc'!DA83","v":0.95446455968088373},{"$f":"'Monovalente - proc'!DC83","v":0.6266953053083768},{"$f":"'Monovalente - proc'!DF83","v":1.1506594671151633},{"$f":"'Monovalente - proc'!DH83","v":1.0142515712135964},{"$f":"'Monovalente - proc'!DJ83","v":0.69390103567318762},{"$f":"'Monovalente - proc'!DM83","v":1.1834975369458127},{"$f":"'Monovalente - proc'!DO83","v":1.0488505747126438},{"$f":"'Monovalente - proc'!DQ83","v":0.71072796934865901},{"$f":"'Monovalente - proc'!DT83","v":1.3424465096174627},{"$f":"'Monovalente - proc'!DV83","v":1.1611195158850227},{"$f":"'Monovalente - proc'!DX83","v":0.7460557596714934}]
[null,{"$f":"'Monovalente - proc'!B84","v":"Regional Central"},{"$f":"'Monovalente - proc'!E84","v":1.9356675206376316E-2},{"$f":"'Monovalente - proc'!G84","v":0},{"$f":"'Monovalente - proc'!I84","v":0},{"$f":"'Monovalente - proc'!L84","v":4.1363973313565602E-2},{"$f":"'Monovalente - proc'!N84","v":2.9651593773165309E-4},{"$f":"'Monovalente - proc'!P84","v":0},{"$f":"'Monovalente - proc'!S84","v":0.39417622862091362},{"$f":"'Monovalente - proc'!U84","v":6.3455293353539721E-2},{"$f":"'Monovalente - proc'!W84","v":4.5464386230785887E-4},{"$f":"'Monovalente - proc'!Z84","v":0.73291348855881178},{"$f":"'Monovalente - proc'!AB84","v":0.27250602167804094},{"$f":"'Monovalente - proc'!AD84","v":4.9427940586109992E-3},{"$f":"'Monovalente - proc'!AG84","v":0.8339731981166244},{"$f":"'Monovalente - proc'!AI84","v":0.28895327779789931},{"$f":"'Monovalente - proc'!AK84","v":2.7671133647229264E-2},{"$f":"'Monovalente - proc'!AN84","v":0.86200186372855336},{"$f":"'Monovalente - proc'!AP84","v":0.36808638930000548},{"$f":"'Monovalente - proc'!AR84","v":8.8280436331743678E-2},{"$f":"'Monovalente - proc'!AU84","v":0.91870290635091501},{"$f":"'Monovalente - proc'!AW84","v":0.43065123789020454},{"$f":"'Monovalente - proc'!AY84","v":0.11574273412271259},{"$f":"'Monovalente - proc'!BB84","v":0.8793337865397689},{"$f":"'Monovalente - proc'!BD84","v":0.43502588505987555},{"$f":"'Monovalente - proc'!BF84","v":0.12984364377974167},{"$f":"'Monovalente - proc'!BI84","v":0.89477083592100359},{"$f":"'Monovalente - proc'!BK84","v":0.4830455843994535},{"$f":"'Monovalente - proc'!BM84","v":0.16256365668861011},{"$f":"'Monovalente - proc'!BP84","v":0.90806758802558973},{"$f":"'Monovalente - proc'!BR84","v":0.53501489475997466},{"$f":"'Monovalente - proc'!BT84","v":0.20193387703276847},{"$f":"'Monovalente - proc'!BW84","v":0.99440778767346216},{"$f":"'Monovalente - proc'!BY84","v":0.62857650087285855},{"$f":"'Monovalente - proc'!CA84","v":0.26008225582152261},{"$f":"'Monovalente - proc'!CD84","v":0.97237878740696915},{"$f":"'Monovalente - proc'!CF84","v":0.66200604116712858},{"$f":"'Monovalente - proc'!CH84","v":0.30644910160993988},{"$f":"'Monovalente - proc'!CK84","v":1.0230824966359591},{"$f":"'Monovalente - proc'!CM84","v":0.74315978332125732},{"$f":"'Monovalente - proc'!CO84","v":0.37532346547976397},{"$f":"'Monovalente - proc'!CR84","v":1.0368341668651266},{"$f":"'Monovalente - proc'!CT84","v":0.83103119790426294},{"$f":"'Monovalente - proc'!CV84","v":0.49857108835437008},{"$f":"'Monovalente - proc'!CY84","v":1.1128570016800079},{"$f":"'Monovalente - proc'!DA84","v":0.97055044964917481},{"$f":"'Monovalente - proc'!DC84","v":0.66177487894060683},{"$f":"'Monovalente - proc'!DF84","v":1.1573082177007692},{"$f":"'Monovalente - proc'!DH84","v":1.036451218635416},{"$f":"'Monovalente - proc'!DJ84","v":0.73211589618232797},{"$f":"'Monovalente - proc'!DM84","v":1.1813978494623656},{"$f":"'Monovalente - proc'!DO84","v":1.0705376344086022},{"$f":"'Monovalente - proc'!DQ84","v":0.76591397849462362},{"$f":"'Monovalente - proc'!DT84","v":1.3235890503548495},{"$f":"'Monovalente - proc'!DV84","v":1.1530922608989524},{"$f":"'Monovalente - proc'!DX84","v":0.79063872930043932}]
[null,{"$f":"'Monovalente - proc'!B85","v":"Regional Sul"},{"$f":"'Monovalente - proc'!E85","v":4.1435921605592868E-2},{"$f":"'Monovalente - proc'!G85","v":1.1782726522917403E-4},{"$f":"'Monovalente - proc'!I85","v":0},{"$f":"'Monovalente - proc'!L85","v":7.5072463768115938E-2},{"$f":"'Monovalente - proc'!N85","v":6.3768115942028987E-4},{"$f":"'Monovalente - proc'!P85","v":0},{"$f":"'Monovalente - proc'!S85","v":0.46283657600760586},{"$f":"'Monovalente - proc'!U85","v":0.12025058571865133},{"$f":"'Monovalente - proc'!W85","v":4.9234321415232078E-4},{"$f":"'Monovalente - proc'!Z85","v":0.76011663889550107},{"$f":"'Monovalente - proc'!AB85","v":0.32726334999603268},{"$f":"'Monovalente - proc'!AD85","v":4.1260017456161233E-3},{"$f":"'Monovalente - proc'!AG85","v":0.84237755805932402},{"$f":"'Monovalente - proc'!AI85","v":0.32927109680386296},{"$f":"'Monovalente - proc'!AK85","v":2.8167394803403082E-2},{"$f":"'Monovalente - proc'!AN85","v":0.85297910182303249},{"$f":"'Monovalente - proc'!AP85","v":0.38877278790573588},{"$f":"'Monovalente - proc'!AR85","v":9.6420631391729655E-2},{"$f":"'Monovalente - proc'!AU85","v":0.87638776359296644},{"$f":"'Monovalente - proc'!AW85","v":0.42415748790154817},{"$f":"'Monovalente - proc'!AY85","v":0.1155976963671798},{"$f":"'Monovalente - proc'!BB85","v":0.85353849987540498},{"$f":"'Monovalente - proc'!BD85","v":0.45080571476036213},{"$f":"'Monovalente - proc'!BF85","v":0.14664839272364813},{"$f":"'Monovalente - proc'!BI85","v":0.86817576564580556},{"$f":"'Monovalente - proc'!BK85","v":0.48235685752330226},{"$f":"'Monovalente - proc'!BM85","v":0.17355290984569594},{"$f":"'Monovalente - proc'!BP85","v":0.88789779593715834},{"$f":"'Monovalente - proc'!BR85","v":0.52682664825152026},{"$f":"'Monovalente - proc'!BT85","v":0.21043141317066621},{"$f":"'Monovalente - proc'!BW85","v":0.97495156695156693},{"$f":"'Monovalente - proc'!BY85","v":0.61928205128205127},{"$f":"'Monovalente - proc'!CA85","v":0.27056410256410257},{"$f":"'Monovalente - proc'!CD85","v":0.92752563951432276},{"$f":"'Monovalente - proc'!CF85","v":0.62975362489685249},{"$f":"'Monovalente - proc'!CH85","v":0.29767770835789226},{"$f":"'Monovalente - proc'!CK85","v":0.98760109129884055},{"$f":"'Monovalente - proc'!CM85","v":0.71243788365974858},{"$f":"'Monovalente - proc'!CO85","v":0.37016466920003899},{"$f":"'Monovalente - proc'!CR85","v":1.0163422645709477},{"$f":"'Monovalente - proc'!CT85","v":0.81290550261964867},{"$f":"'Monovalente - proc'!CV85","v":0.50221244943942234},{"$f":"'Monovalente - proc'!CY85","v":1.0843640452410874},{"$f":"'Monovalente - proc'!DA85","v":0.94103445995105495},{"$f":"'Monovalente - proc'!DC85","v":0.65348237317282887},{"$f":"'Monovalente - proc'!DF85","v":1.1545025931164545},{"$f":"'Monovalente - proc'!DH85","v":1.026072607260726},{"$f":"'Monovalente - proc'!DJ85","v":0.73889674681753892},{"$f":"'Monovalente - proc'!DM85","v":1.2126419605499104},{"$f":"'Monovalente - proc'!DO85","v":1.0823371189479976},{"$f":"'Monovalente - proc'!DQ85","v":0.79094441123729831},{"$f":"'Monovalente - proc'!DT85","v":1.3618814418313308},{"$f":"'Monovalente - proc'!DV85","v":1.1870622401913331},{"$f":"'Monovalente - proc'!DX85","v":0.83138773418370249}]
[null,"META",0.9,0.9,0.9,0.9,0.9,0.9,0.9,0.9,0.9,0.9,0.9,0.9,0.9,0.9,0.9,0.9,0.9,0.9,0.9,0.9,0.9,0.9,0.9,0.9,0.9,0.9,0.9,0.9,0.9,0.9,0.9,0.9,0.9,0.9,0.9,0.9,0.9,0.9,0.9,0.9,0.9,0.9,0.9,0.9,0.9,0.9,0.9,0.9,0.9,0.9,0.9,0.9,0.9,0.9]

{"sheet":"LIBERAÇÃO","index":8,"n_rows":0,"n_cols":0,"rows_kept":0,"cut":false,"hidden":false,"merged":[]}