{"text_format":"1","workbook":"xlsx","n_sheets":17,"sheets":["CV Rotina <2A - procedência","CV Rotina <2A - residência","CV REF 1A e 4A - procedência","CV REF 1A e 4A - residência","Cobert. COVID-19 Menores 4 anos","Cobert. Meningo C Adolescentes","Cobert. HPV ","Cobert. Dengue","dTpa gestantes - procedência","dTpa gestantes - residência","COVID-19 gestantes -Procedência","COVID-19 gestantes -Residência","COVID-19 idoso -Procêdencia","COVID-19 idoso -Residência","PROTEÇÃO","cálculos1","cálculos2"],"not_rendered":{"charts":0,"images":0,"macros":1,"external_links":4,"defined_names":31,"comments":2,"pivot_tables":0},"unopened":[],"bounds":{"document_bytes":16777216,"sheet_cells":100000,"rows_first":2000,"rows_last":500,"rows_between":2000,"halvings":0,"cell_chars":16384,"cell_head_chars":4096},"cells_cut":0,"cells_raw":0,"read":"whole","date_system":"1900"}

{"sheet":"CV Rotina <2A - procedência","index":0,"n_rows":105,"n_cols":37,"rows_kept":105,"cut":false,"hidden":false,"merged":[[0,27,0,28],[87,1,87,3],[0,20,0,25],[87,22,87,23],[87,18,87,19],[86,14,86,15],[87,14,87,15],[0,4,0,7],[87,10,87,11],[87,6,87,7],[86,4,86,5],[87,4,87,5],[0,8,0,19],[86,8,86,9],[87,8,87,9],[86,10,86,11],[86,12,86,13],[87,12,87,13],[86,6,86,7],[2,35,2,36],[11,35,11,36],[87,16,87,17],[86,16,86,17],[87,24,87,25],[86,24,86,25],[86,20,86,21],[86,22,86,23],[87,20,87,21],[86,27,86,28],[87,27,87,28],[86,18,86,19]]}
[null," ",null,null,"AO NASCER",null,null,null,"MENOR DE 1 ANO",null,null,null,null,null,null,null,null,null,null,null,"1 ANO",null,null,null,null,null,null,"MENOR DE 1 ANO"]
["Regional ","Município","¹População < 1 ano e 1 ano anual ","²População < 1 ano e 1 ano proporcional ","Doses Aplicadas HB\n< 30 dias","Cobertura Vacinal HB\naté 30 dias","Doses Aplicadas BCG","Cobertura Vacinal BCG","Doses Aplicadas Pentavalente ","Cobertura Vacinal Pentavalente","Doses Aplicadas Poliomielite ","Cobertura Vacinal Poliomielite ","Doses Aplicadas Pneumo 10","Cobertura Vacinal Pneumo 10","Doses Aplicadas Rotavírus","Cobertura Vacinal Rotavírus","Doses Aplicadas Meningo C","Cobertura Vacinal Meningo C","Doses Aplicadas Febre Amarela","Cobertura Vacinal Febre Amarela","Doses Aplicadas Hepatite A","Cobertura Vacinal Hepatite A","Doses Aplicadas de Tríplice Viral","Cobertura Vacinal Tríplice Viral","Doses Aplicadas Varicela","Cobertura Varicela",null,"Doses Aplicadas COVID-19","Cobertura Vacinal \nCOVID-19",null,"VACINAS QUE ATINGIRAM A META DE CV","HOMOGENEIDADE ENTRE AS 10 VACINAS","VACINAS DO PQA-VS QUE ATINGIRAM A META DE CV","HOMOGENEIDADE ENTRE AS VACINAS DO PQA-VS"]
["Metropolitana","Afonso Cláudio",355,86,79,{"$f":"E3/D3","v":0.91860465116279066},84,{"$f":"G3/D3","v":0.97674418604651159},85,{"$f":"I3/D3","v":0.98837209302325579},82,{"$f":"K3/D3","v":0.95348837209302328},75,{"$f":"M3/D3","v":0.87209302325581395},79,{"$f":"O3/D3","v":0.91860465116279066},82,{"$f":"Q3/D3","v":0.95348837209302328},86,{"$f":"S3/D3","v":1},94,{"$f":"U3/D3","v":1.0930232558139534},92,{"$f":"W3/D3","v":1.069767441860465},121,{"$f":"Y3/D3","v":1.4069767441860466},null,0,{"$f":"AB3/D3","v":0},null,{"$f":"cálculos1!O3","v":9},{"$f":"AE3*0.1","v":0.9},{"$f":"cálculos1!P3","v":3},{"$f":"AG3*0.25","v":0.75},null,"LEGENDA / HOMOGENEIDADE PQA-VS"]
["Norte","Água Doce do Norte",181,51,10,{"$f":"E4/D4","v":0.19607843137254902},13,0.25490196078431371,36,0.70588235294117652,35,0.68627450980392157,33,0.6470588235294118,30,0.58823529411764708,38,0.74509803921568629,43,0.84313725490196079,33,0.6470588235294118,44,0.86274509803921573,17,0.33333333333333331,null,1,{"$f":"AB4/D4","v":1.9607843137254902E-2},null,{"$f":"cálculos1!O4","v":0},{"$f":"AE4*0.1","v":0},{"$f":"cálculos1!P4","v":0},{"$f":"AG4*0.25","v":0},null,"PERCENTUAL","Nº DE MUNICÍPIOS"]
["Central","Águia Branca",146,43,15,0.34883720930232559,18,0.41860465116279072,37,0.86046511627906974,38,0.88372093023255816,23,0.53488372093023251,22,0.51162790697674421,35,0.81395348837209303,44,1.0232558139534884,35,0.81395348837209303,40,0.93023255813953487,38,0.88372093023255816,null,0,0,null,{"$f":"cálculos1!O5","v":1},0.1,{"$f":"cálculos1!P5","v":0},0,null,0,{"$f":"COUNTIF($AH$3:$AH$80,\"=0\")","v":17}]
["Sul","Alegre",264,59,22,0.3728813559322034,24,0.40677966101694918,72,1.2203389830508475,62,1.0508474576271187,45,0.76271186440677963,57,0.96610169491525422,73,1.2372881355932204,69,1.1694915254237288,81,1.3728813559322033,84,1.423728813559322,94,1.5932203389830508,null,1,1.6949152542372881E-2,null,{"$f":"cálculos1!O6","v":8},0.8,{"$f":"cálculos1!P6","v":3},0.75,null,0.25,{"$f":"COUNTIF($AH$3:$AH$80,\"=0,25\")","v":16}]
["Sul","Alfredo Chaves",112,27,4,0.14814814814814814,12,0.44444444444444442,26,0.96296296296296291,24,0.88888888888888884,13,0.48148148148148145,17,0.62962962962962965,24,0.88888888888888884,30,1.1111111111111112,44,1.6296296296296295,34,1.2592592592592593,32,1.1851851851851851,null,0,0,null,{"$f":"cálculos1!O7","v":5},0.5,{"$f":"cálculos1!P7","v":2},0.5,null,0.5,{"$f":"COUNTIF($AH$3:$AH$80,\"=0,5\")","v":11}]
["Central","Alto Rio Novo",89,19,6,0.31578947368421051,8,0.42105263157894735,25,1.3157894736842106,25,1.3157894736842106,24,1.263157894736842,24,1.263157894736842,27,1.4210526315789473,28,1.4736842105263157,22,1.1578947368421053,21,1.1052631578947369,26,1.368421052631579,null,0,0,null,{"$f":"cálculos1!O8","v":9},0.9,{"$f":"cálculos1!P8","v":4},1,null,0.75,{"$f":"COUNTIF($AH$3:$AH$80,\"=0,75\")","v":15}]
["Sul","Anchieta",315,73,5,6.8493150684931503E-2,38,0.52054794520547942,94,1.2876712328767124,91,1.2465753424657535,101,1.3835616438356164,104,1.4246575342465753,82,1.1232876712328768,87,1.1917808219178083,102,1.3972602739726028,83,1.1369863013698631,90,1.2328767123287672,null,10,0.13698630136986301,null,{"$f":"cálculos1!O9","v":9},0.9,{"$f":"cálculos1!P9","v":4},1,null,1,{"$f":"COUNTIF($AH$3:$AH$80,\"=1,0\")","v":19}]
["Sul","Apiacá",72,19,1,5.2631578947368418E-2,19,1,13,0.68421052631578949,12,0.63157894736842102,20,1.0526315789473684,20,1.0526315789473684,16,0.84210526315789469,21,1.1052631578947369,14,0.73684210526315785,15,0.78947368421052633,16,0.84210526315789469,null,0,0,null,{"$f":"cálculos1!O10","v":4},0.4,{"$f":"cálculos1!P10","v":1},0.25]
["Metropolitana","Aracruz",1384,385,311,0.80779220779220784,314,0.81558441558441563,325,0.8441558441558441,318,0.82597402597402603,281,0.72987012987012989,320,0.83116883116883122,306,0.79480519480519485,293,0.76103896103896107,374,0.97142857142857142,367,0.95324675324675323,336,0.87272727272727268,null,28,7.2727272727272724E-2,null,{"$f":"cálculos1!O11","v":2},0.2,{"$f":"cálculos1!P11","v":1},0.25]
["Sul","Atilio Vivacqua",125,20,1,0.05,3,0.15,45,2.25,44,2.2000000000000002,40,2,39,1.95,45,2.25,33,1.65,35,1.75,33,1.65,23,1.1499999999999999,null,3,0.15,null,{"$f":"cálculos1!O12","v":9},0.9,{"$f":"cálculos1!P12","v":4},1,null,"LEGENDA / HOMOGENEIDADE 10 VACINAS"]
["Central","Baixo Guandu",350,105,26,0.24761904761904763,41,0.39047619047619048,75,0.7142857142857143,75,0.7142857142857143,64,0.60952380952380958,65,0.61904761904761907,72,0.68571428571428572,93,0.88571428571428568,98,0.93333333333333335,85,0.80952380952380953,82,0.78095238095238095,null,0,0,null,{"$f":"cálculos1!O13","v":0},0,{"$f":"cálculos1!P13","v":0},0,null,"PERCENTUAL","Nº DE MUNICÍPIOS"]
["Norte","Barra de São Francisco",591,149,103,0.6912751677852349,100,0.67114093959731547,146,0.97986577181208057,146,0.97986577181208057,106,0.71140939597315433,107,0.71812080536912748,120,0.80536912751677847,124,0.83221476510067116,116,0.77852348993288589,125,0.83892617449664431,143,0.95973154362416102,null,0,0,null,{"$f":"cálculos1!O14","v":3},0.30000000000000004,{"$f":"cálculos1!P14","v":2},0.5,null,0,{"$f":"COUNTIF($AF$3:$AF$80,\"=0\")","v":7}]
["Norte","Boa Esperança",205,57,4,7.0175438596491224E-2,23,0.40350877192982454,48,0.84210526315789469,47,0.82456140350877194,47,0.82456140350877194,52,0.91228070175438591,48,0.84210526315789469,50,0.8771929824561403,55,0.96491228070175439,42,0.73684210526315785,52,0.91228070175438591,null,0,0,null,{"$f":"cálculos1!O15","v":2},0.2,{"$f":"cálculos1!P15","v":0},0,null,0.1,{"$f":"COUNTIFS($AF$3:$AF$80,\">=0,10\",$AF$3:$AF$80,\"<0,20\")","v":9}]
["Sul","Bom Jesus do Norte",73,16,5,0.3125,22,1.375,29,1.8125,29,1.8125,19,1.1875,19,1.1875,18,1.125,32,2,29,1.8125,23,1.4375,15,0.9375,null,0,0,null,{"$f":"cálculos1!O16","v":9},0.9,{"$f":"cálculos1!P16","v":4},1,null,0.2,{"$f":"COUNTIFS($AF$3:$AF$80,\">=0,20\",$AF$3:$AF$80,\"<0,30\")","v":7}]
["Metropolitana","Brejetuba",202,50,3,0.06,34,0.68,36,0.72,38,0.76,49,0.98,54,1.08,45,0.9,31,0.62,45,0.9,54,1.08,42,0.84,null,0,0,null,{"$f":"cálculos1!O17","v":3},0.30000000000000004,{"$f":"cálculos1!P17","v":2},0.5,null,0.3,{"$f":"COUNTIFS($AF$3:$AF$80,\">=0,30\",$AF$3:$AF$80,\"<0,40\")","v":8}]
["Sul","Cachoeiro de Itapemirim",1946,457,1307,2.8599562363238511,1318,2.8840262582056893,569,1.2450765864332605,559,1.2231947483588621,492,1.0765864332603938,555,1.2144420131291029,565,1.2363238512035011,476,1.0415754923413567,599,1.3107221006564551,589,1.288840262582057,558,1.2210065645514223,null,14,3.0634573304157548E-2,null,{"$f":"cálculos1!O18","v":10},1,{"$f":"cálculos1!P18","v":4},1,null,0.4,{"$f":"COUNTIFS($AF$3:$AF$80,\">=0,40\",$AF$3:$AF$80,\"<0,50\")","v":6}]
["Metropolitana","Cariacica",4767,1221,649,0.53153153153153154,716,0.58640458640458637,1103,0.90335790335790334,1068,0.87469287469287471,925,0.75757575757575757,1042,0.85339885339885335,1059,0.86732186732186733,919,0.75266175266175261,1123,0.91973791973791974,1138,0.93202293202293207,826,0.67649467649467654,null,73,5.9787059787059789E-2,null,{"$f":"cálculos1!O19","v":0},0,{"$f":"cálculos1!P19","v":0},0,null,0.5,{"$f":"COUNTIFS($AF$3:$AF$80,\">=0,50\",$AF$3:$AF$80,\"<0,60\")","v":6}]
["Sul","Castelo",370,96,62,0.64583333333333337,65,0.67708333333333337,98,1.0208333333333333,95,0.98958333333333337,78,0.8125,89,0.92708333333333337,99,1.03125,99,1.03125,110,1.1458333333333333,108,1.125,58,0.60416666666666663,null,3,3.125E-2,null,{"$f":"cálculos1!O20","v":7},0.70000000000000007,{"$f":"cálculos1!P20","v":3},0.75,null,0.6,{"$f":"COUNTIFS($AF$3:$AF$80,\">=0,60\",$AF$3:$AF$80,\"<0,70\")","v":8}]
["Central","Colatina",1490,382,886,2.3193717277486909,859,2.24869109947644,384,1.0052356020942408,384,1.0052356020942408,276,0.72251308900523559,328,0.8586387434554974,391,1.0235602094240839,306,0.80104712041884818,332,0.86910994764397909,360,0.94240837696335078,285,0.74607329842931935,null,8,2.0942408376963352E-2,null,{"$f":"cálculos1!O21","v":4},0.4,{"$f":"cálculos1!P21","v":2},0.5,null,0.7,{"$f":"COUNTIFS($AF$3:$AF$80,\">=0,70\",$AF$3:$AF$80,\"<0,80\")","v":5}]
["Norte","Conceição da Barra",364,107,2,1.8691588785046728E-2,5,4.6728971962616821E-2,86,0.80373831775700932,88,0.82242990654205606,75,0.7009345794392523,80,0.74766355140186913,82,0.76635514018691586,98,0.91588785046728971,95,0.88785046728971961,106,0.99065420560747663,77,0.71962616822429903,null,2,1.8691588785046728E-2,null,{"$f":"cálculos1!O22","v":1},0.1,{"$f":"cálculos1!P22","v":1},0.25,null,0.8,{"$f":"COUNTIFS($AF$3:$AF$80,\">=0,80\",$AF$3:$AF$80,\"<0,90\")","v":8}]
["Metropolitana","Conceição do Castelo",162,37,0,0,0,0,39,1.0540540540540539,38,1.027027027027027,38,1.027027027027027,42,1.1351351351351351,29,0.78378378378378377,36,0.97297297297297303,31,0.83783783783783783,35,0.94594594594594594,38,1.027027027027027,null,0,0,null,{"$f":"cálculos1!O23","v":6},0.60000000000000009,{"$f":"cálculos1!P23","v":3},0.75,null,0.9,{"$f":"COUNTIFS($AF$3:$AF$80,\">=0,90\",$AF$3:$AF$80,\"<1,0\")","v":13}]
["Sul","Divino de São Lourenço",51,13,6,0.46153846153846156,7,0.53846153846153844,8,0.61538461538461542,8,0.61538461538461542,8,0.61538461538461542,9,0.69230769230769229,10,0.76923076923076927,28,2.1538461538461537,16,1.2307692307692308,23,1.7692307692307692,17,1.3076923076923077,null,0,0,null,{"$f":"cálculos1!O24","v":4},0.4,{"$f":"cálculos1!P24","v":1},0.25,null,1,{"$f":"COUNTIF($AF$3:$AF$80,\">=1,0\")","v":1}]
["Metropolitana","Domingos Martins",421,100,11,0.11,20,0.2,108,1.08,105,1.05,94,0.94,104,1.04,96,0.96,103,1.03,102,1.02,91,0.91,123,1.23,null,10,0.1,null,{"$f":"cálculos1!O25","v":7},0.70000000000000007,{"$f":"cálculos1!P25","v":2},0.5]
["Sul","Dores do Rio Preto",94,22,12,0.54545454545454541,21,0.95454545454545459,31,1.4090909090909092,31,1.4090909090909092,20,0.90909090909090906,29,1.3181818181818181,19,0.86363636363636365,22,1,27,1.2272727272727273,25,1.1363636363636365,17,0.77272727272727271,null,0,0,null,{"$f":"cálculos1!O26","v":7},0.70000000000000007,{"$f":"cálculos1!P26","v":3},0.75]
["Norte","Ecoporanga",256,71,23,0.323943661971831,17,0.23943661971830985,57,0.80281690140845074,55,0.77464788732394363,56,0.78873239436619713,60,0.84507042253521125,51,0.71830985915492962,67,0.94366197183098588,54,0.76056338028169013,63,0.88732394366197187,38,0.53521126760563376,null,1,1.4084507042253521E-2,null,{"$f":"cálculos1!O27","v":0},0,{"$f":"cálculos1!P27","v":0},0]
["Metropolitana","Fundão",222,62,8,0.12903225806451613,16,0.25806451612903225,52,0.83870967741935487,52,0.83870967741935487,51,0.82258064516129037,56,0.90322580645161288,57,0.91935483870967738,38,0.61290322580645162,55,0.88709677419354838,61,0.9838709677419355,49,0.79032258064516125,null,1,1.6129032258064516E-2,null,{"$f":"cálculos1!O28","v":2},0.2,{"$f":"cálculos1!P28","v":1},0.25]
["Central","Governador Lindenberg",116,31,10,0.32258064516129031,8,0.25806451612903225,22,0.70967741935483875,23,0.74193548387096775,19,0.61290322580645162,24,0.77419354838709675,20,0.64516129032258063,22,0.70967741935483875,23,0.74193548387096775,27,0.87096774193548387,16,0.5161290322580645,null,0,0,null,{"$f":"cálculos1!O29","v":0},0,{"$f":"cálculos1!P29","v":0},0]
["Sul","Guaçuí",358,86,86,1,83,0.96511627906976749,77,0.89534883720930236,75,0.87209302325581395,89,1.0348837209302326,86,1,77,0.89534883720930236,76,0.88372093023255816,76,0.88372093023255816,91,1.058139534883721,81,0.94186046511627908,null,8,9.3023255813953487E-2,null,{"$f":"cálculos1!O30","v":4},0.4,{"$f":"cálculos1!P30","v":2},0.5]
["Metropolitana","Guarapari",1706,422,339,0.80331753554502372,385,0.91232227488151663,362,0.85781990521327012,359,0.85071090047393361,382,0.90521327014218012,395,0.93601895734597151,373,0.88388625592417058,280,0.6635071090047393,391,0.92654028436018954,338,0.80094786729857825,340,0.80568720379146919,null,25,5.9241706161137442E-2,null,{"$f":"cálculos1!O31","v":2},0.2,{"$f":"cálculos1!P31","v":0},0]
["Metropolitana","Ibatiba",379,87,60,0.68965517241379315,80,0.91954022988505746,102,1.1724137931034482,103,1.1839080459770115,85,0.97701149425287359,96,1.103448275862069,105,1.2068965517241379,82,0.94252873563218387,109,1.2528735632183907,94,1.0804597701149425,72,0.82758620689655171,null,12,0.13793103448275862,null,{"$f":"cálculos1!O32","v":8},0.8,{"$f":"cálculos1!P32","v":4},1]
["Metropolitana","Ibiraçu",149,38,7,0.18421052631578946,9,0.23684210526315788,32,0.84210526315789469,31,0.81578947368421051,35,0.92105263157894735,36,0.94736842105263153,38,1,36,0.94736842105263153,29,0.76315789473684215,40,1.0526315789473684,20,0.52631578947368418,null,0,0,null,{"$f":"cálculos1!O33","v":3},0.30000000000000004,{"$f":"cálculos1!P33","v":1},0.25]
["Sul","Ibitirama",133,30,17,0.56666666666666665,25,0.83333333333333337,42,1.4,40,1.3333333333333333,49,1.6333333333333333,51,1.7,43,1.4333333333333333,32,1.0666666666666667,37,1.2333333333333334,40,1.3333333333333333,26,0.8666666666666667,null,2,6.6666666666666666E-2,null,{"$f":"cálculos1!O34","v":8},0.8,{"$f":"cálculos1!P34","v":4},1]
["Sul","Iconha",106,25,5,0.2,15,{"$f":"G35/D35","v":0.6},26,{"$f":"I35/D35","v":1.04},26,{"$f":"K35/D35","v":1.04},26,{"$f":"M35/D35","v":1.04},29,{"$f":"O35/D35","v":1.1599999999999999},31,{"$f":"Q35/D35","v":1.24},22,{"$f":"S35/D35","v":0.88},27,{"$f":"U35/D35","v":1.08},27,{"$f":"W35/D35","v":1.08},43,{"$f":"Y35/D35","v":1.72},null,0,0,null,{"$f":"cálculos1!O35","v":8},0.8,{"$f":"cálculos1!P35","v":4},1]
["Sul","Irupi",170,47,19,0.40425531914893614,27,0.57446808510638303,52,1.1063829787234043,53,1.1276595744680851,33,0.7021276595744681,39,0.82978723404255317,48,1.0212765957446808,51,1.0851063829787233,50,1.0638297872340425,50,1.0638297872340425,38,0.80851063829787229,null,6,0.1276595744680851,null,{"$f":"cálculos1!O36","v":6},0.60000000000000009,{"$f":"cálculos1!P36","v":3},0.75]
["Metropolitana","Itaguaçu",137,41,6,0.14634146341463414,9,0.21951219512195122,35,0.85365853658536583,35,0.85365853658536583,28,0.68292682926829273,34,0.82926829268292679,32,0.78048780487804881,46,1.1219512195121952,25,0.6097560975609756,34,0.82926829268292679,22,0.53658536585365857,null,5,0.12195121951219512,null,{"$f":"cálculos1!O37","v":1},0.1,{"$f":"cálculos1!P37","v":0},0]
["Sul","Itapemirim",459,97,167,1.7216494845360826,48,0.49484536082474229,90,0.92783505154639179,78,0.80412371134020622,108,1.1134020618556701,95,0.97938144329896903,109,1.1237113402061856,83,0.85567010309278346,123,1.268041237113402,101,1.0412371134020619,87,0.89690721649484539,null,1,1.0309278350515464E-2,null,{"$f":"cálculos1!O38","v":5},0.5,{"$f":"cálculos1!P38","v":2},0.5]
["Metropolitana","Itarana",129,34,1,2.9411764705882353E-2,2,5.8823529411764705E-2,30,0.88235294117647056,29,0.8529411764705882,16,0.47058823529411764,20,0.58823529411764708,26,0.76470588235294112,33,0.97058823529411764,28,0.82352941176470584,33,0.97058823529411764,30,0.88235294117647056,null,1,2.9411764705882353E-2,null,{"$f":"cálculos1!O39","v":2},0.2,{"$f":"cálculos1!P39","v":1},0.25]
["Sul","Iúna",418,111,64,0.57657657657657657,72,0.64864864864864868,104,0.93693693693693691,97,0.87387387387387383,82,0.73873873873873874,90,0.81081081081081086,101,0.90990990990990994,109,0.98198198198198194,128,1.1531531531531531,106,0.95495495495495497,107,0.963963963963964,null,0,0,null,{"$f":"cálculos1!O40","v":4},0.4,{"$f":"cálculos1!P40","v":1},0.25]
["Norte","Jaguaré",474,129,95,0.73643410852713176,91,0.70542635658914732,114,0.88372093023255816,108,0.83720930232558144,95,0.73643410852713176,96,0.7441860465116279,114,0.88372093023255816,98,0.75968992248062017,124,0.96124031007751942,95,0.73643410852713176,78,0.60465116279069764,null,0,0,null,{"$f":"cálculos1!O41","v":1},0.1,{"$f":"cálculos1!P41","v":0},0]
["Sul","Jerônimo Monteiro",119,26,1,3.8461538461538464E-2,3,0.11538461538461539,30,1.1538461538461537,31,1.1923076923076923,28,1.0769230769230769,32,1.2307692307692308,28,1.0769230769230769,26,1,36,1.3846153846153846,37,1.4230769230769231,30,1.1538461538461537,null,3,0.11538461538461539,null,{"$f":"cálculos1!O42","v":9},0.9,{"$f":"cálculos1!P42","v":4},1]
["Metropolitana","João Neiva",153,32,9,0.28125,5,0.15625,39,1.21875,35,1.09375,34,1.0625,40,1.25,38,1.1875,42,1.3125,34,1.0625,31,0.96875,37,1.15625,null,1,3.125E-2,null,{"$f":"cálculos1!O43","v":9},0.9,{"$f":"cálculos1!P43","v":4},1]
["Metropolitana","Laranja da Terra",101,25,1,0.04,6,0.24,23,0.92,24,0.96,36,1.44,36,1.44,34,1.36,25,1,26,1.04,27,1.08,33,1.32,null,2,0.08,null,{"$f":"cálculos1!O44","v":8},0.8,{"$f":"cálculos1!P44","v":3},0.75]
["Central","Linhares",2663,696,656,0.94252873563218387,666,0.9568965517241379,575,0.82614942528735635,559,0.80316091954022983,515,0.73994252873563215,579,0.8318965517241379,610,0.87643678160919536,519,0.74568965517241381,528,0.75862068965517238,541,0.7772988505747126,403,0.57902298850574707,null,1,1.4367816091954023E-3,null,{"$f":"cálculos1!O45","v":1},0.1,{"$f":"cálculos1!P45","v":0},0]
["Central","Mantenópolis",138,38,8,0.21052631578947367,9,0.23684210526315788,39,1.0263157894736843,37,0.97368421052631582,22,0.57894736842105265,27,0.71052631578947367,40,1.0526315789473684,50,1.3157894736842106,27,0.71052631578947367,35,0.92105263157894735,44,1.1578947368421053,null,0,0,null,{"$f":"cálculos1!O46","v":5},0.5,{"$f":"cálculos1!P46","v":2},0.5]
["Sul","Marataízes",500,120,10,8.3333333333333329E-2,64,0.53333333333333333,125,1.0416666666666667,113,0.94166666666666665,153,1.2749999999999999,157,1.3083333333333333,145,1.2083333333333333,103,0.85833333333333328,127,1.0583333333333333,149,1.2416666666666667,94,0.78333333333333333,null,1,8.3333333333333332E-3,null,{"$f":"cálculos1!O47","v":6},0.60000000000000009,{"$f":"cálculos1!P47","v":3},0.75]
["Metropolitana","Marechal Floriano",204,64,8,0.125,6,9.375E-2,45,0.703125,44,0.6875,41,0.640625,40,0.625,40,0.625,54,0.84375,62,0.96875,50,0.78125,65,1.015625,null,6,9.375E-2,null,{"$f":"cálculos1!O48","v":2},0.2,{"$f":"cálculos1!P48","v":0},0]
["Central","Marilândia",146,37,12,0.32432432432432434,16,0.43243243243243246,32,0.86486486486486491,32,0.86486486486486491,32,0.86486486486486491,37,1,33,0.89189189189189189,42,1.1351351351351351,33,0.89189189189189189,36,0.97297297297297303,34,0.91891891891891897,null,0,0,null,{"$f":"cálculos1!O49","v":3},0.30000000000000004,{"$f":"cálculos1!P49","v":1},0.25]
["Sul","Mimoso do Sul",219,46,11,0.2391304347826087,14,0.30434782608695654,58,1.2608695652173914,49,1.0652173913043479,50,1.0869565217391304,60,1.3043478260869565,54,1.173913043478261,57,1.2391304347826086,44,0.95652173913043481,41,0.89130434782608692,53,1.1521739130434783,null,2,4.3478260869565216E-2,null,{"$f":"cálculos1!O50","v":8},0.8,{"$f":"cálculos1!P50","v":3},0.75]
["Norte","Montanha",230,63,19,0.30158730158730157,19,0.30158730158730157,69,1.0952380952380953,68,1.0793650793650793,58,0.92063492063492058,72,1.1428571428571428,67,1.0634920634920635,56,0.88888888888888884,56,0.88888888888888884,61,0.96825396825396826,68,1.0793650793650793,null,2,3.1746031746031744E-2,null,{"$f":"cálculos1!O51","v":6},0.60000000000000009,{"$f":"cálculos1!P51","v":3},0.75]
["Norte","Mucurici",70,16,2,0.125,2,0.125,13,0.8125,14,0.875,18,1.125,17,1.0625,17,1.0625,22,1.375,25,1.5625,16,1,25,1.5625,null,1,6.25E-2,null,{"$f":"cálculos1!O52","v":7},0.70000000000000007,{"$f":"cálculos1!P52","v":2},0.5]
["Sul","Muniz Freire",201,46,24,0.52173913043478259,32,0.69565217391304346,57,1.2391304347826086,54,1.173913043478261,55,1.1956521739130435,56,1.2173913043478262,53,1.1521739130434783,68,1.4782608695652173,61,1.326086956521739,69,1.5,65,1.4130434782608696,null,1,2.1739130434782608E-2,null,{"$f":"cálculos1!O53","v":9},0.9,{"$f":"cálculos1!P53","v":4},1]
["Sul","Muqui",119,23,6,0.2608695652173913,6,0.2608695652173913,37,1.6086956521739131,37,1.6086956521739131,33,1.4347826086956521,34,1.4782608695652173,31,1.3478260869565217,50,2.1739130434782608,38,1.6521739130434783,33,1.4347826086956521,36,1.5652173913043479,null,5,0.21739130434782608,null,{"$f":"cálculos1!O54","v":9},0.9,{"$f":"cálculos1!P54","v":4},1]
["Norte","Nova Venécia",657,163,130,0.7975460122699386,115,0.70552147239263807,155,0.95092024539877296,142,0.87116564417177911,141,0.86503067484662577,167,1.0245398773006136,156,0.95705521472392641,147,0.90184049079754602,119,0.73006134969325154,153,0.93865030674846628,126,0.77300613496932513,null,2,1.2269938650306749E-2,null,{"$f":"cálculos1!O55","v":3},0.30000000000000004,{"$f":"cálculos1!P55","v":1},0.25]
["Central","Pancas",206,58,24,0.41379310344827586,29,0.5,49,0.84482758620689657,48,0.82758620689655171,45,0.77586206896551724,43,0.74137931034482762,51,0.87931034482758619,52,0.89655172413793105,52,0.89655172413793105,57,0.98275862068965514,57,0.98275862068965514,null,1,1.7241379310344827E-2,null,{"$f":"cálculos1!O56","v":2},0.2,{"$f":"cálculos1!P56","v":1},0.25]
["Norte","Pedro Canário",331,93,3,3.2258064516129031E-2,9,9.6774193548387094E-2,82,0.88172043010752688,76,0.81720430107526887,66,0.70967741935483875,59,0.63440860215053763,61,0.65591397849462363,64,0.68817204301075274,79,0.84946236559139787,94,1.010752688172043,61,0.65591397849462363,null,3,3.2258064516129031E-2,null,{"$f":"cálculos1!O57","v":1},0.1,{"$f":"cálculos1!P57","v":1},0.25]
["Norte","Pinheiros",314,74,1,1.3513513513513514E-2,3,4.0540540540540543E-2,69,0.93243243243243246,69,0.93243243243243246,73,0.98648648648648651,76,1.027027027027027,72,0.97297297297297303,64,0.86486486486486491,75,1.0135135135135136,77,1.0405405405405406,58,0.78378378378378377,null,1,1.3513513513513514E-2,null,{"$f":"cálculos1!O58","v":5},0.5,{"$f":"cálculos1!P58","v":2},0.5]
["Sul","Piúma",275,62,4,6.4516129032258063E-2,36,0.58064516129032262,77,1.2419354838709677,72,1.1612903225806452,65,1.0483870967741935,70,1.1290322580645162,74,1.1935483870967742,56,0.90322580645161288,83,1.3387096774193548,76,1.2258064516129032,51,0.82258064516129037,null,1,1.6129032258064516E-2,null,{"$f":"cálculos1!O59","v":7},0.70000000000000007,{"$f":"cálculos1!P59","v":4},1]
["Norte","Ponto Belo",82,14,2,0.14285714285714285,1,7.1428571428571425E-2,27,1.9285714285714286,26,1.8571428571428572,24,1.7142857142857142,26,1.8571428571428572,25,1.7857142857142858,26,1.8571428571428572,22,1.5714285714285714,20,1.4285714285714286,20,1.4285714285714286,null,0,0,null,{"$f":"cálculos1!O60","v":9},0.9,{"$f":"cálculos1!P60","v":4},1]
["Sul","Presidente Kennedy",171,45,3,6.6666666666666666E-2,6,0.13333333333333333,52,1.1555555555555554,50,1.1111111111111112,45,1,47,1.0444444444444445,51,1.1333333333333333,59,1.3111111111111111,43,0.9555555555555556,61,1.3555555555555556,42,0.93333333333333335,null,3,6.6666666666666666E-2,null,{"$f":"cálculos1!O61","v":8},0.8,{"$f":"cálculos1!P61","v":4},1]
["Central","Rio Bananal",301,70,12,0.17142857142857143,12,0.17142857142857143,65,0.9285714285714286,65,0.9285714285714286,61,0.87142857142857144,65,0.9285714285714286,63,0.9,78,1.1142857142857143,68,0.97142857142857142,80,1.1428571428571428,54,0.77142857142857146,null,4,5.7142857142857141E-2,null,{"$f":"cálculos1!O62","v":4},0.4,{"$f":"cálculos1!P62","v":1},0.25]
["Sul","Rio Novo do Sul",87,16,0,0,10,0.625,32,2,32,2,21,1.3125,22,1.375,23,1.4375,23,1.4375,28,1.75,27,1.6875,27,1.6875,null,0,0,null,{"$f":"cálculos1!O63","v":9},0.9,{"$f":"cálculos1!P63","v":4},1]
["Metropolitana","Santa Leopoldina",81,17,2,0.11764705882352941,4,0.23529411764705882,15,0.88235294117647056,13,0.76470588235294112,19,1.1176470588235294,20,1.1764705882352942,17,1,24,1.411764705882353,24,1.411764705882353,12,0.70588235294117652,4,0.23529411764705882,null,0,0,null,{"$f":"cálculos1!O64","v":5},0.5,{"$f":"cálculos1!P64","v":1},0.25]
["Metropolitana","Santa Maria de Jetibá",664,167,114,0.68263473053892221,121,0.72455089820359286,141,0.84431137724550898,144,0.86227544910179643,157,0.94011976047904189,167,1,148,0.88622754491017963,130,0.77844311377245512,160,0.95808383233532934,160,0.95808383233532934,123,0.73652694610778446,null,0,0,null,{"$f":"cálculos1!O65","v":3},0.30000000000000004,{"$f":"cálculos1!P65","v":1},0.25]
["Metropolitana","Santa Teresa",299,80,188,2.35,186,2.3250000000000002,63,0.78749999999999998,63,0.78749999999999998,57,0.71250000000000002,65,0.8125,74,0.92500000000000004,64,0.8,61,0.76249999999999996,57,0.71250000000000002,56,0.7,null,0,0,null,{"$f":"cálculos1!O66","v":1},0.1,{"$f":"cálculos1!P66","v":0},0]
["Central","São Domingos do Norte",112,25,8,0.32,11,{"$f":"G67/D67","v":0.44},26,{"$f":"I67/D67","v":1.04},27,{"$f":"K67/D67","v":1.08},20,{"$f":"M67/D67","v":0.8},21,{"$f":"O67/D67","v":0.84},20,{"$f":"Q67/D67","v":0.8},26,{"$f":"S67/D67","v":1.04},37,{"$f":"U67/D67","v":1.48},28,{"$f":"W67/D67","v":1.1200000000000001},30,{"$f":"Y67/D67","v":1.2},null,0,0,null,{"$f":"cálculos1!O67","v":6},0.60000000000000009,{"$f":"cálculos1!P67","v":3},0.75]
["Central","São Gabriel da Palha",415,110,27,{"$f":"E68/D68","v":0.24545454545454545},37,0.33636363636363636,114,1.0363636363636364,114,1.0363636363636364,83,0.75454545454545452,94,0.8545454545454545,111,1.009090909090909,104,0.94545454545454544,103,0.9363636363636364,96,0.87272727272727268,77,0.7,null,2,{"$f":"AB68/D68","v":1.8181818181818181E-2},null,{"$f":"cálculos1!O68","v":3},{"$f":"AE68*0.1","v":0.30000000000000004},{"$f":"cálculos1!P68","v":2},{"$f":"AG68*0.25","v":0.5}]
["Sul","São José do Calçado",94,24,12,0.5,15,0.625,30,1.25,30,1.25,18,0.75,17,0.70833333333333337,21,0.875,16,0.66666666666666663,31,1.2916666666666667,23,0.95833333333333337,32,1.3333333333333333,null,1,4.1666666666666664E-2,null,{"$f":"cálculos1!O69","v":5},0.5,{"$f":"cálculos1!P69","v":3},0.75]
["Norte","São Mateus",1814,462,720,1.5584415584415585,725,1.5692640692640694,416,0.90043290043290047,413,0.89393939393939392,354,0.76623376623376627,383,0.82900432900432897,402,0.87012987012987009,357,0.77272727272727271,405,0.87662337662337664,418,0.90476190476190477,331,0.71645021645021645,null,29,6.2770562770562768E-2,null,{"$f":"cálculos1!O70","v":1},0.1,{"$f":"cálculos1!P70","v":0},0]
["Central","São Roque do Canaã",129,46,12,0.2608695652173913,10,0.21739130434782608,32,0.69565217391304346,29,0.63043478260869568,25,0.54347826086956519,31,0.67391304347826086,28,0.60869565217391308,26,0.56521739130434778,14,0.30434782608695654,40,0.86956521739130432,23,0.5,null,1,2.1739130434782608E-2,null,{"$f":"cálculos1!O71","v":0},0,{"$f":"cálculos1!P71","v":0},0]
["Metropolitana","Serra",7312,1898,2163,1.1396206533192834,2110,1.1116965226554267,1626,0.8566912539515279,1582,0.83350895679662806,1519,0.80031612223393045,1613,0.84984193888303472,1595,0.84035827186512113,1378,0.72602739726027399,1646,0.86722866174920965,1592,0.83877766069546889,1480,0.77976817702845103,null,42,2.2128556375131718E-2,null,{"$f":"cálculos1!O72","v":1},0.1,{"$f":"cálculos1!P72","v":0},0]
["Central","Sooretama",429,98,6,6.1224489795918366E-2,8,8.1632653061224483E-2,98,1,93,0.94897959183673475,95,0.96938775510204078,105,1.0714285714285714,111,1.1326530612244898,99,1.010204081632653,92,0.93877551020408168,94,0.95918367346938771,90,0.91836734693877553,null,0,0,null,{"$f":"cálculos1!O73","v":6},0.60000000000000009,{"$f":"cálculos1!P73","v":3},0.75]
["Sul","Vargem Alta",212,50,7,0.14000000000000001,11,0.22,65,1.3,61,1.22,65,1.3,63,1.26,66,1.32,58,1.1599999999999999,58,1.1599999999999999,57,1.1399999999999999,73,1.46,null,2,0.04,null,{"$f":"cálculos1!O74","v":9},0.9,{"$f":"cálculos1!P74","v":4},1]
["Metropolitana","Venda Nova do Imigrante",337,81,178,2.1975308641975309,119,1.4691358024691359,81,1,81,1,90,1.1111111111111112,103,1.271604938271605,91,1.1234567901234569,86,1.0617283950617284,115,1.4197530864197532,104,1.2839506172839505,75,0.92592592592592593,null,5,6.1728395061728392E-2,null,{"$f":"cálculos1!O75","v":9},0.9,{"$f":"cálculos1!P75","v":4},1]
["Metropolitana","Viana",891,219,53,0.24200913242009131,48,0.21917808219178081,220,1.004566210045662,209,0.954337899543379,224,1.0228310502283104,216,0.98630136986301364,221,1.0091324200913243,151,0.68949771689497719,193,0.88127853881278539,224,1.0228310502283104,108,0.49315068493150682,null,9,4.1095890410958902E-2,null,{"$f":"cálculos1!O76","v":6},0.60000000000000009,{"$f":"cálculos1!P76","v":4},1]
["Norte","Vila Pavão",110,29,6,0.20689655172413793,16,0.55172413793103448,39,1.3448275862068966,38,1.3103448275862069,29,1,31,1.0689655172413792,40,1.3793103448275863,32,1.103448275862069,19,0.65517241379310343,26,0.89655172413793105,24,0.82758620689655171,null,4,0.13793103448275862,null,{"$f":"cálculos1!O77","v":6},0.60000000000000009,{"$f":"cálculos1!P77","v":3},0.75]
["Central","Vila Valério",232,62,14,0.22580645161290322,16,0.25806451612903225,49,0.79032258064516125,50,0.80645161290322576,50,0.80645161290322576,44,0.70967741935483875,50,0.80645161290322576,61,0.9838709677419355,63,1.0161290322580645,64,1.032258064516129,38,0.61290322580645162,null,0,0,null,{"$f":"cálculos1!O78","v":3},0.30000000000000004,{"$f":"cálculos1!P78","v":1},0.25]
["Metropolitana","Vila Velha",5446,1417,1110,0.78334509527170082,1076,0.75935074100211719,1167,0.82357092448835567,1161,0.81933662667607621,999,0.70501058574453068,1172,0.82709950599858861,1181,0.83345095271700775,930,0.6563161609033169,1205,0.85038814396612561,1168,0.8242766407904023,1160,0.81863091037402969,null,43,3.0345800988002825E-2,null,{"$f":"cálculos1!O79","v":0},0,{"$f":"cálculos1!P79","v":0},0]
["Metropolitana","Vitória",3452,876,1435,1.6381278538812785,1675,1.9121004566210045,1038,1.1849315068493151,1029,1.1746575342465753,736,0.84018264840182644,920,1.0502283105022832,1013,1.1563926940639269,579,0.66095890410958902,970,1.1073059360730593,1077,1.2294520547945205,1004,1.1461187214611872,null,34,3.8812785388127852E-2,null,{"$f":"cálculos1!O80","v":8},0.8,{"$f":"cálculos1!P80","v":3},0.75]
[]
[null,"Total Norte",{"$f":"SUMIF($A$3:$A$80,\"Norte\",C$3:C$80)","v":5679},{"$f":"SUMIF($A$3:$A$80,\"Norte\",D$3:D$80)","v":1478},{"$f":"SUMIF($A$3:$A$80,\"Norte\",E$3:E$80)","v":1120},{"$f":"E82/D82","v":0.75778078484438427},{"$f":"SUMIF($A$3:$A$80,\"Norte\",G$3:G$80)","v":1139},{"$f":"G82/D82","v":0.77063599458728016},{"$f":"SUMIF($A$3:$A$80,\"Norte\",I$3:I$80)","v":1357},{"$f":"I82/D82","v":0.91813261163734772},{"$f":"SUMIF($A$3:$A$80,\"Norte\",K$3:K$80)","v":1325},{"$f":"K82/D82","v":0.89648173207036541},{"$f":"SUMIF($A$3:$A$80,\"Norte\",M$3:M$80)","v":1175},{"$f":"M82/D82","v":0.79499323410013534},{"$f":"SUMIF($A$3:$A$80,\"Norte\",O$3:O$80)","v":1256},{"$f":"O82/D82","v":0.84979702300405957},{"$f":"SUMIF($A$3:$A$80,\"Norte\",Q$3:Q$80)","v":1293},{"$f":"Q82/D82","v":0.87483085250338299},{"$f":"SUMIF($A$3:$A$80,\"Norte\",S$3:S$80)","v":1248},{"$f":"S82/D82","v":0.84438430311231394},{"$f":"SUMIF($A$3:$A$80,\"Norte\",U$3:U$80)","v":1277},{"$f":"U82/D82","v":0.86400541271989173},{"$f":"SUMIF($A$3:$A$80,\"Norte\",W$3:W$80)","v":1340},{"$f":"W82/D82","v":0.90663058186738832},{"$f":"SUMIF($A$3:$A$80,\"Norte\",Y$3:Y$80)","v":1118},{"$f":"Y82/D82","v":0.75642760487144789},null,{"$f":"SUMIF($A$3:$A$80,\"Norte\",AB$3:AB$80)","v":46},{"$f":"AB82/D82","v":3.1123139377537211E-2},null,{"$f":"cálculos1!O82","v":0},{"$f":"AE82*0.1","v":0},{"$f":"cálculos1!P82","v":0},0]
[null,"Total Central",{"$f":"SUMIF($A$3:$A$80,\"Central\",C$3:C$80)","v":6962},{"$f":"SUMIF($A$3:$A$80,\"Central\",D$3:D$80)","v":1820},{"$f":"SUMIF($A$3:$A$80,\"Central\",E$3:E$80)","v":1722},{"$f":"E83/D83","v":0.94615384615384612},{"$f":"SUMIF($A$3:$A$80,\"Central\",G$3:G$80)","v":1748},{"$f":"G83/D83","v":0.96043956043956047},{"$f":"SUMIF($A$3:$A$80,\"Central\",I$3:I$80)","v":1622},{"$f":"I83/D83","v":0.89120879120879126},{"$f":"SUMIF($A$3:$A$80,\"Central\",K$3:K$80)","v":1599},{"$f":"K83/D83","v":0.87857142857142856},{"$f":"SUMIF($A$3:$A$80,\"Central\",M$3:M$80)","v":1354},{"$f":"M83/D83","v":0.74395604395604398},{"$f":"SUMIF($A$3:$A$80,\"Central\",O$3:O$80)","v":1509},{"$f":"O83/D83","v":0.82912087912087917},{"$f":"SUMIF($A$3:$A$80,\"Central\",Q$3:Q$80)","v":1662},{"$f":"Q83/D83","v":0.91318681318681316},{"$f":"SUMIF($A$3:$A$80,\"Central\",S$3:S$80)","v":1550},{"$f":"S83/D83","v":0.85164835164835162},{"$f":"SUMIF($A$3:$A$80,\"Central\",U$3:U$80)","v":1527},{"$f":"U83/D83","v":0.83901098901098903},{"$f":"SUMIF($A$3:$A$80,\"Central\",W$3:W$80)","v":1604},{"$f":"W83/D83","v":0.8813186813186813},{"$f":"SUMIF($A$3:$A$80,\"Central\",Y$3:Y$80)","v":1297},{"$f":"Y83/D83","v":0.71263736263736266},null,{"$f":"SUMIF($A$3:$A$80,\"Central\",AB$3:AB$80)","v":17},{"$f":"AB83/D83","v":9.3406593406593404E-3},null,{"$f":"cálculos1!O83","v":1},{"$f":"AE83*0.1","v":0.1},{"$f":"cálculos1!P83","v":0},0]
[null,"Total Metropolitana",{"$f":"SUMIF($A$3:$A$80,\"Metropolitana\",C$3:C$80)","v":28953},{"$f":"SUMIF($A$3:$A$80,\"Metropolitana\",D$3:D$80)","v":7439},{"$f":"SUMIF($A$3:$A$80,\"Metropolitana\",E$3:E$80)","v":6735},{"$f":"E84/D84","v":0.90536362414302995},{"$f":"SUMIF($A$3:$A$80,\"Metropolitana\",G$3:G$80)","v":7025},{"$f":"G84/D84","v":0.94434735851592955},{"$f":"SUMIF($A$3:$A$80,\"Metropolitana\",I$3:I$80)","v":6767},{"$f":"I84/D84","v":0.90966527759107407},{"$f":"SUMIF($A$3:$A$80,\"Metropolitana\",K$3:K$80)","v":6643},{"$f":"K84/D84","v":0.89299637047990321},{"$f":"SUMIF($A$3:$A$80,\"Metropolitana\",M$3:M$80)","v":5971},{"$f":"M84/D84","v":0.80266164807097728},{"$f":"SUMIF($A$3:$A$80,\"Metropolitana\",O$3:O$80)","v":6670},{"$f":"O84/D84","v":0.8966258905766904},{"$f":"SUMIF($A$3:$A$80,\"Metropolitana\",Q$3:Q$80)","v":6700},{"$f":"Q84/D84","v":0.90065869068423177},{"$f":"SUMIF($A$3:$A$80,\"Metropolitana\",S$3:S$80)","v":5446},{"$f":"S84/D84","v":0.7320876461890039},{"$f":"SUMIF($A$3:$A$80,\"Metropolitana\",U$3:U$80)","v":6902},{"$f":"U84/D84","v":0.92781287807501012},{"$f":"SUMIF($A$3:$A$80,\"Metropolitana\",W$3:W$80)","v":6879},{"$f":"W84/D84","v":0.92472106465922843},{"$f":"SUMIF($A$3:$A$80,\"Metropolitana\",Y$3:Y$80)","v":6164},{"$f":"Y84/D84","v":0.8286059954294932},null,{"$f":"SUMIF($A$3:$A$80,\"Metropolitana\",AB$3:AB$80)","v":297},3.9924721064659226E-2,null,{"$f":"cálculos1!O84","v":1},0.1,{"$f":"cálculos1!P84","v":0},0]
[null,"Total Sul",{"$f":"SUMIF($A$3:$A$80,\"sul\",C$3:C$80)","v":7063},{"$f":"SUMIF($A$3:$A$80,\"sul\",D$3:D$80)","v":1656},{"$f":"SUMIF($A$3:$A$80,\"Sul\",E$3:E$80)","v":1861},{"$f":"E85/D85","v":1.123792270531401},{"$f":"SUMIF($A$3:$A$80,\"Sul\",G$3:G$80)","v":1996},{"$f":"G85/D85","v":1.2053140096618358},{"$f":"SUMIF($A$3:$A$80,\"Sul\",I$3:I$80)","v":1939},{"$f":"I85/D85","v":1.1708937198067633},{"$f":"SUMIF($A$3:$A$80,\"Sul\",K$3:K$80)","v":1853},{"$f":"K85/D85","v":1.1189613526570048},{"$f":"SUMIF($A$3:$A$80,\"Sul\",M$3:M$80)","v":1756},{"$f":"M85/D85","v":1.0603864734299517},{"$f":"SUMIF($A$3:$A$80,\"Sul\",O$3:O$80)","v":1886},{"$f":"O85/D85","v":1.1388888888888888},{"$f":"SUMIF($A$3:$A$80,\"Sul\",Q$3:Q$80)","v":1906},{"$f":"Q85/D85","v":1.1509661835748792},{"$f":"SUMIF($A$3:$A$80,\"Sul\",S$3:S$80)","v":1786},{"$f":"S85/D85","v":1.0785024154589371},{"$f":"SUMIF($A$3:$A$80,\"Sul\",U$3:U$80)","v":2047},{"$f":"U85/D85","v":1.2361111111111112},{"$f":"SUMIF($A$3:$A$80,\"Sul\",W$3:W$80)","v":2005},{"$f":"W85/D85","v":1.2107487922705313},{"$f":"SUMIF($A$3:$A$80,\"Sul\",Y$3:Y$80)","v":1805},{"$f":"Y85/D85","v":1.0899758454106281},null,{"$f":"SUMIF($A$3:$A$80,\"Sul\",AB$3:AB$80)","v":67},4.0458937198067632E-2,null,{"$f":"cálculos1!O85","v":10},1,{"$f":"cálculos1!P85","v":4},1]
[null,"Total Espírito Santo",{"$f":"SUM(C3:C80)","v":48657},{"$f":"SUM(D3:D80)","v":12393},{"$f":"SUM(E82:E85)","v":11438},{"$f":"E86/D86","v":0.92294036956346326},{"$f":"SUM(G82:G85)","v":11908},{"$f":"G86/D86","v":0.96086500443798917},{"$f":"SUM(I82:I85)","v":11685},{"$f":"I86/D86","v":0.94287097555071409},{"$f":"SUM(K82:K85)","v":11420},{"$f":"K86/D86","v":0.92148793673848139},{"$f":"SUM(M82:M85)","v":10256},{"$f":"M86/D86","v":0.82756394738965544},{"$f":"SUM(O82:O85)","v":11321},{"$f":"O86/D86","v":0.91349955620108125},{"$f":"SUM(Q82:Q85)","v":11561},{"$f":"Q86/D86","v":0.93286532720083915},{"$f":"SUM(S82:S85)","v":10030},{"$f":"S86/D86","v":0.80932784636488342},{"$f":"SUM(U82:U85)","v":11753},{"$f":"U86/D86","v":0.94835794400064555},{"$f":"SUM(W82:W85)","v":11828},{"$f":"W86/D86","v":0.95440974743806983},{"$f":"SUM(Y82:Y85)","v":10384},{"$f":"Y86/D86","v":0.83789235858952638},null,{"$f":"SUM(AB82:AB85)","v":427},3.4454934237069315E-2,null,{"$f":"cálculos1!O86","v":3},0.30000000000000004,{"$f":"cálculos1!P86","v":1},0.25]
[null,null,null,null,{"$f":"COUNTIF(F3:F80,\">=0,95\")","v":9},null,{"$f":"COUNTIF(H3:H80,\">=0,9\")","v":15},null,{"$f":"COUNTIF(J3:J80,\">=0,95\")","v":40},null,{"$f":"COUNTIF(L3:L80,\">=0,95\")","v":37},null,{"$f":"COUNTIF(N3:N80,\">=0,95\")","v":32},null,{"$f":"COUNTIF(P3:P80,\">=0,9\")","v":47},null,{"$f":"COUNTIF(R3:R80,\">=0,95\")","v":40},null,{"$f":"COUNTIF(T3:T80,\">=0,95\")","v":40},null,{"$f":"COUNTIF(V3:V80,\">=0,95\")","v":44},null,{"$f":"COUNTIF(X3:X80,\">=0,95\")","v":50},null,{"$f":"COUNTIF(Z3:Z80,\">=0,95\")","v":30},null,null,{"$f":"COUNTIF(AC3:AC80,\">=0,9\")","v":0}]
[null,"HOMOGENEIDADE ENTRE MUNICÍPIOS",null,null,{"$f":"E87/78","v":0.11538461538461539},null,{"$f":"G87/78","v":0.19230769230769232},null,{"$f":"I87/78","v":0.51282051282051277},null,{"$f":"K87/78","v":0.47435897435897434},null,{"$f":"M87/78","v":0.41025641025641024},null,{"$f":"O87/78","v":0.60256410256410253},null,{"$f":"Q87/78","v":0.51282051282051277},null,{"$f":"S87/78","v":0.51282051282051277},null,{"$f":"U87/78","v":0.5641025641025641},null,{"$f":"W87/78","v":0.64102564102564108},null,{"$f":"Y87/78","v":0.38461538461538464},null,null,{"$f":"AB87/78","v":0}]
[]
[" Fonte: Vacina e Confia, em 22 de Abril de 2025.**"]
["**Dados referente às doses aplicadas no período de Janeiro a Março 2025",null,null,null,null," "]
["Cobertura Calculada por município de procedência/ocorrência da vacinação"]
["1 População anual extraída do MS/SVS/DASIS - SINASC/DASIS/SVS/MS 2024 (hoje preliminares) referente ao período de Fevereiro a Dezembro de 2024 e SINASC/DASIS/SVS/MS referente ao período de Janeiro de 2025."]
["² População proporcional extraída do MS/SVS/DASIS - SINASC/DASIS/SVS/MS 2024 (hoje preliminares) referente ao período de Fevereiro e Março/2024 e Janeiro/ 2025."]
["Sinasc, atualizado em 09/04/25."]
["Homogeineidade: O cálculo da Homogeineidade entre vacinas é feito de acordo com a pactuação estabelecida no Plano Plurianual (PPA) vigente no período 2024-2027."]
[]
["Observações:"]
["1. Imunobiológicos que foram recebidos parcialmente pelo estado no mês de Março/2025, sendo distribuídos em quantidades reduzidas às regionais e municípios:",null,null,null,null,null,null,null,null,null,null,null,null,null," "]
["SORO ANTIRRÁBICO HUMANO, IMUNOGLOBULINA ANTIRRÁBICA HUMANA, VACINA COVID-19 MODERNA (SPIKEVAX),VACINA CONTRA VARICELA.\n"]
["2. Imunobiológicos indisponíveis no mês de Março/2025, não sendo possível a distribuição às regionais e municípios: "]
["VACINA TRÍPLICE ACELULAR (DTPa) - CRIE"]
[]
[]
[null,null,null,null,null,null,null,null," "]

{"sheet":"CV Rotina <2A - residência","index":1,"n_rows":102,"n_cols":37,"rows_kept":102,"cut":false,"hidden":false,"merged":[[0,27,0,28],[0,8,0,19],[87,10,87,11],[87,12,87,13],[87,18,87,19],[87,20,87,21],[87,22,87,23],[87,27,87,28],[0,20,0,25],[87,1,87,3],[2,35,2,36],[11,35,11,36],[86,14,86,15],[86,16,86,17],[86,18,86,19],[86,20,86,21],[86,22,86,23],[86,24,86,25],[86,27,86,28],[0,4,0,7],[86,12,86,13],[87,24,87,25],[87,4,87,5],[87,14,87,15],[87,16,87,17],[87,6,87,7],[86,8,86,9],[87,8,87,9],[86,4,86,5],[86,10,86,11],[86,6,86,7]]}
[null,null,null,null,"AO NASCER",null,null,null,"MENOR DE 1 ANO",null,null,null,null,null,null,null,null,null,null,null,"1 ANO",null,null,null,null,null,null,"MENOR DE 1 ANO"]
["Regional ","Município","¹População < 1 ano e 1 ano anual ","²População < 1 ano e 1 ano proporcional ","Doses Aplicadas HB\n< 30 dias","Cobertura Vacinal HB\naté 30 dias","Doses Aplicadas BCG","Cobertura Vacinal BCG","Doses Aplicadas Pentavalente ","Cobertura Vacinal Pentavalente","Doses Aplicadas Poliomielite ","Cobertura Vacinal Poliomielite ","Doses Aplicadas Pneumo 10","Cobertura Vacinal Pneumo 10","Doses Aplicadas Rotavírus","Cobertura Vacinal Rotavírus","Doses Aplicadas Meningo C","Cobertura Vacinal Meningo C","Doses Aplicadas Febre Amarela","Cobertura Vacinal Febre Amarela","Doses Aplicadas Hepatite A","Cobertura Vacinal Hepatite A","Doses Aplicadas de Tríplice Viral","Cobertura Vacinal Tríplice Viral","Doses Aplicadas Varicela","Cobertura Varicela",null,"Doses Aplicadas COVID-19","Cobertura Vacinal \nCOVID-19 D1",null,"VACINAS QUE ATINGIRAM A META DE CV","HOMOGENEIDADE ENTRE AS 10 VACINAS","VACINAS DO PQA-VS QUE ATINGIRAM A META DE CV","HOMOGENEIDADE ENTRE AS VACINAS DO PQA-VS"]
["Metropolitana","Afonso Cláudio",355,86,83,{"$f":"E3/D3","v":0.96511627906976749},86,{"$f":"G3/D3","v":1},90,{"$f":"I3/D3","v":1.0465116279069768},87,{"$f":"K3/D3","v":1.0116279069767442},81,{"$f":"M3/D3","v":0.94186046511627908},84,{"$f":"O3/D3","v":0.97674418604651159},86,{"$f":"Q3/D3","v":1},91,{"$f":"S3/D3","v":1.058139534883721},103,{"$f":"U3/D3","v":1.1976744186046511},102,{"$f":"W3/D3","v":1.1860465116279071},127,{"$f":"Y3/D3","v":1.4767441860465116},null,1,{"$f":"AB3/D3","v":1.1627906976744186E-2},null,{"$f":"cálculos2!O3","v":9},{"$f":"AE3*0.1","v":0.9},{"$f":"cálculos2!P3","v":3},{"$f":"AG3*0.25","v":0.75},null,"LEGENDA / HOMOGENEIDADE PQA-VS"]
["Norte","Água Doce do Norte",181,51,36,{"$f":"E4/D4","v":0.70588235294117652},41,{"$f":"G4/D4","v":0.80392156862745101},35,0.68627450980392157,35,0.68627450980392157,32,0.62745098039215685,29,0.56862745098039214,36,0.70588235294117652,43,0.84313725490196079,30,0.58823529411764708,43,0.84313725490196079,18,0.35294117647058826,null,1,{"$f":"AB4/D4","v":1.9607843137254902E-2},null,{"$f":"cálculos2!O4","v":0},{"$f":"AE4*0.1","v":0},{"$f":"cálculos2!P4","v":0},{"$f":"AG4*0.25","v":0},null,"PERCENTUAL","Nº DE MUNICÍPIOS"]
["Central","Águia Branca",146,43,47,1.0930232558139534,46,1.069767441860465,38,0.88372093023255816,40,0.93023255813953487,23,0.53488372093023251,21,0.48837209302325579,32,0.7441860465116279,42,0.97674418604651159,34,0.79069767441860461,39,0.90697674418604646,36,0.83720930232558144,null,0,0,null,{"$f":"cálculos2!O5","v":2},0.2,{"$f":"cálculos2!P5","v":0},0,null,0,{"$f":"COUNTIF($AH$3:$AH$80,\"=0\")","v":22}]
["Sul","Alegre",264,59,56,0.94915254237288138,58,0.98305084745762716,70,1.1864406779661016,61,1.0338983050847457,45,0.76271186440677963,54,0.9152542372881356,71,1.2033898305084745,64,1.0847457627118644,80,1.3559322033898304,81,1.3728813559322033,93,1.576271186440678,null,1,1.6949152542372881E-2,null,{"$f":"cálculos2!O6","v":9},0.9,{"$f":"cálculos2!P6","v":3},0.75,null,0.25,{"$f":"COUNTIF($AH$3:$AH$80,\"=0,25\")","v":11}]
["Sul","Alfredo Chaves",112,27,23,0.85185185185185186,27,1,32,1.1851851851851851,31,1.1481481481481481,15,0.55555555555555558,19,0.70370370370370372,28,1.037037037037037,29,1.0740740740740742,40,1.4814814814814814,32,1.1851851851851851,35,1.2962962962962963,null,0,0,null,{"$f":"cálculos2!O7","v":8},0.8,{"$f":"cálculos2!P7","v":3},0.75,null,0.5,{"$f":"COUNTIF($AH$3:$AH$80,\"=0,5\")","v":4}]
["Central","Alto Rio Novo",89,19,17,0.89473684210526316,18,0.94736842105263153,24,1.263157894736842,25,1.3157894736842106,23,1.2105263157894737,23,1.2105263157894737,29,1.5263157894736843,28,1.4736842105263157,18,0.94736842105263153,20,1.0526315789473684,23,1.2105263157894737,null,0,0,null,{"$f":"cálculos2!O8","v":9},0.9,{"$f":"cálculos2!P8","v":4},1,null,0.75,{"$f":"COUNTIF($AH$3:$AH$80,\"=0,75\")","v":20}]
["Sul","Anchieta",315,73,69,0.9452054794520548,81,1.1095890410958904,95,1.3013698630136987,91,1.2465753424657535,100,1.3698630136986301,104,1.4246575342465753,86,1.178082191780822,83,1.1369863013698631,109,1.4931506849315068,88,1.2054794520547945,98,1.3424657534246576,null,7,9.5890410958904104E-2,null,{"$f":"cálculos2!O9","v":10},1,{"$f":"cálculos2!P9","v":4},1,null,1,{"$f":"COUNTIF($AH$3:$AH$80,\"=1,0\")","v":21}]
["Sul","Apiacá",72,19,4,0.21052631578947367,23,1.2105263157894737,16,0.84210526315789469,15,0.78947368421052633,16,0.84210526315789469,16,0.84210526315789469,15,0.78947368421052633,21,1.1052631578947369,11,0.57894736842105265,16,0.84210526315789469,15,0.78947368421052633,null,0,0,null,{"$f":"cálculos2!O10","v":2},0.2,{"$f":"cálculos2!P10","v":0},0]
["Metropolitana","Aracruz",1384,385,369,0.95844155844155843,371,0.96363636363636362,320,0.83116883116883122,317,0.82337662337662343,281,0.72987012987012989,318,0.82597402597402603,309,0.80259740259740264,296,0.76883116883116887,362,0.94025974025974024,368,0.95584415584415583,322,0.83636363636363631,null,27,7.0129870129870125E-2,null,{"$f":"cálculos2!O11","v":2},0.2,{"$f":"cálculos2!P11","v":1},0.25]
["Sul","Atilio Vivacqua",125,20,46,2.2999999999999998,44,2.2000000000000002,51,2.5499999999999998,50,2.5,43,2.15,44,2.2000000000000002,48,2.4,34,1.7,33,1.65,36,1.8,23,1.1499999999999999,null,3,0.15,null,{"$f":"cálculos2!O12","v":10},1,{"$f":"cálculos2!P12","v":4},1,null,"LEGENDA / HOMOGENEIDADE 10 VACINAS"]
["Central","Baixo Guandu",350,105,87,0.82857142857142863,101,0.96190476190476193,77,0.73333333333333328,77,0.73333333333333328,58,0.55238095238095242,61,0.580952380952381,69,0.65714285714285714,90,0.8571428571428571,99,0.94285714285714284,86,0.81904761904761902,79,0.75238095238095237,null,0,0,null,{"$f":"cálculos2!O13","v":1},0.1,{"$f":"cálculos2!P13","v":0},0,null,"PERCENTUAL","Nº DE MUNICÍPIOS"]
["Norte","Barra de São Francisco",591,149,126,0.84563758389261745,124,0.83221476510067116,144,0.96644295302013428,142,0.95302013422818788,105,0.70469798657718119,107,0.71812080536912748,123,0.82550335570469802,127,0.8523489932885906,116,0.77852348993288589,122,0.81879194630872487,139,0.93288590604026844,null,0,0,null,{"$f":"cálculos2!O14","v":2},0.2,{"$f":"cálculos2!P14","v":2},0.5,null,0,{"$f":"COUNTIF($AF$3:$AF$80,\"=0\")","v":5}]
["Norte","Boa Esperança",205,57,50,0.8771929824561403,51,0.89473684210526316,49,0.85964912280701755,48,0.84210526315789469,45,0.78947368421052633,51,0.89473684210526316,47,0.82456140350877194,48,0.84210526315789469,54,0.94736842105263153,45,0.78947368421052633,49,0.85964912280701755,null,0,0,null,{"$f":"cálculos2!O15","v":0},0,{"$f":"cálculos2!P15","v":0},0,null,0.1,{"$f":"COUNTIFS($AF$3:$AF$80,\">=0,10\",$AF$3:$AF$80,\"<0,20\")","v":9}]
["Sul","Bom Jesus do Norte",73,16,4,0.25,21,1.3125,25,1.5625,25,1.5625,19,1.1875,19,1.1875,17,1.0625,22,1.375,26,1.625,20,1.25,14,0.875,null,0,0,null,{"$f":"cálculos2!O16","v":9},0.9,{"$f":"cálculos2!P16","v":4},1,null,0.2,{"$f":"COUNTIFS($AF$3:$AF$80,\">=0,20\",$AF$3:$AF$80,\"<0,30\")","v":9}]
["Metropolitana","Brejetuba",202,50,45,0.9,46,0.92,37,0.74,39,0.78,48,0.96,54,1.08,45,0.9,33,0.66,43,0.86,53,1.06,37,0.74,null,0,0,null,{"$f":"cálculos2!O17","v":4},0.4,{"$f":"cálculos2!P17","v":2},0.5,null,0.3,{"$f":"COUNTIFS($AF$3:$AF$80,\">=0,30\",$AF$3:$AF$80,\"<0,40\")","v":6}]
["Sul","Cachoeiro de Itapemirim",1946,457,628,1.37417943107221,640,1.4004376367614879,542,1.1859956236323852,535,1.1706783369803064,479,1.0481400437636761,530,1.1597374179431073,534,1.1684901531728664,486,1.0634573304157549,605,1.3238512035010941,592,1.2954048140043763,545,1.1925601750547046,null,14,3.0634573304157548E-2,null,{"$f":"cálculos2!O18","v":10},1,{"$f":"cálculos2!P18","v":4},1,null,0.4,{"$f":"COUNTIFS($AF$3:$AF$80,\">=0,40\",$AF$3:$AF$80,\"<0,50\")","v":6}]
["Metropolitana","Cariacica",4767,1221,1115,0.91318591318591313,1202,0.98443898443898448,1140,0.93366093366093361,1103,0.90335790335790334,927,0.75921375921375922,1054,0.86322686322686326,1110,0.90909090909090906,894,0.73218673218673214,1122,0.91891891891891897,1133,0.92792792792792789,835,0.68386568386568392,null,70,5.7330057330057332E-2,null,{"$f":"cálculos2!O19","v":1},0.1,{"$f":"cálculos2!P19","v":0},0,null,0.5,{"$f":"COUNTIFS($AF$3:$AF$80,\">=0,50\",$AF$3:$AF$80,\"<0,60\")","v":5}]
["Sul","Castelo",370,96,100,1.0416666666666667,105,1.09375,97,1.0104166666666667,92,0.95833333333333337,77,0.80208333333333337,85,0.88541666666666663,97,1.0104166666666667,99,1.03125,108,1.125,106,1.1041666666666667,58,0.60416666666666663,null,3,3.125E-2,null,{"$f":"cálculos2!O20","v":7},0.70000000000000007,{"$f":"cálculos2!P20","v":3},0.75,null,0.6,{"$f":"COUNTIFS($AF$3:$AF$80,\">=0,60\",$AF$3:$AF$80,\"<0,70\")","v":4}]
["Central","Colatina",1490,382,359,0.93979057591623039,371,0.97120418848167545,360,0.94240837696335078,360,0.94240837696335078,272,0.7120418848167539,319,0.83507853403141363,366,0.95811518324607325,308,0.80628272251308897,322,0.84293193717277481,349,0.91361256544502623,276,0.72251308900523559,null,9,2.356020942408377E-2,null,{"$f":"cálculos2!O21","v":2},0.2,{"$f":"cálculos2!P21","v":0},0,null,0.7,{"$f":"COUNTIFS($AF$3:$AF$80,\">=0,70\",$AF$3:$AF$80,\"<0,80\")","v":9}]
["Norte","Conceição da Barra",364,107,77,0.71962616822429903,80,0.74766355140186913,92,0.85981308411214952,94,0.87850467289719625,81,0.7570093457943925,85,0.79439252336448596,89,0.83177570093457942,97,0.90654205607476634,94,0.87850467289719625,106,0.99065420560747663,74,0.69158878504672894,null,2,1.8691588785046728E-2,null,{"$f":"cálculos2!O22","v":1},0.1,{"$f":"cálculos2!P22","v":1},0.25,null,0.8,{"$f":"COUNTIFS($AF$3:$AF$80,\">=0,80\",$AF$3:$AF$80,\"<0,90\")","v":3}]
["Metropolitana","Conceição do Castelo",162,37,38,1.027027027027027,38,1.027027027027027,38,1.027027027027027,37,1,39,1.0540540540540539,43,1.1621621621621621,33,0.89189189189189189,31,0.83783783783783783,23,0.6216216216216216,31,0.83783783783783783,32,0.86486486486486491,null,0,0,null,{"$f":"cálculos2!O23","v":5},0.5,{"$f":"cálculos2!P23","v":3},0.75,null,0.9,{"$f":"COUNTIFS($AF$3:$AF$80,\">=0,90\",$AF$3:$AF$80,\"<1,0\")","v":10}]
["Sul","Divino de São Lourenço",51,13,9,0.69230769230769229,10,0.76923076923076927,9,0.69230769230769229,9,0.69230769230769229,9,0.69230769230769229,10,0.76923076923076927,9,0.69230769230769229,27,2.0769230769230771,18,1.3846153846153846,24,1.8461538461538463,17,1.3076923076923077,null,0,0,null,{"$f":"cálculos2!O24","v":4},0.4,{"$f":"cálculos2!P24","v":1},0.25,null,1,{"$f":"COUNTIF($AF$3:$AF$80,\">=1,0\")","v":12}]
["Metropolitana","Domingos Martins",421,100,86,0.86,95,0.95,111,1.1100000000000001,108,1.08,99,0.99,107,1.07,109,1.0900000000000001,103,1.03,105,1.05,97,0.97,115,1.1499999999999999,null,10,0.1,null,{"$f":"cálculos2!O25","v":10},1,{"$f":"cálculos2!P25","v":4},1]
["Sul","Dores do Rio Preto",94,22,24,1.0909090909090908,22,1,30,1.3636363636363635,29,1.3181818181818181,18,0.81818181818181823,25,1.1363636363636365,17,0.77272727272727271,22,1,22,1,22,1,14,0.63636363636363635,null,0,0,null,{"$f":"cálculos2!O26","v":7},0.70000000000000007,{"$f":"cálculos2!P26","v":3},0.75]
["Norte","Ecoporanga",256,71,71,1,61,0.85915492957746475,60,0.84507042253521125,58,0.81690140845070425,57,0.80281690140845074,62,0.87323943661971826,53,0.74647887323943662,67,0.94366197183098588,55,0.77464788732394363,69,0.971830985915493,39,0.54929577464788737,null,1,1.4084507042253521E-2,null,{"$f":"cálculos2!O27","v":1},0.1,{"$f":"cálculos2!P27","v":1},0.25]
["Metropolitana","Fundão",222,62,63,1.0161290322580645,71,1.1451612903225807,54,0.87096774193548387,54,0.87096774193548387,50,0.80645161290322576,54,0.87096774193548387,53,0.85483870967741937,41,0.66129032258064513,49,0.79032258064516125,59,0.95161290322580649,46,0.74193548387096775,null,1,1.6129032258064516E-2,null,{"$f":"cálculos2!O28","v":2},0.2,{"$f":"cálculos2!P28","v":1},0.25]
["Central","Governador Lindenberg",116,31,27,0.87096774193548387,30,0.967741935483871,26,0.83870967741935487,26,0.83870967741935487,21,0.67741935483870963,26,0.83870967741935487,24,0.77419354838709675,21,0.67741935483870963,25,0.80645161290322576,29,0.93548387096774188,21,0.67741935483870963,null,0,0,null,{"$f":"cálculos2!O29","v":1},0.1,{"$f":"cálculos2!P29","v":0},0]
["Sul","Guaçuí",358,86,67,0.77906976744186052,69,0.80232558139534882,83,0.96511627906976749,80,0.93023255813953487,88,1.0232558139534884,88,1.0232558139534884,83,0.96511627906976749,79,0.91860465116279066,77,0.89534883720930236,90,1.0465116279069768,79,0.91860465116279066,null,7,8.1395348837209308E-2,null,{"$f":"cálculos2!O30","v":5},0.5,{"$f":"cálculos2!P30","v":3},0.75]
["Metropolitana","Guarapari",1706,422,377,0.89336492890995256,424,1.0047393364928909,365,0.86492890995260663,364,0.86255924170616116,379,0.8981042654028436,393,0.93127962085308058,376,0.89099526066350709,281,0.66587677725118488,410,0.97156398104265407,357,0.84597156398104267,363,0.8601895734597157,null,26,6.1611374407582936E-2,null,{"$f":"cálculos2!O31","v":3},0.30000000000000004,{"$f":"cálculos2!P31","v":0},0]
["Metropolitana","Ibatiba",379,87,80,0.91954022988505746,97,1.1149425287356323,100,1.1494252873563218,101,1.1609195402298851,82,0.94252873563218387,90,1.0344827586206897,101,1.1609195402298851,79,0.90804597701149425,109,1.2528735632183907,89,1.0229885057471264,72,0.82758620689655171,null,13,0.14942528735632185,null,{"$f":"cálculos2!O32","v":7},0.70000000000000007,{"$f":"cálculos2!P32","v":3},0.75]
["Metropolitana","Ibiraçu",149,38,23,0.60526315789473684,22,0.57894736842105265,34,0.89473684210526316,32,0.84210526315789469,36,0.94736842105263153,38,1,37,0.97368421052631582,38,1,33,0.86842105263157898,34,0.89473684210526316,26,0.68421052631578949,null,0,0,null,{"$f":"cálculos2!O33","v":3},0.30000000000000004,{"$f":"cálculos2!P33","v":0},0]
["Sul","Ibitirama",133,30,36,1.2,40,1.3333333333333333,46,1.5333333333333334,44,1.4666666666666666,53,1.7666666666666666,56,1.8666666666666667,46,1.5333333333333334,36,1.2,39,1.3,41,1.3666666666666667,27,0.9,null,3,0.1,null,{"$f":"cálculos2!O34","v":9},0.9,{"$f":"cálculos2!P34","v":4},1]
["Sul","Iconha",106,25,25,1,32,1.28,32,{"$f":"I35/D35","v":1.28},32,{"$f":"K35/D35","v":1.28},28,{"$f":"M35/D35","v":1.1200000000000001},35,{"$f":"O35/D35","v":1.4},36,{"$f":"Q35/D35","v":1.44},20,{"$f":"S35/D35","v":0.8},26,{"$f":"U35/D35","v":1.04},30,{"$f":"W35/D35","v":1.2},42,{"$f":"Y35/D35","v":1.68},null,0,0,null,{"$f":"cálculos2!O35","v":9},0.9,{"$f":"cálculos2!P35","v":4},1]
["Sul","Irupi",170,47,29,0.61702127659574468,38,0.80851063829787229,47,1,48,1.0212765957446808,27,0.57446808510638303,34,0.72340425531914898,42,0.8936170212765957,47,1,48,1.0212765957446808,53,1.1276595744680851,38,0.80851063829787229,null,4,8.5106382978723402E-2,null,{"$f":"cálculos2!O36","v":5},0.5,{"$f":"cálculos2!P36","v":3},0.75]
["Metropolitana","Itaguaçu",137,41,37,0.90243902439024393,37,0.90243902439024393,34,0.82926829268292679,34,0.82926829268292679,28,0.68292682926829273,31,0.75609756097560976,32,0.78048780487804881,45,1.0975609756097562,24,0.58536585365853655,35,0.85365853658536583,22,0.53658536585365857,null,4,9.7560975609756101E-2,null,{"$f":"cálculos2!O37","v":2},0.2,{"$f":"cálculos2!P37","v":0},0]
["Sul","Itapemirim",459,97,111,1.1443298969072164,107,1.1030927835051547,98,1.0103092783505154,83,0.85567010309278346,112,1.1546391752577319,103,1.0618556701030928,121,1.2474226804123711,88,0.90721649484536082,121,1.2474226804123711,108,1.1134020618556701,86,0.88659793814432986,null,2,2.0618556701030927E-2,null,{"$f":"cálculos2!O38","v":7},0.70000000000000007,{"$f":"cálculos2!P38","v":3},0.75]
["Metropolitana","Itarana",129,34,31,0.91176470588235292,33,0.97058823529411764,39,1.1470588235294117,39,1.1470588235294117,20,0.58823529411764708,26,0.76470588235294112,33,0.97058823529411764,37,1.088235294117647,25,0.73529411764705888,35,1.0294117647058822,28,0.82352941176470584,null,1,2.9411764705882353E-2,null,{"$f":"cálculos2!O39","v":6},0.60000000000000009,{"$f":"cálculos2!P39","v":3},0.75]
["Sul","Iúna",418,111,76,0.68468468468468469,84,0.7567567567567568,106,0.95495495495495497,99,0.89189189189189189,90,0.81081081081081086,96,0.86486486486486491,107,0.963963963963964,110,0.99099099099099097,122,1.0990990990990992,104,0.93693693693693691,110,0.99099099099099097,null,2,1.8018018018018018E-2,null,{"$f":"cálculos2!O40","v":5},0.5,{"$f":"cálculos2!P40","v":1},0.25]
["Norte","Jaguaré",474,129,125,0.96899224806201545,122,0.94573643410852715,124,0.96124031007751942,115,0.89147286821705429,95,0.73643410852713176,94,0.72868217054263562,121,0.93798449612403101,92,0.71317829457364346,126,0.97674418604651159,99,0.76744186046511631,88,0.68217054263565891,null,0,0,null,{"$f":"cálculos2!O41","v":3},0.30000000000000004,{"$f":"cálculos2!P41","v":1},0.25]
["Sul","Jerônimo Monteiro",119,26,28,1.0769230769230769,28,1.0769230769230769,31,1.1923076923076923,32,1.2307692307692308,28,1.0769230769230769,33,1.2692307692307692,28,1.0769230769230769,27,1.0384615384615385,37,1.4230769230769231,35,1.3461538461538463,31,1.1923076923076923,null,3,0.11538461538461539,null,{"$f":"cálculos2!O42","v":10},1,{"$f":"cálculos2!P42","v":4},1]
["Metropolitana","João Neiva",153,32,21,0.65625,26,0.8125,39,1.21875,36,1.125,33,1.03125,38,1.1875,37,1.15625,34,1.0625,38,1.1875,32,1,37,1.15625,null,1,3.125E-2,null,{"$f":"cálculos2!O43","v":9},0.9,{"$f":"cálculos2!P43","v":4},1]
["Metropolitana","Laranja da Terra",101,25,26,1.04,29,1.1599999999999999,26,1.04,27,1.08,38,1.52,40,1.6,40,1.6,22,0.88,23,0.92,22,0.88,27,1.08,null,2,0.08,null,{"$f":"cálculos2!O44","v":7},0.70000000000000007,{"$f":"cálculos2!P44","v":3},0.75]
["Central","Linhares",2663,696,537,0.77155172413793105,539,0.77442528735632188,579,0.8318965517241379,564,0.81034482758620685,517,0.74281609195402298,581,0.83477011494252873,602,0.86494252873563215,518,0.74425287356321834,527,0.75718390804597702,548,0.78735632183908044,413,0.5933908045977011,null,1,1.4367816091954023E-3,null,{"$f":"cálculos2!O45","v":0},0,{"$f":"cálculos2!P45","v":0},0]
["Central","Mantenópolis",138,38,32,0.84210526315789469,33,0.86842105263157898,37,0.97368421052631582,36,0.94736842105263153,22,0.57894736842105265,27,0.71052631578947367,39,1.0263157894736843,49,1.2894736842105263,29,0.76315789473684215,34,0.89473684210526316,43,1.131578947368421,null,0,0,null,{"$f":"cálculos2!O46","v":4},0.4,{"$f":"cálculos2!P46","v":1},0.25]
["Sul","Marataízes",500,120,122,1.0166666666666666,140,1.1666666666666667,117,0.97499999999999998,107,0.89166666666666672,145,1.2083333333333333,149,1.2416666666666667,140,1.1666666666666667,101,0.84166666666666667,115,0.95833333333333337,138,1.1499999999999999,95,0.79166666666666663,null,1,8.3333333333333332E-3,null,{"$f":"cálculos2!O47","v":7},0.70000000000000007,{"$f":"cálculos2!P47","v":3},0.75]
["Metropolitana","Marechal Floriano",204,64,49,0.765625,48,0.75,45,0.703125,45,0.703125,40,0.625,41,0.640625,41,0.640625,50,0.78125,62,0.96875,54,0.84375,65,1.015625,null,6,9.375E-2,null,{"$f":"cálculos2!O48","v":2},0.2,{"$f":"cálculos2!P48","v":0},0]
["Central","Marilândia",146,37,38,1.027027027027027,38,1.027027027027027,31,0.83783783783783783,31,0.83783783783783783,33,0.89189189189189189,39,1.0540540540540539,36,0.97297297297297303,40,1.0810810810810811,31,0.83783783783783783,35,0.94594594594594594,32,0.86486486486486491,null,0,0,null,{"$f":"cálculos2!O49","v":4},0.4,{"$f":"cálculos2!P49","v":0},0]
["Sul","Mimoso do Sul",219,46,77,1.673913043478261,80,1.7391304347826086,64,1.3913043478260869,55,1.1956521739130435,49,1.0652173913043479,60,1.3043478260869565,58,1.2608695652173914,63,1.3695652173913044,51,1.1086956521739131,43,0.93478260869565222,55,1.1956521739130435,null,3,6.5217391304347824E-2,null,{"$f":"cálculos2!O50","v":9},0.9,{"$f":"cálculos2!P50","v":3},0.75]
["Norte","Montanha",230,63,48,0.76190476190476186,48,0.76190476190476186,73,1.1587301587301588,72,1.1428571428571428,59,0.93650793650793651,69,1.0952380952380953,68,1.0793650793650793,57,0.90476190476190477,54,0.8571428571428571,64,1.0158730158730158,69,1.0952380952380953,null,3,4.7619047619047616E-2,null,{"$f":"cálculos2!O51","v":6},0.60000000000000009,{"$f":"cálculos2!P51","v":3},0.75]
["Norte","Mucurici",70,16,11,0.6875,10,0.625,13,0.8125,14,0.875,18,1.125,17,1.0625,17,1.0625,21,1.3125,29,1.8125,17,1.0625,27,1.6875,null,1,6.25E-2,null,{"$f":"cálculos2!O52","v":7},0.70000000000000007,{"$f":"cálculos2!P52","v":2},0.5]
["Sul","Muniz Freire",201,46,50,1.0869565217391304,51,1.1086956521739131,54,1.173913043478261,51,1.1086956521739131,54,1.173913043478261,56,1.2173913043478262,53,1.1521739130434783,64,1.3913043478260869,59,1.2826086956521738,66,1.4347826086956521,59,1.2826086956521738,null,1,2.1739130434782608E-2,null,{"$f":"cálculos2!O53","v":10},1,{"$f":"cálculos2!P53","v":4},1]
["Sul","Muqui",119,23,35,1.5217391304347827,34,1.4782608695652173,35,1.5217391304347827,35,1.5217391304347827,34,1.4782608695652173,36,1.5652173913043479,34,1.4782608695652173,41,1.7826086956521738,34,1.4782608695652173,32,1.3913043478260869,33,1.4347826086956521,null,5,0.21739130434782608,null,{"$f":"cálculos2!O54","v":10},1,{"$f":"cálculos2!P54","v":4},1]
["Norte","Nova Venécia",657,163,149,0.91411042944785281,156,0.95705521472392641,153,0.93865030674846628,146,0.89570552147239269,138,0.84662576687116564,168,1.0306748466257669,163,1,142,0.87116564417177911,133,0.81595092024539873,149,0.91411042944785281,131,0.80368098159509205,null,4,2.4539877300613498E-2,null,{"$f":"cálculos2!O55","v":3},0.30000000000000004,{"$f":"cálculos2!P55","v":0},0]
["Central","Pancas",206,58,59,1.0172413793103448,60,1.0344827586206897,43,0.74137931034482762,43,0.74137931034482762,44,0.75862068965517238,44,0.75862068965517238,47,0.81034482758620685,51,0.87931034482758619,56,0.96551724137931039,56,0.96551724137931039,63,1.0862068965517242,null,1,1.7241379310344827E-2,null,{"$f":"cálculos2!O56","v":4},0.4,{"$f":"cálculos2!P56","v":1},0.25]
["Norte","Pedro Canário",331,93,81,0.87096774193548387,89,0.956989247311828,75,0.80645161290322576,69,0.74193548387096775,62,0.66666666666666663,58,0.62365591397849462,59,0.63440860215053763,48,0.5161290322580645,79,0.84946236559139787,86,0.92473118279569888,63,0.67741935483870963,null,1,1.0752688172043012E-2,null,{"$f":"cálculos2!O57","v":1},0.1,{"$f":"cálculos2!P57","v":0},0]
["Norte","Pinheiros",314,74,83,1.1216216216216217,78,1.0540540540540539,79,1.0675675675675675,79,1.0675675675675675,83,1.1216216216216217,89,1.2027027027027026,85,1.1486486486486487,74,1,88,1.1891891891891893,89,1.2027027027027026,70,0.94594594594594594,null,3,4.0540540540540543E-2,null,{"$f":"cálculos2!O58","v":9},0.9,{"$f":"cálculos2!P58","v":4},1]
["Sul","Piúma",275,62,68,1.096774193548387,70,1.1290322580645162,75,1.2096774193548387,70,1.1290322580645162,62,1,68,1.096774193548387,71,1.1451612903225807,56,0.90322580645161288,84,1.3548387096774193,71,1.1451612903225807,52,0.83870967741935487,null,2,3.2258064516129031E-2,null,{"$f":"cálculos2!O59","v":8},0.8,{"$f":"cálculos2!P59","v":4},1]
["Norte","Ponto Belo",82,14,16,1.1428571428571428,16,1.1428571428571428,27,1.9285714285714286,26,1.8571428571428572,22,1.5714285714285714,24,1.7142857142857142,23,1.6428571428571428,27,1.9285714285714286,22,1.5714285714285714,19,1.3571428571428572,17,1.2142857142857142,null,0,0,null,{"$f":"cálculos2!O60","v":10},1,{"$f":"cálculos2!P60","v":4},1]
["Sul","Presidente Kennedy",171,45,55,1.2222222222222223,55,1.2222222222222223,59,1.3111111111111111,57,1.2666666666666666,49,1.0888888888888888,51,1.1333333333333333,59,1.3111111111111111,58,1.288888888888889,44,0.97777777777777775,60,1.3333333333333333,41,0.91111111111111109,null,3,6.6666666666666666E-2,null,{"$f":"cálculos2!O61","v":9},0.9,{"$f":"cálculos2!P61","v":4},1]
["Central","Rio Bananal",301,70,54,0.77142857142857146,53,0.75714285714285712,69,0.98571428571428577,69,0.98571428571428577,58,0.82857142857142863,68,0.97142857142857142,69,0.98571428571428577,75,1.0714285714285714,64,0.91428571428571426,83,1.1857142857142857,55,0.7857142857142857,null,4,5.7142857142857141E-2,null,{"$f":"cálculos2!O62","v":6},0.60000000000000009,{"$f":"cálculos2!P62","v":3},0.75]
["Sul","Rio Novo do Sul",87,16,26,1.625,27,1.6875,36,2.25,35,2.1875,24,1.5,24,1.5,30,1.875,18,1.125,25,1.5625,24,1.5,26,1.625,null,0,0,null,{"$f":"cálculos2!O63","v":10},1,{"$f":"cálculos2!P63","v":4},1]
["Metropolitana","Santa Leopoldina",81,17,21,1.2352941176470589,23,1.3529411764705883,19,1.1176470588235294,17,1,26,1.5294117647058822,27,1.588235294117647,22,1.2941176470588236,26,1.5294117647058822,27,1.588235294117647,15,0.88235294117647056,10,0.58823529411764708,null,0,0,null,{"$f":"cálculos2!O64","v":8},0.8,{"$f":"cálculos2!P64","v":3},0.75]
["Metropolitana","Santa Maria de Jetibá",664,167,154,0.92215568862275454,164,0.98203592814371254,143,0.85628742514970058,146,0.87425149700598803,147,0.88023952095808389,163,0.9760479041916168,148,0.88622754491017963,123,0.73652694610778446,151,0.90419161676646709,148,0.88622754491017963,121,0.72455089820359286,null,0,0,null,{"$f":"cálculos2!O65","v":2},0.2,{"$f":"cálculos2!P65","v":0},0]
["Metropolitana","Santa Teresa",299,80,81,1.0125,84,1.05,64,0.8,62,0.77500000000000002,57,0.71250000000000002,63,0.78749999999999998,66,0.82499999999999996,69,0.86250000000000004,68,0.85,60,0.75,63,0.78749999999999998,null,1,1.2500000000000001E-2,null,{"$f":"cálculos2!O66","v":1},0.1,{"$f":"cálculos2!P66","v":0},0]
["Central","São Domingos do Norte",112,25,21,0.84,23,0.92,28,{"$f":"I67/D67","v":1.1200000000000001},29,{"$f":"K67/D67","v":1.1599999999999999},26,{"$f":"M67/D67","v":1.04},26,{"$f":"O67/D67","v":1.04},31,{"$f":"Q67/D67","v":1.24},26,{"$f":"S67/D67","v":1.04},39,{"$f":"U67/D67","v":1.56},35,{"$f":"W67/D67","v":1.4},30,{"$f":"Y67/D67","v":1.2},null,0,0,null,{"$f":"cálculos2!O67","v":10},1,{"$f":"cálculos2!P67","v":4},1]
["Central","São Gabriel da Palha",415,110,84,{"$f":"E68/D68","v":0.76363636363636367},86,{"$f":"G68/D68","v":0.78181818181818186},111,1.009090909090909,112,1.0181818181818181,76,0.69090909090909092,86,0.78181818181818186,107,0.97272727272727277,105,0.95454545454545459,101,0.91818181818181821,94,0.8545454545454545,72,0.65454545454545454,null,0,{"$f":"AB68/D68","v":0},null,{"$f":"cálculos2!O68","v":4},{"$f":"AE68*0.1","v":0.4},{"$f":"cálculos2!P68","v":2},{"$f":"AG68*0.25","v":0.5}]
["Sul","São José do Calçado",94,24,22,0.91666666666666663,24,1,29,1.2083333333333333,29,1.2083333333333333,19,0.79166666666666663,18,0.75,19,0.79166666666666663,14,0.58333333333333337,28,1.1666666666666667,23,0.95833333333333337,31,1.2916666666666667,null,1,4.1666666666666664E-2,null,{"$f":"cálculos2!O69","v":6},0.60000000000000009,{"$f":"cálculos2!P69","v":3},0.75]
["Norte","São Mateus",1814,462,390,0.8441558441558441,403,0.87229437229437234,407,0.88095238095238093,401,0.86796536796536794,350,0.75757575757575757,379,0.82034632034632038,388,0.83982683982683981,382,0.82683982683982682,402,0.87012987012987009,423,0.91558441558441561,323,0.69913419913419916,null,31,6.7099567099567103E-2,null,{"$f":"cálculos2!O70","v":0},0,{"$f":"cálculos2!P70","v":0},0]
["Central","São Roque do Canaã",129,46,34,0.73913043478260865,36,0.78260869565217395,35,0.76086956521739135,33,0.71739130434782605,24,0.52173913043478259,30,0.65217391304347827,34,0.73913043478260865,31,0.67391304347826086,17,0.36956521739130432,42,0.91304347826086951,24,0.52173913043478259,null,1,2.1739130434782608E-2,null,{"$f":"cálculos2!O71","v":0},0,{"$f":"cálculos2!P71","v":0},0]
["Metropolitana","Serra",7312,1898,1720,0.90621707060063228,1749,0.92149631190727077,1683,0.88672286617492102,1640,0.86406743940990516,1565,0.82455216016859856,1663,0.87618545837723916,1655,0.8719704952581665,1389,0.731822971548999,1692,0.89146469968387776,1612,0.84931506849315064,1510,0.79557428872497371,null,42,2.2128556375131718E-2,null,{"$f":"cálculos2!O72","v":1},0.1,{"$f":"cálculos2!P72","v":0},0]
["Central","Sooretama",429,98,67,0.68367346938775508,71,0.72448979591836737,104,1.0612244897959184,98,1,95,0.96938775510204078,108,1.1020408163265305,113,1.153061224489796,93,0.94897959183673475,89,0.90816326530612246,89,0.90816326530612246,86,0.87755102040816324,null,0,0,null,{"$f":"cálculos2!O73","v":5},0.5,{"$f":"cálculos2!P73","v":3},0.75]
["Sul","Vargem Alta",212,50,72,1.44,70,1.4,61,1.22,58,1.1599999999999999,60,1.2,59,1.18,64,1.28,61,1.22,64,1.28,66,1.32,77,1.54,null,1,0.02,null,{"$f":"cálculos2!O74","v":10},1,{"$f":"cálculos2!P74","v":4},1]
["Metropolitana","Venda Nova do Imigrante",337,81,81,1,85,1.0493827160493827,79,0.97530864197530864,78,0.96296296296296291,89,1.0987654320987654,103,1.271604938271605,86,1.0617283950617284,91,1.1234567901234569,113,1.3950617283950617,94,1.1604938271604939,84,1.037037037037037,null,5,6.1728395061728392E-2,null,{"$f":"cálculos2!O75","v":10},1,{"$f":"cálculos2!P75","v":4},1]
["Metropolitana","Viana",891,219,187,0.85388127853881279,210,0.95890410958904104,224,1.0228310502283104,215,0.9817351598173516,237,1.0821917808219179,228,1.0410958904109588,220,1.004566210045662,162,0.73972602739726023,204,0.93150684931506844,221,1.0091324200913243,130,0.59360730593607303,null,10,4.5662100456621002E-2,null,{"$f":"cálculos2!O76","v":7},0.70000000000000007,{"$f":"cálculos2!P76","v":4},1]
["Norte","Vila Pavão",110,29,31,1.0689655172413792,34,1.1724137931034482,42,1.4482758620689655,39,1.3448275862068966,29,1,29,1,39,1.3448275862068966,29,1,20,0.68965517241379315,27,0.93103448275862066,26,0.89655172413793105,null,3,0.10344827586206896,null,{"$f":"cálculos2!O77","v":7},0.70000000000000007,{"$f":"cálculos2!P77","v":3},0.75]
["Central","Vila Valério",232,62,51,0.82258064516129037,51,0.82258064516129037,48,0.77419354838709675,49,0.79032258064516125,54,0.87096774193548387,49,0.79032258064516125,50,0.80645161290322576,65,1.0483870967741935,66,1.064516129032258,63,1.0161290322580645,49,0.79032258064516125,null,1,1.6129032258064516E-2,null,{"$f":"cálculos2!O78","v":3},0.30000000000000004,{"$f":"cálculos2!P78","v":1},0.25]
["Metropolitana","Vila Velha",5446,1417,1274,0.8990825688073395,1288,0.90896259703599158,1211,0.85462244177840507,1200,0.84685956245589278,987,0.69654199011997175,1190,0.839802399435427,1190,0.839802399435427,911,0.64290755116443188,1199,0.84615384615384615,1186,0.8369795342272407,1146,0.8087508821453776,null,41,2.893436838390967E-2,null,{"$f":"cálculos2!O79","v":1},0.1,{"$f":"cálculos2!P79","v":0},0]
["Metropolitana","Vitória",3452,876,760,0.86757990867579904,778,0.88812785388127857,821,0.93721461187214616,811,0.92579908675799083,649,0.7408675799086758,776,0.88584474885844744,813,0.92808219178082196,567,0.64726027397260277,878,1.0022831050228311,977,1.115296803652968,892,1.0182648401826484,null,34,3.8812785388127852E-2,null,{"$f":"cálculos2!O80","v":3},0.30000000000000004,{"$f":"cálculos2!P80","v":1},0.25]
[]
[null,"Total Norte",{"$f":"SUMIF($A$3:$A$80,\"Norte\",C$3:C$80)","v":5679},{"$f":"SUMIF($A$3:$A$80,\"Norte\",D$3:D$80)","v":1478},{"$f":"SUMIF($A$3:$A$80,\"Norte\",E$3:E$80)","v":1294},{"$f":"E82/D82","v":0.87550744248985113},{"$f":"SUMIF($A$3:$A$80,\"Norte\",G$3:G$80)","v":1313},{"$f":"G82/D82","v":0.88836265223274691},{"$f":"SUMIF($A$3:$A$80,\"Norte\",I$3:I$80)","v":1373},{"$f":"I82/D82","v":0.92895805142083898},{"$f":"SUMIF($A$3:$A$80,\"Norte\",K$3:K$80)","v":1338},{"$f":"K82/D82","v":0.90527740189445194},{"$f":"SUMIF($A$3:$A$80,\"Norte\",M$3:M$80)","v":1176},{"$f":"M82/D82","v":0.79566982408660347},{"$f":"SUMIF($A$3:$A$80,\"Norte\",O$3:O$80)","v":1261},{"$f":"O82/D82","v":0.85317997293640058},{"$f":"SUMIF($A$3:$A$80,\"Norte\",Q$3:Q$80)","v":1311},{"$f":"Q82/D82","v":0.88700947225981053},{"$f":"SUMIF($A$3:$A$80,\"Norte\",S$3:S$80)","v":1254},{"$f":"S82/D82","v":0.84844384303112319},{"$f":"SUMIF($A$3:$A$80,\"Norte\",U$3:U$80)","v":1302},{"$f":"U82/D82","v":0.88092016238159676},{"$f":"SUMIF($A$3:$A$80,\"Norte\",W$3:W$80)","v":1358},{"$f":"W82/D82","v":0.91880920162381596},{"$f":"SUMIF($A$3:$A$80,\"Norte\",Y$3:Y$80)","v":1133},{"$f":"Y82/D82","v":0.76657645466847091},null,{"$f":"SUMIF($A$3:$A$80,\"Norte\",AB$3:AB$80)","v":50},{"$f":"AB82/D82","v":3.3829499323410013E-2},null,{"$f":"cálculos2!O82","v":0},{"$f":"AE82*0.1","v":0},{"$f":"cálculos2!P82","v":0},0]
[null,"Total Central",{"$f":"SUMIF($A$3:$A$80,\"Central\",C$3:C$80)","v":6962},{"$f":"SUMIF($A$3:$A$80,\"Central\",D$3:D$80)","v":1820},{"$f":"SUMIF($A$3:$A$80,\"Central\",E$3:E$80)","v":1514},{"$f":"E83/D83","v":0.83186813186813191},{"$f":"SUMIF($A$3:$A$80,\"Central\",G$3:G$80)","v":1556},{"$f":"G83/D83","v":0.85494505494505491},{"$f":"SUMIF($A$3:$A$80,\"Central\",I$3:I$80)","v":1610},{"$f":"I83/D83","v":0.88461538461538458},{"$f":"SUMIF($A$3:$A$80,\"Central\",K$3:K$80)","v":1592},{"$f":"K83/D83","v":0.87472527472527473},{"$f":"SUMIF($A$3:$A$80,\"Central\",M$3:M$80)","v":1346},{"$f":"M83/D83","v":0.7395604395604396},{"$f":"SUMIF($A$3:$A$80,\"Central\",O$3:O$80)","v":1508},{"$f":"O83/D83","v":0.82857142857142863},{"$f":"SUMIF($A$3:$A$80,\"Central\",Q$3:Q$80)","v":1648},{"$f":"Q83/D83","v":0.9054945054945055},{"$f":"SUMIF($A$3:$A$80,\"Central\",S$3:S$80)","v":1542},{"$f":"S83/D83","v":0.84725274725274724},{"$f":"SUMIF($A$3:$A$80,\"Central\",U$3:U$80)","v":1517},{"$f":"U83/D83","v":0.83351648351648355},{"$f":"SUMIF($A$3:$A$80,\"Central\",W$3:W$80)","v":1602},{"$f":"W83/D83","v":0.8802197802197802},{"$f":"SUMIF($A$3:$A$80,\"Central\",Y$3:Y$80)","v":1302},{"$f":"Y83/D83","v":0.7153846153846154},null,{"$f":"SUMIF($A$3:$A$80,\"Central\",AB$3:AB$80)","v":17},{"$f":"AB83/D83","v":9.3406593406593404E-3},null,{"$f":"cálculos2!O83","v":0},{"$f":"AE83*0.1","v":0},{"$f":"cálculos2!P83","v":0},0]
[null,"Total Metropolitana",{"$f":"SUMIF($A$3:$A$80,\"Metropolitana\",C$3:C$80)","v":28953},{"$f":"SUMIF($A$3:$A$80,\"Metropolitana\",D$3:D$80)","v":7439},{"$f":"SUMIF($A$3:$A$80,\"Metropolitana\",E$3:E$80)","v":6721},{"$f":"E84/D84","v":0.9034816507595107},{"$f":"SUMIF($A$3:$A$80,\"Metropolitana\",G$3:G$80)","v":7006},{"$f":"G84/D84","v":0.94179325178115336},{"$f":"SUMIF($A$3:$A$80,\"Metropolitana\",I$3:I$80)","v":6716},{"$f":"I84/D84","v":0.90280951740825377},{"$f":"SUMIF($A$3:$A$80,\"Metropolitana\",K$3:K$80)","v":6592},{"$f":"K84/D84","v":0.88614061029708291},{"$f":"SUMIF($A$3:$A$80,\"Metropolitana\",M$3:M$80)","v":5938},{"$f":"M84/D84","v":0.79822556795268185},{"$f":"SUMIF($A$3:$A$80,\"Metropolitana\",O$3:O$80)","v":6624},{"$f":"O84/D84","v":0.89044226374512703},{"$f":"SUMIF($A$3:$A$80,\"Metropolitana\",Q$3:Q$80)","v":6642},{"$f":"Q84/D84","v":0.89286194380965178},{"$f":"SUMIF($A$3:$A$80,\"Metropolitana\",S$3:S$80)","v":5413},{"$f":"S84/D84","v":0.72765156607070847},{"$f":"SUMIF($A$3:$A$80,\"Metropolitana\",U$3:U$80)","v":6863},{"$f":"U84/D84","v":0.92257023793520632},{"$f":"SUMIF($A$3:$A$80,\"Metropolitana\",W$3:W$80)","v":6814},{"$f":"W84/D84","v":0.91598333109288887},{"$f":"SUMIF($A$3:$A$80,\"Metropolitana\",Y$3:Y$80)","v":6110},{"$f":"Y84/D84","v":0.82134695523591883},null,{"$f":"SUMIF($A$3:$A$80,\"Metropolitana\",AB$3:AB$80)","v":295},3.9655867724156475E-2,null,{"$f":"cálculos2!O84","v":1},0.1,{"$f":"cálculos2!P84","v":0},0]
[null,"Total Sul",{"$f":"SUMIF($A$3:$A$80,\"sul\",C$3:C$80)","v":7063},{"$f":"SUMIF($A$3:$A$80,\"sul\",D$3:D$80)","v":1656},{"$f":"SUMIF($A$3:$A$80,\"Sul\",E$3:E$80)","v":1862},{"$f":"E85/D85","v":1.1243961352657006},{"$f":"SUMIF($A$3:$A$80,\"Sul\",G$3:G$80)","v":1980},{"$f":"G85/D85","v":1.1956521739130435},{"$f":"SUMIF($A$3:$A$80,\"Sul\",I$3:I$80)","v":1940},{"$f":"I85/D85","v":1.1714975845410629},{"$f":"SUMIF($A$3:$A$80,\"Sul\",K$3:K$80)","v":1853},{"$f":"K85/D85","v":1.1189613526570048},{"$f":"SUMIF($A$3:$A$80,\"Sul\",M$3:M$80)","v":1743},{"$f":"M85/D85","v":1.0525362318840579},{"$f":"SUMIF($A$3:$A$80,\"Sul\",O$3:O$80)","v":1872},{"$f":"O85/D85","v":1.1304347826086956},{"$f":"SUMIF($A$3:$A$80,\"Sul\",Q$3:Q$80)","v":1913},{"$f":"Q85/D85","v":1.1551932367149758},{"$f":"SUMIF($A$3:$A$80,\"Sul\",S$3:S$80)","v":1770},{"$f":"S85/D85","v":1.068840579710145},{"$f":"SUMIF($A$3:$A$80,\"Sul\",U$3:U$80)","v":2026},{"$f":"U85/D85","v":1.2234299516908214},{"$f":"SUMIF($A$3:$A$80,\"Sul\",W$3:W$80)","v":2001},{"$f":"W85/D85","v":1.2083333333333333},{"$f":"SUMIF($A$3:$A$80,\"Sul\",Y$3:Y$80)","v":1794},{"$f":"Y85/D85","v":1.0833333333333333},null,{"$f":"SUMIF($A$3:$A$80,\"Sul\",AB$3:AB$80)","v":66},3.9855072463768113E-2,null,{"$f":"cálculos2!O85","v":10},1,{"$f":"cálculos2!P85","v":4},1]
[null,"Total Espírito Santo",{"$f":"SUM(C3:C80)","v":48657},{"$f":"SUM(D3:D80)","v":12393},{"$f":"SUM(E82:E85)","v":11391},{"$f":"E86/D86","v":0.9191479060760106},{"$f":"SUM(G82:G85)","v":11855},{"$f":"G86/D86","v":0.95658839667554263},{"$f":"SUM(I82:I85)","v":11639},{"$f":"I86/D86","v":0.93915920277576048},{"$f":"SUM(K82:K85)","v":11375},{"$f":"K86/D86","v":0.91785685467602673},{"$f":"SUM(M82:M85)","v":10203},{"$f":"M86/D86","v":0.8232873396272089},{"$f":"SUM(O82:O85)","v":11265},{"$f":"O86/D86","v":0.90898087630113777},{"$f":"SUM(Q82:Q85)","v":11514},{"$f":"Q86/D86","v":0.9290728637133866},{"$f":"SUM(S82:S85)","v":9979},{"$f":"S86/D86","v":0.80521262002743488},{"$f":"SUM(U82:U85)","v":11708},{"$f":"U86/D86","v":0.94472686193819089},{"$f":"SUM(W82:W85)","v":11775},{"$f":"W86/D86","v":0.95013313967562329},{"$f":"SUM(Y82:Y85)","v":10339},{"$f":"Y86/D86","v":0.83426127652707172},null,{"$f":"SUM(AB82:AB85)","v":428},3.4535624949568307E-2,null,{"$f":"cálculos2!O86","v":3},0.30000000000000004,{"$f":"cálculos2!P86","v":1},0.25]
[null,null,null,null,{"$f":"COUNTIF(F3:F80,\">=0,95\")","v":32},null,{"$f":"COUNTIF(H3:H80,\">=0,9\")","v":55},null,{"$f":"COUNTIF(J3:J80,\">=0,95\")","v":46},null,{"$f":"COUNTIF(L3:L80,\">=0,95\")","v":40},null,{"$f":"COUNTIF(N3:N80,\">=0,95\")","v":32},null,{"$f":"COUNTIF(P3:P80,\">=0,9\")","v":43},null,{"$f":"COUNTIF(R3:R80,\">=0,95\")","v":45},null,{"$f":"COUNTIF(T3:T80,\">=0,95\")","v":40},null,{"$f":"COUNTIF(V3:V80,\">=0,95\")","v":40},null,{"$f":"COUNTIF(X3:X80,\">=0,95\")","v":45},null,{"$f":"COUNTIF(Z3:Z80,\">=0,95\")","v":29},null,null,{"$f":"COUNTIF(AC3:AC80,\">=0,9\")","v":0}]
[null,"HOMOGENEIDADE ENTRE MUNICÍPIOS",null,null,{"$f":"E87/78","v":0.41025641025641024},null,{"$f":"G87/78","v":0.70512820512820518},null,{"$f":"I87/78","v":0.58974358974358976},null,{"$f":"K87/78","v":0.51282051282051277},null,{"$f":"M87/78","v":0.41025641025641024},null,{"$f":"O87/78","v":0.55128205128205132},null,{"$f":"Q87/78","v":0.57692307692307687},null,{"$f":"S87/78","v":0.51282051282051277},null,{"$f":"U87/78","v":0.51282051282051277},null,{"$f":"W87/78","v":0.57692307692307687},null,{"$f":"Y87/78","v":0.37179487179487181},null,null,{"$f":"AB87/78","v":0}]
[]
[" Fonte: Vacina e Confia, em 22 de Abril de 2025.**"]
["**Dados referente às doses aplicadas no período de Janeiro a Março 2025"]
["Cobertura Calculada por município de residência da vacinação"]
["1 População anual extraída do MS/SVS/DASIS - SINASC/DASIS/SVS/MS 2024 (hoje preliminares) referente ao período de Fevereiro a Dezembro de 2024 e SINASC/DASIS/SVS/MS referente ao período de Janeiro de 2025."]
["² População proporcional extraída do MS/SVS/DASIS - SINASC/DASIS/SVS/MS 2024 (hoje preliminares) referente ao período de Fevereiro e Março/2024 e Janeiro/ 2025."]
["Sinasc, atualizado em 09/04/2025."]
["Homogeineidade: O cálculo da Homogeineidade entre vacinas é feito de acordo com a pactuação estabelecida no Plano Plurianual (PPA) vigente no período 2024-2027."]
[]
["Observações:"]
["1. Imunobiológicos que foram recebidos parcialmente pelo estado no mês de Março/2025, sendo distribuídos em quantidades reduzidas às regionais e municípios:"]
["SORO ANTIRRÁBICO HUMANO, IMUNOGLOBULINA ANTIRRÁBICA HUMANA, VACINA COVID-19 MODERNA (SPIKEVAX),VACINA CONTRA VARICELA.\n"]
["2. Imunobiológicos indisponíveis no mês de Março/2025, não sendo possível a distribuição às regionais e municípios: "]
["VACINA TRÍPLICE ACELULAR (DTPa) - CRIE"]

{"sheet":"CV REF 1A e 4A - procedência","index":2,"n_rows":102,"n_cols":26,"rows_kept":102,"cut":false,"hidden":false,"merged":[[0,18,0,21],[0,10,0,17],[0,6,0,9]]}
[null,null,null,null,null,null,"D2",null,null,null,"REFORÇOS 1 ANO",null,null,null,null,null,null,null,"REFORÇOS 4 ANOS"]
["Regional ","Município","¹População 1 ano anual ","²População 1 ano proporcional ","³População 4 anos anual ","³População 4 anos proporcional ","DOSES APLICADAS D2 TRÍPLICE VIRAL","COBERTURA D2 TRÍPLICE VIRAL","DOSES APLICADAS D2 VARICELA","COBERTURA D2 VARICELA","DOSES APLICADAS REF PNEUMO ","COBERTURA REF PNEUMO","DOSES APLICADAS REF MENINGO","COBERTURA REF MENINGO","DOSES APLICADAS REF POLIO","COBERTURA REF POLIO","DOSES APLICADAS R1 TRÍPLICE BACTERIANA","COBERTURA R1 TRÍPLICE BACTERIANA","DOSES APLICADAS REF FEBRE AMARELA","COBERTURA REF FEBRE AMARELA","DOSES APLICADAS R2 TRÍPLICE BACTERIANA","COBERTURA R2 TRÍPLICE BACTERIANA"]
["Metropolitana","Afonso Cláudio",355,86,416,{"$f":"(E3/12)*2","v":69.333333333333329},92,{"$f":"G3/D3","v":1.069767441860465},1,{"$f":"I3/F3","v":1.4423076923076924E-2},92,{"$f":"K3/D3","v":1.069767441860465},87,{"$f":"M3/D3","v":1.0116279069767442},116,{"$f":"O3/D3","v":1.3488372093023255},90,{"$f":"Q3/D3","v":1.0465116279069768},95,{"$f":"S3/F3","v":1.3701923076923077},88,{"$f":"U3/F3","v":1.2692307692307694}]
["Norte","Água Doce do Norte",181,51,151,{"$f":"(E4/12)*2","v":25.166666666666668},34,0.66666666666666663,8,0.31788079470198671,46,0.90196078431372551,44,0.86274509803921573,31,0.60784313725490191,31,0.60784313725490191,21,0.83443708609271516,26,1.0331125827814569]
["Central","Águia Branca",146,43,129,21.5,35,0.81395348837209303,0,0,35,0.81395348837209303,36,0.83720930232558144,40,0.93023255813953487,34,0.79069767441860461,21,0.97674418604651159,21,0.97674418604651159]
["Sul","Alegre",264,59,372,62,86,1.4576271186440677,3,4.8387096774193547E-2,74,1.2542372881355932,66,1.1186440677966101,94,1.5932203389830508,83,1.4067796610169492,62,1,68,1.096774193548387]
["Sul","Alfredo Chaves",112,27,138,23,39,1.4444444444444444,8,0.34782608695652173,35,1.2962962962962963,37,1.3703703703703705,51,1.8888888888888888,46,1.7037037037037037,33,1.4347826086956521,31,1.3478260869565217]
["Central","Alto Rio Novo",89,19,102,17,25,1.3157894736842106,5,0.29411764705882354,18,0.94736842105263153,20,1.0526315789473684,20,1.0526315789473684,18,0.94736842105263153,21,1.2352941176470589,17,1]
["Sul","Anchieta",315,73,390,65,88,1.2054794520547945,12,0.18461538461538463,84,1.1506849315068493,85,1.1643835616438356,119,1.6301369863013699,94,1.2876712328767124,100,1.5384615384615385,94,1.4461538461538461]
["Sul","Apiacá",72,19,90,15,16,0.84210526315789469,4,0.26666666666666666,20,1.0526315789473684,20,1.0526315789473684,15,0.78947368421052633,14,0.73684210526315785,2,0.13333333333333333,14,0.93333333333333335]
["Metropolitana","Aracruz",1384,385,1420,236.66666666666666,367,0.95324675324675323,125,0.52816901408450712,354,0.91948051948051945,359,0.93246753246753245,425,1.1038961038961039,347,0.90129870129870127,274,1.1577464788732394,312,1.3183098591549296]
["Sul","Atilio Vivacqua",125,20,138,23,37,1.85,0,0,31,1.55,31,1.55,36,1.8,29,1.45,24,1.0434782608695652,28,1.2173913043478262,null,null,null," "]
["Central","Baixo Guandu",350,105,427,71.166666666666671,83,0.79047619047619044,30,0.42154566744730676,91,0.8666666666666667,92,0.87619047619047619,110,1.0476190476190477,103,0.98095238095238091,67,0.94145199063231844,83,1.1662763466042154]
["Norte","Barra de São Francisco",591,149,589,98.166666666666671,128,0.85906040268456374,1,1.0186757215619693E-2,119,0.79865771812080533,124,0.83221476510067116,121,0.81208053691275173,113,0.75838926174496646,98,0.99830220713073003,96,0.97792869269949056]
["Norte","Boa Esperança",205,57,200,33.333333333333336,49,0.85964912280701755,10,0.3,45,0.78947368421052633,48,0.84210526315789469,51,0.89473684210526316,32,0.56140350877192979,15,0.44999999999999996,33,0.98999999999999988]
["Sul","Bom Jesus do Norte",73,16,146,24.333333333333332,20,1.25,10,0.41095890410958907,22,1.375,21,1.3125,33,2.0625,25,1.5625,14,0.57534246575342474,32,1.3150684931506851]
["Metropolitana","Brejetuba",202,50,169,28.166666666666668,53,1.06,14,0.49704142011834318,52,1.04,51,1.02,38,0.76,36,0.72,39,1.3846153846153846,35,1.2426035502958579]
["Sul","Cachoeiro de Itapemirim",1946,457,2417,402.83333333333331,566,1.2385120350109409,34,8.4402151427389327E-2,563,1.2319474835886215,607,1.3282275711159737,707,1.5470459518599562,564,1.2341356673960613,553,1.372776168804303,591,1.4671079851055027]
["Metropolitana","Cariacica",4767,1221,5005,834.16666666666663,853,0.69860769860769856,50,5.9940059940059943E-2,1152,0.94348894348894352,1164,0.95331695331695332,1288,1.0548730548730549,1019,0.83456183456183453,924,1.1076923076923078,1198,1.4361638361638362]
["Sul","Castelo",370,96,399,66.5,85,0.88541666666666663,65,0.97744360902255634,94,0.97916666666666663,104,1.0833333333333333,105,1.09375,106,1.1041666666666667,78,1.1729323308270676,82,1.2330827067669172]
["Central","Colatina",1490,382,1561,260.16666666666669,299,0.7827225130890052,82,0.31518257527226134,335,0.87696335078534027,376,0.98429319371727753,368,0.96335078534031415,293,0.76701570680628273,213,0.81870595771941057,261,1.0032030749519538]
["Norte","Conceição da Barra",364,107,391,65.166666666666671,91,0.85046728971962615,15,0.23017902813299232,99,0.92523364485981308,103,0.96261682242990654,119,1.1121495327102804,85,0.79439252336448596,90,1.381074168797954,105,1.6112531969309463]
["Metropolitana","Conceição do Castelo",162,37,144,24,47,1.2702702702702702,0,0,31,0.83783783783783783,30,0.81081081081081086,29,0.78378378378378377,31,0.83783783783783783,34,1.4166666666666667,29,1.2083333333333333]
["Sul","Divino de São Lourenço",51,13,68,11.333333333333334,17,1.3076923076923077,9,0.79411764705882348,22,1.6923076923076923,21,1.6153846153846154,16,1.2307692307692308,16,1.2307692307692308,9,0.79411764705882348,13,1.1470588235294117]
["Metropolitana","Domingos Martins",421,100,411,68.5,110,1.1000000000000001,16,0.23357664233576642,86,0.86,88,0.88,118,1.18,100,1,66,0.96350364963503654,82,1.197080291970803]
["Sul","Dores do Rio Preto",94,22,92,15.333333333333334,17,0.77272727272727271,11,0.71739130434782605,26,1.1818181818181819,24,1.0909090909090908,31,1.4090909090909092,28,1.2727272727272727,23,1.5,23,1.5]
["Norte","Ecoporanga",256,71,283,47.166666666666664,48,0.676056338028169,25,0.53003533568904593,60,0.84507042253521125,61,0.85915492957746475,54,0.76056338028169013,44,0.61971830985915488,47,0.99646643109540645,62,1.3144876325088339]
["Metropolitana","Fundão",222,62,218,36.333333333333336,45,0.72580645161290325,29,0.79816513761467889,58,0.93548387096774188,57,0.91935483870967738,54,0.87096774193548387,48,0.77419354838709675,39,1.073394495412844,45,1.238532110091743]
["Central","Governador Lindenberg",116,31,142,23.666666666666668,26,0.83870967741935487,12,0.50704225352112675,23,0.74193548387096775,24,0.77419354838709675,24,0.77419354838709675,21,0.67741935483870963,32,1.352112676056338,32,1.352112676056338]
["Sul","Guaçuí",358,86,407,67.833333333333329,74,0.86046511627906974,1,1.4742014742014743E-2,89,1.0348837209302326,91,1.058139534883721,86,1,77,0.89534883720930236,76,1.1203931203931206,65,0.95823095823095827]
["Metropolitana","Guarapari",1706,422,1557,259.5,334,0.79146919431279616,180,0.69364161849710981,387,0.91706161137440756,379,0.8981042654028436,470,1.113744075829384,366,0.86729857819905209,233,0.89788053949903657,313,1.20616570327553]
["Metropolitana","Ibatiba",379,87,354,59,129,1.4827586206896552,3,5.0847457627118647E-2,89,1.0229885057471264,92,1.0574712643678161,135,1.5517241379310345,95,1.0919540229885059,66,1.1186440677966101,73,1.2372881355932204]
["Metropolitana","Ibiraçu",149,38,160,26.666666666666668,24,0.63157894736842102,25,0.9375,39,1.0263157894736843,38,1,30,0.78947368421052633,30,0.78947368421052633,23,0.86249999999999993,20,0.75]
["Sul","Ibitirama",133,30,148,24.666666666666668,41,1.3666666666666667,11,0.44594594594594594,40,1.3333333333333333,38,1.2666666666666666,42,1.4,30,1,38,1.5405405405405406,31,1.2567567567567568]
["Sul","Iconha",106,25,156,26,50,{"$f":"G35/D35","v":2},0,{"$f":"I35/F35","v":0},26,{"$f":"K35/D35","v":1.04},26,{"$f":"M35/D35","v":1.04},32,{"$f":"O35/D35","v":1.28},26,{"$f":"Q35/D35","v":1.04},21,{"$f":"S35/F35","v":0.80769230769230771},24,{"$f":"U35/F35","v":0.92307692307692313}]
["Sul","Irupi",170,47,200,33.333333333333336,36,0.76595744680851063,15,0.44999999999999996,54,1.1489361702127661,55,1.1702127659574468,55,1.1702127659574468,50,1.0638297872340425,28,0.84,32,0.96]
["Metropolitana","Itaguaçu",137,41,154,25.666666666666668,24,0.58536585365853655,3,0.11688311688311688,30,0.73170731707317072,32,0.78048780487804881,35,0.85365853658536583,23,0.56097560975609762,27,1.051948051948052,18,0.70129870129870131]
["Sul","Itapemirim",459,97,556,92.666666666666671,86,0.88659793814432986,82,0.88489208633093519,125,1.2886597938144331,117,1.2061855670103092,113,1.1649484536082475,112,1.1546391752577319,88,0.94964028776978415,114,1.2302158273381294]
["Metropolitana","Itarana",129,34,128,21.333333333333332,30,0.88235294117647056,1,4.6875E-2,34,1,32,0.94117647058823528,32,0.94117647058823528,26,0.76470588235294112,23,1.078125,22,1.03125]
["Sul","Iúna",418,111,410,68.333333333333329,122,1.0990990990990992,3,4.3902439024390248E-2,105,0.94594594594594594,111,1,151,1.3603603603603605,127,1.1441441441441442,92,1.3463414634146342,115,1.6829268292682928]
["Norte","Jaguaré",474,129,445,74.166666666666671,87,0.67441860465116277,23,0.31011235955056177,97,0.75193798449612403,103,0.79844961240310075,117,0.90697674418604646,106,0.82170542635658916,73,0.98426966292134821,87,1.1730337078651685]
["Sul","Jerônimo Monteiro",119,26,157,26.166666666666668,30,1.1538461538461537,6,0.22929936305732482,34,1.3076923076923077,33,1.2692307692307692,47,1.8076923076923077,36,1.3846153846153846,23,0.87898089171974514,29,1.10828025477707]
["Metropolitana","João Neiva",153,32,142,23.666666666666668,32,1,29,1.2253521126760563,35,1.09375,36,1.125,34,1.0625,34,1.0625,25,1.056338028169014,34,1.436619718309859]
["Metropolitana","Laranja da Terra",101,25,133,22.166666666666668,33,1.32,21,0.94736842105263153,26,1.04,27,1.08,26,1.04,21,0.84,26,1.1729323308270676,28,1.263157894736842]
["Central","Linhares",2663,696,2452,408.66666666666669,451,0.64798850574712641,215,0.52610114192495916,504,0.72413793103448276,564,0.81034482758620685,552,0.7931034482758621,537,0.77155172413793105,371,0.90783034257748774,429,1.0497553017944534]
["Central","Mantenópolis",138,38,166,27.666666666666668,40,1.0526315789473684,12,0.43373493975903615,30,0.78947368421052633,32,0.84210526315789469,38,1,31,0.81578947368421051,35,1.2650602409638554,40,1.4457831325301205]
["Sul","Marataízes",500,120,579,96.5,97,0.80833333333333335,88,0.91191709844559588,148,1.2333333333333334,148,1.2333333333333334,127,1.0583333333333333,122,1.0166666666666666,102,1.0569948186528497,135,1.3989637305699483]
["Metropolitana","Marechal Floriano",204,64,236,39.333333333333336,65,1.015625,22,0.55932203389830504,51,0.796875,46,0.71875,67,1.046875,57,0.890625,30,0.76271186440677963,34,0.86440677966101687]
["Central","Marilândia",146,37,164,27.333333333333332,34,0.91891891891891897,8,0.29268292682926833,27,0.72972972972972971,26,0.70270270270270274,33,0.89189189189189189,28,0.7567567567567568,33,1.2073170731707317,26,0.95121951219512202]
["Sul","Mimoso do Sul",219,46,276,46,57,1.2391304347826086,1,2.1739130434782608E-2,48,1.0434782608695652,44,0.95652173913043481,69,1.5,59,1.2826086956521738,41,0.89130434782608692,49,1.0652173913043479]
["Norte","Montanha",230,63,278,46.333333333333336,71,1.126984126984127,8,0.1726618705035971,58,0.92063492063492058,66,1.0476190476190477,59,0.93650793650793651,56,0.88888888888888884,46,0.99280575539568339,50,1.079136690647482]
["Norte","Mucurici",70,16,97,16.166666666666668,24,1.5,5,0.30927835051546387,15,0.9375,15,0.9375,29,1.8125,24,1.5,15,0.92783505154639168,13,0.8041237113402061]
["Sul","Muniz Freire",201,46,275,45.833333333333336,94,2.0434782608695654,1,2.1818181818181816E-2,61,1.326086956521739,62,1.3478260869565217,63,1.3695652173913044,57,1.2391304347826086,48,1.0472727272727271,48,1.0472727272727271]
["Sul","Muqui",119,23,152,25.333333333333332,39,1.6956521739130435,6,0.23684210526315791,33,1.4347826086956521,33,1.4347826086956521,45,1.9565217391304348,39,1.6956521739130435,33,1.3026315789473686,35,1.381578947368421]
["Norte","Nova Venécia",657,163,656,109.33333333333333,137,0.8404907975460123,61,0.55792682926829273,165,1.0122699386503067,174,1.0674846625766872,180,1.1042944785276074,146,0.89570552147239269,67,0.61280487804878048,121,1.1067073170731707]
["Central","Pancas",206,58,244,40.666666666666664,53,0.91379310344827591,6,0.14754098360655737,52,0.89655172413793105,56,0.96551724137931039,60,1.0344827586206897,53,0.91379310344827591,28,0.68852459016393441,39,0.95901639344262302]
["Norte","Pedro Canário",331,93,338,56.333333333333336,61,0.65591397849462363,38,0.67455621301775148,99,1.064516129032258,96,1.032258064516129,95,1.021505376344086,73,0.78494623655913975,60,1.0650887573964496,68,1.2071005917159763]
["Norte","Pinheiros",314,74,383,63.833333333333336,84,1.1351351351351351,32,0.50130548302872058,76,1.027027027027027,75,1.0135135135135136,77,1.0405405405405406,75,1.0135135135135136,37,0.57963446475195823,68,1.0652741514360313]
["Sul","Piúma",275,62,311,51.833333333333336,62,1,34,0.65594855305466238,82,1.3225806451612903,86,1.3870967741935485,73,1.1774193548387097,62,1,62,1.1961414790996785,70,1.35048231511254]
["Norte","Ponto Belo",82,14,85,14.166666666666666,20,1.4285714285714286,8,0.56470588235294117,19,1.3571428571428572,19,1.3571428571428572,20,1.4285714285714286,18,1.2857142857142858,17,1.2,13,0.91764705882352948]
["Sul","Presidente Kennedy",171,45,239,39.833333333333336,39,0.8666666666666667,0,0,57,1.2666666666666666,55,1.2222222222222223,57,1.2666666666666666,45,1,57,1.4309623430962342,55,1.3807531380753137]
["Central","Rio Bananal",301,70,229,38.166666666666664,91,1.3,22,0.57641921397379914,68,0.97142857142857142,71,1.0142857142857142,67,0.95714285714285718,62,0.88571428571428568,66,1.7292576419213974,65,1.7030567685589522]
["Sul","Rio Novo do Sul",87,16,144,24,27,1.6875,31,1.2916666666666667,31,1.9375,31,1.9375,38,2.375,31,1.9375,18,0.75,25,1.0416666666666667]
["Metropolitana","Santa Leopoldina",81,17,155,25.833333333333332,11,0.6470588235294118,12,0.46451612903225808,19,1.1176470588235294,19,1.1176470588235294,23,1.3529411764705883,20,1.1764705882352942,24,0.92903225806451617,29,1.1225806451612903]
["Metropolitana","Santa Maria de Jetibá",664,167,685,114.16666666666667,145,0.86826347305389218,58,0.50802919708029193,153,0.91616766467065869,153,0.91616766467065869,173,1.0359281437125749,153,0.91616766467065869,78,0.68321167883211675,114,0.99854014598540142]
["Metropolitana","Santa Teresa",299,80,260,43.333333333333336,58,0.72499999999999998,41,0.94615384615384612,61,0.76249999999999996,67,0.83750000000000002,69,0.86250000000000004,60,0.75,38,0.87692307692307692,44,1.0153846153846153]
["Central","São Domingos do Norte",112,25,117,19.5,24,{"$f":"G67/D67","v":0.96},0,{"$f":"I67/F67","v":0},28,{"$f":"K67/D67","v":1.1200000000000001},27,{"$f":"M67/D67","v":1.08},39,{"$f":"O67/D67","v":1.56},29,{"$f":"Q67/D67","v":1.1599999999999999},20,{"$f":"S67/F67","v":1.0256410256410255},24,{"$f":"U67/F67","v":1.2307692307692308}]
["Central","São Gabriel da Palha",415,110,426,{"$f":"(E68/12)*2","v":71},116,1.0545454545454545,33,0.46478873239436619,85,0.77272727272727271,94,0.8545454545454545,96,0.87272727272727268,98,0.89090909090909087,61,0.85915492957746475,62,0.87323943661971826]
["Sul","São José do Calçado",94,24,150,25,29,1.2083333333333333,12,0.48,23,0.95833333333333337,24,1,34,1.4166666666666667,29,1.2083333333333333,22,0.88,39,1.56]
["Norte","São Mateus",1814,462,1766,294.33333333333331,328,0.70995670995671001,46,0.1562853907134768,423,0.91558441558441561,441,0.95454545454545459,464,1.0043290043290043,381,0.82467532467532467,286,0.9716874292185731,356,1.2095130237825595]
["Central","São Roque do Canaã",129,46,100,16.666666666666668,21,0.45652173913043476,8,0.48,36,0.78260869565217395,36,0.78260869565217395,13,0.28260869565217389,13,0.28260869565217389,6,0.36,16,0.96]
["Metropolitana","Serra",7312,1898,7550,1258.3333333333333,1428,0.75237091675447842,203,0.16132450331125828,1650,0.86933614330874609,1694,0.89251844046364592,1724,0.90832455216016861,1479,0.77924130663856694,1311,1.0418543046357616,1579,1.2548344370860929]
["Central","Sooretama",429,98,415,69.166666666666671,86,0.87755102040816324,26,0.37590361445783133,94,0.95918367346938771,92,0.93877551020408168,106,1.0816326530612246,85,0.86734693877551017,69,0.99759036144578306,78,1.1277108433734939]
["Sul","Vargem Alta",212,50,278,46.333333333333336,65,1.3,4,8.6330935251798552E-2,56,1.1200000000000001,54,1.08,69,1.38,60,1.2,42,0.90647482014388481,50,1.079136690647482]
["Metropolitana","Venda Nova do Imigrante",337,81,328,54.666666666666664,103,1.271604938271605,0,0,86,1.0617283950617284,82,1.0123456790123457,111,1.3703703703703705,99,1.2222222222222223,68,1.2439024390243902,73,1.3353658536585367]
["Metropolitana","Viana",891,219,1064,177.33333333333334,126,0.57534246575342463,66,0.37218045112781956,230,1.0502283105022832,228,1.0410958904109588,201,0.9178082191780822,182,0.83105022831050224,142,0.8007518796992481,218,1.2293233082706767]
["Norte","Vila Pavão",110,29,127,21.166666666666668,28,0.96551724137931039,0,0,26,0.89655172413793105,26,0.89655172413793105,26,0.89655172413793105,21,0.72413793103448276,12,0.56692913385826771,17,0.8031496062992125]
["Central","Vila Valério",232,62,169,28.166666666666668,59,0.95161290322580649,26,0.92307692307692302,67,1.0806451612903225,64,1.032258064516129,61,0.9838709677419355,53,0.85483870967741937,29,1.029585798816568,34,1.2071005917159763]
["Metropolitana","Vila Velha",5446,1417,5675,945.83333333333337,1112,0.78475652787579397,778,0.82255506607929507,1104,0.77911079745942136,1082,0.76358503881439665,1292,0.91178546224417789,1070,0.75511644318983773,853,0.90185022026431716,1007,1.0646696035242291]
["Metropolitana","Vitória",3452,876,3833,638.83333333333337,927,1.0582191780821917,332,0.5196973649882598,775,0.88470319634703198,787,0.89840182648401823,1165,1.3299086757990868,973,1.110730593607306,457,0.71536655361335766,796,1.2460213931646229]
[]
[null,"Total Norte",{"$f":"SUMIF($A$3:$A$80,\"Norte\",C$3:C$80)","v":5679},{"$f":"SUMIF($A$3:$A$80,\"Norte\",D$3:D$80)","v":1478},{"$f":"SUMIF($A$3:$A$80,\"Norte\",E$3:E$80)","v":5789},{"$f":"SUMIF($A$3:$A$80,\"Norte\",F$3:F$80)","v":964.83333333333337},{"$f":"SUMIF($A$3:$A$80,\"Norte\",G$3:G$80)","v":1190},{"$f":"G82/D82","v":0.80514208389715836},{"$f":"SUMIF($A$3:$A$80,\"Norte\",I$3:I$80)","v":280},{"$f":"I82/F82","v":0.29020556227327687},{"$f":"SUMIF($A$3:$A$80,\"Norte\",K$3:K$80)","v":1347},{"$f":"K82/D82","v":0.91136671177266582},{"$f":"SUMIF($A$3:$A$80,\"Norte\",M$3:M$80)","v":1395},{"$f":"M82/D82","v":0.94384303112313939},{"$f":"SUMIF($A$3:$A$80,\"Norte\",O$3:O$80)","v":1443},{"$f":"O82/D82","v":0.97631935047361296},{"$f":"SUMIF($A$3:$A$80,\"Norte\",Q$3:Q$80)","v":1205},{"$f":"Q82/D82","v":0.81529093369418137},{"$f":"SUMIF($A$3:$A$80,\"Norte\",S$3:S$80)","v":884},{"$f":"S82/F82","v":0.91622041803420273},{"$f":"SUMIF($A$3:$A$80,\"Norte\",U$3:U$80)","v":1115},{"$f":"U82/F82","v":1.1556400069096562}]
[null,"Total Central",{"$f":"SUMIF($A$3:$A$80,\"Central\",C$3:C$80)","v":6962},{"$f":"SUMIF($A$3:$A$80,\"Central\",D$3:D$80)","v":1820},{"$f":"SUMIF($A$3:$A$80,\"Central\",E$3:E$80)","v":6843},{"$f":"SUMIF($A$3:$A$80,\"Central\",F$3:F$80)","v":1140.5000000000002},{"$f":"SUMIF($A$3:$A$80,\"Central\",G$3:G$80)","v":1443},{"$f":"G83/D83","v":0.79285714285714282},{"$f":"SUMIF($A$3:$A$80,\"Central\",I$3:I$80)","v":485},{"$f":"I83/F83","v":0.42525208241999113},{"$f":"SUMIF($A$3:$A$80,\"Central\",K$3:K$80)","v":1493},{"$f":"K83/D83","v":0.8203296703296703},{"$f":"SUMIF($A$3:$A$80,\"Central\",M$3:M$80)","v":1610},{"$f":"M83/D83","v":0.88461538461538458},{"$f":"SUMIF($A$3:$A$80,\"Central\",O$3:O$80)","v":1627},{"$f":"O83/D83","v":0.893956043956044},{"$f":"SUMIF($A$3:$A$80,\"Central\",Q$3:Q$80)","v":1458},{"$f":"Q83/D83","v":0.80109890109890114},{"$f":"SUMIF($A$3:$A$80,\"Central\",S$3:S$80)","v":1072},{"$f":"S83/F83","v":0.9399386234107846},{"$f":"SUMIF($A$3:$A$80,\"Central\",U$3:U$80)","v":1227},{"$f":"U83/F83","v":1.0758439281017096}]
[null,"Total Metropolitana",{"$f":"SUMIF($A$3:$A$80,\"Metropolitana\",C$3:C$80)","v":28953},{"$f":"SUMIF($A$3:$A$80,\"Metropolitana\",D$3:D$80)","v":7439},{"$f":"SUMIF($A$3:$A$80,\"Metropolitana\",E$3:E$80)","v":30197},{"$f":"SUMIF($A$3:$A$80,\"Metropolitana\",F$3:F$80)","v":5032.833333333333},{"$f":"SUMIF($A$3:$A$80,\"Metropolitana\",G$3:G$80)","v":6148},{"$f":"G84/D84","v":0.8264551687054712},{"$f":"SUMIF($A$3:$A$80,\"Metropolitana\",I$3:I$80)","v":2009},{"$f":"I84/F84","v":0.39917872636354607},{"$f":"SUMIF($A$3:$A$80,\"Metropolitana\",K$3:K$80)","v":6594},{"$f":"K84/D84","v":0.88640946363758566},{"$f":"SUMIF($A$3:$A$80,\"Metropolitana\",M$3:M$80)","v":6630},{"$f":"M84/D84","v":0.89124882376663528},{"$f":"SUMIF($A$3:$A$80,\"Metropolitana\",O$3:O$80)","v":7655},{"$f":"O84/D84","v":1.0290361607742977},{"$f":"SUMIF($A$3:$A$80,\"Metropolitana\",Q$3:Q$80)","v":6359},{"$f":"Q84/D84","v":0.85481919612851187},{"$f":"SUMIF($A$3:$A$80,\"Metropolitana\",S$3:S$80)","v":4895},{"$f":"S84/F84","v":0.97261317349405574},{"$f":"SUMIF($A$3:$A$80,\"Metropolitana\",U$3:U$80)","v":6191},{"$f":"U84/F84","v":1.2301221975692951}]
[null,"Total Sul",{"$f":"SUMIF($A$3:$A$80,\"sul\",C$3:C$80)","v":7063},{"$f":"SUMIF($A$3:$A$80,\"sul\",D$3:D$80)","v":1656},{"$f":"SUMIF($A$3:$A$80,\"sul\",E$3:E$80)","v":8688},{"$f":"SUMIF($A$3:$A$80,\"sul\",F$3:F$80)","v":1447.9999999999998},{"$f":"SUMIF($A$3:$A$80,\"sul\",G$3:G$80)","v":1919},{"$f":"G85/D85","v":1.1588164251207729},{"$f":"SUMIF($A$3:$A$80,\"sul\",I$3:I$80)","v":451},{"$f":"I85/F85","v":0.31146408839779011},{"$f":"SUMIF($A$3:$A$80,\"Sul\",K$3:K$80)","v":1983},{"$f":"K85/D85","v":1.1974637681159421},{"$f":"SUMIF($A$3:$A$80,\"Sul\",M$3:M$80)","v":2024},{"$f":"M85/D85","v":1.2222222222222223},{"$f":"SUMIF($A$3:$A$80,\"Sul\",O$3:O$80)","v":2308},{"$f":"O85/D85","v":1.393719806763285},{"$f":"SUMIF($A$3:$A$80,\"Sul\",Q$3:Q$80)","v":1967},{"$f":"Q85/D85","v":1.1878019323671498},{"$f":"SUMIF($A$3:$A$80,\"Sul\",S$3:S$80)","v":1689},{"$f":"S85/F85","v":1.166436464088398},{"$f":"SUMIF($A$3:$A$80,\"Sul\",U$3:U$80)","v":1892},{"$f":"U85/F85","v":1.3066298342541438}]
[null,"Total Espírito Santo",{"$f":"SUM(C3:C80)","v":48657},{"$f":"SUM(D3:D80)","v":12393},{"$f":"SUM(E3:E80)","v":51517},{"$f":"SUM(F3:F80)","v":8586.1666666666642},{"$f":"SUM(G3:G80)","v":10700},{"$f":"G86/D86","v":0.86339062373920761},{"$f":"SUM(I3:I80)","v":3225},{"$f":"I86/F86","v":0.37560416949744757},{"$f":"SUM(K3:K80)","v":11417},{"$f":"K86/D86","v":0.92124586460098445},{"$f":"SUM(M3:M80)","v":11659},{"$f":"M86/D86","v":0.94077301702574034},{"$f":"SUM(O3:O80)","v":13033},{"$f":"O86/D86","v":1.0516420559993545},{"$f":"SUM(Q3:Q80)","v":10989},{"$f":"Q86/D86","v":0.88671023965141615},{"$f":"SUM(S3:S80)","v":8540},{"$f":"S86/F86","v":0.99462313411107039},{"$f":"SUM(U3:U80)","v":10425},{"$f":"U86/F86","v":1.2141623153522141}]
[]
[]
[]
[" Fonte: Vacina e Confia, em 22 de Abril de 2025.**"]
["**Dados referente às doses aplicadas no período de Janeiro a Março 2025"]
["Cobertura Calculada por município de procedência/ocorrência da vacinação"]
["1 População anual extraída do MS/SVS/DASIS - SINASC/DASIS/SVS/MS 2024 (hoje preliminares) referente ao período de Fevereiro a Dezembro de 2024 e SINASC/DASIS/SVS/MS referente ao período de Janeiro de 2025.",null,null,null,null,null,null,null,null,null,null,null,null,null,null,null,null,null," "]
["² População proporcional extraída do MS/SVS/DASIS - SINASC/DASIS/SVS/MS 2024 (hoje preliminares) referente ao período de Fevereiro e Março/2024 e Janeiro/ 2025."]
["Sinasc, atualizado em 09/04/25."]
["Homogeineidade: O cálculo da Homogeineidade entre vacinas é feito de acordo com a pactuação estabelecida no Plano Plurianual (PPA) vigente no período 2024-2027."]
[]
["Observações:"]
["1. Imunobiológicos que foram recebidos parcialmente pelo estado no mês de Março/2025, sendo distribuídos em quantidades reduzidas às regionais e municípios:"]
["SORO ANTIRRÁBICO HUMANO, IMUNOGLOBULINA ANTIRRÁBICA HUMANA, VACINA COVID-19 MODERNA (SPIKEVAX),VACINA CONTRA VARICELA.\n"]
["2. Imunobiológicos indisponíveis no mês de Março/2025, não sendo possível a distribuição às regionais e municípios: "]
["VACINA TRÍPLICE ACELULAR (DTPa) - CRIE"]

{"sheet":"CV REF 1A e 4A - residência","index":3,"n_rows":102,"n_cols":22,"rows_kept":102,"cut":false,"hidden":false,"merged":[[88,0,88,11],[0,18,0,21],[0,10,0,17],[0,6,0,9]]}
[null,null,null,null,null,null,"D2",null,null,null,"REFORÇOS 1 ANO",null,null,null,null,null,null,null,"REFORÇOS 4 ANOS"]
["Regional ","Município","¹População 1 ano anual ","²População 1 ano proporcional ","³População 4 anos anual ","³População 4 anos proporcional ","DOSES APLICADAS D2 TRÍPLICE VIRAL","COBERTURA D2 TRÍPLICE VIRAL","DOSES APLICADAS D2 VARICELA","COBERTURA D2 VARICELA","DOSES APLICADAS REF PNEUMO ","COBERTURA REF PNEUMO","DOSES APLICADAS REF MENINGO","COBERTURA REF MENINGO","DOSES APLICADAS REF POLIO","COBERTURA REF POLIO","DOSES APLICADAS R1 TRÍPLICE BACTERIANA","COBERTURA R1 TRÍPLICE BACTERIANA","DOSES APLICADAS REF FEBRE AMARELA","COBERTURA REF FEBRE AMARELA","DOSES APLICADAS R2 TRÍPLICE BACTERIANA","COBERTURA R2 TRÍPLICE BACTERIANA"]
["Metropolitana","Afonso Cláudio",355,86,416,{"$f":"(E3/12)*2","v":69.333333333333329},103,{"$f":"G3/D3","v":1.1976744186046511},3,{"$f":"I3/F3","v":4.3269230769230775E-2},98,{"$f":"K3/D3","v":1.1395348837209303},93,{"$f":"M3/D3","v":1.0813953488372092},123,{"$f":"O3/D3","v":1.430232558139535},99,{"$f":"Q3/D3","v":1.1511627906976745},101,{"$f":"S3/F3","v":1.4567307692307694},94,{"$f":"U3/F3","v":1.3557692307692308}]
["Norte","Água Doce do Norte",181,51,151,{"$f":"(E4/12)*2","v":25.166666666666668},34,0.66666666666666663,9,0.35761589403973509,45,0.88235294117647056,43,0.84313725490196079,29,0.56862745098039214,29,0.56862745098039214,24,0.95364238410596025,26,1.0331125827814569]
["Central","Águia Branca",146,43,129,21.5,34,0.79069767441860461,0,0,34,0.79069767441860461,37,0.86046511627906974,40,0.93023255813953487,36,0.83720930232558144,19,0.88372093023255816,22,1.0232558139534884]
["Sul","Alegre",264,59,372,62,86,1.4576271186440677,7,0.11290322580645161,71,1.2033898305084745,62,1.0508474576271187,89,1.5084745762711864,80,1.3559322033898304,68,1.096774193548387,75,1.2096774193548387]
["Sul","Alfredo Chaves",112,27,138,23,40,1.4814814814814814,8,0.34782608695652173,32,1.1851851851851851,31,1.1481481481481481,51,1.8888888888888888,42,1.5555555555555556,29,1.2608695652173914,28,1.2173913043478262]
["Central","Alto Rio Novo",89,19,102,17,22,1.1578947368421053,4,0.23529411764705882,18,0.94736842105263153,21,1.1052631578947369,17,0.89473684210526316,15,0.78947368421052633,20,1.1764705882352942,17,1]
["Sul","Anchieta",315,73,390,65,93,1.273972602739726,11,0.16923076923076924,84,1.1506849315068493,86,1.178082191780822,119,1.6301369863013699,95,1.3013698630136987,92,1.4153846153846155,92,1.4153846153846155]
["Sul","Apiacá",72,19,90,15,14,0.73684210526315785,7,0.46666666666666667,20,1.0526315789473684,20,1.0526315789473684,14,0.73684210526315785,12,0.63157894736842102,8,0.53333333333333333,18,1.2]
["Metropolitana","Aracruz",1384,385,1420,236.66666666666666,354,0.91948051948051945,129,0.54507042253521132,351,0.91168831168831166,360,0.93506493506493504,409,1.0623376623376624,335,0.87012987012987009,263,1.1112676056338029,304,1.2845070422535212]
["Sul","Atilio Vivacqua",125,20,138,23,37,1.85,0,0,34,1.7,36,1.8,35,1.75,29,1.45,22,0.95652173913043481,35,1.5217391304347827]
["Central","Baixo Guandu",350,105,427,71.166666666666671,84,0.8,27,0.37939110070257609,89,0.84761904761904761,91,0.8666666666666667,107,1.019047619047619,101,0.96190476190476193,54,0.75878220140515218,71,0.99765807962529263]
["Norte","Barra de São Francisco",591,149,589,98.166666666666671,125,0.83892617449664431,5,5.0933786078098467E-2,115,0.77181208053691275,120,0.80536912751677847,120,0.80536912751677847,110,0.73825503355704702,90,0.91680814940577249,92,0.93718166383701185]
["Norte","Boa Esperança",205,57,200,33.333333333333336,47,0.82456140350877194,12,0.36,44,0.77192982456140347,52,0.91228070175438591,52,0.91228070175438591,34,0.59649122807017541,20,0.6,37,1.1099999999999999]
["Sul","Bom Jesus do Norte",73,16,146,24.333333333333332,18,1.125,8,0.32876712328767127,19,1.1875,19,1.1875,31,1.9375,25,1.5625,3,0.12328767123287672,17,0.69863013698630139]
["Metropolitana","Brejetuba",202,50,169,28.166666666666668,47,0.94,15,0.5325443786982248,52,1.04,51,1.02,37,0.74,32,0.64,38,1.349112426035503,37,1.3136094674556213]
["Sul","Cachoeiro de Itapemirim",1946,457,2417,402.83333333333331,565,1.2363238512035011,35,8.6884567645841959E-2,563,1.2319474835886215,589,1.288840262582057,707,1.5470459518599562,567,1.2407002188183807,552,1.3702937525858503,590,1.4646255688870502]
["Metropolitana","Cariacica",4767,1221,5005,834.16666666666663,863,0.70679770679770682,93,0.11148851148851149,1138,0.93202293202293207,1139,0.93284193284193284,1288,1.0548730548730549,1023,0.83783783783783783,898,1.0765234765234766,1184,1.4193806193806195]
["Sul","Castelo",370,96,399,66.5,85,0.88541666666666663,61,0.91729323308270672,91,0.94791666666666663,101,1.0520833333333333,103,1.0729166666666667,102,1.0625,76,1.1428571428571428,79,1.1879699248120301]
["Central","Colatina",1490,382,1561,260.16666666666669,295,0.77225130890052351,74,0.28443305573350414,332,0.86910994764397909,352,0.92146596858638741,361,0.94502617801047117,282,0.73821989528795806,218,0.83792440743113383,256,0.98398462524023056]
["Norte","Conceição da Barra",364,107,391,65.166666666666671,89,0.83177570093457942,14,0.21483375959079282,101,0.94392523364485981,104,0.9719626168224299,119,1.1121495327102804,84,0.78504672897196259,95,1.4578005115089514,109,1.6726342710997442]
["Metropolitana","Conceição do Castelo",162,37,144,24,33,0.89189189189189189,0,0,27,0.72972972972972971,26,0.70270270270270274,23,0.6216216216216216,24,0.64864864864864868,33,1.375,28,1.1666666666666667]
["Sul","Divino de São Lourenço",51,13,68,11.333333333333334,17,1.3076923076923077,10,0.88235294117647056,23,1.7692307692307692,22,1.6923076923076923,17,1.3076923076923077,17,1.3076923076923077,9,0.79411764705882348,14,1.2352941176470587]
["Metropolitana","Domingos Martins",421,100,411,68.5,103,1.03,21,0.30656934306569344,89,0.89,96,0.96,113,1.1299999999999999,97,0.97,75,1.0948905109489051,82,1.197080291970803]
["Sul","Dores do Rio Preto",94,22,92,15.333333333333334,14,0.63636363636363635,9,0.58695652173913038,22,1,20,0.90909090909090906,23,1.0454545454545454,23,1.0454545454545454,22,1.4347826086956521,20,1.3043478260869565]
["Norte","Ecoporanga",256,71,283,47.166666666666664,48,0.676056338028169,23,0.48763250883392228,68,0.95774647887323938,70,0.9859154929577465,53,0.74647887323943662,44,0.61971830985915488,48,1.0176678445229683,63,1.3356890459363959]
["Metropolitana","Fundão",222,62,218,36.333333333333336,43,0.69354838709677424,25,0.68807339449541283,57,0.91935483870967738,56,0.90322580645161288,51,0.82258064516129037,45,0.72580645161290325,34,0.93577981651376141,44,1.2110091743119265]
["Central","Governador Lindenberg",116,31,142,23.666666666666668,26,0.83870967741935487,15,0.63380281690140838,24,0.77419354838709675,26,0.83870967741935487,24,0.77419354838709675,23,0.74193548387096775,32,1.352112676056338,35,1.4788732394366197]
["Sul","Guaçuí",358,86,407,67.833333333333329,73,0.84883720930232553,4,5.896805896805897E-2,89,1.0348837209302326,92,1.069767441860465,87,1.0116279069767442,77,0.89534883720930236,68,1.0024570024570025,59,0.86977886977886987]
["Metropolitana","Guarapari",1706,422,1557,259.5,359,0.85071090047393361,162,0.62427745664739887,397,0.94075829383886256,387,0.91706161137440756,491,1.1635071090047393,393,0.93127962085308058,234,0.90173410404624277,305,1.1753371868978806]
["Metropolitana","Ibatiba",379,87,354,59,128,1.4712643678160919,3,5.0847457627118647E-2,86,0.9885057471264368,88,1.0114942528735633,134,1.5402298850574712,97,1.1149425287356323,62,1.0508474576271187,66,1.1186440677966101]
["Metropolitana","Ibiraçu",149,38,160,26.666666666666668,31,0.81578947368421051,23,0.86249999999999993,34,0.89473684210526316,34,0.89473684210526316,33,0.86842105263157898,33,0.86842105263157898,20,0.75,17,0.63749999999999996]
["Sul","Ibitirama",133,30,148,24.666666666666668,42,1.4,11,0.44594594594594594,40,1.3333333333333333,38,1.2666666666666666,45,1.5,34,1.1333333333333333,39,1.5810810810810809,35,1.4189189189189189]
["Sul","Iconha",106,25,156,26,50,{"$f":"G35/D35","v":2},3,{"$f":"I35/F35","v":0.11538461538461539},29,{"$f":"K35/D35","v":1.1599999999999999},27,{"$f":"M35/D35","v":1.08},31,{"$f":"O35/D35","v":1.24},27,{"$f":"Q35/D35","v":1.08},18,{"$f":"S35/F35","v":0.69230769230769229},21,{"$f":"U35/F35","v":0.80769230769230771}]
["Sul","Irupi",170,47,200,33.333333333333336,38,0.80851063829787229,12,0.36,57,1.2127659574468086,58,1.2340425531914894,51,1.0851063829787233,47,1,33,0.98999999999999988,34,1.02]
["Metropolitana","Itaguaçu",137,41,154,25.666666666666668,27,0.65853658536585369,5,0.19480519480519479,30,0.73170731707317072,34,0.82926829268292679,34,0.82926829268292679,22,0.53658536585365857,29,1.1298701298701299,20,0.77922077922077915]
["Sul","Itapemirim",459,97,556,92.666666666666671,82,0.84536082474226804,85,0.91726618705035967,126,1.2989690721649485,124,1.2783505154639174,116,1.1958762886597938,111,1.1443298969072164,100,1.079136690647482,127,1.3705035971223021]
["Metropolitana","Itarana",129,34,128,21.333333333333332,28,0.82352941176470584,2,9.375E-2,38,1.1176470588235294,36,1.0588235294117647,29,0.8529411764705882,25,0.73529411764705888,26,1.21875,24,1.125]
["Sul","Iúna",418,111,410,68.333333333333329,122,1.0990990990990992,5,7.3170731707317083E-2,105,0.94594594594594594,111,1,151,1.3603603603603605,122,1.0990990990990992,84,1.2292682926829268,105,1.5365853658536586]
["Norte","Jaguaré",474,129,445,74.166666666666671,98,0.75968992248062017,28,0.37752808988764042,95,0.73643410852713176,104,0.80620155038759689,124,0.96124031007751942,112,0.86821705426356588,70,0.9438202247191011,78,1.0516853932584269]
["Sul","Jerônimo Monteiro",119,26,157,26.166666666666668,30,1.1538461538461537,5,0.19108280254777069,30,1.1538461538461537,31,1.1923076923076923,48,1.8461538461538463,38,1.4615384615384615,24,0.91719745222929927,30,1.1464968152866242]
["Metropolitana","João Neiva",153,32,142,23.666666666666668,31,0.96875,27,1.1408450704225352,34,1.0625,35,1.09375,34,1.0625,35,1.09375,23,0.97183098591549288,35,1.4788732394366197]
["Metropolitana","Laranja da Terra",101,25,133,22.166666666666668,28,1.1200000000000001,21,0.94736842105263153,23,0.92,23,0.92,25,1,22,0.88,23,1.0375939849624061,28,1.263157894736842]
["Central","Linhares",2663,696,2452,408.66666666666669,459,0.65948275862068961,209,0.51141924959216967,509,0.73132183908045978,555,0.79741379310344829,549,0.78879310344827591,532,0.76436781609195403,388,0.94942903752039143,431,1.0546492659053832]
["Central","Mantenópolis",138,38,166,27.666666666666668,41,1.0789473684210527,9,0.3253012048192771,29,0.76315789473684215,31,0.81578947368421051,38,1,32,0.84210526315789469,31,1.1204819277108433,37,1.3373493975903614]
["Sul","Marataízes",500,120,579,96.5,100,0.83333333333333337,83,0.86010362694300513,143,1.1916666666666667,146,1.2166666666666666,125,1.0416666666666667,116,0.96666666666666667,98,1.0155440414507773,126,1.3056994818652849]
["Metropolitana","Marechal Floriano",204,64,236,39.333333333333336,64,1,22,0.55932203389830504,51,0.796875,49,0.765625,64,1,59,0.921875,33,0.83898305084745761,38,0.96610169491525422]
["Central","Marilândia",146,37,164,27.333333333333332,32,0.86486486486486491,10,0.36585365853658536,29,0.78378378378378377,35,0.94594594594594594,33,0.89189189189189189,28,0.7567567567567568,31,1.1341463414634148,28,1.024390243902439]
["Sul","Mimoso do Sul",219,46,276,46,57,1.2391304347826086,0,0,49,1.0652173913043479,46,1,72,1.5652173913043479,63,1.3695652173913044,41,0.89130434782608692,51,1.1086956521739131]
["Norte","Montanha",230,63,278,46.333333333333336,69,1.0952380952380953,9,0.19424460431654675,62,0.98412698412698407,64,1.0158730158730158,58,0.92063492063492058,54,0.8571428571428571,48,1.0359712230215827,53,1.1438848920863309]
["Norte","Mucurici",70,16,97,16.166666666666668,28,1.75,5,0.30927835051546387,15,0.9375,15,0.9375,34,2.125,29,1.8125,15,0.92783505154639168,13,0.8041237113402061]
["Sul","Muniz Freire",201,46,275,45.833333333333336,85,1.8478260869565217,1,2.1818181818181816E-2,59,1.2826086956521738,58,1.2608695652173914,59,1.2826086956521738,55,1.1956521739130435,36,0.78545454545454541,44,0.96]
["Sul","Muqui",119,23,152,25.333333333333332,35,1.5217391304347827,8,0.31578947368421056,33,1.4347826086956521,33,1.4347826086956521,41,1.7826086956521738,35,1.5217391304347827,29,1.1447368421052633,31,1.2236842105263159]
["Norte","Nova Venécia",657,163,656,109.33333333333333,142,0.87116564417177911,60,0.54878048780487809,161,0.98773006134969321,171,1.0490797546012269,182,1.1165644171779141,153,0.93865030674846628,72,0.65853658536585369,122,1.1158536585365855]
["Central","Pancas",206,58,244,40.666666666666664,56,0.96551724137931039,6,0.14754098360655737,49,0.84482758620689657,52,0.89655172413793105,66,1.1379310344827587,57,0.98275862068965514,31,0.76229508196721318,42,1.0327868852459017]
["Norte","Pedro Canário",331,93,338,56.333333333333336,64,0.68817204301075274,36,0.63905325443786976,88,0.94623655913978499,84,0.90322580645161288,91,0.978494623655914,71,0.76344086021505375,54,0.95857988165680474,60,1.0650887573964496]
["Norte","Pinheiros",314,74,383,63.833333333333336,95,1.2837837837837838,35,0.54830287206266315,92,1.2432432432432432,93,1.2567567567567568,97,1.3108108108108107,88,1.1891891891891893,42,0.65796344647519578,75,1.1749347258485638]
["Sul","Piúma",275,62,311,51.833333333333336,64,1.032258064516129,34,0.65594855305466238,81,1.3064516129032258,82,1.3225806451612903,74,1.1935483870967742,66,1.064516129032258,63,1.215434083601286,67,1.292604501607717]
["Norte","Ponto Belo",82,14,85,14.166666666666666,17,1.2142857142857142,8,0.56470588235294117,16,1.1428571428571428,17,1.2142857142857142,19,1.3571428571428572,17,1.2142857142857142,19,1.3411764705882354,15,1.0588235294117647]
["Sul","Presidente Kennedy",171,45,239,39.833333333333336,39,0.8666666666666667,1,2.5104602510460251E-2,54,1.2,52,1.1555555555555554,55,1.2222222222222223,44,0.97777777777777775,65,1.6317991631799162,61,1.5313807531380752]
["Central","Rio Bananal",301,70,229,38.166666666666664,91,1.3,23,0.60262008733624461,70,1,76,1.0857142857142856,63,0.9,59,0.84285714285714286,62,1.6244541484716157,66,1.7292576419213974]
["Sul","Rio Novo do Sul",87,16,144,24,24,1.5,24,1,29,1.8125,30,1.875,34,2.125,28,1.75,18,0.75,26,1.0833333333333333]
["Metropolitana","Santa Leopoldina",81,17,155,25.833333333333332,15,0.88235294117647056,14,0.54193548387096779,20,1.1764705882352942,20,1.1764705882352942,26,1.5294117647058822,26,1.5294117647058822,27,1.0451612903225806,34,1.3161290322580645]
["Metropolitana","Santa Maria de Jetibá",664,167,685,114.16666666666667,140,0.83832335329341312,53,0.46423357664233572,143,0.85628742514970058,143,0.85628742514970058,170,1.0179640718562875,147,0.88023952095808389,67,0.58686131386861307,102,0.89343065693430657]
["Metropolitana","Santa Teresa",299,80,260,43.333333333333336,68,0.85,40,0.92307692307692302,68,0.85,72,0.9,77,0.96250000000000002,68,0.85,37,0.85384615384615381,44,1.0153846153846153]
["Central","São Domingos do Norte",112,25,117,19.5,27,{"$f":"G67/D67","v":1.08},2,{"$f":"I67/F67","v":0.10256410256410256},34,{"$f":"K67/D67","v":1.36},34,{"$f":"M67/D67","v":1.36},41,{"$f":"O67/D67","v":1.64},31,{"$f":"Q67/D67","v":1.24},22,{"$f":"S67/F67","v":1.1282051282051282},27,{"$f":"U67/F67","v":1.3846153846153846}]
["Central","São Gabriel da Palha",415,110,426,{"$f":"(E68/12)*2","v":71},111,1.009090909090909,31,0.43661971830985913,85,0.77272727272727271,94,0.8545454545454545,97,0.88181818181818183,96,0.87272727272727268,51,0.71830985915492962,55,0.77464788732394363]
["Sul","São José do Calçado",94,24,150,25,30,1.25,11,0.44,23,0.95833333333333337,23,0.95833333333333337,34,1.4166666666666667,28,1.1666666666666667,17,0.68,36,1.44]
["Norte","São Mateus",1814,462,1766,294.33333333333331,324,0.70129870129870131,54,0.18346545866364666,434,0.93939393939393945,450,0.97402597402597402,469,1.0151515151515151,388,0.83982683982683981,283,0.96149490373725943,356,1.2095130237825595]
["Central","São Roque do Canaã",129,46,100,16.666666666666668,21,0.45652173913043476,10,0.6,37,0.80434782608695654,42,0.91304347826086951,18,0.39130434782608697,15,0.32608695652173914,5,0.3,16,0.96]
["Metropolitana","Serra",7312,1898,7550,1258.3333333333333,1450,0.76396206533192834,248,0.19708609271523181,1655,0.8719704952581665,1694,0.89251844046364592,1765,0.9299262381454162,1510,0.79557428872497371,1294,1.0283443708609272,1601,1.272317880794702]
["Central","Sooretama",429,98,415,69.166666666666671,81,0.82653061224489799,24,0.34698795180722891,87,0.88775510204081631,84,0.8571428571428571,103,1.0510204081632653,83,0.84693877551020413,67,0.96867469879518064,74,1.0698795180722891]
["Sul","Vargem Alta",212,50,278,46.333333333333336,70,1.4,6,0.12949640287769784,65,1.3,65,1.3,77,1.54,66,1.32,41,0.88489208633093519,44,0.94964028776978415]
["Metropolitana","Venda Nova do Imigrante",337,81,328,54.666666666666664,110,1.3580246913580247,2,3.6585365853658541E-2,82,1.0123456790123457,84,1.037037037037037,112,1.382716049382716,98,1.2098765432098766,69,1.2621951219512195,71,1.2987804878048781]
["Metropolitana","Viana",891,219,1064,177.33333333333334,145,0.66210045662100458,73,0.41165413533834583,228,1.0410958904109588,225,1.0273972602739727,221,1.0091324200913243,195,0.8904109589041096,147,0.82894736842105254,213,1.2011278195488722]
["Norte","Vila Pavão",110,29,127,21.166666666666668,30,1.0344827586206897,0,0,26,0.89655172413793105,27,0.93103448275862066,27,0.93103448275862066,23,0.7931034482758621,13,0.61417322834645671,17,0.8031496062992125]
["Central","Vila Valério",232,62,169,28.166666666666668,65,1.0483870967741935,30,1.0650887573964496,65,1.0483870967741935,64,1.032258064516129,63,1.0161290322580645,55,0.88709677419354838,33,1.1715976331360947,37,1.3136094674556213]
["Metropolitana","Vila Velha",5446,1417,5675,945.83333333333337,1102,0.7776993648553282,710,0.75066079295154187,1105,0.77981651376146788,1081,0.76287932251235002,1323,0.93366266760762173,1096,0.77346506704304874,845,0.89339207048458147,1011,1.0688986784140968]
["Metropolitana","Vitória",3452,876,3833,638.83333333333337,828,0.9452054794520548,259,0.40542655883120271,740,0.84474885844748859,774,0.88356164383561642,1022,1.1666666666666667,837,0.95547945205479456,439,0.68719019045134355,692,1.0832246282285416]
[]
[null,"Total Norte",{"$f":"SUMIF($A$3:$A$80,\"Norte\",C$3:C$80)","v":5679},{"$f":"SUMIF($A$3:$A$80,\"Norte\",D$3:D$80)","v":1478},{"$f":"SUMIF($A$3:$A$80,\"Norte\",E$3:E$80)","v":5789},{"$f":"SUMIF($A$3:$A$80,\"Norte\",F$3:F$80)","v":964.83333333333337},null,{"$f":"G82/D82","v":0},{"$f":"SUMIF($A$3:$A$80,\"Norte\",I$3:I$80)","v":298},{"$f":"I82/F82","v":0.30886163413370182},{"$f":"SUMIF($A$3:$A$80,\"Norte\",K$3:K$80)","v":1362},{"$f":"K82/D82","v":0.92151556156968872},{"$f":"SUMIF($A$3:$A$80,\"Norte\",M$3:M$80)","v":1414},{"$f":"M82/D82","v":0.95669824086603517},{"$f":"SUMIF($A$3:$A$80,\"Norte\",O$3:O$80)","v":1474},{"$f":"O82/D82","v":0.99729364005412724},{"$f":"SUMIF($A$3:$A$80,\"Norte\",Q$3:Q$80)","v":1236},{"$f":"Q82/D82","v":0.83626522327469555},{"$f":"SUMIF($A$3:$A$80,\"Norte\",S$3:S$80)","v":893},{"$f":"S82/F82","v":0.92554845396441521},{"$f":"SUMIF($A$3:$A$80,\"Norte\",U$3:U$80)","v":1116},{"$f":"U82/F82","v":1.1566764553463464}]
[null,"Total Central",{"$f":"SUMIF($A$3:$A$80,\"Central\",C$3:C$80)","v":6962},{"$f":"SUMIF($A$3:$A$80,\"Central\",D$3:D$80)","v":1820},{"$f":"SUMIF($A$3:$A$80,\"Central\",E$3:E$80)","v":6843},{"$f":"SUMIF($A$3:$A$80,\"Central\",F$3:F$80)","v":1140.5000000000002},{"$f":"SUMIF($A$3:$A$80,\"Central\",G$3:G$80)","v":1445},{"$f":"G83/D83","v":0.79395604395604391},{"$f":"SUMIF($A$3:$A$80,\"Central\",I$3:I$80)","v":474},{"$f":"I83/F83","v":0.41560718982902228},{"$f":"SUMIF($A$3:$A$80,\"Central\",K$3:K$80)","v":1491},{"$f":"K83/D83","v":0.81923076923076921},{"$f":"SUMIF($A$3:$A$80,\"Central\",M$3:M$80)","v":1594},{"$f":"M83/D83","v":0.87582417582417582},{"$f":"SUMIF($A$3:$A$80,\"Central\",O$3:O$80)","v":1620},{"$f":"O83/D83","v":0.89010989010989006},{"$f":"SUMIF($A$3:$A$80,\"Central\",Q$3:Q$80)","v":1445},{"$f":"Q83/D83","v":0.79395604395604391},{"$f":"SUMIF($A$3:$A$80,\"Central\",S$3:S$80)","v":1064},{"$f":"S83/F83","v":0.93292415607189816},{"$f":"SUMIF($A$3:$A$80,\"Central\",U$3:U$80)","v":1214},{"$f":"U83/F83","v":1.0644454186760191}]
[null,"Total Metropolitana",{"$f":"SUMIF($A$3:$A$80,\"Metropolitana\",C$3:C$80)","v":28953},{"$f":"SUMIF($A$3:$A$80,\"Metropolitana\",D$3:D$80)","v":7439},{"$f":"SUMIF($A$3:$A$80,\"Metropolitana\",E$3:E$80)","v":30197},{"$f":"SUMIF($A$3:$A$80,\"Metropolitana\",F$3:F$80)","v":5032.833333333333},{"$f":"SUMIF($A$3:$A$80,\"Metropolitana\",G$3:G$80)","v":6100},{"$f":"G84/D84","v":0.82000268853340508},{"$f":"SUMIF($A$3:$A$80,\"Metropolitana\",I$3:I$80)","v":1950},{"$f":"I84/F84","v":0.38745570752061465},{"$f":"SUMIF($A$3:$A$80,\"Metropolitana\",K$3:K$80)","v":6546},{"$f":"K84/D84","v":0.87995698346551954},{"$f":"SUMIF($A$3:$A$80,\"Metropolitana\",M$3:M$80)","v":6600},{"$f":"M84/D84","v":0.88721602365909391},{"$f":"SUMIF($A$3:$A$80,\"Metropolitana\",O$3:O$80)","v":7604},{"$f":"O84/D84","v":1.0221804005914774},{"$f":"SUMIF($A$3:$A$80,\"Metropolitana\",Q$3:Q$80)","v":6318},{"$f":"Q84/D84","v":0.84930770264820543},{"$f":"SUMIF($A$3:$A$80,\"Metropolitana\",S$3:S$80)","v":4817},{"$f":"S84/F84","v":0.95711494519323115},{"$f":"SUMIF($A$3:$A$80,\"Metropolitana\",U$3:U$80)","v":6074},{"$f":"U84/F84","v":1.2068748551180581}]
[null,"Total Sul",{"$f":"SUMIF($A$3:$A$80,\"sul\",C$3:C$80)","v":7063},{"$f":"SUMIF($A$3:$A$80,\"sul\",D$3:D$80)","v":1656},{"$f":"SUMIF($A$3:$A$80,\"sul\",E$3:E$80)","v":8688},{"$f":"SUMIF($A$3:$A$80,\"sul\",F$3:F$80)","v":1447.9999999999998},{"$f":"SUMIF($A$3:$A$80,\"sul\",G$3:G$80)","v":1910},{"$f":"G85/D85","v":1.1533816425120773},{"$f":"SUMIF($A$3:$A$80,\"sul\",I$3:I$80)","v":449},{"$f":"I85/F85","v":0.31008287292817682},{"$f":"SUMIF($A$3:$A$80,\"sul\",K$3:K$80)","v":1971},{"$f":"K85/D85","v":1.1902173913043479},{"$f":"SUMIF($A$3:$A$80,\"sul\",M$3:M$80)","v":2002},{"$f":"M85/D85","v":1.2089371980676329},{"$f":"SUMIF($A$3:$A$80,\"sul\",O$3:O$80)","v":2289},{"$f":"O85/D85","v":1.3822463768115942},{"$f":"SUMIF($A$3:$A$80,\"sul\",Q$3:Q$80)","v":1949},{"$f":"Q85/D85","v":1.1769323671497585},{"$f":"SUMIF($A$3:$A$80,\"sul\",S$3:S$80)","v":1655},{"$f":"S85/F85","v":1.1429558011049725},{"$f":"SUMIF($A$3:$A$80,\"sul\",U$3:U$80)","v":1865},{"$f":"U85/F85","v":1.2879834254143649}]
[null,"Total Espírito Santo",{"$f":"SUM(C3:C80)","v":48657},{"$f":"SUM(D3:D80)","v":12393},{"$f":"SUM(E3:E80)","v":51517},{"$f":"SUM(F3:F80)","v":8586.1666666666642},{"$f":"SUM(G3:G80)","v":10665},{"$f":"G86/D86","v":0.86056644880174293},{"$f":"SUM(I3:I80)","v":3171},{"$f":"I86/F86","v":0.3693149834035368},{"$f":"SUM(K3:K80)","v":11370},{"$f":"K86/D86","v":0.9174534011135318},{"$f":"SUM(M3:M80)","v":11610},{"$f":"M86/D86","v":0.9368191721132898},{"$f":"SUM(O3:O80)","v":12987},{"$f":"O86/D86","v":1.0479302832244008},{"$f":"SUM(Q3:Q80)","v":10948},{"$f":"Q86/D86","v":0.88340192043895749},{"$f":"SUM(S3:S80)","v":8429},{"$f":"S86/F86","v":0.98169536269580948},{"$f":"SUM(U3:U80)","v":10269},{"$f":"U86/F86","v":1.1959935555253609}]
[]
[]
[]
[" Fonte: Vacina e Confia, em 22 de Abril de 2025.**"]
["**Dados referente às doses aplicadas no período de Janeiro a Março 2025"]
["Cobertura Calculada por município de residência"]
["1 População anual extraída do MS/SVS/DASIS - SINASC/DASIS/SVS/MS 2024 (hoje preliminares) referente ao período de Fevereiro a Dezembro de 2024 e SINASC/DASIS/SVS/MS referente ao período de Janeiro de 2025."]
["² População proporcional extraída do MS/SVS/DASIS - SINASC/DASIS/SVS/MS 2024 (hoje preliminares) referente ao período de Fevereiro e Março/2024 e Janeiro/ 2025."]
["Sinasc, atualizado em 09/04/2025."]
["Homogeineidade: O cálculo da Homogeineidade entre vacinas é feito de acordo com a pactuação estabelecida no Plano Plurianual (PPA) vigente no período 2024-2027."]
[]
["Observações:"]
["1. Imunobiológicos que foram recebidos parcialmente pelo estado no mês de Março/2025, sendo distribuídos em quantidades reduzidas às regionais e municípios:"]
["SORO ANTIRRÁBICO HUMANO, IMUNOGLOBULINA ANTIRRÁBICA HUMANA, VACINA COVID-19 MODERNA (SPIKEVAX),VACINA CONTRA VARICELA.\n"]
["2. Imunobiológicos indisponíveis no mês de Março/2025, não sendo possível a distribuição às regionais e municípios: "]
["VACINA TRÍPLICE ACELULAR (DTPa) - CRIE"]

{"sheet":"Cobert. COVID-19 Menores 4 anos","index":4,"n_rows":92,"n_cols":3,"rows_kept":92,"cut":false,"hidden":true,"merged":[[90,0,90,9],[91,0,91,9],[86,0,86,9],[87,0,87,9],[88,0,88,9],[89,0,89,9]]}
["Regional ","Município","Série Histórica "]
["Região Metropolitana","Afonso Cláudio"]
["Região Norte","Água Doce do Norte"]
["Região Central","Águia Branca"]
["Região Sul","Alegre"]
["Região Sul","Alfredo Chaves"]
["Região Central","Alto Rio Novo"]
["Região Sul","Anchieta"]
["Região Sul","Apiacá"]
["Região Metropolitana","Aracruz"]
["Região Sul","Atilio Vivacqua"]
["Região Central","Baixo Guandu"]
["Região Norte","Barra de São Francisco"]
["Região Norte","Boa Esperança"]
["Região Sul","Bom Jesus do Norte"]
["Região Metropolitana","Brejetuba"]
["Região Sul","Cachoeiro de Itapemirim"]
["Região Metropolitana","Cariacica"]
["Região Sul","Castelo"]
["Região Central","Colatina"]
["Região Norte","Conceição da Barra"]
["Região Metropolitana","Conceição do Castelo"]
["Região Sul","Divino de São Lourenço"]
["Região Metropolitana","Domingos Martins"]
["Região Sul","Dores do Rio Preto"]
["Região Norte","Ecoporanga"]
["Região Metropolitana","Fundão"]
["Região Central","Governador Lindenberg"]
["Região Sul","Guaçuí"]
["Região Metropolitana","Guarapari"]
["Região Metropolitana","Ibatiba"]
["Região Metropolitana","Ibiraçu"]
["Região Sul","Ibitirama"]
["Região Sul","Iconha"]
["Região Sul","Irupi"]
["Região Metropolitana","Itaguaçu"]
["Região Sul","Itapemirim"]
["Região Metropolitana","Itarana"]
["Região Sul","Iúna"]
["Região Norte","Jaguaré"]
["Região Sul","Jerônimo Monteiro"]
["Região Metropolitana","João Neiva"]
["Região Metropolitana","Laranja da Terra"]
["Região Central","Linhares"]
["Região Central","Mantenópolis"]
["Região Sul","Marataízes"]
["Região Metropolitana","Marechal Floriano"]
["Região Central","Marilândia"]
["Região Sul","Mimoso do Sul"]
["Região Norte","Montanha"]
["Região Norte","Mucurici"]
["Região Sul","Muniz Freire"]
["Região Sul","Muqui"]
["Região Norte","Nova Venécia"]
["Região Central","Pancas"]
["Região Norte","Pedro Canário"]
["Região Norte","Pinheiros"]
["Região Sul","Piúma"]
["Região Norte","Ponto Belo"]
["Região Sul","Presidente Kennedy"]
["Região Central","Rio Bananal"]
["Região Sul","Rio Novo do Sul"]
["Região Metropolitana","Santa Leopoldina"]
["Região Metropolitana","Santa Maria de Jetibá"]
["Região Metropolitana","Santa Teresa"]
["Região Central","São Domingos do Norte"]
["Região Central","São Gabriel da Palha"]
["Região Sul","São José do Calçado"]
["Região Norte","São Mateus"]
["Região Central","São Roque do Canaã"]
["Região Metropolitana","Serra"]
["Região Central","Sooretama"]
["Região Sul","Vargem Alta"]
["Região Metropolitana","Venda Nova do Imigrante"]
["Região Metropolitana","Viana"]
["Região Norte","Vila Pavão"]
["Região Central","Vila Valério"]
["Região Metropolitana","Vila Velha"]
["Região Metropolitana","Vitória"]
[]
[null,"Espírito Santo"]
[null,"Região Norte"]
[null,"Região Central"]
[null,"Região Metropolitana"]
[null,"Região Sul"]
[]
["Pfizer Pediátrica Menor de 5 anos e Coronavac"]
["Período avaliado: 2021-2024"]
["Fonte: https://www.vacinaeconfia.es.gov.br"]
["*Dados de janeiro/2024 extraídos do Vacina e Confia em 04/01/2024"]
["População proporcional extraída do SINASC 2022 (menores de 1 ano) e Censo IBGE 2022 (demais idades)"]
["Cobertura Calculada por município de procedência da vacinação"]

{"sheet":"Cobert. Meningo C Adolescentes","index":5,"n_rows":97,"n_cols":8,"rows_kept":97,"cut":false,"hidden":false,"merged":[[79,0,79,1]]}
["Regional ","Município","Série Histórica %"]
["Metropolitana","Afonso Cláudio",52.556390977443613]
["Central Norte","Água Doce do Norte",77.119416590701917]
["Central Norte","Águia Branca",72.833042466550324]
["Sul","Alegre",82.160166166628201]
["Sul","Alfredo Chaves",38.413760152890589]
["Central Norte","Alto Rio Novo",89.212827988338191]
["Sul","Anchieta",89.244007375537805]
["Sul","Apiacá",32.894736842105267]
["Metropolitana","Aracruz",89.255821898308938]
["Sul","Atilio Vivacqua",94.988066825775647,null,null,null,null," "]
["Central Norte","Baixo Guandu",71.333467823280202]
["Central Norte","Barra de São Francisco",70.366436537440251]
["Central Norte","Boa Esperança",65.824989116238569]
["Sul","Bom Jesus do Norte",76.659038901601832]
["Metropolitana","Brejetuba",96.625514403292172]
["Sul","Cachoeiro de Itapemirim",104.29724921308335]
["Metropolitana","Cariacica",84.722632388827577]
["Sul","Castelo",82.656826568265686]
["Central Norte","Colatina",76.775773769761742]
["Central Norte","Conceição da Barra",63.388751326494521]
["Metropolitana","Conceição do Castelo",84.974093264248708]
["Sul","Divino de São Lourenço",68.778280542986423]
["Metropolitana","Domingos Martins",84.54758050008995]
["Sul","Dores do Rio Preto",73.382473382473378]
["Central Norte","Ecoporanga",61.31850675138999]
["Metropolitana","Fundão",97.3565441650548]
["Central Norte","Governador Lindenberg",82.902693787795485]
["Sul","Guaçuí",69.788644840447574]
["Metropolitana","Guarapari",83.211815292578052]
["Metropolitana","Ibatiba",70.400708434801857]
["Metropolitana","Ibiraçu",91.189427312775322]
["Sul","Ibitirama",104.26229508196721]
["Sul","Iconha",79.809976247030875]
["Sul","Irupi",85.275080906148872]
["Metropolitana","Itaguaçu",67.142857142857139]
["Sul","Itapemirim",77.243589743589752]
["Metropolitana","Itarana",72.465851905104245]
["Sul","Iúna",70.194552529182872]
["Central Norte","Jaguaré",69.886459922047109]
["Sul","Jerônimo Monteiro",95.258855585831057]
["Metropolitana","João Neiva",98.391674550614951]
["Metropolitana","Laranja da Terra",107.94484569927774]
["Central Norte","Linhares",85.440094977409885]
["Central Norte","Mantenópolis",95.8041958041958]
["Sul","Marataízes",94.726802016623523]
["Metropolitana","Marechal Floriano",94.171880144879822]
["Central Norte","Marilândia",74.27635172037138]
["Sul","Mimoso do Sul",92.119925709737331]
["Central Norte","Montanha",82.115270350564472]
["Central Norte","Mucurici",67.312348668280876]
["Sul","Muniz Freire",75.911458333333343]
["Sul","Muqui",76.146364057433999]
["Central Norte","Nova Venécia",85.300723733466427]
["Central Norte","Pancas",69.290322580645153]
["Central Norte","Pedro Canário",79.349433218334156]
["Central Norte","Pinheiros",68.451075032909174]
["Sul","Piúma",94.341736694677863]
["Central Norte","Ponto Belo",64.637002341920379]
["Sul","Presidente Kennedy",98.648648648648646]
["Central Norte","Rio Bananal",87.41721854304636]
["Sul","Rio Novo do Sul",71.284783895796338]
["Metropolitana","Santa Leopoldina",64.992894362861193]
["Metropolitana","Santa Maria de Jetibá",89.01458767490324]
["Metropolitana","Santa Teresa",109.92366412213741]
["Central Norte","São Domingos do Norte",77.108433734939766]
["Central Norte","São Gabriel da Palha",64.015009380863034]
["Sul","São José do Calçado",68.515497553017951]
["Central Norte","São Mateus",76.696274938380697]
["Central Norte","São Roque do Canaã",78.811369509043928]
["Metropolitana","Serra",84.376697664014316]
["Central Norte","Sooretama",86.653634263373021]
["Sul","Vargem Alta",73.779596609178597]
["Metropolitana","Venda Nova do Imigrante",103.2008830022075]
["Metropolitana","Viana",98.147283200996412]
["Central Norte","Vila Pavão",97.334244702665757]
["Central Norte","Vila Valério",98.049645390070921]
["Metropolitana","Vila Velha",90.948535277898301]
["Metropolitana","Vitória",93.364160850493747]
["Total",null,81.275183249985986]
[]
[]
["Meningocócica Conjudada C e Meningocócica ACWY"]
["Período avaliado: 2016-2025"]
["Faixa Etária: 11 a 14 anos. "]
["Fonte: http://tabnet.datasus.gov.br/ e https://www.vacinaeconfia.es.gov.br"]
["*Dados parciais:"]
["Dados de janeiro/2022 a abril/2022 extraídos do TABNET em 10/05/2024"]
["Dados de Janeiro a Março/2025 extraídos do Vacina e Confia em Abril/2025"]
["População proporcional extraída do Censo IBGE 2022"]
["Cobertura Calculada por município de procedência da vacinação"]
[]
["Observações:"]
["1. Imunobiológicos que foram recebidos parcialmente pelo estado no mês de Março/2025, sendo distribuídos em quantidades reduzidas às regionais e municípios:"]
["SORO ANTIRRÁBICO HUMANO, IMUNOGLOBULINA ANTIRRÁBICA HUMANA, VACINA COVID-19 MODERNA (SPIKEVAX),VACINA CONTRA VARICELA.\n"]
["2. Imunobiológicos indisponíveis no mês de Março/2025, não sendo possível a distribuição às regionais e municípios: "]
["VACINA TRÍPLICE ACELULAR (DTPa) - CRIE"]

{"sheet":"Cobert. HPV ","index":6,"n_rows":97,"n_cols":6,"rows_kept":97,"cut":false,"hidden":false,"merged":[[79,0,79,1]]}
["REGIONAL","MUNICÍPIO","HPV \nFeminino %","HPV\nMasculino %"]
["METROPOLITANA","Afonso Cláudio",{"$f":"'[2]Afonso Cláudio'!$H$24","v":94.285714285714278},{"$f":"'[2]Afonso Cláudio'!$H$49","v":96.735074626865668}]
["CENTRAL-NORTE","Água Doce do Norte",{"$f":"'[3]Água Doce do Norte'!$H$24","v":104.07294832826747},{"$f":"'[3]Água Doce do Norte'!$H$49","v":89.926010244735338}]
["CENTRAL-NORTE","Águia Branca",{"$f":"'[3]Águia Branca'!$H$24","v":110.48839071257007},{"$f":"'[3]Águia Branca'!$H$49","v":93.801344286781188}]
["SUL","Alegre",{"$f":"[4]Alegre!$H$24","v":93.702770780856426},{"$f":"[4]Alegre!$H$49","v":81.786941580756007}]
["SUL","Alfredo Chaves",{"$f":"'[4]Alfredo Chaves'!$H$24","v":91.786833855799372},{"$f":"'[4]Alfredo Chaves'!$H$49","v":69.744835965978126}]
["CENTRAL-NORTE","Alto Rio Novo",{"$f":"'[3]Alto Rio Novo'!$H$24","v":138.59480269489893},{"$f":"'[3]Alto Rio Novo'!$H$49","v":101.39794967381175}]
["SUL","Anchieta",{"$f":"'[4]Alto Rio Novo'!$H$24","v":103.24855200201462},{"$f":"'[4]Alto Rio Novo'!$H$49","v":110.3592971413585}]
["SUL","Apiacá",{"$f":"[4]Apiacá!$H$24","v":79.408658922914469},{"$f":"[4]Apiacá!$H$49","v":72.661348803480792}]
["METROPOLITANA","Aracruz",{"$f":"[2]Aracruz!$H$24","v":106.97640653357531},{"$f":"[2]Aracruz!$H$49","v":102.95566502463053}]
["SUL","Atílio Vivácqua",{"$f":"'[4]Atílio Vivácqua'!$H$24","v":116.10987379361544},{"$f":"'[4]Atílio Vivácqua'!$H$49","v":117.87584143605085}]
["CENTRAL-NORTE","Baixo Guandu",{"$f":"'[3]Baixo Guandu'!$H$24","v":108.6710881847212},{"$f":"'[3]Baixo Guandu'!$H$49","v":91.183879093198996},null," "]
["CENTRAL-NORTE","Barra de São Francisco",{"$f":"'[3]Barra de São Francisco'!$H$24","v":102.21625251846878},{"$f":"'[3]Barra de São Francisco'!$H$49","v":81.787493972030219}]
["CENTRAL-NORTE","Boa Esperança",{"$f":"'[3]Boa Esperança'!$H$24","v":94.205209994683685},{"$f":"'[3]Boa Esperança'!$H$49","v":84.013230429988965}]
["SUL","Bom Jesus do Norte",{"$f":"'[4]Bom Jesus do Norte'!$H$24","v":90.498974709501027},{"$f":"'[4]Bom Jesus do Norte'!$H$49","v":98.019801980198025}]
["METROPOLITANA","Brejetuba",{"$f":"[2]Brejetuba!$H$24","v":98.541980894922077},{"$f":"[2]Brejetuba!$H$49","v":115.53246753246754}]
["SUL","Cachoeiro de Itapemirim",{"$f":"'[4]Cachoeiro de Itapemirim'!$H$24","v":96.984194788551903},{"$f":"'[4]Cachoeiro de Itapemirim'!$H$49","v":102.87607799821572}]
["METROPOLITANA","Cariacica",{"$f":"[2]Cariacica!$H$24","v":99.795873877801782},{"$f":"[2]Cariacica!$H$49","v":91.583147561866582}]
["SUL","Castelo",{"$f":"[4]Castelo!$H$24","v":97.76297001427892},{"$f":"[4]Castelo!$H$49","v":106.77330667333167}]
["CENTRAL-NORTE","Colatina",{"$f":"[3]Colatina!$H$24","v":76.164925162383511},{"$f":"[3]Colatina!$H$49","v":86.265607264472195}]
["CENTRAL-NORTE","Conceição da Barra",{"$f":"'[3]Conceição da Barra'!$H$24","v":106.54163875865149},{"$f":"'[3]Conceição da Barra'!$H$49","v":87.010676156583628}]
["METROPOLITANA","Conceição do Castelo",{"$f":"'[2]Conceição do Castelo'!$H$24","v":113.27665140614781},{"$f":"'[2]Conceição do Castelo'!$H$49","v":120.80706179066836}]
["SUL","Divino de São Lourenço",{"$f":"'[4]Divino São Lourenço'!$H$24","v":96.099843993759748},{"$f":"'[4]Divino São Lourenço'!$H$49","v":91.712707182320443}]
["METROPOLITANA","Domingos Martins",{"$f":"'[2]Domingos Martins'!$H$24","v":113.02143351002536},{"$f":"'[2]Domingos Martins'!$H$49","v":103.9451114922813}]
["SUL","Dores do Rio Preto",{"$f":"'[4]Dores do Rio Preto'!$H$24","v":110.20408163265304},{"$f":"'[4]Dores do Rio Preto'!$H$49","v":86.521597921403043}]
["CENTRAL-NORTE","Ecoporanga",{"$f":"[3]Ecoporanga!$H$24","v":112.30602670516059},{"$f":"[3]Ecoporanga!$H$49","v":82.776859504132233}]
["METROPOLITANA","Fundão",{"$f":"[2]Fundão!$H$24","v":87.010469174098489},{"$f":"[2]Fundão!$H$49","v":113.10116086235489}]
["CENTRAL-NORTE","Governador Lindenberg",{"$f":"'[3]Governador Lindenberg'!$H$24","v":144.42748091603053},{"$f":"'[3]Governador Lindenberg'!$H$49","v":104.87483530961792}]
["SUL","Guaçuí",{"$f":"[4]Guaçuí!$H$24","v":95.787831513260528},{"$f":"[4]Guaçuí!$H$49","v":84.208757038406588}]
["METROPOLITANA","Guarapari",{"$f":"[2]Guarapari!$H$24","v":88.859903954467299},{"$f":"[2]Guarapari!$H$49","v":89.402609292744344}]
["METROPOLITANA","Ibatiba",{"$f":"[2]Ibatiba!$H$24","v":101.78997613365155},{"$f":"[2]Ibatiba!$H$49","v":95.189355168884333}]
["METROPOLITANA","Ibiraçu",{"$f":"[2]Ibiraçu!$H$24","v":110.54054054054055},{"$f":"[2]Ibiraçu!$H$49","v":111.02850061957869}]
["SUL","Ibitirama",{"$f":"[4]Ibitirama!$H$24","v":64.542936288088654},{"$f":"[4]Ibitirama!$H$49","v":101.44727773949}]
["SUL","Iconha",{"$f":"[4]Iconha!$H$24","v":108.14927646610815},{"$f":"[4]Iconha!$H$49","v":103.60559234731421}]
["SUL","Irupi",{"$f":"[4]Irupi!$H$24","v":74.858611825192796},{"$f":"[4]Irupi!$H$49","v":102.50521920668059}]
["METROPOLITANA","Itaguaçu",{"$f":"[2]Itaguaçu!$H$24","v":97.201017811704844},{"$f":"[2]Itaguaçu!$H$49","v":74.703310430980636}]
["SUL","Itapemirim",{"$f":"[4]Itapemirim!$H$24","v":83.285253690819616},{"$f":"[4]Itapemirim!$H$49","v":90.648193963384458}]
["METROPOLITANA","Itarana",{"$f":"[2]Itarana!$H$24","v":110.02979145978153},{"$f":"[2]Itarana!$H$49","v":95.008051529790663}]
["SUL","Iúna",{"$f":"[4]Iúna!$H$24","v":90.083867784903802},{"$f":"[4]Iúna!$H$49","v":105.95207420767842}]
["CENTRAL-NORTE","Jaguaré",{"$f":"[3]Jaguaré!$H$24","v":129.25497050469741},{"$f":"[3]Jaguaré!$H$49","v":98.669991687448046}]
["SUL","Jerônimo Monteiro",{"$f":"'[4]Jerônimo Monteiro'!$H$24","v":98.936170212765958},{"$f":"'[4]Jerônimo Monteiro'!$H$49","v":105.34461910519953}]
["METROPOLITANA","João Neiva",{"$f":"'[2]João Neiva'!$H$24","v":101.13378684807257},{"$f":"'[2]João Neiva'!$H$49","v":116.00985221674878}]
["METROPOLITANA","Laranja da Terra",{"$f":"'[2]Laranja da Terra'!$H$24","v":102.09790209790211},{"$f":"'[2]Laranja da Terra'!$H$49","v":91.925465838509311}]
["CENTRAL-NORTE","Linhares",{"$f":"[3]Linhares!$H$24","v":106.37982195845697},{"$f":"[3]Linhares!$H$49","v":97.441945585424378}]
["CENTRAL-NORTE","Mantenópolis",{"$f":"[3]Mantenópolis!$H$24","v":103.62694300518133},{"$f":"[3]Mantenópolis!$H$49","v":96.858937749857219}]
["SUL","Marataízes",{"$f":"[4]Marataízes!$H$24","v":110.84594835262689},{"$f":"[4]Marataízes!$H$49","v":106.42533936651584}]
["METROPOLITANA","Marechal Floriano",{"$f":"'[2]Marechal Floriano'!$H$24","v":105.36499560246261},{"$f":"'[2]Marechal Floriano'!$H$49","v":107.72374335921538}]
["CENTRAL-NORTE","Marilândia",{"$f":"[3]Marilândia!$H$24","v":136.742934051144},{"$f":"[3]Marilândia!$H$49","v":121.34831460674158}]
["SUL","Mimoso do Sul",{"$f":"'[4]Mimoso do Sul'!$H$24","v":86.704813194210701},{"$f":"'[4]Mimoso do Sul'!$H$49","v":83.641536273115221}]
["CENTRAL-NORTE","Montanha",{"$f":"[3]Montanha!$H$24","v":138.98809523809524},{"$f":"[3]Montanha!$H$49","v":105.17363571934798}]
["CENTRAL-NORTE","Mucurici",{"$f":"[3]Mucurici!$H$24","v":124.27843803056027},{"$f":"[3]Mucurici!$H$49","v":90.212765957446805}]
["SUL","Muniz Freire",{"$f":"'[4]Muniz Freire'!$H$24","v":104.49826989619378},{"$f":"'[4]Muniz Freire'!$H$49","v":103.4311012728279}]
["SUL","Muqui",{"$f":"[4]Muqui!$H$24","v":92.307692307692307},{"$f":"[4]Muqui!$H$49","v":101.08502663247188}]
["CENTRAL-NORTE","Nova Venécia",{"$f":"'[3]Nova Venécia'!$H$24","v":132.62245918027324},{"$f":"'[3]Nova Venécia'!$H$49","v":102.69871700339183}]
["CENTRAL-NORTE","Pancas",{"$f":"[3]Pancas!$H$24","v":130.52985702270817},{"$f":"[3]Pancas!$H$49","v":99.769053117782917}]
["CENTRAL-NORTE","Pedro Canário",{"$f":"'[3]Pedro Canário'!$H$24","v":119.43127962085308},{"$f":"'[3]Pedro Canário'!$H$49","v":84.823035392921426}]
["CENTRAL-NORTE","Pinheiros",{"$f":"[3]Pinheiros!$H$24","v":102.72676683361158},{"$f":"[3]Pinheiros!$H$49","v":82.60524225575854}]
["SUL","Piúma",{"$f":"[4]Piúma!$H$24","v":84.517045454545453},{"$f":"[4]Piúma!$H$49","v":83.913239945774976}]
["CENTRAL-NORTE","Ponto Belo",{"$f":"'[3]Ponto Belo'!$H$24","v":128.13688212927755},{"$f":"'[3]Ponto Belo'!$H$49","v":104.0169133192389}]
["SUL","Presidente Kennedy",{"$f":"'[4]Presidente Kennedy'!$H$24","v":98.997361477572554},{"$f":"'[4]Presidente Kennedy'!$H$49","v":105.11968085106382}]
["CENTRAL-NORTE","Rio Bananal",{"$f":"'[3]Rio Bananal'!$H$24","v":152.97318305479985},{"$f":"'[3]Rio Bananal'!$H$49","v":128.90216579536968}]
["SUL","Rio Novo do Sul",{"$f":"'[4]Rio Novo do Sul'!$H$24","v":86.419753086419746},{"$f":"'[4]Rio Novo do Sul'!$H$49","v":104.42349528643943}]
["METROPOLITANA","Santa Leopoldina",{"$f":"'[2]Santa Leopoldina'!$H$24","v":65.187064045656314},{"$f":"'[2]Santa Leopoldina'!$H$49","v":64.777327935222672}]
["METROPOLITANA","Santa Maria de Jetibá",{"$f":"'[2]Santa Maria de Jetibá'!$H$24","v":108.30188679245283},{"$f":"'[2]Santa Maria de Jetibá'!$H$49","v":104.20051858254105}]
["METROPOLITANA","Santa Teresa",{"$f":"'[2]Santa Teresa'!$H$24","v":111.43514965464314},{"$f":"'[2]Santa Teresa'!$H$49","v":89.286993908993196}]
["CENTRAL-NORTE","São Domingos do Norte",{"$f":"'[3]São Domingos do Norte'!$H$24","v":136.83223992502343},{"$f":"'[3]São Domingos do Norte'!$H$49","v":109.39226519337018}]
["CENTRAL-NORTE","São Gabriel da Palha",{"$f":"'[3]São Gabriel da Palha'!$H$24","v":107.40740740740742},{"$f":"'[3]São Gabriel da Palha'!$H$49","v":94.883720930232556}]
["SUL","São José do Calçado",{"$f":"'[4]São José do Calçado'!$H$24","v":94.06838799720866},{"$f":"'[4]São José do Calçado'!$H$49","v":96.778744415706555}]
["CENTRAL-NORTE","São Mateus",{"$f":"'[3]São Mateus'!$H$24","v":109.30739758325964},{"$f":"'[3]São Mateus'!$H$49","v":83.85758340342025}]
["CENTRAL-NORTE","São Roque do Canaã",{"$f":"'[3]São Roque do Canaã'!$H$24","v":129.42084942084941},{"$f":"'[3]São Roque do Canaã'!$H$49","v":116.62489557226398}]
["METROPOLITANA","Serra",{"$f":"[2]Serra!$H$24","v":92.731783028003662},{"$f":"[2]Serra!$H$49","v":79.965214722357217}]
["CENTRAL-NORTE","Sooretama",{"$f":"[3]Sooretama!$H$24","v":108.66281652598846},{"$f":"[3]Sooretama!$H$49","v":99.352823030573532}]
["SUL","Vargem Alta",{"$f":"'[4]Vargem Alta'!$H$24","v":102.15231788079471},{"$f":"'[4]Vargem Alta'!$H$49","v":97.087851833800414}]
["METROPOLITANA","Venda Nova do Imigrante",{"$f":"[2]Vitória!$H$24","v":105.19555372581308},{"$f":"[2]Vitória!$H$49","v":97.888894652212258}]
["METROPOLITANA","Viana",{"$f":"'[2]Venda Nova do Imigrante'!$H$24","v":111.48721642059776},{"$f":"'[2]Venda Nova do Imigrante'!$H$49","v":102.79179280188362}]
["CENTRAL-NORTE","Vila Pavão",{"$f":"'[3]Vila Pavão'!I26","v":0},{"$f":"'[3]Vila Pavão'!$H$49","v":104}]
["CENTRAL-NORTE","Vila Valério",{"$f":"'[3]Vila Valério'!$H$24","v":151.24760076775431},{"$f":"'[3]Vila Valério'!$H$49","v":104.0169133192389}]
["METROPOLITANA","Vila Velha",{"$f":"[2]Viana!$H$24","v":110.98126133387065},{"$f":"[2]Viana!$H$49","v":94.021839718674812}]
["METROPOLITANA","Vitória",{"$f":"'[2]Vila Velha'!$H$24","v":99.72040346841267},{"$f":"'[2]Vila Velha'!$H$49","v":94.197167866436843}]
["TOTAL",null,97.360571915538301,91.256979025199939]
[]
[]
["Vacina HPV Quadrivalente, Bivalente e Nonavalente"]
["Período avaliado: 2013-2025"]
["Faixa Etária: 9 a 14 anos. "]
["Fonte: http://tabnet.datasus.gov.br/ e https://www.vacinaeconfia.es.gov.br"]
["*Dados parciais:"]
["Dados de janeiro/2013 a dezembro/2022 extraídos do TABNET em 26/02/2025"]
["Dados de Janeiro/2023 a Março/2025 extraídos do Vacina e Confia em em 14/04/2025"]
["População proporcional extraída do Censo IBGE 2022"]
["Cobertura Calculada por município de procedência da vacinação"]
[]
["Observações:"]
["1. Imunobiológicos que foram recebidos parcialmente pelo estado no mês de Março/2025, sendo distribuídos em quantidades reduzidas às regionais e municípios:"]
["SORO ANTIRRÁBICO HUMANO, IMUNOGLOBULINA ANTIRRÁBICA HUMANA, VACINA COVID-19 MODERNA (SPIKEVAX),VACINA CONTRA VARICELA.\n"]
["2. Imunobiológicos indisponíveis no mês de Março/2025, não sendo possível a distribuição às regionais e municípios: "]
["VACINA TRÍPLICE ACELULAR (DTPa) - CRIE"]

{"sheet":"Cobert. Dengue","index":7,"n_rows":97,"n_cols":4,"rows_kept":97,"cut":false,"hidden":false,"merged":[[79,0,79,1]]}
["REGIONAL","MUNICÍPIO","DENGUE -D1 %","DENGUE - D2 %"]
["METROPOLITANA","Afonso Cláudio",65.085951393005331,35.210432720806168]
["CENTRAL-NORTE","Água Doce do Norte",41.459289683498426,9.5675283884996372]
["CENTRAL-NORTE","Águia Branca",43.00800000000001,19.392000000000003]
["SUL","Alegre",73.466493322302327,18.933932159319227]
["SUL","Alfredo Chaves",22.684597817812737,5.9375792945952801]
["CENTRAL-NORTE","Alto Rio Novo",85.446742099102607,44.4791260241904]
["SUL","Anchieta",77.329093799682042,29.570747217806044]
["SUL","Apiacá",23.239436619718308,5.8098591549295771]
["METROPOLITANA","Aracruz",82.189343849141636,42.482284223322559]
["SUL","Atílio Vivácqua",57.454772301933865,15.907673112913287]
["CENTRAL-NORTE","Baixo Guandu",45.223598572328363,19.840436699559099]
["CENTRAL-NORTE","Barra de São Francisco",12.806652806652806,3.4511434511434516]
["CENTRAL-NORTE","Boa Esperança",25.230492466831571,7.4207330784798744]
["SUL","Bom Jesus do Norte",38.905961893054695,7.5599262446220035]
["METROPOLITANA","Brejetuba",93.79398592450417,58.477287268074221]
["SUL","Cachoeiro de Itapemirim",51.407965211857665,11.57129978257411]
["METROPOLITANA","Cariacica",57.753880786765244,25.716437368919692]
["SUL","Castelo",51.416473434822052,12.097993749369895]
["CENTRAL-NORTE","Colatina",33.112620912022109,12.799401197604791]
["CENTRAL-NORTE","Conceição da Barra",32.967640822347192,8.9610030423158484]
["METROPOLITANA","Conceição do Castelo",121.33188955062263,67.569030860855449]
["SUL","Divino de São Lourenço",30.869308101714964,14.902424600827914]
["METROPOLITANA","Domingos Martins",72.096053611317942,42.944899478778851]
["SUL","Dores do Rio Preto",24.820599409033349,7.5981426762346977]
["CENTRAL-NORTE","Ecoporanga",28.935086974968176,10.521849809079338]
["METROPOLITANA","Fundão",91.540785498489427,51.762336354481363]
["CENTRAL-NORTE","Governador Lindenberg",84.862653419053174,48.918760958503796]
["SUL","Guaçuí",29.656342808655072,8.2732286805260937]
["METROPOLITANA","Guarapari",20.127537931539983,7.5349996335116911]
["METROPOLITANA","Ibatiba",84.420373357916574,39.479142659598985]
["METROPOLITANA","Ibiraçu",87.877947295423013,51.262135922330096]
["SUL","Ibitirama",57.896213183730715,17.335203366058906]
["SUL","Iconha",49.37185929648242,18.090452261306535]
["SUL","Irupi",52.618135376756072,12.132822477650064]
["METROPOLITANA","Itaguaçu",105.23028883684621,82.435597189695557]
["SUL","Itapemirim",20.898183064792594,6.4998285910181686]
["METROPOLITANA","Itarana",105.86915887850468,71.10280373831776]
["SUL","Iúna",42.645850451930976,9.7370583401807718]
["CENTRAL-NORTE","Jaguaré",22.700098152940125,8.7802266440617469]
["SUL","Jerônimo Monteiro",51.179982940005686,14.671595109468297]
["METROPOLITANA","João Neiva",84.084815988301244,48.988544967097241]
["METROPOLITANA","Laranja da Terra",99.31305201177625,69.479882237487729]
["CENTRAL-NORTE","Linhares",59.75689317721389,24.959653881811626]
["CENTRAL-NORTE","Mantenópolis",85.869074492099315,33.589164785553045]
["SUL","Marataízes",35.157759175788797,8.4567503756170854]
["METROPOLITANA","Marechal Floriano",88.164545929928536,52.187554470977872]
["CENTRAL-NORTE","Marilândia",68.185801928133216,27.51971954425942]
["SUL","Mimoso do Sul",25.688073394495415,8.0900750625521276]
["CENTRAL-NORTE","Montanha",57.021017362168749,20.01218397806884]
["CENTRAL-NORTE","Mucurici",68.484464172479392,36.905516804058344]
["SUL","Muniz Freire",58.645833333333329,20]
["SUL","Muqui",23.832450649975925,9.2441020702936925]
["CENTRAL-NORTE","Nova Venécia",26.540971718636698,8.5041861691607892]
["CENTRAL-NORTE","Pancas",76.140588036498826,38.222372423115921]
["CENTRAL-NORTE","Pedro Canário",50.320102432778491,21.049935979513442]
["CENTRAL-NORTE","Pinheiros",26.261026916987106,7.1929427731282507]
["SUL","Piúma",42.435803374908296,9.4203961848862807]
["CENTRAL-NORTE","Ponto Belo",82.817589576547235,32.980456026058633]
["SUL","Presidente Kennedy",79.102200915232075,16.997167138810198]
["CENTRAL-NORTE","Rio Bananal",69.916074887023882,36.894770819883796]
["SUL","Rio Novo do Sul",58.028860914952404,18.421860607921399]
["METROPOLITANA","Santa Leopoldina",73.902069661786967,43.765774861181214]
["METROPOLITANA","Santa Maria de Jetibá",78.256942876495827,42.492662000451567]
["METROPOLITANA","Santa Teresa",80.371837854312702,42.608960682718681]
["CENTRAL-NORTE","São Domingos do Norte",57.28760717069369,25.487139516757601]
["CENTRAL-NORTE","São Gabriel da Palha",74.336283185840699,23.923635278910211]
["SUL","São José do Calçado",45.725876557519562,8.693132425383947]
["CENTRAL-NORTE","São Mateus",32.964639252607888,9.700607498124258]
["CENTRAL-NORTE","São Roque do Canaã",90.051282051282058,47.179487179487175]
["METROPOLITANA","Serra",48.79926531644734,19.070977250105855]
["CENTRAL-NORTE","Sooretama",52.870344441332961,22.290674880985716]
["SUL","Vargem Alta",67.123074529329386,23.525750739069547]
["METROPOLITANA","Venda Nova do Imigrante",68.632784538296349,38.997852541159631]
["METROPOLITANA","Viana",74.848899991941337,31.960673704569263]
["CENTRAL-NORTE","Vila Pavão",58.403361344537821,26.05042016806723]
["CENTRAL-NORTE","Vila Valério",62.752555265034474,26.955074875207991]
["METROPOLITANA","Vila Velha",49.36855192269941,19.918424324383274]
["METROPOLITANA","Vitória",69.903238811987634,33.409487972046769]
["TOTAL",null,53.392425163342885,22.895925917233129]
[]
[]
["Vacina Dengue (Atenuada)"]
["Período avaliado: 2024-2025"]
["Faixa Etária: 10 a 14 anos. "]
["Fonte: https://www.vacinaeconfia.es.gov.br"]
["*Dados parciais:"]
["Dados de Janeiro/2024 a Março/2025 extraídos do Vacina e Confia em em 01/04/2025"]
[]
["População proporcional extraída do Censo IBGE 2022"]
["Cobertura Calculada por município de procedência da vacinação"]
[]
["Observações:"]
["1. Imunobiológicos que foram recebidos parcialmente pelo estado no mês de Março/2025, sendo distribuídos em quantidades reduzidas às regionais e municípios:"]
["SORO ANTIRRÁBICO HUMANO, IMUNOGLOBULINA ANTIRRÁBICA HUMANA, VACINA COVID-19 MODERNA (SPIKEVAX),VACINA CONTRA VARICELA.\n"]
["2. Imunobiológicos indisponíveis no mês de Março/2025, não sendo possível a distribuição às regionais e municípios: "]
["VACINA TRÍPLICE ACELULAR (DTPa) - CRIE"]

{"sheet":"dTpa gestantes - procedência","index":8,"n_rows":102,"n_cols":16,"rows_kept":102,"cut":false,"hidden":false,"merged":[[85,1,85,3]]}
["REGIONAL","MUNICÍPIO","¹POPULAÇÃO GESTANTE ANUAL","²POPULAÇÃO PROPORCIONAL","DOSES APLICADAS dTpa GESTANTES","COBERTURA VACINAL dTpa GESTANTES"]
["Metropolitana","Afonso Cláudio",355,86,89,{"$f":"E2/D2","v":1.0348837209302326}]
["Norte","Água Doce do Norte",181,51,25,{"$f":"E3/D3","v":0.49019607843137253}]
["Central","Águia Branca",146,43,37,0.86046511627906974]
["Sul","Alegre",264,59,80,1.3559322033898304]
["Sul","Alfredo Chaves",112,27,36,1.3333333333333333]
["Central","Alto Rio Novo",89,19,30,1.5789473684210527]
["Sul","Anchieta",315,73,86,1.178082191780822]
["Sul","Apiacá",72,19,13,0.68421052631578949]
["Metropolitana","Aracruz",1384,385,375,0.97402597402597402]
["Sul","Atilio Vivacqua",125,20,32,1.6]
["Central","Baixo Guandu",350,105,101,0.96190476190476193]
["Norte","Barra de São Francisco",591,149,140,0.93959731543624159]
["Norte","Boa Esperança",205,57,63,1.1052631578947369]
["Sul","Bom Jesus do Norte",73,16,27,1.6875]
["Metropolitana","Brejetuba",202,50,42,0.84]
["Sul","Cachoeiro de Itapemirim",1946,457,530,1.1597374179431073]
["Metropolitana","Cariacica",4767,1221,1034,0.84684684684684686]
["Sul","Castelo",370,96,105,1.09375]
["Central","Colatina",1490,382,371,0.97120418848167545]
["Norte","Conceição da Barra",364,107,114,1.0654205607476634]
["Metropolitana","Conceição do Castelo",162,37,40,1.0810810810810811]
["Sul","Divino de São Lourenço",51,13,7,0.53846153846153844]
["Metropolitana","Domingos Martins",421,100,104,1.04,null,null,null,null,null,null,null,null,null," "]
["Sul","Dores do Rio Preto",94,22,26,1.1818181818181819]
["Norte","Ecoporanga",256,71,47,0.6619718309859155]
["Metropolitana","Fundão",222,62,59,0.95161290322580649]
["Central","Governador Lindenberg",116,31,40,1.2903225806451613]
["Sul","Guaçuí",358,86,77,0.89534883720930236]
["Metropolitana","Guarapari",1706,422,366,0.86729857819905209]
["Metropolitana","Ibatiba",379,87,106,1.2183908045977012]
["Metropolitana","Ibiraçu",149,38,32,0.84210526315789469]
["Sul","Ibitirama",133,30,32,1.0666666666666667]
["Sul","Iconha",106,25,30,1.2]
["Sul","Irupi",170,47,51,1.0851063829787233]
["Metropolitana","Itaguaçu",137,41,29,0.70731707317073167]
["Sul","Itapemirim",459,97,112,1.1546391752577319]
["Metropolitana","Itarana",129,34,34,1]
["Sul","Iúna",418,111,92,0.8288288288288288]
["Norte","Jaguaré",474,129,105,0.81395348837209303]
["Sul","Jerônimo Monteiro",119,26,32,1.2307692307692308]
["Metropolitana","João Neiva",153,32,36,1.125]
["Metropolitana","Laranja da Terra",101,25,33,1.32]
["Central","Linhares",2663,696,581,0.83477011494252873]
["Central","Mantenópolis",138,38,29,0.76315789473684215]
["Sul","Marataízes",500,120,129,1.075]
["Metropolitana","Marechal Floriano",204,64,43,0.671875]
["Central","Marilândia",146,37,40,1.0810810810810811]
["Sul","Mimoso do Sul",219,46,55,1.1956521739130435]
["Norte","Montanha",230,63,67,1.0634920634920635]
["Norte","Mucurici",70,16,14,0.875]
["Sul","Muniz Freire",201,46,69,1.5]
["Sul","Muqui",119,23,48,2.0869565217391304]
["Norte","Nova Venécia",657,163,181,1.1104294478527608]
["Central","Pancas",206,58,50,0.86206896551724133]
["Norte","Pedro Canário",331,93,85,0.91397849462365588]
["Norte","Pinheiros",314,74,70,0.94594594594594594]
["Sul","Piúma",275,62,62,1]
["Norte","Ponto Belo",82,14,23,1.6428571428571428]
["Sul","Presidente Kennedy",171,45,49,1.0888888888888888]
["Central","Rio Bananal",301,70,82,1.1714285714285715]
["Sul","Rio Novo do Sul",87,16,25,1.5625]
["Metropolitana","Santa Leopoldina",81,17,26,1.5294117647058822]
["Metropolitana","Santa Maria de Jetibá",664,167,138,0.82634730538922152]
["Metropolitana","Santa Teresa",299,80,65,0.8125]
["Central","São Domingos do Norte",112,25,27,1.08]
["Central","São Gabriel da Palha",415,110,100,{"$f":"E67/D67","v":0.90909090909090906}]
["Sul","São José do Calçado",94,24,14,0.58333333333333337,null,null,null,null,null,null,null," "]
["Norte","São Mateus",1814,462,376,0.81385281385281383]
["Central","São Roque do Canaã",129,46,34,0.73913043478260865]
["Metropolitana","Serra",7312,1898,1632,0.8598524762908325]
["Central","Sooretama",429,98,113,1.153061224489796]
["Sul","Vargem Alta",212,50,59,1.18]
["Metropolitana","Venda Nova do Imigrante",337,81,86,1.0617283950617284]
["Metropolitana","Viana",891,219,229,1.0456621004566211]
["Norte","Vila Pavão",110,29,30,1.0344827586206897]
["Central","Vila Valério",232,62,63,1.0161290322580645]
["Metropolitana","Vila Velha",5446,1417,1167,0.82357092448835567]
["Metropolitana","Vitória",3452,876,969,1.1061643835616439]
[]
[null,"Total Norte",{"$f":"SUMIF($A$2:$A$79,\"Norte\",C$2:C$79)","v":5679},{"$f":"SUMIF($A$2:$A$79,\"Norte\",D$2:D$79)","v":1478},{"$f":"SUMIF($A$2:$A$79,\"Norte\",E$2:E$79)","v":1340},0.90663058186738832,null,null,null,null," "]
[null,"Total Central",{"$f":"SUMIF($A$2:$A$79,\"CENTRAL\",C$2:C$79)","v":6962},{"$f":"SUMIF($A$2:$A$79,\"CENTRAL\",D$2:D$79)","v":1820},{"$f":"SUMIF($A$2:$A$79,\"Central\",E$2:E$79)","v":1698},0.93296703296703298]
[null,"Total Metropolitana",{"$f":"SUMIF($A$2:$A$79,\"METROPOLITANA\",C$2:C$79)","v":28953},{"$f":"SUMIF($A$2:$A$79,\"METROPOLITANA\",D$2:D$79)","v":7439},{"$f":"SUMIF($A$2:$A$79,\"Metropolitana\",E$2:E$79)","v":6734},0.90522919747277864,null,null,null," "]
[null,"Total Sul",{"$f":"SUMIF($A$2:$A$79,\"SUL\",C$2:C$79)","v":7063},{"$f":"SUMIF($A$2:$A$79,\"SUL\",D$2:D$79)","v":1656},{"$f":"SUMIF($A$2:$A$79,\"Sul\",E$2:E$79)","v":1878},1.1340579710144927]
[null,"TOTAL ES",{"$f":"SUM(C2:C79)","v":48657},{"$f":"SUM(D2:D79)","v":12393},{"$f":"SUM(E2:E79)","v":11650},{"$f":"E85/D85","v":0.94004680061324941}]
[null,"HOMOGENEIDADE ENTRE MUNICÍPIOS",null,null,null,{"$f":"COUNTIF(F2:F79,\">=0,95\")/78","v":0.62820512820512819}]
[]
[]
["Cobertura Vacinal dTpa das Gestantes de Março de 2025"]
[" Fonte: Vacina e Confia, em 22 de abril de 2025.**"]
["**Dados referente às doses aplicadas no período de Janeiro a Março de 2025"]
["Cobertura Calculada por município de procedência/ocorrência da vacinação"]
["1 População anual extraída do MS/SVS/DASIS - SINASC/DASIS/SVS/MS 2024 (hoje preliminares) referente ao período de fevereiro a dezembro de 2024 e SINASC/DASIS/SVS/MS referente ao período de janeiro de 2025."]
["² População proporcional extraída do MS/SVS/DASIS - SINASC/DASIS/SVS/MS 2024 (hoje preliminares) referente ao período de Fevereiro e Março/2024 e Janeiro/2025."]
["Sinasc, atualizado em 09/04/2025."]
["Homogeineidade: O cálculo da Homogeineidade entre vacinas é feito de acordo com a pactuação estabelecida no Plano Plurianual (PPA) vigente no período 2024-2027."]
[]
["Observações:"]
["1. Imunobiológicos que foram recebidos parcialmente pelo estado no mês de Março/2025, sendo distribuídos em quantidades reduzidas às regionais e municípios:"]
["SORO ANTIRRÁBICO HUMANO, IMUNOGLOBULINA ANTIRRÁBICA HUMANA, VACINA COVID-19 MODERNA (SPIKEVAX),VACINA CONTRA VARICELA.\n"]
["2. Imunobiológicos indisponíveis no mês de Março/2025, não sendo possível a distribuição às regionais e municípios: "]
["VACINA TRÍPLICE ACELULAR (DTPa) - CRIE"]

{"sheet":"dTpa gestantes - residência","index":9,"n_rows":102,"n_cols":18,"rows_kept":102,"cut":false,"hidden":false,"merged":[[85,1,85,3],[91,0,91,16]]}
["REGIONAL","MUNICÍPIO","¹POPULAÇÃO GESTANTE ANUAL","¹POPULAÇÃO PROPORCIONAL","DOSES APLICADAS dTpa GESTANTES","COBERTURA VACINAL dTpa GESTANTES"]
["Metropolitana","Afonso Cláudio",355,86,83,{"$f":"E2/D2","v":0.96511627906976749}]
["Norte","Água Doce do Norte",181,51,20,{"$f":"E3/D3","v":0.39215686274509803}]
["Central","Águia Branca",146,43,28,0.65116279069767447]
["Sul","Alegre",264,59,80,1.3559322033898304]
["Sul","Alfredo Chaves",112,27,38,1.4074074074074074]
["Central","Alto Rio Novo",89,19,28,1.4736842105263157]
["Sul","Anchieta",315,73,79,1.0821917808219179]
["Sul","Apiacá",72,19,16,0.84210526315789469]
["Metropolitana","Aracruz",1384,385,342,0.88831168831168827]
["Sul","Atilio Vivacqua",125,20,34,1.7]
["Central","Baixo Guandu",350,105,93,0.88571428571428568]
["Norte","Barra de São Francisco",591,149,134,0.89932885906040272]
["Norte","Boa Esperança",205,57,64,1.1228070175438596]
["Sul","Bom Jesus do Norte",73,16,21,1.3125]
["Metropolitana","Brejetuba",202,50,47,0.94]
["Sul","Cachoeiro de Itapemirim",1946,457,500,1.0940919037199124]
["Metropolitana","Cariacica",4767,1221,1128,0.92383292383292381]
["Sul","Castelo",370,96,111,1.15625]
["Central","Colatina",1490,382,372,0.97382198952879584]
["Norte","Conceição da Barra",364,107,113,1.0560747663551402]
["Metropolitana","Conceição do Castelo",162,37,40,1.0810810810810811]
["Sul","Divino de São Lourenço",51,13,10,0.76923076923076927]
["Metropolitana","Domingos Martins",421,100,105,1.05]
["Sul","Dores do Rio Preto",94,22,20,0.90909090909090906]
["Norte","Ecoporanga",256,71,48,0.676056338028169]
["Metropolitana","Fundão",222,62,62,1,null,null,null,null,null,null,null,null,null,null,null," "]
["Central","Governador Lindenberg",116,31,42,1.3548387096774193]
["Sul","Guaçuí",358,86,77,0.89534883720930236]
["Metropolitana","Guarapari",1706,422,342,0.81042654028436023]
["Metropolitana","Ibatiba",379,87,95,1.0919540229885059]
["Metropolitana","Ibiraçu",149,38,43,1.131578947368421]
["Sul","Ibitirama",133,30,43,1.4333333333333333]
["Sul","Iconha",106,25,25,1]
["Sul","Irupi",170,47,46,0.97872340425531912]
["Metropolitana","Itaguaçu",137,41,28,0.68292682926829273]
["Sul","Itapemirim",459,97,121,1.2474226804123711]
["Metropolitana","Itarana",129,34,37,1.088235294117647]
["Sul","Iúna",418,111,91,0.81981981981981977]
["Norte","Jaguaré",474,129,105,0.81395348837209303]
["Sul","Jerônimo Monteiro",119,26,32,1.2307692307692308]
["Metropolitana","João Neiva",153,32,31,0.96875]
["Metropolitana","Laranja da Terra",101,25,38,1.52]
["Central","Linhares",2663,696,538,0.77298850574712641]
["Central","Mantenópolis",138,38,28,0.73684210526315785]
["Sul","Marataízes",500,120,122,1.0166666666666666]
["Metropolitana","Marechal Floriano",204,64,47,0.734375]
["Central","Marilândia",146,37,32,0.86486486486486491]
["Sul","Mimoso do Sul",219,46,61,1.326086956521739]
["Norte","Montanha",230,63,75,1.1904761904761905]
["Norte","Mucurici",70,16,14,0.875]
["Sul","Muniz Freire",201,46,58,1.2608695652173914]
["Sul","Muqui",119,23,45,1.9565217391304348]
["Norte","Nova Venécia",657,163,189,1.1595092024539877]
["Central","Pancas",206,58,54,0.93103448275862066]
["Norte","Pedro Canário",331,93,95,1.021505376344086]
["Norte","Pinheiros",314,74,79,1.0675675675675675]
["Sul","Piúma",275,62,57,0.91935483870967738]
["Norte","Ponto Belo",82,14,21,1.5]
["Sul","Presidente Kennedy",171,45,56,1.2444444444444445]
["Central","Rio Bananal",301,70,94,1.3428571428571427]
["Sul","Rio Novo do Sul",87,16,26,1.625]
["Metropolitana","Santa Leopoldina",81,17,36,2.1176470588235294]
["Metropolitana","Santa Maria de Jetibá",664,167,115,0.68862275449101795]
["Metropolitana","Santa Teresa",299,80,65,0.8125]
["Central","São Domingos do Norte",112,25,36,1.44]
["Central","São Gabriel da Palha",415,110,90,{"$f":"E67/D67","v":0.81818181818181823}]
["Sul","São José do Calçado",94,24,11,0.45833333333333331]
["Norte","São Mateus",1814,462,348,0.75324675324675328]
["Central","São Roque do Canaã",129,46,38,0.82608695652173914]
["Metropolitana","Serra",7312,1898,1573,0.82876712328767121]
["Central","Sooretama",429,98,124,1.2653061224489797]
["Sul","Vargem Alta",212,50,63,1.26]
["Metropolitana","Venda Nova do Imigrante",337,81,97,1.1975308641975309]
["Metropolitana","Viana",891,219,251,1.1461187214611872]
["Norte","Vila Pavão",110,29,28,0.96551724137931039]
["Central","Vila Valério",232,62,55,0.88709677419354838]
["Metropolitana","Vila Velha",5446,1417,1024,0.72265349329569517]
["Metropolitana","Vitória",3452,876,870,0.99315068493150682,null,null,null,null,null,null," "]
[]
[null,"Total Norte",{"$f":"SUMIF($A$2:$A$79,\"Norte\",C$2:C$79)","v":5679},{"$f":"SUMIF($A$2:$A$79,\"Norte\",D$2:D$79)","v":1478},{"$f":"SUMIF($A$2:$A$79,\"Norte\",E$2:E$79)","v":1333},0.90189445196211093]
[null,"Total Central",{"$f":"SUMIF($A$2:$A$79,\"CENTRAL\",C$2:C$79)","v":6962},{"$f":"SUMIF($A$2:$A$79,\"CENTRAL\",D$2:D$79)","v":1820},{"$f":"SUMIF($A$2:$A$79,\"CENTRAL\",E$2:E$79)","v":1652},0.90769230769230769]
[null,"Total Metropolitana",{"$f":"SUMIF($A$2:$A$79,\"METROPOLITANA\",C$2:C$79)","v":28953},{"$f":"SUMIF($A$2:$A$79,\"METROPOLITANA\",D$2:D$79)","v":7439},{"$f":"SUMIF($A$2:$A$79,\"METROPOLITANA\",E$2:E$79)","v":6499},0.87363892996370485]
[null,"Total Sul",{"$f":"SUMIF($A$2:$A$79,\"SUL\",C$2:C$79)","v":7063},{"$f":"SUMIF($A$2:$A$79,\"SUL\",D$2:D$79)","v":1656},{"$f":"SUMIF($A$2:$A$79,\"SUL\",E$2:E$79)","v":1843},1.1129227053140096]
[null,"TOTAL ES",{"$f":"SUM(C2:C79)","v":48657},{"$f":"SUM(D2:D79)","v":12393},{"$f":"SUM(E2:E79)","v":11327},{"$f":"E85/D85","v":0.91398370047607524}]
[null,"HOMOGENEIDADE ENTRE MUNICÍPIOS",null,null,{"$f":"COUNTIF(F2:F79,\">=0,95\")","v":46},{"$f":"COUNTIF(F2:F79,\">=0,95\")/78","v":0.58974358974358976}]
[]
[]
["Cobertura Vacinal dTpa das Gestantes de Março de 2025"]
[" Fonte: Vacina e Confia, em 22 de Abril de 2025.**"]
["**Dados referente às doses aplicadas no período de Janeiro a Março de 2025"]
["Cobertura Calculada por município de residência do cidadão (no Vacina e Confia, a origem da informação é o endereço que consta no cadastro do cidadão preenchido manualmente por meio do autocadastro ou pelo cadastro realizado por um profissional de saúde no momento do atendimento)."]
["1 População anual extraída do MS/SVS/DASIS - SINASC/DASIS/SVS/MS 2024 (hoje preliminares) referente ao período de Fevereiro a Dezembro/ 2024 e SINASC/DASIS/SVS/MS 2023 referente ao período de Janeiro/2025."]
["² População proporcional extraída do MS/SVS/DASIS - SINASC/DASIS/SVS/MS 2024 (hoje preliminares) referente ao período de Fevereiro e Março/ 2024 e Janeiro/2025."]
["Sinasc, atualizado em 09/04/2025."]
["Homogeineidade: O cálculo da Homogeineidade entre vacinas é feito de acordo com a pactuação estabelecida no Plano Plurianual (PPA) vigente no período 2024-2027."]
[]
["Observações:"]
["1. Imunobiológicos que foram recebidos parcialmente pelo estado no mês de Março/2025, sendo distribuídos em quantidades reduzidas às regionais e municípios:"]
["SORO ANTIRRÁBICO HUMANO, IMUNOGLOBULINA ANTIRRÁBICA HUMANA, VACINA COVID-19 MODERNA (SPIKEVAX),VACINA CONTRA VARICELA.\n"]
["2. Imunobiológicos indisponíveis no mês de Março/2025, não sendo possível a distribuição às regionais e municípios: "]
["VACINA TRÍPLICE ACELULAR (DTPa) - CRIE"]

{"sheet":"COVID-19 gestantes -Procedência","index":10,"n_rows":102,"n_cols":17,"rows_kept":102,"cut":false,"hidden":false,"merged":[[85,1,85,3]]}
["REGIONAL","MUNICÍPIO","¹POPULAÇÃO GESTANTE ANUAL","²POPULAÇÃO PROPORCIONAL","DOSES APLICADAS dTpa GESTANTES","COBERTURA VACINAL dTpa GESTANTES"]
["Metropolitana","Afonso Cláudio",355,86,0,{"$f":"E2/D2","v":0}]
["Norte","Água Doce do Norte",181,51,1,{"$f":"E3/D3","v":1.9607843137254902E-2}]
["Central","Águia Branca",146,43,0,0]
["Sul","Alegre",264,59,7,0.11864406779661017]
["Sul","Alfredo Chaves",112,27,0,0]
["Central","Alto Rio Novo",89,19,0,0]
["Sul","Anchieta",315,73,10,0.13698630136986301]
["Sul","Apiacá",72,19,0,0]
["Metropolitana","Aracruz",1384,385,72,0.18701298701298702]
["Sul","Atilio Vivacqua",125,20,0,0,null,null," "]
["Central","Baixo Guandu",350,105,0,0]
["Norte","Barra de São Francisco",591,149,0,0]
["Norte","Boa Esperança",205,57,2,3.5087719298245612E-2]
["Sul","Bom Jesus do Norte",73,16,3,0.1875]
["Metropolitana","Brejetuba",202,50,0,0]
["Sul","Cachoeiro de Itapemirim",1946,457,28,6.1269146608315096E-2]
["Metropolitana","Cariacica",4767,1221,348,0.28501228501228504]
["Sul","Castelo",370,96,0,0]
["Central","Colatina",1490,382,63,0.16492146596858639]
["Norte","Conceição da Barra",364,107,22,0.20560747663551401]
["Metropolitana","Conceição do Castelo",162,37,2,5.4054054054054057E-2]
["Sul","Divino de São Lourenço",51,13,0,0]
["Metropolitana","Domingos Martins",421,100,12,0.12]
["Sul","Dores do Rio Preto",94,22,5,0.22727272727272727]
["Norte","Ecoporanga",256,71,6,8.4507042253521125E-2]
["Metropolitana","Fundão",222,62,4,6.4516129032258063E-2]
["Central","Governador Lindenberg",116,31,4,0.12903225806451613]
["Sul","Guaçuí",358,86,1,1.1627906976744186E-2]
["Metropolitana","Guarapari",1706,422,47,0.11137440758293839]
["Metropolitana","Ibatiba",379,87,5,5.7471264367816091E-2]
["Metropolitana","Ibiraçu",149,38,0,0]
["Sul","Ibitirama",133,30,10,0.33333333333333331]
["Sul","Iconha",106,25,3,0.12]
["Sul","Irupi",170,47,0,0]
["Metropolitana","Itaguaçu",137,41,1,2.4390243902439025E-2]
["Sul","Itapemirim",459,97,12,0.12371134020618557]
["Metropolitana","Itarana",129,34,0,0]
["Sul","Iúna",418,111,2,1.8018018018018018E-2]
["Norte","Jaguaré",474,129,13,0.10077519379844961]
["Sul","Jerônimo Monteiro",119,26,10,0.38461538461538464]
["Metropolitana","João Neiva",153,32,0,0]
["Metropolitana","Laranja da Terra",101,25,0,0]
["Central","Linhares",2663,696,5,7.1839080459770114E-3]
["Central","Mantenópolis",138,38,0,0]
["Sul","Marataízes",500,120,4,3.3333333333333333E-2]
["Metropolitana","Marechal Floriano",204,64,10,0.15625]
["Central","Marilândia",146,37,2,5.4054054054054057E-2]
["Sul","Mimoso do Sul",219,46,5,0.10869565217391304]
["Norte","Montanha",230,63,4,6.3492063492063489E-2]
["Norte","Mucurici",70,16,7,0.4375]
["Sul","Muniz Freire",201,46,1,2.1739130434782608E-2]
["Sul","Muqui",119,23,2,8.6956521739130432E-2]
["Norte","Nova Venécia",657,163,10,6.1349693251533742E-2]
["Central","Pancas",206,58,2,3.4482758620689655E-2]
["Norte","Pedro Canário",331,93,18,0.19354838709677419]
["Norte","Pinheiros",314,74,3,4.0540540540540543E-2]
["Sul","Piúma",275,62,6,9.6774193548387094E-2]
["Norte","Ponto Belo",82,14,0,0]
["Sul","Presidente Kennedy",171,45,0,0]
["Central","Rio Bananal",301,70,3,4.2857142857142858E-2]
["Sul","Rio Novo do Sul",87,16,1,6.25E-2]
["Metropolitana","Santa Leopoldina",81,17,0,0]
["Metropolitana","Santa Maria de Jetibá",664,167,5,2.9940119760479042E-2]
["Metropolitana","Santa Teresa",299,80,6,7.4999999999999997E-2]
["Central","São Domingos do Norte",112,25,1,0.04]
["Central","São Gabriel da Palha",415,110,1,{"$f":"E67/D67","v":9.0909090909090905E-3}]
["Sul","São José do Calçado",94,24,1,4.1666666666666664E-2]
["Norte","São Mateus",1814,462,66,0.14285714285714285]
["Central","São Roque do Canaã",129,46,7,0.15217391304347827]
["Metropolitana","Serra",7312,1898,403,0.21232876712328766]
["Central","Sooretama",429,98,11,0.11224489795918367]
["Sul","Vargem Alta",212,50,3,0.06]
["Metropolitana","Venda Nova do Imigrante",337,81,3,3.7037037037037035E-2]
["Metropolitana","Viana",891,219,47,0.21461187214611871]
["Norte","Vila Pavão",110,29,1,3.4482758620689655E-2]
["Central","Vila Valério",232,62,0,0]
["Metropolitana","Vila Velha",5446,1417,261,0.18419195483415668]
["Metropolitana","Vitória",3452,876,230,0.26255707762557079]
[]
[null,"Total Norte",{"$f":"SUMIF($A$2:$A$79,\"Norte\",C$2:C$79)","v":5679},{"$f":"SUMIF($A$2:$A$79,\"Norte\",D$2:D$79)","v":1478},{"$f":"SUMIF($A$2:$A$79,\"Norte\",E$2:E$79)","v":153},{"$f":"E81/D81","v":0.10351826792963464}]
[null,"Total Central",{"$f":"SUMIF($A$2:$A$79,\"CENTRAL\",C$2:C$79)","v":6962},{"$f":"SUMIF($A$2:$A$79,\"CENTRAL\",D$2:D$79)","v":1820},{"$f":"SUMIF($A$2:$A$79,\"cENTRAL\",E$2:E$79)","v":99},5.4395604395604397E-2,null,null,null,null,null,null,null,null,null,null," "]
[null,"Total Metropolitana",{"$f":"SUMIF($A$2:$A$79,\"METROPOLITANA\",C$2:C$79)","v":28953},{"$f":"SUMIF($A$2:$A$79,\"METROPOLITANA\",D$2:D$79)","v":7439},{"$f":"SUMIF($A$2:$A$79,\"Metropolitana\",E$2:E$79)","v":1456},0.19572523188600618]
[null,"Total Sul",{"$f":"SUMIF($A$2:$A$79,\"SUL\",C$2:C$79)","v":7063},{"$f":"SUMIF($A$2:$A$79,\"SUL\",D$2:D$79)","v":1656},{"$f":"SUMIF($A$2:$A$79,\"sul\",E$2:E$79)","v":114},6.8840579710144928E-2]
[null,"TOTAL ES",{"$f":"SUM(C2:C79)","v":48657},{"$f":"SUM(D2:D79)","v":12393},{"$f":"SUM(E2:E79)","v":1822},{"$f":"E85/D85","v":0.14701847817316227}]
[null,"HOMOGENEIDADE ENTRE MUNICÍPIOS",null,null,null,{"$f":"COUNTIF(F2:F79,\">=0,90\")/78","v":0}]
[]
[]
["Cobertura Vacinal Covid 19 das Gestantes de Março de 2025"]
[" Fonte: Vacina e Confia, em 22 de Abril de 2025.**"]
["**Dados referente às doses aplicadas no período de Janeiro a Março de 2025"]
["Cobertura Calculada por município de procedência/ocorrência da vacinação"]
["1 População anual extraída do MS/SVS/DASIS - SINASC/DASIS/SVS/MS 2024 (hoje preliminares) referente ao período de Fevereiro a Dezembro/ 2024 e SINASC/DASIS/SVS/MS 2025 referente ao período de Janeiro/2025."]
["² População proporcional extraída do MS/SVS/DASIS - SINASC/DASIS/SVS/MS 2024 (hoje preliminares) referente ao período de Fevereiro e Março/ 2024 e Janeiro/2025."]
["Sinasc, atualizado em 09/04/2025."]
["Homogeineidade: O cálculo da Homogeineidade entre vacinas é feito de acordo com a pactuação estabelecida no Plano Plurianual (PPA) vigente no período 2024-2027."]
[]
["Observações:"]
["1. Imunobiológicos que foram recebidos parcialmente pelo estado no mês de Março/2025, sendo distribuídos em quantidades reduzidas às regionais e municípios:"]
["SORO ANTIRRÁBICO HUMANO, IMUNOGLOBULINA ANTIRRÁBICA HUMANA, VACINA COVID-19 MODERNA (SPIKEVAX),VACINA CONTRA VARICELA.\n"]
["2. Imunobiológicos indisponíveis no mês de Março/2025, não sendo possível a distribuição às regionais e municípios: "]
["VACINA TRÍPLICE ACELULAR (DTPa) - CRIE"]

{"sheet":"COVID-19 gestantes -Residência","index":11,"n_rows":102,"n_cols":13,"rows_kept":102,"cut":false,"hidden":false,"merged":[[85,1,85,3],[91,0,91,16]]}
["REGIONAL","MUNICÍPIO","¹POPULAÇÃO GESTANTE ANUAL","²POPULAÇÃO PROPORCIONAL","DOSES APLICADAS dTpa GESTANTES","COBERTURA VACINAL dTpa GESTANTES"]
["Metropolitana","Afonso Cláudio",355,86,3,{"$f":"E2/D2","v":3.4883720930232558E-2}]
["Norte","Água Doce do Norte",181,51,0,{"$f":"E3/D3","v":0}]
["Central","Águia Branca",146,43,1,2.3255813953488372E-2]
["Sul","Alegre",264,59,7,0.11864406779661017]
["Sul","Alfredo Chaves",112,27,1,3.7037037037037035E-2]
["Central","Alto Rio Novo",89,19,0,0]
["Sul","Anchieta",315,73,10,0.13698630136986301]
["Sul","Apiacá",72,19,2,0.10526315789473684]
["Metropolitana","Aracruz",1384,385,62,0.16103896103896104]
["Sul","Atilio Vivacqua",125,20,0,0]
["Central","Baixo Guandu",350,105,2,1.9047619047619049E-2]
["Norte","Barra de São Francisco",591,149,2,1.3422818791946308E-2]
["Norte","Boa Esperança",205,57,3,5.2631578947368418E-2]
["Sul","Bom Jesus do Norte",73,16,2,0.125]
["Metropolitana","Brejetuba",202,50,2,0.04]
["Sul","Cachoeiro de Itapemirim",1946,457,32,7.0021881838074396E-2]
["Metropolitana","Cariacica",4767,1221,362,0.29647829647829649]
["Sul","Castelo",370,96,1,1.0416666666666666E-2]
["Central","Colatina",1490,382,58,0.15183246073298429]
["Norte","Conceição da Barra",364,107,22,0.20560747663551401]
["Metropolitana","Conceição do Castelo",162,37,5,0.13513513513513514]
["Sul","Divino de São Lourenço",51,13,0,0]
["Metropolitana","Domingos Martins",421,100,11,0.11]
["Sul","Dores do Rio Preto",94,22,4,0.18181818181818182]
["Norte","Ecoporanga",256,71,8,0.11267605633802817]
["Metropolitana","Fundão",222,62,4,6.4516129032258063E-2]
["Central","Governador Lindenberg",116,31,4,0.12903225806451613]
["Sul","Guaçuí",358,86,3,3.4883720930232558E-2]
["Metropolitana","Guarapari",1706,422,50,0.11848341232227488]
["Metropolitana","Ibatiba",379,87,3,3.4482758620689655E-2]
["Metropolitana","Ibiraçu",149,38,2,5.2631578947368418E-2]
["Sul","Ibitirama",133,30,9,0.3]
["Sul","Iconha",106,25,1,0.04]
["Sul","Irupi",170,47,0,0]
["Metropolitana","Itaguaçu",137,41,3,7.3170731707317069E-2]
["Sul","Itapemirim",459,97,12,0.12371134020618557]
["Metropolitana","Itarana",129,34,2,5.8823529411764705E-2]
["Sul","Iúna",418,111,3,2.7027027027027029E-2]
["Norte","Jaguaré",474,129,11,8.5271317829457363E-2]
["Sul","Jerônimo Monteiro",119,26,6,0.23076923076923078]
["Metropolitana","João Neiva",153,32,0,0]
["Metropolitana","Laranja da Terra",101,25,0,0]
["Central","Linhares",2663,696,17,2.442528735632184E-2]
["Central","Mantenópolis",138,38,0,0]
["Sul","Marataízes",500,120,5,4.1666666666666664E-2]
["Metropolitana","Marechal Floriano",204,64,12,0.1875]
["Central","Marilândia",146,37,1,2.7027027027027029E-2]
["Sul","Mimoso do Sul",219,46,5,0.10869565217391304]
["Norte","Montanha",230,63,5,7.9365079365079361E-2]
["Norte","Mucurici",70,16,5,0.3125]
["Sul","Muniz Freire",201,46,1,2.1739130434782608E-2]
["Sul","Muqui",119,23,1,4.3478260869565216E-2]
["Norte","Nova Venécia",657,163,14,8.5889570552147243E-2]
["Central","Pancas",206,58,2,3.4482758620689655E-2]
["Norte","Pedro Canário",331,93,21,0.22580645161290322]
["Norte","Pinheiros",314,74,4,5.4054054054054057E-2]
["Sul","Piúma",275,62,8,0.12903225806451613]
["Norte","Ponto Belo",82,14,2,0.14285714285714285]
["Sul","Presidente Kennedy",171,45,1,2.2222222222222223E-2]
["Central","Rio Bananal",301,70,4,5.7142857142857141E-2]
["Sul","Rio Novo do Sul",87,16,0,0]
["Metropolitana","Santa Leopoldina",81,17,1,5.8823529411764705E-2]
["Metropolitana","Santa Maria de Jetibá",664,167,5,2.9940119760479042E-2]
["Metropolitana","Santa Teresa",299,80,6,7.4999999999999997E-2]
["Central","São Domingos do Norte",112,25,3,0.12]
["Central","São Gabriel da Palha",415,110,2,{"$f":"E67/D67","v":1.8181818181818181E-2}]
["Sul","São José do Calçado",94,24,0,0]
["Norte","São Mateus",1814,462,57,0.12337662337662338]
["Central","São Roque do Canaã",129,46,8,0.17391304347826086]
["Metropolitana","Serra",7312,1898,386,0.20337197049525815]
["Central","Sooretama",429,98,10,0.10204081632653061]
["Sul","Vargem Alta",212,50,1,0.02]
["Metropolitana","Venda Nova do Imigrante",337,81,4,4.9382716049382713E-2]
["Metropolitana","Viana",891,219,45,0.20547945205479451]
["Norte","Vila Pavão",110,29,1,3.4482758620689655E-2]
["Central","Vila Valério",232,62,4,6.4516129032258063E-2]
["Metropolitana","Vila Velha",5446,1417,225,0.1587861679604799]
["Metropolitana","Vitória",3452,876,202,0.23059360730593606]
[]
[null,"Total Norte",{"$f":"SUMIF($A$2:$A$79,\"Norte\",C$2:C$79)","v":5679},{"$f":"SUMIF($A$2:$A$79,\"Norte\",D$2:D$79)","v":1478},{"$f":"SUMIF($A$2:$A$79,\"Norte\",E$2:E$79)","v":155},{"$f":"E81/D81","v":0.10487144790257104}]
[null,"Total Central",{"$f":"SUMIF($A$2:$A$79,\"CENTRAL\",C$2:C$79)","v":6962},{"$f":"SUMIF($A$2:$A$79,\"CENTRAL\",D$2:D$79)","v":1820},{"$f":"SUMIF($A$2:$A$79,\"CENTRAL\",E$2:E$79)","v":116},6.3736263736263732E-2,null,null,null,null,null,null," "]
[null,"Total Metropolitana",{"$f":"SUMIF($A$2:$A$79,\"METROPOLITANA\",C$2:C$79)","v":28953},{"$f":"SUMIF($A$2:$A$79,\"METROPOLITANA\",D$2:D$79)","v":7439},{"$f":"SUMIF($A$2:$A$79,\"METROPOLITANA\",E$2:E$79)","v":1395},0.18752520500067213]
[null,"Total Sul",{"$f":"SUMIF($A$2:$A$79,\"SUL\",C$2:C$79)","v":7063},{"$f":"SUMIF($A$2:$A$79,\"SUL\",D$2:D$79)","v":1656},{"$f":"SUMIF($A$2:$A$79,\"SUL\",E$2:E$79)","v":115},6.9444444444444448E-2]
[null,"TOTAL ES",{"$f":"SUM(C2:C79)","v":48657},{"$f":"SUM(D2:D79)","v":12393},{"$f":"SUM(E2:E79)","v":1781},{"$f":"E85/D85","v":0.14371015896070363},null,null,null,null," "]
[null,"HOMOGENEIDADE ENTRE MUNICÍPIOS",null,null,{"$f":"COUNTIF(F2:F79,\">=0,95\")","v":0},{"$f":"COUNTIF(F2:F79,\">=0,90\")/78","v":0}]
[]
[]
["Cobertura Vacinal Covid 19 das Gestantes de Março de 2025"]
[" Fonte: Vacina e Confia, em 22 de Abril de 2025.**"]
["**Dados referente às doses aplicadas no período de Janeiro a Março de 2025"]
["Cobertura Calculada por município de residência do cidadão (no Vacina e Confia, a origem da informação é o endereço que consta no cadastro do cidadão preenchido manualmente por meio do autocadastro ou pelo cadastro realizado por um profissional de saúde no momento do atendimento)."]
["1 População anual extraída do MS/SVS/DASIS - SINASC/DASIS/SVS/MS 2024 (hoje preliminares) referente ao período de Fevereiro a Dezembro/ 2024 e SINASC/DASIS/SVS/MS 2025 referente ao período de Janeiro/2025."]
["² População proporcional extraída do MS/SVS/DASIS - SINASC/DASIS/SVS/MS 2024 (hoje preliminares) referente ao período de Fevereiro e Março/2024 e Janeiro/2025."]
["Sinasc, atualizado em 09/04/2025."]
["Homogeineidade: O cálculo da Homogeineidade entre vacinas é feito de acordo com a pactuação estabelecida no Plano Plurianual (PPA) vigente no período 2024-2027."]
[]
["Observações:"]
["1. Imunobiológicos que foram recebidos parcialmente pelo estado no mês de Março/2025, sendo distribuídos em quantidades reduzidas às regionais e municípios:"]
["SORO ANTIRRÁBICO HUMANO, IMUNOGLOBULINA ANTIRRÁBICA HUMANA, VACINA COVID-19 MODERNA (SPIKEVAX),VACINA CONTRA VARICELA.\n"]
["2. Imunobiológicos indisponíveis no mês de Março/2025, não sendo possível a distribuição às regionais e municípios: "]
["VACINA TRÍPLICE ACELULAR (DTPa) - CRIE"]

{"sheet":"COVID-19 idoso -Procêdencia","index":12,"n_rows":103,"n_cols":9,"rows_kept":103,"cut":false,"hidden":false,"merged":[[85,1,85,3]]}
["Regional ","Município","População  60 anos +","TOTAL DE DOSES APLICADAS COVID-19","COBERTURA COVID-19"]
["Metropolitana","Afonso Cláudio",5905,3,{"$f":"(D2/C2)","v":5.0804403048264183E-4}]
["Norte","Água Doce do Norte",2357,27,{"$f":"(D3/C3)","v":1.1455239711497667E-2}]
["Central","Águia Branca",1775,8,4.507042253521127E-3]
["Sul","Alegre",5949,53,8.9090603462766843E-3]
["Sul","Alfredo Chaves",3040,55,1.8092105263157895E-2]
["Central","Alto Rio Novo",1417,1,7.0571630204657732E-4]
["Sul","Anchieta",5080,135,2.6574803149606301E-2]
["Sul","Apiacá",1536,12,7.8125E-3]
["Metropolitana","Aracruz",13047,405,3.1041618762934008E-2]
["Sul","Atilio Vivacqua",1843,8,4.3407487791644059E-3]
["Central","Baixo Guandu",5706,80,1.4020329477742727E-2]
["Norte","Barra de São Francisco",7226,95,1.3146969277608635E-2]
["Norte","Boa Esperança",2317,6,2.5895554596460941E-3,null,null," "]
["Sul","Bom Jesus do Norte",1991,66,3.3149171270718231E-2]
["Metropolitana","Brejetuba",1637,1,6.1087354917532073E-4]
["Sul","Cachoeiro de Itapemirim",32906,397,1.2064669057314776E-2]
["Metropolitana","Cariacica",54005,1980,3.6663271919266736E-2]
["Sul","Castelo",7171,62,8.6459350160368147E-3]
["Central","Colatina",21491,550,2.5592108324414872E-2]
["Norte","Conceição da Barra",4468,98,2.1933751119068933E-2]
["Metropolitana","Conceição do Castelo",2176,3,1.3786764705882354E-3]
["Sul","Divino de São Lourenço",847,6,7.0838252656434475E-3]
["Metropolitana","Domingos Martins",6358,224,3.5231204781377791E-2]
["Sul","Dores do Rio Preto",1145,29,2.5327510917030567E-2]
["Norte","Ecoporanga",4274,28,6.5512400561534862E-3]
["Metropolitana","Fundão",3432,63,1.8356643356643356E-2]
["Central","Governador Lindenberg",1987,20,1.0065425264217413E-2]
["Sul","Guaçuí",5504,65,1.1809593023255814E-2]
["Metropolitana","Guarapari",21755,251,1.1537577568375087E-2]
["Metropolitana","Ibatiba",3852,31,8.0477673935617864E-3]
["Metropolitana","Ibiraçu",2121,54,2.5459688826025461E-2]
["Sul","Ibitirama",1400,20,1.4285714285714285E-2]
["Sul","Iconha",2560,66,2.5781249999999999E-2]
["Sul","Irupi",2006,35,1.7447657028913259E-2]
["Metropolitana","Itaguaçu",3214,30,9.3341630367143741E-3]
["Sul","Itapemirim",6549,25,3.8173766987326311E-3]
["Metropolitana","Itarana",2389,3,1.2557555462536626E-3]
["Sul","Iúna",4417,53,1.1999094407969211E-2]
["Norte","Jaguaré",3734,313,8.3824317086234598E-2]
["Sul","Jerônimo Monteiro",2356,90,3.8200339558573854E-2]
["Metropolitana","João Neiva",3012,23,7.6361221779548474E-3]
["Metropolitana","Laranja da Terra",2471,11,4.4516390125455283E-3]
["Central","Linhares",21740,116,5.3357865685372584E-3]
["Central","Mantenópolis",2524,0,0]
["Sul","Marataízes",7611,86,1.1299435028248588E-2]
["Metropolitana","Marechal Floriano",2879,67,2.327196943383119E-2]
["Central","Marilândia",2476,10,4.0387722132471729E-3]
["Sul","Mimoso do Sul",5077,28,5.5150679535158559E-3]
["Norte","Montanha",3304,164,4.9636803874092007E-2]
["Norte","Mucurici",1090,11,1.0091743119266056E-2]
["Sul","Muniz Freire",3309,58,1.7527954064672106E-2]
["Sul","Muqui",2780,34,1.2230215827338129E-2]
["Norte","Nova Venécia",8352,32,3.8314176245210726E-3]
["Central","Pancas",3687,6,1.6273393002441008E-3]
["Norte","Pedro Canário",3253,33,1.0144482016600061E-2]
["Norte","Pinheiros",3762,34,9.0377458798511431E-3]
["Sul","Piúma",3886,64,1.6469377251672673E-2]
["Norte","Ponto Belo",1330,2,1.5037593984962407E-3]
["Sul","Presidente Kennedy",2214,7,3.1616982836495033E-3]
["Central","Rio Bananal",3071,46,1.4978834255942689E-2]
["Sul","Rio Novo do Sul",2232,11,4.9283154121863796E-3]
["Metropolitana","Santa Leopoldina",2634,31,1.1769172361427487E-2]
["Metropolitana","Santa Maria de Jetibá",5552,55,9.9063400576368879E-3]
["Metropolitana","Santa Teresa",4767,41,8.6007971470526533E-3]
["Central","São Domingos do Norte",1520,10,6.5789473684210523E-3]
["Central","São Gabriel da Palha",5456,22,{"$f":"(D67/C67)","v":4.0322580645161289E-3}]
["Sul","São José do Calçado",2456,12,4.8859934853420191E-3]
["Norte","São Mateus",17649,562,3.184316391863562E-2]
["Central","São Roque do Canaã",2370,23,9.7046413502109713E-3]
["Metropolitana","Serra",66481,2350,3.5348445420496082E-2]
["Central","Sooretama",3097,16,5.1662899580238938E-3]
["Sul","Vargem Alta",3365,22,6.5378900445765232E-3]
["Metropolitana","Venda Nova do Imigrante",3766,88,2.3366967604885821E-2]
["Metropolitana","Viana",9758,278,2.8489444558311129E-2]
["Norte","Vila Pavão",1510,18,1.1920529801324504E-2]
["Central","Vila Valério",2160,15,6.9444444444444441E-3]
["Metropolitana","Vila Velha",81049,2602,3.2104035830176805E-2]
["Metropolitana","Vitória",64805,3555,5.4856878327289561E-2]
[]
[null,"Total Norte",{"$f":"SUMIF($A$2:$A$79,\"Norte\",C$2:C$79)","v":64626},{"$f":"SUMIF($A$2:$A$79,\"Norte\",D$2:D$79)","v":1423},{"$f":"D81/C81","v":2.2019001640206728E-2}]
[null,"Total Central",{"$f":"SUMIF($A$2:$A$79,\"Central\",C$2:C$79)","v":80477},{"$f":"SUMIF($A$2:$A$79,\"Central\",D$2:D$79)","v":923},{"$f":"D82/C82","v":1.1469115399430893E-2},null," "]
[null,"Total Metropolitana",{"$f":"SUMIF($A$2:$A$79,\"Metropolitana\",C$2:C$79)","v":367065},{"$f":"SUMIF($A$2:$A$79,\"Metropolitana\",D$2:D$79)","v":12149},3.3097680247367631E-2]
[null,"Total Sul",{"$f":"SUMIF($A$2:$A$79,\"sul\",C$2:C$79)","v":119230},{"$f":"SUMIF($A$2:$A$79,\"sul\",D$2:D$79)","v":1499},1.2572339176381783E-2]
[null,"Total Espírito Santo",{"$f":"SUM(C2:C79)","v":631398},{"$f":"SUM(D2:D79)","v":15994},2.5331090690816252E-2]
[null,"HOMOGENEIDADE ENTRE MUNICÍPIOS",null,null,{"$f":"COUNTIF(E2:E79,\">=0,90\")/78","v":0},null,null,null," "]
[]
["Cobertura Vacinal Covid19 dos Idosos de Março de 2025"]
["Vacina COVID-19 RECOMBINANTE SERUM/ZALIKA e COVID-19 Moderna (Spikevax)"]
["Período avaliado: Últimos 6meses - Out/2024 a Mar/2025"]
["Faixa Etária: 60+"]
["Fonte: https://www.vacinaeconfia.es.gov.br"]
["*Dados parciais:"]
["**Dados referente às doses aplicadas no período de Outubro/2024 a Março/ 2025"]
["População proporcional extraída do Censo IBGE 2022"]
["Cobertura Calculada por município de procedência da vacinação"]
["Homogeineidade: O cálculo da Homogeineidade entre vacinas é feito de acordo com a pactuação estabelecida no Plano Plurianual (PPA) vigente no período 2024-2027."]
[]
["Observações:"]
["1. Imunobiológicos que foram recebidos parcialmente pelo estado no mês de Março/2025, sendo distribuídos em quantidades reduzidas às regionais e municípios:"]
["SORO ANTIRRÁBICO HUMANO, IMUNOGLOBULINA ANTIRRÁBICA HUMANA, VACINA COVID-19 MODERNA (SPIKEVAX), VACINA CONTRA VARICELA.\n"]
["2. Imunobiológicos indisponíveis no mês de Março/2025, não sendo possível a distribuição às regionais e municípios: "]
["VACINA TRÍPLICE ACELULAR (DTPa) - CRIE"]

{"sheet":"COVID-19 idoso -Residência","index":13,"n_rows":103,"n_cols":10,"rows_kept":103,"cut":false,"hidden":false,"merged":[[85,1,85,3],[95,0,95,10]]}
["Regional ","Município","População 60 anos +","TOTAL DE DOSES APLICADAS COVID-19","COBERTURA COVID-19"]
["Metropolitana","Afonso Cláudio",5905,16,{"$f":"(D2/C2)","v":2.7095681625740899E-3}]
["Norte","Água Doce do Norte",2357,27,{"$f":"(D3/C3)","v":1.1455239711497667E-2}]
["Central","Águia Branca",1775,9,5.0704225352112674E-3]
["Sul","Alegre",5949,64,1.0758110606824677E-2]
["Sul","Alfredo Chaves",3040,51,1.6776315789473684E-2]
["Central","Alto Rio Novo",1417,5,3.5285815102328866E-3,null,null,null,null," "]
["Sul","Anchieta",5080,122,2.4015748031496063E-2]
["Sul","Apiacá",1536,17,1.1067708333333334E-2]
["Metropolitana","Aracruz",13047,404,3.0964972790679848E-2]
["Sul","Atilio Vivacqua",1843,9,4.8833423765599565E-3]
["Central","Baixo Guandu",5706,75,1.3144058885383806E-2]
["Norte","Barra de São Francisco",7226,105,1.4530860780514807E-2]
["Norte","Boa Esperança",2317,15,6.4738886491152352E-3]
["Sul","Bom Jesus do Norte",1991,59,2.9633350075339026E-2]
["Metropolitana","Brejetuba",1637,8,4.8869883934025658E-3]
["Sul","Cachoeiro de Itapemirim",32906,420,1.276362973317936E-2]
["Metropolitana","Cariacica",54005,1980,3.6663271919266736E-2]
["Sul","Castelo",7171,61,8.5064844512620277E-3]
["Central","Colatina",21491,548,2.549904611232609E-2]
["Norte","Conceição da Barra",4468,98,2.1933751119068933E-2]
["Metropolitana","Conceição do Castelo",2176,4,1.838235294117647E-3]
["Sul","Divino de São Lourenço",847,7,8.2644628099173556E-3]
["Metropolitana","Domingos Martins",6358,214,3.3658383139351995E-2]
["Sul","Dores do Rio Preto",1145,27,2.3580786026200874E-2]
["Norte","Ecoporanga",4274,33,7.72110435189518E-3]
["Metropolitana","Fundão",3432,52,1.5151515151515152E-2]
["Central","Governador Lindenberg",1987,24,1.2078510317060896E-2]
["Sul","Guaçuí",5504,65,1.1809593023255814E-2]
["Metropolitana","Guarapari",21755,255,1.172144334635716E-2]
["Metropolitana","Ibatiba",3852,33,8.5669781931464167E-3]
["Metropolitana","Ibiraçu",2121,48,2.2630834512022632E-2]
["Sul","Ibitirama",1400,21,1.4999999999999999E-2]
["Sul","Iconha",2560,64,2.5000000000000001E-2]
["Sul","Irupi",2006,36,1.794616151545364E-2]
["Metropolitana","Itaguaçu",3214,38,1.1823273179838207E-2]
["Sul","Itapemirim",6549,30,4.5808520384791572E-3]
["Metropolitana","Itarana",2389,13,5.4416073670992045E-3]
["Sul","Iúna",4417,36,8.1503282771111622E-3]
["Norte","Jaguaré",3734,298,7.9807177289769687E-2]
["Sul","Jerônimo Monteiro",2356,83,3.5229202037351443E-2]
["Metropolitana","João Neiva",3012,27,8.9641434262948214E-3]
["Metropolitana","Laranja da Terra",2471,11,4.4516390125455283E-3]
["Central","Linhares",21740,135,6.2097516099356024E-3]
["Central","Mantenópolis",2524,1,3.9619651347068147E-4]
["Sul","Marataízes",7611,78,1.0248324793062672E-2]
["Metropolitana","Marechal Floriano",2879,74,2.5703369225425494E-2]
["Central","Marilândia",2476,9,3.6348949919224557E-3]
["Sul","Mimoso do Sul",5077,29,5.7120346661414219E-3]
["Norte","Montanha",3304,164,4.9636803874092007E-2]
["Norte","Mucurici",1090,12,1.1009174311926606E-2]
["Sul","Muniz Freire",3309,60,1.8132366273798731E-2]
["Sul","Muqui",2780,31,1.1151079136690648E-2]
["Norte","Nova Venécia",8352,51,6.1063218390804601E-3]
["Central","Pancas",3687,9,2.4410089503661514E-3]
["Norte","Pedro Canário",3253,35,1.0759299108515216E-2]
["Norte","Pinheiros",3762,38,1.0101010101010102E-2]
["Sul","Piúma",3886,71,1.827071538857437E-2]
["Norte","Ponto Belo",1330,3,2.255639097744361E-3]
["Sul","Presidente Kennedy",2214,5,2.2583559168925021E-3]
["Central","Rio Bananal",3071,50,1.6281341582546401E-2]
["Sul","Rio Novo do Sul",2232,14,6.2724014336917565E-3]
["Metropolitana","Santa Leopoldina",2634,38,1.4426727410782081E-2]
["Metropolitana","Santa Maria de Jetibá",5552,58,1.0446685878962535E-2]
["Metropolitana","Santa Teresa",4767,51,1.0698552548772814E-2]
["Central","São Domingos do Norte",1520,11,7.2368421052631578E-3]
["Central","São Gabriel da Palha",5456,27,{"$f":"(D67/C67)","v":4.9486803519061583E-3}]
["Sul","São José do Calçado",2456,11,4.4788273615635182E-3]
["Norte","São Mateus",17649,531,3.0086690464048955E-2]
["Central","São Roque do Canaã",2370,21,8.8607594936708865E-3]
["Metropolitana","Serra",66481,2378,3.5769618387208373E-2]
["Central","Sooretama",3097,22,7.103648692282854E-3]
["Sul","Vargem Alta",3365,26,7.7265973254086184E-3]
["Metropolitana","Venda Nova do Imigrante",3766,91,2.4163568773234202E-2]
["Metropolitana","Viana",9758,266,2.7259684361549498E-2]
["Norte","Vila Pavão",1510,16,1.0596026490066225E-2]
["Central","Vila Valério",2160,18,8.3333333333333332E-3]
["Metropolitana","Vila Velha",81049,2562,3.1610507224024975E-2,null,null,null,null," "]
["Metropolitana","Vitória",64805,3486,5.3792145667772545E-2]
[null,null,null,null,null,null,null,null,null," "]
[null,"Total Norte",{"$f":"SUMIF($A$2:$A$79,\"Norte\",C$2:C$79)","v":64626},{"$f":"SUMIF($A$2:$A$79,\"Norte\",D$2:D$79)","v":1426},{"$f":"D81/C81","v":2.2065422585337172E-2}]
[null,"Total Central",{"$f":"SUMIF($A$2:$A$79,\"Central\",C$2:C$79)","v":80477},{"$f":"SUMIF($A$2:$A$79,\"Central\",D$2:D$79)","v":964},{"$f":"D82/C82","v":1.1978577730283187E-2}]
[null,"Total Metropolitana",{"$f":"SUMIF($A$2:$A$79,\"Metropolitana\",C$2:C$79)","v":367065},{"$f":"SUMIF($A$2:$A$79,\"Metropolitana\",D$2:D$79)","v":12107},3.2983259095800473E-2]
[null,"Total Sul",{"$f":"SUMIF($A$2:$A$79,\"sul\",C$2:C$79)","v":119230},{"$f":"SUMIF($A$2:$A$79,\"Sul\",D$2:D$79)","v":1497},1.2555564874612095E-2]
[null,"Total Espírito Santo",{"$f":"SUM(C2:C79)","v":631398},{"$f":"SUM(D81:D84)","v":15994},2.5331090690816252E-2]
[null,"HOMOGENEIDADE ENTRE MUNICÍPIOS",null,null,{"$f":"COUNTIF(E2:E79,\">=0,90\")/78","v":0}]
[]
["Cobertura Vacinal Covid19 dos Idosos de Março de 2025"]
["Vacina COVID-19 RECOMBINANTE SERUM/ZALIKA e COVID-19 Moderna (Spikevax)"]
["Período avaliado: Últimos 6meses - Out/2024 a Mar/2025"]
["Faixa Etária: 60+"]
["Fonte: https://www.vacinaeconfia.es.gov.br"]
["*Dados parciais:"]
["**Dados referente às doses aplicadas no período de Outubro/2024 a Março/ 2025"]
["População proporcional extraída do Censo IBGE 2022"]
["Cobertura Calculada por município de residência do cidadão (no Vacina e Confia, a origem da informação é o endereço que consta no cadastro do cidadão preenchido manualmente por meio do autocadastro ou pelo cadastro realizado por um profissional de saúde no momento do atendimento)."]
["Homogeineidade: O cálculo da Homogeineidade entre vacinas é feito de acordo com a pactuação estabelecida no Plano Plurianual (PPA) vigente no período 2024-2027."]
[]
["Observações:"]
["1. Imunobiológicos que foram recebidos parcialmente pelo estado no mês de Março/2025, sendo distribuídos em quantidades reduzidas às regionais e municípios:"]
["SORO ANTIRRÁBICO HUMANO, IMUNOGLOBULINA ANTIRRÁBICA HUMANA, VACINA COVID-19 MODERNA (SPIKEVAX), VACINA CONTRA VARICELA.\n"]
["2. Imunobiológicos indisponíveis no mês de Março/2025, não sendo possível a distribuição às regionais e municípios: "]
["VACINA TRÍPLICE ACELULAR (DTPa) - CRIE"]

{"sheet":"PROTEÇÃO","index":14,"n_rows":0,"n_cols":0,"rows_kept":0,"cut":false,"hidden":false,"merged":[]}

{"sheet":"cálculos1","index":15,"n_rows":96,"n_cols":16,"rows_kept":96,"cut":false,"hidden":true,"merged":[[0,2,0,3],[0,4,0,11]]}
[null,null,0.9,null,0.95]
["Regional ","Município","Cobertura Vacinal BCG","Cobertura Vacinal Rotavírus","Cobertura Vacinal Pentavalente","Cobertura Vacinal Poliomielite ","Cobertura Vacinal Pneumo 10","Cobertura Vacinal Tríplice Viral","Cobertura Vacinal Meningo C","Cobertura Vacinal Febre Amarela","Cobertura Vacinal Hepatite A","Cobertura Varicela","META 90%","META 95%","ATINGIRAM META","PQA-VS"]
["Metropolitana","Afonso Cláudio",{"$f":"'CV Rotina <2A - procedência'!H3","v":0.97674418604651159},{"$f":"'CV Rotina <2A - procedência'!P3","v":0.91860465116279066},{"$f":"'CV Rotina <2A - procedência'!J3","v":0.98837209302325579},{"$f":"'CV Rotina <2A - procedência'!L3","v":0.95348837209302328},{"$f":"'CV Rotina <2A - procedência'!N3","v":0.87209302325581395},{"$f":"'CV Rotina <2A - procedência'!X3","v":1.069767441860465},{"$f":"'CV Rotina <2A - procedência'!R3","v":0.95348837209302328},{"$f":"'CV Rotina <2A - procedência'!T3","v":1},{"$f":"'CV Rotina <2A - procedência'!V3","v":1.0930232558139534},{"$f":"'CV Rotina <2A - procedência'!Z3","v":1.4069767441860466},{"$f":"COUNTIF(C3:D3,\">=0,9\")","v":2},{"$f":"COUNTIFS(E3:L3,\">=0,95\")","v":7},{"$f":"SUM(M3:N3)","v":9},{"$f":"COUNTIF(E3:H3,\">=0,95\")","v":3}]
["Norte","Água Doce do Norte",{"$f":"'CV Rotina <2A - procedência'!H4","v":0.25490196078431371},{"$f":"'CV Rotina <2A - procedência'!P4","v":0.58823529411764708},{"$f":"'CV Rotina <2A - procedência'!J4","v":0.70588235294117652},{"$f":"'CV Rotina <2A - procedência'!L4","v":0.68627450980392157},{"$f":"'CV Rotina <2A - procedência'!N4","v":0.6470588235294118},{"$f":"'CV Rotina <2A - procedência'!X4","v":0.86274509803921573},{"$f":"'CV Rotina <2A - procedência'!R4","v":0.74509803921568629},{"$f":"'CV Rotina <2A - procedência'!T4","v":0.84313725490196079},{"$f":"'CV Rotina <2A - procedência'!V4","v":0.6470588235294118},{"$f":"'CV Rotina <2A - procedência'!Z4","v":0.33333333333333331},0,0,{"$f":"SUM(M4:N4)","v":0},{"$f":"COUNTIF(E4:H4,\">=0,95\")","v":0}]
["Central","Águia Branca",{"$f":"'CV Rotina <2A - procedência'!H5","v":0.41860465116279072},{"$f":"'CV Rotina <2A - procedência'!P5","v":0.51162790697674421},{"$f":"'CV Rotina <2A - procedência'!J5","v":0.86046511627906974},{"$f":"'CV Rotina <2A - procedência'!L5","v":0.88372093023255816},{"$f":"'CV Rotina <2A - procedência'!N5","v":0.53488372093023251},{"$f":"'CV Rotina <2A - procedência'!X5","v":0.93023255813953487},{"$f":"'CV Rotina <2A - procedência'!R5","v":0.81395348837209303},{"$f":"'CV Rotina <2A - procedência'!T5","v":1.0232558139534884},{"$f":"'CV Rotina <2A - procedência'!V5","v":0.81395348837209303},{"$f":"'CV Rotina <2A - procedência'!Z5","v":0.88372093023255816},0,1,1,0]
["Sul","Alegre",{"$f":"'CV Rotina <2A - procedência'!H6","v":0.40677966101694918},{"$f":"'CV Rotina <2A - procedência'!P6","v":0.96610169491525422},{"$f":"'CV Rotina <2A - procedência'!J6","v":1.2203389830508475},{"$f":"'CV Rotina <2A - procedência'!L6","v":1.0508474576271187},{"$f":"'CV Rotina <2A - procedência'!N6","v":0.76271186440677963},{"$f":"'CV Rotina <2A - procedência'!X6","v":1.423728813559322},{"$f":"'CV Rotina <2A - procedência'!R6","v":1.2372881355932204},{"$f":"'CV Rotina <2A - procedência'!T6","v":1.1694915254237288},{"$f":"'CV Rotina <2A - procedência'!V6","v":1.3728813559322033},{"$f":"'CV Rotina <2A - procedência'!Z6","v":1.5932203389830508},1,7,8,3]
["Sul","Alfredo Chaves",{"$f":"'CV Rotina <2A - procedência'!H7","v":0.44444444444444442},{"$f":"'CV Rotina <2A - procedência'!P7","v":0.62962962962962965},{"$f":"'CV Rotina <2A - procedência'!J7","v":0.96296296296296291},{"$f":"'CV Rotina <2A - procedência'!L7","v":0.88888888888888884},{"$f":"'CV Rotina <2A - procedência'!N7","v":0.48148148148148145},{"$f":"'CV Rotina <2A - procedência'!X7","v":1.2592592592592593},{"$f":"'CV Rotina <2A - procedência'!R7","v":0.88888888888888884},{"$f":"'CV Rotina <2A - procedência'!T7","v":1.1111111111111112},{"$f":"'CV Rotina <2A - procedência'!V7","v":1.6296296296296295},{"$f":"'CV Rotina <2A - procedência'!Z7","v":1.1851851851851851},0,5,5,2]
["Central","Alto Rio Novo",{"$f":"'CV Rotina <2A - procedência'!H8","v":0.42105263157894735},{"$f":"'CV Rotina <2A - procedência'!P8","v":1.263157894736842},{"$f":"'CV Rotina <2A - procedência'!J8","v":1.3157894736842106},{"$f":"'CV Rotina <2A - procedência'!L8","v":1.3157894736842106},{"$f":"'CV Rotina <2A - procedência'!N8","v":1.263157894736842},{"$f":"'CV Rotina <2A - procedência'!X8","v":1.1052631578947369},{"$f":"'CV Rotina <2A - procedência'!R8","v":1.4210526315789473},{"$f":"'CV Rotina <2A - procedência'!T8","v":1.4736842105263157},{"$f":"'CV Rotina <2A - procedência'!V8","v":1.1578947368421053},{"$f":"'CV Rotina <2A - procedência'!Z8","v":1.368421052631579},1,8,9,4]
["Sul","Anchieta",{"$f":"'CV Rotina <2A - procedência'!H9","v":0.52054794520547942},{"$f":"'CV Rotina <2A - procedência'!P9","v":1.4246575342465753},{"$f":"'CV Rotina <2A - procedência'!J9","v":1.2876712328767124},{"$f":"'CV Rotina <2A - procedência'!L9","v":1.2465753424657535},{"$f":"'CV Rotina <2A - procedência'!N9","v":1.3835616438356164},{"$f":"'CV Rotina <2A - procedência'!X9","v":1.1369863013698631},{"$f":"'CV Rotina <2A - procedência'!R9","v":1.1232876712328768},{"$f":"'CV Rotina <2A - procedência'!T9","v":1.1917808219178083},{"$f":"'CV Rotina <2A - procedência'!V9","v":1.3972602739726028},{"$f":"'CV Rotina <2A - procedência'!Z9","v":1.2328767123287672},1,8,9,4]
["Sul","Apiacá",{"$f":"'CV Rotina <2A - procedência'!H10","v":1},{"$f":"'CV Rotina <2A - procedência'!P10","v":1.0526315789473684},{"$f":"'CV Rotina <2A - procedência'!J10","v":0.68421052631578949},{"$f":"'CV Rotina <2A - procedência'!L10","v":0.63157894736842102},{"$f":"'CV Rotina <2A - procedência'!N10","v":1.0526315789473684},{"$f":"'CV Rotina <2A - procedência'!X10","v":0.78947368421052633},{"$f":"'CV Rotina <2A - procedência'!R10","v":0.84210526315789469},{"$f":"'CV Rotina <2A - procedência'!T10","v":1.1052631578947369},{"$f":"'CV Rotina <2A - procedência'!V10","v":0.73684210526315785},{"$f":"'CV Rotina <2A - procedência'!Z10","v":0.84210526315789469},2,2,4,1]
["Metropolitana","Aracruz",{"$f":"'CV Rotina <2A - procedência'!H11","v":0.81558441558441563},{"$f":"'CV Rotina <2A - procedência'!P11","v":0.83116883116883122},{"$f":"'CV Rotina <2A - procedência'!J11","v":0.8441558441558441},{"$f":"'CV Rotina <2A - procedência'!L11","v":0.82597402597402603},{"$f":"'CV Rotina <2A - procedência'!N11","v":0.72987012987012989},{"$f":"'CV Rotina <2A - procedência'!X11","v":0.95324675324675323},{"$f":"'CV Rotina <2A - procedência'!R11","v":0.79480519480519485},{"$f":"'CV Rotina <2A - procedência'!T11","v":0.76103896103896107},{"$f":"'CV Rotina <2A - procedência'!V11","v":0.97142857142857142},{"$f":"'CV Rotina <2A - procedência'!Z11","v":0.87272727272727268},0,2,2,1]
["Sul","Atilio Vivacqua",{"$f":"'CV Rotina <2A - procedência'!H12","v":0.15},{"$f":"'CV Rotina <2A - procedência'!P12","v":1.95},{"$f":"'CV Rotina <2A - procedência'!J12","v":2.25},{"$f":"'CV Rotina <2A - procedência'!L12","v":2.2000000000000002},{"$f":"'CV Rotina <2A - procedência'!N12","v":2},{"$f":"'CV Rotina <2A - procedência'!X12","v":1.65},{"$f":"'CV Rotina <2A - procedência'!R12","v":2.25},{"$f":"'CV Rotina <2A - procedência'!T12","v":1.65},{"$f":"'CV Rotina <2A - procedência'!V12","v":1.75},{"$f":"'CV Rotina <2A - procedência'!Z12","v":1.1499999999999999},1,8,9,4]
["Central","Baixo Guandu",{"$f":"'CV Rotina <2A - procedência'!H13","v":0.39047619047619048},{"$f":"'CV Rotina <2A - procedência'!P13","v":0.61904761904761907},{"$f":"'CV Rotina <2A - procedência'!J13","v":0.7142857142857143},{"$f":"'CV Rotina <2A - procedência'!L13","v":0.7142857142857143},{"$f":"'CV Rotina <2A - procedência'!N13","v":0.60952380952380958},{"$f":"'CV Rotina <2A - procedência'!X13","v":0.80952380952380953},{"$f":"'CV Rotina <2A - procedência'!R13","v":0.68571428571428572},{"$f":"'CV Rotina <2A - procedência'!T13","v":0.88571428571428568},{"$f":"'CV Rotina <2A - procedência'!V13","v":0.93333333333333335},{"$f":"'CV Rotina <2A - procedência'!Z13","v":0.78095238095238095},0,0,0,0]
["Norte","Barra de São Francisco",{"$f":"'CV Rotina <2A - procedência'!H14","v":0.67114093959731547},{"$f":"'CV Rotina <2A - procedência'!P14","v":0.71812080536912748},{"$f":"'CV Rotina <2A - procedência'!J14","v":0.97986577181208057},{"$f":"'CV Rotina <2A - procedência'!L14","v":0.97986577181208057},{"$f":"'CV Rotina <2A - procedência'!N14","v":0.71140939597315433},{"$f":"'CV Rotina <2A - procedência'!X14","v":0.83892617449664431},{"$f":"'CV Rotina <2A - procedência'!R14","v":0.80536912751677847},{"$f":"'CV Rotina <2A - procedência'!T14","v":0.83221476510067116},{"$f":"'CV Rotina <2A - procedência'!V14","v":0.77852348993288589},{"$f":"'CV Rotina <2A - procedência'!Z14","v":0.95973154362416102},0,3,3,2]
["Norte","Boa Esperança",{"$f":"'CV Rotina <2A - procedência'!H15","v":0.40350877192982454},{"$f":"'CV Rotina <2A - procedência'!P15","v":0.91228070175438591},{"$f":"'CV Rotina <2A - procedência'!J15","v":0.84210526315789469},{"$f":"'CV Rotina <2A - procedência'!L15","v":0.82456140350877194},{"$f":"'CV Rotina <2A - procedência'!N15","v":0.82456140350877194},{"$f":"'CV Rotina <2A - procedência'!X15","v":0.73684210526315785},{"$f":"'CV Rotina <2A - procedência'!R15","v":0.84210526315789469},{"$f":"'CV Rotina <2A - procedência'!T15","v":0.8771929824561403},{"$f":"'CV Rotina <2A - procedência'!V15","v":0.96491228070175439},{"$f":"'CV Rotina <2A - procedência'!Z15","v":0.91228070175438591},1,1,2,0]
["Sul","Bom Jesus do Norte",{"$f":"'CV Rotina <2A - procedência'!H16","v":1.375},{"$f":"'CV Rotina <2A - procedência'!P16","v":1.1875},{"$f":"'CV Rotina <2A - procedência'!J16","v":1.8125},{"$f":"'CV Rotina <2A - procedência'!L16","v":1.8125},{"$f":"'CV Rotina <2A - procedência'!N16","v":1.1875},{"$f":"'CV Rotina <2A - procedência'!X16","v":1.4375},{"$f":"'CV Rotina <2A - procedência'!R16","v":1.125},{"$f":"'CV Rotina <2A - procedência'!T16","v":2},{"$f":"'CV Rotina <2A - procedência'!V16","v":1.8125},{"$f":"'CV Rotina <2A - procedência'!Z16","v":0.9375},2,7,9,4]
["Metropolitana","Brejetuba",{"$f":"'CV Rotina <2A - procedência'!H17","v":0.68},{"$f":"'CV Rotina <2A - procedência'!P17","v":1.08},{"$f":"'CV Rotina <2A - procedência'!J17","v":0.72},{"$f":"'CV Rotina <2A - procedência'!L17","v":0.76},{"$f":"'CV Rotina <2A - procedência'!N17","v":0.98},{"$f":"'CV Rotina <2A - procedência'!X17","v":1.08},{"$f":"'CV Rotina <2A - procedência'!R17","v":0.9},{"$f":"'CV Rotina <2A - procedência'!T17","v":0.62},{"$f":"'CV Rotina <2A - procedência'!V17","v":0.9},{"$f":"'CV Rotina <2A - procedência'!Z17","v":0.84},1,2,3,2]
["Sul","Cachoeiro de Itapemirim",{"$f":"'CV Rotina <2A - procedência'!H18","v":2.8840262582056893},{"$f":"'CV Rotina <2A - procedência'!P18","v":1.2144420131291029},{"$f":"'CV Rotina <2A - procedência'!J18","v":1.2450765864332605},{"$f":"'CV Rotina <2A - procedência'!L18","v":1.2231947483588621},{"$f":"'CV Rotina <2A - procedência'!N18","v":1.0765864332603938},{"$f":"'CV Rotina <2A - procedência'!X18","v":1.288840262582057},{"$f":"'CV Rotina <2A - procedência'!R18","v":1.2363238512035011},{"$f":"'CV Rotina <2A - procedência'!T18","v":1.0415754923413567},{"$f":"'CV Rotina <2A - procedência'!V18","v":1.3107221006564551},{"$f":"'CV Rotina <2A - procedência'!Z18","v":1.2210065645514223},2,8,10,4]
["Metropolitana","Cariacica",{"$f":"'CV Rotina <2A - procedência'!H19","v":0.58640458640458637},{"$f":"'CV Rotina <2A - procedência'!P19","v":0.85339885339885335},{"$f":"'CV Rotina <2A - procedência'!J19","v":0.90335790335790334},{"$f":"'CV Rotina <2A - procedência'!L19","v":0.87469287469287471},{"$f":"'CV Rotina <2A - procedência'!N19","v":0.75757575757575757},{"$f":"'CV Rotina <2A - procedência'!X19","v":0.93202293202293207},{"$f":"'CV Rotina <2A - procedência'!R19","v":0.86732186732186733},{"$f":"'CV Rotina <2A - procedência'!T19","v":0.75266175266175261},{"$f":"'CV Rotina <2A - procedência'!V19","v":0.91973791973791974},{"$f":"'CV Rotina <2A - procedência'!Z19","v":0.67649467649467654},0,0,0,0]
["Sul","Castelo",{"$f":"'CV Rotina <2A - procedência'!H20","v":0.67708333333333337},{"$f":"'CV Rotina <2A - procedência'!P20","v":0.92708333333333337},{"$f":"'CV Rotina <2A - procedência'!J20","v":1.0208333333333333},{"$f":"'CV Rotina <2A - procedência'!L20","v":0.98958333333333337},{"$f":"'CV Rotina <2A - procedência'!N20","v":0.8125},{"$f":"'CV Rotina <2A - procedência'!X20","v":1.125},{"$f":"'CV Rotina <2A - procedência'!R20","v":1.03125},{"$f":"'CV Rotina <2A - procedência'!T20","v":1.03125},{"$f":"'CV Rotina <2A - procedência'!V20","v":1.1458333333333333},{"$f":"'CV Rotina <2A - procedência'!Z20","v":0.60416666666666663},1,6,7,3]
["Central","Colatina",{"$f":"'CV Rotina <2A - procedência'!H21","v":2.24869109947644},{"$f":"'CV Rotina <2A - procedência'!P21","v":0.8586387434554974},{"$f":"'CV Rotina <2A - procedência'!J21","v":1.0052356020942408},{"$f":"'CV Rotina <2A - procedência'!L21","v":1.0052356020942408},{"$f":"'CV Rotina <2A - procedência'!N21","v":0.72251308900523559},{"$f":"'CV Rotina <2A - procedência'!X21","v":0.94240837696335078},{"$f":"'CV Rotina <2A - procedência'!R21","v":1.0235602094240839},{"$f":"'CV Rotina <2A - procedência'!T21","v":0.80104712041884818},{"$f":"'CV Rotina <2A - procedência'!V21","v":0.86910994764397909},{"$f":"'CV Rotina <2A - procedência'!Z21","v":0.74607329842931935},1,3,4,2]
["Norte","Conceição da Barra",{"$f":"'CV Rotina <2A - procedência'!H22","v":4.6728971962616821E-2},{"$f":"'CV Rotina <2A - procedência'!P22","v":0.74766355140186913},{"$f":"'CV Rotina <2A - procedência'!J22","v":0.80373831775700932},{"$f":"'CV Rotina <2A - procedência'!L22","v":0.82242990654205606},{"$f":"'CV Rotina <2A - procedência'!N22","v":0.7009345794392523},{"$f":"'CV Rotina <2A - procedência'!X22","v":0.99065420560747663},{"$f":"'CV Rotina <2A - procedência'!R22","v":0.76635514018691586},{"$f":"'CV Rotina <2A - procedência'!T22","v":0.91588785046728971},{"$f":"'CV Rotina <2A - procedência'!V22","v":0.88785046728971961},{"$f":"'CV Rotina <2A - procedência'!Z22","v":0.71962616822429903},0,1,1,1]
["Metropolitana","Conceição do Castelo",{"$f":"'CV Rotina <2A - procedência'!H23","v":0},{"$f":"'CV Rotina <2A - procedência'!P23","v":1.1351351351351351},{"$f":"'CV Rotina <2A - procedência'!J23","v":1.0540540540540539},{"$f":"'CV Rotina <2A - procedência'!L23","v":1.027027027027027},{"$f":"'CV Rotina <2A - procedência'!N23","v":1.027027027027027},{"$f":"'CV Rotina <2A - procedência'!X23","v":0.94594594594594594},{"$f":"'CV Rotina <2A - procedência'!R23","v":0.78378378378378377},{"$f":"'CV Rotina <2A - procedência'!T23","v":0.97297297297297303},{"$f":"'CV Rotina <2A - procedência'!V23","v":0.83783783783783783},{"$f":"'CV Rotina <2A - procedência'!Z23","v":1.027027027027027},1,5,6,3]
["Sul","Divino de São Lourenço",{"$f":"'CV Rotina <2A - procedência'!H24","v":0.53846153846153844},{"$f":"'CV Rotina <2A - procedência'!P24","v":0.69230769230769229},{"$f":"'CV Rotina <2A - procedência'!J24","v":0.61538461538461542},{"$f":"'CV Rotina <2A - procedência'!L24","v":0.61538461538461542},{"$f":"'CV Rotina <2A - procedência'!N24","v":0.61538461538461542},{"$f":"'CV Rotina <2A - procedência'!X24","v":1.7692307692307692},{"$f":"'CV Rotina <2A - procedência'!R24","v":0.76923076923076927},{"$f":"'CV Rotina <2A - procedência'!T24","v":2.1538461538461537},{"$f":"'CV Rotina <2A - procedência'!V24","v":1.2307692307692308},{"$f":"'CV Rotina <2A - procedência'!Z24","v":1.3076923076923077},0,4,4,1]
["Metropolitana","Domingos Martins",{"$f":"'CV Rotina <2A - procedência'!H25","v":0.2},{"$f":"'CV Rotina <2A - procedência'!P25","v":1.04},{"$f":"'CV Rotina <2A - procedência'!J25","v":1.08},{"$f":"'CV Rotina <2A - procedência'!L25","v":1.05},{"$f":"'CV Rotina <2A - procedência'!N25","v":0.94},{"$f":"'CV Rotina <2A - procedência'!X25","v":0.91},{"$f":"'CV Rotina <2A - procedência'!R25","v":0.96},{"$f":"'CV Rotina <2A - procedência'!T25","v":1.03},{"$f":"'CV Rotina <2A - procedência'!V25","v":1.02},{"$f":"'CV Rotina <2A - procedência'!Z25","v":1.23},1,6,7,2]
["Sul","Dores do Rio Preto",{"$f":"'CV Rotina <2A - procedência'!H26","v":0.95454545454545459},{"$f":"'CV Rotina <2A - procedência'!P26","v":1.3181818181818181},{"$f":"'CV Rotina <2A - procedência'!J26","v":1.4090909090909092},{"$f":"'CV Rotina <2A - procedência'!L26","v":1.4090909090909092},{"$f":"'CV Rotina <2A - procedência'!N26","v":0.90909090909090906},{"$f":"'CV Rotina <2A - procedência'!X26","v":1.1363636363636365},{"$f":"'CV Rotina <2A - procedência'!R26","v":0.86363636363636365},{"$f":"'CV Rotina <2A - procedência'!T26","v":1},{"$f":"'CV Rotina <2A - procedência'!V26","v":1.2272727272727273},{"$f":"'CV Rotina <2A - procedência'!Z26","v":0.77272727272727271},2,5,7,3]
["Norte","Ecoporanga",{"$f":"'CV Rotina <2A - procedência'!H27","v":0.23943661971830985},{"$f":"'CV Rotina <2A - procedência'!P27","v":0.84507042253521125},{"$f":"'CV Rotina <2A - procedência'!J27","v":0.80281690140845074},{"$f":"'CV Rotina <2A - procedência'!L27","v":0.77464788732394363},{"$f":"'CV Rotina <2A - procedência'!N27","v":0.78873239436619713},{"$f":"'CV Rotina <2A - procedência'!X27","v":0.88732394366197187},{"$f":"'CV Rotina <2A - procedência'!R27","v":0.71830985915492962},{"$f":"'CV Rotina <2A - procedência'!T27","v":0.94366197183098588},{"$f":"'CV Rotina <2A - procedência'!V27","v":0.76056338028169013},{"$f":"'CV Rotina <2A - procedência'!Z27","v":0.53521126760563376},0,0,0,0]
["Metropolitana","Fundão",{"$f":"'CV Rotina <2A - procedência'!H28","v":0.25806451612903225},{"$f":"'CV Rotina <2A - procedência'!P28","v":0.90322580645161288},{"$f":"'CV Rotina <2A - procedência'!J28","v":0.83870967741935487},{"$f":"'CV Rotina <2A - procedência'!L28","v":0.83870967741935487},{"$f":"'CV Rotina <2A - procedência'!N28","v":0.82258064516129037},{"$f":"'CV Rotina <2A - procedência'!X28","v":0.9838709677419355},{"$f":"'CV Rotina <2A - procedência'!R28","v":0.91935483870967738},{"$f":"'CV Rotina <2A - procedência'!T28","v":0.61290322580645162},{"$f":"'CV Rotina <2A - procedência'!V28","v":0.88709677419354838},{"$f":"'CV Rotina <2A - procedência'!Z28","v":0.79032258064516125},1,1,2,1]
["Central","Governador Lindenberg",{"$f":"'CV Rotina <2A - procedência'!H29","v":0.25806451612903225},{"$f":"'CV Rotina <2A - procedência'!P29","v":0.77419354838709675},{"$f":"'CV Rotina <2A - procedência'!J29","v":0.70967741935483875},{"$f":"'CV Rotina <2A - procedência'!L29","v":0.74193548387096775},{"$f":"'CV Rotina <2A - procedência'!N29","v":0.61290322580645162},{"$f":"'CV Rotina <2A - procedência'!X29","v":0.87096774193548387},{"$f":"'CV Rotina <2A - procedência'!R29","v":0.64516129032258063},{"$f":"'CV Rotina <2A - procedência'!T29","v":0.70967741935483875},{"$f":"'CV Rotina <2A - procedência'!V29","v":0.74193548387096775},{"$f":"'CV Rotina <2A - procedência'!Z29","v":0.5161290322580645},0,0,0,0]
["Sul","Guaçuí",{"$f":"'CV Rotina <2A - procedência'!H30","v":0.96511627906976749},{"$f":"'CV Rotina <2A - procedência'!P30","v":1},{"$f":"'CV Rotina <2A - procedência'!J30","v":0.89534883720930236},{"$f":"'CV Rotina <2A - procedência'!L30","v":0.87209302325581395},{"$f":"'CV Rotina <2A - procedência'!N30","v":1.0348837209302326},{"$f":"'CV Rotina <2A - procedência'!X30","v":1.058139534883721},{"$f":"'CV Rotina <2A - procedência'!R30","v":0.89534883720930236},{"$f":"'CV Rotina <2A - procedência'!T30","v":0.88372093023255816},{"$f":"'CV Rotina <2A - procedência'!V30","v":0.88372093023255816},{"$f":"'CV Rotina <2A - procedência'!Z30","v":0.94186046511627908},2,2,4,2]
["Metropolitana","Guarapari",{"$f":"'CV Rotina <2A - procedência'!H31","v":0.91232227488151663},{"$f":"'CV Rotina <2A - procedência'!P31","v":0.93601895734597151},{"$f":"'CV Rotina <2A - procedência'!J31","v":0.85781990521327012},{"$f":"'CV Rotina <2A - procedência'!L31","v":0.85071090047393361},{"$f":"'CV Rotina <2A - procedência'!N31","v":0.90521327014218012},{"$f":"'CV Rotina <2A - procedência'!X31","v":0.80094786729857825},{"$f":"'CV Rotina <2A - procedência'!R31","v":0.88388625592417058},{"$f":"'CV Rotina <2A - procedência'!T31","v":0.6635071090047393},{"$f":"'CV Rotina <2A - procedência'!V31","v":0.92654028436018954},{"$f":"'CV Rotina <2A - procedência'!Z31","v":0.80568720379146919},2,0,2,0]
["Metropolitana","Ibatiba",{"$f":"'CV Rotina <2A - procedência'!H32","v":0.91954022988505746},{"$f":"'CV Rotina <2A - procedência'!P32","v":1.103448275862069},{"$f":"'CV Rotina <2A - procedência'!J32","v":1.1724137931034482},{"$f":"'CV Rotina <2A - procedência'!L32","v":1.1839080459770115},{"$f":"'CV Rotina <2A - procedência'!N32","v":0.97701149425287359},{"$f":"'CV Rotina <2A - procedência'!X32","v":1.0804597701149425},{"$f":"'CV Rotina <2A - procedência'!R32","v":1.2068965517241379},{"$f":"'CV Rotina <2A - procedência'!T32","v":0.94252873563218387},{"$f":"'CV Rotina <2A - procedência'!V32","v":1.2528735632183907},{"$f":"'CV Rotina <2A - procedência'!Z32","v":0.82758620689655171},2,6,8,4]
["Metropolitana","Ibiraçu",{"$f":"'CV Rotina <2A - procedência'!H33","v":0.23684210526315788},{"$f":"'CV Rotina <2A - procedência'!P33","v":0.94736842105263153},{"$f":"'CV Rotina <2A - procedência'!J33","v":0.84210526315789469},{"$f":"'CV Rotina <2A - procedência'!L33","v":0.81578947368421051},{"$f":"'CV Rotina <2A - procedência'!N33","v":0.92105263157894735},{"$f":"'CV Rotina <2A - procedência'!X33","v":1.0526315789473684},{"$f":"'CV Rotina <2A - procedência'!R33","v":1},{"$f":"'CV Rotina <2A - procedência'!T33","v":0.94736842105263153},{"$f":"'CV Rotina <2A - procedência'!V33","v":0.76315789473684215},{"$f":"'CV Rotina <2A - procedência'!Z33","v":0.52631578947368418},1,2,3,1]
["Sul","Ibitirama",{"$f":"'CV Rotina <2A - procedência'!H34","v":0.83333333333333337},{"$f":"'CV Rotina <2A - procedência'!P34","v":1.7},{"$f":"'CV Rotina <2A - procedência'!J34","v":1.4},{"$f":"'CV Rotina <2A - procedência'!L34","v":1.3333333333333333},{"$f":"'CV Rotina <2A - procedência'!N34","v":1.6333333333333333},{"$f":"'CV Rotina <2A - procedência'!X34","v":1.3333333333333333},{"$f":"'CV Rotina <2A - procedência'!R34","v":1.4333333333333333},{"$f":"'CV Rotina <2A - procedência'!T34","v":1.0666666666666667},{"$f":"'CV Rotina <2A - procedência'!V34","v":1.2333333333333334},{"$f":"'CV Rotina <2A - procedência'!Z34","v":0.8666666666666667},1,7,8,4]
["Sul","Iconha",{"$f":"'CV Rotina <2A - procedência'!H35","v":0.6},{"$f":"'CV Rotina <2A - procedência'!P35","v":1.1599999999999999},{"$f":"'CV Rotina <2A - procedência'!J35","v":1.04},{"$f":"'CV Rotina <2A - procedência'!L35","v":1.04},{"$f":"'CV Rotina <2A - procedência'!N35","v":1.04},{"$f":"'CV Rotina <2A - procedência'!X35","v":1.08},{"$f":"'CV Rotina <2A - procedência'!R35","v":1.24},{"$f":"'CV Rotina <2A - procedência'!T35","v":0.88},{"$f":"'CV Rotina <2A - procedência'!V35","v":1.08},{"$f":"'CV Rotina <2A - procedência'!Z35","v":1.72},{"$f":"COUNTIF(C35:D35,\">=0,9\")","v":1},{"$f":"COUNTIFS(E35:L35,\">=0,95\")","v":7},8,4]
["Sul","Irupi",{"$f":"'CV Rotina <2A - procedência'!H36","v":0.57446808510638303},{"$f":"'CV Rotina <2A - procedência'!P36","v":0.82978723404255317},{"$f":"'CV Rotina <2A - procedência'!J36","v":1.1063829787234043},{"$f":"'CV Rotina <2A - procedência'!L36","v":1.1276595744680851},{"$f":"'CV Rotina <2A - procedência'!N36","v":0.7021276595744681},{"$f":"'CV Rotina <2A - procedência'!X36","v":1.0638297872340425},{"$f":"'CV Rotina <2A - procedência'!R36","v":1.0212765957446808},{"$f":"'CV Rotina <2A - procedência'!T36","v":1.0851063829787233},{"$f":"'CV Rotina <2A - procedência'!V36","v":1.0638297872340425},{"$f":"'CV Rotina <2A - procedência'!Z36","v":0.80851063829787229},0,6,6,3]
["Metropolitana","Itaguaçu",{"$f":"'CV Rotina <2A - procedência'!H37","v":0.21951219512195122},{"$f":"'CV Rotina <2A - procedência'!P37","v":0.82926829268292679},{"$f":"'CV Rotina <2A - procedência'!J37","v":0.85365853658536583},{"$f":"'CV Rotina <2A - procedência'!L37","v":0.85365853658536583},{"$f":"'CV Rotina <2A - procedência'!N37","v":0.68292682926829273},{"$f":"'CV Rotina <2A - procedência'!X37","v":0.82926829268292679},{"$f":"'CV Rotina <2A - procedência'!R37","v":0.78048780487804881},{"$f":"'CV Rotina <2A - procedência'!T37","v":1.1219512195121952},{"$f":"'CV Rotina <2A - procedência'!V37","v":0.6097560975609756},{"$f":"'CV Rotina <2A - procedência'!Z37","v":0.53658536585365857},0,1,1,0]
["Sul","Itapemirim",{"$f":"'CV Rotina <2A - procedência'!H38","v":0.49484536082474229},{"$f":"'CV Rotina <2A - procedência'!P38","v":0.97938144329896903},{"$f":"'CV Rotina <2A - procedência'!J38","v":0.92783505154639179},{"$f":"'CV Rotina <2A - procedência'!L38","v":0.80412371134020622},{"$f":"'CV Rotina <2A - procedência'!N38","v":1.1134020618556701},{"$f":"'CV Rotina <2A - procedência'!X38","v":1.0412371134020619},{"$f":"'CV Rotina <2A - procedência'!R38","v":1.1237113402061856},{"$f":"'CV Rotina <2A - procedência'!T38","v":0.85567010309278346},{"$f":"'CV Rotina <2A - procedência'!V38","v":1.268041237113402},{"$f":"'CV Rotina <2A - procedência'!Z38","v":0.89690721649484539},1,4,5,2]
["Metropolitana","Itarana",{"$f":"'CV Rotina <2A - procedência'!H39","v":5.8823529411764705E-2},{"$f":"'CV Rotina <2A - procedência'!P39","v":0.58823529411764708},{"$f":"'CV Rotina <2A - procedência'!J39","v":0.88235294117647056},{"$f":"'CV Rotina <2A - procedência'!L39","v":0.8529411764705882},{"$f":"'CV Rotina <2A - procedência'!N39","v":0.47058823529411764},{"$f":"'CV Rotina <2A - procedência'!X39","v":0.97058823529411764},{"$f":"'CV Rotina <2A - procedência'!R39","v":0.76470588235294112},{"$f":"'CV Rotina <2A - procedência'!T39","v":0.97058823529411764},{"$f":"'CV Rotina <2A - procedência'!V39","v":0.82352941176470584},{"$f":"'CV Rotina <2A - procedência'!Z39","v":0.88235294117647056},0,2,2,1]
["Sul","Iúna",{"$f":"'CV Rotina <2A - procedência'!H40","v":0.64864864864864868},{"$f":"'CV Rotina <2A - procedência'!P40","v":0.81081081081081086},{"$f":"'CV Rotina <2A - procedência'!J40","v":0.93693693693693691},{"$f":"'CV Rotina <2A - procedência'!L40","v":0.87387387387387383},{"$f":"'CV Rotina <2A - procedência'!N40","v":0.73873873873873874},{"$f":"'CV Rotina <2A - procedência'!X40","v":0.95495495495495497},{"$f":"'CV Rotina <2A - procedência'!R40","v":0.90990990990990994},{"$f":"'CV Rotina <2A - procedência'!T40","v":0.98198198198198194},{"$f":"'CV Rotina <2A - procedência'!V40","v":1.1531531531531531},{"$f":"'CV Rotina <2A - procedência'!Z40","v":0.963963963963964},0,4,4,1]
["Norte","Jaguaré",{"$f":"'CV Rotina <2A - procedência'!H41","v":0.70542635658914732},{"$f":"'CV Rotina <2A - procedência'!P41","v":0.7441860465116279},{"$f":"'CV Rotina <2A - procedência'!J41","v":0.88372093023255816},{"$f":"'CV Rotina <2A - procedência'!L41","v":0.83720930232558144},{"$f":"'CV Rotina <2A - procedência'!N41","v":0.73643410852713176},{"$f":"'CV Rotina <2A - procedência'!X41","v":0.73643410852713176},{"$f":"'CV Rotina <2A - procedência'!R41","v":0.88372093023255816},{"$f":"'CV Rotina <2A - procedência'!T41","v":0.75968992248062017},{"$f":"'CV Rotina <2A - procedência'!V41","v":0.96124031007751942},{"$f":"'CV Rotina <2A - procedência'!Z41","v":0.60465116279069764},0,1,1,0]
["Sul","Jerônimo Monteiro",{"$f":"'CV Rotina <2A - procedência'!H42","v":0.11538461538461539},{"$f":"'CV Rotina <2A - procedência'!P42","v":1.2307692307692308},{"$f":"'CV Rotina <2A - procedência'!J42","v":1.1538461538461537},{"$f":"'CV Rotina <2A - procedência'!L42","v":1.1923076923076923},{"$f":"'CV Rotina <2A - procedência'!N42","v":1.0769230769230769},{"$f":"'CV Rotina <2A - procedência'!X42","v":1.4230769230769231},{"$f":"'CV Rotina <2A - procedência'!R42","v":1.0769230769230769},{"$f":"'CV Rotina <2A - procedência'!T42","v":1},{"$f":"'CV Rotina <2A - procedência'!V42","v":1.3846153846153846},{"$f":"'CV Rotina <2A - procedência'!Z42","v":1.1538461538461537},1,8,9,4]
["Metropolitana","João Neiva",{"$f":"'CV Rotina <2A - procedência'!H43","v":0.15625},{"$f":"'CV Rotina <2A - procedência'!P43","v":1.25},{"$f":"'CV Rotina <2A - procedência'!J43","v":1.21875},{"$f":"'CV Rotina <2A - procedência'!L43","v":1.09375},{"$f":"'CV Rotina <2A - procedência'!N43","v":1.0625},{"$f":"'CV Rotina <2A - procedência'!X43","v":0.96875},{"$f":"'CV Rotina <2A - procedência'!R43","v":1.1875},{"$f":"'CV Rotina <2A - procedência'!T43","v":1.3125},{"$f":"'CV Rotina <2A - procedência'!V43","v":1.0625},{"$f":"'CV Rotina <2A - procedência'!Z43","v":1.15625},1,8,9,4]
["Metropolitana","Laranja da Terra",{"$f":"'CV Rotina <2A - procedência'!H44","v":0.24},{"$f":"'CV Rotina <2A - procedência'!P44","v":1.44},{"$f":"'CV Rotina <2A - procedência'!J44","v":0.92},{"$f":"'CV Rotina <2A - procedência'!L44","v":0.96},{"$f":"'CV Rotina <2A - procedência'!N44","v":1.44},{"$f":"'CV Rotina <2A - procedência'!X44","v":1.08},{"$f":"'CV Rotina <2A - procedência'!R44","v":1.36},{"$f":"'CV Rotina <2A - procedência'!T44","v":1},{"$f":"'CV Rotina <2A - procedência'!V44","v":1.04},{"$f":"'CV Rotina <2A - procedência'!Z44","v":1.32},1,7,8,3]
["Central","Linhares",{"$f":"'CV Rotina <2A - procedência'!H45","v":0.9568965517241379},{"$f":"'CV Rotina <2A - procedência'!P45","v":0.8318965517241379},{"$f":"'CV Rotina <2A - procedência'!J45","v":0.82614942528735635},{"$f":"'CV Rotina <2A - procedência'!L45","v":0.80316091954022983},{"$f":"'CV Rotina <2A - procedência'!N45","v":0.73994252873563215},{"$f":"'CV Rotina <2A - procedência'!X45","v":0.7772988505747126},{"$f":"'CV Rotina <2A - procedência'!R45","v":0.87643678160919536},{"$f":"'CV Rotina <2A - procedência'!T45","v":0.74568965517241381},{"$f":"'CV Rotina <2A - procedência'!V45","v":0.75862068965517238},{"$f":"'CV Rotina <2A - procedência'!Z45","v":0.57902298850574707},1,0,1,0]
["Central","Mantenópolis",{"$f":"'CV Rotina <2A - procedência'!H46","v":0.23684210526315788},{"$f":"'CV Rotina <2A - procedência'!P46","v":0.71052631578947367},{"$f":"'CV Rotina <2A - procedência'!J46","v":1.0263157894736843},{"$f":"'CV Rotina <2A - procedência'!L46","v":0.97368421052631582},{"$f":"'CV Rotina <2A - procedência'!N46","v":0.57894736842105265},{"$f":"'CV Rotina <2A - procedência'!X46","v":0.92105263157894735},{"$f":"'CV Rotina <2A - procedência'!R46","v":1.0526315789473684},{"$f":"'CV Rotina <2A - procedência'!T46","v":1.3157894736842106},{"$f":"'CV Rotina <2A - procedência'!V46","v":0.71052631578947367},{"$f":"'CV Rotina <2A - procedência'!Z46","v":1.1578947368421053},0,5,5,2]
["Sul","Marataízes",{"$f":"'CV Rotina <2A - procedência'!H47","v":0.53333333333333333},{"$f":"'CV Rotina <2A - procedência'!P47","v":1.3083333333333333},{"$f":"'CV Rotina <2A - procedência'!J47","v":1.0416666666666667},{"$f":"'CV Rotina <2A - procedência'!L47","v":0.94166666666666665},{"$f":"'CV Rotina <2A - procedência'!N47","v":1.2749999999999999},{"$f":"'CV Rotina <2A - procedência'!X47","v":1.2416666666666667},{"$f":"'CV Rotina <2A - procedência'!R47","v":1.2083333333333333},{"$f":"'CV Rotina <2A - procedência'!T47","v":0.85833333333333328},{"$f":"'CV Rotina <2A - procedência'!V47","v":1.0583333333333333},{"$f":"'CV Rotina <2A - procedência'!Z47","v":0.78333333333333333},1,5,6,3]
["Metropolitana","Marechal Floriano",{"$f":"'CV Rotina <2A - procedência'!H48","v":9.375E-2},{"$f":"'CV Rotina <2A - procedência'!P48","v":0.625},{"$f":"'CV Rotina <2A - procedência'!J48","v":0.703125},{"$f":"'CV Rotina <2A - procedência'!L48","v":0.6875},{"$f":"'CV Rotina <2A - procedência'!N48","v":0.640625},{"$f":"'CV Rotina <2A - procedência'!X48","v":0.78125},{"$f":"'CV Rotina <2A - procedência'!R48","v":0.625},{"$f":"'CV Rotina <2A - procedência'!T48","v":0.84375},{"$f":"'CV Rotina <2A - procedência'!V48","v":0.96875},{"$f":"'CV Rotina <2A - procedência'!Z48","v":1.015625},0,2,2,0]
["Central","Marilândia",{"$f":"'CV Rotina <2A - procedência'!H49","v":0.43243243243243246},{"$f":"'CV Rotina <2A - procedência'!P49","v":1},{"$f":"'CV Rotina <2A - procedência'!J49","v":0.86486486486486491},{"$f":"'CV Rotina <2A - procedência'!L49","v":0.86486486486486491},{"$f":"'CV Rotina <2A - procedência'!N49","v":0.86486486486486491},{"$f":"'CV Rotina <2A - procedência'!X49","v":0.97297297297297303},{"$f":"'CV Rotina <2A - procedência'!R49","v":0.89189189189189189},{"$f":"'CV Rotina <2A - procedência'!T49","v":1.1351351351351351},{"$f":"'CV Rotina <2A - procedência'!V49","v":0.89189189189189189},{"$f":"'CV Rotina <2A - procedência'!Z49","v":0.91891891891891897},1,2,3,1]
["Sul","Mimoso do Sul",{"$f":"'CV Rotina <2A - procedência'!H50","v":0.30434782608695654},{"$f":"'CV Rotina <2A - procedência'!P50","v":1.3043478260869565},{"$f":"'CV Rotina <2A - procedência'!J50","v":1.2608695652173914},{"$f":"'CV Rotina <2A - procedência'!L50","v":1.0652173913043479},{"$f":"'CV Rotina <2A - procedência'!N50","v":1.0869565217391304},{"$f":"'CV Rotina <2A - procedência'!X50","v":0.89130434782608692},{"$f":"'CV Rotina <2A - procedência'!R50","v":1.173913043478261},{"$f":"'CV Rotina <2A - procedência'!T50","v":1.2391304347826086},{"$f":"'CV Rotina <2A - procedência'!V50","v":0.95652173913043481},{"$f":"'CV Rotina <2A - procedência'!Z50","v":1.1521739130434783},1,7,8,3]
["Norte","Montanha",{"$f":"'CV Rotina <2A - procedência'!H51","v":0.30158730158730157},{"$f":"'CV Rotina <2A - procedência'!P51","v":1.1428571428571428},{"$f":"'CV Rotina <2A - procedência'!J51","v":1.0952380952380953},{"$f":"'CV Rotina <2A - procedência'!L51","v":1.0793650793650793},{"$f":"'CV Rotina <2A - procedência'!N51","v":0.92063492063492058},{"$f":"'CV Rotina <2A - procedência'!X51","v":0.96825396825396826},{"$f":"'CV Rotina <2A - procedência'!R51","v":1.0634920634920635},{"$f":"'CV Rotina <2A - procedência'!T51","v":0.88888888888888884},{"$f":"'CV Rotina <2A - procedência'!V51","v":0.88888888888888884},{"$f":"'CV Rotina <2A - procedência'!Z51","v":1.0793650793650793},1,5,6,3]
["Norte","Mucurici",{"$f":"'CV Rotina <2A - procedência'!H52","v":0.125},{"$f":"'CV Rotina <2A - procedência'!P52","v":1.0625},{"$f":"'CV Rotina <2A - procedência'!J52","v":0.8125},{"$f":"'CV Rotina <2A - procedência'!L52","v":0.875},{"$f":"'CV Rotina <2A - procedência'!N52","v":1.125},{"$f":"'CV Rotina <2A - procedência'!X52","v":1},{"$f":"'CV Rotina <2A - procedência'!R52","v":1.0625},{"$f":"'CV Rotina <2A - procedência'!T52","v":1.375},{"$f":"'CV Rotina <2A - procedência'!V52","v":1.5625},{"$f":"'CV Rotina <2A - procedência'!Z52","v":1.5625},1,6,7,2]
["Sul","Muniz Freire",{"$f":"'CV Rotina <2A - procedência'!H53","v":0.69565217391304346},{"$f":"'CV Rotina <2A - procedência'!P53","v":1.2173913043478262},{"$f":"'CV Rotina <2A - procedência'!J53","v":1.2391304347826086},{"$f":"'CV Rotina <2A - procedência'!L53","v":1.173913043478261},{"$f":"'CV Rotina <2A - procedência'!N53","v":1.1956521739130435},{"$f":"'CV Rotina <2A - procedência'!X53","v":1.5},{"$f":"'CV Rotina <2A - procedência'!R53","v":1.1521739130434783},{"$f":"'CV Rotina <2A - procedência'!T53","v":1.4782608695652173},{"$f":"'CV Rotina <2A - procedência'!V53","v":1.326086956521739},{"$f":"'CV Rotina <2A - procedência'!Z53","v":1.4130434782608696},1,8,9,4]
["Sul","Muqui",{"$f":"'CV Rotina <2A - procedência'!H54","v":0.2608695652173913},{"$f":"'CV Rotina <2A - procedência'!P54","v":1.4782608695652173},{"$f":"'CV Rotina <2A - procedência'!J54","v":1.6086956521739131},{"$f":"'CV Rotina <2A - procedência'!L54","v":1.6086956521739131},{"$f":"'CV Rotina <2A - procedência'!N54","v":1.4347826086956521},{"$f":"'CV Rotina <2A - procedência'!X54","v":1.4347826086956521},{"$f":"'CV Rotina <2A - procedência'!R54","v":1.3478260869565217},{"$f":"'CV Rotina <2A - procedência'!T54","v":2.1739130434782608},{"$f":"'CV Rotina <2A - procedência'!V54","v":1.6521739130434783},{"$f":"'CV Rotina <2A - procedência'!Z54","v":1.5652173913043479},1,8,9,4]
["Norte","Nova Venécia",{"$f":"'CV Rotina <2A - procedência'!H55","v":0.70552147239263807},{"$f":"'CV Rotina <2A - procedência'!P55","v":1.0245398773006136},{"$f":"'CV Rotina <2A - procedência'!J55","v":0.95092024539877296},{"$f":"'CV Rotina <2A - procedência'!L55","v":0.87116564417177911},{"$f":"'CV Rotina <2A - procedência'!N55","v":0.86503067484662577},{"$f":"'CV Rotina <2A - procedência'!X55","v":0.93865030674846628},{"$f":"'CV Rotina <2A - procedência'!R55","v":0.95705521472392641},{"$f":"'CV Rotina <2A - procedência'!T55","v":0.90184049079754602},{"$f":"'CV Rotina <2A - procedência'!V55","v":0.73006134969325154},{"$f":"'CV Rotina <2A - procedência'!Z55","v":0.77300613496932513},1,2,3,1]
["Central","Pancas",{"$f":"'CV Rotina <2A - procedência'!H56","v":0.5},{"$f":"'CV Rotina <2A - procedência'!P56","v":0.74137931034482762},{"$f":"'CV Rotina <2A - procedência'!J56","v":0.84482758620689657},{"$f":"'CV Rotina <2A - procedência'!L56","v":0.82758620689655171},{"$f":"'CV Rotina <2A - procedência'!N56","v":0.77586206896551724},{"$f":"'CV Rotina <2A - procedência'!X56","v":0.98275862068965514},{"$f":"'CV Rotina <2A - procedência'!R56","v":0.87931034482758619},{"$f":"'CV Rotina <2A - procedência'!T56","v":0.89655172413793105},{"$f":"'CV Rotina <2A - procedência'!V56","v":0.89655172413793105},{"$f":"'CV Rotina <2A - procedência'!Z56","v":0.98275862068965514},0,2,2,1]
["Norte","Pedro Canário",{"$f":"'CV Rotina <2A - procedência'!H57","v":9.6774193548387094E-2},{"$f":"'CV Rotina <2A - procedência'!P57","v":0.63440860215053763},{"$f":"'CV Rotina <2A - procedência'!J57","v":0.88172043010752688},{"$f":"'CV Rotina <2A - procedência'!L57","v":0.81720430107526887},{"$f":"'CV Rotina <2A - procedência'!N57","v":0.70967741935483875},{"$f":"'CV Rotina <2A - procedência'!X57","v":1.010752688172043},{"$f":"'CV Rotina <2A - procedência'!R57","v":0.65591397849462363},{"$f":"'CV Rotina <2A - procedência'!T57","v":0.68817204301075274},{"$f":"'CV Rotina <2A - procedência'!V57","v":0.84946236559139787},{"$f":"'CV Rotina <2A - procedência'!Z57","v":0.65591397849462363},0,1,1,1]
["Norte","Pinheiros",{"$f":"'CV Rotina <2A - procedência'!H58","v":4.0540540540540543E-2},{"$f":"'CV Rotina <2A - procedência'!P58","v":1.027027027027027},{"$f":"'CV Rotina <2A - procedência'!J58","v":0.93243243243243246},{"$f":"'CV Rotina <2A - procedência'!L58","v":0.93243243243243246},{"$f":"'CV Rotina <2A - procedência'!N58","v":0.98648648648648651},{"$f":"'CV Rotina <2A - procedência'!X58","v":1.0405405405405406},{"$f":"'CV Rotina <2A - procedência'!R58","v":0.97297297297297303},{"$f":"'CV Rotina <2A - procedência'!T58","v":0.86486486486486491},{"$f":"'CV Rotina <2A - procedência'!V58","v":1.0135135135135136},{"$f":"'CV Rotina <2A - procedência'!Z58","v":0.78378378378378377},1,4,5,2]
["Sul","Piúma",{"$f":"'CV Rotina <2A - procedência'!H59","v":0.58064516129032262},{"$f":"'CV Rotina <2A - procedência'!P59","v":1.1290322580645162},{"$f":"'CV Rotina <2A - procedência'!J59","v":1.2419354838709677},{"$f":"'CV Rotina <2A - procedência'!L59","v":1.1612903225806452},{"$f":"'CV Rotina <2A - procedência'!N59","v":1.0483870967741935},{"$f":"'CV Rotina <2A - procedência'!X59","v":1.2258064516129032},{"$f":"'CV Rotina <2A - procedência'!R59","v":1.1935483870967742},{"$f":"'CV Rotina <2A - procedência'!T59","v":0.90322580645161288},{"$f":"'CV Rotina <2A - procedência'!V59","v":1.3387096774193548},{"$f":"'CV Rotina <2A - procedência'!Z59","v":0.82258064516129037},1,6,7,4]
["Norte","Ponto Belo",{"$f":"'CV Rotina <2A - procedência'!H60","v":7.1428571428571425E-2},{"$f":"'CV Rotina <2A - procedência'!P60","v":1.8571428571428572},{"$f":"'CV Rotina <2A - procedência'!J60","v":1.9285714285714286},{"$f":"'CV Rotina <2A - procedência'!L60","v":1.8571428571428572},{"$f":"'CV Rotina <2A - procedência'!N60","v":1.7142857142857142},{"$f":"'CV Rotina <2A - procedência'!X60","v":1.4285714285714286},{"$f":"'CV Rotina <2A - procedência'!R60","v":1.7857142857142858},{"$f":"'CV Rotina <2A - procedência'!T60","v":1.8571428571428572},{"$f":"'CV Rotina <2A - procedência'!V60","v":1.5714285714285714},{"$f":"'CV Rotina <2A - procedência'!Z60","v":1.4285714285714286},1,8,9,4]
["Sul","Presidente Kennedy",{"$f":"'CV Rotina <2A - procedência'!H61","v":0.13333333333333333},{"$f":"'CV Rotina <2A - procedência'!P61","v":1.0444444444444445},{"$f":"'CV Rotina <2A - procedência'!J61","v":1.1555555555555554},{"$f":"'CV Rotina <2A - procedência'!L61","v":1.1111111111111112},{"$f":"'CV Rotina <2A - procedência'!N61","v":1},{"$f":"'CV Rotina <2A - procedência'!X61","v":1.3555555555555556},{"$f":"'CV Rotina <2A - procedência'!R61","v":1.1333333333333333},{"$f":"'CV Rotina <2A - procedência'!T61","v":1.3111111111111111},{"$f":"'CV Rotina <2A - procedência'!V61","v":0.9555555555555556},{"$f":"'CV Rotina <2A - procedência'!Z61","v":0.93333333333333335},1,7,8,4]
["Central","Rio Bananal",{"$f":"'CV Rotina <2A - procedência'!H62","v":0.17142857142857143},{"$f":"'CV Rotina <2A - procedência'!P62","v":0.9285714285714286},{"$f":"'CV Rotina <2A - procedência'!J62","v":0.9285714285714286},{"$f":"'CV Rotina <2A - procedência'!L62","v":0.9285714285714286},{"$f":"'CV Rotina <2A - procedência'!N62","v":0.87142857142857144},{"$f":"'CV Rotina <2A - procedência'!X62","v":1.1428571428571428},{"$f":"'CV Rotina <2A - procedência'!R62","v":0.9},{"$f":"'CV Rotina <2A - procedência'!T62","v":1.1142857142857143},{"$f":"'CV Rotina <2A - procedência'!V62","v":0.97142857142857142},{"$f":"'CV Rotina <2A - procedência'!Z62","v":0.77142857142857146},1,3,4,1]
["Sul","Rio Novo do Sul",{"$f":"'CV Rotina <2A - procedência'!H63","v":0.625},{"$f":"'CV Rotina <2A - procedência'!P63","v":1.375},{"$f":"'CV Rotina <2A - procedência'!J63","v":2},{"$f":"'CV Rotina <2A - procedência'!L63","v":2},{"$f":"'CV Rotina <2A - procedência'!N63","v":1.3125},{"$f":"'CV Rotina <2A - procedência'!X63","v":1.6875},{"$f":"'CV Rotina <2A - procedência'!R63","v":1.4375},{"$f":"'CV Rotina <2A - procedência'!T63","v":1.4375},{"$f":"'CV Rotina <2A - procedência'!V63","v":1.75},{"$f":"'CV Rotina <2A - procedência'!Z63","v":1.6875},1,8,9,4]
["Metropolitana","Santa Leopoldina",{"$f":"'CV Rotina <2A - procedência'!H64","v":0.23529411764705882},{"$f":"'CV Rotina <2A - procedência'!P64","v":1.1764705882352942},{"$f":"'CV Rotina <2A - procedência'!J64","v":0.88235294117647056},{"$f":"'CV Rotina <2A - procedência'!L64","v":0.76470588235294112},{"$f":"'CV Rotina <2A - procedência'!N64","v":1.1176470588235294},{"$f":"'CV Rotina <2A - procedência'!X64","v":0.70588235294117652},{"$f":"'CV Rotina <2A - procedência'!R64","v":1},{"$f":"'CV Rotina <2A - procedência'!T64","v":1.411764705882353},{"$f":"'CV Rotina <2A - procedência'!V64","v":1.411764705882353},{"$f":"'CV Rotina <2A - procedência'!Z64","v":0.23529411764705882},1,4,5,1]
["Metropolitana","Santa Maria de Jetibá",{"$f":"'CV Rotina <2A - procedência'!H65","v":0.72455089820359286},{"$f":"'CV Rotina <2A - procedência'!P65","v":1},{"$f":"'CV Rotina <2A - procedência'!J65","v":0.84431137724550898},{"$f":"'CV Rotina <2A - procedência'!L65","v":0.86227544910179643},{"$f":"'CV Rotina <2A - procedência'!N65","v":0.94011976047904189},{"$f":"'CV Rotina <2A - procedência'!X65","v":0.95808383233532934},{"$f":"'CV Rotina <2A - procedência'!R65","v":0.88622754491017963},{"$f":"'CV Rotina <2A - procedência'!T65","v":0.77844311377245512},{"$f":"'CV Rotina <2A - procedência'!V65","v":0.95808383233532934},{"$f":"'CV Rotina <2A - procedência'!Z65","v":0.73652694610778446},1,2,3,1]
["Metropolitana","Santa Teresa",{"$f":"'CV Rotina <2A - procedência'!H66","v":2.3250000000000002},{"$f":"'CV Rotina <2A - procedência'!P66","v":0.8125},{"$f":"'CV Rotina <2A - procedência'!J66","v":0.78749999999999998},{"$f":"'CV Rotina <2A - procedência'!L66","v":0.78749999999999998},{"$f":"'CV Rotina <2A - procedência'!N66","v":0.71250000000000002},{"$f":"'CV Rotina <2A - procedência'!X66","v":0.71250000000000002},{"$f":"'CV Rotina <2A - procedência'!R66","v":0.92500000000000004},{"$f":"'CV Rotina <2A - procedência'!T66","v":0.8},{"$f":"'CV Rotina <2A - procedência'!V66","v":0.76249999999999996},{"$f":"'CV Rotina <2A - procedência'!Z66","v":0.7},1,0,1,0]
["Central","São Domingos do Norte",{"$f":"'CV Rotina <2A - procedência'!H67","v":0.44},{"$f":"'CV Rotina <2A - procedência'!P67","v":0.84},{"$f":"'CV Rotina <2A - procedência'!J67","v":1.04},{"$f":"'CV Rotina <2A - procedência'!L67","v":1.08},{"$f":"'CV Rotina <2A - procedência'!N67","v":0.8},{"$f":"'CV Rotina <2A - procedência'!X67","v":1.1200000000000001},{"$f":"'CV Rotina <2A - procedência'!R67","v":0.8},{"$f":"'CV Rotina <2A - procedência'!T67","v":1.04},{"$f":"'CV Rotina <2A - procedência'!V67","v":1.48},{"$f":"'CV Rotina <2A - procedência'!Z67","v":1.2},{"$f":"COUNTIF(C67:D67,\">=0,9\")","v":0},{"$f":"COUNTIFS(E67:L67,\">=0,95\")","v":6},6,3]
["Central","São Gabriel da Palha",{"$f":"'CV Rotina <2A - procedência'!H68","v":0.33636363636363636},{"$f":"'CV Rotina <2A - procedência'!P68","v":0.8545454545454545},{"$f":"'CV Rotina <2A - procedência'!J68","v":1.0363636363636364},{"$f":"'CV Rotina <2A - procedência'!L68","v":1.0363636363636364},{"$f":"'CV Rotina <2A - procedência'!N68","v":0.75454545454545452},{"$f":"'CV Rotina <2A - procedência'!X68","v":0.87272727272727268},{"$f":"'CV Rotina <2A - procedência'!R68","v":1.009090909090909},{"$f":"'CV Rotina <2A - procedência'!T68","v":0.94545454545454544},{"$f":"'CV Rotina <2A - procedência'!V68","v":0.9363636363636364},{"$f":"'CV Rotina <2A - procedência'!Z68","v":0.7},0,3,{"$f":"SUM(M68:N68)","v":3},{"$f":"COUNTIF(E68:H68,\">=0,95\")","v":2}]
["Sul","São José do Calçado",{"$f":"'CV Rotina <2A - procedência'!H69","v":0.625},{"$f":"'CV Rotina <2A - procedência'!P69","v":0.70833333333333337},{"$f":"'CV Rotina <2A - procedência'!J69","v":1.25},{"$f":"'CV Rotina <2A - procedência'!L69","v":1.25},{"$f":"'CV Rotina <2A - procedência'!N69","v":0.75},{"$f":"'CV Rotina <2A - procedência'!X69","v":0.95833333333333337},{"$f":"'CV Rotina <2A - procedência'!R69","v":0.875},{"$f":"'CV Rotina <2A - procedência'!T69","v":0.66666666666666663},{"$f":"'CV Rotina <2A - procedência'!V69","v":1.2916666666666667},{"$f":"'CV Rotina <2A - procedência'!Z69","v":1.3333333333333333},0,5,5,3]
["Norte","São Mateus",{"$f":"'CV Rotina <2A - procedência'!H70","v":1.5692640692640694},{"$f":"'CV Rotina <2A - procedência'!P70","v":0.82900432900432897},{"$f":"'CV Rotina <2A - procedência'!J70","v":0.90043290043290047},{"$f":"'CV Rotina <2A - procedência'!L70","v":0.89393939393939392},{"$f":"'CV Rotina <2A - procedência'!N70","v":0.76623376623376627},{"$f":"'CV Rotina <2A - procedência'!X70","v":0.90476190476190477},{"$f":"'CV Rotina <2A - procedência'!R70","v":0.87012987012987009},{"$f":"'CV Rotina <2A - procedência'!T70","v":0.77272727272727271},{"$f":"'CV Rotina <2A - procedência'!V70","v":0.87662337662337664},{"$f":"'CV Rotina <2A - procedência'!Z70","v":0.71645021645021645},1,0,1,0]
["Central","São Roque do Canaã",{"$f":"'CV Rotina <2A - procedência'!H71","v":0.21739130434782608},{"$f":"'CV Rotina <2A - procedência'!P71","v":0.67391304347826086},{"$f":"'CV Rotina <2A - procedência'!J71","v":0.69565217391304346},{"$f":"'CV Rotina <2A - procedência'!L71","v":0.63043478260869568},{"$f":"'CV Rotina <2A - procedência'!N71","v":0.54347826086956519},{"$f":"'CV Rotina <2A - procedência'!X71","v":0.86956521739130432},{"$f":"'CV Rotina <2A - procedência'!R71","v":0.60869565217391308},{"$f":"'CV Rotina <2A - procedência'!T71","v":0.56521739130434778},{"$f":"'CV Rotina <2A - procedência'!V71","v":0.30434782608695654},{"$f":"'CV Rotina <2A - procedência'!Z71","v":0.5},0,0,0,0]
["Metropolitana","Serra",{"$f":"'CV Rotina <2A - procedência'!H72","v":1.1116965226554267},{"$f":"'CV Rotina <2A - procedência'!P72","v":0.84984193888303472},{"$f":"'CV Rotina <2A - procedência'!J72","v":0.8566912539515279},{"$f":"'CV Rotina <2A - procedência'!L72","v":0.83350895679662806},{"$f":"'CV Rotina <2A - procedência'!N72","v":0.80031612223393045},{"$f":"'CV Rotina <2A - procedência'!X72","v":0.83877766069546889},{"$f":"'CV Rotina <2A - procedência'!R72","v":0.84035827186512113},{"$f":"'CV Rotina <2A - procedência'!T72","v":0.72602739726027399},{"$f":"'CV Rotina <2A - procedência'!V72","v":0.86722866174920965},{"$f":"'CV Rotina <2A - procedência'!Z72","v":0.77976817702845103},1,0,1,0]
["Central","Sooretama",{"$f":"'CV Rotina <2A - procedência'!H73","v":8.1632653061224483E-2},{"$f":"'CV Rotina <2A - procedência'!P73","v":1.0714285714285714},{"$f":"'CV Rotina <2A - procedência'!J73","v":1},{"$f":"'CV Rotina <2A - procedência'!L73","v":0.94897959183673475},{"$f":"'CV Rotina <2A - procedência'!N73","v":0.96938775510204078},{"$f":"'CV Rotina <2A - procedência'!X73","v":0.95918367346938771},{"$f":"'CV Rotina <2A - procedência'!R73","v":1.1326530612244898},{"$f":"'CV Rotina <2A - procedência'!T73","v":1.010204081632653},{"$f":"'CV Rotina <2A - procedência'!V73","v":0.93877551020408168},{"$f":"'CV Rotina <2A - procedência'!Z73","v":0.91836734693877553},1,5,6,3]
["Sul","Vargem Alta",{"$f":"'CV Rotina <2A - procedência'!H74","v":0.22},{"$f":"'CV Rotina <2A - procedência'!P74","v":1.26},{"$f":"'CV Rotina <2A - procedência'!J74","v":1.3},{"$f":"'CV Rotina <2A - procedência'!L74","v":1.22},{"$f":"'CV Rotina <2A - procedência'!N74","v":1.3},{"$f":"'CV Rotina <2A - procedência'!X74","v":1.1399999999999999},{"$f":"'CV Rotina <2A - procedência'!R74","v":1.32},{"$f":"'CV Rotina <2A - procedência'!T74","v":1.1599999999999999},{"$f":"'CV Rotina <2A - procedência'!V74","v":1.1599999999999999},{"$f":"'CV Rotina <2A - procedência'!Z74","v":1.46},1,8,9,4]
["Metropolitana","Venda Nova do Imigrante",{"$f":"'CV Rotina <2A - procedência'!H75","v":1.4691358024691359},{"$f":"'CV Rotina <2A - procedência'!P75","v":1.271604938271605},{"$f":"'CV Rotina <2A - procedência'!J75","v":1},{"$f":"'CV Rotina <2A - procedência'!L75","v":1},{"$f":"'CV Rotina <2A - procedência'!N75","v":1.1111111111111112},{"$f":"'CV Rotina <2A - procedência'!X75","v":1.2839506172839505},{"$f":"'CV Rotina <2A - procedência'!R75","v":1.1234567901234569},{"$f":"'CV Rotina <2A - procedência'!T75","v":1.0617283950617284},{"$f":"'CV Rotina <2A - procedência'!V75","v":1.4197530864197532},{"$f":"'CV Rotina <2A - procedência'!Z75","v":0.92592592592592593},2,7,9,4]
["Metropolitana","Viana",{"$f":"'CV Rotina <2A - procedência'!H76","v":0.21917808219178081},{"$f":"'CV Rotina <2A - procedência'!P76","v":0.98630136986301364},{"$f":"'CV Rotina <2A - procedência'!J76","v":1.004566210045662},{"$f":"'CV Rotina <2A - procedência'!L76","v":0.954337899543379},{"$f":"'CV Rotina <2A - procedência'!N76","v":1.0228310502283104},{"$f":"'CV Rotina <2A - procedência'!X76","v":1.0228310502283104},{"$f":"'CV Rotina <2A - procedência'!R76","v":1.0091324200913243},{"$f":"'CV Rotina <2A - procedência'!T76","v":0.68949771689497719},{"$f":"'CV Rotina <2A - procedência'!V76","v":0.88127853881278539},{"$f":"'CV Rotina <2A - procedência'!Z76","v":0.49315068493150682},1,5,6,4]
["Norte","Vila Pavão",{"$f":"'CV Rotina <2A - procedência'!H77","v":0.55172413793103448},{"$f":"'CV Rotina <2A - procedência'!P77","v":1.0689655172413792},{"$f":"'CV Rotina <2A - procedência'!J77","v":1.3448275862068966},{"$f":"'CV Rotina <2A - procedência'!L77","v":1.3103448275862069},{"$f":"'CV Rotina <2A - procedência'!N77","v":1},{"$f":"'CV Rotina <2A - procedência'!X77","v":0.89655172413793105},{"$f":"'CV Rotina <2A - procedência'!R77","v":1.3793103448275863},{"$f":"'CV Rotina <2A - procedência'!T77","v":1.103448275862069},{"$f":"'CV Rotina <2A - procedência'!V77","v":0.65517241379310343},{"$f":"'CV Rotina <2A - procedência'!Z77","v":0.82758620689655171},1,5,6,3]
["Central","Vila Valério",{"$f":"'CV Rotina <2A - procedência'!H78","v":0.25806451612903225},{"$f":"'CV Rotina <2A - procedência'!P78","v":0.70967741935483875},{"$f":"'CV Rotina <2A - procedência'!J78","v":0.79032258064516125},{"$f":"'CV Rotina <2A - procedência'!L78","v":0.80645161290322576},{"$f":"'CV Rotina <2A - procedência'!N78","v":0.80645161290322576},{"$f":"'CV Rotina <2A - procedência'!X78","v":1.032258064516129},{"$f":"'CV Rotina <2A - procedência'!R78","v":0.80645161290322576},{"$f":"'CV Rotina <2A - procedência'!T78","v":0.9838709677419355},{"$f":"'CV Rotina <2A - procedência'!V78","v":1.0161290322580645},{"$f":"'CV Rotina <2A - procedência'!Z78","v":0.61290322580645162},0,3,3,1]
["Metropolitana","Vila Velha",{"$f":"'CV Rotina <2A - procedência'!H79","v":0.75935074100211719},{"$f":"'CV Rotina <2A - procedência'!P79","v":0.82709950599858861},{"$f":"'CV Rotina <2A - procedência'!J79","v":0.82357092448835567},{"$f":"'CV Rotina <2A - procedência'!L79","v":0.81933662667607621},{"$f":"'CV Rotina <2A - procedência'!N79","v":0.70501058574453068},{"$f":"'CV Rotina <2A - procedência'!X79","v":0.8242766407904023},{"$f":"'CV Rotina <2A - procedência'!R79","v":0.83345095271700775},{"$f":"'CV Rotina <2A - procedência'!T79","v":0.6563161609033169},{"$f":"'CV Rotina <2A - procedência'!V79","v":0.85038814396612561},{"$f":"'CV Rotina <2A - procedência'!Z79","v":0.81863091037402969},0,0,0,0]
["Metropolitana","Vitória",{"$f":"'CV Rotina <2A - procedência'!H80","v":1.9121004566210045},{"$f":"'CV Rotina <2A - procedência'!P80","v":1.0502283105022832},{"$f":"'CV Rotina <2A - procedência'!J80","v":1.1849315068493151},{"$f":"'CV Rotina <2A - procedência'!L80","v":1.1746575342465753},{"$f":"'CV Rotina <2A - procedência'!N80","v":0.84018264840182644},{"$f":"'CV Rotina <2A - procedência'!X80","v":1.2294520547945205},{"$f":"'CV Rotina <2A - procedência'!R80","v":1.1563926940639269},{"$f":"'CV Rotina <2A - procedência'!T80","v":0.66095890410958902},{"$f":"'CV Rotina <2A - procedência'!V80","v":1.1073059360730593},{"$f":"'CV Rotina <2A - procedência'!Z80","v":1.1461187214611872},2,6,8,3]
[]
[null,"Total Norte",{"$f":"'CV Rotina <2A - procedência'!H82","v":0.77063599458728016},{"$f":"'CV Rotina <2A - procedência'!P82","v":0.84979702300405957},{"$f":"'CV Rotina <2A - procedência'!J82","v":0.91813261163734772},{"$f":"'CV Rotina <2A - procedência'!L82","v":0.89648173207036541},{"$f":"'CV Rotina <2A - procedência'!N82","v":0.79499323410013534},{"$f":"'CV Rotina <2A - procedência'!X82","v":0.90663058186738832},{"$f":"'CV Rotina <2A - procedência'!R82","v":0.87483085250338299},{"$f":"'CV Rotina <2A - procedência'!T82","v":0.84438430311231394},{"$f":"'CV Rotina <2A - procedência'!V82","v":0.86400541271989173},{"$f":"'CV Rotina <2A - procedência'!Z82","v":0.75642760487144789},{"$f":"COUNTIF(C82:D82,\">=0,9\")","v":0},{"$f":"COUNTIFS(E82:L82,\">=0,95\")","v":0},{"$f":"SUM(M82:N82)","v":0},{"$f":"COUNTIF(E82:H82,\">=0,95\")","v":0}]
[null,"Total Central",{"$f":"'CV Rotina <2A - procedência'!H83","v":0.96043956043956047},{"$f":"'CV Rotina <2A - procedência'!P83","v":0.82912087912087917},{"$f":"'CV Rotina <2A - procedência'!J83","v":0.89120879120879126},{"$f":"'CV Rotina <2A - procedência'!L83","v":0.87857142857142856},{"$f":"'CV Rotina <2A - procedência'!N83","v":0.74395604395604398},{"$f":"'CV Rotina <2A - procedência'!X83","v":0.8813186813186813},{"$f":"'CV Rotina <2A - procedência'!R83","v":0.91318681318681316},{"$f":"'CV Rotina <2A - procedência'!T83","v":0.85164835164835162},{"$f":"'CV Rotina <2A - procedência'!V83","v":0.83901098901098903},{"$f":"'CV Rotina <2A - procedência'!Z83","v":0.71263736263736266},{"$f":"COUNTIF(C83:D83,\">=0,9\")","v":1},{"$f":"COUNTIFS(E83:L83,\">=0,95\")","v":0},{"$f":"SUM(M83:N83)","v":1},{"$f":"COUNTIF(E83:H83,\">=0,95\")","v":0}]
[null,"Total Metropolitana",{"$f":"'CV Rotina <2A - procedência'!H84","v":0.94434735851592955},{"$f":"'CV Rotina <2A - procedência'!P84","v":0.8966258905766904},{"$f":"'CV Rotina <2A - procedência'!J84","v":0.90966527759107407},{"$f":"'CV Rotina <2A - procedência'!L84","v":0.89299637047990321},{"$f":"'CV Rotina <2A - procedência'!N84","v":0.80266164807097728},{"$f":"'CV Rotina <2A - procedência'!X84","v":0.92472106465922843},{"$f":"'CV Rotina <2A - procedência'!R84","v":0.90065869068423177},{"$f":"'CV Rotina <2A - procedência'!T84","v":0.7320876461890039},{"$f":"'CV Rotina <2A - procedência'!V84","v":0.92781287807501012},{"$f":"'CV Rotina <2A - procedência'!Z84","v":0.8286059954294932},{"$f":"COUNTIF(C84:D84,\">=0,9\")","v":1},{"$f":"COUNTIFS(E84:L84,\">=0,95\")","v":0},{"$f":"SUM(M84:N84)","v":1},{"$f":"COUNTIF(E84:H84,\">=0,95\")","v":0}]
[null,"Total Sul",{"$f":"'CV Rotina <2A - procedência'!H85","v":1.2053140096618358},{"$f":"'CV Rotina <2A - procedência'!P85","v":1.1388888888888888},{"$f":"'CV Rotina <2A - procedência'!J85","v":1.1708937198067633},{"$f":"'CV Rotina <2A - procedência'!L85","v":1.1189613526570048},{"$f":"'CV Rotina <2A - procedência'!N85","v":1.0603864734299517},{"$f":"'CV Rotina <2A - procedência'!X85","v":1.2107487922705313},{"$f":"'CV Rotina <2A - procedência'!R85","v":1.1509661835748792},{"$f":"'CV Rotina <2A - procedência'!T85","v":1.0785024154589371},{"$f":"'CV Rotina <2A - procedência'!V85","v":1.2361111111111112},{"$f":"'CV Rotina <2A - procedência'!Z85","v":1.0899758454106281},{"$f":"COUNTIF(C85:D85,\">=0,9\")","v":2},{"$f":"COUNTIFS(E85:L85,\">=0,95\")","v":8},{"$f":"SUM(M85:N85)","v":10},{"$f":"COUNTIF(E85:H85,\">=0,95\")","v":4}]
[null,"Total Espírito Santo",{"$f":"'CV Rotina <2A - procedência'!H86","v":0.96086500443798917},{"$f":"'CV Rotina <2A - procedência'!P86","v":0.91349955620108125},{"$f":"'CV Rotina <2A - procedência'!J86","v":0.94287097555071409},{"$f":"'CV Rotina <2A - procedência'!L86","v":0.92148793673848139},{"$f":"'CV Rotina <2A - procedência'!N86","v":0.82756394738965544},{"$f":"'CV Rotina <2A - procedência'!X86","v":0.95440974743806983},{"$f":"'CV Rotina <2A - procedência'!R86","v":0.93286532720083915},{"$f":"'CV Rotina <2A - procedência'!T86","v":0.80932784636488342},{"$f":"'CV Rotina <2A - procedência'!V86","v":0.94835794400064555},{"$f":"'CV Rotina <2A - procedência'!Z86","v":0.83789235858952638},{"$f":"COUNTIF(C86:D86,\">=0,9\")","v":2},{"$f":"COUNTIFS(E86:L86,\">=0,95\")","v":1},{"$f":"SUM(M86:N86)","v":3},{"$f":"COUNTIF(E86:H86,\">=0,95\")","v":1}]
[]
[]
["Fonte: SIPNI/DATASUS, em 09 de junho de 2023.*"]
[" Vacina e Confia, em 12 de junho de 2023.**"]
["*Dados referentes às doses aplicadas pelas clínicas particulares de janeiro a maio de 2023"]
["**Dados referente às doses aplicadas no período de janeiro a maio de 2023"]
["Cobertura Calculada por município de vacinação"]
["1 População proporcional extraída do MS/SVS/DASIS - Sistema de Informações sobre Nascidos Vivos - SINASC"]
["2000 a 2021 – Estimativas preliminares elaboradas pelo Ministério da Saúde/SVS/DASNT/CGIAE"]
[" Nota: Dados preliminares 2021"]

{"sheet":"cálculos2","index":16,"n_rows":96,"n_cols":16,"rows_kept":96,"cut":false,"hidden":true,"merged":[[0,2,0,3],[0,4,0,11]]}
[null,null,0.9,null,0.95]
["Regional ","Município","Cobertura Vacinal BCG","Cobertura Vacinal Rotavírus","Cobertura Vacinal Pentavalente","Cobertura Vacinal Poliomielite ","Cobertura Vacinal Pneumo 10","Cobertura Vacinal Tríplice Viral","Cobertura Vacinal Meningo C","Cobertura Vacinal Febre Amarela","Cobertura Vacinal Hepatite A","Cobertura Varicela","META 90%","META 95%","ATINGIRAM META","PQA-VS"]
["Metropolitana","Afonso Cláudio",{"$f":"'CV Rotina <2A - residência'!H3","v":1},{"$f":"'CV Rotina <2A - residência'!P3","v":0.97674418604651159},{"$f":"'CV Rotina <2A - residência'!J3","v":1.0465116279069768},{"$f":"'CV Rotina <2A - residência'!L3","v":1.0116279069767442},{"$f":"'CV Rotina <2A - residência'!N3","v":0.94186046511627908},{"$f":"'CV Rotina <2A - residência'!X3","v":1.1860465116279071},{"$f":"'CV Rotina <2A - residência'!R3","v":1},{"$f":"'CV Rotina <2A - residência'!T3","v":1.058139534883721},{"$f":"'CV Rotina <2A - residência'!V3","v":1.1976744186046511},{"$f":"'CV Rotina <2A - residência'!Z3","v":1.4767441860465116},{"$f":"COUNTIF(C3:D3,\">=0,9\")","v":2},{"$f":"COUNTIFS(E3:L3,\">=0,95\")","v":7},{"$f":"SUM(M3:N3)","v":9},{"$f":"COUNTIF(E3:H3,\">=0,95\")","v":3}]
["Norte","Água Doce do Norte",{"$f":"'CV Rotina <2A - residência'!H4","v":0.80392156862745101},{"$f":"'CV Rotina <2A - residência'!P4","v":0.56862745098039214},{"$f":"'CV Rotina <2A - residência'!J4","v":0.68627450980392157},{"$f":"'CV Rotina <2A - residência'!L4","v":0.68627450980392157},{"$f":"'CV Rotina <2A - residência'!N4","v":0.62745098039215685},{"$f":"'CV Rotina <2A - residência'!X4","v":0.84313725490196079},{"$f":"'CV Rotina <2A - residência'!R4","v":0.70588235294117652},{"$f":"'CV Rotina <2A - residência'!T4","v":0.84313725490196079},{"$f":"'CV Rotina <2A - residência'!V4","v":0.58823529411764708},{"$f":"'CV Rotina <2A - residência'!Z4","v":0.35294117647058826},0,0,{"$f":"SUM(M4:N4)","v":0},{"$f":"COUNTIF(E4:H4,\">=0,95\")","v":0}]
["Central","Águia Branca",{"$f":"'CV Rotina <2A - residência'!H5","v":1.069767441860465},{"$f":"'CV Rotina <2A - residência'!P5","v":0.48837209302325579},{"$f":"'CV Rotina <2A - residência'!J5","v":0.88372093023255816},{"$f":"'CV Rotina <2A - residência'!L5","v":0.93023255813953487},{"$f":"'CV Rotina <2A - residência'!N5","v":0.53488372093023251},{"$f":"'CV Rotina <2A - residência'!X5","v":0.90697674418604646},{"$f":"'CV Rotina <2A - residência'!R5","v":0.7441860465116279},{"$f":"'CV Rotina <2A - residência'!T5","v":0.97674418604651159},{"$f":"'CV Rotina <2A - residência'!V5","v":0.79069767441860461},{"$f":"'CV Rotina <2A - residência'!Z5","v":0.83720930232558144},1,1,2,0]
["Sul","Alegre",{"$f":"'CV Rotina <2A - residência'!H6","v":0.98305084745762716},{"$f":"'CV Rotina <2A - residência'!P6","v":0.9152542372881356},{"$f":"'CV Rotina <2A - residência'!J6","v":1.1864406779661016},{"$f":"'CV Rotina <2A - residência'!L6","v":1.0338983050847457},{"$f":"'CV Rotina <2A - residência'!N6","v":0.76271186440677963},{"$f":"'CV Rotina <2A - residência'!X6","v":1.3728813559322033},{"$f":"'CV Rotina <2A - residência'!R6","v":1.2033898305084745},{"$f":"'CV Rotina <2A - residência'!T6","v":1.0847457627118644},{"$f":"'CV Rotina <2A - residência'!V6","v":1.3559322033898304},{"$f":"'CV Rotina <2A - residência'!Z6","v":1.576271186440678},2,7,9,3]
["Sul","Alfredo Chaves",{"$f":"'CV Rotina <2A - residência'!H7","v":1},{"$f":"'CV Rotina <2A - residência'!P7","v":0.70370370370370372},{"$f":"'CV Rotina <2A - residência'!J7","v":1.1851851851851851},{"$f":"'CV Rotina <2A - residência'!L7","v":1.1481481481481481},{"$f":"'CV Rotina <2A - residência'!N7","v":0.55555555555555558},{"$f":"'CV Rotina <2A - residência'!X7","v":1.1851851851851851},{"$f":"'CV Rotina <2A - residência'!R7","v":1.037037037037037},{"$f":"'CV Rotina <2A - residência'!T7","v":1.0740740740740742},{"$f":"'CV Rotina <2A - residência'!V7","v":1.4814814814814814},{"$f":"'CV Rotina <2A - residência'!Z7","v":1.2962962962962963},1,7,8,3]
["Central","Alto Rio Novo",{"$f":"'CV Rotina <2A - residência'!H8","v":0.94736842105263153},{"$f":"'CV Rotina <2A - residência'!P8","v":1.2105263157894737},{"$f":"'CV Rotina <2A - residência'!J8","v":1.263157894736842},{"$f":"'CV Rotina <2A - residência'!L8","v":1.3157894736842106},{"$f":"'CV Rotina <2A - residência'!N8","v":1.2105263157894737},{"$f":"'CV Rotina <2A - residência'!X8","v":1.0526315789473684},{"$f":"'CV Rotina <2A - residência'!R8","v":1.5263157894736843},{"$f":"'CV Rotina <2A - residência'!T8","v":1.4736842105263157},{"$f":"'CV Rotina <2A - residência'!V8","v":0.94736842105263153},{"$f":"'CV Rotina <2A - residência'!Z8","v":1.2105263157894737},2,7,9,4]
["Sul","Anchieta",{"$f":"'CV Rotina <2A - residência'!H9","v":1.1095890410958904},{"$f":"'CV Rotina <2A - residência'!P9","v":1.4246575342465753},{"$f":"'CV Rotina <2A - residência'!J9","v":1.3013698630136987},{"$f":"'CV Rotina <2A - residência'!L9","v":1.2465753424657535},{"$f":"'CV Rotina <2A - residência'!N9","v":1.3698630136986301},{"$f":"'CV Rotina <2A - residência'!X9","v":1.2054794520547945},{"$f":"'CV Rotina <2A - residência'!R9","v":1.178082191780822},{"$f":"'CV Rotina <2A - residência'!T9","v":1.1369863013698631},{"$f":"'CV Rotina <2A - residência'!V9","v":1.4931506849315068},{"$f":"'CV Rotina <2A - residência'!Z9","v":1.3424657534246576},2,8,10,4]
["Sul","Apiacá",{"$f":"'CV Rotina <2A - residência'!H10","v":1.2105263157894737},{"$f":"'CV Rotina <2A - residência'!P10","v":0.84210526315789469},{"$f":"'CV Rotina <2A - residência'!J10","v":0.84210526315789469},{"$f":"'CV Rotina <2A - residência'!L10","v":0.78947368421052633},{"$f":"'CV Rotina <2A - residência'!N10","v":0.84210526315789469},{"$f":"'CV Rotina <2A - residência'!X10","v":0.84210526315789469},{"$f":"'CV Rotina <2A - residência'!R10","v":0.78947368421052633},{"$f":"'CV Rotina <2A - residência'!T10","v":1.1052631578947369},{"$f":"'CV Rotina <2A - residência'!V10","v":0.57894736842105265},{"$f":"'CV Rotina <2A - residência'!Z10","v":0.78947368421052633},1,1,2,0]
["Metropolitana","Aracruz",{"$f":"'CV Rotina <2A - residência'!H11","v":0.96363636363636362},{"$f":"'CV Rotina <2A - residência'!P11","v":0.82597402597402603},{"$f":"'CV Rotina <2A - residência'!J11","v":0.83116883116883122},{"$f":"'CV Rotina <2A - residência'!L11","v":0.82337662337662343},{"$f":"'CV Rotina <2A - residência'!N11","v":0.72987012987012989},{"$f":"'CV Rotina <2A - residência'!X11","v":0.95584415584415583},{"$f":"'CV Rotina <2A - residência'!R11","v":0.80259740259740264},{"$f":"'CV Rotina <2A - residência'!T11","v":0.76883116883116887},{"$f":"'CV Rotina <2A - residência'!V11","v":0.94025974025974024},{"$f":"'CV Rotina <2A - residência'!Z11","v":0.83636363636363631},1,1,2,1]
["Sul","Atilio Vivacqua",{"$f":"'CV Rotina <2A - residência'!H12","v":2.2000000000000002},{"$f":"'CV Rotina <2A - residência'!P12","v":2.2000000000000002},{"$f":"'CV Rotina <2A - residência'!J12","v":2.5499999999999998},{"$f":"'CV Rotina <2A - residência'!L12","v":2.5},{"$f":"'CV Rotina <2A - residência'!N12","v":2.15},{"$f":"'CV Rotina <2A - residência'!X12","v":1.8},{"$f":"'CV Rotina <2A - residência'!R12","v":2.4},{"$f":"'CV Rotina <2A - residência'!T12","v":1.7},{"$f":"'CV Rotina <2A - residência'!V12","v":1.65},{"$f":"'CV Rotina <2A - residência'!Z12","v":1.1499999999999999},2,8,10,4]
["Central","Baixo Guandu",{"$f":"'CV Rotina <2A - residência'!H13","v":0.96190476190476193},{"$f":"'CV Rotina <2A - residência'!P13","v":0.580952380952381},{"$f":"'CV Rotina <2A - residência'!J13","v":0.73333333333333328},{"$f":"'CV Rotina <2A - residência'!L13","v":0.73333333333333328},{"$f":"'CV Rotina <2A - residência'!N13","v":0.55238095238095242},{"$f":"'CV Rotina <2A - residência'!X13","v":0.81904761904761902},{"$f":"'CV Rotina <2A - residência'!R13","v":0.65714285714285714},{"$f":"'CV Rotina <2A - residência'!T13","v":0.8571428571428571},{"$f":"'CV Rotina <2A - residência'!V13","v":0.94285714285714284},{"$f":"'CV Rotina <2A - residência'!Z13","v":0.75238095238095237},1,0,1,0]
["Norte","Barra de São Francisco",{"$f":"'CV Rotina <2A - residência'!H14","v":0.83221476510067116},{"$f":"'CV Rotina <2A - residência'!P14","v":0.71812080536912748},{"$f":"'CV Rotina <2A - residência'!J14","v":0.96644295302013428},{"$f":"'CV Rotina <2A - residência'!L14","v":0.95302013422818788},{"$f":"'CV Rotina <2A - residência'!N14","v":0.70469798657718119},{"$f":"'CV Rotina <2A - residência'!X14","v":0.81879194630872487},{"$f":"'CV Rotina <2A - residência'!R14","v":0.82550335570469802},{"$f":"'CV Rotina <2A - residência'!T14","v":0.8523489932885906},{"$f":"'CV Rotina <2A - residência'!V14","v":0.77852348993288589},{"$f":"'CV Rotina <2A - residência'!Z14","v":0.93288590604026844},0,2,2,2]
["Norte","Boa Esperança",{"$f":"'CV Rotina <2A - residência'!H15","v":0.89473684210526316},{"$f":"'CV Rotina <2A - residência'!P15","v":0.89473684210526316},{"$f":"'CV Rotina <2A - residência'!J15","v":0.85964912280701755},{"$f":"'CV Rotina <2A - residência'!L15","v":0.84210526315789469},{"$f":"'CV Rotina <2A - residência'!N15","v":0.78947368421052633},{"$f":"'CV Rotina <2A - residência'!X15","v":0.78947368421052633},{"$f":"'CV Rotina <2A - residência'!R15","v":0.82456140350877194},{"$f":"'CV Rotina <2A - residência'!T15","v":0.84210526315789469},{"$f":"'CV Rotina <2A - residência'!V15","v":0.94736842105263153},{"$f":"'CV Rotina <2A - residência'!Z15","v":0.85964912280701755},0,0,0,0]
["Sul","Bom Jesus do Norte",{"$f":"'CV Rotina <2A - residência'!H16","v":1.3125},{"$f":"'CV Rotina <2A - residência'!P16","v":1.1875},{"$f":"'CV Rotina <2A - residência'!J16","v":1.5625},{"$f":"'CV Rotina <2A - residência'!L16","v":1.5625},{"$f":"'CV Rotina <2A - residência'!N16","v":1.1875},{"$f":"'CV Rotina <2A - residência'!X16","v":1.25},{"$f":"'CV Rotina <2A - residência'!R16","v":1.0625},{"$f":"'CV Rotina <2A - residência'!T16","v":1.375},{"$f":"'CV Rotina <2A - residência'!V16","v":1.625},{"$f":"'CV Rotina <2A - residência'!Z16","v":0.875},2,7,9,4]
["Metropolitana","Brejetuba",{"$f":"'CV Rotina <2A - residência'!H17","v":0.92},{"$f":"'CV Rotina <2A - residência'!P17","v":1.08},{"$f":"'CV Rotina <2A - residência'!J17","v":0.74},{"$f":"'CV Rotina <2A - residência'!L17","v":0.78},{"$f":"'CV Rotina <2A - residência'!N17","v":0.96},{"$f":"'CV Rotina <2A - residência'!X17","v":1.06},{"$f":"'CV Rotina <2A - residência'!R17","v":0.9},{"$f":"'CV Rotina <2A - residência'!T17","v":0.66},{"$f":"'CV Rotina <2A - residência'!V17","v":0.86},{"$f":"'CV Rotina <2A - residência'!Z17","v":0.74},2,2,4,2]
["Sul","Cachoeiro de Itapemirim",{"$f":"'CV Rotina <2A - residência'!H18","v":1.4004376367614879},{"$f":"'CV Rotina <2A - residência'!P18","v":1.1597374179431073},{"$f":"'CV Rotina <2A - residência'!J18","v":1.1859956236323852},{"$f":"'CV Rotina <2A - residência'!L18","v":1.1706783369803064},{"$f":"'CV Rotina <2A - residência'!N18","v":1.0481400437636761},{"$f":"'CV Rotina <2A - residência'!X18","v":1.2954048140043763},{"$f":"'CV Rotina <2A - residência'!R18","v":1.1684901531728664},{"$f":"'CV Rotina <2A - residência'!T18","v":1.0634573304157549},{"$f":"'CV Rotina <2A - residência'!V18","v":1.3238512035010941},{"$f":"'CV Rotina <2A - residência'!Z18","v":1.1925601750547046},2,8,10,4]
["Metropolitana","Cariacica",{"$f":"'CV Rotina <2A - residência'!H19","v":0.98443898443898448},{"$f":"'CV Rotina <2A - residência'!P19","v":0.86322686322686326},{"$f":"'CV Rotina <2A - residência'!J19","v":0.93366093366093361},{"$f":"'CV Rotina <2A - residência'!L19","v":0.90335790335790334},{"$f":"'CV Rotina <2A - residência'!N19","v":0.75921375921375922},{"$f":"'CV Rotina <2A - residência'!X19","v":0.92792792792792789},{"$f":"'CV Rotina <2A - residência'!R19","v":0.90909090909090906},{"$f":"'CV Rotina <2A - residência'!T19","v":0.73218673218673214},{"$f":"'CV Rotina <2A - residência'!V19","v":0.91891891891891897},{"$f":"'CV Rotina <2A - residência'!Z19","v":0.68386568386568392},1,0,1,0]
["Sul","Castelo",{"$f":"'CV Rotina <2A - residência'!H20","v":1.09375},{"$f":"'CV Rotina <2A - residência'!P20","v":0.88541666666666663},{"$f":"'CV Rotina <2A - residência'!J20","v":1.0104166666666667},{"$f":"'CV Rotina <2A - residência'!L20","v":0.95833333333333337},{"$f":"'CV Rotina <2A - residência'!N20","v":0.80208333333333337},{"$f":"'CV Rotina <2A - residência'!X20","v":1.1041666666666667},{"$f":"'CV Rotina <2A - residência'!R20","v":1.0104166666666667},{"$f":"'CV Rotina <2A - residência'!T20","v":1.03125},{"$f":"'CV Rotina <2A - residência'!V20","v":1.125},{"$f":"'CV Rotina <2A - residência'!Z20","v":0.60416666666666663},1,6,7,3]
["Central","Colatina",{"$f":"'CV Rotina <2A - residência'!H21","v":0.97120418848167545},{"$f":"'CV Rotina <2A - residência'!P21","v":0.83507853403141363},{"$f":"'CV Rotina <2A - residência'!J21","v":0.94240837696335078},{"$f":"'CV Rotina <2A - residência'!L21","v":0.94240837696335078},{"$f":"'CV Rotina <2A - residência'!N21","v":0.7120418848167539},{"$f":"'CV Rotina <2A - residência'!X21","v":0.91361256544502623},{"$f":"'CV Rotina <2A - residência'!R21","v":0.95811518324607325},{"$f":"'CV Rotina <2A - residência'!T21","v":0.80628272251308897},{"$f":"'CV Rotina <2A - residência'!V21","v":0.84293193717277481},{"$f":"'CV Rotina <2A - residência'!Z21","v":0.72251308900523559},1,1,2,0]
["Norte","Conceição da Barra",{"$f":"'CV Rotina <2A - residência'!H22","v":0.74766355140186913},{"$f":"'CV Rotina <2A - residência'!P22","v":0.79439252336448596},{"$f":"'CV Rotina <2A - residência'!J22","v":0.85981308411214952},{"$f":"'CV Rotina <2A - residência'!L22","v":0.87850467289719625},{"$f":"'CV Rotina <2A - residência'!N22","v":0.7570093457943925},{"$f":"'CV Rotina <2A - residência'!X22","v":0.99065420560747663},{"$f":"'CV Rotina <2A - residência'!R22","v":0.83177570093457942},{"$f":"'CV Rotina <2A - residência'!T22","v":0.90654205607476634},{"$f":"'CV Rotina <2A - residência'!V22","v":0.87850467289719625},{"$f":"'CV Rotina <2A - residência'!Z22","v":0.69158878504672894},0,1,1,1]
["Metropolitana","Conceição do Castelo",{"$f":"'CV Rotina <2A - residência'!H23","v":1.027027027027027},{"$f":"'CV Rotina <2A - residência'!P23","v":1.1621621621621621},{"$f":"'CV Rotina <2A - residência'!J23","v":1.027027027027027},{"$f":"'CV Rotina <2A - residência'!L23","v":1},{"$f":"'CV Rotina <2A - residência'!N23","v":1.0540540540540539},{"$f":"'CV Rotina <2A - residência'!X23","v":0.83783783783783783},{"$f":"'CV Rotina <2A - residência'!R23","v":0.89189189189189189},{"$f":"'CV Rotina <2A - residência'!T23","v":0.83783783783783783},{"$f":"'CV Rotina <2A - residência'!V23","v":0.6216216216216216},{"$f":"'CV Rotina <2A - residência'!Z23","v":0.86486486486486491},2,3,5,3]
["Sul","Divino de São Lourenço",{"$f":"'CV Rotina <2A - residência'!H24","v":0.76923076923076927},{"$f":"'CV Rotina <2A - residência'!P24","v":0.76923076923076927},{"$f":"'CV Rotina <2A - residência'!J24","v":0.69230769230769229},{"$f":"'CV Rotina <2A - residência'!L24","v":0.69230769230769229},{"$f":"'CV Rotina <2A - residência'!N24","v":0.69230769230769229},{"$f":"'CV Rotina <2A - residência'!X24","v":1.8461538461538463},{"$f":"'CV Rotina <2A - residência'!R24","v":0.69230769230769229},{"$f":"'CV Rotina <2A - residência'!T24","v":2.0769230769230771},{"$f":"'CV Rotina <2A - residência'!V24","v":1.3846153846153846},{"$f":"'CV Rotina <2A - residência'!Z24","v":1.3076923076923077},0,4,4,1]
["Metropolitana","Domingos Martins",{"$f":"'CV Rotina <2A - residência'!H25","v":0.95},{"$f":"'CV Rotina <2A - residência'!P25","v":1.07},{"$f":"'CV Rotina <2A - residência'!J25","v":1.1100000000000001},{"$f":"'CV Rotina <2A - residência'!L25","v":1.08},{"$f":"'CV Rotina <2A - residência'!N25","v":0.99},{"$f":"'CV Rotina <2A - residência'!X25","v":0.97},{"$f":"'CV Rotina <2A - residência'!R25","v":1.0900000000000001},{"$f":"'CV Rotina <2A - residência'!T25","v":1.03},{"$f":"'CV Rotina <2A - residência'!V25","v":1.05},{"$f":"'CV Rotina <2A - residência'!Z25","v":1.1499999999999999},2,8,10,4]
["Sul","Dores do Rio Preto",{"$f":"'CV Rotina <2A - residência'!H26","v":1},{"$f":"'CV Rotina <2A - residência'!P26","v":1.1363636363636365},{"$f":"'CV Rotina <2A - residência'!J26","v":1.3636363636363635},{"$f":"'CV Rotina <2A - residência'!L26","v":1.3181818181818181},{"$f":"'CV Rotina <2A - residência'!N26","v":0.81818181818181823},{"$f":"'CV Rotina <2A - residência'!X26","v":1},{"$f":"'CV Rotina <2A - residência'!R26","v":0.77272727272727271},{"$f":"'CV Rotina <2A - residência'!T26","v":1},{"$f":"'CV Rotina <2A - residência'!V26","v":1},{"$f":"'CV Rotina <2A - residência'!Z26","v":0.63636363636363635},2,5,7,3]
["Norte","Ecoporanga",{"$f":"'CV Rotina <2A - residência'!H27","v":0.85915492957746475},{"$f":"'CV Rotina <2A - residência'!P27","v":0.87323943661971826},{"$f":"'CV Rotina <2A - residência'!J27","v":0.84507042253521125},{"$f":"'CV Rotina <2A - residência'!L27","v":0.81690140845070425},{"$f":"'CV Rotina <2A - residência'!N27","v":0.80281690140845074},{"$f":"'CV Rotina <2A - residência'!X27","v":0.971830985915493},{"$f":"'CV Rotina <2A - residência'!R27","v":0.74647887323943662},{"$f":"'CV Rotina <2A - residência'!T27","v":0.94366197183098588},{"$f":"'CV Rotina <2A - residência'!V27","v":0.77464788732394363},{"$f":"'CV Rotina <2A - residência'!Z27","v":0.54929577464788737},0,1,1,1]
["Metropolitana","Fundão",{"$f":"'CV Rotina <2A - residência'!H28","v":1.1451612903225807},{"$f":"'CV Rotina <2A - residência'!P28","v":0.87096774193548387},{"$f":"'CV Rotina <2A - residência'!J28","v":0.87096774193548387},{"$f":"'CV Rotina <2A - residência'!L28","v":0.87096774193548387},{"$f":"'CV Rotina <2A - residência'!N28","v":0.80645161290322576},{"$f":"'CV Rotina <2A - residência'!X28","v":0.95161290322580649},{"$f":"'CV Rotina <2A - residência'!R28","v":0.85483870967741937},{"$f":"'CV Rotina <2A - residência'!T28","v":0.66129032258064513},{"$f":"'CV Rotina <2A - residência'!V28","v":0.79032258064516125},{"$f":"'CV Rotina <2A - residência'!Z28","v":0.74193548387096775},1,1,2,1]
["Central","Governador Lindenberg",{"$f":"'CV Rotina <2A - residência'!H29","v":0.967741935483871},{"$f":"'CV Rotina <2A - residência'!P29","v":0.83870967741935487},{"$f":"'CV Rotina <2A - residência'!J29","v":0.83870967741935487},{"$f":"'CV Rotina <2A - residência'!L29","v":0.83870967741935487},{"$f":"'CV Rotina <2A - residência'!N29","v":0.67741935483870963},{"$f":"'CV Rotina <2A - residência'!X29","v":0.93548387096774188},{"$f":"'CV Rotina <2A - residência'!R29","v":0.77419354838709675},{"$f":"'CV Rotina <2A - residência'!T29","v":0.67741935483870963},{"$f":"'CV Rotina <2A - residência'!V29","v":0.80645161290322576},{"$f":"'CV Rotina <2A - residência'!Z29","v":0.67741935483870963},1,0,1,0]
["Sul","Guaçuí",{"$f":"'CV Rotina <2A - residência'!H30","v":0.80232558139534882},{"$f":"'CV Rotina <2A - residência'!P30","v":1.0232558139534884},{"$f":"'CV Rotina <2A - residência'!J30","v":0.96511627906976749},{"$f":"'CV Rotina <2A - residência'!L30","v":0.93023255813953487},{"$f":"'CV Rotina <2A - residência'!N30","v":1.0232558139534884},{"$f":"'CV Rotina <2A - residência'!X30","v":1.0465116279069768},{"$f":"'CV Rotina <2A - residência'!R30","v":0.96511627906976749},{"$f":"'CV Rotina <2A - residência'!T30","v":0.91860465116279066},{"$f":"'CV Rotina <2A - residência'!V30","v":0.89534883720930236},{"$f":"'CV Rotina <2A - residência'!Z30","v":0.91860465116279066},1,4,5,3]
["Metropolitana","Guarapari",{"$f":"'CV Rotina <2A - residência'!H31","v":1.0047393364928909},{"$f":"'CV Rotina <2A - residência'!P31","v":0.93127962085308058},{"$f":"'CV Rotina <2A - residência'!J31","v":0.86492890995260663},{"$f":"'CV Rotina <2A - residência'!L31","v":0.86255924170616116},{"$f":"'CV Rotina <2A - residência'!N31","v":0.8981042654028436},{"$f":"'CV Rotina <2A - residência'!X31","v":0.84597156398104267},{"$f":"'CV Rotina <2A - residência'!R31","v":0.89099526066350709},{"$f":"'CV Rotina <2A - residência'!T31","v":0.66587677725118488},{"$f":"'CV Rotina <2A - residência'!V31","v":0.97156398104265407},{"$f":"'CV Rotina <2A - residência'!Z31","v":0.8601895734597157},2,1,3,0]
["Metropolitana","Ibatiba",{"$f":"'CV Rotina <2A - residência'!H32","v":1.1149425287356323},{"$f":"'CV Rotina <2A - residência'!P32","v":1.0344827586206897},{"$f":"'CV Rotina <2A - residência'!J32","v":1.1494252873563218},{"$f":"'CV Rotina <2A - residência'!L32","v":1.1609195402298851},{"$f":"'CV Rotina <2A - residência'!N32","v":0.94252873563218387},{"$f":"'CV Rotina <2A - residência'!X32","v":1.0229885057471264},{"$f":"'CV Rotina <2A - residência'!R32","v":1.1609195402298851},{"$f":"'CV Rotina <2A - residência'!T32","v":0.90804597701149425},{"$f":"'CV Rotina <2A - residência'!V32","v":1.2528735632183907},{"$f":"'CV Rotina <2A - residência'!Z32","v":0.82758620689655171},2,5,7,3]
["Metropolitana","Ibiraçu",{"$f":"'CV Rotina <2A - residência'!H33","v":0.57894736842105265},{"$f":"'CV Rotina <2A - residência'!P33","v":1},{"$f":"'CV Rotina <2A - residência'!J33","v":0.89473684210526316},{"$f":"'CV Rotina <2A - residência'!L33","v":0.84210526315789469},{"$f":"'CV Rotina <2A - residência'!N33","v":0.94736842105263153},{"$f":"'CV Rotina <2A - residência'!X33","v":0.89473684210526316},{"$f":"'CV Rotina <2A - residência'!R33","v":0.97368421052631582},{"$f":"'CV Rotina <2A - residência'!T33","v":1},{"$f":"'CV Rotina <2A - residência'!V33","v":0.86842105263157898},{"$f":"'CV Rotina <2A - residência'!Z33","v":0.68421052631578949},1,2,3,0]
["Sul","Ibitirama",{"$f":"'CV Rotina <2A - residência'!H34","v":1.3333333333333333},{"$f":"'CV Rotina <2A - residência'!P34","v":1.8666666666666667},{"$f":"'CV Rotina <2A - residência'!J34","v":1.5333333333333334},{"$f":"'CV Rotina <2A - residência'!L34","v":1.4666666666666666},{"$f":"'CV Rotina <2A - residência'!N34","v":1.7666666666666666},{"$f":"'CV Rotina <2A - residência'!X34","v":1.3666666666666667},{"$f":"'CV Rotina <2A - residência'!R34","v":1.5333333333333334},{"$f":"'CV Rotina <2A - residência'!T34","v":1.2},{"$f":"'CV Rotina <2A - residência'!V34","v":1.3},{"$f":"'CV Rotina <2A - residência'!Z34","v":0.9},2,7,9,4]
["Sul","Iconha",{"$f":"'CV Rotina <2A - residência'!H35","v":1.28},{"$f":"'CV Rotina <2A - residência'!P35","v":1.4},{"$f":"'CV Rotina <2A - residência'!J35","v":1.28},{"$f":"'CV Rotina <2A - residência'!L35","v":1.28},{"$f":"'CV Rotina <2A - residência'!N35","v":1.1200000000000001},{"$f":"'CV Rotina <2A - residência'!X35","v":1.2},{"$f":"'CV Rotina <2A - residência'!R35","v":1.44},{"$f":"'CV Rotina <2A - residência'!T35","v":0.8},{"$f":"'CV Rotina <2A - residência'!V35","v":1.04},{"$f":"'CV Rotina <2A - residência'!Z35","v":1.68},{"$f":"COUNTIF(C35:D35,\">=0,9\")","v":2},7,{"$f":"SUM(M35:N35)","v":9},4]
["Sul","Irupi",{"$f":"'CV Rotina <2A - residência'!H36","v":0.80851063829787229},{"$f":"'CV Rotina <2A - residência'!P36","v":0.72340425531914898},{"$f":"'CV Rotina <2A - residência'!J36","v":1},{"$f":"'CV Rotina <2A - residência'!L36","v":1.0212765957446808},{"$f":"'CV Rotina <2A - residência'!N36","v":0.57446808510638303},{"$f":"'CV Rotina <2A - residência'!X36","v":1.1276595744680851},{"$f":"'CV Rotina <2A - residência'!R36","v":0.8936170212765957},{"$f":"'CV Rotina <2A - residência'!T36","v":1},{"$f":"'CV Rotina <2A - residência'!V36","v":1.0212765957446808},{"$f":"'CV Rotina <2A - residência'!Z36","v":0.80851063829787229},0,5,5,3]
["Metropolitana","Itaguaçu",{"$f":"'CV Rotina <2A - residência'!H37","v":0.90243902439024393},{"$f":"'CV Rotina <2A - residência'!P37","v":0.75609756097560976},{"$f":"'CV Rotina <2A - residência'!J37","v":0.82926829268292679},{"$f":"'CV Rotina <2A - residência'!L37","v":0.82926829268292679},{"$f":"'CV Rotina <2A - residência'!N37","v":0.68292682926829273},{"$f":"'CV Rotina <2A - residência'!X37","v":0.85365853658536583},{"$f":"'CV Rotina <2A - residência'!R37","v":0.78048780487804881},{"$f":"'CV Rotina <2A - residência'!T37","v":1.0975609756097562},{"$f":"'CV Rotina <2A - residência'!V37","v":0.58536585365853655},{"$f":"'CV Rotina <2A - residência'!Z37","v":0.53658536585365857},1,1,2,0]
["Sul","Itapemirim",{"$f":"'CV Rotina <2A - residência'!H38","v":1.1030927835051547},{"$f":"'CV Rotina <2A - residência'!P38","v":1.0618556701030928},{"$f":"'CV Rotina <2A - residência'!J38","v":1.0103092783505154},{"$f":"'CV Rotina <2A - residência'!L38","v":0.85567010309278346},{"$f":"'CV Rotina <2A - residência'!N38","v":1.1546391752577319},{"$f":"'CV Rotina <2A - residência'!X38","v":1.1134020618556701},{"$f":"'CV Rotina <2A - residência'!R38","v":1.2474226804123711},{"$f":"'CV Rotina <2A - residência'!T38","v":0.90721649484536082},{"$f":"'CV Rotina <2A - residência'!V38","v":1.2474226804123711},{"$f":"'CV Rotina <2A - residência'!Z38","v":0.88659793814432986},2,5,7,3]
["Metropolitana","Itarana",{"$f":"'CV Rotina <2A - residência'!H39","v":0.97058823529411764},{"$f":"'CV Rotina <2A - residência'!P39","v":0.76470588235294112},{"$f":"'CV Rotina <2A - residência'!J39","v":1.1470588235294117},{"$f":"'CV Rotina <2A - residência'!L39","v":1.1470588235294117},{"$f":"'CV Rotina <2A - residência'!N39","v":0.58823529411764708},{"$f":"'CV Rotina <2A - residência'!X39","v":1.0294117647058822},{"$f":"'CV Rotina <2A - residência'!R39","v":0.97058823529411764},{"$f":"'CV Rotina <2A - residência'!T39","v":1.088235294117647},{"$f":"'CV Rotina <2A - residência'!V39","v":0.73529411764705888},{"$f":"'CV Rotina <2A - residência'!Z39","v":0.82352941176470584},1,5,6,3]
["Sul","Iúna",{"$f":"'CV Rotina <2A - residência'!H40","v":0.7567567567567568},{"$f":"'CV Rotina <2A - residência'!P40","v":0.86486486486486491},{"$f":"'CV Rotina <2A - residência'!J40","v":0.95495495495495497},{"$f":"'CV Rotina <2A - residência'!L40","v":0.89189189189189189},{"$f":"'CV Rotina <2A - residência'!N40","v":0.81081081081081086},{"$f":"'CV Rotina <2A - residência'!X40","v":0.93693693693693691},{"$f":"'CV Rotina <2A - residência'!R40","v":0.963963963963964},{"$f":"'CV Rotina <2A - residência'!T40","v":0.99099099099099097},{"$f":"'CV Rotina <2A - residência'!V40","v":1.0990990990990992},{"$f":"'CV Rotina <2A - residência'!Z40","v":0.99099099099099097},0,5,5,1]
["Norte","Jaguaré",{"$f":"'CV Rotina <2A - residência'!H41","v":0.94573643410852715},{"$f":"'CV Rotina <2A - residência'!P41","v":0.72868217054263562},{"$f":"'CV Rotina <2A - residência'!J41","v":0.96124031007751942},{"$f":"'CV Rotina <2A - residência'!L41","v":0.89147286821705429},{"$f":"'CV Rotina <2A - residência'!N41","v":0.73643410852713176},{"$f":"'CV Rotina <2A - residência'!X41","v":0.76744186046511631},{"$f":"'CV Rotina <2A - residência'!R41","v":0.93798449612403101},{"$f":"'CV Rotina <2A - residência'!T41","v":0.71317829457364346},{"$f":"'CV Rotina <2A - residência'!V41","v":0.97674418604651159},{"$f":"'CV Rotina <2A - residência'!Z41","v":0.68217054263565891},1,2,3,1]
["Sul","Jerônimo Monteiro",{"$f":"'CV Rotina <2A - residência'!H42","v":1.0769230769230769},{"$f":"'CV Rotina <2A - residência'!P42","v":1.2692307692307692},{"$f":"'CV Rotina <2A - residência'!J42","v":1.1923076923076923},{"$f":"'CV Rotina <2A - residência'!L42","v":1.2307692307692308},{"$f":"'CV Rotina <2A - residência'!N42","v":1.0769230769230769},{"$f":"'CV Rotina <2A - residência'!X42","v":1.3461538461538463},{"$f":"'CV Rotina <2A - residência'!R42","v":1.0769230769230769},{"$f":"'CV Rotina <2A - residência'!T42","v":1.0384615384615385},{"$f":"'CV Rotina <2A - residência'!V42","v":1.4230769230769231},{"$f":"'CV Rotina <2A - residência'!Z42","v":1.1923076923076923},2,8,10,4]
["Metropolitana","João Neiva",{"$f":"'CV Rotina <2A - residência'!H43","v":0.8125},{"$f":"'CV Rotina <2A - residência'!P43","v":1.1875},{"$f":"'CV Rotina <2A - residência'!J43","v":1.21875},{"$f":"'CV Rotina <2A - residência'!L43","v":1.125},{"$f":"'CV Rotina <2A - residência'!N43","v":1.03125},{"$f":"'CV Rotina <2A - residência'!X43","v":1},{"$f":"'CV Rotina <2A - residência'!R43","v":1.15625},{"$f":"'CV Rotina <2A - residência'!T43","v":1.0625},{"$f":"'CV Rotina <2A - residência'!V43","v":1.1875},{"$f":"'CV Rotina <2A - residência'!Z43","v":1.15625},1,8,9,4]
["Metropolitana","Laranja da Terra",{"$f":"'CV Rotina <2A - residência'!H44","v":1.1599999999999999},{"$f":"'CV Rotina <2A - residência'!P44","v":1.6},{"$f":"'CV Rotina <2A - residência'!J44","v":1.04},{"$f":"'CV Rotina <2A - residência'!L44","v":1.08},{"$f":"'CV Rotina <2A - residência'!N44","v":1.52},{"$f":"'CV Rotina <2A - residência'!X44","v":0.88},{"$f":"'CV Rotina <2A - residência'!R44","v":1.6},{"$f":"'CV Rotina <2A - residência'!T44","v":0.88},{"$f":"'CV Rotina <2A - residência'!V44","v":0.92},{"$f":"'CV Rotina <2A - residência'!Z44","v":1.08},2,5,7,3]
["Central","Linhares",{"$f":"'CV Rotina <2A - residência'!H45","v":0.77442528735632188},{"$f":"'CV Rotina <2A - residência'!P45","v":0.83477011494252873},{"$f":"'CV Rotina <2A - residência'!J45","v":0.8318965517241379},{"$f":"'CV Rotina <2A - residência'!L45","v":0.81034482758620685},{"$f":"'CV Rotina <2A - residência'!N45","v":0.74281609195402298},{"$f":"'CV Rotina <2A - residência'!X45","v":0.78735632183908044},{"$f":"'CV Rotina <2A - residência'!R45","v":0.86494252873563215},{"$f":"'CV Rotina <2A - residência'!T45","v":0.74425287356321834},{"$f":"'CV Rotina <2A - residência'!V45","v":0.75718390804597702},{"$f":"'CV Rotina <2A - residência'!Z45","v":0.5933908045977011},0,0,0,0]
["Central","Mantenópolis",{"$f":"'CV Rotina <2A - residência'!H46","v":0.86842105263157898},{"$f":"'CV Rotina <2A - residência'!P46","v":0.71052631578947367},{"$f":"'CV Rotina <2A - residência'!J46","v":0.97368421052631582},{"$f":"'CV Rotina <2A - residência'!L46","v":0.94736842105263153},{"$f":"'CV Rotina <2A - residência'!N46","v":0.57894736842105265},{"$f":"'CV Rotina <2A - residência'!X46","v":0.89473684210526316},{"$f":"'CV Rotina <2A - residência'!R46","v":1.0263157894736843},{"$f":"'CV Rotina <2A - residência'!T46","v":1.2894736842105263},{"$f":"'CV Rotina <2A - residência'!V46","v":0.76315789473684215},{"$f":"'CV Rotina <2A - residência'!Z46","v":1.131578947368421},0,4,4,1]
["Sul","Marataízes",{"$f":"'CV Rotina <2A - residência'!H47","v":1.1666666666666667},{"$f":"'CV Rotina <2A - residência'!P47","v":1.2416666666666667},{"$f":"'CV Rotina <2A - residência'!J47","v":0.97499999999999998},{"$f":"'CV Rotina <2A - residência'!L47","v":0.89166666666666672},{"$f":"'CV Rotina <2A - residência'!N47","v":1.2083333333333333},{"$f":"'CV Rotina <2A - residência'!X47","v":1.1499999999999999},{"$f":"'CV Rotina <2A - residência'!R47","v":1.1666666666666667},{"$f":"'CV Rotina <2A - residência'!T47","v":0.84166666666666667},{"$f":"'CV Rotina <2A - residência'!V47","v":0.95833333333333337},{"$f":"'CV Rotina <2A - residência'!Z47","v":0.79166666666666663},2,5,7,3]
["Metropolitana","Marechal Floriano",{"$f":"'CV Rotina <2A - residência'!H48","v":0.75},{"$f":"'CV Rotina <2A - residência'!P48","v":0.640625},{"$f":"'CV Rotina <2A - residência'!J48","v":0.703125},{"$f":"'CV Rotina <2A - residência'!L48","v":0.703125},{"$f":"'CV Rotina <2A - residência'!N48","v":0.625},{"$f":"'CV Rotina <2A - residência'!X48","v":0.84375},{"$f":"'CV Rotina <2A - residência'!R48","v":0.640625},{"$f":"'CV Rotina <2A - residência'!T48","v":0.78125},{"$f":"'CV Rotina <2A - residência'!V48","v":0.96875},{"$f":"'CV Rotina <2A - residência'!Z48","v":1.015625},0,2,2,0]
["Central","Marilândia",{"$f":"'CV Rotina <2A - residência'!H49","v":1.027027027027027},{"$f":"'CV Rotina <2A - residência'!P49","v":1.0540540540540539},{"$f":"'CV Rotina <2A - residência'!J49","v":0.83783783783783783},{"$f":"'CV Rotina <2A - residência'!L49","v":0.83783783783783783},{"$f":"'CV Rotina <2A - residência'!N49","v":0.89189189189189189},{"$f":"'CV Rotina <2A - residência'!X49","v":0.94594594594594594},{"$f":"'CV Rotina <2A - residência'!R49","v":0.97297297297297303},{"$f":"'CV Rotina <2A - residência'!T49","v":1.0810810810810811},{"$f":"'CV Rotina <2A - residência'!V49","v":0.83783783783783783},{"$f":"'CV Rotina <2A - residência'!Z49","v":0.86486486486486491},2,2,4,0]
["Sul","Mimoso do Sul",{"$f":"'CV Rotina <2A - residência'!H50","v":1.7391304347826086},{"$f":"'CV Rotina <2A - residência'!P50","v":1.3043478260869565},{"$f":"'CV Rotina <2A - residência'!J50","v":1.3913043478260869},{"$f":"'CV Rotina <2A - residência'!L50","v":1.1956521739130435},{"$f":"'CV Rotina <2A - residência'!N50","v":1.0652173913043479},{"$f":"'CV Rotina <2A - residência'!X50","v":0.93478260869565222},{"$f":"'CV Rotina <2A - residência'!R50","v":1.2608695652173914},{"$f":"'CV Rotina <2A - residência'!T50","v":1.3695652173913044},{"$f":"'CV Rotina <2A - residência'!V50","v":1.1086956521739131},{"$f":"'CV Rotina <2A - residência'!Z50","v":1.1956521739130435},2,7,9,3]
["Norte","Montanha",{"$f":"'CV Rotina <2A - residência'!H51","v":0.76190476190476186},{"$f":"'CV Rotina <2A - residência'!P51","v":1.0952380952380953},{"$f":"'CV Rotina <2A - residência'!J51","v":1.1587301587301588},{"$f":"'CV Rotina <2A - residência'!L51","v":1.1428571428571428},{"$f":"'CV Rotina <2A - residência'!N51","v":0.93650793650793651},{"$f":"'CV Rotina <2A - residência'!X51","v":1.0158730158730158},{"$f":"'CV Rotina <2A - residência'!R51","v":1.0793650793650793},{"$f":"'CV Rotina <2A - residência'!T51","v":0.90476190476190477},{"$f":"'CV Rotina <2A - residência'!V51","v":0.8571428571428571},{"$f":"'CV Rotina <2A - residência'!Z51","v":1.0952380952380953},1,5,6,3]
["Norte","Mucurici",{"$f":"'CV Rotina <2A - residência'!H52","v":0.625},{"$f":"'CV Rotina <2A - residência'!P52","v":1.0625},{"$f":"'CV Rotina <2A - residência'!J52","v":0.8125},{"$f":"'CV Rotina <2A - residência'!L52","v":0.875},{"$f":"'CV Rotina <2A - residência'!N52","v":1.125},{"$f":"'CV Rotina <2A - residência'!X52","v":1.0625},{"$f":"'CV Rotina <2A - residência'!R52","v":1.0625},{"$f":"'CV Rotina <2A - residência'!T52","v":1.3125},{"$f":"'CV Rotina <2A - residência'!V52","v":1.8125},{"$f":"'CV Rotina <2A - residência'!Z52","v":1.6875},1,6,7,2]
["Sul","Muniz Freire",{"$f":"'CV Rotina <2A - residência'!H53","v":1.1086956521739131},{"$f":"'CV Rotina <2A - residência'!P53","v":1.2173913043478262},{"$f":"'CV Rotina <2A - residência'!J53","v":1.173913043478261},{"$f":"'CV Rotina <2A - residência'!L53","v":1.1086956521739131},{"$f":"'CV Rotina <2A - residência'!N53","v":1.173913043478261},{"$f":"'CV Rotina <2A - residência'!X53","v":1.4347826086956521},{"$f":"'CV Rotina <2A - residência'!R53","v":1.1521739130434783},{"$f":"'CV Rotina <2A - residência'!T53","v":1.3913043478260869},{"$f":"'CV Rotina <2A - residência'!V53","v":1.2826086956521738},{"$f":"'CV Rotina <2A - residência'!Z53","v":1.2826086956521738},2,8,10,4]
["Sul","Muqui",{"$f":"'CV Rotina <2A - residência'!H54","v":1.4782608695652173},{"$f":"'CV Rotina <2A - residência'!P54","v":1.5652173913043479},{"$f":"'CV Rotina <2A - residência'!J54","v":1.5217391304347827},{"$f":"'CV Rotina <2A - residência'!L54","v":1.5217391304347827},{"$f":"'CV Rotina <2A - residência'!N54","v":1.4782608695652173},{"$f":"'CV Rotina <2A - residência'!X54","v":1.3913043478260869},{"$f":"'CV Rotina <2A - residência'!R54","v":1.4782608695652173},{"$f":"'CV Rotina <2A - residência'!T54","v":1.7826086956521738},{"$f":"'CV Rotina <2A - residência'!V54","v":1.4782608695652173},{"$f":"'CV Rotina <2A - residência'!Z54","v":1.4347826086956521},2,8,10,4]
["Norte","Nova Venécia",{"$f":"'CV Rotina <2A - residência'!H55","v":0.95705521472392641},{"$f":"'CV Rotina <2A - residência'!P55","v":1.0306748466257669},{"$f":"'CV Rotina <2A - residência'!J55","v":0.93865030674846628},{"$f":"'CV Rotina <2A - residência'!L55","v":0.89570552147239269},{"$f":"'CV Rotina <2A - residência'!N55","v":0.84662576687116564},{"$f":"'CV Rotina <2A - residência'!X55","v":0.91411042944785281},{"$f":"'CV Rotina <2A - residência'!R55","v":1},{"$f":"'CV Rotina <2A - residência'!T55","v":0.87116564417177911},{"$f":"'CV Rotina <2A - residência'!V55","v":0.81595092024539873},{"$f":"'CV Rotina <2A - residência'!Z55","v":0.80368098159509205},2,1,3,0]
["Central","Pancas",{"$f":"'CV Rotina <2A - residência'!H56","v":1.0344827586206897},{"$f":"'CV Rotina <2A - residência'!P56","v":0.75862068965517238},{"$f":"'CV Rotina <2A - residência'!J56","v":0.74137931034482762},{"$f":"'CV Rotina <2A - residência'!L56","v":0.74137931034482762},{"$f":"'CV Rotina <2A - residência'!N56","v":0.75862068965517238},{"$f":"'CV Rotina <2A - residência'!X56","v":0.96551724137931039},{"$f":"'CV Rotina <2A - residência'!R56","v":0.81034482758620685},{"$f":"'CV Rotina <2A - residência'!T56","v":0.87931034482758619},{"$f":"'CV Rotina <2A - residência'!V56","v":0.96551724137931039},{"$f":"'CV Rotina <2A - residência'!Z56","v":1.0862068965517242},1,3,4,1]
["Norte","Pedro Canário",{"$f":"'CV Rotina <2A - residência'!H57","v":0.956989247311828},{"$f":"'CV Rotina <2A - residência'!P57","v":0.62365591397849462},{"$f":"'CV Rotina <2A - residência'!J57","v":0.80645161290322576},{"$f":"'CV Rotina <2A - residência'!L57","v":0.74193548387096775},{"$f":"'CV Rotina <2A - residência'!N57","v":0.66666666666666663},{"$f":"'CV Rotina <2A - residência'!X57","v":0.92473118279569888},{"$f":"'CV Rotina <2A - residência'!R57","v":0.63440860215053763},{"$f":"'CV Rotina <2A - residência'!T57","v":0.5161290322580645},{"$f":"'CV Rotina <2A - residência'!V57","v":0.84946236559139787},{"$f":"'CV Rotina <2A - residência'!Z57","v":0.67741935483870963},1,0,1,0]
["Norte","Pinheiros",{"$f":"'CV Rotina <2A - residência'!H58","v":1.0540540540540539},{"$f":"'CV Rotina <2A - residência'!P58","v":1.2027027027027026},{"$f":"'CV Rotina <2A - residência'!J58","v":1.0675675675675675},{"$f":"'CV Rotina <2A - residência'!L58","v":1.0675675675675675},{"$f":"'CV Rotina <2A - residência'!N58","v":1.1216216216216217},{"$f":"'CV Rotina <2A - residência'!X58","v":1.2027027027027026},{"$f":"'CV Rotina <2A - residência'!R58","v":1.1486486486486487},{"$f":"'CV Rotina <2A - residência'!T58","v":1},{"$f":"'CV Rotina <2A - residência'!V58","v":1.1891891891891893},{"$f":"'CV Rotina <2A - residência'!Z58","v":0.94594594594594594},2,7,9,4]
["Sul","Piúma",{"$f":"'CV Rotina <2A - residência'!H59","v":1.1290322580645162},{"$f":"'CV Rotina <2A - residência'!P59","v":1.096774193548387},{"$f":"'CV Rotina <2A - residência'!J59","v":1.2096774193548387},{"$f":"'CV Rotina <2A - residência'!L59","v":1.1290322580645162},{"$f":"'CV Rotina <2A - residência'!N59","v":1},{"$f":"'CV Rotina <2A - residência'!X59","v":1.1451612903225807},{"$f":"'CV Rotina <2A - residência'!R59","v":1.1451612903225807},{"$f":"'CV Rotina <2A - residência'!T59","v":0.90322580645161288},{"$f":"'CV Rotina <2A - residência'!V59","v":1.3548387096774193},{"$f":"'CV Rotina <2A - residência'!Z59","v":0.83870967741935487},2,6,8,4]
["Norte","Ponto Belo",{"$f":"'CV Rotina <2A - residência'!H60","v":1.1428571428571428},{"$f":"'CV Rotina <2A - residência'!P60","v":1.7142857142857142},{"$f":"'CV Rotina <2A - residência'!J60","v":1.9285714285714286},{"$f":"'CV Rotina <2A - residência'!L60","v":1.8571428571428572},{"$f":"'CV Rotina <2A - residência'!N60","v":1.5714285714285714},{"$f":"'CV Rotina <2A - residência'!X60","v":1.3571428571428572},{"$f":"'CV Rotina <2A - residência'!R60","v":1.6428571428571428},{"$f":"'CV Rotina <2A - residência'!T60","v":1.9285714285714286},{"$f":"'CV Rotina <2A - residência'!V60","v":1.5714285714285714},{"$f":"'CV Rotina <2A - residência'!Z60","v":1.2142857142857142},2,8,10,4]
["Sul","Presidente Kennedy",{"$f":"'CV Rotina <2A - residência'!H61","v":1.2222222222222223},{"$f":"'CV Rotina <2A - residência'!P61","v":1.1333333333333333},{"$f":"'CV Rotina <2A - residência'!J61","v":1.3111111111111111},{"$f":"'CV Rotina <2A - residência'!L61","v":1.2666666666666666},{"$f":"'CV Rotina <2A - residência'!N61","v":1.0888888888888888},{"$f":"'CV Rotina <2A - residência'!X61","v":1.3333333333333333},{"$f":"'CV Rotina <2A - residência'!R61","v":1.3111111111111111},{"$f":"'CV Rotina <2A - residência'!T61","v":1.288888888888889},{"$f":"'CV Rotina <2A - residência'!V61","v":0.97777777777777775},{"$f":"'CV Rotina <2A - residência'!Z61","v":0.91111111111111109},2,7,9,4]
["Central","Rio Bananal",{"$f":"'CV Rotina <2A - residência'!H62","v":0.75714285714285712},{"$f":"'CV Rotina <2A - residência'!P62","v":0.97142857142857142},{"$f":"'CV Rotina <2A - residência'!J62","v":0.98571428571428577},{"$f":"'CV Rotina <2A - residência'!L62","v":0.98571428571428577},{"$f":"'CV Rotina <2A - residência'!N62","v":0.82857142857142863},{"$f":"'CV Rotina <2A - residência'!X62","v":1.1857142857142857},{"$f":"'CV Rotina <2A - residência'!R62","v":0.98571428571428577},{"$f":"'CV Rotina <2A - residência'!T62","v":1.0714285714285714},{"$f":"'CV Rotina <2A - residência'!V62","v":0.91428571428571426},{"$f":"'CV Rotina <2A - residência'!Z62","v":0.7857142857142857},1,5,6,3]
["Sul","Rio Novo do Sul",{"$f":"'CV Rotina <2A - residência'!H63","v":1.6875},{"$f":"'CV Rotina <2A - residência'!P63","v":1.5},{"$f":"'CV Rotina <2A - residência'!J63","v":2.25},{"$f":"'CV Rotina <2A - residência'!L63","v":2.1875},{"$f":"'CV Rotina <2A - residência'!N63","v":1.5},{"$f":"'CV Rotina <2A - residência'!X63","v":1.5},{"$f":"'CV Rotina <2A - residência'!R63","v":1.875},{"$f":"'CV Rotina <2A - residência'!T63","v":1.125},{"$f":"'CV Rotina <2A - residência'!V63","v":1.5625},{"$f":"'CV Rotina <2A - residência'!Z63","v":1.625},2,8,10,4]
["Metropolitana","Santa Leopoldina",{"$f":"'CV Rotina <2A - residência'!H64","v":1.3529411764705883},{"$f":"'CV Rotina <2A - residência'!P64","v":1.588235294117647},{"$f":"'CV Rotina <2A - residência'!J64","v":1.1176470588235294},{"$f":"'CV Rotina <2A - residência'!L64","v":1},{"$f":"'CV Rotina <2A - residência'!N64","v":1.5294117647058822},{"$f":"'CV Rotina <2A - residência'!X64","v":0.88235294117647056},{"$f":"'CV Rotina <2A - residência'!R64","v":1.2941176470588236},{"$f":"'CV Rotina <2A - residência'!T64","v":1.5294117647058822},{"$f":"'CV Rotina <2A - residência'!V64","v":1.588235294117647},{"$f":"'CV Rotina <2A - residência'!Z64","v":0.58823529411764708},2,6,8,3]
["Metropolitana","Santa Maria de Jetibá",{"$f":"'CV Rotina <2A - residência'!H65","v":0.98203592814371254},{"$f":"'CV Rotina <2A - residência'!P65","v":0.9760479041916168},{"$f":"'CV Rotina <2A - residência'!J65","v":0.85628742514970058},{"$f":"'CV Rotina <2A - residência'!L65","v":0.87425149700598803},{"$f":"'CV Rotina <2A - residência'!N65","v":0.88023952095808389},{"$f":"'CV Rotina <2A - residência'!X65","v":0.88622754491017963},{"$f":"'CV Rotina <2A - residência'!R65","v":0.88622754491017963},{"$f":"'CV Rotina <2A - residência'!T65","v":0.73652694610778446},{"$f":"'CV Rotina <2A - residência'!V65","v":0.90419161676646709},{"$f":"'CV Rotina <2A - residência'!Z65","v":0.72455089820359286},2,0,2,0]
["Metropolitana","Santa Teresa",{"$f":"'CV Rotina <2A - residência'!H66","v":1.05},{"$f":"'CV Rotina <2A - residência'!P66","v":0.78749999999999998},{"$f":"'CV Rotina <2A - residência'!J66","v":0.8},{"$f":"'CV Rotina <2A - residência'!L66","v":0.77500000000000002},{"$f":"'CV Rotina <2A - residência'!N66","v":0.71250000000000002},{"$f":"'CV Rotina <2A - residência'!X66","v":0.75},{"$f":"'CV Rotina <2A - residência'!R66","v":0.82499999999999996},{"$f":"'CV Rotina <2A - residência'!T66","v":0.86250000000000004},{"$f":"'CV Rotina <2A - residência'!V66","v":0.85},{"$f":"'CV Rotina <2A - residência'!Z66","v":0.78749999999999998},1,0,1,0]
["Central","São Domingos do Norte",{"$f":"'CV Rotina <2A - residência'!H67","v":0.92},{"$f":"'CV Rotina <2A - residência'!P67","v":1.04},{"$f":"'CV Rotina <2A - residência'!J67","v":1.1200000000000001},{"$f":"'CV Rotina <2A - residência'!L67","v":1.1599999999999999},{"$f":"'CV Rotina <2A - residência'!N67","v":1.04},{"$f":"'CV Rotina <2A - residência'!X67","v":1.4},{"$f":"'CV Rotina <2A - residência'!R67","v":1.24},{"$f":"'CV Rotina <2A - residência'!T67","v":1.04},{"$f":"'CV Rotina <2A - residência'!V67","v":1.56},{"$f":"'CV Rotina <2A - residência'!Z67","v":1.2},{"$f":"COUNTIF(C67:D67,\">=0,9\")","v":2},{"$f":"COUNTIFS(E67:L67,\">=0,95\")","v":8},10,4]
["Central","São Gabriel da Palha",{"$f":"'CV Rotina <2A - residência'!H68","v":0.78181818181818186},{"$f":"'CV Rotina <2A - residência'!P68","v":0.78181818181818186},{"$f":"'CV Rotina <2A - residência'!J68","v":1.009090909090909},{"$f":"'CV Rotina <2A - residência'!L68","v":1.0181818181818181},{"$f":"'CV Rotina <2A - residência'!N68","v":0.69090909090909092},{"$f":"'CV Rotina <2A - residência'!X68","v":0.8545454545454545},{"$f":"'CV Rotina <2A - residência'!R68","v":0.97272727272727277},{"$f":"'CV Rotina <2A - residência'!T68","v":0.95454545454545459},{"$f":"'CV Rotina <2A - residência'!V68","v":0.91818181818181821},{"$f":"'CV Rotina <2A - residência'!Z68","v":0.65454545454545454},0,4,{"$f":"SUM(M68:N68)","v":4},{"$f":"COUNTIF(E68:H68,\">=0,95\")","v":2}]
["Sul","São José do Calçado",{"$f":"'CV Rotina <2A - residência'!H69","v":1},{"$f":"'CV Rotina <2A - residência'!P69","v":0.75},{"$f":"'CV Rotina <2A - residência'!J69","v":1.2083333333333333},{"$f":"'CV Rotina <2A - residência'!L69","v":1.2083333333333333},{"$f":"'CV Rotina <2A - residência'!N69","v":0.79166666666666663},{"$f":"'CV Rotina <2A - residência'!X69","v":0.95833333333333337},{"$f":"'CV Rotina <2A - residência'!R69","v":0.79166666666666663},{"$f":"'CV Rotina <2A - residência'!T69","v":0.58333333333333337},{"$f":"'CV Rotina <2A - residência'!V69","v":1.1666666666666667},{"$f":"'CV Rotina <2A - residência'!Z69","v":1.2916666666666667},1,5,6,3]
["Norte","São Mateus",{"$f":"'CV Rotina <2A - residência'!H70","v":0.87229437229437234},{"$f":"'CV Rotina <2A - residência'!P70","v":0.82034632034632038},{"$f":"'CV Rotina <2A - residência'!J70","v":0.88095238095238093},{"$f":"'CV Rotina <2A - residência'!L70","v":0.86796536796536794},{"$f":"'CV Rotina <2A - residência'!N70","v":0.75757575757575757},{"$f":"'CV Rotina <2A - residência'!X70","v":0.91558441558441561},{"$f":"'CV Rotina <2A - residência'!R70","v":0.83982683982683981},{"$f":"'CV Rotina <2A - residência'!T70","v":0.82683982683982682},{"$f":"'CV Rotina <2A - residência'!V70","v":0.87012987012987009},{"$f":"'CV Rotina <2A - residência'!Z70","v":0.69913419913419916},0,0,0,0]
["Central","São Roque do Canaã",{"$f":"'CV Rotina <2A - residência'!H71","v":0.78260869565217395},{"$f":"'CV Rotina <2A - residência'!P71","v":0.65217391304347827},{"$f":"'CV Rotina <2A - residência'!J71","v":0.76086956521739135},{"$f":"'CV Rotina <2A - residência'!L71","v":0.71739130434782605},{"$f":"'CV Rotina <2A - residência'!N71","v":0.52173913043478259},{"$f":"'CV Rotina <2A - residência'!X71","v":0.91304347826086951},{"$f":"'CV Rotina <2A - residência'!R71","v":0.73913043478260865},{"$f":"'CV Rotina <2A - residência'!T71","v":0.67391304347826086},{"$f":"'CV Rotina <2A - residência'!V71","v":0.36956521739130432},{"$f":"'CV Rotina <2A - residência'!Z71","v":0.52173913043478259},0,0,0,0]
["Metropolitana","Serra",{"$f":"'CV Rotina <2A - residência'!H72","v":0.92149631190727077},{"$f":"'CV Rotina <2A - residência'!P72","v":0.87618545837723916},{"$f":"'CV Rotina <2A - residência'!J72","v":0.88672286617492102},{"$f":"'CV Rotina <2A - residência'!L72","v":0.86406743940990516},{"$f":"'CV Rotina <2A - residência'!N72","v":0.82455216016859856},{"$f":"'CV Rotina <2A - residência'!X72","v":0.84931506849315064},{"$f":"'CV Rotina <2A - residência'!R72","v":0.8719704952581665},{"$f":"'CV Rotina <2A - residência'!T72","v":0.731822971548999},{"$f":"'CV Rotina <2A - residência'!V72","v":0.89146469968387776},{"$f":"'CV Rotina <2A - residência'!Z72","v":0.79557428872497371},1,0,1,0]
["Central","Sooretama",{"$f":"'CV Rotina <2A - residência'!H73","v":0.72448979591836737},{"$f":"'CV Rotina <2A - residência'!P73","v":1.1020408163265305},{"$f":"'CV Rotina <2A - residência'!J73","v":1.0612244897959184},{"$f":"'CV Rotina <2A - residência'!L73","v":1},{"$f":"'CV Rotina <2A - residência'!N73","v":0.96938775510204078},{"$f":"'CV Rotina <2A - residência'!X73","v":0.90816326530612246},{"$f":"'CV Rotina <2A - residência'!R73","v":1.153061224489796},{"$f":"'CV Rotina <2A - residência'!T73","v":0.94897959183673475},{"$f":"'CV Rotina <2A - residência'!V73","v":0.90816326530612246},{"$f":"'CV Rotina <2A - residência'!Z73","v":0.87755102040816324},1,4,5,3]
["Sul","Vargem Alta",{"$f":"'CV Rotina <2A - residência'!H74","v":1.4},{"$f":"'CV Rotina <2A - residência'!P74","v":1.18},{"$f":"'CV Rotina <2A - residência'!J74","v":1.22},{"$f":"'CV Rotina <2A - residência'!L74","v":1.1599999999999999},{"$f":"'CV Rotina <2A - residência'!N74","v":1.2},{"$f":"'CV Rotina <2A - residência'!X74","v":1.32},{"$f":"'CV Rotina <2A - residência'!R74","v":1.28},{"$f":"'CV Rotina <2A - residência'!T74","v":1.22},{"$f":"'CV Rotina <2A - residência'!V74","v":1.28},{"$f":"'CV Rotina <2A - residência'!Z74","v":1.54},2,8,10,4]
["Metropolitana","Venda Nova do Imigrante",{"$f":"'CV Rotina <2A - residência'!H75","v":1.0493827160493827},{"$f":"'CV Rotina <2A - residência'!P75","v":1.271604938271605},{"$f":"'CV Rotina <2A - residência'!J75","v":0.97530864197530864},{"$f":"'CV Rotina <2A - residência'!L75","v":0.96296296296296291},{"$f":"'CV Rotina <2A - residência'!N75","v":1.0987654320987654},{"$f":"'CV Rotina <2A - residência'!X75","v":1.1604938271604939},{"$f":"'CV Rotina <2A - residência'!R75","v":1.0617283950617284},{"$f":"'CV Rotina <2A - residência'!T75","v":1.1234567901234569},{"$f":"'CV Rotina <2A - residência'!V75","v":1.3950617283950617},{"$f":"'CV Rotina <2A - residência'!Z75","v":1.037037037037037},2,8,10,4]
["Metropolitana","Viana",{"$f":"'CV Rotina <2A - residência'!H76","v":0.95890410958904104},{"$f":"'CV Rotina <2A - residência'!P76","v":1.0410958904109588},{"$f":"'CV Rotina <2A - residência'!J76","v":1.0228310502283104},{"$f":"'CV Rotina <2A - residência'!L76","v":0.9817351598173516},{"$f":"'CV Rotina <2A - residência'!N76","v":1.0821917808219179},{"$f":"'CV Rotina <2A - residência'!X76","v":1.0091324200913243},{"$f":"'CV Rotina <2A - residência'!R76","v":1.004566210045662},{"$f":"'CV Rotina <2A - residência'!T76","v":0.73972602739726023},{"$f":"'CV Rotina <2A - residência'!V76","v":0.93150684931506844},{"$f":"'CV Rotina <2A - residência'!Z76","v":0.59360730593607303},2,5,7,4]
["Norte","Vila Pavão",{"$f":"'CV Rotina <2A - residência'!H77","v":1.1724137931034482},{"$f":"'CV Rotina <2A - residência'!P77","v":1},{"$f":"'CV Rotina <2A - residência'!J77","v":1.4482758620689655},{"$f":"'CV Rotina <2A - residência'!L77","v":1.3448275862068966},{"$f":"'CV Rotina <2A - residência'!N77","v":1},{"$f":"'CV Rotina <2A - residência'!X77","v":0.93103448275862066},{"$f":"'CV Rotina <2A - residência'!R77","v":1.3448275862068966},{"$f":"'CV Rotina <2A - residência'!T77","v":1},{"$f":"'CV Rotina <2A - residência'!V77","v":0.68965517241379315},{"$f":"'CV Rotina <2A - residência'!Z77","v":0.89655172413793105},2,5,7,3]
["Central","Vila Valério",{"$f":"'CV Rotina <2A - residência'!H78","v":0.82258064516129037},{"$f":"'CV Rotina <2A - residência'!P78","v":0.79032258064516125},{"$f":"'CV Rotina <2A - residência'!J78","v":0.77419354838709675},{"$f":"'CV Rotina <2A - residência'!L78","v":0.79032258064516125},{"$f":"'CV Rotina <2A - residência'!N78","v":0.87096774193548387},{"$f":"'CV Rotina <2A - residência'!X78","v":1.0161290322580645},{"$f":"'CV Rotina <2A - residência'!R78","v":0.80645161290322576},{"$f":"'CV Rotina <2A - residência'!T78","v":1.0483870967741935},{"$f":"'CV Rotina <2A - residência'!V78","v":1.064516129032258},{"$f":"'CV Rotina <2A - residência'!Z78","v":0.79032258064516125},0,3,3,1]
["Metropolitana","Vila Velha",{"$f":"'CV Rotina <2A - residência'!H79","v":0.90896259703599158},{"$f":"'CV Rotina <2A - residência'!P79","v":0.839802399435427},{"$f":"'CV Rotina <2A - residência'!J79","v":0.85462244177840507},{"$f":"'CV Rotina <2A - residência'!L79","v":0.84685956245589278},{"$f":"'CV Rotina <2A - residência'!N79","v":0.69654199011997175},{"$f":"'CV Rotina <2A - residência'!X79","v":0.8369795342272407},{"$f":"'CV Rotina <2A - residência'!R79","v":0.839802399435427},{"$f":"'CV Rotina <2A - residência'!T79","v":0.64290755116443188},{"$f":"'CV Rotina <2A - residência'!V79","v":0.84615384615384615},{"$f":"'CV Rotina <2A - residência'!Z79","v":0.8087508821453776},1,0,1,0]
["Metropolitana","Vitória",{"$f":"'CV Rotina <2A - residência'!H80","v":0.88812785388127857},{"$f":"'CV Rotina <2A - residência'!P80","v":0.88584474885844744},{"$f":"'CV Rotina <2A - residência'!J80","v":0.93721461187214616},{"$f":"'CV Rotina <2A - residência'!L80","v":0.92579908675799083},{"$f":"'CV Rotina <2A - residência'!N80","v":0.7408675799086758},{"$f":"'CV Rotina <2A - residência'!X80","v":1.115296803652968},{"$f":"'CV Rotina <2A - residência'!R80","v":0.92808219178082196},{"$f":"'CV Rotina <2A - residência'!T80","v":0.64726027397260277},{"$f":"'CV Rotina <2A - residência'!V80","v":1.0022831050228311},{"$f":"'CV Rotina <2A - residência'!Z80","v":1.0182648401826484},0,3,3,1]
[]
[null,"Total Norte",{"$f":"'CV Rotina <2A - residência'!H82","v":0.88836265223274691},{"$f":"'CV Rotina <2A - residência'!P82","v":0.85317997293640058},{"$f":"'CV Rotina <2A - residência'!J82","v":0.92895805142083898},{"$f":"'CV Rotina <2A - residência'!L82","v":0.90527740189445194},{"$f":"'CV Rotina <2A - residência'!N82","v":0.79566982408660347},{"$f":"'CV Rotina <2A - residência'!X82","v":0.91880920162381596},{"$f":"'CV Rotina <2A - residência'!R82","v":0.88700947225981053},{"$f":"'CV Rotina <2A - residência'!T82","v":0.84844384303112319},{"$f":"'CV Rotina <2A - residência'!V82","v":0.88092016238159676},{"$f":"'CV Rotina <2A - residência'!Z82","v":0.76657645466847091},{"$f":"COUNTIF(C82:D82,\">=0,9\")","v":0},{"$f":"COUNTIFS(E82:L82,\">=0,95\")","v":0},{"$f":"SUM(M82:N82)","v":0},{"$f":"COUNTIF(E82:H82,\">=0,95\")","v":0}]
[null,"Total Central",{"$f":"'CV Rotina <2A - residência'!H83","v":0.85494505494505491},{"$f":"'CV Rotina <2A - residência'!P83","v":0.82857142857142863},{"$f":"'CV Rotina <2A - residência'!J83","v":0.88461538461538458},{"$f":"'CV Rotina <2A - residência'!L83","v":0.87472527472527473},{"$f":"'CV Rotina <2A - residência'!N83","v":0.7395604395604396},{"$f":"'CV Rotina <2A - residência'!X83","v":0.8802197802197802},{"$f":"'CV Rotina <2A - residência'!R83","v":0.9054945054945055},{"$f":"'CV Rotina <2A - residência'!T83","v":0.84725274725274724},{"$f":"'CV Rotina <2A - residência'!V83","v":0.83351648351648355},{"$f":"'CV Rotina <2A - residência'!Z83","v":0.7153846153846154},{"$f":"COUNTIF(C83:D83,\">=0,9\")","v":0},{"$f":"COUNTIFS(E83:L83,\">=0,95\")","v":0},{"$f":"SUM(M83:N83)","v":0},{"$f":"COUNTIF(E83:H83,\">=0,95\")","v":0}]
[null,"Total Metropolitana",{"$f":"'CV Rotina <2A - residência'!H84","v":0.94179325178115336},{"$f":"'CV Rotina <2A - residência'!P84","v":0.89044226374512703},{"$f":"'CV Rotina <2A - residência'!J84","v":0.90280951740825377},{"$f":"'CV Rotina <2A - residência'!L84","v":0.88614061029708291},{"$f":"'CV Rotina <2A - residência'!N84","v":0.79822556795268185},{"$f":"'CV Rotina <2A - residência'!X84","v":0.91598333109288887},{"$f":"'CV Rotina <2A - residência'!R84","v":0.89286194380965178},{"$f":"'CV Rotina <2A - residência'!T84","v":0.72765156607070847},{"$f":"'CV Rotina <2A - residência'!V84","v":0.92257023793520632},{"$f":"'CV Rotina <2A - residência'!Z84","v":0.82134695523591883},{"$f":"COUNTIF(C84:D84,\">=0,9\")","v":1},{"$f":"COUNTIFS(E84:L84,\">=0,95\")","v":0},{"$f":"SUM(M84:N84)","v":1},{"$f":"COUNTIF(E84:H84,\">=0,95\")","v":0}]
[null,"Total Sul",{"$f":"'CV Rotina <2A - residência'!H85","v":1.1956521739130435},{"$f":"'CV Rotina <2A - residência'!P85","v":1.1304347826086956},{"$f":"'CV Rotina <2A - residência'!J85","v":1.1714975845410629},{"$f":"'CV Rotina <2A - residência'!L85","v":1.1189613526570048},{"$f":"'CV Rotina <2A - residência'!N85","v":1.0525362318840579},{"$f":"'CV Rotina <2A - residência'!X85","v":1.2083333333333333},{"$f":"'CV Rotina <2A - residência'!R85","v":1.1551932367149758},{"$f":"'CV Rotina <2A - residência'!T85","v":1.068840579710145},{"$f":"'CV Rotina <2A - residência'!V85","v":1.2234299516908214},{"$f":"'CV Rotina <2A - residência'!Z85","v":1.0833333333333333},{"$f":"COUNTIF(C85:D85,\">=0,9\")","v":2},{"$f":"COUNTIFS(E85:L85,\">=0,95\")","v":8},{"$f":"SUM(M85:N85)","v":10},{"$f":"COUNTIF(E85:H85,\">=0,95\")","v":4}]
[null,"Total Espírito Santo",{"$f":"'CV Rotina <2A - residência'!H86","v":0.95658839667554263},{"$f":"'CV Rotina <2A - residência'!P86","v":0.90898087630113777},{"$f":"'CV Rotina <2A - residência'!J86","v":0.93915920277576048},{"$f":"'CV Rotina <2A - residência'!L86","v":0.91785685467602673},{"$f":"'CV Rotina <2A - residência'!N86","v":0.8232873396272089},{"$f":"'CV Rotina <2A - residência'!X86","v":0.95013313967562329},{"$f":"'CV Rotina <2A - residência'!R86","v":0.9290728637133866},{"$f":"'CV Rotina <2A - residência'!T86","v":0.80521262002743488},{"$f":"'CV Rotina <2A - residência'!V86","v":0.94472686193819089},{"$f":"'CV Rotina <2A - residência'!Z86","v":0.83426127652707172},{"$f":"COUNTIF(C86:D86,\">=0,9\")","v":2},{"$f":"COUNTIFS(E86:L86,\">=0,95\")","v":1},{"$f":"SUM(M86:N86)","v":3},{"$f":"COUNTIF(E86:H86,\">=0,95\")","v":1}]
[]
[]
["Fonte: SIPNI/DATASUS, em 09 de junho de 2023.*"]
[" Vacina e Confia, em 12 de junho de 2023.**"]
["*Dados referentes às doses aplicadas pelas clínicas particulares de janeiro a maio de 2023"]
["**Dados referente às doses aplicadas no período de janeiro a maio de 2023"]
["Cobertura Calculada por município de vacinação"]
["1 População proporcional extraída do MS/SVS/DASIS - Sistema de Informações sobre Nascidos Vivos - SINASC"]
["2000 a 2021 – Estimativas preliminares elaboradas pelo Ministério da Saúde/SVS/DASNT/CGIAE"]
[" Nota: Dados preliminares 2021"]