{"text_format":"1","workbook":"xlsx","n_sheets":18,"sheets":["cálculos1","CV Rotina <2A - procedência","cálculos2","CV Rotina <2A - residência","CV REF 1A e 4A - procedência","CV REF 1A e 4A - residência","Cobert. COVID-19 Menores 4 anos","dTpa gestantes - procedência","dTpa gestantes - residência","VSR gestante - Procedência","VSR gestante - residência","COVID-19 gestantes -Procedência","COVID-19 gestantes -Residência","COVID-19 idoso -Procêdencia","COVID-19 idoso -Residência","Cobert. Meningo C Adolescentes","Cobert. HPV ","Cobert. Dengue"],"not_rendered":{"charts":0,"images":0,"macros":0,"external_links":3,"defined_names":24,"comments":2,"pivot_tables":0},"unopened":[],"bounds":{"document_bytes":16777216,"sheet_cells":100000,"rows_first":2000,"rows_last":500,"rows_between":2000,"halvings":0,"cell_chars":16384,"cell_head_chars":4096},"cells_cut":0,"cells_raw":0,"read":"whole","date_system":"1900"}

{"sheet":"cálculos1","index":0,"n_rows":96,"n_cols":16,"rows_kept":96,"cut":false,"hidden":true,"merged":[[0,2,0,3],[0,4,0,11]]}
[null,null,0.9,null,0.95]
["Regional ","Município","Cobertura Vacinal BCG","Cobertura Vacinal Rotavírus","Cobertura Vacinal Pentavalente","Cobertura Vacinal Poliomielite ","Cobertura Vacinal Pneumo 10","Cobertura Vacinal Tríplice Viral","Cobertura Vacinal Meningo C","Cobertura Vacinal Febre Amarela","Cobertura Vacinal Hepatite A","Cobertura Varicela","META 90%","META 95%","ATINGIRAM META","PQA-VS"]
["Metropolitana","Afonso Cláudio",{"$f":"'CV Rotina <2A - procedência'!K3","v":0.71590909090909094},{"$f":"'CV Rotina <2A - procedência'!AC3","v":0.90909090909090906},{"$f":"'CV Rotina <2A - procedência'!M3","v":0.78409090909090906},{"$f":"'CV Rotina <2A - procedência'!O3","v":0.76136363636363635},{"$f":"'CV Rotina <2A - procedência'!Q3","v":0.93181818181818177},{"$f":"'CV Rotina <2A - procedência'!Y3","v":1.0227272727272727},{"$f":"'CV Rotina <2A - procedência'!S3","v":0.84090909090909094},{"$f":"'CV Rotina <2A - procedência'!U3","v":1.1022727272727273},{"$f":"'CV Rotina <2A - procedência'!W3","v":1.0568181818181819},{"$f":"'CV Rotina <2A - procedência'!AA3","v":1},{"$f":"COUNTIF(C3:D3,\">=0,9\")","v":1},{"$f":"COUNTIFS(E3:L3,\">=0,95\")","v":4},{"$f":"SUM(M3:N3)","v":5},{"$f":"COUNTIF(E3:H3,\">=0,95\")","v":1}]
["Norte","Água Doce do Norte",{"$f":"'CV Rotina <2A - procedência'!K4","v":0.47368421052631576},{"$f":"'CV Rotina <2A - procedência'!AC4","v":1.1578947368421053},{"$f":"'CV Rotina <2A - procedência'!M4","v":0.84210526315789469},{"$f":"'CV Rotina <2A - procedência'!O4","v":0.89473684210526316},{"$f":"'CV Rotina <2A - procedência'!Q4","v":1.1052631578947369},{"$f":"'CV Rotina <2A - procedência'!Y4","v":1.0263157894736843},{"$f":"'CV Rotina <2A - procedência'!S4","v":0.94736842105263153},{"$f":"'CV Rotina <2A - procedência'!U4","v":0.65789473684210531},{"$f":"'CV Rotina <2A - procedência'!W4","v":1.0789473684210527},{"$f":"'CV Rotina <2A - procedência'!AA4","v":0.97368421052631582},1,4,{"$f":"SUM(M4:N4)","v":5},{"$f":"COUNTIF(E4:H4,\">=0,95\")","v":2}]
["Central","Águia Branca",{"$f":"'CV Rotina <2A - procedência'!K5","v":0.55769230769230771},{"$f":"'CV Rotina <2A - procedência'!AC5","v":0.71153846153846156},{"$f":"'CV Rotina <2A - procedência'!M5","v":0.90384615384615385},{"$f":"'CV Rotina <2A - procedência'!O5","v":0.90384615384615385},{"$f":"'CV Rotina <2A - procedência'!Q5","v":0.69230769230769229},{"$f":"'CV Rotina <2A - procedência'!Y5","v":0.73076923076923073},{"$f":"'CV Rotina <2A - procedência'!S5","v":0.76923076923076927},{"$f":"'CV Rotina <2A - procedência'!U5","v":0.88461538461538458},{"$f":"'CV Rotina <2A - procedência'!W5","v":0.46153846153846156},{"$f":"'CV Rotina <2A - procedência'!AA5","v":0.53846153846153844},0,0,0,0]
["Sul","Alegre",{"$f":"'CV Rotina <2A - procedência'!K6","v":0.48},{"$f":"'CV Rotina <2A - procedência'!AC6","v":0.85333333333333339},{"$f":"'CV Rotina <2A - procedência'!M6","v":1.0666666666666667},{"$f":"'CV Rotina <2A - procedência'!O6","v":1.0533333333333332},{"$f":"'CV Rotina <2A - procedência'!Q6","v":0.89333333333333331},{"$f":"'CV Rotina <2A - procedência'!Y6","v":0.97333333333333338},{"$f":"'CV Rotina <2A - procedência'!S6","v":0.84},{"$f":"'CV Rotina <2A - procedência'!U6","v":1.0933333333333333},{"$f":"'CV Rotina <2A - procedência'!W6","v":1.0133333333333334},{"$f":"'CV Rotina <2A - procedência'!AA6","v":0.96},0,6,6,3]
["Sul","Alfredo Chaves",{"$f":"'CV Rotina <2A - procedência'!K7","v":0.375},{"$f":"'CV Rotina <2A - procedência'!AC7","v":0.8125},{"$f":"'CV Rotina <2A - procedência'!M7","v":0.8125},{"$f":"'CV Rotina <2A - procedência'!O7","v":0.78125},{"$f":"'CV Rotina <2A - procedência'!Q7","v":0.65625},{"$f":"'CV Rotina <2A - procedência'!Y7","v":1.15625},{"$f":"'CV Rotina <2A - procedência'!S7","v":0.625},{"$f":"'CV Rotina <2A - procedência'!U7","v":0.78125},{"$f":"'CV Rotina <2A - procedência'!W7","v":0.75},{"$f":"'CV Rotina <2A - procedência'!AA7","v":0.90625},0,1,1,1]
["Central","Alto Rio Novo",{"$f":"'CV Rotina <2A - procedência'!K8","v":0.29166666666666669},{"$f":"'CV Rotina <2A - procedência'!AC8","v":0.83333333333333337},{"$f":"'CV Rotina <2A - procedência'!M8","v":1.0416666666666667},{"$f":"'CV Rotina <2A - procedência'!O8","v":1.0416666666666667},{"$f":"'CV Rotina <2A - procedência'!Q8","v":0.83333333333333337},{"$f":"'CV Rotina <2A - procedência'!Y8","v":0.83333333333333337},{"$f":"'CV Rotina <2A - procedência'!S8","v":1.0833333333333333},{"$f":"'CV Rotina <2A - procedência'!U8","v":1.0416666666666667},{"$f":"'CV Rotina <2A - procedência'!W8","v":0.75},{"$f":"'CV Rotina <2A - procedência'!AA8","v":0.79166666666666663},0,4,4,2]
["Sul","Anchieta",{"$f":"'CV Rotina <2A - procedência'!K9","v":0.41747572815533979},{"$f":"'CV Rotina <2A - procedência'!AC9","v":0.78640776699029125},{"$f":"'CV Rotina <2A - procedência'!M9","v":0.72815533980582525},{"$f":"'CV Rotina <2A - procedência'!O9","v":0.68932038834951459},{"$f":"'CV Rotina <2A - procedência'!Q9","v":0.75728155339805825},{"$f":"'CV Rotina <2A - procedência'!Y9","v":0.95145631067961167},{"$f":"'CV Rotina <2A - procedência'!S9","v":0.67961165048543692},{"$f":"'CV Rotina <2A - procedência'!U9","v":0.77669902912621358},{"$f":"'CV Rotina <2A - procedência'!W9","v":1.0776699029126213},{"$f":"'CV Rotina <2A - procedência'!AA9","v":1.1650485436893203},0,3,3,1]
["Sul","Apiacá",{"$f":"'CV Rotina <2A - procedência'!K10","v":1.8181818181818181},{"$f":"'CV Rotina <2A - procedência'!AC10","v":1.7272727272727273},{"$f":"'CV Rotina <2A - procedência'!M10","v":1.4545454545454546},{"$f":"'CV Rotina <2A - procedência'!O10","v":1.1818181818181819},{"$f":"'CV Rotina <2A - procedência'!Q10","v":1.7272727272727273},{"$f":"'CV Rotina <2A - procedência'!Y10","v":2.0909090909090908},{"$f":"'CV Rotina <2A - procedência'!S10","v":2.0909090909090908},{"$f":"'CV Rotina <2A - procedência'!U10","v":1.2727272727272727},{"$f":"'CV Rotina <2A - procedência'!W10","v":1.8181818181818181},{"$f":"'CV Rotina <2A - procedência'!AA10","v":1.2727272727272727},2,8,10,4]
["Metropolitana","Aracruz",{"$f":"'CV Rotina <2A - procedência'!K11","v":0.81395348837209303},{"$f":"'CV Rotina <2A - procedência'!AC11","v":0.80620155038759689},{"$f":"'CV Rotina <2A - procedência'!M11","v":0.89922480620155043},{"$f":"'CV Rotina <2A - procedência'!O11","v":0.86821705426356588},{"$f":"'CV Rotina <2A - procedência'!Q11","v":0.77260981912144699},{"$f":"'CV Rotina <2A - procedência'!Y11","v":0.95865633074935397},{"$f":"'CV Rotina <2A - procedência'!S11","v":0.82170542635658916},{"$f":"'CV Rotina <2A - procedência'!U11","v":0.77777777777777779},{"$f":"'CV Rotina <2A - procedência'!W11","v":0.82428940568475451},{"$f":"'CV Rotina <2A - procedência'!AA11","v":0.81653746770025837},0,1,1,1]
["Sul","Atilio Vivacqua",{"$f":"'CV Rotina <2A - procedência'!K12","v":2.1276595744680851E-2},{"$f":"'CV Rotina <2A - procedência'!AC12","v":0.51063829787234039},{"$f":"'CV Rotina <2A - procedência'!M12","v":0.68085106382978722},{"$f":"'CV Rotina <2A - procedência'!O12","v":0.68085106382978722},{"$f":"'CV Rotina <2A - procedência'!Q12","v":0.51063829787234039},{"$f":"'CV Rotina <2A - procedência'!Y12","v":1.0425531914893618},{"$f":"'CV Rotina <2A - procedência'!S12","v":0.7021276595744681},{"$f":"'CV Rotina <2A - procedência'!U12","v":0.82978723404255317},{"$f":"'CV Rotina <2A - procedência'!W12","v":0.95744680851063835},{"$f":"'CV Rotina <2A - procedência'!AA12","v":1.0425531914893618},0,3,3,1]
["Central","Baixo Guandu",{"$f":"'CV Rotina <2A - procedência'!K13","v":0.39325842696629215},{"$f":"'CV Rotina <2A - procedência'!AC13","v":1},{"$f":"'CV Rotina <2A - procedência'!M13","v":0.9101123595505618},{"$f":"'CV Rotina <2A - procedência'!O13","v":0.88764044943820219},{"$f":"'CV Rotina <2A - procedência'!Q13","v":1.0224719101123596},{"$f":"'CV Rotina <2A - procedência'!Y13","v":1.0337078651685394},{"$f":"'CV Rotina <2A - procedência'!S13","v":0.97752808988764039},{"$f":"'CV Rotina <2A - procedência'!U13","v":1.1797752808988764},{"$f":"'CV Rotina <2A - procedência'!W13","v":0.84269662921348309},{"$f":"'CV Rotina <2A - procedência'!AA13","v":0.9438202247191011},1,4,5,2]
["Norte","Barra de São Francisco",{"$f":"'CV Rotina <2A - procedência'!K14","v":0.38607594936708861},{"$f":"'CV Rotina <2A - procedência'!AC14","v":0.86708860759493667},{"$f":"'CV Rotina <2A - procedência'!M14","v":0.80379746835443033},{"$f":"'CV Rotina <2A - procedência'!O14","v":0.81645569620253167},{"$f":"'CV Rotina <2A - procedência'!Q14","v":0.86075949367088611},{"$f":"'CV Rotina <2A - procedência'!Y14","v":0.86708860759493667},{"$f":"'CV Rotina <2A - procedência'!S14","v":0.79113924050632911},{"$f":"'CV Rotina <2A - procedência'!U14","v":0.89873417721518989},{"$f":"'CV Rotina <2A - procedência'!W14","v":0.689873417721519},{"$f":"'CV Rotina <2A - procedência'!AA14","v":0.689873417721519},0,0,0,0]
["Norte","Boa Esperança",{"$f":"'CV Rotina <2A - procedência'!K15","v":0.29090909090909089},{"$f":"'CV Rotina <2A - procedência'!AC15","v":1.0363636363636364},{"$f":"'CV Rotina <2A - procedência'!M15","v":0.90909090909090906},{"$f":"'CV Rotina <2A - procedência'!O15","v":0.8},{"$f":"'CV Rotina <2A - procedência'!Q15","v":1},{"$f":"'CV Rotina <2A - procedência'!Y15","v":1.0545454545454545},{"$f":"'CV Rotina <2A - procedência'!S15","v":0.98181818181818181},{"$f":"'CV Rotina <2A - procedência'!U15","v":0.94545454545454544},{"$f":"'CV Rotina <2A - procedência'!W15","v":0.90909090909090906},{"$f":"'CV Rotina <2A - procedência'!AA15","v":0.8545454545454545},1,3,4,2]
["Sul","Bom Jesus do Norte",{"$f":"'CV Rotina <2A - procedência'!K16","v":4.4000000000000004},{"$f":"'CV Rotina <2A - procedência'!AC16","v":7.2},{"$f":"'CV Rotina <2A - procedência'!M16","v":5.2},{"$f":"'CV Rotina <2A - procedência'!O16","v":5.4},{"$f":"'CV Rotina <2A - procedência'!Q16","v":6.2},{"$f":"'CV Rotina <2A - procedência'!Y16","v":4.4000000000000004},{"$f":"'CV Rotina <2A - procedência'!S16","v":6.6},{"$f":"'CV Rotina <2A - procedência'!U16","v":4.4000000000000004},{"$f":"'CV Rotina <2A - procedência'!W16","v":3.6},{"$f":"'CV Rotina <2A - procedência'!AA16","v":3},2,8,10,4]
["Metropolitana","Brejetuba",{"$f":"'CV Rotina <2A - procedência'!K17","v":0.86792452830188682},{"$f":"'CV Rotina <2A - procedência'!AC17","v":1.3396226415094339},{"$f":"'CV Rotina <2A - procedência'!M17","v":1.4339622641509433},{"$f":"'CV Rotina <2A - procedência'!O17","v":1.3962264150943395},{"$f":"'CV Rotina <2A - procedência'!Q17","v":1.320754716981132},{"$f":"'CV Rotina <2A - procedência'!Y17","v":1.4339622641509433},{"$f":"'CV Rotina <2A - procedência'!S17","v":1.320754716981132},{"$f":"'CV Rotina <2A - procedência'!U17","v":1.1509433962264151},{"$f":"'CV Rotina <2A - procedência'!W17","v":1.4150943396226414},{"$f":"'CV Rotina <2A - procedência'!AA17","v":1.2830188679245282},1,8,9,4]
["Sul","Cachoeiro de Itapemirim",{"$f":"'CV Rotina <2A - procedência'!K18","v":2.1937716262975777},{"$f":"'CV Rotina <2A - procedência'!AC18","v":0.9965397923875432},{"$f":"'CV Rotina <2A - procedência'!M18","v":1.027681660899654},{"$f":"'CV Rotina <2A - procedência'!O18","v":1.0121107266435987},{"$f":"'CV Rotina <2A - procedência'!Q18","v":0.96885813148788924},{"$f":"'CV Rotina <2A - procedência'!Y18","v":0.94463667820069208},{"$f":"'CV Rotina <2A - procedência'!S18","v":0.96885813148788924},{"$f":"'CV Rotina <2A - procedência'!U18","v":0.77162629757785473},{"$f":"'CV Rotina <2A - procedência'!W18","v":0.84083044982698962},{"$f":"'CV Rotina <2A - procedência'!AA18","v":0.86678200692041518},2,4,6,3]
["Metropolitana","Cariacica",{"$f":"'CV Rotina <2A - procedência'!K19","v":0.39184692179700498},{"$f":"'CV Rotina <2A - procedência'!AC19","v":0.89600665557404324},{"$f":"'CV Rotina <2A - procedência'!M19","v":0.83361064891846925},{"$f":"'CV Rotina <2A - procedência'!O19","v":0.82362728785357742},{"$f":"'CV Rotina <2A - procedência'!Q19","v":0.8452579034941764},{"$f":"'CV Rotina <2A - procedência'!Y19","v":0.98918469217970051},{"$f":"'CV Rotina <2A - procedência'!S19","v":0.87603993344425957},{"$f":"'CV Rotina <2A - procedência'!U19","v":0.77620632279534107},{"$f":"'CV Rotina <2A - procedência'!W19","v":0.8186356073211315},{"$f":"'CV Rotina <2A - procedência'!AA19","v":0.81613976705490854},0,1,1,1]
["Sul","Castelo",{"$f":"'CV Rotina <2A - procedência'!K20","v":0.70175438596491224},{"$f":"'CV Rotina <2A - procedência'!AC20","v":1.0350877192982457},{"$f":"'CV Rotina <2A - procedência'!M20","v":0.93859649122807021},{"$f":"'CV Rotina <2A - procedência'!O20","v":0.93859649122807021},{"$f":"'CV Rotina <2A - procedência'!Q20","v":1.0526315789473684},{"$f":"'CV Rotina <2A - procedência'!Y20","v":1.0175438596491229},{"$f":"'CV Rotina <2A - procedência'!S20","v":0.96491228070175439},{"$f":"'CV Rotina <2A - procedência'!U20","v":0.81578947368421051},{"$f":"'CV Rotina <2A - procedência'!W20","v":0.81578947368421051},{"$f":"'CV Rotina <2A - procedência'!AA20","v":0.90350877192982459},1,3,4,2]
["Central","Colatina",{"$f":"'CV Rotina <2A - procedência'!K21","v":2.5382513661202184},{"$f":"'CV Rotina <2A - procedência'!AC21","v":1.0054644808743169},{"$f":"'CV Rotina <2A - procedência'!M21","v":1.0054644808743169},{"$f":"'CV Rotina <2A - procedência'!O21","v":1.0054644808743169},{"$f":"'CV Rotina <2A - procedência'!Q21","v":1.0136612021857923},{"$f":"'CV Rotina <2A - procedência'!Y21","v":0.88797814207650272},{"$f":"'CV Rotina <2A - procedência'!S21","v":0.99180327868852458},{"$f":"'CV Rotina <2A - procedência'!U21","v":0.84699453551912574},{"$f":"'CV Rotina <2A - procedência'!W21","v":0.84972677595628421},{"$f":"'CV Rotina <2A - procedência'!AA21","v":0.85519125683060104},2,4,6,3]
["Norte","Conceição da Barra",{"$f":"'CV Rotina <2A - procedência'!K22","v":7.0707070707070704E-2},{"$f":"'CV Rotina <2A - procedência'!AC22","v":1.0606060606060606},{"$f":"'CV Rotina <2A - procedência'!M22","v":0.93939393939393945},{"$f":"'CV Rotina <2A - procedência'!O22","v":0.93939393939393945},{"$f":"'CV Rotina <2A - procedência'!Q22","v":1.0101010101010102},{"$f":"'CV Rotina <2A - procedência'!Y22","v":0.90909090909090906},{"$f":"'CV Rotina <2A - procedência'!S22","v":1.0202020202020201},{"$f":"'CV Rotina <2A - procedência'!U22","v":1.2222222222222223},{"$f":"'CV Rotina <2A - procedência'!W22","v":0.97979797979797978},{"$f":"'CV Rotina <2A - procedência'!AA22","v":1.1212121212121211},1,5,6,1]
["Metropolitana","Conceição do Castelo",{"$f":"'CV Rotina <2A - procedência'!K23","v":0.56097560975609762},{"$f":"'CV Rotina <2A - procedência'!AC23","v":1.0975609756097562},{"$f":"'CV Rotina <2A - procedência'!M23","v":0.90243902439024393},{"$f":"'CV Rotina <2A - procedência'!O23","v":0.87804878048780488},{"$f":"'CV Rotina <2A - procedência'!Q23","v":0.95121951219512191},{"$f":"'CV Rotina <2A - procedência'!Y23","v":1.024390243902439},{"$f":"'CV Rotina <2A - procedência'!S23","v":0.95121951219512191},{"$f":"'CV Rotina <2A - procedência'!U23","v":0.80487804878048785},{"$f":"'CV Rotina <2A - procedência'!W23","v":0.97560975609756095},{"$f":"'CV Rotina <2A - procedência'!AA23","v":0.95121951219512191},1,5,6,2]
["Sul","Divino de São Lourenço",{"$f":"'CV Rotina <2A - procedência'!K24","v":0.83333333333333337},{"$f":"'CV Rotina <2A - procedência'!AC24","v":2.25},{"$f":"'CV Rotina <2A - procedência'!M24","v":1.4166666666666667},{"$f":"'CV Rotina <2A - procedência'!O24","v":1.4166666666666667},{"$f":"'CV Rotina <2A - procedência'!Q24","v":2.25},{"$f":"'CV Rotina <2A - procedência'!Y24","v":1.25},{"$f":"'CV Rotina <2A - procedência'!S24","v":2.25},{"$f":"'CV Rotina <2A - procedência'!U24","v":1.25},{"$f":"'CV Rotina <2A - procedência'!W24","v":1},{"$f":"'CV Rotina <2A - procedência'!AA24","v":1.0833333333333333},1,8,9,4]
["Metropolitana","Domingos Martins",{"$f":"'CV Rotina <2A - procedência'!K25","v":0.16216216216216217},{"$f":"'CV Rotina <2A - procedência'!AC25","v":0.87387387387387383},{"$f":"'CV Rotina <2A - procedência'!M25","v":0.76576576576576572},{"$f":"'CV Rotina <2A - procedência'!O25","v":0.74774774774774777},{"$f":"'CV Rotina <2A - procedência'!Q25","v":0.86486486486486491},{"$f":"'CV Rotina <2A - procedência'!Y25","v":0.92792792792792789},{"$f":"'CV Rotina <2A - procedência'!S25","v":0.66666666666666663},{"$f":"'CV Rotina <2A - procedência'!U25","v":0.963963963963964},{"$f":"'CV Rotina <2A - procedência'!W25","v":0.90090090090090091},{"$f":"'CV Rotina <2A - procedência'!AA25","v":0.80180180180180183},0,1,1,0]
["Sul","Dores do Rio Preto",{"$f":"'CV Rotina <2A - procedência'!K26","v":0.6},{"$f":"'CV Rotina <2A - procedência'!AC26","v":0.84},{"$f":"'CV Rotina <2A - procedência'!M26","v":1},{"$f":"'CV Rotina <2A - procedência'!O26","v":0.92},{"$f":"'CV Rotina <2A - procedência'!Q26","v":0.84},{"$f":"'CV Rotina <2A - procedência'!Y26","v":1.4},{"$f":"'CV Rotina <2A - procedência'!S26","v":1},{"$f":"'CV Rotina <2A - procedência'!U26","v":0.84},{"$f":"'CV Rotina <2A - procedência'!W26","v":1.1599999999999999},{"$f":"'CV Rotina <2A - procedência'!AA26","v":1.04},0,5,5,2]
["Norte","Ecoporanga",{"$f":"'CV Rotina <2A - procedência'!K27","v":0.37662337662337664},{"$f":"'CV Rotina <2A - procedência'!AC27","v":0.59740259740259738},{"$f":"'CV Rotina <2A - procedência'!M27","v":0.75324675324675328},{"$f":"'CV Rotina <2A - procedência'!O27","v":0.77922077922077926},{"$f":"'CV Rotina <2A - procedência'!Q27","v":0.55844155844155841},{"$f":"'CV Rotina <2A - procedência'!Y27","v":0.83116883116883122},{"$f":"'CV Rotina <2A - procedência'!S27","v":0.68831168831168832},{"$f":"'CV Rotina <2A - procedência'!U27","v":0.79220779220779225},{"$f":"'CV Rotina <2A - procedência'!W27","v":0.92207792207792205},{"$f":"'CV Rotina <2A - procedência'!AA27","v":0.77922077922077926},0,0,0,0]
["Metropolitana","Fundão",{"$f":"'CV Rotina <2A - procedência'!K28","v":0.13636363636363635},{"$f":"'CV Rotina <2A - procedência'!AC28","v":0.77272727272727271},{"$f":"'CV Rotina <2A - procedência'!M28","v":0.72727272727272729},{"$f":"'CV Rotina <2A - procedência'!O28","v":0.75757575757575757},{"$f":"'CV Rotina <2A - procedência'!Q28","v":0.66666666666666663},{"$f":"'CV Rotina <2A - procedência'!Y28","v":1.0606060606060606},{"$f":"'CV Rotina <2A - procedência'!S28","v":0.9242424242424242},{"$f":"'CV Rotina <2A - procedência'!U28","v":0.77272727272727271},{"$f":"'CV Rotina <2A - procedência'!W28","v":0.90909090909090906},{"$f":"'CV Rotina <2A - procedência'!AA28","v":0.90909090909090906},0,1,1,1]
["Central","Governador Lindenberg",{"$f":"'CV Rotina <2A - procedência'!K29","v":0.24324324324324326},{"$f":"'CV Rotina <2A - procedência'!AC29","v":0.91891891891891897},{"$f":"'CV Rotina <2A - procedência'!M29","v":1.0540540540540539},{"$f":"'CV Rotina <2A - procedência'!O29","v":1.0810810810810811},{"$f":"'CV Rotina <2A - procedência'!Q29","v":0.78378378378378377},{"$f":"'CV Rotina <2A - procedência'!Y29","v":0.64864864864864868},{"$f":"'CV Rotina <2A - procedência'!S29","v":1.1891891891891893},{"$f":"'CV Rotina <2A - procedência'!U29","v":0.7567567567567568},{"$f":"'CV Rotina <2A - procedência'!W29","v":0.72972972972972971},{"$f":"'CV Rotina <2A - procedência'!AA29","v":0.67567567567567566},1,3,4,2]
["Sul","Guaçuí",{"$f":"'CV Rotina <2A - procedência'!K30","v":0.91139240506329111},{"$f":"'CV Rotina <2A - procedência'!AC30","v":1.240506329113924},{"$f":"'CV Rotina <2A - procedência'!M30","v":1.2151898734177216},{"$f":"'CV Rotina <2A - procedência'!O30","v":1.2151898734177216},{"$f":"'CV Rotina <2A - procedência'!Q30","v":1.2151898734177216},{"$f":"'CV Rotina <2A - procedência'!Y30","v":1.0126582278481013},{"$f":"'CV Rotina <2A - procedência'!S30","v":1.1772151898734178},{"$f":"'CV Rotina <2A - procedência'!U30","v":1},{"$f":"'CV Rotina <2A - procedência'!W30","v":1},{"$f":"'CV Rotina <2A - procedência'!AA30","v":1.1645569620253164},2,8,10,4]
["Metropolitana","Guarapari",{"$f":"'CV Rotina <2A - procedência'!K31","v":0.71549893842887469},{"$f":"'CV Rotina <2A - procedência'!AC31","v":0.83651804670912955},{"$f":"'CV Rotina <2A - procedência'!M31","v":0.8152866242038217},{"$f":"'CV Rotina <2A - procedência'!O31","v":0.79405520169851385},{"$f":"'CV Rotina <2A - procedência'!Q31","v":0.83014861995753719},{"$f":"'CV Rotina <2A - procedência'!Y31","v":0.82802547770700641},{"$f":"'CV Rotina <2A - procedência'!S31","v":0.82165605095541405},{"$f":"'CV Rotina <2A - procedência'!U31","v":0.59235668789808915},{"$f":"'CV Rotina <2A - procedência'!W31","v":0.72611464968152861},{"$f":"'CV Rotina <2A - procedência'!AA31","v":0.58811040339702758},0,0,0,0]
["Metropolitana","Ibatiba",{"$f":"'CV Rotina <2A - procedência'!K32","v":0.81927710843373491},{"$f":"'CV Rotina <2A - procedência'!AC32","v":1.3734939759036144},{"$f":"'CV Rotina <2A - procedência'!M32","v":1.3734939759036144},{"$f":"'CV Rotina <2A - procedência'!O32","v":1.3734939759036144},{"$f":"'CV Rotina <2A - procedência'!Q32","v":1.3855421686746987},{"$f":"'CV Rotina <2A - procedência'!Y32","v":1.2530120481927711},{"$f":"'CV Rotina <2A - procedência'!S32","v":1.3493975903614457},{"$f":"'CV Rotina <2A - procedência'!U32","v":1.2530120481927711},{"$f":"'CV Rotina <2A - procedência'!W32","v":1.1204819277108433},{"$f":"'CV Rotina <2A - procedência'!AA32","v":1.5421686746987953},1,8,9,4]
["Metropolitana","Ibiraçu",{"$f":"'CV Rotina <2A - procedência'!K33","v":0.5},{"$f":"'CV Rotina <2A - procedência'!AC33","v":1.2692307692307692},{"$f":"'CV Rotina <2A - procedência'!M33","v":1.0384615384615385},{"$f":"'CV Rotina <2A - procedência'!O33","v":1.0384615384615385},{"$f":"'CV Rotina <2A - procedência'!Q33","v":1.2307692307692308},{"$f":"'CV Rotina <2A - procedência'!Y33","v":1},{"$f":"'CV Rotina <2A - procedência'!S33","v":1.2307692307692308},{"$f":"'CV Rotina <2A - procedência'!U33","v":1.1153846153846154},{"$f":"'CV Rotina <2A - procedência'!W33","v":1.5384615384615385},{"$f":"'CV Rotina <2A - procedência'!AA33","v":1.5769230769230769},1,8,9,4]
["Sul","Ibitirama",{"$f":"'CV Rotina <2A - procedência'!K34","v":0.86842105263157898},{"$f":"'CV Rotina <2A - procedência'!AC34","v":0.76315789473684215},{"$f":"'CV Rotina <2A - procedência'!M34","v":0.86842105263157898},{"$f":"'CV Rotina <2A - procedência'!O34","v":0.86842105263157898},{"$f":"'CV Rotina <2A - procedência'!Q34","v":0.76315789473684215},{"$f":"'CV Rotina <2A - procedência'!Y34","v":0.97368421052631582},{"$f":"'CV Rotina <2A - procedência'!S34","v":0.71052631578947367},{"$f":"'CV Rotina <2A - procedência'!U34","v":0.81578947368421051},{"$f":"'CV Rotina <2A - procedência'!W34","v":1.1052631578947369},{"$f":"'CV Rotina <2A - procedência'!AA34","v":1.1842105263157894},0,3,3,1]
["Sul","Iconha",{"$f":"'CV Rotina <2A - procedência'!K35","v":0.5},{"$f":"'CV Rotina <2A - procedência'!AC35","v":1.1923076923076923},{"$f":"'CV Rotina <2A - procedência'!M35","v":1.1153846153846154},{"$f":"'CV Rotina <2A - procedência'!O35","v":1.0769230769230769},{"$f":"'CV Rotina <2A - procedência'!Q35","v":1.1153846153846154},{"$f":"'CV Rotina <2A - procedência'!Y35","v":1.1923076923076923},{"$f":"'CV Rotina <2A - procedência'!S35","v":1.3076923076923077},{"$f":"'CV Rotina <2A - procedência'!U35","v":1.3846153846153846},{"$f":"'CV Rotina <2A - procedência'!W35","v":1.2307692307692308},{"$f":"'CV Rotina <2A - procedência'!AA35","v":1.1153846153846154},{"$f":"COUNTIF(C35:D35,\">=0,9\")","v":1},{"$f":"COUNTIFS(E35:L35,\">=0,95\")","v":8},9,4]
["Sul","Irupi",{"$f":"'CV Rotina <2A - procedência'!K36","v":0.71875},{"$f":"'CV Rotina <2A - procedência'!AC36","v":1.84375},{"$f":"'CV Rotina <2A - procedência'!M36","v":2},{"$f":"'CV Rotina <2A - procedência'!O36","v":2.03125},{"$f":"'CV Rotina <2A - procedência'!Q36","v":1.84375},{"$f":"'CV Rotina <2A - procedência'!Y36","v":1.28125},{"$f":"'CV Rotina <2A - procedência'!S36","v":2},{"$f":"'CV Rotina <2A - procedência'!U36","v":1.8125},{"$f":"'CV Rotina <2A - procedência'!W36","v":0.96875},{"$f":"'CV Rotina <2A - procedência'!AA36","v":1.25},1,8,9,4]
["Metropolitana","Itaguaçu",{"$f":"'CV Rotina <2A - procedência'!K37","v":0.1388888888888889},{"$f":"'CV Rotina <2A - procedência'!AC37","v":0.94444444444444442},{"$f":"'CV Rotina <2A - procedência'!M37","v":0.66666666666666663},{"$f":"'CV Rotina <2A - procedência'!O37","v":0.66666666666666663},{"$f":"'CV Rotina <2A - procedência'!Q37","v":0.86111111111111116},{"$f":"'CV Rotina <2A - procedência'!Y37","v":0.80555555555555558},{"$f":"'CV Rotina <2A - procedência'!S37","v":0.72222222222222221},{"$f":"'CV Rotina <2A - procedência'!U37","v":0.80555555555555558},{"$f":"'CV Rotina <2A - procedência'!W37","v":0.80555555555555558},{"$f":"'CV Rotina <2A - procedência'!AA37","v":0.86111111111111116},1,0,1,0]
["Sul","Itapemirim",{"$f":"'CV Rotina <2A - procedência'!K38","v":0.57857142857142863},{"$f":"'CV Rotina <2A - procedência'!AC38","v":0.85},{"$f":"'CV Rotina <2A - procedência'!M38","v":0.86428571428571432},{"$f":"'CV Rotina <2A - procedência'!O38","v":0.8214285714285714},{"$f":"'CV Rotina <2A - procedência'!Q38","v":0.79285714285714282},{"$f":"'CV Rotina <2A - procedência'!Y38","v":1.0642857142857143},{"$f":"'CV Rotina <2A - procedência'!S38","v":0.83571428571428574},{"$f":"'CV Rotina <2A - procedência'!U38","v":0.65},{"$f":"'CV Rotina <2A - procedência'!W38","v":0.95714285714285718},{"$f":"'CV Rotina <2A - procedência'!AA38","v":0.8571428571428571},0,2,2,1]
["Metropolitana","Itarana",{"$f":"'CV Rotina <2A - procedência'!K39","v":0.10810810810810811},{"$f":"'CV Rotina <2A - procedência'!AC39","v":0.89189189189189189},{"$f":"'CV Rotina <2A - procedência'!M39","v":0.64864864864864868},{"$f":"'CV Rotina <2A - procedência'!O39","v":0.67567567567567566},{"$f":"'CV Rotina <2A - procedência'!Q39","v":0.86486486486486491},{"$f":"'CV Rotina <2A - procedência'!Y39","v":0.70270270270270274},{"$f":"'CV Rotina <2A - procedência'!S39","v":0.78378378378378377},{"$f":"'CV Rotina <2A - procedência'!U39","v":0.7567567567567568},{"$f":"'CV Rotina <2A - procedência'!W39","v":0.56756756756756754},{"$f":"'CV Rotina <2A - procedência'!AA39","v":0.51351351351351349},0,0,0,0]
["Sul","Iúna",{"$f":"'CV Rotina <2A - procedência'!K40","v":0.85915492957746475},{"$f":"'CV Rotina <2A - procedência'!AC40","v":1.028169014084507},{"$f":"'CV Rotina <2A - procedência'!M40","v":1.1971830985915493},{"$f":"'CV Rotina <2A - procedência'!O40","v":1.1830985915492958},{"$f":"'CV Rotina <2A - procedência'!Q40","v":1},{"$f":"'CV Rotina <2A - procedência'!Y40","v":1.352112676056338},{"$f":"'CV Rotina <2A - procedência'!S40","v":1.1971830985915493},{"$f":"'CV Rotina <2A - procedência'!U40","v":1.4225352112676057},{"$f":"'CV Rotina <2A - procedência'!W40","v":1.3098591549295775},{"$f":"'CV Rotina <2A - procedência'!AA40","v":1.4225352112676057},1,8,9,4]
["Norte","Jaguaré",{"$f":"'CV Rotina <2A - procedência'!K41","v":0.68794326241134751},{"$f":"'CV Rotina <2A - procedência'!AC41","v":0.85106382978723405},{"$f":"'CV Rotina <2A - procedência'!M41","v":0.69503546099290781},{"$f":"'CV Rotina <2A - procedência'!O41","v":0.68085106382978722},{"$f":"'CV Rotina <2A - procedência'!Q41","v":0.8014184397163121},{"$f":"'CV Rotina <2A - procedência'!Y41","v":0.85106382978723405},{"$f":"'CV Rotina <2A - procedência'!S41","v":0.70921985815602839},{"$f":"'CV Rotina <2A - procedência'!U41","v":0.57446808510638303},{"$f":"'CV Rotina <2A - procedência'!W41","v":0.65248226950354615},{"$f":"'CV Rotina <2A - procedência'!AA41","v":0.70921985815602839},0,0,0,0]
["Sul","Jerônimo Monteiro",{"$f":"'CV Rotina <2A - procedência'!K42","v":0.3},{"$f":"'CV Rotina <2A - procedência'!AC42","v":0.65},{"$f":"'CV Rotina <2A - procedência'!M42","v":0.72499999999999998},{"$f":"'CV Rotina <2A - procedência'!O42","v":0.75},{"$f":"'CV Rotina <2A - procedência'!Q42","v":0.625},{"$f":"'CV Rotina <2A - procedência'!Y42","v":0.92500000000000004},{"$f":"'CV Rotina <2A - procedência'!S42","v":0.7},{"$f":"'CV Rotina <2A - procedência'!U42","v":0.5},{"$f":"'CV Rotina <2A - procedência'!W42","v":0.8},{"$f":"'CV Rotina <2A - procedência'!AA42","v":0.875},0,0,0,0]
["Metropolitana","João Neiva",{"$f":"'CV Rotina <2A - procedência'!K43","v":0.44736842105263158},{"$f":"'CV Rotina <2A - procedência'!AC43","v":0.94736842105263153},{"$f":"'CV Rotina <2A - procedência'!M43","v":0.78947368421052633},{"$f":"'CV Rotina <2A - procedência'!O43","v":0.78947368421052633},{"$f":"'CV Rotina <2A - procedência'!Q43","v":0.92105263157894735},{"$f":"'CV Rotina <2A - procedência'!Y43","v":0.65789473684210531},{"$f":"'CV Rotina <2A - procedência'!S43","v":0.86842105263157898},{"$f":"'CV Rotina <2A - procedência'!U43","v":1.0526315789473684},{"$f":"'CV Rotina <2A - procedência'!W43","v":0.73684210526315785},{"$f":"'CV Rotina <2A - procedência'!AA43","v":0.73684210526315785},1,1,2,0]
["Metropolitana","Laranja da Terra",{"$f":"'CV Rotina <2A - procedência'!K44","v":0.24},{"$f":"'CV Rotina <2A - procedência'!AC44","v":1.2},{"$f":"'CV Rotina <2A - procedência'!M44","v":1.08},{"$f":"'CV Rotina <2A - procedência'!O44","v":1.08},{"$f":"'CV Rotina <2A - procedência'!Q44","v":0.92},{"$f":"'CV Rotina <2A - procedência'!Y44","v":1.04},{"$f":"'CV Rotina <2A - procedência'!S44","v":0.76},{"$f":"'CV Rotina <2A - procedência'!U44","v":1.52},{"$f":"'CV Rotina <2A - procedência'!W44","v":1.36},{"$f":"'CV Rotina <2A - procedência'!AA44","v":1.44},1,6,7,3]
["Central","Linhares",{"$f":"'CV Rotina <2A - procedência'!K45","v":1.3228699551569507},{"$f":"'CV Rotina <2A - procedência'!AC45","v":0.88191330343796714},{"$f":"'CV Rotina <2A - procedência'!M45","v":0.97010463378176381},{"$f":"'CV Rotina <2A - procedência'!O45","v":0.93124065769805675},{"$f":"'CV Rotina <2A - procedência'!Q45","v":0.86696562032884905},{"$f":"'CV Rotina <2A - procedência'!Y45","v":0.89985052316890879},{"$f":"'CV Rotina <2A - procedência'!S45","v":0.94768310911808673},{"$f":"'CV Rotina <2A - procedência'!U45","v":0.69207772795216738},{"$f":"'CV Rotina <2A - procedência'!W45","v":0.83856502242152464},{"$f":"'CV Rotina <2A - procedência'!AA45","v":0.87742899850523171},1,1,2,1]
["Central","Mantenópolis",{"$f":"'CV Rotina <2A - procedência'!K46","v":0.31578947368421051},{"$f":"'CV Rotina <2A - procedência'!AC46","v":1.0526315789473684},{"$f":"'CV Rotina <2A - procedência'!M46","v":0.92105263157894735},{"$f":"'CV Rotina <2A - procedência'!O46","v":0.86842105263157898},{"$f":"'CV Rotina <2A - procedência'!Q46","v":1.0789473684210527},{"$f":"'CV Rotina <2A - procedência'!Y46","v":1},{"$f":"'CV Rotina <2A - procedência'!S46","v":1.0263157894736843},{"$f":"'CV Rotina <2A - procedência'!U46","v":0.92105263157894735},{"$f":"'CV Rotina <2A - procedência'!W46","v":0.71052631578947367},{"$f":"'CV Rotina <2A - procedência'!AA46","v":0.60526315789473684},1,3,4,2]
["Sul","Marataízes",{"$f":"'CV Rotina <2A - procedência'!K47","v":0.41290322580645161},{"$f":"'CV Rotina <2A - procedência'!AC47","v":1.0451612903225806},{"$f":"'CV Rotina <2A - procedência'!M47","v":0.93548387096774188},{"$f":"'CV Rotina <2A - procedência'!O47","v":0.96129032258064517},{"$f":"'CV Rotina <2A - procedência'!Q47","v":1.0709677419354839},{"$f":"'CV Rotina <2A - procedência'!Y47","v":0.79354838709677422},{"$f":"'CV Rotina <2A - procedência'!S47","v":0.967741935483871},{"$f":"'CV Rotina <2A - procedência'!U47","v":0.50322580645161286},{"$f":"'CV Rotina <2A - procedência'!W47","v":0.7870967741935484},{"$f":"'CV Rotina <2A - procedência'!AA47","v":0.77419354838709675},1,3,4,2]
["Metropolitana","Marechal Floriano",{"$f":"'CV Rotina <2A - procedência'!K48","v":0.22727272727272727},{"$f":"'CV Rotina <2A - procedência'!AC48","v":0.97727272727272729},{"$f":"'CV Rotina <2A - procedência'!M48","v":1.1590909090909092},{"$f":"'CV Rotina <2A - procedência'!O48","v":1.0454545454545454},{"$f":"'CV Rotina <2A - procedência'!Q48","v":0.90909090909090906},{"$f":"'CV Rotina <2A - procedência'!Y48","v":1.2727272727272727},{"$f":"'CV Rotina <2A - procedência'!S48","v":1.0681818181818181},{"$f":"'CV Rotina <2A - procedência'!U48","v":1.2045454545454546},{"$f":"'CV Rotina <2A - procedência'!W48","v":0.72727272727272729},{"$f":"'CV Rotina <2A - procedência'!AA48","v":0.86363636363636365},1,5,6,3]
["Central","Marilândia",{"$f":"'CV Rotina <2A - procedência'!K49","v":0.31111111111111112},{"$f":"'CV Rotina <2A - procedência'!AC49","v":0.8},{"$f":"'CV Rotina <2A - procedência'!M49","v":0.68888888888888888},{"$f":"'CV Rotina <2A - procedência'!O49","v":0.71111111111111114},{"$f":"'CV Rotina <2A - procedência'!Q49","v":0.57777777777777772},{"$f":"'CV Rotina <2A - procedência'!Y49","v":0.75555555555555554},{"$f":"'CV Rotina <2A - procedência'!S49","v":0.57777777777777772},{"$f":"'CV Rotina <2A - procedência'!U49","v":1.0222222222222221},{"$f":"'CV Rotina <2A - procedência'!W49","v":0.77777777777777779},{"$f":"'CV Rotina <2A - procedência'!AA49","v":0.84444444444444444},0,1,1,0]
["Sul","Mimoso do Sul",{"$f":"'CV Rotina <2A - procedência'!K50","v":0.18390804597701149},{"$f":"'CV Rotina <2A - procedência'!AC50","v":0.37931034482758619},{"$f":"'CV Rotina <2A - procedência'!M50","v":0.66666666666666663},{"$f":"'CV Rotina <2A - procedência'!O50","v":0.68965517241379315},{"$f":"'CV Rotina <2A - procedência'!Q50","v":0.39080459770114945},{"$f":"'CV Rotina <2A - procedência'!Y50","v":0.88505747126436785},{"$f":"'CV Rotina <2A - procedência'!S50","v":0.54022988505747127},{"$f":"'CV Rotina <2A - procedência'!U50","v":0.74712643678160917},{"$f":"'CV Rotina <2A - procedência'!W50","v":0.62068965517241381},{"$f":"'CV Rotina <2A - procedência'!AA50","v":0.55172413793103448},0,0,0,0]
["Norte","Montanha",{"$f":"'CV Rotina <2A - procedência'!K51","v":0.38095238095238093},{"$f":"'CV Rotina <2A - procedência'!AC51","v":1.9285714285714286},{"$f":"'CV Rotina <2A - procedência'!M51","v":1.5714285714285714},{"$f":"'CV Rotina <2A - procedência'!O51","v":1.6190476190476191},{"$f":"'CV Rotina <2A - procedência'!Q51","v":2.0238095238095237},{"$f":"'CV Rotina <2A - procedência'!Y51","v":1.3095238095238095},{"$f":"'CV Rotina <2A - procedência'!S51","v":1.6190476190476191},{"$f":"'CV Rotina <2A - procedência'!U51","v":1.4285714285714286},{"$f":"'CV Rotina <2A - procedência'!W51","v":1.4523809523809523},{"$f":"'CV Rotina <2A - procedência'!AA51","v":1.5238095238095237},1,8,9,4]
["Norte","Mucurici",{"$f":"'CV Rotina <2A - procedência'!K52","v":0},{"$f":"'CV Rotina <2A - procedência'!AC52","v":0.5},{"$f":"'CV Rotina <2A - procedência'!M52","v":0.35},{"$f":"'CV Rotina <2A - procedência'!O52","v":0.4},{"$f":"'CV Rotina <2A - procedência'!Q52","v":0.55000000000000004},{"$f":"'CV Rotina <2A - procedência'!Y52","v":0.5},{"$f":"'CV Rotina <2A - procedência'!S52","v":0.6},{"$f":"'CV Rotina <2A - procedência'!U52","v":0.65},{"$f":"'CV Rotina <2A - procedência'!W52","v":0.9},{"$f":"'CV Rotina <2A - procedência'!AA52","v":0.85},0,0,0,0]
["Sul","Muniz Freire",{"$f":"'CV Rotina <2A - procedência'!K53","v":0.69387755102040816},{"$f":"'CV Rotina <2A - procedência'!AC53","v":1.2653061224489797},{"$f":"'CV Rotina <2A - procedência'!M53","v":1.7551020408163265},{"$f":"'CV Rotina <2A - procedência'!O53","v":1.7346938775510203},{"$f":"'CV Rotina <2A - procedência'!Q53","v":1.2448979591836735},{"$f":"'CV Rotina <2A - procedência'!Y53","v":1.2857142857142858},{"$f":"'CV Rotina <2A - procedência'!S53","v":1.4081632653061225},{"$f":"'CV Rotina <2A - procedência'!U53","v":1.2653061224489797},{"$f":"'CV Rotina <2A - procedência'!W53","v":1.1632653061224489},{"$f":"'CV Rotina <2A - procedência'!AA53","v":2.0408163265306123},1,8,9,4]
["Sul","Muqui",{"$f":"'CV Rotina <2A - procedência'!K54","v":0.24390243902439024},{"$f":"'CV Rotina <2A - procedência'!AC54","v":0.6097560975609756},{"$f":"'CV Rotina <2A - procedência'!M54","v":0.80487804878048785},{"$f":"'CV Rotina <2A - procedência'!O54","v":0.78048780487804881},{"$f":"'CV Rotina <2A - procedência'!Q54","v":0.6097560975609756},{"$f":"'CV Rotina <2A - procedência'!Y54","v":1},{"$f":"'CV Rotina <2A - procedência'!S54","v":0.68292682926829273},{"$f":"'CV Rotina <2A - procedência'!U54","v":1.024390243902439},{"$f":"'CV Rotina <2A - procedência'!W54","v":0.90243902439024393},{"$f":"'CV Rotina <2A - procedência'!AA54","v":0.82926829268292679},0,2,2,1]
["Norte","Nova Venécia",{"$f":"'CV Rotina <2A - procedência'!K55","v":0.53157894736842104},{"$f":"'CV Rotina <2A - procedência'!AC55","v":0.89473684210526316},{"$f":"'CV Rotina <2A - procedência'!M55","v":0.84736842105263155},{"$f":"'CV Rotina <2A - procedência'!O55","v":0.84736842105263155},{"$f":"'CV Rotina <2A - procedência'!Q55","v":0.87368421052631584},{"$f":"'CV Rotina <2A - procedência'!Y55","v":0.97368421052631582},{"$f":"'CV Rotina <2A - procedência'!S55","v":0.94736842105263153},{"$f":"'CV Rotina <2A - procedência'!U55","v":0.81052631578947365},{"$f":"'CV Rotina <2A - procedência'!W55","v":0.87368421052631584},{"$f":"'CV Rotina <2A - procedência'!AA55","v":0.98421052631578942},0,2,2,1]
["Central","Pancas",{"$f":"'CV Rotina <2A - procedência'!K56","v":0.16071428571428573},{"$f":"'CV Rotina <2A - procedência'!AC56","v":0.8035714285714286},{"$f":"'CV Rotina <2A - procedência'!M56","v":0.8928571428571429},{"$f":"'CV Rotina <2A - procedência'!O56","v":0.875},{"$f":"'CV Rotina <2A - procedência'!Q56","v":0.75},{"$f":"'CV Rotina <2A - procedência'!Y56","v":1.2142857142857142},{"$f":"'CV Rotina <2A - procedência'!S56","v":0.7857142857142857},{"$f":"'CV Rotina <2A - procedência'!U56","v":1.125},{"$f":"'CV Rotina <2A - procedência'!W56","v":0.9285714285714286},{"$f":"'CV Rotina <2A - procedência'!AA56","v":0.9642857142857143},0,3,3,1]
["Norte","Pedro Canário",{"$f":"'CV Rotina <2A - procedência'!K57","v":5.1948051948051951E-2},{"$f":"'CV Rotina <2A - procedência'!AC57","v":1.051948051948052},{"$f":"'CV Rotina <2A - procedência'!M57","v":1.2207792207792207},{"$f":"'CV Rotina <2A - procedência'!O57","v":1.1298701298701299},{"$f":"'CV Rotina <2A - procedência'!Q57","v":1.0649350649350648},{"$f":"'CV Rotina <2A - procedência'!Y57","v":1.2337662337662338},{"$f":"'CV Rotina <2A - procedência'!S57","v":0.96103896103896103},{"$f":"'CV Rotina <2A - procedência'!U57","v":0.90909090909090906},{"$f":"'CV Rotina <2A - procedência'!W57","v":0.97402597402597402},{"$f":"'CV Rotina <2A - procedência'!AA57","v":1.1038961038961039},1,7,8,4]
["Norte","Pinheiros",{"$f":"'CV Rotina <2A - procedência'!K58","v":7.2164948453608241E-2},{"$f":"'CV Rotina <2A - procedência'!AC58","v":0.80412371134020622},{"$f":"'CV Rotina <2A - procedência'!M58","v":0.85567010309278346},{"$f":"'CV Rotina <2A - procedência'!O58","v":0.83505154639175261},{"$f":"'CV Rotina <2A - procedência'!Q58","v":0.72164948453608246},{"$f":"'CV Rotina <2A - procedência'!Y58","v":0.67010309278350511},{"$f":"'CV Rotina <2A - procedência'!S58","v":0.865979381443299},{"$f":"'CV Rotina <2A - procedência'!U58","v":0.5670103092783505},{"$f":"'CV Rotina <2A - procedência'!W58","v":0.68041237113402064},{"$f":"'CV Rotina <2A - procedência'!AA58","v":0.55670103092783507},0,0,0,0]
["Sul","Piúma",{"$f":"'CV Rotina <2A - procedência'!K59","v":0.24390243902439024},{"$f":"'CV Rotina <2A - procedência'!AC59","v":0.74390243902439024},{"$f":"'CV Rotina <2A - procedência'!M59","v":0.75609756097560976},{"$f":"'CV Rotina <2A - procedência'!O59","v":0.75609756097560976},{"$f":"'CV Rotina <2A - procedência'!Q59","v":0.74390243902439024},{"$f":"'CV Rotina <2A - procedência'!Y59","v":0.95121951219512191},{"$f":"'CV Rotina <2A - procedência'!S59","v":0.81707317073170727},{"$f":"'CV Rotina <2A - procedência'!U59","v":0.82926829268292679},{"$f":"'CV Rotina <2A - procedência'!W59","v":0.92682926829268297},{"$f":"'CV Rotina <2A - procedência'!AA59","v":0.90243902439024393},0,1,1,1]
["Norte","Ponto Belo",{"$f":"'CV Rotina <2A - procedência'!K60","v":0.42857142857142855},{"$f":"'CV Rotina <2A - procedência'!AC60","v":1.8571428571428572},{"$f":"'CV Rotina <2A - procedência'!M60","v":1.3571428571428572},{"$f":"'CV Rotina <2A - procedência'!O60","v":0.9285714285714286},{"$f":"'CV Rotina <2A - procedência'!Q60","v":1.7857142857142858},{"$f":"'CV Rotina <2A - procedência'!Y60","v":1.1428571428571428},{"$f":"'CV Rotina <2A - procedência'!S60","v":1.2857142857142858},{"$f":"'CV Rotina <2A - procedência'!U60","v":1.5714285714285714},{"$f":"'CV Rotina <2A - procedência'!W60","v":1.5},{"$f":"'CV Rotina <2A - procedência'!AA60","v":1.7142857142857142},1,7,8,3]
["Sul","Presidente Kennedy",{"$f":"'CV Rotina <2A - procedência'!K61","v":0.1864406779661017},{"$f":"'CV Rotina <2A - procedência'!AC61","v":0.69491525423728817},{"$f":"'CV Rotina <2A - procedência'!M61","v":0.77966101694915257},{"$f":"'CV Rotina <2A - procedência'!O61","v":0.77966101694915257},{"$f":"'CV Rotina <2A - procedência'!Q61","v":0.67796610169491522},{"$f":"'CV Rotina <2A - procedência'!Y61","v":1.3050847457627119},{"$f":"'CV Rotina <2A - procedência'!S61","v":0.77966101694915257},{"$f":"'CV Rotina <2A - procedência'!U61","v":0.74576271186440679},{"$f":"'CV Rotina <2A - procedência'!W61","v":0.96610169491525422},{"$f":"'CV Rotina <2A - procedência'!AA61","v":0.88135593220338981},0,2,2,1]
["Central","Rio Bananal",{"$f":"'CV Rotina <2A - procedência'!K62","v":0.10256410256410256},{"$f":"'CV Rotina <2A - procedência'!AC62","v":0.84615384615384615},{"$f":"'CV Rotina <2A - procedência'!M62","v":0.89743589743589747},{"$f":"'CV Rotina <2A - procedência'!O62","v":0.89743589743589747},{"$f":"'CV Rotina <2A - procedência'!Q62","v":0.79487179487179482},{"$f":"'CV Rotina <2A - procedência'!Y62","v":0.88461538461538458},{"$f":"'CV Rotina <2A - procedência'!S62","v":0.74358974358974361},{"$f":"'CV Rotina <2A - procedência'!U62","v":0.73076923076923073},{"$f":"'CV Rotina <2A - procedência'!W62","v":0.85897435897435892},{"$f":"'CV Rotina <2A - procedência'!AA62","v":1.2948717948717949},0,1,1,0]
["Sul","Rio Novo do Sul",{"$f":"'CV Rotina <2A - procedência'!K63","v":0.45161290322580644},{"$f":"'CV Rotina <2A - procedência'!AC63","v":1.064516129032258},{"$f":"'CV Rotina <2A - procedência'!M63","v":0.83870967741935487},{"$f":"'CV Rotina <2A - procedência'!O63","v":0.83870967741935487},{"$f":"'CV Rotina <2A - procedência'!Q63","v":0.93548387096774188},{"$f":"'CV Rotina <2A - procedência'!Y63","v":1.3870967741935485},{"$f":"'CV Rotina <2A - procedência'!S63","v":0.83870967741935487},{"$f":"'CV Rotina <2A - procedência'!U63","v":0.74193548387096775},{"$f":"'CV Rotina <2A - procedência'!W63","v":0.90322580645161288},{"$f":"'CV Rotina <2A - procedência'!AA63","v":0.80645161290322576},1,1,2,1]
["Metropolitana","Santa Leopoldina",{"$f":"'CV Rotina <2A - procedência'!K64","v":0.19354838709677419},{"$f":"'CV Rotina <2A - procedência'!AC64","v":0.5161290322580645},{"$f":"'CV Rotina <2A - procedência'!M64","v":0.54838709677419351},{"$f":"'CV Rotina <2A - procedência'!O64","v":0.54838709677419351},{"$f":"'CV Rotina <2A - procedência'!Q64","v":0.4838709677419355},{"$f":"'CV Rotina <2A - procedência'!Y64","v":0.58064516129032262},{"$f":"'CV Rotina <2A - procedência'!S64","v":0.4838709677419355},{"$f":"'CV Rotina <2A - procedência'!U64","v":0.70967741935483875},{"$f":"'CV Rotina <2A - procedência'!W64","v":0.80645161290322576},{"$f":"'CV Rotina <2A - procedência'!AA64","v":0.74193548387096775},0,0,0,0]
["Metropolitana","Santa Maria de Jetibá",{"$f":"'CV Rotina <2A - procedência'!K65","v":0.6257309941520468},{"$f":"'CV Rotina <2A - procedência'!AC65","v":1.0526315789473684},{"$f":"'CV Rotina <2A - procedência'!M65","v":1.1228070175438596},{"$f":"'CV Rotina <2A - procedência'!O65","v":1.1345029239766082},{"$f":"'CV Rotina <2A - procedência'!Q65","v":1.0409356725146199},{"$f":"'CV Rotina <2A - procedência'!Y65","v":1.0233918128654971},{"$f":"'CV Rotina <2A - procedência'!S65","v":1.0877192982456141},{"$f":"'CV Rotina <2A - procedência'!U65","v":0.91812865497076024},{"$f":"'CV Rotina <2A - procedência'!W65","v":1.0058479532163742},{"$f":"'CV Rotina <2A - procedência'!AA65","v":1.0935672514619883},1,7,8,4]
["Metropolitana","Santa Teresa",{"$f":"'CV Rotina <2A - procedência'!K66","v":2.6081081081081079},{"$f":"'CV Rotina <2A - procedência'!AC66","v":0.8783783783783784},{"$f":"'CV Rotina <2A - procedência'!M66","v":0.85135135135135132},{"$f":"'CV Rotina <2A - procedência'!O66","v":0.85135135135135132},{"$f":"'CV Rotina <2A - procedência'!Q66","v":0.93243243243243246},{"$f":"'CV Rotina <2A - procedência'!Y66","v":0.94594594594594594},{"$f":"'CV Rotina <2A - procedência'!S66","v":0.7567567567567568},{"$f":"'CV Rotina <2A - procedência'!U66","v":0.82432432432432434},{"$f":"'CV Rotina <2A - procedência'!W66","v":0.8783783783783784},{"$f":"'CV Rotina <2A - procedência'!AA66","v":0.7567567567567568},1,0,1,0]
["Central","São Domingos do Norte",{"$f":"'CV Rotina <2A - procedência'!K67","v":0.44827586206896552},{"$f":"'CV Rotina <2A - procedência'!AC67","v":1.1724137931034482},{"$f":"'CV Rotina <2A - procedência'!M67","v":1.1724137931034482},{"$f":"'CV Rotina <2A - procedência'!O67","v":1.1379310344827587},{"$f":"'CV Rotina <2A - procedência'!Q67","v":0.96551724137931039},{"$f":"'CV Rotina <2A - procedência'!Y67","v":1.0344827586206897},{"$f":"'CV Rotina <2A - procedência'!S67","v":1.3103448275862069},{"$f":"'CV Rotina <2A - procedência'!U67","v":0.72413793103448276},{"$f":"'CV Rotina <2A - procedência'!W67","v":0.82758620689655171},{"$f":"'CV Rotina <2A - procedência'!AA67","v":0.75862068965517238},{"$f":"COUNTIF(C67:D67,\">=0,9\")","v":1},{"$f":"COUNTIFS(E67:L67,\">=0,95\")","v":5},6,4]
["Central","São Gabriel da Palha",{"$f":"'CV Rotina <2A - procedência'!K68","v":0.57894736842105265},{"$f":"'CV Rotina <2A - procedência'!AC68","v":1.1754385964912282},{"$f":"'CV Rotina <2A - procedência'!M68","v":0.79824561403508776},{"$f":"'CV Rotina <2A - procedência'!O68","v":0.7807017543859649},{"$f":"'CV Rotina <2A - procedência'!Q68","v":1.236842105263158},{"$f":"'CV Rotina <2A - procedência'!Y68","v":0.76315789473684215},{"$f":"'CV Rotina <2A - procedência'!S68","v":0.96491228070175439},{"$f":"'CV Rotina <2A - procedência'!U68","v":0.89473684210526316},{"$f":"'CV Rotina <2A - procedência'!W68","v":0.7192982456140351},{"$f":"'CV Rotina <2A - procedência'!AA68","v":0.84210526315789469},1,2,{"$f":"SUM(M68:N68)","v":3},{"$f":"COUNTIF(E68:H68,\">=0,95\")","v":1}]
["Sul","São José do Calçado",{"$f":"'CV Rotina <2A - procedência'!K69","v":1.3157894736842106},{"$f":"'CV Rotina <2A - procedência'!AC69","v":1.368421052631579},{"$f":"'CV Rotina <2A - procedência'!M69","v":1.2105263157894737},{"$f":"'CV Rotina <2A - procedência'!O69","v":1.2105263157894737},{"$f":"'CV Rotina <2A - procedência'!Q69","v":1.3157894736842106},{"$f":"'CV Rotina <2A - procedência'!Y69","v":1.368421052631579},{"$f":"'CV Rotina <2A - procedência'!S69","v":1.3157894736842106},{"$f":"'CV Rotina <2A - procedência'!U69","v":0.84210526315789469},{"$f":"'CV Rotina <2A - procedência'!W69","v":0.78947368421052633},{"$f":"'CV Rotina <2A - procedência'!AA69","v":0.42105263157894735},2,5,7,4]
["Norte","São Mateus",{"$f":"'CV Rotina <2A - procedência'!K70","v":1.3613963039014374},{"$f":"'CV Rotina <2A - procedência'!AC70","v":1.106776180698152},{"$f":"'CV Rotina <2A - procedência'!M70","v":0.99178644763860369},{"$f":"'CV Rotina <2A - procedência'!O70","v":0.96714579055441474},{"$f":"'CV Rotina <2A - procedência'!Q70","v":1.108829568788501},{"$f":"'CV Rotina <2A - procedência'!Y70","v":0.89322381930184802},{"$f":"'CV Rotina <2A - procedência'!S70","v":1.0225872689938398},{"$f":"'CV Rotina <2A - procedência'!U70","v":0.78028747433264889},{"$f":"'CV Rotina <2A - procedência'!W70","v":0.80698151950718688},{"$f":"'CV Rotina <2A - procedência'!AA70","v":0.73511293634496921},2,4,6,3]
["Central","São Roque do Canaã",{"$f":"'CV Rotina <2A - procedência'!K71","v":0.25},{"$f":"'CV Rotina <2A - procedência'!AC71","v":1.125},{"$f":"'CV Rotina <2A - procedência'!M71","v":0.875},{"$f":"'CV Rotina <2A - procedência'!O71","v":0.875},{"$f":"'CV Rotina <2A - procedência'!Q71","v":1.0625},{"$f":"'CV Rotina <2A - procedência'!Y71","v":1.15625},{"$f":"'CV Rotina <2A - procedência'!S71","v":0.8125},{"$f":"'CV Rotina <2A - procedência'!U71","v":1.15625},{"$f":"'CV Rotina <2A - procedência'!W71","v":0.875},{"$f":"'CV Rotina <2A - procedência'!AA71","v":0.84375},1,3,4,2]
["Metropolitana","Serra",{"$f":"'CV Rotina <2A - procedência'!K72","v":1.2172043010752689},{"$f":"'CV Rotina <2A - procedência'!AC72","v":0.9365591397849462},{"$f":"'CV Rotina <2A - procedência'!M72","v":0.92795698924731185},{"$f":"'CV Rotina <2A - procedência'!O72","v":0.92795698924731185},{"$f":"'CV Rotina <2A - procedência'!Q72","v":0.8887096774193548},{"$f":"'CV Rotina <2A - procedência'!Y72","v":0.9091397849462366},{"$f":"'CV Rotina <2A - procedência'!S72","v":0.89516129032258063},{"$f":"'CV Rotina <2A - procedência'!U72","v":0.71612903225806457},{"$f":"'CV Rotina <2A - procedência'!W72","v":0.85268817204301073},{"$f":"'CV Rotina <2A - procedência'!AA72","v":0.79516129032258065},2,0,2,0]
["Central","Sooretama",{"$f":"'CV Rotina <2A - procedência'!K73","v":7.2916666666666671E-2},{"$f":"'CV Rotina <2A - procedência'!AC73","v":1.28125},{"$f":"'CV Rotina <2A - procedência'!M73","v":1.125},{"$f":"'CV Rotina <2A - procedência'!O73","v":1.0520833333333333},{"$f":"'CV Rotina <2A - procedência'!Q73","v":1.2291666666666667},{"$f":"'CV Rotina <2A - procedência'!Y73","v":1.1354166666666667},{"$f":"'CV Rotina <2A - procedência'!S73","v":1.1875},{"$f":"'CV Rotina <2A - procedência'!U73","v":0.98958333333333337},{"$f":"'CV Rotina <2A - procedência'!W73","v":0.96875},{"$f":"'CV Rotina <2A - procedência'!AA73","v":0.84375},1,7,8,4]
["Sul","Vargem Alta",{"$f":"'CV Rotina <2A - procedência'!K74","v":0.16438356164383561},{"$f":"'CV Rotina <2A - procedência'!AC74","v":0.72602739726027399},{"$f":"'CV Rotina <2A - procedência'!M74","v":0.79452054794520544},{"$f":"'CV Rotina <2A - procedência'!O74","v":0.79452054794520544},{"$f":"'CV Rotina <2A - procedência'!Q74","v":0.72602739726027399},{"$f":"'CV Rotina <2A - procedência'!Y74","v":1.0136986301369864},{"$f":"'CV Rotina <2A - procedência'!S74","v":0.72602739726027399},{"$f":"'CV Rotina <2A - procedência'!U74","v":1.1095890410958904},{"$f":"'CV Rotina <2A - procedência'!W74","v":0.82191780821917804},{"$f":"'CV Rotina <2A - procedência'!AA74","v":0.86301369863013699},0,2,2,1]
["Metropolitana","Venda Nova do Imigrante",{"$f":"'CV Rotina <2A - procedência'!K75","v":1.0476190476190477},{"$f":"'CV Rotina <2A - procedência'!AC75","v":0.84523809523809523},{"$f":"'CV Rotina <2A - procedência'!M75","v":1.1071428571428572},{"$f":"'CV Rotina <2A - procedência'!O75","v":1.0952380952380953},{"$f":"'CV Rotina <2A - procedência'!Q75","v":0.80952380952380953},{"$f":"'CV Rotina <2A - procedência'!Y75","v":0.90476190476190477},{"$f":"'CV Rotina <2A - procedência'!S75","v":0.86904761904761907},{"$f":"'CV Rotina <2A - procedência'!U75","v":1.0119047619047619},{"$f":"'CV Rotina <2A - procedência'!W75","v":1.0595238095238095},{"$f":"'CV Rotina <2A - procedência'!AA75","v":1.3095238095238095},1,5,6,2]
["Metropolitana","Viana",{"$f":"'CV Rotina <2A - procedência'!K76","v":0.47685185185185186},{"$f":"'CV Rotina <2A - procedência'!AC76","v":1.0601851851851851},{"$f":"'CV Rotina <2A - procedência'!M76","v":1.0231481481481481},{"$f":"'CV Rotina <2A - procedência'!O76","v":0.99537037037037035},{"$f":"'CV Rotina <2A - procedência'!Q76","v":1.0509259259259258},{"$f":"'CV Rotina <2A - procedência'!Y76","v":1.0925925925925926},{"$f":"'CV Rotina <2A - procedência'!S76","v":0.97222222222222221},{"$f":"'CV Rotina <2A - procedência'!U76","v":0.87962962962962965},{"$f":"'CV Rotina <2A - procedência'!W76","v":1.0601851851851851},{"$f":"'CV Rotina <2A - procedência'!AA76","v":1.1666666666666667},1,7,8,4]
["Norte","Vila Pavão",{"$f":"'CV Rotina <2A - procedência'!K77","v":0.28947368421052633},{"$f":"'CV Rotina <2A - procedência'!AC77","v":0.73684210526315785},{"$f":"'CV Rotina <2A - procedência'!M77","v":0.84210526315789469},{"$f":"'CV Rotina <2A - procedência'!O77","v":0.78947368421052633},{"$f":"'CV Rotina <2A - procedência'!Q77","v":0.68421052631578949},{"$f":"'CV Rotina <2A - procedência'!Y77","v":0.84210526315789469},{"$f":"'CV Rotina <2A - procedência'!S77","v":0.76315789473684215},{"$f":"'CV Rotina <2A - procedência'!U77","v":1.0263157894736843},{"$f":"'CV Rotina <2A - procedência'!W77","v":0.78947368421052633},{"$f":"'CV Rotina <2A - procedência'!AA77","v":1.1578947368421053},0,2,2,0]
["Central","Vila Valério",{"$f":"'CV Rotina <2A - procedência'!K78","v":0.24242424242424243},{"$f":"'CV Rotina <2A - procedência'!AC78","v":1},{"$f":"'CV Rotina <2A - procedência'!M78","v":0.89393939393939392},{"$f":"'CV Rotina <2A - procedência'!O78","v":0.89393939393939392},{"$f":"'CV Rotina <2A - procedência'!Q78","v":0.89393939393939392},{"$f":"'CV Rotina <2A - procedência'!Y78","v":0.66666666666666663},{"$f":"'CV Rotina <2A - procedência'!S78","v":0.81818181818181823},{"$f":"'CV Rotina <2A - procedência'!U78","v":0.89393939393939392},{"$f":"'CV Rotina <2A - procedência'!W78","v":0.75757575757575757},{"$f":"'CV Rotina <2A - procedência'!AA78","v":0.75757575757575757},1,0,1,0]
["Metropolitana","Vila Velha",{"$f":"'CV Rotina <2A - procedência'!K79","v":0.68828451882845187},{"$f":"'CV Rotina <2A - procedência'!AC79","v":0.88145048814504878},{"$f":"'CV Rotina <2A - procedência'!M79","v":0.76638772663877264},{"$f":"'CV Rotina <2A - procedência'!O79","v":0.74198047419804747},{"$f":"'CV Rotina <2A - procedência'!Q79","v":0.85843793584379358},{"$f":"'CV Rotina <2A - procedência'!Y79","v":0.87238493723849375},{"$f":"'CV Rotina <2A - procedência'!S79","v":0.84797768479776847},{"$f":"'CV Rotina <2A - procedência'!U79","v":0.66875871687587174},{"$f":"'CV Rotina <2A - procedência'!W79","v":0.77824267782426781},{"$f":"'CV Rotina <2A - procedência'!AA79","v":0.73221757322175729},0,0,0,0]
["Metropolitana","Vitória",{"$f":"'CV Rotina <2A - procedência'!K80","v":1.9493813273340832},{"$f":"'CV Rotina <2A - procedência'!AC80","v":1.2148481439820022},{"$f":"'CV Rotina <2A - procedência'!M80","v":1.2260967379077616},{"$f":"'CV Rotina <2A - procedência'!O80","v":1.2159730033745781},{"$f":"'CV Rotina <2A - procedência'!Q80","v":1.2935883014623173},{"$f":"'CV Rotina <2A - procedência'!Y80","v":1.0438695163104612},{"$f":"'CV Rotina <2A - procedência'!S80","v":1.265466816647919},{"$f":"'CV Rotina <2A - procedência'!U80","v":0.67941507311586047},{"$f":"'CV Rotina <2A - procedência'!W80","v":1.0449943757030371},{"$f":"'CV Rotina <2A - procedência'!AA80","v":1.1293588301462316},2,7,9,4]
[]
[null,"Total Norte",{"$f":"'CV Rotina <2A - procedência'!K82","v":0.67579908675799083},{"$f":"'CV Rotina <2A - procedência'!AC82","v":0.99282452707110236},{"$f":"'CV Rotina <2A - procedência'!M82","v":0.91519895629484671},{"$f":"'CV Rotina <2A - procedência'!O82","v":0.89693411611219831},{"$f":"'CV Rotina <2A - procedência'!Q82","v":0.97455968688845396},{"$f":"'CV Rotina <2A - procedência'!Y82","v":0.91389432485322897},{"$f":"'CV Rotina <2A - procedência'!S82","v":0.93411611219830393},{"$f":"'CV Rotina <2A - procedência'!U82","v":0.83170254403131116},{"$f":"'CV Rotina <2A - procedência'!W82","v":0.84148727984344418},{"$f":"'CV Rotina <2A - procedência'!AA82","v":0.84605348988910634},{"$f":"COUNTIF(C82:D82,\">=0,9\")","v":1},{"$f":"COUNTIFS(E82:L82,\">=0,95\")","v":1},{"$f":"SUM(M82:N82)","v":2},{"$f":"COUNTIF(E82:H82,\">=0,95\")","v":1}]
[null,"Total Central",{"$f":"'CV Rotina <2A - procedência'!K83","v":1.1429369067560022},{"$f":"'CV Rotina <2A - procedência'!AC83","v":0.95924064768285877},{"$f":"'CV Rotina <2A - procedência'!M83","v":0.95756560580681183},{"$f":"'CV Rotina <2A - procedência'!O83","v":0.93579006141820209},{"$f":"'CV Rotina <2A - procedência'!Q83","v":0.93690675600223339},{"$f":"'CV Rotina <2A - procedência'!Y83","v":0.90284757118927972},{"$f":"'CV Rotina <2A - procedência'!S83","v":0.95086543830262427},{"$f":"'CV Rotina <2A - procedência'!U83","v":0.83305415968732555},{"$f":"'CV Rotina <2A - procedência'!W83","v":0.8230039084310441},{"$f":"'CV Rotina <2A - procedência'!AA83","v":0.86432160804020097},{"$f":"COUNTIF(C83:D83,\">=0,9\")","v":2},{"$f":"COUNTIFS(E83:L83,\">=0,95\")","v":2},{"$f":"SUM(M83:N83)","v":4},{"$f":"COUNTIF(E83:H83,\">=0,95\")","v":1}]
[null,"Total Metropolitana",{"$f":"'CV Rotina <2A - procedência'!K84","v":0.92219097361724922},{"$f":"'CV Rotina <2A - procedência'!AC84","v":0.95044864068568369},{"$f":"'CV Rotina <2A - procedência'!M84","v":0.91696799250033478},{"$f":"'CV Rotina <2A - procedência'!O84","v":0.90464711396812647},{"$f":"'CV Rotina <2A - procedência'!Q84","v":0.928887103254319},{"$f":"'CV Rotina <2A - procedência'!Y84","v":0.94656488549618323},{"$f":"'CV Rotina <2A - procedência'!S84","v":0.92674434177045673},{"$f":"'CV Rotina <2A - procedência'!U84","v":0.74902906120262491},{"$f":"'CV Rotina <2A - procedência'!W84","v":0.870630775411812},{"$f":"'CV Rotina <2A - procedência'!AA84","v":0.85710459354493107},{"$f":"COUNTIF(C84:D84,\">=0,9\")","v":2},{"$f":"COUNTIFS(E84:L84,\">=0,95\")","v":0},{"$f":"SUM(M84:N84)","v":2},{"$f":"COUNTIF(E84:H84,\">=0,95\")","v":0}]
[null,"Total Sul",{"$f":"'CV Rotina <2A - procedência'!K85","v":0.9920948616600791},{"$f":"'CV Rotina <2A - procedência'!AC85","v":0.95009881422924902},{"$f":"'CV Rotina <2A - procedência'!M85","v":0.98418972332015808},{"$f":"'CV Rotina <2A - procedência'!O85","v":0.97381422924901184},{"$f":"'CV Rotina <2A - procedência'!Q85","v":0.92984189723320154},{"$f":"'CV Rotina <2A - procedência'!Y85","v":1.0311264822134387},{"$f":"'CV Rotina <2A - procedência'!S85","v":0.95009881422924902},{"$f":"'CV Rotina <2A - procedência'!U85","v":0.85573122529644263},{"$f":"'CV Rotina <2A - procedência'!W85","v":0.92045454545454541},{"$f":"'CV Rotina <2A - procedência'!AA85","v":0.95256916996047436},{"$f":"COUNTIF(C85:D85,\">=0,9\")","v":2},{"$f":"COUNTIFS(E85:L85,\">=0,95\")","v":5},{"$f":"SUM(M85:N85)","v":7},{"$f":"COUNTIF(E85:H85,\">=0,95\")","v":3}]
[null,"Total Espírito Santo",{"$f":"'CV Rotina <2A - procedência'!K86","v":0.93460788138899731},{"$f":"'CV Rotina <2A - procedência'!AC86","v":0.95669137729223563},{"$f":"'CV Rotina <2A - procedência'!M86","v":0.93304721030042914},{"$f":"'CV Rotina <2A - procedência'!O86","v":0.91900117050331642},{"$f":"'CV Rotina <2A - procedência'!Q86","v":0.93562231759656656},{"$f":"'CV Rotina <2A - procedência'!Y86","v":0.94990245805696449},{"$f":"'CV Rotina <2A - procedência'!S86","v":0.93468591494342568},{"$f":"'CV Rotina <2A - procedência'!U86","v":0.78751463129145538},{"$f":"'CV Rotina <2A - procedência'!W86","v":0.86835739367928211},{"$f":"'CV Rotina <2A - procedência'!AA86","v":0.87186890362856029},{"$f":"COUNTIF(C86:D86,\">=0,9\")","v":2},{"$f":"COUNTIFS(E86:L86,\">=0,95\")","v":0},{"$f":"SUM(M86:N86)","v":2},{"$f":"COUNTIF(E86:H86,\">=0,95\")","v":0}]
[]
[]
["Fonte: SIPNI/DATASUS, em 09 de junho de 2023.*"]
[" Vacina e Confia, em 12 de junho de 2023.**"]
["*Dados referentes às doses aplicadas pelas clínicas particulares de janeiro a maio de 2023"]
["**Dados referente às doses aplicadas no período de janeiro a maio de 2023"]
["Cobertura Calculada por município de vacinação"]
["1 População proporcional extraída do MS/SVS/DASIS - Sistema de Informações sobre Nascidos Vivos - SINASC"]
["2000 a 2021 – Estimativas preliminares elaboradas pelo Ministério da Saúde/SVS/DASNT/CGIAE"]
[" Nota: Dados preliminares 2021"]

{"sheet":"CV Rotina <2A - procedência","index":1,"n_rows":116,"n_cols":40,"rows_kept":116,"cut":false,"hidden":false,"merged":[[87,21,87,22],[87,23,87,24],[87,25,87,26],[87,27,87,28],[87,30,87,31],[87,11,87,12],[87,13,87,14],[87,15,87,16],[87,17,87,18],[87,19,87,20],[87,1,87,2],[87,3,87,4],[87,5,87,6],[87,7,87,8],[87,9,87,10],[2,38,2,39],[11,38,11,39],[86,3,86,4],[86,5,86,6],[86,7,86,8],[86,9,86,10],[86,11,86,12],[86,13,86,14],[86,15,86,16],[86,17,86,18],[86,19,86,20],[86,21,86,22],[86,23,86,24],[86,25,86,26],[86,27,86,28],[86,30,86,31],[0,3,0,10],[0,11,0,20],[0,21,0,26],[0,27,0,28],[0,30,0,31]]}
[null," ",null,"AO NASCER",null,null,null,null,null,null,null,"MENOR DE 1 ANO",null,null,null,null,null,null,null,null,null,"1 ANO",null,null,null,null,null,"MENOR DE 2 ANOS",null,null,"MENOR DE 1 ANO"]
["Regional ","Município","¹População \n< 1 ano e 1 ano","Doses Aplicadas HB\n≤30 dias","Cobertura Vacinal HB\naté 30 dias","Doses Aplicadas HB\n≤2 dias","Cobertura Vacinal HB\naté 2 dias","Doses Aplicadas HB\n≤1 dia","Cobertura Vacinal HB\naté 1 dia","Doses Aplicadas BCG","Cobertura Vacinal BCG","Doses Aplicadas Pentavalente ","Cobertura Vacinal Pentavalente","Doses Aplicadas Poliomielite ","Cobertura Vacinal Poliomielite ","Doses Aplicadas Pneumo 10","Cobertura Vacinal Pneumo 10","Doses Aplicadas Meningo C","Cobertura Vacinal Meningo C","Doses Aplicadas Febre Amarela","Cobertura Vacinal Febre Amarela","Doses Aplicadas Hepatite A","Cobertura Vacinal Hepatite A","Doses Aplicadas de Tríplice Viral","Cobertura Vacinal Tríplice Viral","Doses Aplicadas Varicela","Cobertura Varicela","Doses Aplicadas Rotavírus","Cobertura Vacinal Rotavírus",null,"Doses Aplicadas COVID-19","Cobertura Vacinal \nCOVID-19",null,"VACINAS QUE ATINGIRAM A META DE CV","HOMOGENEIDADE ENTRE AS 10 VACINAS","VACINAS DO PQA-VS QUE ATINGIRAM A META DE CV","HOMOGENEIDADE ENTRE AS VACINAS DO PQA-VS"]
["Metropolitana","Afonso Cláudio",88,63,{"$f":"D3/C3","v":0.71590909090909094},47,{"$f":"F3/C3","v":0.53409090909090906},30,{"$f":"H3/C3","v":0.34090909090909088},63,{"$f":"J3/C3","v":0.71590909090909094},69,{"$f":"L3/C3","v":0.78409090909090906},67,{"$f":"N3/C3","v":0.76136363636363635},82,{"$f":"P3/C3","v":0.93181818181818177},74,{"$f":"R3/C3","v":0.84090909090909094},97,{"$f":"T3/C3","v":1.1022727272727273},93,{"$f":"V3/C3","v":1.0568181818181819},90,{"$f":"X3/C3","v":1.0227272727272727},88,{"$f":"Z3/C3","v":1},80,{"$f":"AB3/C3","v":0.90909090909090906},null,0,{"$f":"AE3/C3","v":0},null,{"$f":"cálculos1!O3","v":5},{"$f":"AH3*0.1","v":0.5},{"$f":"cálculos1!P3","v":1},{"$f":"AJ3*0.25","v":0.25},null,"LEGENDA / HOMOGENEIDADE PQA-VS"]
["Norte","Água Doce do Norte",38,16,{"$f":"D4/C4","v":0.42105263157894735},0,{"$f":"F4/C4","v":0},0,{"$f":"H4/C4","v":0},18,0.47368421052631576,32,0.84210526315789469,34,0.89473684210526316,42,1.1052631578947369,36,0.94736842105263153,25,0.65789473684210531,41,1.0789473684210527,39,1.0263157894736843,37,0.97368421052631582,44,{"$f":"AB4/C4","v":1.1578947368421053},null,0,0,null,{"$f":"cálculos1!O4","v":5},{"$f":"AH4*0.1","v":0.5},{"$f":"cálculos1!P4","v":2},{"$f":"AJ4*0.25","v":0.5},null,"PERCENTUAL","Nº DE MUNICÍPIOS"]
["Central","Águia Branca",52,29,0.55769230769230771,2,3.8461538461538464E-2,0,0,29,0.55769230769230771,47,0.90384615384615385,47,0.90384615384615385,36,0.69230769230769229,40,0.76923076923076927,46,0.88461538461538458,24,0.46153846153846156,38,0.73076923076923073,28,0.53846153846153844,37,0.71153846153846156,null,3,5.7692307692307696E-2,null,{"$f":"cálculos1!O5","v":0},0,{"$f":"cálculos1!P5","v":0},0,null,0,{"$f":"COUNTIF($AK$3:$AK$80,\"=0\")","v":21}]
["Sul","Alegre",75,34,0.45333333333333331,4,5.3333333333333337E-2,1,1.3333333333333334E-2,36,0.48,80,1.0666666666666667,79,1.0533333333333332,67,0.89333333333333331,63,0.84,82,1.0933333333333333,76,1.0133333333333334,73,0.97333333333333338,72,0.96,64,0.85333333333333339,null,9,0.12,null,{"$f":"cálculos1!O6","v":6},0.60000000000000009,{"$f":"cálculos1!P6","v":3},0.75,null,0.25,{"$f":"COUNTIF($AK$3:$AK$80,\"=0,25\")","v":19}]
["Sul","Alfredo Chaves",32,1,3.125E-2,0,0,0,0,12,0.375,26,0.8125,25,0.78125,21,0.65625,20,0.625,25,0.78125,24,0.75,37,1.15625,29,0.90625,26,0.8125,null,0,0,null,{"$f":"cálculos1!O7","v":1},0.1,{"$f":"cálculos1!P7","v":1},0.25,null,0.5,{"$f":"COUNTIF($AK$3:$AK$80,\"=0,5\")","v":12}]
["Central","Alto Rio Novo",24,7,0.29166666666666669,0,0,0,0,7,0.29166666666666669,25,1.0416666666666667,25,1.0416666666666667,20,0.83333333333333337,26,1.0833333333333333,25,1.0416666666666667,18,0.75,20,0.83333333333333337,19,0.79166666666666663,20,0.83333333333333337,null,0,0,null,{"$f":"cálculos1!O8","v":4},0.4,{"$f":"cálculos1!P8","v":2},0.5,null,0.75,{"$f":"COUNTIF($AK$3:$AK$80,\"=0,75\")","v":7}]
["Sul","Anchieta",103,14,0.13592233009708737,0,0,0,0,43,0.41747572815533979,75,0.72815533980582525,71,0.68932038834951459,78,0.75728155339805825,70,0.67961165048543692,80,0.77669902912621358,111,1.0776699029126213,98,0.95145631067961167,120,1.1650485436893203,81,0.78640776699029125,null,0,0,null,{"$f":"cálculos1!O9","v":3},0.30000000000000004,{"$f":"cálculos1!P9","v":1},0.25,null,1,{"$f":"COUNTIF($AK$3:$AK$80,\"=1,0\")","v":19}]
["Sul","Apiacá",11,4,0.36363636363636365,0,0,0,0,20,1.8181818181818181,16,1.4545454545454546,13,1.1818181818181819,19,1.7272727272727273,23,2.0909090909090908,14,1.2727272727272727,20,1.8181818181818181,23,2.0909090909090908,14,1.2727272727272727,19,1.7272727272727273,null,0,0,null,{"$f":"cálculos1!O10","v":10},1,{"$f":"cálculos1!P10","v":4},1]
["Metropolitana","Aracruz",387,307,0.79328165374677007,126,0.32558139534883723,71,0.1834625322997416,315,0.81395348837209303,348,0.89922480620155043,336,0.86821705426356588,299,0.77260981912144699,318,0.82170542635658916,301,0.77777777777777779,319,0.82428940568475451,371,0.95865633074935397,316,0.81653746770025837,312,0.80620155038759689,null,12,3.1007751937984496E-2,null,{"$f":"cálculos1!O11","v":1},0.1,{"$f":"cálculos1!P11","v":1},0.25]
["Sul","Atilio Vivacqua",47,1,2.1276595744680851E-2,0,0,0,0,1,2.1276595744680851E-2,32,0.68085106382978722,32,0.68085106382978722,24,0.51063829787234039,33,0.7021276595744681,39,0.82978723404255317,45,0.95744680851063835,49,1.0425531914893618,49,1.0425531914893618,24,0.51063829787234039,null,0,0,null,{"$f":"cálculos1!O12","v":3},0.30000000000000004,{"$f":"cálculos1!P12","v":1},0.25,null,"LEGENDA / HOMOGENEIDADE 10 VACINAS"]
["Central","Baixo Guandu",89,14,0.15730337078651685,1,1.1235955056179775E-2,1,1.1235955056179775E-2,35,0.39325842696629215,81,0.9101123595505618,79,0.88764044943820219,91,1.0224719101123596,87,0.97752808988764039,105,1.1797752808988764,75,0.84269662921348309,92,1.0337078651685394,84,0.9438202247191011,89,1,null,0,0,null,{"$f":"cálculos1!O13","v":5},0.5,{"$f":"cálculos1!P13","v":2},0.5,null,"PERCENTUAL","Nº DE MUNICÍPIOS"]
["Norte","Barra de São Francisco",158,59,0.37341772151898733,8,5.0632911392405063E-2,2,1.2658227848101266E-2,61,0.38607594936708861,127,0.80379746835443033,129,0.81645569620253167,136,0.86075949367088611,125,0.79113924050632911,142,0.89873417721518989,109,0.689873417721519,137,0.86708860759493667,109,0.689873417721519,137,0.86708860759493667,null,0,0,null,{"$f":"cálculos1!O14","v":0},0,{"$f":"cálculos1!P14","v":0},0,null,0,{"$f":"COUNTIF($AI$3:$AI$80,\"=0\")","v":12}]
["Norte","Boa Esperança",55,1,1.8181818181818181E-2,1,1.8181818181818181E-2,1,1.8181818181818181E-2,16,0.29090909090909089,50,0.90909090909090906,44,0.8,55,1,54,0.98181818181818181,52,0.94545454545454544,50,0.90909090909090906,58,1.0545454545454545,47,0.8545454545454545,57,1.0363636363636364,null,0,0,null,{"$f":"cálculos1!O15","v":4},0.4,{"$f":"cálculos1!P15","v":2},0.5,null,0.1,{"$f":"COUNTIFS($AI$3:$AI$80,\">=0,10\",$AI$3:$AI$80,\"<0,20\")","v":11}]
["Sul","Bom Jesus do Norte",5,8,1.6,0,0,0,0,22,4.4000000000000004,26,5.2,27,5.4,31,6.2,33,6.6,22,4.4000000000000004,18,3.6,22,4.4000000000000004,15,3,36,7.2,null,0,0,null,{"$f":"cálculos1!O16","v":10},1,{"$f":"cálculos1!P16","v":4},1,null,0.2,{"$f":"COUNTIFS($AI$3:$AI$80,\">=0,20\",$AI$3:$AI$80,\"<0,30\")","v":10}]
["Metropolitana","Brejetuba",53,8,0.15094339622641509,0,0,0,0,46,0.86792452830188682,76,1.4339622641509433,74,1.3962264150943395,70,1.320754716981132,70,1.320754716981132,61,1.1509433962264151,75,1.4150943396226414,76,1.4339622641509433,68,1.2830188679245282,71,1.3396226415094339,null,0,0,null,{"$f":"cálculos1!O17","v":9},0.9,{"$f":"cálculos1!P17","v":4},1,null,0.3,{"$f":"COUNTIFS($AI$3:$AI$80,\">=0,30\",$AI$3:$AI$80,\"<0,40\")","v":5}]
["Sul","Cachoeiro de Itapemirim",578,1275,2.2058823529411766,1141,1.9740484429065743,667,1.1539792387543253,1268,2.1937716262975777,594,1.027681660899654,585,1.0121107266435987,560,0.96885813148788924,560,0.96885813148788924,446,0.77162629757785473,486,0.84083044982698962,546,0.94463667820069208,501,0.86678200692041518,576,0.9965397923875432,null,12,2.0761245674740483E-2,null,{"$f":"cálculos1!O18","v":6},0.60000000000000009,{"$f":"cálculos1!P18","v":3},0.75,null,0.4,{"$f":"COUNTIFS($AI$3:$AI$80,\">=0,40\",$AI$3:$AI$80,\"<0,50\")","v":7}]
["Metropolitana","Cariacica",1202,484,0.40266222961730447,12,9.9833610648918467E-3,3,2.4958402662229617E-3,471,0.39184692179700498,1002,0.83361064891846925,990,0.82362728785357742,1016,0.8452579034941764,1053,0.87603993344425957,933,0.77620632279534107,984,0.8186356073211315,1189,0.98918469217970051,981,0.81613976705490854,1077,0.89600665557404324,null,20,1.6638935108153077E-2,null,{"$f":"cálculos1!O19","v":1},0.1,{"$f":"cálculos1!P19","v":1},0.25,null,0.5,{"$f":"COUNTIFS($AI$3:$AI$80,\">=0,50\",$AI$3:$AI$80,\"<0,60\")","v":4}]
["Sul","Castelo",114,72,0.63157894736842102,51,0.44736842105263158,29,0.25438596491228072,80,0.70175438596491224,107,0.93859649122807021,107,0.93859649122807021,120,1.0526315789473684,110,0.96491228070175439,93,0.81578947368421051,93,0.81578947368421051,116,1.0175438596491229,103,0.90350877192982459,118,1.0350877192982457,null,1,8.771929824561403E-3,null,{"$f":"cálculos1!O20","v":4},0.4,{"$f":"cálculos1!P20","v":2},0.5,null,0.6,{"$f":"COUNTIFS($AI$3:$AI$80,\">=0,60\",$AI$3:$AI$80,\"<0,70\")","v":9}]
["Central","Colatina",366,936,2.557377049180328,700,1.9125683060109289,556,1.5191256830601092,929,2.5382513661202184,368,1.0054644808743169,368,1.0054644808743169,371,1.0136612021857923,363,0.99180327868852458,310,0.84699453551912574,311,0.84972677595628421,325,0.88797814207650272,313,0.85519125683060104,368,1.0054644808743169,null,8,2.185792349726776E-2,null,{"$f":"cálculos1!O21","v":6},0.60000000000000009,{"$f":"cálculos1!P21","v":3},0.75,null,0.7,{"$f":"COUNTIFS($AI$3:$AI$80,\">=0,70\",$AI$3:$AI$80,\"<0,80\")","v":2}]
["Norte","Conceição da Barra",99,3,3.0303030303030304E-2,0,0,0,0,7,7.0707070707070704E-2,93,0.93939393939393945,93,0.93939393939393945,100,1.0101010101010102,101,1.0202020202020201,121,1.2222222222222223,97,0.97979797979797978,90,0.90909090909090906,111,1.1212121212121211,105,1.0606060606060606,null,0,0,null,{"$f":"cálculos1!O22","v":6},0.60000000000000009,{"$f":"cálculos1!P22","v":1},0.25,null,0.8,{"$f":"COUNTIFS($AI$3:$AI$80,\">=0,80\",$AI$3:$AI$80,\"<0,90\")","v":5}]
["Metropolitana","Conceição do Castelo",41,2,4.878048780487805E-2,0,0,0,0,23,0.56097560975609762,37,0.90243902439024393,36,0.87804878048780488,39,0.95121951219512191,39,0.95121951219512191,33,0.80487804878048785,40,0.97560975609756095,42,1.024390243902439,39,0.95121951219512191,45,1.0975609756097562,null,1,2.4390243902439025E-2,null,{"$f":"cálculos1!O23","v":6},0.60000000000000009,{"$f":"cálculos1!P23","v":2},0.5,null,0.9,{"$f":"COUNTIFS($AI$3:$AI$80,\">=0,90\",$AI$3:$AI$80,\"<1,0\")","v":10}]
["Sul","Divino de São Lourenço",12,8,0.66666666666666663,0,0,0,0,10,0.83333333333333337,17,1.4166666666666667,17,1.4166666666666667,27,2.25,27,2.25,15,1.25,12,1,15,1.25,13,1.0833333333333333,27,2.25,null,1,8.3333333333333329E-2,null,{"$f":"cálculos1!O24","v":9},0.9,{"$f":"cálculos1!P24","v":4},1,null,1,{"$f":"COUNTIF($AI$3:$AI$80,\">=1,0\")","v":3}]
["Metropolitana","Domingos Martins",111,11,9.90990990990991E-2,1,9.0090090090090089E-3,0,0,18,0.16216216216216217,85,0.76576576576576572,83,0.74774774774774777,96,0.86486486486486491,74,0.66666666666666663,107,0.963963963963964,100,0.90090090090090091,103,0.92792792792792789,89,0.80180180180180183,97,0.87387387387387383,null,9,8.1081081081081086E-2,null,{"$f":"cálculos1!O25","v":1},0.1,{"$f":"cálculos1!P25","v":0},0]
["Sul","Dores do Rio Preto",25,11,0.44,0,0,0,0,15,0.6,25,1,23,0.92,21,0.84,25,1,21,0.84,29,1.1599999999999999,35,1.4,26,1.04,21,0.84,null,2,0.08,null,{"$f":"cálculos1!O26","v":5},0.5,{"$f":"cálculos1!P26","v":2},0.5]
["Norte","Ecoporanga",77,25,0.32467532467532467,0,0,0,0,29,0.37662337662337664,58,0.75324675324675328,60,0.77922077922077926,43,0.55844155844155841,53,0.68831168831168832,61,0.79220779220779225,71,0.92207792207792205,64,0.83116883116883122,60,0.77922077922077926,46,0.59740259740259738,null,1,1.2987012987012988E-2,null,{"$f":"cálculos1!O27","v":0},0,{"$f":"cálculos1!P27","v":0},0]
["Metropolitana","Fundão",66,10,0.15151515151515152,1,1.5151515151515152E-2,0,0,9,0.13636363636363635,48,0.72727272727272729,50,0.75757575757575757,44,0.66666666666666663,61,0.9242424242424242,51,0.77272727272727271,60,0.90909090909090906,70,1.0606060606060606,60,0.90909090909090906,51,0.77272727272727271,null,5,7.575757575757576E-2,null,{"$f":"cálculos1!O28","v":1},0.1,{"$f":"cálculos1!P28","v":1},0.25]
["Central","Governador Lindenberg",37,13,0.35135135135135137,0,0,0,0,9,0.24324324324324326,39,1.0540540540540539,40,1.0810810810810811,29,0.78378378378378377,44,1.1891891891891893,28,0.7567567567567568,27,0.72972972972972971,24,0.64864864864864868,25,0.67567567567567566,34,0.91891891891891897,null,0,0,null,{"$f":"cálculos1!O29","v":4},0.4,{"$f":"cálculos1!P29","v":2},0.5]
["Sul","Guaçuí",79,70,0.88607594936708856,7,8.8607594936708861E-2,4,5.0632911392405063E-2,72,0.91139240506329111,96,1.2151898734177216,96,1.2151898734177216,96,1.2151898734177216,93,1.1772151898734178,79,1,79,1,80,1.0126582278481013,92,1.1645569620253164,98,1.240506329113924,null,0,0,null,{"$f":"cálculos1!O30","v":10},1,{"$f":"cálculos1!P30","v":4},1]
["Metropolitana","Guarapari",471,350,0.74309978768577489,316,0.6709129511677282,301,0.63906581740976642,337,0.71549893842887469,384,0.8152866242038217,374,0.79405520169851385,391,0.83014861995753719,387,0.82165605095541405,279,0.59235668789808915,342,0.72611464968152861,390,0.82802547770700641,277,0.58811040339702758,394,0.83651804670912955,null,4,8.4925690021231421E-3,null,{"$f":"cálculos1!O31","v":0},0,{"$f":"cálculos1!P31","v":0},0]
["Metropolitana","Ibatiba",83,60,0.72289156626506024,1,1.2048192771084338E-2,0,0,68,0.81927710843373491,114,1.3734939759036144,114,1.3734939759036144,115,1.3855421686746987,112,1.3493975903614457,104,1.2530120481927711,93,1.1204819277108433,104,1.2530120481927711,128,1.5421686746987953,114,1.3734939759036144,null,0,0,null,{"$f":"cálculos1!O32","v":9},0.9,{"$f":"cálculos1!P32","v":4},1]
["Metropolitana","Ibiraçu",26,12,0.46153846153846156,0,0,0,0,13,0.5,27,1.0384615384615385,27,1.0384615384615385,32,1.2307692307692308,32,1.2307692307692308,29,1.1153846153846154,40,1.5384615384615385,26,1,41,1.5769230769230769,33,1.2692307692307692,null,0,0,null,{"$f":"cálculos1!O33","v":9},0.9,{"$f":"cálculos1!P33","v":4},1]
["Sul","Ibitirama",38,28,0.73684210526315785,1,2.6315789473684209E-2,0,0,33,0.86842105263157898,33,0.86842105263157898,33,0.86842105263157898,29,0.76315789473684215,27,0.71052631578947367,31,0.81578947368421051,42,1.1052631578947369,37,0.97368421052631582,45,1.1842105263157894,29,0.76315789473684215,null,2,5.2631578947368418E-2,null,{"$f":"cálculos1!O34","v":3},0.30000000000000004,{"$f":"cálculos1!P34","v":1},0.25]
["Sul","Iconha",26,8,0.30769230769230771,0,0,0,0,13,{"$f":"J35/C35","v":0.5},29,{"$f":"L35/C35","v":1.1153846153846154},28,{"$f":"N35/C35","v":1.0769230769230769},29,{"$f":"P35/C35","v":1.1153846153846154},34,{"$f":"R35/C35","v":1.3076923076923077},36,{"$f":"T35/C35","v":1.3846153846153846},32,{"$f":"V35/C35","v":1.2307692307692308},31,{"$f":"X35/C35","v":1.1923076923076923},29,{"$f":"Z35/C35","v":1.1153846153846154},31,1.1923076923076923,null,1,{"$f":"AE35/C35","v":3.8461538461538464E-2},null,{"$f":"cálculos1!O35","v":9},0.9,{"$f":"cálculos1!P35","v":4},1]
["Sul","Irupi",32,20,0.625,2,6.25E-2,2,6.25E-2,23,0.71875,64,2,65,2.03125,59,1.84375,64,2,58,1.8125,31,0.96875,41,1.28125,40,1.25,59,1.84375,null,1,3.125E-2,null,{"$f":"cálculos1!O36","v":9},0.9,{"$f":"cálculos1!P36","v":4},1]
["Metropolitana","Itaguaçu",36,4,0.1111111111111111,0,0,0,0,5,0.1388888888888889,24,0.66666666666666663,24,0.66666666666666663,31,0.86111111111111116,26,0.72222222222222221,29,0.80555555555555558,29,0.80555555555555558,29,0.80555555555555558,31,0.86111111111111116,34,0.94444444444444442,null,0,0,null,{"$f":"cálculos1!O37","v":1},0.1,{"$f":"cálculos1!P37","v":0},0]
["Sul","Itapemirim",140,188,1.3428571428571427,173,1.2357142857142858,173,1.2357142857142858,81,0.57857142857142863,121,0.86428571428571432,115,0.8214285714285714,111,0.79285714285714282,117,0.83571428571428574,91,0.65,134,0.95714285714285718,149,1.0642857142857143,120,0.8571428571428571,119,0.85,null,0,0,null,{"$f":"cálculos1!O38","v":2},0.2,{"$f":"cálculos1!P38","v":1},0.25]
["Metropolitana","Itarana",37,4,0.10810810810810811,0,0,0,0,4,0.10810810810810811,24,0.64864864864864868,25,0.67567567567567566,32,0.86486486486486491,29,0.78378378378378377,28,0.7567567567567568,21,0.56756756756756754,26,0.70270270270270274,19,0.51351351351351349,33,0.89189189189189189,null,0,0,null,{"$f":"cálculos1!O39","v":0},0,{"$f":"cálculos1!P39","v":0},0]
["Sul","Iúna",71,55,0.77464788732394363,2,2.8169014084507043E-2,0,0,61,0.85915492957746475,85,1.1971830985915493,84,1.1830985915492958,71,1,85,1.1971830985915493,101,1.4225352112676057,93,1.3098591549295775,96,1.352112676056338,101,1.4225352112676057,73,1.028169014084507,null,0,0,null,{"$f":"cálculos1!O40","v":9},0.9,{"$f":"cálculos1!P40","v":4},1]
["Norte","Jaguaré",141,101,0.71631205673758869,88,0.62411347517730498,88,0.62411347517730498,97,0.68794326241134751,98,0.69503546099290781,96,0.68085106382978722,113,0.8014184397163121,100,0.70921985815602839,81,0.57446808510638303,92,0.65248226950354615,120,0.85106382978723405,100,0.70921985815602839,120,0.85106382978723405,null,1,7.0921985815602835E-3,null,{"$f":"cálculos1!O41","v":0},0,{"$f":"cálculos1!P41","v":0},0]
["Sul","Jerônimo Monteiro",40,11,0.27500000000000002,0,0,0,0,12,0.3,29,0.72499999999999998,30,0.75,25,0.625,28,0.7,20,0.5,32,0.8,37,0.92500000000000004,35,0.875,26,0.65,null,1,2.5000000000000001E-2,null,{"$f":"cálculos1!O42","v":0},0,{"$f":"cálculos1!P42","v":0},0]
["Metropolitana","João Neiva",38,18,0.47368421052631576,3,7.8947368421052627E-2,1,2.6315789473684209E-2,17,0.44736842105263158,30,0.78947368421052633,30,0.78947368421052633,35,0.92105263157894735,33,0.86842105263157898,40,1.0526315789473684,28,0.73684210526315785,25,0.65789473684210531,28,0.73684210526315785,36,0.94736842105263153,null,0,0,null,{"$f":"cálculos1!O43","v":2},0.2,{"$f":"cálculos1!P43","v":0},0]
["Metropolitana","Laranja da Terra",25,1,0.04,0,0,0,0,6,0.24,27,1.08,27,1.08,23,0.92,19,0.76,38,1.52,34,1.36,26,1.04,36,1.44,30,1.2,null,3,0.12,null,{"$f":"cálculos1!O44","v":7},0.70000000000000007,{"$f":"cálculos1!P44","v":3},0.75]
["Central","Linhares",669,883,1.3198804185351272,682,1.0194319880418534,546,0.81614349775784756,885,1.3228699551569507,649,0.97010463378176381,623,0.93124065769805675,580,0.86696562032884905,634,0.94768310911808673,463,0.69207772795216738,561,0.83856502242152464,602,0.89985052316890879,587,0.87742899850523171,590,0.88191330343796714,null,3,4.4843049327354259E-3,null,{"$f":"cálculos1!O45","v":2},0.2,{"$f":"cálculos1!P45","v":1},0.25]
["Central","Mantenópolis",38,13,0.34210526315789475,0,0,0,0,12,0.31578947368421051,35,0.92105263157894735,33,0.86842105263157898,41,1.0789473684210527,39,1.0263157894736843,35,0.92105263157894735,27,0.71052631578947367,38,1,23,0.60526315789473684,40,1.0526315789473684,null,0,0,null,{"$f":"cálculos1!O46","v":4},0.4,{"$f":"cálculos1!P46","v":2},0.5]
["Sul","Marataízes",155,12,7.7419354838709681E-2,0,0,0,0,64,0.41290322580645161,145,0.93548387096774188,149,0.96129032258064517,166,1.0709677419354839,150,0.967741935483871,78,0.50322580645161286,122,0.7870967741935484,123,0.79354838709677422,120,0.77419354838709675,162,1.0451612903225806,null,0,0,null,{"$f":"cálculos1!O47","v":4},0.4,{"$f":"cálculos1!P47","v":2},0.5]
["Metropolitana","Marechal Floriano",44,8,0.18181818181818182,0,0,0,0,10,0.22727272727272727,51,1.1590909090909092,46,1.0454545454545454,40,0.90909090909090906,47,1.0681818181818181,53,1.2045454545454546,32,0.72727272727272729,56,1.2727272727272727,38,0.86363636363636365,43,0.97727272727272729,null,2,4.5454545454545456E-2,null,{"$f":"cálculos1!O48","v":6},0.60000000000000009,{"$f":"cálculos1!P48","v":3},0.75]
["Central","Marilândia",45,11,0.24444444444444444,1,2.2222222222222223E-2,0,0,14,0.31111111111111112,31,0.68888888888888888,32,0.71111111111111114,26,0.57777777777777772,26,0.57777777777777772,46,1.0222222222222221,35,0.77777777777777779,34,0.75555555555555554,38,0.84444444444444444,36,0.8,null,7,0.15555555555555556,null,{"$f":"cálculos1!O49","v":1},0.1,{"$f":"cálculos1!P49","v":0},0]
["Sul","Mimoso do Sul",87,8,9.1954022988505746E-2,2,2.2988505747126436E-2,0,0,16,0.18390804597701149,58,0.66666666666666663,60,0.68965517241379315,34,0.39080459770114945,47,0.54022988505747127,65,0.74712643678160917,54,0.62068965517241381,77,0.88505747126436785,48,0.55172413793103448,33,0.37931034482758619,null,0,0,null,{"$f":"cálculos1!O50","v":0},0,{"$f":"cálculos1!P50","v":0},0]
["Norte","Montanha",42,16,0.38095238095238093,0,0,0,0,16,0.38095238095238093,66,1.5714285714285714,68,1.6190476190476191,85,2.0238095238095237,68,1.6190476190476191,60,1.4285714285714286,61,1.4523809523809523,55,1.3095238095238095,64,1.5238095238095237,81,1.9285714285714286,null,0,0,null,{"$f":"cálculos1!O51","v":9},0.9,{"$f":"cálculos1!P51","v":4},1]
["Norte","Mucurici",20,1,0.05,1,0.05,0,0,0,0,7,0.35,8,0.4,11,0.55000000000000004,12,{"$f":"R52/C52","v":0.6},13,0.65,18,0.9,10,0.5,17,0.85,10,0.5,null,0,0,null,{"$f":"cálculos1!O52","v":0},0,{"$f":"cálculos1!P52","v":0},0]
["Sul","Muniz Freire",49,24,0.48979591836734693,1,2.0408163265306121E-2,0,0,34,0.69387755102040816,86,1.7551020408163265,85,1.7346938775510203,61,1.2448979591836735,69,1.4081632653061225,62,1.2653061224489797,57,1.1632653061224489,63,1.2857142857142858,100,2.0408163265306123,62,1.2653061224489797,null,0,0,null,{"$f":"cálculos1!O53","v":9},0.9,{"$f":"cálculos1!P53","v":4},1]
["Sul","Muqui",41,9,0.21951219512195122,0,0,0,0,10,0.24390243902439024,33,0.80487804878048785,32,0.78048780487804881,25,0.6097560975609756,28,0.68292682926829273,42,1.024390243902439,37,0.90243902439024393,41,1,34,0.82926829268292679,25,0.6097560975609756,null,3,7.3170731707317069E-2,null,{"$f":"cálculos1!O54","v":2},0.2,{"$f":"cálculos1!P54","v":1},0.25]
["Norte","Nova Venécia",190,133,0.7,114,0.6,113,0.59473684210526312,101,0.53157894736842104,161,0.84736842105263155,161,0.84736842105263155,166,0.87368421052631584,180,0.94736842105263153,154,0.81052631578947365,166,0.87368421052631584,185,0.97368421052631582,187,0.98421052631578942,170,0.89473684210526316,null,0,0,null,{"$f":"cálculos1!O55","v":2},0.2,{"$f":"cálculos1!P55","v":1},0.25]
["Central","Pancas",56,6,0.10714285714285714,0,0,0,0,9,0.16071428571428573,50,0.8928571428571429,49,0.875,42,0.75,44,0.7857142857142857,63,1.125,52,0.9285714285714286,68,1.2142857142857142,54,0.9642857142857143,45,0.8035714285714286,null,2,3.5714285714285712E-2,null,{"$f":"cálculos1!O56","v":3},0.30000000000000004,{"$f":"cálculos1!P56","v":1},0.25]
["Norte","Pedro Canário",77,3,3.896103896103896E-2,0,0,0,0,4,5.1948051948051951E-2,94,1.2207792207792207,87,1.1298701298701299,82,1.0649350649350648,74,0.96103896103896103,70,0.90909090909090906,75,0.97402597402597402,95,1.2337662337662338,85,1.1038961038961039,81,1.051948051948052,null,0,0,null,{"$f":"cálculos1!O57","v":8},0.8,{"$f":"cálculos1!P57","v":4},1]
["Norte","Pinheiros",97,2,2.0618556701030927E-2,0,0,0,0,7,7.2164948453608241E-2,83,0.85567010309278346,81,0.83505154639175261,70,0.72164948453608246,84,0.865979381443299,55,0.5670103092783505,66,0.68041237113402064,65,0.67010309278350511,54,0.55670103092783507,78,0.80412371134020622,null,1,1.0309278350515464E-2,null,{"$f":"cálculos1!O58","v":0},0,{"$f":"cálculos1!P58","v":0},0]
["Sul","Piúma",82,4,4.878048780487805E-2,0,0,0,0,20,0.24390243902439024,62,0.75609756097560976,62,0.75609756097560976,61,0.74390243902439024,67,0.81707317073170727,68,0.82926829268292679,76,0.92682926829268297,78,0.95121951219512191,74,0.90243902439024393,61,0.74390243902439024,null,8,9.7560975609756101E-2,null,{"$f":"cálculos1!O59","v":1},0.1,{"$f":"cálculos1!P59","v":1},0.25]
["Norte","Ponto Belo",14,4,0.2857142857142857,0,0,0,0,6,0.42857142857142855,19,1.3571428571428572,13,0.9285714285714286,25,1.7857142857142858,18,1.2857142857142858,22,1.5714285714285714,21,1.5,16,1.1428571428571428,24,1.7142857142857142,26,1.8571428571428572,null,0,0,null,{"$f":"cálculos1!O60","v":8},0.8,{"$f":"cálculos1!P60","v":3},0.75]
["Sul","Presidente Kennedy",59,6,0.10169491525423729,0,0,0,0,11,0.1864406779661017,46,0.77966101694915257,46,0.77966101694915257,40,0.67796610169491522,46,0.77966101694915257,44,0.74576271186440679,57,0.96610169491525422,77,1.3050847457627119,52,0.88135593220338981,41,0.69491525423728817,null,0,0,null,{"$f":"cálculos1!O61","v":2},0.2,{"$f":"cálculos1!P61","v":1},0.25]
["Central","Rio Bananal",78,14,0.17948717948717949,0,0,0,0,8,0.10256410256410256,70,0.89743589743589747,70,0.89743589743589747,62,0.79487179487179482,58,0.74358974358974361,57,0.73076923076923073,67,0.85897435897435892,69,0.88461538461538458,101,1.2948717948717949,66,0.84615384615384615,null,3,3.8461538461538464E-2,null,{"$f":"cálculos1!O62","v":1},0.1,{"$f":"cálculos1!P62","v":0},0]
["Sul","Rio Novo do Sul",31,8,0.25806451612903225,0,0,0,0,14,0.45161290322580644,26,0.83870967741935487,26,0.83870967741935487,29,0.93548387096774188,26,0.83870967741935487,23,0.74193548387096775,28,0.90322580645161288,43,1.3870967741935485,25,0.80645161290322576,33,1.064516129032258,null,0,0,null,{"$f":"cálculos1!O63","v":2},0.2,{"$f":"cálculos1!P63","v":1},0.25]
["Metropolitana","Santa Leopoldina",31,5,0.16129032258064516,1,3.2258064516129031E-2,1,3.2258064516129031E-2,6,0.19354838709677419,17,0.54838709677419351,17,0.54838709677419351,15,0.4838709677419355,15,0.4838709677419355,22,0.70967741935483875,25,0.80645161290322576,18,0.58064516129032262,23,0.74193548387096775,16,0.5161290322580645,null,0,0,null,{"$f":"cálculos1!O64","v":0},0,{"$f":"cálculos1!P64","v":0},0]
["Metropolitana","Santa Maria de Jetibá",171,105,0.61403508771929827,102,0.59649122807017541,102,0.59649122807017541,107,0.6257309941520468,192,1.1228070175438596,194,1.1345029239766082,178,1.0409356725146199,186,1.0877192982456141,157,0.91812865497076024,172,1.0058479532163742,175,1.0233918128654971,187,1.0935672514619883,180,1.0526315789473684,null,2,1.1695906432748537E-2,null,{"$f":"cálculos1!O65","v":8},0.8,{"$f":"cálculos1!P65","v":4},1]
["Metropolitana","Santa Teresa",74,190,2.5675675675675675,186,2.5135135135135136,129,1.7432432432432432,193,2.6081081081081079,63,0.85135135135135132,63,0.85135135135135132,69,0.93243243243243246,56,0.7567567567567568,61,0.82432432432432434,65,0.8783783783783784,70,0.94594594594594594,56,0.7567567567567568,65,0.8783783783783784,null,0,0,null,{"$f":"cálculos1!O66","v":1},0.1,{"$f":"cálculos1!P66","v":0},0]
["Central","São Domingos do Norte",29,12,0.41379310344827586,3,0.10344827586206896,1,3.4482758620689655E-2,13,{"$f":"J67/C67","v":0.44827586206896552},34,{"$f":"L67/C67","v":1.1724137931034482},33,{"$f":"N67/C67","v":1.1379310344827587},28,{"$f":"P67/C67","v":0.96551724137931039},38,{"$f":"R67/C67","v":1.3103448275862069},21,{"$f":"T67/C67","v":0.72413793103448276},24,{"$f":"V67/C67","v":0.82758620689655171},30,{"$f":"X67/C67","v":1.0344827586206897},22,{"$f":"Z67/C67","v":0.75862068965517238},34,1.1724137931034482,null,0,{"$f":"AE67/C67","v":0},null,{"$f":"cálculos1!O67","v":6},0.60000000000000009,{"$f":"cálculos1!P67","v":4},1]
["Central","São Gabriel da Palha",114,59,{"$f":"D68/C68","v":0.51754385964912286},5,{"$f":"F68/C68","v":4.3859649122807015E-2},0,{"$f":"H68/C68","v":0},66,0.57894736842105265,91,0.79824561403508776,89,0.7807017543859649,141,1.236842105263158,110,0.96491228070175439,102,0.89473684210526316,82,0.7192982456140351,87,0.76315789473684215,96,0.84210526315789469,134,{"$f":"AB68/C68","v":1.1754385964912282},null,0,0,null,{"$f":"cálculos1!O68","v":3},{"$f":"AH68*0.1","v":0.30000000000000004},{"$f":"cálculos1!P68","v":1},{"$f":"AJ68*0.25","v":0.25}]
["Sul","São José do Calçado",19,17,0.89473684210526316,0,0,0,0,25,1.3157894736842106,23,1.2105263157894737,23,1.2105263157894737,25,1.3157894736842106,25,1.3157894736842106,16,0.84210526315789469,15,0.78947368421052633,26,1.368421052631579,8,0.42105263157894735,26,1.368421052631579,null,2,0.10526315789473684,null,{"$f":"cálculos1!O69","v":7},0.70000000000000007,{"$f":"cálculos1!P69","v":4},1]
["Norte","São Mateus",487,722,1.482546201232033,704,1.4455852156057496,701,1.4394250513347022,663,1.3613963039014374,483,0.99178644763860369,471,0.96714579055441474,540,1.108829568788501,498,1.0225872689938398,380,0.78028747433264889,393,0.80698151950718688,435,0.89322381930184802,358,0.73511293634496921,539,1.106776180698152,null,4,8.2135523613963042E-3,null,{"$f":"cálculos1!O70","v":6},0.60000000000000009,{"$f":"cálculos1!P70","v":3},0.75]
["Central","São Roque do Canaã",32,10,0.3125,2,6.25E-2,0,0,8,0.25,28,0.875,28,0.875,34,1.0625,26,0.8125,37,1.15625,28,0.875,37,1.15625,27,0.84375,36,1.125,null,0,0,null,{"$f":"cálculos1!O71","v":4},0.4,{"$f":"cálculos1!P71","v":2},0.5]
["Metropolitana","Serra",1860,2381,1.2801075268817204,2057,1.1059139784946237,1521,0.81774193548387097,2264,1.2172043010752689,1726,0.92795698924731185,1726,0.92795698924731185,1653,0.8887096774193548,1665,0.89516129032258063,1332,0.71612903225806457,1586,0.85268817204301073,1691,0.9091397849462366,1479,0.79516129032258065,1742,0.9365591397849462,null,32,1.7204301075268817E-2,null,{"$f":"cálculos1!O72","v":2},0.2,{"$f":"cálculos1!P72","v":0},0]
["Central","Sooretama",96,5,5.2083333333333336E-2,0,0,0,0,7,7.2916666666666671E-2,108,1.125,101,1.0520833333333333,118,1.2291666666666667,114,1.1875,95,0.98958333333333337,93,0.96875,109,1.1354166666666667,81,0.84375,123,1.28125,null,0,0,null,{"$f":"cálculos1!O73","v":8},0.8,{"$f":"cálculos1!P73","v":4},1]
["Sul","Vargem Alta",73,9,0.12328767123287671,1,1.3698630136986301E-2,1,1.3698630136986301E-2,12,0.16438356164383561,58,0.79452054794520544,58,0.79452054794520544,53,0.72602739726027399,53,0.72602739726027399,81,1.1095890410958904,60,0.82191780821917804,74,1.0136986301369864,63,0.86301369863013699,53,0.72602739726027399,null,1,1.3698630136986301E-2,null,{"$f":"cálculos1!O74","v":2},0.2,{"$f":"cálculos1!P74","v":1},0.25]
["Metropolitana","Venda Nova do Imigrante",84,191,2.2738095238095237,182,2.1666666666666665,182,2.1666666666666665,88,1.0476190476190477,93,1.1071428571428572,92,1.0952380952380953,68,0.80952380952380953,73,0.86904761904761907,85,1.0119047619047619,89,1.0595238095238095,76,0.90476190476190477,110,1.3095238095238095,71,0.84523809523809523,null,4,4.7619047619047616E-2,null,{"$f":"cálculos1!O75","v":6},0.60000000000000009,{"$f":"cálculos1!P75","v":2},0.5]
["Metropolitana","Viana",216,112,0.51851851851851849,1,4.6296296296296294E-3,1,4.6296296296296294E-3,103,0.47685185185185186,221,1.0231481481481481,215,0.99537037037037035,227,1.0509259259259258,210,0.97222222222222221,190,0.87962962962962965,229,1.0601851851851851,236,1.0925925925925926,252,1.1666666666666667,229,1.0601851851851851,null,4,1.8518518518518517E-2,null,{"$f":"cálculos1!O76","v":8},0.8,{"$f":"cálculos1!P76","v":4},1]
["Norte","Vila Pavão",38,6,0.15789473684210525,1,2.6315789473684209E-2,0,0,11,0.28947368421052633,32,0.84210526315789469,30,0.78947368421052633,26,0.68421052631578949,29,0.76315789473684215,39,1.0263157894736843,30,0.78947368421052633,32,0.84210526315789469,44,1.1578947368421053,28,0.73684210526315785,null,0,0,null,{"$f":"cálculos1!O77","v":2},0.2,{"$f":"cálculos1!P77","v":0},0]
["Central","Vila Valério",66,14,0.21212121212121213,0,0,0,0,16,0.24242424242424243,59,0.89393939393939392,59,0.89393939393939392,59,0.89393939393939392,54,0.81818181818181823,59,0.89393939393939392,50,0.75757575757575757,44,0.66666666666666663,50,0.75757575757575757,66,1,null,0,0,null,{"$f":"cálculos1!O78","v":1},0.1,{"$f":"cálculos1!P78","v":0},0]
["Metropolitana","Vila Velha",1434,992,0.69177126917712695,665,0.46373779637377965,407,0.28382147838214783,987,0.68828451882845187,1099,0.76638772663877264,1064,0.74198047419804747,1231,0.85843793584379358,1216,0.84797768479776847,959,0.66875871687587174,1116,0.77824267782426781,1251,0.87238493723849375,1050,0.73221757322175729,1264,0.88145048814504878,null,41,2.8591352859135284E-2,null,{"$f":"cálculos1!O79","v":0},0,{"$f":"cálculos1!P79","v":0},0]
["Metropolitana","Vitória",889,1619,1.8211473565804275,1452,1.6332958380202474,1155,1.2992125984251968,1733,1.9493813273340832,1090,1.2260967379077616,1081,1.2159730033745781,1150,1.2935883014623173,1125,1.265466816647919,604,0.67941507311586047,929,1.0449943757030371,928,1.0438695163104612,1004,1.1293588301462316,1080,1.2148481439820022,null,48,5.3993250843644543E-2,null,{"$f":"cálculos1!O80","v":9},0.9,{"$f":"cálculos1!P80","v":4},1]
[]
[null,"Total Norte",{"$f":"SUMIF($A$3:$A$80,\"Norte\",C$3:C$80)","v":1533},{"$f":"SUMIF($A$3:$A$80,\"Norte\",D$3:D$80)","v":1092},{"$f":"D82/C82","v":0.71232876712328763},{"$f":"SUMIF($A$3:$A$80,\"Norte\",F$3:F$80)","v":917},{"$f":"F82/C82","v":0.59817351598173518},{"$f":"SUMIF($A$3:$A$80,\"Norte\",H$3:H$80)","v":905},{"$f":"H82/C82","v":0.59034572733202872},{"$f":"SUMIF($A$3:$A$80,\"Norte\",J$3:J$80)","v":1036},{"$f":"J82/C82","v":0.67579908675799083},{"$f":"SUMIF($A$3:$A$80,\"Norte\",L$3:L$80)","v":1403},{"$f":"L82/C82","v":0.91519895629484671},{"$f":"SUMIF($A$3:$A$80,\"Norte\",N$3:N$80)","v":1375},{"$f":"N82/C82","v":0.89693411611219831},{"$f":"SUMIF($A$3:$A$80,\"Norte\",P$3:P$80)","v":1494},{"$f":"P82/C82","v":0.97455968688845396},{"$f":"SUMIF($A$3:$A$80,\"Norte\",R$3:R$80)","v":1432},{"$f":"R82/C82","v":0.93411611219830393},{"$f":"SUMIF($A$3:$A$80,\"Norte\",T$3:T$80)","v":1275},{"$f":"T82/C82","v":0.83170254403131116},{"$f":"SUMIF($A$3:$A$80,\"Norte\",V$3:V$80)","v":1290},{"$f":"V82/C82","v":0.84148727984344418},{"$f":"SUMIF($A$3:$A$80,\"Norte\",X$3:X$80)","v":1401},{"$f":"X82/C82","v":0.91389432485322897},{"$f":"SUMIF($A$3:$A$80,\"Norte\",Z$3:Z$80)","v":1297},{"$f":"Z82/C82","v":0.84605348988910634},{"$f":"SUMIF($A$3:$A$80,\"Norte\",AB$3:AB$80)","v":1522},{"$f":"AB82/C82","v":0.99282452707110236},null,{"$f":"SUMIF($A$3:$A$80,\"Norte\",AE$3:AE$80)","v":7},{"$f":"AE82/C82","v":4.5662100456621002E-3},null,{"$f":"cálculos1!O82","v":2},{"$f":"AH82*0.1","v":0.2},{"$f":"cálculos1!P82","v":1},0.25]
[null,"Total Central",{"$f":"SUMIF($A$3:$A$80,\"Central\",C$3:C$80)","v":1791},{"$f":"SUMIF($A$3:$A$80,\"Central\",D$3:D$80)","v":2026},{"$f":"D83/C83","v":1.1312116136236738},{"$f":"SUMIF($A$3:$A$80,\"Central\",F$3:F$80)","v":1396},{"$f":"F83/C83","v":0.77945281965382462},{"$f":"SUMIF($A$3:$A$80,\"Central\",H$3:H$80)","v":1104},{"$f":"H83/C83","v":0.6164154103852596},{"$f":"SUMIF($A$3:$A$80,\"Central\",J$3:J$80)","v":2047},{"$f":"J83/C83","v":1.1429369067560022},{"$f":"SUMIF($A$3:$A$80,\"Central\",L$3:L$80)","v":1715},{"$f":"L83/C83","v":0.95756560580681183},{"$f":"SUMIF($A$3:$A$80,\"Central\",N$3:N$80)","v":1676},{"$f":"N83/C83","v":0.93579006141820209},{"$f":"SUMIF($A$3:$A$80,\"Central\",P$3:P$80)","v":1678},{"$f":"P83/C83","v":0.93690675600223339},{"$f":"SUMIF($A$3:$A$80,\"Central\",R$3:R$80)","v":1703},{"$f":"R83/C83","v":0.95086543830262427},{"$f":"SUMIF($A$3:$A$80,\"Central\",T$3:T$80)","v":1492},{"$f":"T83/C83","v":0.83305415968732555},{"$f":"SUMIF($A$3:$A$80,\"Central\",V$3:V$80)","v":1474},{"$f":"V83/C83","v":0.8230039084310441},{"$f":"SUMIF($A$3:$A$80,\"Central\",X$3:X$80)","v":1617},{"$f":"X83/C83","v":0.90284757118927972},{"$f":"SUMIF($A$3:$A$80,\"Central\",Z$3:Z$80)","v":1548},{"$f":"Z83/C83","v":0.86432160804020097},{"$f":"SUMIF($A$3:$A$80,\"Central\",AB$3:AB$80)","v":1718},{"$f":"AB83/C83","v":0.95924064768285877},null,{"$f":"SUMIF($A$3:$A$80,\"Central\",AE$3:AE$80)","v":26},{"$f":"AE83/C83","v":1.4517029592406477E-2},null,{"$f":"cálculos1!O83","v":4},{"$f":"AH83*0.1","v":0.4},{"$f":"cálculos1!P83","v":1},0.25]
[null,"Total Metropolitana",{"$f":"SUMIF($A$3:$A$80,\"Metropolitana\",C$3:C$80)","v":7467},{"$f":"SUMIF($A$3:$A$80,\"Metropolitana\",D$3:D$80)","v":6937},{"$f":"D84/C84","v":0.92902102584706037},{"$f":"SUMIF($A$3:$A$80,\"Metropolitana\",F$3:F$80)","v":5153},{"$f":"F84/C84","v":0.69010312039641086},{"$f":"SUMIF($A$3:$A$80,\"Metropolitana\",H$3:H$80)","v":3904},0.52283380206240793,{"$f":"SUMIF($A$3:$A$80,\"Metropolitana\",J$3:J$80)","v":6886},{"$f":"J84/C84","v":0.92219097361724922},{"$f":"SUMIF($A$3:$A$80,\"Metropolitana\",L$3:L$80)","v":6847},{"$f":"L84/C84","v":0.91696799250033478},{"$f":"SUMIF($A$3:$A$80,\"Metropolitana\",N$3:N$80)","v":6755},{"$f":"N84/C84","v":0.90464711396812647},{"$f":"SUMIF($A$3:$A$80,\"Metropolitana\",P$3:P$80)","v":6936},{"$f":"P84/C84","v":0.928887103254319},{"$f":"SUMIF($A$3:$A$80,\"Metropolitana\",R$3:R$80)","v":6920},{"$f":"R84/C84","v":0.92674434177045673},{"$f":"SUMIF($A$3:$A$80,\"Metropolitana\",T$3:T$80)","v":5593},{"$f":"T84/C84","v":0.74902906120262491},{"$f":"SUMIF($A$3:$A$80,\"Metropolitana\",V$3:V$80)","v":6501},{"$f":"V84/C84","v":0.870630775411812},{"$f":"SUMIF($A$3:$A$80,\"Metropolitana\",X$3:X$80)","v":7068},{"$f":"X84/C84","v":0.94656488549618323},{"$f":"SUMIF($A$3:$A$80,\"Metropolitana\",Z$3:Z$80)","v":6400},{"$f":"Z84/C84","v":0.85710459354493107},{"$f":"SUMIF($A$3:$A$80,\"Metropolitana\",AB$3:AB$80)","v":7097},0.95044864068568369,null,{"$f":"SUMIF($A$3:$A$80,\"Metropolitana\",AE$3:AE$80)","v":187},{"$f":"AE84/C84","v":2.5043524842640955E-2},null,{"$f":"cálculos1!O84","v":2},0.2,{"$f":"cálculos1!P84","v":0},0]
[null,"Total Sul",{"$f":"SUMIF($A$3:$A$80,\"sul\",C$3:C$80)","v":2024},{"$f":"SUMIF($A$3:$A$80,\"Sul\",D$3:D$80)","v":1905},{"$f":"D85/C85","v":0.9412055335968379},{"$f":"SUMIF($A$3:$A$80,\"Sul\",F$3:F$80)","v":1385},{"$f":"F85/C85","v":0.68428853754940711},{"$f":"SUMIF($A$3:$A$80,\"Sul\",H$3:H$80)","v":877},0.43330039525691699,{"$f":"SUMIF($A$3:$A$80,\"Sul\",J$3:J$80)","v":2008},{"$f":"J85/C85","v":0.9920948616600791},{"$f":"SUMIF($A$3:$A$80,\"Sul\",L$3:L$80)","v":1992},{"$f":"L85/C85","v":0.98418972332015808},{"$f":"SUMIF($A$3:$A$80,\"Sul\",N$3:N$80)","v":1971},{"$f":"N85/C85","v":0.97381422924901184},{"$f":"SUMIF($A$3:$A$80,\"Sul\",P$3:P$80)","v":1882},{"$f":"P85/C85","v":0.92984189723320154},{"$f":"SUMIF($A$3:$A$80,\"Sul\",R$3:R$80)","v":1923},{"$f":"R85/C85","v":0.95009881422924902},{"$f":"SUMIF($A$3:$A$80,\"Sul\",T$3:T$80)","v":1732},{"$f":"T85/C85","v":0.85573122529644263},{"$f":"SUMIF($A$3:$A$80,\"Sul\",V$3:V$80)","v":1863},{"$f":"V85/C85","v":0.92045454545454541},{"$f":"SUMIF($A$3:$A$80,\"Sul\",X$3:X$80)","v":2087},{"$f":"X85/C85","v":1.0311264822134387},{"$f":"SUMIF($A$3:$A$80,\"Sul\",Z$3:Z$80)","v":1928},{"$f":"Z85/C85","v":0.95256916996047436},{"$f":"SUMIF($A$3:$A$80,\"Sul\",AB$3:AB$80)","v":1923},0.95009881422924902,null,{"$f":"SUMIF($A$3:$A$80,\"Sul\",AE$3:AE$80)","v":44},{"$f":"AE85/C85","v":2.1739130434782608E-2},null,{"$f":"cálculos1!O85","v":7},0.70000000000000007,{"$f":"cálculos1!P85","v":3},0.75]
[null,"Total Espírito Santo",{"$f":"SUM(C3:C80)","v":12815},{"$f":"SUM(D82:D85)","v":11960},{"$f":"D86/C86","v":0.93328131096371436},{"$f":"SUM(F82:F85)","v":8851},{"$f":"F86/C86","v":0.6906749902458057},{"$f":"SUM(H82:H85)","v":6790},0.52984783456886464,{"$f":"SUM(J82:J85)","v":11977},{"$f":"J86/C86","v":0.93460788138899731},{"$f":"SUM(L82:L85)","v":11957},{"$f":"L86/C86","v":0.93304721030042914},{"$f":"SUM(N82:N85)","v":11777},{"$f":"N86/C86","v":0.91900117050331642},{"$f":"SUM(P82:P85)","v":11990},{"$f":"P86/C86","v":0.93562231759656656},{"$f":"SUM(R82:R85)","v":11978},{"$f":"R86/C86","v":0.93468591494342568},{"$f":"SUM(T82:T85)","v":10092},{"$f":"T86/C86","v":0.78751463129145538},{"$f":"SUM(V82:V85)","v":11128},{"$f":"V86/C86","v":0.86835739367928211},{"$f":"SUM(X82:X85)","v":12173},{"$f":"X86/C86","v":0.94990245805696449},{"$f":"SUM(Z82:Z85)","v":11173},{"$f":"Z86/C86","v":0.87186890362856029},{"$f":"SUM(AB82:AB85)","v":12260},0.95669137729223563,null,{"$f":"SUM(AE82:AE85)","v":264},{"$f":"AE86/C86","v":2.0600858369098713E-2},null,{"$f":"cálculos1!O86","v":2},0.2,{"$f":"cálculos1!P86","v":0},0]
[null,null,null,{"$f":"COUNTIF(E3:E80,\">=0,95\")","v":10},null,{"$f":"COUNTIF(G3:G80,\">=0,95\")","v":9},null,{"$f":"COUNTIF(I3:I80,\">=0,95\")","v":7},null,{"$f":"COUNTIF(K3:K80,\">=0,9\")","v":12},null,{"$f":"COUNTIF(M3:M80,\">=0,95\")","v":31},null,{"$f":"COUNTIF(O3:O80,\">=0,95\")","v":29},null,{"$f":"COUNTIF(Q3:Q80,\">=0,95\")","v":33},null,{"$f":"COUNTIF(S3:S80,\">=0,95\")","v":35},null,{"$f":"COUNTIF(U3:U80,\">=0,95\")","v":30},null,{"$f":"COUNTIF(W3:W80,\">=0,95\")","v":31},null,{"$f":"COUNTIF(Y3:Y80,\">=0,95\")","v":47},null,{"$f":"COUNTIF(AA3:AA80,\">=0,95\")","v":32},null,{"$f":"COUNTIF(AC3:AC80,\">=0,9\")","v":42},null,null,{"$f":"COUNTIF(AF3:AF80,\">=0,9\")","v":0}]
[null,"HOMOGENEIDADE ENTRE MUNICÍPIOS",null,{"$f":"D87/78","v":0.12820512820512819},null,{"$f":"F87/78","v":0.11538461538461539},null,{"$f":"H87/78","v":8.9743589743589744E-2},null,{"$f":"J87/78","v":0.15384615384615385},null,{"$f":"L87/78","v":0.39743589743589741},null,{"$f":"N87/78","v":0.37179487179487181},null,{"$f":"P87/78","v":0.42307692307692307},null,{"$f":"R87/78","v":0.44871794871794873},null,{"$f":"T87/78","v":0.38461538461538464},null,{"$f":"V87/78","v":0.39743589743589741},null,{"$f":"X87/78","v":0.60256410256410253},null,{"$f":"Z87/78","v":0.41025641025641024},null,{"$f":"AB87/78","v":0.53846153846153844},null,null,{"$f":"AE87/78","v":0}]
[]
[]
[" Fonte: Vacina e Confia, em 15 de abril de 2026.**<https://vacinaeconfia.saude.es.gov.br/>",null,null,null,null," "]
["**Dados referente às doses aplicadas de janeiro a março de 2026",null,null,null," ",null," ",null," ",null," "]
["Cobertura Calculada por município de procedência/ocorrência da vacinação"]
["1 População estimada extraída do MS/SVS/DASIS - SINASC/DASIS/SVS/MS 2025 referente ao período de janeiro de 2026 a fevereiro e março de 2025."]
["Sinasc, atualizado em 06/04/2026"]
["Método de Cálculo Simples"]
["Homogeineidade: O cálculo da Homogeineidade entre vacinas é feito de acordo com a pactuação estabelecida no Plano Plurianual (PPA) vigente no período 2024-2027."]
[]
[]
["Observações referente a distribuição de imunobiológicos que podem afetar a cobertura vacinal: "]
[null,null,null,null,null,null,null,null,null,null,null,null,null,null,null,null,null," "]
["1. Vacinas que foram recebidas parcialmente pelo estado no mês de Março/2026, sendo distribuídos em quantidades reduzidas às regionais e municípios:",null,null,null,null,null,null,null,null,null,null,null,null," "]
["IMUNOGLOBULINA ANTIRRÁBICA HUMANA; SORO ANTIRRÁBICO HUMANO"]
["2. Vacinas indisponíveis no mês de março/2026, não sendo possível a distribuição às regionais e municípios: "]
["IMUNOGLOBULINA HUMANA ANTIVARICELA (ZOSTER) – 125UI "]
["3. Vacinas enviadas por Pautas aguardando abastecimento do estoque estadual;"]
["VACINA COVID-19 PFIZER PEDIÁTRICA MENOR QUE 5 ANOS; VACINA COVID-19 PFIZER PEDIÁTRICA, VACINA COVID-19 PFIZER MAIORES QUE 12 ANOS, VACINA VÍRUS SINCICIAL RESPIRATÓRIO A E B - VSR \n"]
[]
["Fonte: Informes situacionais de distribuição de imunobiológicos em https://saude.es.gov.br/GrupodeArquivos/informes-situacionais-de-distribuicao-de-imunobiologicos"]
[null,null,null,null,null,null,null,null,null,null,null," "]
[]
[]
[]
[]
[]
[null,null,null,null," "]

{"sheet":"cálculos2","index":2,"n_rows":96,"n_cols":16,"rows_kept":96,"cut":false,"hidden":true,"merged":[[0,2,0,3],[0,4,0,11]]}
[null,null,0.9,null,0.95]
["Regional ","Município","Cobertura Vacinal BCG","Cobertura Vacinal Rotavírus","Cobertura Vacinal Pentavalente","Cobertura Vacinal Poliomielite ","Cobertura Vacinal Pneumo 10","Cobertura Vacinal Tríplice Viral","Cobertura Vacinal Meningo C","Cobertura Vacinal Febre Amarela","Cobertura Vacinal Hepatite A","Cobertura Varicela","META 90%","META 95%","ATINGIRAM META","PQA-VS"]
["Metropolitana","Afonso Cláudio",{"$f":"'CV Rotina <2A - residência'!K3","v":0.81818181818181823},{"$f":"'CV Rotina <2A - residência'!AC3","v":1.0227272727272727},{"$f":"'CV Rotina <2A - residência'!M3","v":0.86363636363636365},{"$f":"'CV Rotina <2A - residência'!O3","v":0.84090909090909094},{"$f":"'CV Rotina <2A - residência'!Q3","v":1.0227272727272727},{"$f":"'CV Rotina <2A - residência'!Y3","v":1.0227272727272727},{"$f":"'CV Rotina <2A - residência'!S3","v":0.88636363636363635},{"$f":"'CV Rotina <2A - residência'!U3","v":1.0795454545454546},{"$f":"'CV Rotina <2A - residência'!W3","v":1.0568181818181819},{"$f":"'CV Rotina <2A - residência'!AA3","v":1.0340909090909092},{"$f":"COUNTIF(C3:D3,\">=0,9\")","v":1},{"$f":"COUNTIFS(E3:L3,\">=0,95\")","v":5},{"$f":"SUM(M3:N3)","v":6},{"$f":"COUNTIF(E3:H3,\">=0,95\")","v":2}]
["Norte","Água Doce do Norte",{"$f":"'CV Rotina <2A - residência'!K4","v":0.84210526315789469},{"$f":"'CV Rotina <2A - residência'!AC4","v":1.1052631578947369},{"$f":"'CV Rotina <2A - residência'!M4","v":0.78947368421052633},{"$f":"'CV Rotina <2A - residência'!O4","v":0.84210526315789469},{"$f":"'CV Rotina <2A - residência'!Q4","v":1.0526315789473684},{"$f":"'CV Rotina <2A - residência'!Y4","v":0.86842105263157898},{"$f":"'CV Rotina <2A - residência'!S4","v":0.97368421052631582},{"$f":"'CV Rotina <2A - residência'!U4","v":0.5},{"$f":"'CV Rotina <2A - residência'!W4","v":1.0789473684210527},{"$f":"'CV Rotina <2A - residência'!AA4","v":0.92105263157894735},1,3,{"$f":"SUM(M4:N4)","v":4},{"$f":"COUNTIF(E4:H4,\">=0,95\")","v":1}]
["Central","Águia Branca",{"$f":"'CV Rotina <2A - residência'!K5","v":0.86538461538461542},{"$f":"'CV Rotina <2A - residência'!AC5","v":0.67307692307692313},{"$f":"'CV Rotina <2A - residência'!M5","v":0.88461538461538458},{"$f":"'CV Rotina <2A - residência'!O5","v":0.88461538461538458},{"$f":"'CV Rotina <2A - residência'!Q5","v":0.67307692307692313},{"$f":"'CV Rotina <2A - residência'!Y5","v":0.73076923076923073},{"$f":"'CV Rotina <2A - residência'!S5","v":0.73076923076923073},{"$f":"'CV Rotina <2A - residência'!U5","v":0.88461538461538458},{"$f":"'CV Rotina <2A - residência'!W5","v":0.46153846153846156},{"$f":"'CV Rotina <2A - residência'!AA5","v":0.57692307692307687},0,0,0,0]
["Sul","Alegre",{"$f":"'CV Rotina <2A - residência'!K6","v":0.84},{"$f":"'CV Rotina <2A - residência'!AC6","v":0.82666666666666666},{"$f":"'CV Rotina <2A - residência'!M6","v":1.08},{"$f":"'CV Rotina <2A - residência'!O6","v":1.0666666666666667},{"$f":"'CV Rotina <2A - residência'!Q6","v":0.82666666666666666},{"$f":"'CV Rotina <2A - residência'!Y6","v":0.92},{"$f":"'CV Rotina <2A - residência'!S6","v":0.82666666666666666},{"$f":"'CV Rotina <2A - residência'!U6","v":1.0133333333333334},{"$f":"'CV Rotina <2A - residência'!W6","v":1.0133333333333334},{"$f":"'CV Rotina <2A - residência'!AA6","v":0.96},0,5,5,2]
["Sul","Alfredo Chaves",{"$f":"'CV Rotina <2A - residência'!K7","v":0.9375},{"$f":"'CV Rotina <2A - residência'!AC7","v":0.78125},{"$f":"'CV Rotina <2A - residência'!M7","v":0.9375},{"$f":"'CV Rotina <2A - residência'!O7","v":0.90625},{"$f":"'CV Rotina <2A - residência'!Q7","v":0.71875},{"$f":"'CV Rotina <2A - residência'!Y7","v":1.09375},{"$f":"'CV Rotina <2A - residência'!S7","v":0.625},{"$f":"'CV Rotina <2A - residência'!U7","v":0.78125},{"$f":"'CV Rotina <2A - residência'!W7","v":0.75},{"$f":"'CV Rotina <2A - residência'!AA7","v":0.84375},1,1,2,1]
["Central","Alto Rio Novo",{"$f":"'CV Rotina <2A - residência'!K8","v":1.2083333333333333},{"$f":"'CV Rotina <2A - residência'!AC8","v":0.875},{"$f":"'CV Rotina <2A - residência'!M8","v":1.0833333333333333},{"$f":"'CV Rotina <2A - residência'!O8","v":1.0833333333333333},{"$f":"'CV Rotina <2A - residência'!Q8","v":0.875},{"$f":"'CV Rotina <2A - residência'!Y8","v":0.83333333333333337},{"$f":"'CV Rotina <2A - residência'!S8","v":1.0833333333333333},{"$f":"'CV Rotina <2A - residência'!U8","v":0.95833333333333337},{"$f":"'CV Rotina <2A - residência'!W8","v":0.75},{"$f":"'CV Rotina <2A - residência'!AA8","v":0.66666666666666663},1,4,5,2]
["Sul","Anchieta",{"$f":"'CV Rotina <2A - residência'!K9","v":0.85436893203883491},{"$f":"'CV Rotina <2A - residência'!AC9","v":0.83495145631067957},{"$f":"'CV Rotina <2A - residência'!M9","v":0.72815533980582525},{"$f":"'CV Rotina <2A - residência'!O9","v":0.68932038834951459},{"$f":"'CV Rotina <2A - residência'!Q9","v":0.83495145631067957},{"$f":"'CV Rotina <2A - residência'!Y9","v":0.96116504854368934},{"$f":"'CV Rotina <2A - residência'!S9","v":0.75728155339805825},{"$f":"'CV Rotina <2A - residência'!U9","v":0.77669902912621358},{"$f":"'CV Rotina <2A - residência'!W9","v":1.0776699029126213},{"$f":"'CV Rotina <2A - residência'!AA9","v":1.1553398058252426},0,3,3,1]
["Sul","Apiacá",{"$f":"'CV Rotina <2A - residência'!K10","v":2},{"$f":"'CV Rotina <2A - residência'!AC10","v":1.3636363636363635},{"$f":"'CV Rotina <2A - residência'!M10","v":1.5454545454545454},{"$f":"'CV Rotina <2A - residência'!O10","v":1.2727272727272727},{"$f":"'CV Rotina <2A - residência'!Q10","v":1.3636363636363635},{"$f":"'CV Rotina <2A - residência'!Y10","v":1.8181818181818181},{"$f":"'CV Rotina <2A - residência'!S10","v":2},{"$f":"'CV Rotina <2A - residência'!U10","v":1},{"$f":"'CV Rotina <2A - residência'!W10","v":1.8181818181818181},{"$f":"'CV Rotina <2A - residência'!AA10","v":1.0909090909090908},2,8,10,4]
["Metropolitana","Aracruz",{"$f":"'CV Rotina <2A - residência'!K11","v":0.94573643410852715},{"$f":"'CV Rotina <2A - residência'!AC11","v":0.81395348837209303},{"$f":"'CV Rotina <2A - residência'!M11","v":0.89922480620155043},{"$f":"'CV Rotina <2A - residência'!O11","v":0.86563307493540054},{"$f":"'CV Rotina <2A - residência'!Q11","v":0.78552971576227393},{"$f":"'CV Rotina <2A - residência'!Y11","v":0.92764857881136953},{"$f":"'CV Rotina <2A - residência'!S11","v":0.83979328165374678},{"$f":"'CV Rotina <2A - residência'!U11","v":0.76485788113695086},{"$f":"'CV Rotina <2A - residência'!W11","v":0.82428940568475451},{"$f":"'CV Rotina <2A - residência'!AA11","v":0.83204134366925064},1,0,1,0]
["Sul","Atilio Vivacqua",{"$f":"'CV Rotina <2A - residência'!K12","v":0.78723404255319152},{"$f":"'CV Rotina <2A - residência'!AC12","v":0.46808510638297873},{"$f":"'CV Rotina <2A - residência'!M12","v":0.7021276595744681},{"$f":"'CV Rotina <2A - residência'!O12","v":0.7021276595744681},{"$f":"'CV Rotina <2A - residência'!Q12","v":0.46808510638297873},{"$f":"'CV Rotina <2A - residência'!Y12","v":1.1063829787234043},{"$f":"'CV Rotina <2A - residência'!S12","v":0.65957446808510634},{"$f":"'CV Rotina <2A - residência'!U12","v":0.82978723404255317},{"$f":"'CV Rotina <2A - residência'!W12","v":0.95744680851063835},{"$f":"'CV Rotina <2A - residência'!AA12","v":1.1489361702127661},0,3,3,1]
["Central","Baixo Guandu",{"$f":"'CV Rotina <2A - residência'!K13","v":1.0112359550561798},{"$f":"'CV Rotina <2A - residência'!AC13","v":0.88764044943820219},{"$f":"'CV Rotina <2A - residência'!M13","v":0.8202247191011236},{"$f":"'CV Rotina <2A - residência'!O13","v":0.797752808988764},{"$f":"'CV Rotina <2A - residência'!Q13","v":0.8764044943820225},{"$f":"'CV Rotina <2A - residência'!Y13","v":0.9213483146067416},{"$f":"'CV Rotina <2A - residência'!S13","v":0.8651685393258427},{"$f":"'CV Rotina <2A - residência'!U13","v":1.1235955056179776},{"$f":"'CV Rotina <2A - residência'!W13","v":0.84269662921348309},{"$f":"'CV Rotina <2A - residência'!AA13","v":0.898876404494382},1,1,2,0]
["Norte","Barra de São Francisco",{"$f":"'CV Rotina <2A - residência'!K14","v":0.70886075949367089},{"$f":"'CV Rotina <2A - residência'!AC14","v":0.87341772151898733},{"$f":"'CV Rotina <2A - residência'!M14","v":0.77848101265822789},{"$f":"'CV Rotina <2A - residência'!O14","v":0.79113924050632911},{"$f":"'CV Rotina <2A - residência'!Q14","v":0.86708860759493667},{"$f":"'CV Rotina <2A - residência'!Y14","v":0.84810126582278478},{"$f":"'CV Rotina <2A - residência'!S14","v":0.76582278481012656},{"$f":"'CV Rotina <2A - residência'!U14","v":0.930379746835443},{"$f":"'CV Rotina <2A - residência'!W14","v":0.689873417721519},{"$f":"'CV Rotina <2A - residência'!AA14","v":0.67088607594936711},0,0,0,0]
["Norte","Boa Esperança",{"$f":"'CV Rotina <2A - residência'!K15","v":0.67272727272727273},{"$f":"'CV Rotina <2A - residência'!AC15","v":0.89090909090909087},{"$f":"'CV Rotina <2A - residência'!M15","v":0.8545454545454545},{"$f":"'CV Rotina <2A - residência'!O15","v":0.78181818181818186},{"$f":"'CV Rotina <2A - residência'!Q15","v":0.89090909090909087},{"$f":"'CV Rotina <2A - residência'!Y15","v":0.98181818181818181},{"$f":"'CV Rotina <2A - residência'!S15","v":0.90909090909090906},{"$f":"'CV Rotina <2A - residência'!U15","v":0.83636363636363631},{"$f":"'CV Rotina <2A - residência'!W15","v":0.90909090909090906},{"$f":"'CV Rotina <2A - residência'!AA15","v":0.94545454545454544},0,1,1,1]
["Sul","Bom Jesus do Norte",{"$f":"'CV Rotina <2A - residência'!K16","v":3.2},{"$f":"'CV Rotina <2A - residência'!AC16","v":5.4},{"$f":"'CV Rotina <2A - residência'!M16","v":4.2},{"$f":"'CV Rotina <2A - residência'!O16","v":4.2},{"$f":"'CV Rotina <2A - residência'!Q16","v":4.8},{"$f":"'CV Rotina <2A - residência'!Y16","v":4},{"$f":"'CV Rotina <2A - residência'!S16","v":4.5999999999999996},{"$f":"'CV Rotina <2A - residência'!U16","v":4.8},{"$f":"'CV Rotina <2A - residência'!W16","v":3.6},{"$f":"'CV Rotina <2A - residência'!AA16","v":2.8},2,8,10,4]
["Metropolitana","Brejetuba",{"$f":"'CV Rotina <2A - residência'!K17","v":0.98113207547169812},{"$f":"'CV Rotina <2A - residência'!AC17","v":1.2452830188679245},{"$f":"'CV Rotina <2A - residência'!M17","v":1.3396226415094339},{"$f":"'CV Rotina <2A - residência'!O17","v":1.3018867924528301},{"$f":"'CV Rotina <2A - residência'!Q17","v":1.2452830188679245},{"$f":"'CV Rotina <2A - residência'!Y17","v":1.3396226415094339},{"$f":"'CV Rotina <2A - residência'!S17","v":1.2641509433962264},{"$f":"'CV Rotina <2A - residência'!U17","v":1.1886792452830188},{"$f":"'CV Rotina <2A - residência'!W17","v":1.4150943396226414},{"$f":"'CV Rotina <2A - residência'!AA17","v":1.1132075471698113},2,8,10,4]
["Sul","Cachoeiro de Itapemirim",{"$f":"'CV Rotina <2A - residência'!K18","v":1.0121107266435987},{"$f":"'CV Rotina <2A - residência'!AC18","v":0.97404844290657444},{"$f":"'CV Rotina <2A - residência'!M18","v":0.96366782006920415},{"$f":"'CV Rotina <2A - residência'!O18","v":0.94982698961937717},{"$f":"'CV Rotina <2A - residência'!Q18","v":0.9307958477508651},{"$f":"'CV Rotina <2A - residência'!Y18","v":0.92041522491349481},{"$f":"'CV Rotina <2A - residência'!S18","v":0.95674740484429066},{"$f":"'CV Rotina <2A - residência'!U18","v":0.76989619377162632},{"$f":"'CV Rotina <2A - residência'!W18","v":0.84083044982698962},{"$f":"'CV Rotina <2A - residência'!AA18","v":0.83217993079584773},2,2,4,1]
["Metropolitana","Cariacica",{"$f":"'CV Rotina <2A - residência'!K19","v":0.88768718801996671},{"$f":"'CV Rotina <2A - residência'!AC19","v":0.88685524126455906},{"$f":"'CV Rotina <2A - residência'!M19","v":0.84858569051580701},{"$f":"'CV Rotina <2A - residência'!O19","v":0.83527454242928456},{"$f":"'CV Rotina <2A - residência'!Q19","v":0.86106489184692181},{"$f":"'CV Rotina <2A - residência'!Y19","v":0.93677204658901825},{"$f":"'CV Rotina <2A - residência'!S19","v":0.88269550748752079},{"$f":"'CV Rotina <2A - residência'!U19","v":0.75374376039933444},{"$f":"'CV Rotina <2A - residência'!W19","v":0.8186356073211315},{"$f":"'CV Rotina <2A - residência'!AA19","v":0.79367720465890179},0,0,0,0]
["Sul","Castelo",{"$f":"'CV Rotina <2A - residência'!K20","v":0.8771929824561403},{"$f":"'CV Rotina <2A - residência'!AC20","v":1},{"$f":"'CV Rotina <2A - residência'!M20","v":0.89473684210526316},{"$f":"'CV Rotina <2A - residência'!O20","v":0.89473684210526316},{"$f":"'CV Rotina <2A - residência'!Q20","v":1.0175438596491229},{"$f":"'CV Rotina <2A - residência'!Y20","v":0.97368421052631582},{"$f":"'CV Rotina <2A - residência'!S20","v":0.91228070175438591},{"$f":"'CV Rotina <2A - residência'!U20","v":0.84210526315789469},{"$f":"'CV Rotina <2A - residência'!W20","v":0.81578947368421051},{"$f":"'CV Rotina <2A - residência'!AA20","v":0.85087719298245612},1,2,3,2]
["Central","Colatina",{"$f":"'CV Rotina <2A - residência'!K21","v":1.0655737704918034},{"$f":"'CV Rotina <2A - residência'!AC21","v":0.93989071038251371},{"$f":"'CV Rotina <2A - residência'!M21","v":0.93442622950819676},{"$f":"'CV Rotina <2A - residência'!O21","v":0.93715846994535523},{"$f":"'CV Rotina <2A - residência'!Q21","v":0.88797814207650272},{"$f":"'CV Rotina <2A - residência'!Y21","v":0.86885245901639341},{"$f":"'CV Rotina <2A - residência'!S21","v":0.90437158469945356},{"$f":"'CV Rotina <2A - residência'!U21","v":0.84426229508196726},{"$f":"'CV Rotina <2A - residência'!W21","v":0.84972677595628421},{"$f":"'CV Rotina <2A - residência'!AA21","v":0.84699453551912574},2,0,2,0]
["Norte","Conceição da Barra",{"$f":"'CV Rotina <2A - residência'!K22","v":0.93939393939393945},{"$f":"'CV Rotina <2A - residência'!AC22","v":1.0707070707070707},{"$f":"'CV Rotina <2A - residência'!M22","v":0.95959595959595956},{"$f":"'CV Rotina <2A - residência'!O22","v":0.95959595959595956},{"$f":"'CV Rotina <2A - residência'!Q22","v":1.0404040404040404},{"$f":"'CV Rotina <2A - residência'!Y22","v":0.9494949494949495},{"$f":"'CV Rotina <2A - residência'!S22","v":1.0505050505050506},{"$f":"'CV Rotina <2A - residência'!U22","v":1.1616161616161615},{"$f":"'CV Rotina <2A - residência'!W22","v":0.97979797979797978},{"$f":"'CV Rotina <2A - residência'!AA22","v":1.1313131313131313},2,7,9,3]
["Metropolitana","Conceição do Castelo",{"$f":"'CV Rotina <2A - residência'!K23","v":0.82926829268292679},{"$f":"'CV Rotina <2A - residência'!AC23","v":0.97560975609756095},{"$f":"'CV Rotina <2A - residência'!M23","v":0.95121951219512191},{"$f":"'CV Rotina <2A - residência'!O23","v":0.92682926829268297},{"$f":"'CV Rotina <2A - residência'!Q23","v":0.90243902439024393},{"$f":"'CV Rotina <2A - residência'!Y23","v":1},{"$f":"'CV Rotina <2A - residência'!S23","v":0.95121951219512191},{"$f":"'CV Rotina <2A - residência'!U23","v":0.90243902439024393},{"$f":"'CV Rotina <2A - residência'!W23","v":0.97560975609756095},{"$f":"'CV Rotina <2A - residência'!AA23","v":0.95121951219512191},1,5,6,2]
["Sul","Divino de São Lourenço",{"$f":"'CV Rotina <2A - residência'!K24","v":1.3333333333333333},{"$f":"'CV Rotina <2A - residência'!AC24","v":2.1666666666666665},{"$f":"'CV Rotina <2A - residência'!M24","v":1.3333333333333333},{"$f":"'CV Rotina <2A - residência'!O24","v":1.3333333333333333},{"$f":"'CV Rotina <2A - residência'!Q24","v":2.1666666666666665},{"$f":"'CV Rotina <2A - residência'!Y24","v":1.1666666666666667},{"$f":"'CV Rotina <2A - residência'!S24","v":2},{"$f":"'CV Rotina <2A - residência'!U24","v":1},{"$f":"'CV Rotina <2A - residência'!W24","v":1},{"$f":"'CV Rotina <2A - residência'!AA24","v":1.0833333333333333},2,8,10,4]
["Metropolitana","Domingos Martins",{"$f":"'CV Rotina <2A - residência'!K25","v":0.95495495495495497},{"$f":"'CV Rotina <2A - residência'!AC25","v":0.90090090090090091},{"$f":"'CV Rotina <2A - residência'!M25","v":0.87387387387387383},{"$f":"'CV Rotina <2A - residência'!O25","v":0.85585585585585588},{"$f":"'CV Rotina <2A - residência'!Q25","v":0.90990990990990994},{"$f":"'CV Rotina <2A - residência'!Y25","v":0.8288288288288288},{"$f":"'CV Rotina <2A - residência'!S25","v":0.80180180180180183},{"$f":"'CV Rotina <2A - residência'!U25","v":0.94594594594594594},{"$f":"'CV Rotina <2A - residência'!W25","v":0.90090090090090091},{"$f":"'CV Rotina <2A - residência'!AA25","v":0.8288288288288288},2,0,2,0]
["Sul","Dores do Rio Preto",{"$f":"'CV Rotina <2A - residência'!K26","v":0.56000000000000005},{"$f":"'CV Rotina <2A - residência'!AC26","v":0.68},{"$f":"'CV Rotina <2A - residência'!M26","v":0.84},{"$f":"'CV Rotina <2A - residência'!O26","v":0.76},{"$f":"'CV Rotina <2A - residência'!Q26","v":0.72},{"$f":"'CV Rotina <2A - residência'!Y26","v":1.32},{"$f":"'CV Rotina <2A - residência'!S26","v":0.84},{"$f":"'CV Rotina <2A - residência'!U26","v":0.8},{"$f":"'CV Rotina <2A - residência'!W26","v":1.1599999999999999},{"$f":"'CV Rotina <2A - residência'!AA26","v":0.84},0,2,2,1]
["Norte","Ecoporanga",{"$f":"'CV Rotina <2A - residência'!K27","v":0.83116883116883122},{"$f":"'CV Rotina <2A - residência'!AC27","v":0.62337662337662336},{"$f":"'CV Rotina <2A - residência'!M27","v":0.70129870129870131},{"$f":"'CV Rotina <2A - residência'!O27","v":0.7142857142857143},{"$f":"'CV Rotina <2A - residência'!Q27","v":0.5714285714285714},{"$f":"'CV Rotina <2A - residência'!Y27","v":0.96103896103896103},{"$f":"'CV Rotina <2A - residência'!S27","v":0.68831168831168832},{"$f":"'CV Rotina <2A - residência'!U27","v":0.72727272727272729},{"$f":"'CV Rotina <2A - residência'!W27","v":0.92207792207792205},{"$f":"'CV Rotina <2A - residência'!AA27","v":0.81818181818181823},0,1,1,1]
["Metropolitana","Fundão",{"$f":"'CV Rotina <2A - residência'!K28","v":0.86363636363636365},{"$f":"'CV Rotina <2A - residência'!AC28","v":0.81818181818181823},{"$f":"'CV Rotina <2A - residência'!M28","v":0.68181818181818177},{"$f":"'CV Rotina <2A - residência'!O28","v":0.68181818181818177},{"$f":"'CV Rotina <2A - residência'!Q28","v":0.77272727272727271},{"$f":"'CV Rotina <2A - residência'!Y28","v":0.9242424242424242},{"$f":"'CV Rotina <2A - residência'!S28","v":0.71212121212121215},{"$f":"'CV Rotina <2A - residência'!U28","v":0.74242424242424243},{"$f":"'CV Rotina <2A - residência'!W28","v":0.90909090909090906},{"$f":"'CV Rotina <2A - residência'!AA28","v":0.83333333333333337},0,0,0,0]
["Central","Governador Lindenberg",{"$f":"'CV Rotina <2A - residência'!K29","v":1.1081081081081081},{"$f":"'CV Rotina <2A - residência'!AC29","v":0.94594594594594594},{"$f":"'CV Rotina <2A - residência'!M29","v":0.89189189189189189},{"$f":"'CV Rotina <2A - residência'!O29","v":0.91891891891891897},{"$f":"'CV Rotina <2A - residência'!Q29","v":0.91891891891891897},{"$f":"'CV Rotina <2A - residência'!Y29","v":0.6216216216216216},{"$f":"'CV Rotina <2A - residência'!S29","v":1.1351351351351351},{"$f":"'CV Rotina <2A - residência'!U29","v":0.72972972972972971},{"$f":"'CV Rotina <2A - residência'!W29","v":0.72972972972972971},{"$f":"'CV Rotina <2A - residência'!AA29","v":0.6216216216216216},2,1,3,0]
["Sul","Guaçuí",{"$f":"'CV Rotina <2A - residência'!K30","v":1.2151898734177216},{"$f":"'CV Rotina <2A - residência'!AC30","v":1.3924050632911393},{"$f":"'CV Rotina <2A - residência'!M30","v":1.3164556962025316},{"$f":"'CV Rotina <2A - residência'!O30","v":1.3291139240506329},{"$f":"'CV Rotina <2A - residência'!Q30","v":1.3924050632911393},{"$f":"'CV Rotina <2A - residência'!Y30","v":1.0126582278481013},{"$f":"'CV Rotina <2A - residência'!S30","v":1.3164556962025316},{"$f":"'CV Rotina <2A - residência'!U30","v":1.0379746835443038},{"$f":"'CV Rotina <2A - residência'!W30","v":1},{"$f":"'CV Rotina <2A - residência'!AA30","v":1.1898734177215189},2,8,10,4]
["Metropolitana","Guarapari",{"$f":"'CV Rotina <2A - residência'!K31","v":0.80891719745222934},{"$f":"'CV Rotina <2A - residência'!AC31","v":0.84501061571125269},{"$f":"'CV Rotina <2A - residência'!M31","v":0.80891719745222934},{"$f":"'CV Rotina <2A - residência'!O31","v":0.78980891719745228},{"$f":"'CV Rotina <2A - residência'!Q31","v":0.84076433121019112},{"$f":"'CV Rotina <2A - residência'!Y31","v":0.83864118895966033},{"$f":"'CV Rotina <2A - residência'!S31","v":0.84076433121019112},{"$f":"'CV Rotina <2A - residência'!U31","v":0.59872611464968151},{"$f":"'CV Rotina <2A - residência'!W31","v":0.72611464968152861},{"$f":"'CV Rotina <2A - residência'!AA31","v":0.59447983014861994},0,0,0,0]
["Metropolitana","Ibatiba",{"$f":"'CV Rotina <2A - residência'!K32","v":0.98795180722891562},{"$f":"'CV Rotina <2A - residência'!AC32","v":1.1445783132530121},{"$f":"'CV Rotina <2A - residência'!M32","v":1.2771084337349397},{"$f":"'CV Rotina <2A - residência'!O32","v":1.2650602409638554},{"$f":"'CV Rotina <2A - residência'!Q32","v":1.1445783132530121},{"$f":"'CV Rotina <2A - residência'!Y32","v":1.1566265060240963},{"$f":"'CV Rotina <2A - residência'!S32","v":1.1325301204819278},{"$f":"'CV Rotina <2A - residência'!U32","v":1.1927710843373494},{"$f":"'CV Rotina <2A - residência'!W32","v":1.1204819277108433},{"$f":"'CV Rotina <2A - residência'!AA32","v":1.4337349397590362},2,8,10,4]
["Metropolitana","Ibiraçu",{"$f":"'CV Rotina <2A - residência'!K33","v":1.0384615384615385},{"$f":"'CV Rotina <2A - residência'!AC33","v":1.1923076923076923},{"$f":"'CV Rotina <2A - residência'!M33","v":1.0384615384615385},{"$f":"'CV Rotina <2A - residência'!O33","v":1.0384615384615385},{"$f":"'CV Rotina <2A - residência'!Q33","v":1.1538461538461537},{"$f":"'CV Rotina <2A - residência'!Y33","v":0.96153846153846156},{"$f":"'CV Rotina <2A - residência'!S33","v":1.1923076923076923},{"$f":"'CV Rotina <2A - residência'!U33","v":1},{"$f":"'CV Rotina <2A - residência'!W33","v":1.5384615384615385},{"$f":"'CV Rotina <2A - residência'!AA33","v":1.4615384615384615},2,8,10,4]
["Sul","Ibitirama",{"$f":"'CV Rotina <2A - residência'!K34","v":1.0526315789473684},{"$f":"'CV Rotina <2A - residência'!AC34","v":0.81578947368421051},{"$f":"'CV Rotina <2A - residência'!M34","v":0.92105263157894735},{"$f":"'CV Rotina <2A - residência'!O34","v":0.92105263157894735},{"$f":"'CV Rotina <2A - residência'!Q34","v":0.81578947368421051},{"$f":"'CV Rotina <2A - residência'!Y34","v":1.131578947368421},{"$f":"'CV Rotina <2A - residência'!S34","v":0.78947368421052633},{"$f":"'CV Rotina <2A - residência'!U34","v":0.94736842105263153},{"$f":"'CV Rotina <2A - residência'!W34","v":1.1052631578947369},{"$f":"'CV Rotina <2A - residência'!AA34","v":1.2894736842105263},1,3,4,1]
["Sul","Iconha",{"$f":"'CV Rotina <2A - residência'!K35","v":1.0384615384615385},{"$f":"'CV Rotina <2A - residência'!AC35","v":1.3846153846153846},{"$f":"'CV Rotina <2A - residência'!M35","v":1.3076923076923077},{"$f":"'CV Rotina <2A - residência'!O35","v":1.2692307692307692},{"$f":"'CV Rotina <2A - residência'!Q35","v":1.3846153846153846},{"$f":"'CV Rotina <2A - residência'!Y35","v":1.1923076923076923},{"$f":"'CV Rotina <2A - residência'!S35","v":1.4615384615384615},{"$f":"'CV Rotina <2A - residência'!U35","v":1.2307692307692308},{"$f":"'CV Rotina <2A - residência'!W35","v":1.2307692307692308},{"$f":"'CV Rotina <2A - residência'!AA35","v":1.2307692307692308},{"$f":"COUNTIF(C35:D35,\">=0,9\")","v":2},8,10,4]
["Sul","Irupi",{"$f":"'CV Rotina <2A - residência'!K36","v":1.15625},{"$f":"'CV Rotina <2A - residência'!AC36","v":1.78125},{"$f":"'CV Rotina <2A - residência'!M36","v":2.03125},{"$f":"'CV Rotina <2A - residência'!O36","v":2.03125},{"$f":"'CV Rotina <2A - residência'!Q36","v":1.78125},{"$f":"'CV Rotina <2A - residência'!Y36","v":1.21875},{"$f":"'CV Rotina <2A - residência'!S36","v":1.96875},{"$f":"'CV Rotina <2A - residência'!U36","v":1.71875},{"$f":"'CV Rotina <2A - residência'!W36","v":0.96875},{"$f":"'CV Rotina <2A - residência'!AA36","v":1.25},2,8,10,4]
["Metropolitana","Itaguaçu",{"$f":"'CV Rotina <2A - residência'!K37","v":0.77777777777777779},{"$f":"'CV Rotina <2A - residência'!AC37","v":1.1111111111111112},{"$f":"'CV Rotina <2A - residência'!M37","v":0.69444444444444442},{"$f":"'CV Rotina <2A - residência'!O37","v":0.69444444444444442},{"$f":"'CV Rotina <2A - residência'!Q37","v":1.1388888888888888},{"$f":"'CV Rotina <2A - residência'!Y37","v":0.83333333333333337},{"$f":"'CV Rotina <2A - residência'!S37","v":0.77777777777777779},{"$f":"'CV Rotina <2A - residência'!U37","v":0.80555555555555558},{"$f":"'CV Rotina <2A - residência'!W37","v":0.80555555555555558},{"$f":"'CV Rotina <2A - residência'!AA37","v":0.77777777777777779},1,1,2,1]
["Sul","Itapemirim",{"$f":"'CV Rotina <2A - residência'!K38","v":1.0571428571428572},{"$f":"'CV Rotina <2A - residência'!AC38","v":0.92142857142857137},{"$f":"'CV Rotina <2A - residência'!M38","v":0.98571428571428577},{"$f":"'CV Rotina <2A - residência'!O38","v":0.93571428571428572},{"$f":"'CV Rotina <2A - residência'!Q38","v":0.9},{"$f":"'CV Rotina <2A - residência'!Y38","v":1.0785714285714285},{"$f":"'CV Rotina <2A - residência'!S38","v":0.8928571428571429},{"$f":"'CV Rotina <2A - residência'!U38","v":0.65},{"$f":"'CV Rotina <2A - residência'!W38","v":0.95714285714285718},{"$f":"'CV Rotina <2A - residência'!AA38","v":0.88571428571428568},2,3,5,2]
["Metropolitana","Itarana",{"$f":"'CV Rotina <2A - residência'!K39","v":1.027027027027027},{"$f":"'CV Rotina <2A - residência'!AC39","v":1.0540540540540539},{"$f":"'CV Rotina <2A - residência'!M39","v":0.83783783783783783},{"$f":"'CV Rotina <2A - residência'!O39","v":0.83783783783783783},{"$f":"'CV Rotina <2A - residência'!Q39","v":1.1081081081081081},{"$f":"'CV Rotina <2A - residência'!Y39","v":0.72972972972972971},{"$f":"'CV Rotina <2A - residência'!S39","v":0.97297297297297303},{"$f":"'CV Rotina <2A - residência'!U39","v":0.89189189189189189},{"$f":"'CV Rotina <2A - residência'!W39","v":0.56756756756756754},{"$f":"'CV Rotina <2A - residência'!AA39","v":0.6216216216216216},2,2,4,1]
["Sul","Iúna",{"$f":"'CV Rotina <2A - residência'!K40","v":0.88732394366197187},{"$f":"'CV Rotina <2A - residência'!AC40","v":1.0845070422535212},{"$f":"'CV Rotina <2A - residência'!M40","v":1.0985915492957747},{"$f":"'CV Rotina <2A - residência'!O40","v":1.0985915492957747},{"$f":"'CV Rotina <2A - residência'!Q40","v":1.056338028169014},{"$f":"'CV Rotina <2A - residência'!Y40","v":1.352112676056338},{"$f":"'CV Rotina <2A - residência'!S40","v":1.1971830985915493},{"$f":"'CV Rotina <2A - residência'!U40","v":1.4366197183098592},{"$f":"'CV Rotina <2A - residência'!W40","v":1.3098591549295775},{"$f":"'CV Rotina <2A - residência'!AA40","v":1.3380281690140845},1,8,9,4]
["Norte","Jaguaré",{"$f":"'CV Rotina <2A - residência'!K41","v":0.92198581560283688},{"$f":"'CV Rotina <2A - residência'!AC41","v":0.900709219858156},{"$f":"'CV Rotina <2A - residência'!M41","v":0.76595744680851063},{"$f":"'CV Rotina <2A - residência'!O41","v":0.75177304964539005},{"$f":"'CV Rotina <2A - residência'!Q41","v":0.87943262411347523},{"$f":"'CV Rotina <2A - residência'!Y41","v":0.86524822695035464},{"$f":"'CV Rotina <2A - residência'!S41","v":0.82269503546099287},{"$f":"'CV Rotina <2A - residência'!U41","v":0.57446808510638303},{"$f":"'CV Rotina <2A - residência'!W41","v":0.65248226950354615},{"$f":"'CV Rotina <2A - residência'!AA41","v":0.68085106382978722},2,0,2,0]
["Sul","Jerônimo Monteiro",{"$f":"'CV Rotina <2A - residência'!K42","v":1.2749999999999999},{"$f":"'CV Rotina <2A - residência'!AC42","v":0.67500000000000004},{"$f":"'CV Rotina <2A - residência'!M42","v":0.7},{"$f":"'CV Rotina <2A - residência'!O42","v":0.72499999999999998},{"$f":"'CV Rotina <2A - residência'!Q42","v":0.65},{"$f":"'CV Rotina <2A - residência'!Y42","v":0.82499999999999996},{"$f":"'CV Rotina <2A - residência'!S42","v":0.7},{"$f":"'CV Rotina <2A - residência'!U42","v":0.47499999999999998},{"$f":"'CV Rotina <2A - residência'!W42","v":0.8},{"$f":"'CV Rotina <2A - residência'!AA42","v":0.875},1,0,1,0]
["Metropolitana","João Neiva",{"$f":"'CV Rotina <2A - residência'!K43","v":0.86842105263157898},{"$f":"'CV Rotina <2A - residência'!AC43","v":1},{"$f":"'CV Rotina <2A - residência'!M43","v":0.86842105263157898},{"$f":"'CV Rotina <2A - residência'!O43","v":0.89473684210526316},{"$f":"'CV Rotina <2A - residência'!Q43","v":0.92105263157894735},{"$f":"'CV Rotina <2A - residência'!Y43","v":0.52631578947368418},{"$f":"'CV Rotina <2A - residência'!S43","v":0.86842105263157898},{"$f":"'CV Rotina <2A - residência'!U43","v":0.92105263157894735},{"$f":"'CV Rotina <2A - residência'!W43","v":0.73684210526315785},{"$f":"'CV Rotina <2A - residência'!AA43","v":0.63157894736842102},1,0,1,0]
["Metropolitana","Laranja da Terra",{"$f":"'CV Rotina <2A - residência'!K44","v":1.1200000000000001},{"$f":"'CV Rotina <2A - residência'!AC44","v":1.24},{"$f":"'CV Rotina <2A - residência'!M44","v":1.08},{"$f":"'CV Rotina <2A - residência'!O44","v":1.08},{"$f":"'CV Rotina <2A - residência'!Q44","v":1.04},{"$f":"'CV Rotina <2A - residência'!Y44","v":1.08},{"$f":"'CV Rotina <2A - residência'!S44","v":0.92},{"$f":"'CV Rotina <2A - residência'!U44","v":1.6},{"$f":"'CV Rotina <2A - residência'!W44","v":1.36},{"$f":"'CV Rotina <2A - residência'!AA44","v":1.4},2,7,9,4]
["Central","Linhares",{"$f":"'CV Rotina <2A - residência'!K45","v":1.1375186846038865},{"$f":"'CV Rotina <2A - residência'!AC45","v":0.91031390134529144},{"$f":"'CV Rotina <2A - residência'!M45","v":0.97458893871449925},{"$f":"'CV Rotina <2A - residência'!O45","v":0.93124065769805675},{"$f":"'CV Rotina <2A - residência'!Q45","v":0.87294469357249627},{"$f":"'CV Rotina <2A - residência'!Y45","v":0.87892376681614348},{"$f":"'CV Rotina <2A - residência'!S45","v":0.93572496263079219},{"$f":"'CV Rotina <2A - residência'!U45","v":0.69357249626307926},{"$f":"'CV Rotina <2A - residência'!W45","v":0.83856502242152464},{"$f":"'CV Rotina <2A - residência'!AA45","v":0.87294469357249627},2,1,3,1]
["Central","Mantenópolis",{"$f":"'CV Rotina <2A - residência'!K46","v":1.0263157894736843},{"$f":"'CV Rotina <2A - residência'!AC46","v":1.0789473684210527},{"$f":"'CV Rotina <2A - residência'!M46","v":0.84210526315789469},{"$f":"'CV Rotina <2A - residência'!O46","v":0.78947368421052633},{"$f":"'CV Rotina <2A - residência'!Q46","v":1.131578947368421},{"$f":"'CV Rotina <2A - residência'!Y46","v":0.94736842105263153},{"$f":"'CV Rotina <2A - residência'!S46","v":1.0789473684210527},{"$f":"'CV Rotina <2A - residência'!U46","v":0.92105263157894735},{"$f":"'CV Rotina <2A - residência'!W46","v":0.71052631578947367},{"$f":"'CV Rotina <2A - residência'!AA46","v":0.63157894736842102},2,2,4,1]
["Sul","Marataízes",{"$f":"'CV Rotina <2A - residência'!K47","v":0.92258064516129035},{"$f":"'CV Rotina <2A - residência'!AC47","v":0.99354838709677418},{"$f":"'CV Rotina <2A - residência'!M47","v":0.89032258064516134},{"$f":"'CV Rotina <2A - residência'!O47","v":0.9096774193548387},{"$f":"'CV Rotina <2A - residência'!Q47","v":1},{"$f":"'CV Rotina <2A - residência'!Y47","v":0.77419354838709675},{"$f":"'CV Rotina <2A - residência'!S47","v":0.92258064516129035},{"$f":"'CV Rotina <2A - residência'!U47","v":0.45161290322580644},{"$f":"'CV Rotina <2A - residência'!W47","v":0.7870967741935484},{"$f":"'CV Rotina <2A - residência'!AA47","v":0.74838709677419357},2,1,3,1]
["Metropolitana","Marechal Floriano",{"$f":"'CV Rotina <2A - residência'!K48","v":0.77272727272727271},{"$f":"'CV Rotina <2A - residência'!AC48","v":1},{"$f":"'CV Rotina <2A - residência'!M48","v":1},{"$f":"'CV Rotina <2A - residência'!O48","v":0.86363636363636365},{"$f":"'CV Rotina <2A - residência'!Q48","v":1.0681818181818181},{"$f":"'CV Rotina <2A - residência'!Y48","v":1.1818181818181819},{"$f":"'CV Rotina <2A - residência'!S48","v":0.95454545454545459},{"$f":"'CV Rotina <2A - residência'!U48","v":1.0909090909090908},{"$f":"'CV Rotina <2A - residência'!W48","v":0.72727272727272729},{"$f":"'CV Rotina <2A - residência'!AA48","v":0.84090909090909094},1,5,6,3]
["Central","Marilândia",{"$f":"'CV Rotina <2A - residência'!K49","v":0.8},{"$f":"'CV Rotina <2A - residência'!AC49","v":0.84444444444444444},{"$f":"'CV Rotina <2A - residência'!M49","v":0.8},{"$f":"'CV Rotina <2A - residência'!O49","v":0.82222222222222219},{"$f":"'CV Rotina <2A - residência'!Q49","v":0.88888888888888884},{"$f":"'CV Rotina <2A - residência'!Y49","v":0.8666666666666667},{"$f":"'CV Rotina <2A - residência'!S49","v":0.75555555555555554},{"$f":"'CV Rotina <2A - residência'!U49","v":1.0222222222222221},{"$f":"'CV Rotina <2A - residência'!W49","v":0.77777777777777779},{"$f":"'CV Rotina <2A - residência'!AA49","v":0.91111111111111109},0,1,1,0]
["Sul","Mimoso do Sul",{"$f":"'CV Rotina <2A - residência'!K50","v":0.85057471264367812},{"$f":"'CV Rotina <2A - residência'!AC50","v":0.45977011494252873},{"$f":"'CV Rotina <2A - residência'!M50","v":0.74712643678160917},{"$f":"'CV Rotina <2A - residência'!O50","v":0.77011494252873558},{"$f":"'CV Rotina <2A - residência'!Q50","v":0.48275862068965519},{"$f":"'CV Rotina <2A - residência'!Y50","v":0.91954022988505746},{"$f":"'CV Rotina <2A - residência'!S50","v":0.56321839080459768},{"$f":"'CV Rotina <2A - residência'!U50","v":0.7931034482758621},{"$f":"'CV Rotina <2A - residência'!W50","v":0.62068965517241381},{"$f":"'CV Rotina <2A - residência'!AA50","v":0.5977011494252874},0,0,0,0]
["Norte","Montanha",{"$f":"'CV Rotina <2A - residência'!K51","v":1},{"$f":"'CV Rotina <2A - residência'!AC51","v":1.7142857142857142},{"$f":"'CV Rotina <2A - residência'!M51","v":1.4285714285714286},{"$f":"'CV Rotina <2A - residência'!O51","v":1.4761904761904763},{"$f":"'CV Rotina <2A - residência'!Q51","v":1.6904761904761905},{"$f":"'CV Rotina <2A - residência'!Y51","v":1.2142857142857142},{"$f":"'CV Rotina <2A - residência'!S51","v":1.5},{"$f":"'CV Rotina <2A - residência'!U51","v":1.4285714285714286},{"$f":"'CV Rotina <2A - residência'!W51","v":1.4523809523809523},{"$f":"'CV Rotina <2A - residência'!AA51","v":1.4523809523809523},2,8,10,4]
["Norte","Mucurici",{"$f":"'CV Rotina <2A - residência'!K52","v":0.5},{"$f":"'CV Rotina <2A - residência'!AC52","v":0.5},{"$f":"'CV Rotina <2A - residência'!M52","v":0.3},{"$f":"'CV Rotina <2A - residência'!O52","v":0.35},{"$f":"'CV Rotina <2A - residência'!Q52","v":0.5},{"$f":"'CV Rotina <2A - residência'!Y52","v":0.5},{"$f":"'CV Rotina <2A - residência'!S52","v":0.5},{"$f":"'CV Rotina <2A - residência'!U52","v":0.7},{"$f":"'CV Rotina <2A - residência'!W52","v":0.9},{"$f":"'CV Rotina <2A - residência'!AA52","v":0.7},0,0,0,0]
["Sul","Muniz Freire",{"$f":"'CV Rotina <2A - residência'!K53","v":1.4489795918367347},{"$f":"'CV Rotina <2A - residência'!AC53","v":1.2244897959183674},{"$f":"'CV Rotina <2A - residência'!M53","v":1.7142857142857142},{"$f":"'CV Rotina <2A - residência'!O53","v":1.6938775510204083},{"$f":"'CV Rotina <2A - residência'!Q53","v":1.2040816326530612},{"$f":"'CV Rotina <2A - residência'!Y53","v":1.3265306122448979},{"$f":"'CV Rotina <2A - residência'!S53","v":1.4081632653061225},{"$f":"'CV Rotina <2A - residência'!U53","v":1.2040816326530612},{"$f":"'CV Rotina <2A - residência'!W53","v":1.1632653061224489},{"$f":"'CV Rotina <2A - residência'!AA53","v":2.1020408163265305},2,8,10,4]
["Sul","Muqui",{"$f":"'CV Rotina <2A - residência'!K54","v":0.87804878048780488},{"$f":"'CV Rotina <2A - residência'!AC54","v":0.68292682926829273},{"$f":"'CV Rotina <2A - residência'!M54","v":0.90243902439024393},{"$f":"'CV Rotina <2A - residência'!O54","v":0.87804878048780488},{"$f":"'CV Rotina <2A - residência'!Q54","v":0.68292682926829273},{"$f":"'CV Rotina <2A - residência'!Y54","v":1.1463414634146341},{"$f":"'CV Rotina <2A - residência'!S54","v":0.80487804878048785},{"$f":"'CV Rotina <2A - residência'!U54","v":1.0731707317073171},{"$f":"'CV Rotina <2A - residência'!W54","v":0.90243902439024393},{"$f":"'CV Rotina <2A - residência'!AA54","v":0.75609756097560976},0,2,2,1]
["Norte","Nova Venécia",{"$f":"'CV Rotina <2A - residência'!K55","v":0.85789473684210527},{"$f":"'CV Rotina <2A - residência'!AC55","v":0.93157894736842106},{"$f":"'CV Rotina <2A - residência'!M55","v":0.9631578947368421},{"$f":"'CV Rotina <2A - residência'!O55","v":0.97368421052631582},{"$f":"'CV Rotina <2A - residência'!Q55","v":0.92105263157894735},{"$f":"'CV Rotina <2A - residência'!Y55","v":1.0052631578947369},{"$f":"'CV Rotina <2A - residência'!S55","v":0.97894736842105268},{"$f":"'CV Rotina <2A - residência'!U55","v":0.84736842105263155},{"$f":"'CV Rotina <2A - residência'!W55","v":0.87368421052631584},{"$f":"'CV Rotina <2A - residência'!AA55","v":1.0315789473684212},1,5,6,3]
["Central","Pancas",{"$f":"'CV Rotina <2A - residência'!K56","v":0.6964285714285714},{"$f":"'CV Rotina <2A - residência'!AC56","v":0.9285714285714286},{"$f":"'CV Rotina <2A - residência'!M56","v":1.0357142857142858},{"$f":"'CV Rotina <2A - residência'!O56","v":1.0178571428571428},{"$f":"'CV Rotina <2A - residência'!Q56","v":0.9107142857142857},{"$f":"'CV Rotina <2A - residência'!Y56","v":1.1428571428571428},{"$f":"'CV Rotina <2A - residência'!S56","v":0.9821428571428571},{"$f":"'CV Rotina <2A - residência'!U56","v":1.0178571428571428},{"$f":"'CV Rotina <2A - residência'!W56","v":0.9285714285714286},{"$f":"'CV Rotina <2A - residência'!AA56","v":0.9464285714285714},1,5,6,3]
["Norte","Pedro Canário",{"$f":"'CV Rotina <2A - residência'!K57","v":0.8441558441558441},{"$f":"'CV Rotina <2A - residência'!AC57","v":1.0649350649350648},{"$f":"'CV Rotina <2A - residência'!M57","v":1.3246753246753247},{"$f":"'CV Rotina <2A - residência'!O57","v":1.2337662337662338},{"$f":"'CV Rotina <2A - residência'!Q57","v":1.1168831168831168},{"$f":"'CV Rotina <2A - residência'!Y57","v":1.1688311688311688},{"$f":"'CV Rotina <2A - residência'!S57","v":1.0389610389610389},{"$f":"'CV Rotina <2A - residência'!U57","v":0.8571428571428571},{"$f":"'CV Rotina <2A - residência'!W57","v":0.97402597402597402},{"$f":"'CV Rotina <2A - residência'!AA57","v":1},1,7,8,4]
["Norte","Pinheiros",{"$f":"'CV Rotina <2A - residência'!K58","v":0.59793814432989689},{"$f":"'CV Rotina <2A - residência'!AC58","v":0.96907216494845361},{"$f":"'CV Rotina <2A - residência'!M58","v":0.98969072164948457},{"$f":"'CV Rotina <2A - residência'!O58","v":0.94845360824742264},{"$f":"'CV Rotina <2A - residência'!Q58","v":0.91752577319587625},{"$f":"'CV Rotina <2A - residência'!Y58","v":0.83505154639175261},{"$f":"'CV Rotina <2A - residência'!S58","v":1},{"$f":"'CV Rotina <2A - residência'!U58","v":0.74226804123711343},{"$f":"'CV Rotina <2A - residência'!W58","v":0.68041237113402064},{"$f":"'CV Rotina <2A - residência'!AA58","v":0.7010309278350515},1,2,3,1]
["Sul","Piúma",{"$f":"'CV Rotina <2A - residência'!K59","v":0.68292682926829273},{"$f":"'CV Rotina <2A - residência'!AC59","v":0.68292682926829273},{"$f":"'CV Rotina <2A - residência'!M59","v":0.80487804878048785},{"$f":"'CV Rotina <2A - residência'!O59","v":0.80487804878048785},{"$f":"'CV Rotina <2A - residência'!Q59","v":0.71951219512195119},{"$f":"'CV Rotina <2A - residência'!Y59","v":0.98780487804878048},{"$f":"'CV Rotina <2A - residência'!S59","v":0.78048780487804881},{"$f":"'CV Rotina <2A - residência'!U59","v":0.81707317073170727},{"$f":"'CV Rotina <2A - residência'!W59","v":0.92682926829268297},{"$f":"'CV Rotina <2A - residência'!AA59","v":0.92682926829268297},0,1,1,1]
["Norte","Ponto Belo",{"$f":"'CV Rotina <2A - residência'!K60","v":0.8571428571428571},{"$f":"'CV Rotina <2A - residência'!AC60","v":1.7142857142857142},{"$f":"'CV Rotina <2A - residência'!M60","v":1.0714285714285714},{"$f":"'CV Rotina <2A - residência'!O60","v":0.7142857142857143},{"$f":"'CV Rotina <2A - residência'!Q60","v":1.7857142857142858},{"$f":"'CV Rotina <2A - residência'!Y60","v":1},{"$f":"'CV Rotina <2A - residência'!S60","v":1.2142857142857142},{"$f":"'CV Rotina <2A - residência'!U60","v":1.2857142857142858},{"$f":"'CV Rotina <2A - residência'!W60","v":1.5},{"$f":"'CV Rotina <2A - residência'!AA60","v":1.6428571428571428},1,7,8,3]
["Sul","Presidente Kennedy",{"$f":"'CV Rotina <2A - residência'!K61","v":0.9152542372881356},{"$f":"'CV Rotina <2A - residência'!AC61","v":0.74576271186440679},{"$f":"'CV Rotina <2A - residência'!M61","v":0.84745762711864403},{"$f":"'CV Rotina <2A - residência'!O61","v":0.83050847457627119},{"$f":"'CV Rotina <2A - residência'!Q61","v":0.74576271186440679},{"$f":"'CV Rotina <2A - residência'!Y61","v":1.2033898305084745},{"$f":"'CV Rotina <2A - residência'!S61","v":0.84745762711864403},{"$f":"'CV Rotina <2A - residência'!U61","v":0.72881355932203384},{"$f":"'CV Rotina <2A - residência'!W61","v":0.96610169491525422},{"$f":"'CV Rotina <2A - residência'!AA61","v":0.93220338983050843},1,2,3,1]
["Central","Rio Bananal",{"$f":"'CV Rotina <2A - residência'!K62","v":0.80769230769230771},{"$f":"'CV Rotina <2A - residência'!AC62","v":0.92307692307692313},{"$f":"'CV Rotina <2A - residência'!M62","v":1.0128205128205128},{"$f":"'CV Rotina <2A - residência'!O62","v":1.0128205128205128},{"$f":"'CV Rotina <2A - residência'!Q62","v":0.96153846153846156},{"$f":"'CV Rotina <2A - residência'!Y62","v":0.87179487179487181},{"$f":"'CV Rotina <2A - residência'!S62","v":0.87179487179487181},{"$f":"'CV Rotina <2A - residência'!U62","v":0.74358974358974361},{"$f":"'CV Rotina <2A - residência'!W62","v":0.85897435897435892},{"$f":"'CV Rotina <2A - residência'!AA62","v":1.3461538461538463},1,4,5,3]
["Sul","Rio Novo do Sul",{"$f":"'CV Rotina <2A - residência'!K63","v":0.967741935483871},{"$f":"'CV Rotina <2A - residência'!AC63","v":1},{"$f":"'CV Rotina <2A - residência'!M63","v":0.74193548387096775},{"$f":"'CV Rotina <2A - residência'!O63","v":0.74193548387096775},{"$f":"'CV Rotina <2A - residência'!Q63","v":0.90322580645161288},{"$f":"'CV Rotina <2A - residência'!Y63","v":1.1935483870967742},{"$f":"'CV Rotina <2A - residência'!S63","v":0.87096774193548387},{"$f":"'CV Rotina <2A - residência'!U63","v":0.67741935483870963},{"$f":"'CV Rotina <2A - residência'!W63","v":0.90322580645161288},{"$f":"'CV Rotina <2A - residência'!AA63","v":0.80645161290322576},2,1,3,1]
["Metropolitana","Santa Leopoldina",{"$f":"'CV Rotina <2A - residência'!K64","v":0.77419354838709675},{"$f":"'CV Rotina <2A - residência'!AC64","v":0.67741935483870963},{"$f":"'CV Rotina <2A - residência'!M64","v":0.90322580645161288},{"$f":"'CV Rotina <2A - residência'!O64","v":0.90322580645161288},{"$f":"'CV Rotina <2A - residência'!Q64","v":0.67741935483870963},{"$f":"'CV Rotina <2A - residência'!Y64","v":0.77419354838709675},{"$f":"'CV Rotina <2A - residência'!S64","v":0.67741935483870963},{"$f":"'CV Rotina <2A - residência'!U64","v":1},{"$f":"'CV Rotina <2A - residência'!W64","v":0.80645161290322576},{"$f":"'CV Rotina <2A - residência'!AA64","v":0.87096774193548387},0,1,1,0]
["Metropolitana","Santa Maria de Jetibá",{"$f":"'CV Rotina <2A - residência'!K65","v":0.91228070175438591},{"$f":"'CV Rotina <2A - residência'!AC65","v":1.0058479532163742},{"$f":"'CV Rotina <2A - residência'!M65","v":1.0292397660818713},{"$f":"'CV Rotina <2A - residência'!O65","v":1.0526315789473684},{"$f":"'CV Rotina <2A - residência'!Q65","v":1.0058479532163742},{"$f":"'CV Rotina <2A - residência'!Y65","v":1},{"$f":"'CV Rotina <2A - residência'!S65","v":1.0175438596491229},{"$f":"'CV Rotina <2A - residência'!U65","v":0.87134502923976609},{"$f":"'CV Rotina <2A - residência'!W65","v":1.0058479532163742},{"$f":"'CV Rotina <2A - residência'!AA65","v":1.064327485380117},2,7,9,4]
["Metropolitana","Santa Teresa",{"$f":"'CV Rotina <2A - residência'!K66","v":0.97297297297297303},{"$f":"'CV Rotina <2A - residência'!AC66","v":0.79729729729729726},{"$f":"'CV Rotina <2A - residência'!M66","v":0.83783783783783783},{"$f":"'CV Rotina <2A - residência'!O66","v":0.83783783783783783},{"$f":"'CV Rotina <2A - residência'!Q66","v":0.79729729729729726},{"$f":"'CV Rotina <2A - residência'!Y66","v":1.0405405405405406},{"$f":"'CV Rotina <2A - residência'!S66","v":0.7432432432432432},{"$f":"'CV Rotina <2A - residência'!U66","v":0.85135135135135132},{"$f":"'CV Rotina <2A - residência'!W66","v":0.8783783783783784},{"$f":"'CV Rotina <2A - residência'!AA66","v":0.90540540540540537},1,1,2,1]
["Central","São Domingos do Norte",{"$f":"'CV Rotina <2A - residência'!K67","v":1.0344827586206897},{"$f":"'CV Rotina <2A - residência'!AC67","v":1.2758620689655173},{"$f":"'CV Rotina <2A - residência'!M67","v":1.2413793103448276},{"$f":"'CV Rotina <2A - residência'!O67","v":1.2068965517241379},{"$f":"'CV Rotina <2A - residência'!Q67","v":1.2068965517241379},{"$f":"'CV Rotina <2A - residência'!Y67","v":1.1379310344827587},{"$f":"'CV Rotina <2A - residência'!S67","v":1.4827586206896552},{"$f":"'CV Rotina <2A - residência'!U67","v":0.68965517241379315},{"$f":"'CV Rotina <2A - residência'!W67","v":0.82758620689655171},{"$f":"'CV Rotina <2A - residência'!AA67","v":0.96551724137931039},{"$f":"COUNTIF(C67:D67,\">=0,9\")","v":2},{"$f":"COUNTIFS(E67:L67,\">=0,95\")","v":6},8,4]
["Central","São Gabriel da Palha",{"$f":"'CV Rotina <2A - residência'!K68","v":1.2105263157894737},{"$f":"'CV Rotina <2A - residência'!AC68","v":1.1228070175438596},{"$f":"'CV Rotina <2A - residência'!M68","v":0.80701754385964908},{"$f":"'CV Rotina <2A - residência'!O68","v":0.78947368421052633},{"$f":"'CV Rotina <2A - residência'!Q68","v":1.1140350877192982},{"$f":"'CV Rotina <2A - residência'!Y68","v":0.68421052631578949},{"$f":"'CV Rotina <2A - residência'!S68","v":0.91228070175438591},{"$f":"'CV Rotina <2A - residência'!U68","v":0.88596491228070173},{"$f":"'CV Rotina <2A - residência'!W68","v":0.7192982456140351},{"$f":"'CV Rotina <2A - residência'!AA68","v":0.83333333333333337},2,1,{"$f":"SUM(M68:N68)","v":3},{"$f":"COUNTIF(E68:H68,\">=0,95\")","v":1}]
["Sul","São José do Calçado",{"$f":"'CV Rotina <2A - residência'!K69","v":1.8421052631578947},{"$f":"'CV Rotina <2A - residência'!AC69","v":1.5263157894736843},{"$f":"'CV Rotina <2A - residência'!M69","v":1.1578947368421053},{"$f":"'CV Rotina <2A - residência'!O69","v":1.1578947368421053},{"$f":"'CV Rotina <2A - residência'!Q69","v":1.4210526315789473},{"$f":"'CV Rotina <2A - residência'!Y69","v":1.368421052631579},{"$f":"'CV Rotina <2A - residência'!S69","v":1.368421052631579},{"$f":"'CV Rotina <2A - residência'!U69","v":0.89473684210526316},{"$f":"'CV Rotina <2A - residência'!W69","v":0.78947368421052633},{"$f":"'CV Rotina <2A - residência'!AA69","v":0.57894736842105265},2,5,7,4]
["Norte","São Mateus",{"$f":"'CV Rotina <2A - residência'!K70","v":0.79055441478439425},{"$f":"'CV Rotina <2A - residência'!AC70","v":1.0246406570841888},{"$f":"'CV Rotina <2A - residência'!M70","v":0.90143737166324434},{"$f":"'CV Rotina <2A - residência'!O70","v":0.87885010266940455},{"$f":"'CV Rotina <2A - residência'!Q70","v":1.0020533880903491},{"$f":"'CV Rotina <2A - residência'!Y70","v":0.85831622176591371},{"$f":"'CV Rotina <2A - residência'!S70","v":0.9383983572895277},{"$f":"'CV Rotina <2A - residência'!U70","v":0.76180698151950721},{"$f":"'CV Rotina <2A - residência'!W70","v":0.80698151950718688},{"$f":"'CV Rotina <2A - residência'!AA70","v":0.69199178644763859},1,1,2,1]
["Central","São Roque do Canaã",{"$f":"'CV Rotina <2A - residência'!K71","v":0.71875},{"$f":"'CV Rotina <2A - residência'!AC71","v":1.03125},{"$f":"'CV Rotina <2A - residência'!M71","v":1.03125},{"$f":"'CV Rotina <2A - residência'!O71","v":1.03125},{"$f":"'CV Rotina <2A - residência'!Q71","v":1.0625},{"$f":"'CV Rotina <2A - residência'!Y71","v":1.1875},{"$f":"'CV Rotina <2A - residência'!S71","v":0.90625},{"$f":"'CV Rotina <2A - residência'!U71","v":1.25},{"$f":"'CV Rotina <2A - residência'!W71","v":0.875},{"$f":"'CV Rotina <2A - residência'!AA71","v":0.84375},1,5,6,4]
["Metropolitana","Serra",{"$f":"'CV Rotina <2A - residência'!K72","v":0.95537634408602146},{"$f":"'CV Rotina <2A - residência'!AC72","v":0.94301075268817203},{"$f":"'CV Rotina <2A - residência'!M72","v":0.94032258064516128},{"$f":"'CV Rotina <2A - residência'!O72","v":0.94301075268817203},{"$f":"'CV Rotina <2A - residência'!Q72","v":0.91827956989247317},{"$f":"'CV Rotina <2A - residência'!Y72","v":0.90376344086021509},{"$f":"'CV Rotina <2A - residência'!S72","v":0.93333333333333335},{"$f":"'CV Rotina <2A - residência'!U72","v":0.71021505376344085},{"$f":"'CV Rotina <2A - residência'!W72","v":0.85268817204301073},{"$f":"'CV Rotina <2A - residência'!AA72","v":0.80053763440860215},2,0,2,0]
["Central","Sooretama",{"$f":"'CV Rotina <2A - residência'!K73","v":0.6875},{"$f":"'CV Rotina <2A - residência'!AC73","v":1.1354166666666667},{"$f":"'CV Rotina <2A - residência'!M73","v":1.0104166666666667},{"$f":"'CV Rotina <2A - residência'!O73","v":0.98958333333333337},{"$f":"'CV Rotina <2A - residência'!Q73","v":1.1145833333333333},{"$f":"'CV Rotina <2A - residência'!Y73","v":1.0104166666666667},{"$f":"'CV Rotina <2A - residência'!S73","v":1.1458333333333333},{"$f":"'CV Rotina <2A - residência'!U73","v":0.90625},{"$f":"'CV Rotina <2A - residência'!W73","v":0.96875},{"$f":"'CV Rotina <2A - residência'!AA73","v":0.86458333333333337},1,6,7,4]
["Sul","Vargem Alta",{"$f":"'CV Rotina <2A - residência'!K74","v":0.93150684931506844},{"$f":"'CV Rotina <2A - residência'!AC74","v":0.79452054794520544},{"$f":"'CV Rotina <2A - residência'!M74","v":0.78082191780821919},{"$f":"'CV Rotina <2A - residência'!O74","v":0.79452054794520544},{"$f":"'CV Rotina <2A - residência'!Q74","v":0.79452054794520544},{"$f":"'CV Rotina <2A - residência'!Y74","v":1},{"$f":"'CV Rotina <2A - residência'!S74","v":0.69863013698630139},{"$f":"'CV Rotina <2A - residência'!U74","v":1.1095890410958904},{"$f":"'CV Rotina <2A - residência'!W74","v":0.82191780821917804},{"$f":"'CV Rotina <2A - residência'!AA74","v":0.84931506849315064},1,2,3,1]
["Metropolitana","Venda Nova do Imigrante",{"$f":"'CV Rotina <2A - residência'!K75","v":0.9642857142857143},{"$f":"'CV Rotina <2A - residência'!AC75","v":0.84523809523809523},{"$f":"'CV Rotina <2A - residência'!M75","v":1.1190476190476191},{"$f":"'CV Rotina <2A - residência'!O75","v":1.1071428571428572},{"$f":"'CV Rotina <2A - residência'!Q75","v":0.80952380952380953},{"$f":"'CV Rotina <2A - residência'!Y75","v":1.0119047619047619},{"$f":"'CV Rotina <2A - residência'!S75","v":0.84523809523809523},{"$f":"'CV Rotina <2A - residência'!U75","v":1.0119047619047619},{"$f":"'CV Rotina <2A - residência'!W75","v":1.0595238095238095},{"$f":"'CV Rotina <2A - residência'!AA75","v":1.3571428571428572},1,6,7,3]
["Metropolitana","Viana",{"$f":"'CV Rotina <2A - residência'!K76","v":0.97685185185185186},{"$f":"'CV Rotina <2A - residência'!AC76","v":1.0138888888888888},{"$f":"'CV Rotina <2A - residência'!M76","v":0.98148148148148151},{"$f":"'CV Rotina <2A - residência'!O76","v":0.95833333333333337},{"$f":"'CV Rotina <2A - residência'!Q76","v":1.0138888888888888},{"$f":"'CV Rotina <2A - residência'!Y76","v":1.0185185185185186},{"$f":"'CV Rotina <2A - residência'!S76","v":0.92592592592592593},{"$f":"'CV Rotina <2A - residência'!U76","v":0.81018518518518523},{"$f":"'CV Rotina <2A - residência'!W76","v":1.0601851851851851},{"$f":"'CV Rotina <2A - residência'!AA76","v":1.1064814814814814},2,6,8,4]
["Norte","Vila Pavão",{"$f":"'CV Rotina <2A - residência'!K77","v":0.73684210526315785},{"$f":"'CV Rotina <2A - residência'!AC77","v":0.76315789473684215},{"$f":"'CV Rotina <2A - residência'!M77","v":0.81578947368421051},{"$f":"'CV Rotina <2A - residência'!O77","v":0.76315789473684215},{"$f":"'CV Rotina <2A - residência'!Q77","v":0.73684210526315785},{"$f":"'CV Rotina <2A - residência'!Y77","v":0.73684210526315785},{"$f":"'CV Rotina <2A - residência'!S77","v":0.76315789473684215},{"$f":"'CV Rotina <2A - residência'!U77","v":0.73684210526315785},{"$f":"'CV Rotina <2A - residência'!W77","v":0.78947368421052633},{"$f":"'CV Rotina <2A - residência'!AA77","v":1.0789473684210527},0,1,1,0]
["Central","Vila Valério",{"$f":"'CV Rotina <2A - residência'!K78","v":0.81818181818181823},{"$f":"'CV Rotina <2A - residência'!AC78","v":1.0151515151515151},{"$f":"'CV Rotina <2A - residência'!M78","v":0.96969696969696972},{"$f":"'CV Rotina <2A - residência'!O78","v":0.96969696969696972},{"$f":"'CV Rotina <2A - residência'!Q78","v":1.0151515151515151},{"$f":"'CV Rotina <2A - residência'!Y78","v":0.74242424242424243},{"$f":"'CV Rotina <2A - residência'!S78","v":0.95454545454545459},{"$f":"'CV Rotina <2A - residência'!U78","v":0.95454545454545459},{"$f":"'CV Rotina <2A - residência'!W78","v":0.75757575757575757},{"$f":"'CV Rotina <2A - residência'!AA78","v":0.81818181818181823},1,5,6,3]
["Metropolitana","Vila Velha",{"$f":"'CV Rotina <2A - residência'!K79","v":0.86401673640167365},{"$f":"'CV Rotina <2A - residência'!AC79","v":0.8382147838214784},{"$f":"'CV Rotina <2A - residência'!M79","v":0.75174337517433754},{"$f":"'CV Rotina <2A - residência'!O79","v":0.72803347280334729},{"$f":"'CV Rotina <2A - residência'!Q79","v":0.81868898186889816},{"$f":"'CV Rotina <2A - residência'!Y79","v":0.83960948396094837},{"$f":"'CV Rotina <2A - residência'!S79","v":0.8319386331938633},{"$f":"'CV Rotina <2A - residência'!U79","v":0.63598326359832635},{"$f":"'CV Rotina <2A - residência'!W79","v":0.77824267782426781},{"$f":"'CV Rotina <2A - residência'!AA79","v":0.68549511854951184},0,0,0,0]
["Metropolitana","Vitória",{"$f":"'CV Rotina <2A - residência'!K80","v":0.98762654668166483},{"$f":"'CV Rotina <2A - residência'!AC80","v":1.1552305961754781},{"$f":"'CV Rotina <2A - residência'!M80","v":1.1226096737907763},{"$f":"'CV Rotina <2A - residência'!O80","v":1.1079865016872892},{"$f":"'CV Rotina <2A - residência'!Q80","v":1.1226096737907763},{"$f":"'CV Rotina <2A - residência'!Y80","v":1.1439820022497187},{"$f":"'CV Rotina <2A - residência'!S80","v":1.1034870641169854},{"$f":"'CV Rotina <2A - residência'!U80","v":0.72778402699662548},{"$f":"'CV Rotina <2A - residência'!W80","v":1.0449943757030371},{"$f":"'CV Rotina <2A - residência'!AA80","v":1.140607424071991},2,7,9,4]
[]
[null,"Total Norte",{"$f":"'CV Rotina <2A - residência'!K82","v":0.80300065231572082},{"$f":"'CV Rotina <2A - residência'!AC82","v":0.97651663405088063},{"$f":"'CV Rotina <2A - residência'!M82","v":0.90606653620352251},{"$f":"'CV Rotina <2A - residência'!O82","v":0.88975864318330067},{"$f":"'CV Rotina <2A - residência'!Q82","v":0.95825179386823223},{"$f":"'CV Rotina <2A - residência'!Y82","v":0.90932811480756681},{"$f":"'CV Rotina <2A - residência'!S82","v":0.92628832354859747},{"$f":"'CV Rotina <2A - residência'!U82","v":0.81800391389432481},{"$f":"'CV Rotina <2A - residência'!W82","v":0.84148727984344418},{"$f":"'CV Rotina <2A - residência'!AA82","v":0.83561643835616439},{"$f":"COUNTIF(C82:D82,\">=0,9\")","v":1},{"$f":"COUNTIFS(E82:L82,\">=0,95\")","v":1},{"$f":"SUM(M82:N82)","v":2},{"$f":"COUNTIF(E82:H82,\">=0,95\")","v":1}]
[null,"Total Central",{"$f":"'CV Rotina <2A - residência'!K83","v":1.0295924064768285},{"$f":"'CV Rotina <2A - residência'!AC83","v":0.94919039642657732},{"$f":"'CV Rotina <2A - residência'!M83","v":0.94863204913456167},{"$f":"'CV Rotina <2A - residência'!O83","v":0.92853154662199888},{"$f":"'CV Rotina <2A - residência'!Q83","v":0.92462311557788945},{"$f":"'CV Rotina <2A - residência'!Y83","v":0.87716359575656055},{"$f":"'CV Rotina <2A - residência'!S83","v":0.94193188163037411},{"$f":"'CV Rotina <2A - residência'!U83","v":0.82412060301507539},{"$f":"'CV Rotina <2A - residência'!W83","v":0.8230039084310441},{"$f":"'CV Rotina <2A - residência'!AA83","v":0.86711334450027922},{"$f":"COUNTIF(C83:D83,\">=0,9\")","v":2},{"$f":"COUNTIFS(E83:L83,\">=0,95\")","v":0},{"$f":"SUM(M83:N83)","v":2},{"$f":"COUNTIF(E83:H83,\">=0,95\")","v":0}]
[null,"Total Metropolitana",{"$f":"'CV Rotina <2A - residência'!K84","v":0.91643230212936921},{"$f":"'CV Rotina <2A - residência'!AC84","v":0.93370831659300924},{"$f":"'CV Rotina <2A - residência'!M84","v":0.90625418508102318},{"$f":"'CV Rotina <2A - residência'!O84","v":0.89353153877059055},{"$f":"'CV Rotina <2A - residência'!Q84","v":0.91254854693986875},{"$f":"'CV Rotina <2A - residência'!Y84","v":0.93625284585509572},{"$f":"'CV Rotina <2A - residência'!S84","v":0.91335208249631716},{"$f":"'CV Rotina <2A - residência'!U84","v":0.74005624748895138},{"$f":"'CV Rotina <2A - residência'!W84","v":0.870630775411812},{"$f":"'CV Rotina <2A - residência'!AA84","v":0.84518548279094685},{"$f":"COUNTIF(C84:D84,\">=0,9\")","v":2},{"$f":"COUNTIFS(E84:L84,\">=0,95\")","v":0},{"$f":"SUM(M84:N84)","v":2},{"$f":"COUNTIF(E84:H84,\">=0,95\")","v":0}]
[null,"Total Sul",{"$f":"'CV Rotina <2A - residência'!K85","v":0.98814229249011853},{"$f":"'CV Rotina <2A - residência'!AC85","v":0.95059288537549402},{"$f":"'CV Rotina <2A - residência'!M85","v":0.97677865612648218},{"$f":"'CV Rotina <2A - residência'!O85","v":0.96590909090909094},{"$f":"'CV Rotina <2A - residência'!Q85","v":0.93428853754940711},{"$f":"'CV Rotina <2A - residência'!Y85","v":1.016798418972332},{"$f":"'CV Rotina <2A - residência'!S85","v":0.95009881422924902},{"$f":"'CV Rotina <2A - residência'!U85","v":0.84782608695652173},{"$f":"'CV Rotina <2A - residência'!W85","v":0.92045454545454541},{"$f":"'CV Rotina <2A - residência'!AA85","v":0.94367588932806323},{"$f":"COUNTIF(C85:D85,\">=0,9\")","v":2},{"$f":"COUNTIFS(E85:L85,\">=0,95\")","v":4},{"$f":"SUM(M85:N85)","v":6},{"$f":"COUNTIF(E85:H85,\">=0,95\")","v":3}]
[null,"Total Espírito Santo",{"$f":"'CV Rotina <2A - residência'!K86","v":0.9300039016777214},{"$f":"'CV Rotina <2A - residência'!AC86","v":0.94365977370269216},{"$f":"'CV Rotina <2A - residência'!M86","v":0.92329301599687863},{"$f":"'CV Rotina <2A - residência'!O86","v":0.90940304330862276},{"$f":"'CV Rotina <2A - residência'!Q86","v":0.92313694888802189},{"$f":"'CV Rotina <2A - residência'!Y86","v":0.9374951229028482},{"$f":"'CV Rotina <2A - residência'!S86","v":0.92469761997658995},{"$f":"'CV Rotina <2A - residência'!U86","v":0.77815060476004683},{"$f":"'CV Rotina <2A - residência'!W86","v":0.86835739367928211},{"$f":"'CV Rotina <2A - residência'!AA86","v":0.86266094420600858},{"$f":"COUNTIF(C86:D86,\">=0,9\")","v":2},{"$f":"COUNTIFS(E86:L86,\">=0,95\")","v":0},{"$f":"SUM(M86:N86)","v":2},{"$f":"COUNTIF(E86:H86,\">=0,95\")","v":0}]
[]
[]
["Fonte: SIPNI/DATASUS, em 09 de junho de 2023.*"]
[" Vacina e Confia, em 12 de junho de 2023.**"]
["*Dados referentes às doses aplicadas pelas clínicas particulares de janeiro a maio de 2023"]
["**Dados referente às doses aplicadas no período de janeiro a maio de 2023"]
["Cobertura Calculada por município de vacinação"]
["1 População proporcional extraída do MS/SVS/DASIS - Sistema de Informações sobre Nascidos Vivos - SINASC"]
["2000 a 2021 – Estimativas preliminares elaboradas pelo Ministério da Saúde/SVS/DASNT/CGIAE"]
[" Nota: Dados preliminares 2021"]

{"sheet":"CV Rotina <2A - residência","index":3,"n_rows":109,"n_cols":40,"rows_kept":109,"cut":false,"hidden":false,"merged":[[87,21,87,22],[87,23,87,24],[87,25,87,26],[87,27,87,28],[87,30,87,31],[87,11,87,12],[87,13,87,14],[87,15,87,16],[87,17,87,18],[87,19,87,20],[87,1,87,2],[87,3,87,4],[87,5,87,6],[87,7,87,8],[87,9,87,10],[2,38,2,39],[11,38,11,39],[86,3,86,4],[86,5,86,6],[86,7,86,8],[86,9,86,10],[86,11,86,12],[86,13,86,14],[86,15,86,16],[86,17,86,18],[86,19,86,20],[86,21,86,22],[86,23,86,24],[86,25,86,26],[86,27,86,28],[86,30,86,31],[0,3,0,10],[0,11,0,20],[0,21,0,26],[0,27,0,28],[0,30,0,31]]}
[null,null,null,"AO NASCER",null,null,null,null,null,null,null,"MENOR DE 1 ANO",null,null,null,null,null,null,null,null,null,"1 ANO",null,null,null,null,null,"MENOR DE 2 ANOS",null,null,"MENOR DE 1 ANO"]
["Regional ","Município","¹População \n< 1 ano e 1 ano ","Doses Aplicadas HB\n≤30 dias","Cobertura Vacinal HB\naté 30 dias","Doses Aplicadas HB\n≤2 dias","Cobertura Vacinal HB\naté 2 dias","Doses Aplicadas HB\n≤1 dia","Cobertura Vacinal HB\naté 1 dia","Doses Aplicadas BCG","Cobertura Vacinal BCG","Doses Aplicadas Pentavalente ","Cobertura Vacinal Pentavalente","Doses Aplicadas Poliomielite ","Cobertura Vacinal Poliomielite ","Doses Aplicadas Pneumo 10","Cobertura Vacinal Pneumo 10","Doses Aplicadas Meningo C","Cobertura Vacinal Meningo C","Doses Aplicadas Febre Amarela","Cobertura Vacinal Febre Amarela","Doses Aplicadas Hepatite A","Cobertura Vacinal Hepatite A","Doses Aplicadas de Tríplice Viral","Cobertura Vacinal Tríplice Viral","Doses Aplicadas Varicela","Cobertura Varicela","Doses Aplicadas Rotavírus","Cobertura Vacinal Rotavírus",null,"Doses Aplicadas COVID-19","Cobertura Vacinal \nCOVID-19 D1",null,"VACINAS QUE ATINGIRAM A META DE CV","HOMOGENEIDADE ENTRE AS 10 VACINAS","VACINAS DO PQA-VS QUE ATINGIRAM A META DE CV","HOMOGENEIDADE ENTRE AS VACINAS DO PQA-VS"]
["Metropolitana","Afonso Cláudio",88,73,{"$f":"D3/C3","v":0.82954545454545459},55,{"$f":"F3/C3","v":0.625},39,{"$f":"H3/C3","v":0.44318181818181818},72,{"$f":"J3/C3","v":0.81818181818181823},76,{"$f":"L3/C3","v":0.86363636363636365},74,{"$f":"N3/C3","v":0.84090909090909094},90,{"$f":"P3/C3","v":1.0227272727272727},78,{"$f":"R3/C3","v":0.88636363636363635},95,{"$f":"T3/C3","v":1.0795454545454546},93,{"$f":"V3/C3","v":1.0568181818181819},90,{"$f":"X3/C3","v":1.0227272727272727},91,{"$f":"Z3/C3","v":1.0340909090909092},90,{"$f":"AB3/C3","v":1.0227272727272727},null,0,{"$f":"AE3/C3","v":0},null,{"$f":"cálculos2!O3","v":6},{"$f":"AH3*0.1","v":0.60000000000000009},{"$f":"cálculos2!P3","v":2},{"$f":"AJ3*0.25","v":0.5},null,"LEGENDA / HOMOGENEIDADE PQA-VS"]
["Norte","Água Doce do Norte",38,30,{"$f":"D4/C4","v":0.78947368421052633},12,{"$f":"F4/C4","v":0.31578947368421051},8,{"$f":"H4/C4","v":0.21052631578947367},32,{"$f":"J4/C4","v":0.84210526315789469},30,0.78947368421052633,32,0.84210526315789469,40,1.0526315789473684,37,0.97368421052631582,19,0.5,41,1.0789473684210527,33,0.86842105263157898,35,0.92105263157894735,42,1.1052631578947369,null,0,0,null,{"$f":"cálculos2!O4","v":4},{"$f":"AH4*0.1","v":0.4},{"$f":"cálculos2!P4","v":1},{"$f":"AJ4*0.25","v":0.25},null,"PERCENTUAL","Nº DE MUNICÍPIOS"]
["Central","Águia Branca",52,47,0.90384615384615385,16,0.30769230769230771,10,0.19230769230769232,45,0.86538461538461542,46,0.88461538461538458,46,0.88461538461538458,35,0.67307692307692313,38,0.73076923076923073,46,0.88461538461538458,24,0.46153846153846156,38,0.73076923076923073,30,0.57692307692307687,35,0.67307692307692313,null,3,5.7692307692307696E-2,null,{"$f":"cálculos2!O5","v":0},0,{"$f":"cálculos2!P5","v":0},0,null,0,{"$f":"COUNTIF($AK$3:$AK$80,\"=0\")","v":20}]
["Sul","Alegre",75,63,0.84,32,0.42666666666666669,18,0.24,63,0.84,81,1.08,80,1.0666666666666667,62,0.82666666666666666,62,0.82666666666666666,76,1.0133333333333334,76,1.0133333333333334,69,0.92,72,0.96,62,0.82666666666666666,null,7,9.3333333333333338E-2,null,{"$f":"cálculos2!O6","v":5},0.5,{"$f":"cálculos2!P6","v":2},0.5,null,0.25,{"$f":"COUNTIF($AK$3:$AK$80,\"=0,25\")","v":23}]
["Sul","Alfredo Chaves",32,28,0.875,26,0.8125,18,0.5625,30,0.9375,30,0.9375,29,0.90625,23,0.71875,20,0.625,25,0.78125,24,0.75,35,1.09375,27,0.84375,25,0.78125,null,0,0,null,{"$f":"cálculos2!O7","v":2},0.2,{"$f":"cálculos2!P7","v":1},0.25,null,0.5,{"$f":"COUNTIF($AK$3:$AK$80,\"=0,5\")","v":6}]
["Central","Alto Rio Novo",24,28,1.1666666666666667,19,0.79166666666666663,18,0.75,29,1.2083333333333333,26,1.0833333333333333,26,1.0833333333333333,21,0.875,26,1.0833333333333333,23,0.95833333333333337,18,0.75,20,0.83333333333333337,16,0.66666666666666663,21,0.875,null,0,0,null,{"$f":"cálculos2!O8","v":5},0.5,{"$f":"cálculos2!P8","v":2},0.5,null,0.75,{"$f":"COUNTIF($AK$3:$AK$80,\"=0,75\")","v":8}]
["Sul","Anchieta",103,85,0.82524271844660191,69,0.66990291262135926,54,0.52427184466019416,88,0.85436893203883491,75,0.72815533980582525,71,0.68932038834951459,86,0.83495145631067957,78,0.75728155339805825,80,0.77669902912621358,111,1.0776699029126213,99,0.96116504854368934,119,1.1553398058252426,86,0.83495145631067957,null,0,0,null,{"$f":"cálculos2!O9","v":3},0.30000000000000004,{"$f":"cálculos2!P9","v":1},0.25,null,1,{"$f":"COUNTIF($AK$3:$AK$80,\"=1,0\")","v":21}]
["Sul","Apiacá",11,5,0.45454545454545453,1,9.0909090909090912E-2,1,9.0909090909090912E-2,22,2,17,1.5454545454545454,14,1.2727272727272727,15,1.3636363636363635,22,2,11,1,20,1.8181818181818181,20,1.8181818181818181,12,1.0909090909090908,15,1.3636363636363635,null,0,0,null,{"$f":"cálculos2!O10","v":10},1,{"$f":"cálculos2!P10","v":4},1]
["Metropolitana","Aracruz",387,362,0.93540051679586567,171,0.44186046511627908,107,0.27648578811369506,366,0.94573643410852715,348,0.89922480620155043,335,0.86563307493540054,304,0.78552971576227393,325,0.83979328165374678,296,0.76485788113695086,319,0.82428940568475451,359,0.92764857881136953,322,0.83204134366925064,315,0.81395348837209303,null,11,2.8423772609819122E-2,null,{"$f":"cálculos2!O11","v":1},0.1,{"$f":"cálculos2!P11","v":0},0]
["Sul","Atilio Vivacqua",47,38,0.80851063829787229,34,0.72340425531914898,19,0.40425531914893614,37,0.78723404255319152,33,0.7021276595744681,33,0.7021276595744681,22,0.46808510638297873,31,0.65957446808510634,39,0.82978723404255317,45,0.95744680851063835,52,1.1063829787234043,54,1.1489361702127661,22,0.46808510638297873,null,1,2.1276595744680851E-2,null,{"$f":"cálculos2!O12","v":3},0.30000000000000004,{"$f":"cálculos2!P12","v":1},0.25,null,"LEGENDA / HOMOGENEIDADE 10 VACINAS"]
["Central","Baixo Guandu",89,70,0.7865168539325843,55,0.6179775280898876,43,0.48314606741573035,90,1.0112359550561798,73,0.8202247191011236,71,0.797752808988764,78,0.8764044943820225,77,0.8651685393258427,100,1.1235955056179776,75,0.84269662921348309,82,0.9213483146067416,80,0.898876404494382,79,0.88764044943820219," ",0,0,null,{"$f":"cálculos2!O13","v":2},0.2,{"$f":"cálculos2!P13","v":0},0,null,"PERCENTUAL","Nº DE MUNICÍPIOS"]
["Norte","Barra de São Francisco",158,110,0.69620253164556967,58,0.36708860759493672,40,0.25316455696202533,112,0.70886075949367089,123,0.77848101265822789,125,0.79113924050632911,137,0.86708860759493667,121,0.76582278481012656,147,0.930379746835443,109,0.689873417721519,134,0.84810126582278478,106,0.67088607594936711,138,0.87341772151898733,null,0,0,null,{"$f":"cálculos2!O14","v":0},0,{"$f":"cálculos2!P14","v":0},0,null,0,{"$f":"COUNTIF($AI$3:$AI$80,\"=0\")","v":8}]
["Norte","Boa Esperança",55,43,0.78181818181818186,43,0.78181818181818186,42,0.76363636363636367,37,0.67272727272727273,47,0.8545454545454545,43,0.78181818181818186,49,0.89090909090909087,50,0.90909090909090906,46,0.83636363636363631,50,0.90909090909090906,54,0.98181818181818181,52,0.94545454545454544,49,0.89090909090909087,null,0,0,null,{"$f":"cálculos2!O15","v":1},0.1,{"$f":"cálculos2!P15","v":1},0.25,null,0.1,{"$f":"COUNTIFS($AI$3:$AI$80,\">=0,10\",$AI$3:$AI$80,\"<0,20\")","v":9}]
["Sul","Bom Jesus do Norte",5,9,1.8,2,0.4,2,0.4,16,3.2,21,4.2,21,4.2,24,4.8,23,4.5999999999999996,24,4.8,18,3.6,20,4,14,2.8,27,5.4,null,1,0.2,null,{"$f":"cálculos2!O16","v":10},1,{"$f":"cálculos2!P16","v":4},1,null,0.2,{"$f":"COUNTIFS($AI$3:$AI$80,\">=0,20\",$AI$3:$AI$80,\"<0,30\")","v":11}]
["Metropolitana","Brejetuba",53,60,1.1320754716981132,51,0.96226415094339623,49,0.92452830188679247,52,0.98113207547169812,71,1.3396226415094339,69,1.3018867924528301,66,1.2452830188679245,67,1.2641509433962264,63,1.1886792452830188,75,1.4150943396226414,71,1.3396226415094339,59,1.1132075471698113,66,1.2452830188679245,null,0,0,null,{"$f":"cálculos2!O17","v":10},1,{"$f":"cálculos2!P17","v":4},1,null,0.3,{"$f":"COUNTIFS($AI$3:$AI$80,\">=0,30\",$AI$3:$AI$80,\"<0,40\")","v":11}]
["Sul","Cachoeiro de Itapemirim",578,570,0.98615916955017302,464,0.80276816608996537,258,0.44636678200692043,585,1.0121107266435987,557,0.96366782006920415,549,0.94982698961937717,538,0.9307958477508651,553,0.95674740484429066,445,0.76989619377162632,486,0.84083044982698962,532,0.92041522491349481,481,0.83217993079584773,563,0.97404844290657444,null,12,2.0761245674740483E-2,null,{"$f":"cálculos2!O18","v":4},0.4,{"$f":"cálculos2!P18","v":1},0.25,null,0.4,{"$f":"COUNTIFS($AI$3:$AI$80,\">=0,40\",$AI$3:$AI$80,\"<0,50\")","v":5}]
["Metropolitana","Cariacica",1202,1070,0.89018302828618967,522,0.43427620632279534,370,0.30782029950083195,1067,0.88768718801996671,1020,0.84858569051580701,1004,0.83527454242928456,1035,0.86106489184692181,1061,0.88269550748752079,906,0.75374376039933444,984,0.8186356073211315,1126,0.93677204658901825,954,0.79367720465890179,1066,0.88685524126455906,null,17,1.4143094841930116E-2,null,{"$f":"cálculos2!O19","v":0},0,{"$f":"cálculos2!P19","v":0},0,null,0.5,{"$f":"COUNTIFS($AI$3:$AI$80,\">=0,50\",$AI$3:$AI$80,\"<0,60\")","v":4}]
["Sul","Castelo",114,100,0.8771929824561403,81,0.71052631578947367,47,0.41228070175438597,100,0.8771929824561403,102,0.89473684210526316,102,0.89473684210526316,116,1.0175438596491229,104,0.91228070175438591,96,0.84210526315789469,93,0.81578947368421051,111,0.97368421052631582,97,0.85087719298245612,114,1,null,1,8.771929824561403E-3,null,{"$f":"cálculos2!O20","v":3},0.30000000000000004,{"$f":"cálculos2!P20","v":2},0.5,null,0.6,{"$f":"COUNTIFS($AI$3:$AI$80,\">=0,60\",$AI$3:$AI$80,\"<0,70\")","v":7}]
["Central","Colatina",366,392,1.0710382513661203,222,0.60655737704918034,170,0.46448087431693991,390,1.0655737704918034,342,0.93442622950819676,343,0.93715846994535523,325,0.88797814207650272,331,0.90437158469945356,309,0.84426229508196726,311,0.84972677595628421,318,0.86885245901639341,310,0.84699453551912574,344,0.93989071038251371,null,9,2.4590163934426229E-2,null,{"$f":"cálculos2!O21","v":2},0.2,{"$f":"cálculos2!P21","v":0},0,null,0.7,{"$f":"COUNTIFS($AI$3:$AI$80,\">=0,70\",$AI$3:$AI$80,\"<0,80\")","v":3}]
["Norte","Conceição da Barra",99,98,0.98989898989898994,92,0.92929292929292928,91,0.91919191919191923,93,0.93939393939393945,95,0.95959595959595956,95,0.95959595959595956,103,1.0404040404040404,104,1.0505050505050506,115,1.1616161616161615,97,0.97979797979797978,94,0.9494949494949495,112,1.1313131313131313,106,1.0707070707070707,null,0,0,null,{"$f":"cálculos2!O22","v":9},0.9,{"$f":"cálculos2!P22","v":3},0.75,null,0.8,{"$f":"COUNTIFS($AI$3:$AI$80,\">=0,80\",$AI$3:$AI$80,\"<0,90\")","v":4}]
["Metropolitana","Conceição do Castelo",41,35,0.85365853658536583,33,0.80487804878048785,31,0.75609756097560976,34,0.82926829268292679,39,0.95121951219512191,38,0.92682926829268297,37,0.90243902439024393,39,0.95121951219512191,37,0.90243902439024393,40,0.97560975609756095,41,1,39,0.95121951219512191,40,0.97560975609756095,null,0,0,null,{"$f":"cálculos2!O23","v":6},0.60000000000000009,{"$f":"cálculos2!P23","v":2},0.5,null,0.9,{"$f":"COUNTIFS($AI$3:$AI$80,\">=0,90\",$AI$3:$AI$80,\"<1,0\")","v":5}]
["Sul","Divino de São Lourenço",12,14,1.1666666666666667,5,0.41666666666666669,3,0.25,16,1.3333333333333333,16,1.3333333333333333,16,1.3333333333333333,26,2.1666666666666665,24,2,12,1,12,1,14,1.1666666666666667,13,1.0833333333333333,26,2.1666666666666665,null,1,8.3333333333333329E-2,null,{"$f":"cálculos2!O24","v":10},1,{"$f":"cálculos2!P24","v":4},1,null,1,{"$f":"COUNTIF($AI$3:$AI$80,\">=1,0\")","v":11}]
["Metropolitana","Domingos Martins",111,106,0.95495495495495497,95,0.85585585585585588,83,0.74774774774774777,106,0.95495495495495497,97,0.87387387387387383,95,0.85585585585585588,101,0.90990990990990994,89,0.80180180180180183,105,0.94594594594594594,100,0.90090090090090091,92,0.8288288288288288,92,0.8288288288288288,100,0.90090090090090091,null,7,6.3063063063063057E-2,null,{"$f":"cálculos2!O25","v":2},0.2,{"$f":"cálculos2!P25","v":0},0]
["Sul","Dores do Rio Preto",25,14,0.56000000000000005,5,0.2,3,0.12,14,0.56000000000000005,21,0.84,19,0.76,18,0.72,21,0.84,20,0.8,29,1.1599999999999999,33,1.32,21,0.84,17,0.68,null,4,0.16,null,{"$f":"cálculos2!O26","v":2},0.2,{"$f":"cálculos2!P26","v":1},0.25]
["Norte","Ecoporanga",77,64,0.83116883116883122,34,0.44155844155844154,27,0.35064935064935066,64,0.83116883116883122,54,0.70129870129870131,55,0.7142857142857143,44,0.5714285714285714,53,0.68831168831168832,56,0.72727272727272729,71,0.92207792207792205,74,0.96103896103896103,63,0.81818181818181823,48,0.62337662337662336,null,1,1.2987012987012988E-2,null,{"$f":"cálculos2!O27","v":1},0.1,{"$f":"cálculos2!P27","v":1},0.25]
["Metropolitana","Fundão",66,55,0.83333333333333337,46,0.69696969696969702,32,0.48484848484848486,57,0.86363636363636365,45,0.68181818181818177,45,0.68181818181818177,51,0.77272727272727271,47,0.71212121212121215,49,0.74242424242424243,60,0.90909090909090906,61,0.9242424242424242,55,0.83333333333333337,54,0.81818181818181823,null,4,6.0606060606060608E-2,null,{"$f":"cálculos2!O28","v":0},0,{"$f":"cálculos2!P28","v":0},0]
["Central","Governador Lindenberg",37,40,1.0810810810810811,20,0.54054054054054057,17,0.45945945945945948,41,1.1081081081081081,33,0.89189189189189189,34,0.91891891891891897,34,0.91891891891891897,42,1.1351351351351351,27,0.72972972972972971,27,0.72972972972972971,23,0.6216216216216216,23,0.6216216216216216,35,0.94594594594594594,null,0,0,null,{"$f":"cálculos2!O29","v":3},0.30000000000000004,{"$f":"cálculos2!P29","v":0},0]
["Sul","Guaçuí",79,98,1.240506329113924,32,0.4050632911392405,18,0.22784810126582278,96,1.2151898734177216,104,1.3164556962025316,105,1.3291139240506329,110,1.3924050632911393,104,1.3164556962025316,82,1.0379746835443038,79,1,80,1.0126582278481013,94,1.1898734177215189,110,1.3924050632911393,null,0,0,null,{"$f":"cálculos2!O30","v":10},1,{"$f":"cálculos2!P30","v":4},1]
["Metropolitana","Guarapari",471,393,0.83439490445859876,354,0.75159235668789814,321,0.68152866242038213,381,0.80891719745222934,381,0.80891719745222934,372,0.78980891719745228,396,0.84076433121019112,396,0.84076433121019112,282,0.59872611464968151,342,0.72611464968152861,395,0.83864118895966033,280,0.59447983014861994,398,0.84501061571125269,null,5,1.0615711252653927E-2,null,{"$f":"cálculos2!O31","v":0},0,{"$f":"cálculos2!P31","v":0},0]
["Metropolitana","Ibatiba",83,81,0.97590361445783136,23,0.27710843373493976,17,0.20481927710843373,82,0.98795180722891562,106,1.2771084337349397,105,1.2650602409638554,95,1.1445783132530121,94,1.1325301204819278,99,1.1927710843373494,93,1.1204819277108433,96,1.1566265060240963,119,1.4337349397590362,95,1.1445783132530121,null,0,0,null,{"$f":"cálculos2!O32","v":10},1,{"$f":"cálculos2!P32","v":4},1]
["Metropolitana","Ibiraçu",26,25,0.96153846153846156,11,0.42307692307692307,4,0.15384615384615385,27,1.0384615384615385,27,1.0384615384615385,27,1.0384615384615385,30,1.1538461538461537,31,1.1923076923076923,26,1,40,1.5384615384615385,25,0.96153846153846156,38,1.4615384615384615,31,1.1923076923076923,null,0,0,null,{"$f":"cálculos2!O33","v":10},1,{"$f":"cálculos2!P33","v":4},1]
["Sul","Ibitirama",38,36,0.94736842105263153,7,0.18421052631578946,5,0.13157894736842105,40,1.0526315789473684,35,0.92105263157894735,35,0.92105263157894735,31,0.81578947368421051,30,0.78947368421052633,36,0.94736842105263153,42,1.1052631578947369,43,1.131578947368421,49,1.2894736842105263,31,0.81578947368421051,null,2,5.2631578947368418E-2,null,{"$f":"cálculos2!O34","v":4},0.4,{"$f":"cálculos2!P34","v":1},0.25]
["Sul","Iconha",26,23,0.88461538461538458,15,0.57692307692307687,15,0.57692307692307687,27,1.0384615384615385,34,{"$f":"L35/C35","v":1.3076923076923077},33,{"$f":"N35/C35","v":1.2692307692307692},36,{"$f":"P35/C35","v":1.3846153846153846},38,{"$f":"R35/C35","v":1.4615384615384615},32,{"$f":"T35/C35","v":1.2307692307692308},32,{"$f":"V35/C35","v":1.2307692307692308},31,{"$f":"X35/C35","v":1.1923076923076923},32,{"$f":"Z35/C35","v":1.2307692307692308},36,{"$f":"AB35/C35","v":1.3846153846153846},null,1,{"$f":"AE35/C35","v":3.8461538461538464E-2},null,{"$f":"cálculos2!O35","v":10},1,{"$f":"cálculos2!P35","v":4},1]
["Sul","Irupi",32,34,1.0625,11,0.34375,9,0.28125,37,1.15625,65,2.03125,65,2.03125,57,1.78125,63,1.96875,55,1.71875,31,0.96875,39,1.21875,40,1.25,57,1.78125,null,1,3.125E-2,null,{"$f":"cálculos2!O36","v":10},1,{"$f":"cálculos2!P36","v":4},1]
["Metropolitana","Itaguaçu",36,28,0.77777777777777779,22,0.61111111111111116,12,0.33333333333333331,28,0.77777777777777779,25,0.69444444444444442,25,0.69444444444444442,41,1.1388888888888888,28,0.77777777777777779,29,0.80555555555555558,29,0.80555555555555558,30,0.83333333333333337,28,0.77777777777777779,40,1.1111111111111112,null,0,0,null,{"$f":"cálculos2!O37","v":2},0.2,{"$f":"cálculos2!P37","v":1},0.25]
["Sul","Itapemirim",140,141,1.0071428571428571,130,0.9285714285714286,103,0.73571428571428577,148,1.0571428571428572,138,0.98571428571428577,131,0.93571428571428572,126,0.9,125,0.8928571428571429,91,0.65,134,0.95714285714285718,151,1.0785714285714285,124,0.88571428571428568,129,0.92142857142857137,null,0,0,null,{"$f":"cálculos2!O38","v":5},0.5,{"$f":"cálculos2!P38","v":2},0.5]
["Metropolitana","Itarana",37,39,1.0540540540540539,35,0.94594594594594594,27,0.72972972972972971,38,1.027027027027027,31,0.83783783783783783,31,0.83783783783783783,41,1.1081081081081081,36,0.97297297297297303,33,0.89189189189189189,21,0.56756756756756754,27,0.72972972972972971,23,0.6216216216216216,39,1.0540540540540539,null,0,0,null,{"$f":"cálculos2!O39","v":4},0.4,{"$f":"cálculos2!P39","v":1},0.25]
["Sul","Iúna",71,59,0.83098591549295775,11,0.15492957746478872,7,9.8591549295774641E-2,63,0.88732394366197187,78,1.0985915492957747,78,1.0985915492957747,75,1.056338028169014,85,1.1971830985915493,102,1.4366197183098592,93,1.3098591549295775,96,1.352112676056338,95,1.3380281690140845,77,1.0845070422535212,null,0,0,null,{"$f":"cálculos2!O40","v":9},0.9,{"$f":"cálculos2!P40","v":4},1]
["Norte","Jaguaré",141,137,0.97163120567375882,118,0.83687943262411346,117,0.82978723404255317,130,0.92198581560283688,108,0.76595744680851063,106,0.75177304964539005,124,0.87943262411347523,116,0.82269503546099287,81,0.57446808510638303,92,0.65248226950354615,122,0.86524822695035464,96,0.68085106382978722,127,0.900709219858156,null,1,7.0921985815602835E-3,null,{"$f":"cálculos2!O41","v":2},0.2,{"$f":"cálculos2!P41","v":0},0]
["Sul","Jerônimo Monteiro",40,50,1.25,40,1,21,0.52500000000000002,51,1.2749999999999999,28,0.7,29,0.72499999999999998,26,0.65,28,0.7,19,0.47499999999999998,32,0.8,33,0.82499999999999996,35,0.875,27,0.67500000000000004,null,2,0.05,null,{"$f":"cálculos2!O42","v":1},0.1,{"$f":"cálculos2!P42","v":0},0]
["Metropolitana","João Neiva",38,34,0.89473684210526316,17,0.44736842105263158,12,0.31578947368421051,33,0.86842105263157898,33,0.86842105263157898,34,0.89473684210526316,35,0.92105263157894735,33,0.86842105263157898,35,0.92105263157894735,28,0.73684210526315785,20,0.52631578947368418,24,0.63157894736842102,38,1,null,0,0,null,{"$f":"cálculos2!O43","v":1},0.1,{"$f":"cálculos2!P43","v":0},0]
["Metropolitana","Laranja da Terra",25,26,1.04,25,1,16,0.64,28,1.1200000000000001,27,1.08,27,1.08,26,1.04,23,0.92,40,1.6,34,1.36,27,1.08,35,1.4,31,1.24,null,3,0.12,null,{"$f":"cálculos2!O44","v":9},0.9,{"$f":"cálculos2!P44","v":4},1]
["Central","Linhares",669,759,1.1345291479820627,573,0.8565022421524664,454,0.67862481315396117,761,1.1375186846038865,652,0.97458893871449925,623,0.93124065769805675,584,0.87294469357249627,626,0.93572496263079219,464,0.69357249626307926,561,0.83856502242152464,588,0.87892376681614348,584,0.87294469357249627,609,0.91031390134529144,null,4,5.9790732436472349E-3,null,{"$f":"cálculos2!O45","v":3},0.30000000000000004,{"$f":"cálculos2!P45","v":1},0.25]
["Central","Mantenópolis",38,40,1.0526315789473684,24,0.63157894736842102,19,0.5,39,1.0263157894736843,32,0.84210526315789469,30,0.78947368421052633,43,1.131578947368421,41,1.0789473684210527,35,0.92105263157894735,27,0.71052631578947367,36,0.94736842105263153,24,0.63157894736842102,41,1.0789473684210527,null,0,0,null,{"$f":"cálculos2!O46","v":4},0.4,{"$f":"cálculos2!P46","v":1},0.25]
["Sul","Marataízes",155,135,0.87096774193548387,121,0.78064516129032258,96,0.61935483870967745,143,0.92258064516129035,138,0.89032258064516134,141,0.9096774193548387,155,1,143,0.92258064516129035,70,0.45161290322580644,122,0.7870967741935484,120,0.77419354838709675,116,0.74838709677419357,154,0.99354838709677418,null,0,0,null,{"$f":"cálculos2!O47","v":3},0.30000000000000004,{"$f":"cálculos2!P47","v":1},0.25]
["Metropolitana","Marechal Floriano",44,35,0.79545454545454541,27,0.61363636363636365,19,0.43181818181818182,34,0.77272727272727271,44,1,38,0.86363636363636365,47,1.0681818181818181,42,0.95454545454545459,48,1.0909090909090908,32,0.72727272727272729,52,1.1818181818181819,37,0.84090909090909094,44,1,null,2,4.5454545454545456E-2,null,{"$f":"cálculos2!O48","v":6},0.60000000000000009,{"$f":"cálculos2!P48","v":3},0.75]
["Central","Marilândia",45,33,0.73333333333333328,20,0.44444444444444442,16,0.35555555555555557,36,0.8,36,0.8,37,0.82222222222222219,40,0.88888888888888884,34,0.75555555555555554,46,1.0222222222222221,35,0.77777777777777779,39,0.8666666666666667,41,0.91111111111111109,38,0.84444444444444444,null,7,0.15555555555555556,null,{"$f":"cálculos2!O49","v":1},0.1,{"$f":"cálculos2!P49","v":0},0]
["Sul","Mimoso do Sul",87,70,0.8045977011494253,58,0.66666666666666663,41,0.47126436781609193,74,0.85057471264367812,65,0.74712643678160917,67,0.77011494252873558,42,0.48275862068965519,49,0.56321839080459768,69,0.7931034482758621,54,0.62068965517241381,80,0.91954022988505746,52,0.5977011494252874,40,0.45977011494252873,null,1,1.1494252873563218E-2,null,{"$f":"cálculos2!O50","v":0},0,{"$f":"cálculos2!P50","v":0},0]
["Norte","Montanha",42,43,1.0238095238095237,27,0.6428571428571429,25,0.59523809523809523,42,1,60,1.4285714285714286,62,1.4761904761904763,71,1.6904761904761905,63,1.5,60,1.4285714285714286,61,1.4523809523809523,51,1.2142857142857142,61,1.4523809523809523,72,1.7142857142857142,null,0,0,null,{"$f":"cálculos2!O51","v":10},1,{"$f":"cálculos2!P51","v":4},1]
["Norte","Mucurici",20,12,0.6,12,0.6,11,0.55000000000000004,10,0.5,6,0.3,7,0.35,10,0.5,10,0.5,14,0.7,18,0.9,10,0.5,14,0.7,10,0.5,null,0,0,null,{"$f":"cálculos2!O52","v":0},0,{"$f":"cálculos2!P52","v":0},0]
["Sul","Muniz Freire",49,69,1.4081632653061225,41,0.83673469387755106,25,0.51020408163265307,71,1.4489795918367347,84,1.7142857142857142,83,1.6938775510204083,59,1.2040816326530612,69,1.4081632653061225,59,1.2040816326530612,57,1.1632653061224489,65,1.3265306122448979,103,2.1020408163265305,60,1.2244897959183674,null,0,0,null,{"$f":"cálculos2!O53","v":10},1,{"$f":"cálculos2!P53","v":4},1]
["Sul","Muqui",41,36,0.87804878048780488,27,0.65853658536585369,9,0.21951219512195122,36,0.87804878048780488,37,0.90243902439024393,36,0.87804878048780488,28,0.68292682926829273,33,0.80487804878048785,44,1.0731707317073171,37,0.90243902439024393,47,1.1463414634146341,31,0.75609756097560976,28,0.68292682926829273,null,3,7.3170731707317069E-2,null,{"$f":"cálculos2!O54","v":2},0.2,{"$f":"cálculos2!P54","v":1},0.25]
["Norte","Nova Venécia",190,174,0.91578947368421049,144,0.75789473684210529,139,0.73157894736842111,163,0.85789473684210527,183,0.9631578947368421,185,0.97368421052631582,175,0.92105263157894735,186,0.97894736842105268,161,0.84736842105263155,166,0.87368421052631584,191,1.0052631578947369,196,1.0315789473684212,177,0.93157894736842106,null,0,0,null,{"$f":"cálculos2!O55","v":6},0.60000000000000009,{"$f":"cálculos2!P55","v":3},0.75]
["Central","Pancas",56,39,0.6964285714285714,29,0.5178571428571429,23,0.4107142857142857,39,0.6964285714285714,58,1.0357142857142858,57,1.0178571428571428,51,0.9107142857142857,55,0.9821428571428571,57,1.0178571428571428,52,0.9285714285714286,64,1.1428571428571428,53,0.9464285714285714,52,0.9285714285714286,null,2,3.5714285714285712E-2,null,{"$f":"cálculos2!O56","v":6},0.60000000000000009,{"$f":"cálculos2!P56","v":3},0.75]
["Norte","Pedro Canário",77,70,0.90909090909090906,64,0.83116883116883122,62,0.80519480519480524,65,0.8441558441558441,102,1.3246753246753247,95,1.2337662337662338,86,1.1168831168831168,80,1.0389610389610389,66,0.8571428571428571,75,0.97402597402597402,90,1.1688311688311688,77,1,82,1.0649350649350648,null,0,0,null,{"$f":"cálculos2!O57","v":8},0.8,{"$f":"cálculos2!P57","v":4},1]
["Norte","Pinheiros",97,59,0.60824742268041232,56,0.57731958762886593,56,0.57731958762886593,58,0.59793814432989689,96,0.98969072164948457,92,0.94845360824742264,89,0.91752577319587625,97,1,72,0.74226804123711343,66,0.68041237113402064,81,0.83505154639175261,68,0.7010309278350515,94,0.96907216494845361,null,1,1.0309278350515464E-2,null,{"$f":"cálculos2!O58","v":3},0.30000000000000004,{"$f":"cálculos2!P58","v":1},0.25]
["Sul","Piúma",82,65,0.79268292682926833,59,0.71951219512195119,47,0.57317073170731703,56,0.68292682926829273,66,0.80487804878048785,66,0.80487804878048785,59,0.71951219512195119,64,0.78048780487804881,67,0.81707317073170727,76,0.92682926829268297,81,0.98780487804878048,76,0.92682926829268297,56,0.68292682926829273,null,7,8.5365853658536592E-2,null,{"$f":"cálculos2!O59","v":1},0.1,{"$f":"cálculos2!P59","v":1},0.25]
["Norte","Ponto Belo",14,13,0.9285714285714286,8,0.5714285714285714,8,0.5714285714285714,12,0.8571428571428571,15,1.0714285714285714,10,0.7142857142857143,25,1.7857142857142858,17,1.2142857142857142,18,1.2857142857142858,21,1.5,14,1,23,1.6428571428571428,24,1.7142857142857142,null,0,0,null,{"$f":"cálculos2!O60","v":8},0.8,{"$f":"cálculos2!P60","v":3},0.75]
["Sul","Presidente Kennedy",59,54,0.9152542372881356,46,0.77966101694915257,30,0.50847457627118642,54,0.9152542372881356,50,0.84745762711864403,49,0.83050847457627119,44,0.74576271186440679,50,0.84745762711864403,43,0.72881355932203384,57,0.96610169491525422,71,1.2033898305084745,55,0.93220338983050843,44,0.74576271186440679,null,0,0,null,{"$f":"cálculos2!O61","v":3},0.30000000000000004,{"$f":"cálculos2!P61","v":1},0.25]
["Central","Rio Bananal",78,66,0.84615384615384615,49,0.62820512820512819,46,0.58974358974358976,63,0.80769230769230771,79,1.0128205128205128,79,1.0128205128205128,75,0.96153846153846156,68,0.87179487179487181,58,0.74358974358974361,67,0.85897435897435892,68,0.87179487179487181,105,1.3461538461538463,72,0.92307692307692313,null,3,3.8461538461538464E-2,null,{"$f":"cálculos2!O62","v":5},0.5,{"$f":"cálculos2!P62","v":3},0.75]
["Sul","Rio Novo do Sul",31,30,0.967741935483871,20,0.64516129032258063,11,0.35483870967741937,30,0.967741935483871,23,0.74193548387096775,23,0.74193548387096775,28,0.90322580645161288,27,0.87096774193548387,21,0.67741935483870963,28,0.90322580645161288,37,1.1935483870967742,25,0.80645161290322576,31,1,null,0,0,null,{"$f":"cálculos2!O63","v":3},0.30000000000000004,{"$f":"cálculos2!P63","v":1},0.25]
["Metropolitana","Santa Leopoldina",31,24,0.77419354838709675,21,0.67741935483870963,18,0.58064516129032262,24,0.77419354838709675,28,0.90322580645161288,28,0.90322580645161288,21,0.67741935483870963,21,0.67741935483870963,31,1,25,0.80645161290322576,24,0.77419354838709675,27,0.87096774193548387,21,0.67741935483870963,null,0,0,null,{"$f":"cálculos2!O64","v":1},0.1,{"$f":"cálculos2!P64","v":0},0]
["Metropolitana","Santa Maria de Jetibá",171,150,0.8771929824561403,147,0.85964912280701755,130,0.76023391812865493,156,0.91228070175438591,176,1.0292397660818713,180,1.0526315789473684,172,1.0058479532163742,174,1.0175438596491229,149,0.87134502923976609,172,1.0058479532163742,171,1,182,1.064327485380117,172,1.0058479532163742,null,1,5.8479532163742687E-3,null,{"$f":"cálculos2!O65","v":9},0.9,{"$f":"cálculos2!P65","v":4},1]
["Metropolitana","Santa Teresa",74,71,0.95945945945945943,65,0.8783783783783784,48,0.64864864864864868,72,0.97297297297297303,62,0.83783783783783783,62,0.83783783783783783,59,0.79729729729729726,55,0.7432432432432432,63,0.85135135135135132,65,0.8783783783783784,77,1.0405405405405406,67,0.90540540540540537,59,0.79729729729729726,null,1,1.3513513513513514E-2,null,{"$f":"cálculos2!O66","v":2},0.2,{"$f":"cálculos2!P66","v":1},0.25]
["Central","São Domingos do Norte",29,30,1.0344827586206897,23,0.7931034482758621,18,0.62068965517241381,30,1.0344827586206897,36,{"$f":"L67/C67","v":1.2413793103448276},35,{"$f":"N67/C67","v":1.2068965517241379},35,{"$f":"P67/C67","v":1.2068965517241379},43,{"$f":"R67/C67","v":1.4827586206896552},20,{"$f":"T67/C67","v":0.68965517241379315},24,{"$f":"V67/C67","v":0.82758620689655171},33,{"$f":"X67/C67","v":1.1379310344827587},28,{"$f":"Z67/C67","v":0.96551724137931039},37,{"$f":"AB67/C67","v":1.2758620689655173},null,0,{"$f":"AE67/C67","v":0},null,{"$f":"cálculos2!O67","v":8},0.8,{"$f":"cálculos2!P67","v":4},1]
["Central","São Gabriel da Palha",114,129,{"$f":"D68/C68","v":1.131578947368421},71,{"$f":"F68/C68","v":0.6228070175438597},50,{"$f":"H68/C68","v":0.43859649122807015},138,{"$f":"J68/C68","v":1.2105263157894737},92,0.80701754385964908,90,0.78947368421052633,127,1.1140350877192982,104,0.91228070175438591,101,0.88596491228070173,82,0.7192982456140351,78,0.68421052631578949,95,0.83333333333333337,128,1.1228070175438596,null,0,0,null,{"$f":"cálculos2!O68","v":3},{"$f":"AH68*0.1","v":0.30000000000000004},{"$f":"cálculos2!P68","v":1},{"$f":"AJ68*0.25","v":0.25}]
["Sul","São José do Calçado",19,27,1.4210526315789473,10,0.52631578947368418,3,0.15789473684210525,35,1.8421052631578947,22,1.1578947368421053,22,1.1578947368421053,27,1.4210526315789473,26,1.368421052631579,17,0.89473684210526316,15,0.78947368421052633,26,1.368421052631579,11,0.57894736842105265,29,1.5263157894736843,null,0,0,null,{"$f":"cálculos2!O69","v":7},0.70000000000000007,{"$f":"cálculos2!P69","v":4},1]
["Norte","São Mateus",487,409,0.83983572895277203,390,0.80082135523613962,387,0.79466119096509236,385,0.79055441478439425,439,0.90143737166324434,428,0.87885010266940455,488,1.0020533880903491,457,0.9383983572895277,371,0.76180698151950721,393,0.80698151950718688,418,0.85831622176591371,337,0.69199178644763859,499,1.0246406570841888,null,3,6.1601642710472282E-3,null,{"$f":"cálculos2!O70","v":2},0.2,{"$f":"cálculos2!P70","v":1},0.25]
["Central","São Roque do Canaã",32,23,0.71875,12,0.375,9,0.28125,23,0.71875,33,1.03125,33,1.03125,34,1.0625,29,0.90625,40,1.25,28,0.875,38,1.1875,27,0.84375,33,1.03125,null,0,0,null,{"$f":"cálculos2!O71","v":6},0.60000000000000009,{"$f":"cálculos2!P71","v":4},1]
["Metropolitana","Serra",1860,1804,0.96989247311827953,1548,0.83225806451612905,1190,0.63978494623655913,1777,0.95537634408602146,1749,0.94032258064516128,1754,0.94301075268817203,1708,0.91827956989247317,1736,0.93333333333333335,1321,0.71021505376344085,1586,0.85268817204301073,1681,0.90376344086021509,1489,0.80053763440860215,1754,0.94301075268817203,null,32,1.7204301075268817E-2,null,{"$f":"cálculos2!O72","v":2},0.2,{"$f":"cálculos2!P72","v":0},0]
["Central","Sooretama",96,66,0.6875,53,0.55208333333333337,39,0.40625,66,0.6875,97,1.0104166666666667,95,0.98958333333333337,107,1.1145833333333333,110,1.1458333333333333,87,0.90625,93,0.96875,97,1.0104166666666667,83,0.86458333333333337,109,1.1354166666666667,null,0,0,null,{"$f":"cálculos2!O73","v":7},0.70000000000000007,{"$f":"cálculos2!P73","v":4},1]
["Sul","Vargem Alta",73,69,0.9452054794520548,59,0.80821917808219179,39,0.53424657534246578,68,0.93150684931506844,57,0.78082191780821919,58,0.79452054794520544,58,0.79452054794520544,51,0.69863013698630139,81,1.1095890410958904,60,0.82191780821917804,73,1,62,0.84931506849315064,58,0.79452054794520544,null,1,1.3698630136986301E-2,null,{"$f":"cálculos2!O74","v":3},0.30000000000000004,{"$f":"cálculos2!P74","v":1},0.25]
["Metropolitana","Venda Nova do Imigrante",84,81,0.9642857142857143,69,0.8214285714285714,66,0.7857142857142857,81,0.9642857142857143,94,1.1190476190476191,93,1.1071428571428572,68,0.80952380952380953,71,0.84523809523809523,85,1.0119047619047619,89,1.0595238095238095,85,1.0119047619047619,114,1.3571428571428572,71,0.84523809523809523,null,5,5.9523809523809521E-2,null,{"$f":"cálculos2!O75","v":7},0.70000000000000007,{"$f":"cálculos2!P75","v":3},0.75]
["Metropolitana","Viana",216,218,1.0092592592592593,101,0.46759259259259262,80,0.37037037037037035,211,0.97685185185185186,212,0.98148148148148151,207,0.95833333333333337,219,1.0138888888888888,200,0.92592592592592593,175,0.81018518518518523,229,1.0601851851851851,220,1.0185185185185186,239,1.1064814814814814,219,1.0138888888888888,null,2,9.2592592592592587E-3,null,{"$f":"cálculos2!O76","v":8},0.8,{"$f":"cálculos2!P76","v":4},1]
["Norte","Vila Pavão",38,26,0.68421052631578949,21,0.55263157894736847,17,0.44736842105263158,28,0.73684210526315785,31,0.81578947368421051,29,0.76315789473684215,28,0.73684210526315785,29,0.76315789473684215,28,0.73684210526315785,30,0.78947368421052633,28,0.73684210526315785,41,1.0789473684210527,29,0.76315789473684215,null,0,0,null,{"$f":"cálculos2!O77","v":1},0.1,{"$f":"cálculos2!P77","v":0},0]
["Central","Vila Valério",66,58,0.87878787878787878,40,0.60606060606060608,35,0.53030303030303028,54,0.81818181818181823,64,0.96969696969696972,64,0.96969696969696972,67,1.0151515151515151,63,0.95454545454545459,63,0.95454545454545459,50,0.75757575757575757,49,0.74242424242424243,54,0.81818181818181823,67,1.0151515151515151,null,0,0,null,{"$f":"cálculos2!O78","v":6},0.60000000000000009,{"$f":"cálculos2!P78","v":3},0.75]
["Metropolitana","Vila Velha",1434,1233,0.85983263598326365,935,0.65202231520223153,600,0.41841004184100417,1239,0.86401673640167365,1078,0.75174337517433754,1044,0.72803347280334729,1174,0.81868898186889816,1193,0.8319386331938633,912,0.63598326359832635,1116,0.77824267782426781,1204,0.83960948396094837,983,0.68549511854951184,1202,0.8382147838214784,null,42,2.9288702928870293E-2,null,{"$f":"cálculos2!O79","v":0},0,{"$f":"cálculos2!P79","v":0},0]
["Metropolitana","Vitória",889,881,0.99100112485939262,735,0.82677165354330706,592,0.6659167604049494,878,0.98762654668166483,998,1.1226096737907763,985,1.1079865016872892,998,1.1226096737907763,981,1.1034870641169854,647,0.72778402699662548,929,1.0449943757030371,1017,1.1439820022497187,1014,1.140607424071991,1027,1.1552305961754781,null,53,5.9617547806524188E-2,null,{"$f":"cálculos2!O80","v":9},0.9,{"$f":"cálculos2!P80","v":4},1]
[]
[null,"Total Norte",{"$f":"SUMIF($A$3:$A$80,\"Norte\",C$3:C$80)","v":1533},{"$f":"SUMIF($A$3:$A$80,\"Norte\",D$3:D$80)","v":1288},{"$f":"D82/C82","v":0.84018264840182644},{"$f":"SUMIF($A$3:$A$80,\"Norte\",F$3:F$80)","v":1079},{"$f":"F82/C82","v":0.70384866275277236},{"$f":"SUMIF($A$3:$A$80,\"Norte\",H$3:H$80)","v":1030},{"$f":"H82/C82","v":0.6718851924331376},{"$f":"SUMIF($A$3:$A$80,\"Norte\",J$3:J$80)","v":1231},{"$f":"J82/C82","v":0.80300065231572082},{"$f":"SUMIF($A$3:$A$80,\"Norte\",L$3:L$80)","v":1389},{"$f":"L82/C82","v":0.90606653620352251},{"$f":"SUMIF($A$3:$A$80,\"Norte\",N$3:N$80)","v":1364},{"$f":"N82/C82","v":0.88975864318330067},{"$f":"SUMIF($A$3:$A$80,\"Norte\",P$3:P$80)","v":1469},{"$f":"P82/C82","v":0.95825179386823223},{"$f":"SUMIF($A$3:$A$80,\"Norte\",R$3:R$80)","v":1420},{"$f":"R82/C82","v":0.92628832354859747},{"$f":"SUMIF($A$3:$A$80,\"Norte\",T$3:T$80)","v":1254},{"$f":"T82/C82","v":0.81800391389432481},{"$f":"SUMIF($A$3:$A$80,\"Norte\",V$3:V$80)","v":1290},{"$f":"V82/C82","v":0.84148727984344418},{"$f":"SUMIF($A$3:$A$80,\"Norte\",X$3:X$80)","v":1394},{"$f":"X82/C82","v":0.90932811480756681},{"$f":"SUMIF($A$3:$A$80,\"Norte\",Z$3:Z$80)","v":1281},{"$f":"Z82/C82","v":0.83561643835616439},{"$f":"SUMIF($A$3:$A$80,\"Norte\",AB$3:AB$80)","v":1497},{"$f":"AB82/C82","v":0.97651663405088063},null,{"$f":"SUMIF($A$3:$A$80,\"Norte\",AE$3:AE$80)","v":6},{"$f":"AE82/C82","v":3.9138943248532287E-3},null,{"$f":"cálculos2!O82","v":2},{"$f":"AH82*0.1","v":0.2},{"$f":"cálculos2!P82","v":1},0.25]
[null,"Total Central",{"$f":"SUMIF($A$3:$A$80,\"Central\",C$3:C$80)","v":1791},{"$f":"SUMIF($A$3:$A$80,\"Central\",D$3:D$80)","v":1820},{"$f":"D83/C83","v":1.0161920714684534},{"$f":"SUMIF($A$3:$A$80,\"Central\",F$3:F$80)","v":1226},{"$f":"F83/C83","v":0.68453378001116694},{"$f":"SUMIF($A$3:$A$80,\"Central\",H$3:H$80)","v":967},{"$f":"H83/C83","v":0.53992183137911776},{"$f":"SUMIF($A$3:$A$80,\"Central\",J$3:J$80)","v":1844},{"$f":"J83/C83","v":1.0295924064768285},{"$f":"SUMIF($A$3:$A$80,\"Central\",L$3:L$80)","v":1699},{"$f":"L83/C83","v":0.94863204913456167},{"$f":"SUMIF($A$3:$A$80,\"Central\",N$3:N$80)","v":1663},{"$f":"N83/C83","v":0.92853154662199888},{"$f":"SUMIF($A$3:$A$80,\"Central\",P$3:P$80)","v":1656},{"$f":"P83/C83","v":0.92462311557788945},{"$f":"SUMIF($A$3:$A$80,\"Central\",R$3:R$80)","v":1687},{"$f":"R83/C83","v":0.94193188163037411},{"$f":"SUMIF($A$3:$A$80,\"Central\",T$3:T$80)","v":1476},{"$f":"T83/C83","v":0.82412060301507539},{"$f":"SUMIF($A$3:$A$80,\"Central\",V$3:V$80)","v":1474},{"$f":"V83/C83","v":0.8230039084310441},{"$f":"SUMIF($A$3:$A$80,\"Central\",X$3:X$80)","v":1571},{"$f":"X83/C83","v":0.87716359575656055},{"$f":"SUMIF($A$3:$A$80,\"Central\",Z$3:Z$80)","v":1553},{"$f":"Z83/C83","v":0.86711334450027922},{"$f":"SUMIF($A$3:$A$80,\"Central\",AB$3:AB$80)","v":1700},{"$f":"AB83/C83","v":0.94919039642657732},null,{"$f":"SUMIF($A$3:$A$80,\"Central\",AE$3:AE$80)","v":28},{"$f":"AE83/C83","v":1.5633724176437745E-2},null,{"$f":"cálculos2!O83","v":2},{"$f":"AH83*0.1","v":0.2},{"$f":"cálculos2!P83","v":0},0]
[null,"Total Metropolitana",{"$f":"SUMIF($A$3:$A$80,\"Metropolitana\",C$3:C$80)","v":7467},{"$f":"SUMIF($A$3:$A$80,\"Metropolitana\",D$3:D$80)","v":6884},{"$f":"D84/C84","v":0.92192312843176649},{"$f":"SUMIF($A$3:$A$80,\"Metropolitana\",F$3:F$80)","v":5108},{"$f":"F84/C84","v":0.68407660372304813},{"$f":"SUMIF($A$3:$A$80,\"Metropolitana\",H$3:H$80)","v":3863},0.51734297576001076,{"$f":"SUMIF($A$3:$A$80,\"Metropolitana\",J$3:J$80)","v":6843},{"$f":"J84/C84","v":0.91643230212936921},{"$f":"SUMIF($A$3:$A$80,\"Metropolitana\",L$3:L$80)","v":6767},{"$f":"L84/C84","v":0.90625418508102318},{"$f":"SUMIF($A$3:$A$80,\"Metropolitana\",N$3:N$80)","v":6672},{"$f":"N84/C84","v":0.89353153877059055},{"$f":"SUMIF($A$3:$A$80,\"Metropolitana\",P$3:P$80)","v":6814},{"$f":"P84/C84","v":0.91254854693986875},{"$f":"SUMIF($A$3:$A$80,\"Metropolitana\",R$3:R$80)","v":6820},{"$f":"R84/C84","v":0.91335208249631716},{"$f":"SUMIF($A$3:$A$80,\"Metropolitana\",T$3:T$80)","v":5526},{"$f":"T84/C84","v":0.74005624748895138},{"$f":"SUMIF($A$3:$A$80,\"Metropolitana\",V$3:V$80)","v":6501},{"$f":"V84/C84","v":0.870630775411812},{"$f":"SUMIF($A$3:$A$80,\"Metropolitana\",X$3:X$80)","v":6991},{"$f":"X84/C84","v":0.93625284585509572},{"$f":"SUMIF($A$3:$A$80,\"Metropolitana\",Z$3:Z$80)","v":6311},{"$f":"Z84/C84","v":0.84518548279094685},{"$f":"SUMIF($A$3:$A$80,\"Metropolitana\",AB$3:AB$80)","v":6972},{"$f":"AB84/C84","v":0.93370831659300924},null,{"$f":"SUMIF($A$3:$A$80,\"Metropolitana\",AE$3:AE$80)","v":185},{"$f":"AE84/C84","v":2.4775679657158163E-2},null,{"$f":"cálculos2!O84","v":2},0.2,{"$f":"cálculos2!P84","v":0},0]
[null,"Total Sul",{"$f":"SUMIF($A$3:$A$80,\"sul\",C$3:C$80)","v":2024},{"$f":"SUMIF($A$3:$A$80,\"Sul\",D$3:D$80)","v":1922},{"$f":"D85/C85","v":0.94960474308300391},{"$f":"SUMIF($A$3:$A$80,\"Sul\",F$3:F$80)","v":1406},{"$f":"F85/C85","v":0.69466403162055335},{"$f":"SUMIF($A$3:$A$80,\"Sul\",H$3:H$80)","v":902},0.44565217391304346,{"$f":"SUMIF($A$3:$A$80,\"Sul\",J$3:J$80)","v":2000},{"$f":"J85/C85","v":0.98814229249011853},{"$f":"SUMIF($A$3:$A$80,\"Sul\",L$3:L$80)","v":1977},{"$f":"L85/C85","v":0.97677865612648218},{"$f":"SUMIF($A$3:$A$80,\"Sul\",N$3:N$80)","v":1955},{"$f":"N85/C85","v":0.96590909090909094},{"$f":"SUMIF($A$3:$A$80,\"Sul\",P$3:P$80)","v":1891},{"$f":"P85/C85","v":0.93428853754940711},{"$f":"SUMIF($A$3:$A$80,\"Sul\",R$3:R$80)","v":1923},{"$f":"R85/C85","v":0.95009881422924902},{"$f":"SUMIF($A$3:$A$80,\"Sul\",T$3:T$80)","v":1716},{"$f":"T85/C85","v":0.84782608695652173},{"$f":"SUMIF($A$3:$A$80,\"Sul\",V$3:V$80)","v":1863},{"$f":"V85/C85","v":0.92045454545454541},{"$f":"SUMIF($A$3:$A$80,\"Sul\",X$3:X$80)","v":2058},{"$f":"X85/C85","v":1.016798418972332},{"$f":"SUMIF($A$3:$A$80,\"Sul\",Z$3:Z$80)","v":1910},{"$f":"Z85/C85","v":0.94367588932806323},{"$f":"SUMIF($A$3:$A$80,\"Sul\",AB$3:AB$80)","v":1924},{"$f":"AB85/C85","v":0.95059288537549402},null,{"$f":"SUMIF($A$3:$A$80,\"Sul\",AE$3:AE$80)","v":45},{"$f":"AE85/C85","v":2.2233201581027668E-2},null,{"$f":"cálculos2!O85","v":6},0.60000000000000009,{"$f":"cálculos2!P85","v":3},0.75]
[null,"Total Espírito Santo",{"$f":"SUM(C3:C80)","v":12815},{"$f":"SUM(D82:D85)","v":11914},{"$f":"D86/C86","v":0.92969176746000781},{"$f":"SUM(F82:F85)","v":8819},{"$f":"F86/C86","v":0.68817791650409676},{"$f":"SUM(H82:H85)","v":6762},0.5276628950448693,{"$f":"SUM(J82:J85)","v":11918},{"$f":"J86/C86","v":0.9300039016777214},{"$f":"SUM(L82:L85)","v":11832},{"$f":"L86/C86","v":0.92329301599687863},{"$f":"SUM(N82:N85)","v":11654},{"$f":"N86/C86","v":0.90940304330862276},{"$f":"SUM(P82:P85)","v":11830},{"$f":"P86/C86","v":0.92313694888802189},{"$f":"SUM(R82:R85)","v":11850},{"$f":"R86/C86","v":0.92469761997658995},{"$f":"SUM(T82:T85)","v":9972},{"$f":"T86/C86","v":0.77815060476004683},{"$f":"SUM(V82:V85)","v":11128},{"$f":"V86/C86","v":0.86835739367928211},{"$f":"SUM(X82:X85)","v":12014},{"$f":"X86/C86","v":0.9374951229028482},{"$f":"SUM(Z82:Z85)","v":11055},{"$f":"Z86/C86","v":0.86266094420600858},{"$f":"SUM(AB82:AB85)","v":12093},{"$f":"AB86/C86","v":0.94365977370269216},null,{"$f":"SUM(AE82:AE85)","v":264},{"$f":"AE86/C86","v":2.0600858369098713E-2},null,{"$f":"cálculos2!O86","v":2},0.2,{"$f":"cálculos2!P86","v":0},0]
[null,null,null,{"$f":"COUNTIF(E3:E80,\">=0,95\")","v":31},null,{"$f":"COUNTIF(G3:G80,\">=0,95\")","v":3},null,{"$f":"COUNTIF(I3:I80,\">=0,95\")","v":0},null,{"$f":"COUNTIF(K3:K80,\">=0,9\")","v":41},null,{"$f":"COUNTIF(M3:M80,\">=0,95\")","v":36},null,{"$f":"COUNTIF(O3:O80,\">=0,95\")","v":29},null,{"$f":"COUNTIF(Q3:Q80,\">=0,95\")","v":35},null,{"$f":"COUNTIF(S3:S80,\">=0,95\")","v":32},null,{"$f":"COUNTIF(U3:U80,\">=0,95\")","v":28},null,{"$f":"COUNTIF(W3:W80,\">=0,95\")","v":31},null,{"$f":"COUNTIF(Y3:Y80,\">=0,95\")","v":43},null,{"$f":"COUNTIF(AA3:AA80,\">=0,95\")","v":30},null,{"$f":"COUNTIF(AC3:AC80,\">=0,9\")","v":49},null,null,{"$f":"COUNTIF(AF3:AF80,\">=0,9\")","v":0}]
[null,"HOMOGENEIDADE ENTRE MUNICÍPIOS",null,{"$f":"D87/78","v":0.39743589743589741},null,{"$f":"F87/78","v":3.8461538461538464E-2},null,{"$f":"H87/78","v":0},null,{"$f":"J87/78","v":0.52564102564102566},null,{"$f":"L87/78","v":0.46153846153846156},null,{"$f":"N87/78","v":0.37179487179487181},null,{"$f":"P87/78","v":0.44871794871794873},null,{"$f":"R87/78","v":0.41025641025641024},null,{"$f":"T87/78","v":0.35897435897435898},null,{"$f":"V87/78","v":0.39743589743589741},null,{"$f":"X87/78","v":0.55128205128205132},null,{"$f":"Z87/78","v":0.38461538461538464},null,{"$f":"AB87/78","v":0.62820512820512819},null,null,{"$f":"AE87/78","v":0}]
[]
[]
[" Fonte: Vacina e Confia, em 15 de abril de 2026.**<https://vacinaeconfia.saude.es.gov.br/>"]
["**Dados referente às doses aplicadas no período de janeiro a março de  2026",null,null,null,null,null," ",null," ",null," "]
["Cobertura Calculada por município de residência do vacinado"]
["1 População estimada extraída do MS/SVS/DASIS - SINASC/DASIS/SVS/MS 2025 referente ao período de janeiro de 2026 a fevereiro e março de 2025."]
["Sinasc, atualizado em 06/04/2026"]
["Método de Cálculo Simples"]
["Homogeineidade: O cálculo da Homogeineidade entre vacinas é feito de acordo com a pactuação estabelecida no Plano Plurianual (PPA) vigente no período 2024-2027."]
[]
[]
["Observações referente a distribuição de imunobiológicos que podem afetar a cobertura vacinal: "]
[null,null,null,null,null,null,null,null,null,null,null,null,null,null,null,null,null," "]
["1. Vacinas que foram recebidas parcialmente pelo estado no mês de Março/2026, sendo distribuídos em quantidades reduzidas às regionais e municípios:",null,null,null,null,null,null,null,null,null,null,null,null," "]
["IMUNOGLOBULINA ANTIRRÁBICA HUMANA; SORO ANTIRRÁBICO HUMANO"]
["2. Vacinas indisponíveis no mês de março/2026, não sendo possível a distribuição às regionais e municípios: "]
["IMUNOGLOBULINA HUMANA ANTIVARICELA (ZOSTER) – 125UI "]
["3. Vacinas enviadas por Pautas aguardando abastecimento do estoque estadual;"]
["VACINA COVID-19 PFIZER PEDIÁTRICA MENOR QUE 5 ANOS; VACINA COVID-19 PFIZER PEDIÁTRICA, VACINA COVID-19 PFIZER MAIORES QUE 12 ANOS, VACINA VÍRUS SINCICIAL RESPIRATÓRIO A E B - VSR \n"]
[]
["Fonte: Informes situacionais de distribuição de imunobiológicos em https://saude.es.gov.br/GrupodeArquivos/informes-situacionais-de-distribuicao-de-imunobiologicos"]

{"sheet":"CV REF 1A e 4A - procedência","index":4,"n_rows":110,"n_cols":24,"rows_kept":110,"cut":false,"hidden":false,"merged":[[0,4,0,7],[0,8,0,15],[0,16,0,19]]}
[null,null,null,null,"D2",null,null,null,"REFORÇOS 1 ANO",null,null,null,null,null,null,null,"REFORÇOS 4 ANOS"]
["Regional ","Município","¹População \n1 ano ","²População \n4 anos ","DOSES APLICADAS D2 TRÍPLICE VIRAL","COBERTURA D2 TRÍPLICE VIRAL","DOSES APLICADAS D2 VARICELA","COBERTURA D2 VARICELA","DOSES APLICADAS REF PNEUMO ","COBERTURA REF PNEUMO","DOSES APLICADAS REF MENINGO","COBERTURA REF MENINGO","DOSES APLICADAS REF POLIO","COBERTURA REF POLIO","DOSES APLICADAS R1 TRÍPLICE BACTERIANA","COBERTURA R1 TRÍPLICE BACTERIANA","DOSES APLICADAS REF FEBRE AMARELA","COBERTURA REF FEBRE AMARELA","DOSES APLICADAS R2 TRÍPLICE BACTERIANA","COBERTURA R2 TRÍPLICE BACTERIANA"]
["Metropolitana","Afonso Cláudio",88,104,87,{"$f":"E3/C3","v":0.98863636363636365},92,{"$f":"G3/D3","v":0.88461538461538458},83,{"$f":"I3/C3","v":0.94318181818181823},88,{"$f":"K3/C3","v":1},90,{"$f":"M3/C3","v":1.0227272727272727},86,{"$f":"O3/C3","v":0.97727272727272729},92,{"$f":"Q3/D3","v":0.88461538461538458},94,{"$f":"S3/D3","v":0.90384615384615385}]
["Norte","Água Doce do Norte",38,37.75,47,1.236842105263158,30,0.79470198675496684,29,0.76315789473684215,33,0.86842105263157898,35,0.92105263157894735,45,1.1842105263157894,44,1.1655629139072847,48,1.2715231788079471]
["Central","Águia Branca",52,32.25,26,0.5,37,1.1472868217054264,34,0.65384615384615385,37,0.71153846153846156,24,0.46153846153846156,25,0.48076923076923078,35,1.0852713178294573,34,1.054263565891473]
["Sul","Alegre",75,93,65,0.8666666666666667,88,0.94623655913978499,75,1,75,1,70,0.93333333333333335,66,0.88,67,0.72043010752688175,59,0.63440860215053763]
["Sul","Alfredo Chaves",32,34.5,29,0.90625,33,0.95652173913043481,27,0.84375,38,1.1875,26,0.8125,24,0.75,26,0.75362318840579712,32,0.92753623188405798]
["Central","Alto Rio Novo",24,25.5,20,0.83333333333333337,21,0.82352941176470584,19,0.79166666666666663,21,0.875,17,0.70833333333333337,17,0.70833333333333337,19,0.74509803921568629,20,0.78431372549019607]
["Sul","Anchieta",103,97.5,123,1.1941747572815533,117,1.2,87,0.84466019417475724,95,0.92233009708737868,104,1.0097087378640777,100,0.970873786407767,90,0.92307692307692313,108,1.1076923076923078]
["Sul","Apiacá",11,22.5,18,1.6363636363636365,20,0.88888888888888884,22,2,22,2,18,1.6363636363636365,16,1.4545454545454546,2,8.8888888888888892E-2,17,0.75555555555555554]
["Metropolitana","Aracruz",387,355,313,0.80878552971576223,279,0.78591549295774643,316,0.81653746770025837,347,0.89664082687338498,285,0.73643410852713176,266,0.6873385012919897,246,0.6929577464788732,283,0.79718309859154934]
["Sul","Atilio Vivacqua",47,34.5,49,1.0425531914893618,38,1.1014492753623188,49,1.0425531914893618,36,0.76595744680851063,44,0.93617021276595747,43,0.91489361702127658,31,0.89855072463768115,30,0.86956521739130432,null,null,null," "]
["Central","Baixo Guandu",89,106.75,79,0.88764044943820219,91,0.85245901639344257,103,1.1573033707865168,97,1.0898876404494382,80,0.898876404494382,76,0.8539325842696629,82,0.76814988290398123,89,0.83372365339578458]
["Norte","Barra de São Francisco",158,147.25,115,0.72784810126582278,83,0.56366723259762308,137,0.86708860759493667,137,0.86708860759493667,115,0.72784810126582278,111,0.70253164556962022,75,0.50933786078098475,77,0.52292020373514436]
["Norte","Boa Esperança",55,50,48,0.87272727272727268,36,0.72,53,0.96363636363636362,59,1.0727272727272728,50,0.90909090909090906,36,0.65454545454545454,20,0.4,27,0.54]
["Sul","Bom Jesus do Norte",5,36.5,16,3.2,28,0.76712328767123283,22,4.4000000000000004,20,4,20,4,19,3.8,25,0.68493150684931503,31,0.84931506849315064]
["Metropolitana","Brejetuba",53,42.25,72,1.3584905660377358,67,1.5857988165680474,72,1.3584905660377358,75,1.4150943396226414,65,1.2264150943396226,66,1.2452830188679245,69,1.6331360946745561,63,1.4911242603550297]
["Sul","Cachoeiro de Itapemirim",578,604.25,504,0.87197231833910038,455,0.75299958626396357,549,0.94982698961937717,486,0.84083044982698962,490,0.84775086505190311,445,0.76989619377162632,410,0.67852709971038483,478,0.79106330161357052]
["Metropolitana","Cariacica",1202,1251.25,954,0.79367720465890179,1225,0.97902097902097907,1147,0.95424292845257908,1184,0.98502495840266224,954,0.79367720465890179,972,0.80865224625623955,1021,0.81598401598401593,1230,0.98301698301698304]
["Sul","Castelo",114,99.75,89,0.7807017543859649,97,0.97243107769423553,108,0.94736842105263153,113,0.99122807017543857,90,0.78947368421052633,90,0.78947368421052633,73,0.73182957393483705,95,0.95238095238095233]
["Central","Colatina",366,390.25,308,0.84153005464480879,264,0.67648942985265859,300,0.81967213114754101,309,0.84426229508196726,271,0.7404371584699454,255,0.69672131147540983,253,0.64830237027546445,254,0.65086483023702757]
["Norte","Conceição da Barra",99,97.75,109,1.101010101010101,120,1.2276214833759591,90,0.90909090909090906,94,0.9494949494949495,97,0.97979797979797978,91,0.91919191919191923,78,0.79795396419437337,113,1.156010230179028]
["Metropolitana","Conceição do Castelo",41,36,39,0.95121951219512191,34,0.94444444444444442,36,0.87804878048780488,35,0.85365853658536583,37,0.90243902439024393,39,0.95121951219512191,32,0.88888888888888884,30,0.83333333333333337]
["Sul","Divino de São Lourenço",12,17,12,1,16,0.94117647058823528,15,1.25,15,1.25,12,1,12,1,16,0.94117647058823528,17,1]
["Metropolitana","Domingos Martins",111,102.75,88,0.7927927927927928,61,0.59367396593673971,91,0.81981981981981977,98,0.88288288288288286,88,0.7927927927927928,90,0.81081081081081086,70,0.68126520681265201,69,0.67153284671532842]
["Sul","Dores do Rio Preto",25,23,30,1.2,19,0.82608695652173914,32,1.28,31,1.24,28,1.1200000000000001,28,1.1200000000000001,18,0.78260869565217395,17,0.73913043478260865]
["Norte","Ecoporanga",77,70.75,65,0.8441558441558441,55,0.77738515901060068,59,0.76623376623376627,61,0.79220779220779225,67,0.87012987012987009,70,0.90909090909090906,54,0.76325088339222613,54,0.76325088339222613]
["Metropolitana","Fundão",66,54.5,62,0.93939393939393945,48,0.88073394495412849,68,1.0303030303030303,68,1.0303030303030303,54,0.81818181818181823,55,0.83333333333333337,57,1.0458715596330275,63,1.1559633027522935]
["Central","Governador Lindenberg",37,35.5,24,0.64864864864864868,31,0.87323943661971826,23,0.6216216216216216,23,0.6216216216216216,24,0.64864864864864868,23,0.6216216216216216,29,0.81690140845070425,27,0.76056338028169013]
["Sul","Guaçuí",79,101.75,77,0.97468354430379744,78,0.7665847665847666,81,1.0253164556962024,86,1.0886075949367089,76,0.96202531645569622,78,0.98734177215189878,64,0.62899262899262898,66,0.64864864864864868]
["Metropolitana","Guarapari",471,389.25,268,0.56900212314225052,284,0.72960822093770072,385,0.81740976645435248,362,0.76857749469214443,341,0.72399150743099783,331,0.70276008492568998,226,0.58060372511239566,320,0.82209377007064866]
["Metropolitana","Ibatiba",83,88.5,112,1.3493975903614457,122,1.3785310734463276,105,1.2650602409638554,106,1.2771084337349397,87,1.0481927710843373,90,1.0843373493975903,75,0.84745762711864403,89,1.0056497175141244]
["Metropolitana","Ibiraçu",26,40,44,1.6923076923076923,28,0.7,24,0.92307692307692313,27,1.0384615384615385,40,1.5384615384615385,41,1.5769230769230769,25,0.625,26,0.65]
["Sul","Ibitirama",38,37,44,1.1578947368421053,40,1.0810810810810811,37,0.97368421052631582,38,1,44,1.1578947368421053,46,1.2105263157894737,27,0.72972972972972971,35,0.94594594594594594]
["Sul","Iconha",26,39,30,{"$f":"E35/C35","v":1.1538461538461537},25,{"$f":"G35/D35","v":0.64102564102564108},27,{"$f":"I35/C35","v":1.0384615384615385},26,{"$f":"K35/C35","v":1},27,{"$f":"M35/C35","v":1.0384615384615385},27,{"$f":"O35/C35","v":1.0384615384615385},23,{"$f":"Q35/D35","v":0.58974358974358976},26,{"$f":"S35/D35","v":0.66666666666666663}]
["Sul","Irupi",32,50,38,1.1875,49,0.98,38,1.1875,33,1.03125,32,1,31,0.96875,44,0.88,43,0.86]
["Metropolitana","Itaguaçu",36,38.5,30,0.83333333333333337,28,0.72727272727272729,25,0.69444444444444442,30,0.83333333333333337,24,0.66666666666666663,24,0.66666666666666663,28,0.72727272727272729,24,0.62337662337662336]
["Sul","Itapemirim",140,139,121,0.86428571428571432,101,0.72661870503597126,137,0.97857142857142854,147,1.05,117,0.83571428571428574,122,0.87142857142857144,83,0.59712230215827333,112,0.80575539568345322]
["Metropolitana","Itarana",37,32,19,0.51351351351351349,24,0.75,23,0.6216216216216216,27,0.72972972972972971,21,0.56756756756756754,19,0.51351351351351349,27,0.84375,27,0.84375]
["Sul","Iúna",71,102.5,97,1.3661971830985915,87,0.84878048780487803,96,1.352112676056338,98,1.380281690140845,87,1.2253521126760563,88,1.2394366197183098,58,0.56585365853658531,83,0.80975609756097566]
["Norte","Jaguaré",141,111.25,97,0.68794326241134751,124,1.1146067415730336,113,0.8014184397163121,128,0.90780141843971629,91,0.64539007092198586,89,0.63120567375886527,84,0.75505617977528094,112,1.0067415730337079]
["Sul","Jerônimo Monteiro",40,39.25,32,0.8,28,0.7133757961783439,28,0.7,22,0.55000000000000004,37,0.92500000000000004,38,0.95,26,0.66242038216560506,27,0.68789808917197448]
["Metropolitana","João Neiva",38,35.5,29,0.76315789473684215,23,0.647887323943662,26,0.68421052631578949,24,0.63157894736842102,28,0.73684210526315785,28,0.73684210526315785,26,0.73239436619718312,27,0.76056338028169013]
["Metropolitana","Laranja da Terra",25,33.25,37,1.48,29,0.8721804511278195,25,1,26,1.04,34,1.36,34,1.36,22,0.66165413533834583,28,0.84210526315789469]
["Central","Linhares",669,613,516,0.77130044843049328,444,0.72430668841761825,568,0.8490284005979073,576,0.86098654708520184,522,0.78026905829596416,488,0.72944693572496266,315,0.51386623164763456,434,0.70799347471451879]
["Central","Mantenópolis",38,41.5,29,0.76315789473684215,71,1.7108433734939759,37,0.97368421052631582,37,0.97368421052631582,26,0.68421052631578949,28,0.73684210526315785,48,1.1566265060240963,39,0.93975903614457834]
["Sul","Marataízes",155,144.75,122,0.7870967741935484,93,0.6424870466321243,127,0.8193548387096774,123,0.79354838709677422,113,0.7290322580645161,111,0.71612903225806457,56,0.38687392055267705,87,0.60103626943005184]
["Metropolitana","Marechal Floriano ",44,59,37,0.84090909090909094,58,0.98305084745762716,54,1.2272727272727273,59,1.3409090909090908,26,0.59090909090909094,28,0.63636363636363635,54,0.9152542372881356,47,0.79661016949152541]
["Central","Marilândia",45,41,38,0.84444444444444444,27,0.65853658536585369,30,0.66666666666666663,35,0.77777777777777779,33,0.73333333333333328,33,0.73333333333333328,27,0.65853658536585369,31,0.75609756097560976]
["Sul","Mimoso do Sul",87,69,56,0.64367816091954022,42,0.60869565217391308,78,0.89655172413793105,71,0.81609195402298851,53,0.60919540229885061,51,0.58620689655172409,38,0.55072463768115942,49,0.71014492753623193]
["Norte","Montanha",42,69.5,59,1.4047619047619047,68,0.97841726618705038,65,1.5476190476190477,56,1.3333333333333333,62,1.4761904761904763,61,1.4523809523809523,72,1.0359712230215827,71,1.0215827338129497]
["Norte","Mucurici",20,24.25,18,0.9,15,0.61855670103092786,12,0.6,10,0.5,20,1,21,1.05,16,0.65979381443298968,16,0.65979381443298968]
["Sul","Muniz Freire",49,68.75,55,1.1224489795918366,115,1.6727272727272726,62,1.2653061224489797,62,1.2653061224489797,56,1.1428571428571428,57,1.1632653061224489,47,0.6836363636363636,46,0.66909090909090907]
["Sul","Muqui",41,38,35,0.85365853658536583,46,1.2105263157894737,34,0.82926829268292679,39,0.95121951219512191,33,0.80487804878048785,34,0.82926829268292679,38,1,43,1.131578947368421]
["Norte","Nova Venécia",190,164,178,0.93684210526315792,182,1.1097560975609757,154,0.81052631578947365,170,0.89473684210526316,158,0.83157894736842108,161,0.84736842105263155,121,0.73780487804878048,165,1.0060975609756098]
["Central","Pancas",56,61,52,0.9285714285714286,45,0.73770491803278693,60,1.0714285714285714,64,1.1428571428571428,48,0.8571428571428571,50,0.8928571428571429,35,0.57377049180327866,45,0.73770491803278693]
["Norte","Pedro Canário",77,84.5,81,1.051948051948052,109,1.2899408284023668,92,1.1948051948051948,100,1.2987012987012987,73,0.94805194805194803,73,0.94805194805194803,81,0.95857988165680474,115,1.3609467455621302]
["Norte","Pinheiros",97,95.75,63,0.64948453608247425,72,0.75195822454308092,63,0.64948453608247425,65,0.67010309278350511,65,0.67010309278350511,63,0.64948453608247425,50,0.52219321148825071,71,0.74151436031331597]
["Sul","Piúma",82,77.75,76,0.92682926829268297,82,1.0546623794212218,77,0.93902439024390238,52,0.63414634146341464,74,0.90243902439024393,75,0.91463414634146345,60,0.77170418006430863,87,1.1189710610932475]
["Norte","Ponto Belo",14,21.25,23,1.6428571428571428,23,1.0823529411764705,16,1.1428571428571428,18,1.2857142857142858,13,0.9285714285714286,18,1.2857142857142858,23,1.0823529411764705,21,0.9882352941176471]
["Sul","Presidente Kennedy",59,59.75,53,0.89830508474576276,58,0.97071129707112969,72,1.2203389830508475,74,1.2542372881355932,49,0.83050847457627119,46,0.77966101694915257,58,0.97071129707112969,54,0.90376569037656906]
["Central","Rio Bananal",78,57.25,68,0.87179487179487181,123,2.1484716157205241,64,0.82051282051282048,68,0.87179487179487181,59,0.75641025641025639,57,0.73076923076923073,57,0.99563318777292575,61,1.0655021834061136]
["Sul","Rio Novo do Sul",31,36,27,0.87096774193548387,41,1.1388888888888888,40,1.2903225806451613,38,1.2258064516129032,26,0.83870967741935487,24,0.77419354838709675,32,0.88888888888888884,45,1.25]
["Metropolitana","Santa Leopoldina",31,38.75,22,0.70967741935483875,19,0.49032258064516127,19,0.61290322580645162,22,0.70967741935483875,23,0.74193548387096775,25,0.80645161290322576,17,0.43870967741935485,23,0.59354838709677415]
["Metropolitana","Santa Maria de Jetibá",171,171.25,178,1.0409356725146199,176,1.0277372262773723,160,0.93567251461988299,166,0.9707602339181286,154,0.90058479532163738,161,0.94152046783625731,117,0.68321167883211675,145,0.84671532846715325]
["Metropolitana","Santa Teresa",74,65,64,0.86486486486486491,50,0.76923076923076927,64,0.86486486486486491,73,0.98648648648648651,58,0.78378378378378377,57,0.77027027027027029,44,0.67692307692307696,53,0.81538461538461537]
["Central","São Domingos do Norte",29,29.25,22,{"$f":"E67/C67","v":0.75862068965517238},26,{"$f":"G67/D67","v":0.88888888888888884},24,{"$f":"I67/C67","v":0.82758620689655171},27,{"$f":"K67/C67","v":0.93103448275862066},23,{"$f":"M67/C67","v":0.7931034482758621},22,{"$f":"O67/C67","v":0.75862068965517238},24,{"$f":"Q67/D67","v":0.82051282051282048},25,{"$f":"S67/D67","v":0.85470085470085466}]
["Central","São Gabriel da Palha",114,106.5,80,0.70175438596491224,75,0.70422535211267601,89,0.7807017543859649,86,0.75438596491228072,79,0.69298245614035092,82,0.7192982456140351,50,0.46948356807511737,63,0.59154929577464788]
["Sul","São José do Calçado",19,37.5,15,0.78947368421052633,30,0.8,25,1.3157894736842106,25,1.3157894736842106,13,0.68421052631578949,13,0.68421052631578949,32,0.85333333333333339,32,0.85333333333333339]
["Norte","São Mateus",487,441.5,348,0.71457905544147848,387,0.8765571913929785,434,0.89117043121149897,419,0.86036960985626287,380,0.78028747433264889,350,0.71868583162217659,332,0.75198187995469989,396,0.89694224235560593]
["Central","São Roque do Canaã",32,25,28,0.875,30,1.2,31,0.96875,36,1.125,26,0.8125,25,0.78125,29,1.1599999999999999,29,1.1599999999999999]
["Metropolitana","Serra",1860,1887.5,1464,0.7870967741935484,1368,0.72476821192052976,1600,0.86021505376344087,1571,0.84462365591397848,1505,0.80913978494623651,1471,0.79086021505376347,1271,0.67337748344370862,1585,0.83973509933774837]
["Central","Sooretama",96,103.75,90,0.9375,84,0.80963855421686748,104,1.0833333333333333,91,0.94791666666666663,87,0.90625,91,0.94791666666666663,86,0.82891566265060246,86,0.82891566265060246]
["Sul","Vargem Alta",73,69.5,65,0.8904109589041096,76,1.0935251798561152,72,0.98630136986301364,73,1,52,0.71232876712328763,52,0.71232876712328763,27,0.38848920863309355,67,0.96402877697841727]
["Metropolitana","Venda Nova do Imigrante",84,82,100,1.1904761904761905,100,1.2195121951219512,79,0.94047619047619047,76,0.90476190476190477,86,1.0238095238095237,87,1.0357142857142858,46,0.56097560975609762,57,0.69512195121951215,null," "]
["Metropolitana","Viana",216,266,259,1.1990740740740742,207,0.77819548872180455,236,1.0925925925925926,232,1.0740740740740742,242,1.1203703703703705,229,1.0601851851851851,180,0.67669172932330823,212,0.79699248120300747]
["Norte","Vila Pavão",38,31.75,45,1.1842105263157894,27,0.85039370078740162,29,0.76315789473684215,31,0.81578947368421051,30,0.78947368421052633,29,0.76315789473684215,23,0.72440944881889768,23,0.72440944881889768]
["Central","Vila Valério",66,42.25,50,0.75757575757575757,58,1.3727810650887573,38,0.5757575757575758,46,0.69696969696969702,39,0.59090909090909094,44,0.66666666666666663,44,1.0414201183431953,44,1.0414201183431953]
["Metropolitana","Vila Velha",1434,1418.75,990,0.69037656903765687,879,0.61955947136563871,1210,0.84379358437935847,1219,0.85006973500697347,1032,0.71966527196652719,964,0.6722454672245467,840,0.5920704845814978,965,0.68017621145374452]
["Metropolitana","Vitória",889,958.25,847,0.952755905511811,574,0.59900860944429946,908,1.0213723284589427,792,0.89088863892013503,792,0.89088863892013503,668,0.75140607424071992,583,0.60840073049830423,742,0.7743282024523872]
[]
[null,"Total Norte",{"$f":"SUMIF($A$3:$A$80,\"Norte\",C$3:C$80)","v":1533},{"$f":"SUMIF($A$3:$A$80,\"Norte\",D$3:D$80)","v":1447.25},{"$f":"SUMIF($A$3:$A$80,\"Norte\",E$3:E$80)","v":1296},{"$f":"E82/C82","v":0.84540117416829741},{"$f":"SUMIF($A$3:$A$80,\"Norte\",G$3:G$80)","v":1331},{"$f":"G82/D82","v":0.91967524615650376},{"$f":"SUMIF($A$3:$A$80,\"Norte\",I$3:I$80)","v":1346},{"$f":"I82/C82","v":0.87801696020874098},{"$f":"SUMIF($A$3:$A$80,\"Norte\",K$3:K$80)","v":1381},{"$f":"K82/C82","v":0.90084801043705154},{"$f":"SUMIF($A$3:$A$80,\"Norte\",M$3:M$80)","v":1256},{"$f":"M82/C82","v":0.81930854533594255},{"$f":"SUMIF($A$3:$A$80,\"Norte\",O$3:O$80)","v":1218},{"$f":"O82/C82","v":0.79452054794520544},{"$f":"SUMIF($A$3:$A$80,\"Norte\",Q$3:Q$80)","v":1073},{"$f":"Q82/D82","v":0.74140611504577647},{"$f":"SUMIF($A$3:$A$80,\"Norte\",S$3:S$80)","v":1309},{"$f":"S82/D82","v":0.90447400241837972}]
[null,"Total Central",{"$f":"SUMIF($A$3:$A$80,\"Central\",C$3:C$80)","v":1791},{"$f":"SUMIF($A$3:$A$80,\"Central\",D$3:D$80)","v":1710.75},{"$f":"SUMIF($A$3:$A$80,\"Central\",E$3:E$80)","v":1430},{"$f":"E83/C83","v":0.79843662758235623},{"$f":"SUMIF($A$3:$A$80,\"Central\",G$3:G$80)","v":1427},{"$f":"G83/D83","v":0.83413707438258078},{"$f":"SUMIF($A$3:$A$80,\"Central\",I$3:I$80)","v":1524},{"$f":"I83/C83","v":0.85092127303182574},{"$f":"SUMIF($A$3:$A$80,\"Central\",K$3:K$80)","v":1553},{"$f":"K83/C83","v":0.86711334450027922},{"$f":"SUMIF($A$3:$A$80,\"Central\",M$3:M$80)","v":1358},{"$f":"M83/C83","v":0.75823562255723065},{"$f":"SUMIF($A$3:$A$80,\"Central\",O$3:O$80)","v":1316},{"$f":"O83/C83","v":0.73478503629257397},{"$f":"SUMIF($A$3:$A$80,\"Central\",Q$3:Q$80)","v":1133},{"$f":"Q83/D83","v":0.66228262457986264},{"$f":"SUMIF($A$3:$A$80,\"Central\",S$3:S$80)","v":1281},{"$f":"S83/D83","v":0.74879438842612889}]
[null,"Total Metropolitana",{"$f":"SUMIF($A$3:$A$80,\"Metropolitana\",C$3:C$80)","v":7467},{"$f":"SUMIF($A$3:$A$80,\"Metropolitana\",D$3:D$80)","v":7549.25},{"$f":"SUMIF($A$3:$A$80,\"Metropolitana\",E$3:E$80)","v":6115},{"$f":"E84/C84","v":0.8189366546136333},{"$f":"SUMIF($A$3:$A$80,\"Metropolitana\",G$3:G$80)","v":5775},{"$f":"G84/D84","v":0.76497665330993148},{"$f":"SUMIF($A$3:$A$80,\"Metropolitana\",I$3:I$80)","v":6756},{"$f":"I84/C84","v":0.90478103656086784},{"$f":"SUMIF($A$3:$A$80,\"Metropolitana\",K$3:K$80)","v":6707},{"$f":"K84/C84","v":0.89821882951653942},{"$f":"SUMIF($A$3:$A$80,\"Metropolitana\",M$3:M$80)","v":6066},{"$f":"M84/C84","v":0.81237444756930499},{"$f":"SUMIF($A$3:$A$80,\"Metropolitana\",O$3:O$80)","v":5831},{"$f":"O84/C84","v":0.780902638275077},{"$f":"SUMIF($A$3:$A$80,\"Metropolitana\",Q$3:Q$80)","v":5168},{"$f":"Q84/D84","v":0.68457131503129454},{"$f":"SUMIF($A$3:$A$80,\"Metropolitana\",S$3:S$80)","v":6202},{"$f":"S84/D84","v":0.82153856343345366}]
[null,"Total Sul",{"$f":"SUMIF($A$3:$A$80,\"sul\",C$3:C$80)","v":2024},{"$f":"SUMIF($A$3:$A$80,\"sul\",D$3:D$80)","v":2172},{"$f":"SUMIF($A$3:$A$80,\"sul\",E$3:E$80)","v":1878},{"$f":"E85/C85","v":0.92786561264822132},{"$f":"SUMIF($A$3:$A$80,\"sul\",G$3:G$80)","v":1902},{"$f":"G85/D85","v":0.87569060773480667},{"$f":"SUMIF($A$3:$A$80,\"Sul\",I$3:I$80)","v":2017},{"$f":"I85/C85","v":0.99654150197628455},{"$f":"SUMIF($A$3:$A$80,\"Sul\",K$3:K$80)","v":1938},{"$f":"K85/C85","v":0.95750988142292492},{"$f":"SUMIF($A$3:$A$80,\"Sul\",M$3:M$80)","v":1791},{"$f":"M85/C85","v":0.88488142292490124},{"$f":"SUMIF($A$3:$A$80,\"Sul\",O$3:O$80)","v":1736},{"$f":"O85/C85","v":0.85770750988142297},{"$f":"SUMIF($A$3:$A$80,\"Sul\",Q$3:Q$80)","v":1471},{"$f":"Q85/D85","v":0.67725598526703501},{"$f":"SUMIF($A$3:$A$80,\"Sul\",S$3:S$80)","v":1786},{"$f":"S85/D85","v":0.82228360957642721}]
[null,"Total Espírito Santo",{"$f":"SUM(C3:C80)","v":12815},{"$f":"SUM(D3:D80)","v":12879.25},{"$f":"SUM(E3:E80)","v":10719},{"$f":"E86/C86","v":0.83644166991806479},{"$f":"SUM(G3:G80)","v":10435},{"$f":"G86/D86","v":0.8102179862957859},{"$f":"SUM(I3:I80)","v":11643},{"$f":"I86/C86","v":0.90854467420991025},{"$f":"SUM(K3:K80)","v":11579},{"$f":"K86/C86","v":0.90355052672649239},{"$f":"SUM(M3:M80)","v":10471},{"$f":"M86/C86","v":0.8170893484198205},{"$f":"SUM(O3:O80)","v":10101},{"$f":"O86/C86","v":0.78821693328131093},{"$f":"SUM(Q3:Q80)","v":8845},{"$f":"Q86/D86","v":0.68676359260050079},{"$f":"SUM(S3:S80)","v":10578},{"$f":"S86/D86","v":0.82132111730108504}]
[]
[]
[]
[]
[" Fonte: Vacina e Confia, em 15 de abril de 2026.**<https://vacinaeconfia.saude.es.gov.br/>",null,null,null,null," "]
["**Dados referente às doses aplicadasem janeiro a março de 2026",null,null,null," ",null," ",null," "]
["Cobertura Calculada por município de procedência/ocorrência da vacinação"]
["1 População estimada extraída do MS/SVS/DASIS - SINASC/DASIS/SVS/MS 2025 referente ao período de janeiro de 2026 e Fevereiro e março de 2025."]
["Sinasc, atualizado em 06/04/2026"]
["²População estimada extraída do Censo IBGE 2022."]
["Método de Cálculo Simples"]
["Homogeineidade: O cálculo da Homogeineidade entre vacinas é feito de acordo com a pactuação estabelecida no Plano Plurianual (PPA) vigente no período 2024-2027."]
[]
[]
["Observações referente a distribuição de imunobiológicos que podem afetar a cobertura vacinal: "]
[null,null,null,null,null,null,null,null,null,null,null,null,null,null,null,null,null," "]
["1. Vacinas que foram recebidas parcialmente pelo estado no mês de Março/2026, sendo distribuídos em quantidades reduzidas às regionais e municípios:",null,null,null,null,null,null,null,null,null,null,null,null," "]
["IMUNOGLOBULINA ANTIRRÁBICA HUMANA; SORO ANTIRRÁBICO HUMANO"]
["2. Vacinas indisponíveis no mês de março/2026, não sendo possível a distribuição às regionais e municípios: "]
["IMUNOGLOBULINA HUMANA ANTIVARICELA (ZOSTER) – 125UI "]
["3. Vacinas enviadas por Pautas aguardando abastecimento do estoque estadual;"]
["VACINA COVID-19 PFIZER PEDIÁTRICA MENOR QUE 5 ANOS; VACINA COVID-19 PFIZER PEDIÁTRICA, VACINA COVID-19 PFIZER MAIORES QUE 12 ANOS, VACINA VÍRUS SINCICIAL RESPIRATÓRIO A E B - VSR \n"]
[]
["Fonte: Informes situacionais de distribuição de imunobiológicos em https://saude.es.gov.br/GrupodeArquivos/informes-situacionais-de-distribuicao-de-imunobiologicos"]

{"sheet":"CV REF 1A e 4A - residência","index":5,"n_rows":109,"n_cols":20,"rows_kept":109,"cut":false,"hidden":false,"merged":[[0,4,0,7],[0,8,0,15],[0,16,0,19],[89,0,89,9]]}
[null,null,null,null,"D2",null,null,null,"REFORÇOS 1 ANO",null,null,null,null,null,null,null,"REFORÇOS 4 ANOS"]
["Regional ","Município","¹População \n1 ano proporcional ","²População \n4 anos proporcional ","DOSES APLICADAS D2 TRÍPLICE VIRAL","COBERTURA D2 TRÍPLICE VIRAL","DOSES APLICADAS D2 VARICELA","COBERTURA D2 VARICELA","DOSES APLICADAS REF PNEUMO ","COBERTURA REF PNEUMO","DOSES APLICADAS REF MENINGO","COBERTURA REF MENINGO","DOSES APLICADAS REF POLIO","COBERTURA REF POLIO","DOSES APLICADAS R1 TRÍPLICE BACTERIANA","COBERTURA R1 TRÍPLICE BACTERIANA","DOSES APLICADAS REF FEBRE AMARELA","COBERTURA REF FEBRE AMARELA","DOSES APLICADAS R2 TRÍPLICE BACTERIANA","COBERTURA R2 TRÍPLICE BACTERIANA"]
["Metropolitana","Afonso Cláudio",88,104,88,{"$f":"E3/C3","v":1},101,{"$f":"G3/D3","v":0.97115384615384615},82,{"$f":"I3/C3","v":0.93181818181818177},87,{"$f":"K3/C3","v":0.98863636363636365},86,{"$f":"M3/C3","v":0.97727272727272729},86,{"$f":"O3/C3","v":0.97727272727272729},100,{"$f":"Q3/D3","v":0.96153846153846156},103,{"$f":"S3/D3","v":0.99038461538461542}]
["Norte","Água Doce do Norte",38,37.75,44,1.1578947368421053,28,0.74172185430463577,24,0.63157894736842102,27,0.71052631578947367,35,0.92105263157894735,44,1.1578947368421053,41,1.0860927152317881,43,1.1390728476821192]
["Central","Águia Branca",52,32.25,29,0.55769230769230771,31,0.96124031007751942,34,0.65384615384615385,37,0.71153846153846156,28,0.53846153846153844,29,0.55769230769230771,29,0.89922480620155043,30,0.93023255813953487]
["Sul","Alegre",75,93,66,0.88,99,1.064516129032258,71,0.94666666666666666,72,0.96,67,0.89333333333333331,67,0.89333333333333331,78,0.83870967741935487,70,0.75268817204301075]
["Sul","Alfredo Chaves",32,34.5,27,0.84375,29,0.84057971014492749,31,0.96875,34,1.0625,25,0.78125,23,0.71875,21,0.60869565217391308,26,0.75362318840579712]
["Central","Alto Rio Novo",24,25.5,17,0.70833333333333337,21,0.82352941176470584,19,0.79166666666666663,21,0.875,17,0.70833333333333337,17,0.70833333333333337,17,0.66666666666666663,20,0.78431372549019607]
["Sul","Anchieta",103,97.5,123,1.1941747572815533,125,1.2820512820512822,92,0.89320388349514568,94,0.91262135922330101,108,1.0485436893203883,105,1.0194174757281553,98,1.0051282051282051,116,1.1897435897435897]
["Sul","Apiacá",11,22.5,17,1.5454545454545454,14,0.62222222222222223,19,1.7272727272727273,19,1.7272727272727273,17,1.5454545454545454,16,1.4545454545454546,2,8.8888888888888892E-2,13,0.57777777777777772]
["Metropolitana","Aracruz",387,355,313,0.80878552971576223,264,0.74366197183098592,306,0.79069767441860461,333,0.86046511627906974,288,0.7441860465116279,278,0.71834625322997414,240,0.676056338028169,277,0.78028169014084503]
["Sul","Atilio Vivacqua",47,34.5,54,1.1489361702127661,44,1.2753623188405796,52,1.1063829787234043,40,0.85106382978723405,49,1.0425531914893618,48,1.0212765957446808,36,1.0434782608695652,33,0.95652173913043481]
["Central","Baixo Guandu",89,106.75,76,0.8539325842696629,87,0.81498829039812648,89,1,88,0.9887640449438202,73,0.8202247191011236,73,0.8202247191011236,76,0.71194379391100704,80,0.74941451990632324]
["Norte","Barra de São Francisco",158,147.25,114,0.72151898734177211,89,0.60441426146010191,133,0.84177215189873422,134,0.84810126582278478,114,0.72151898734177211,111,0.70253164556962022,81,0.55008488964346347,86,0.58404074702886244]
["Norte","Boa Esperança",55,50,53,0.96363636363636362,37,0.74,49,0.89090909090909087,53,0.96363636363636362,55,1,42,0.76363636363636367,19,0.38,28,0.56000000000000005]
["Sul","Bom Jesus do Norte",5,36.5,15,3,22,0.60273972602739723,20,4,18,3.6,18,3.6,17,3.4,20,0.54794520547945202,22,0.60273972602739723]
["Metropolitana","Brejetuba",53,42.25,62,1.1698113207547169,57,1.349112426035503,68,1.2830188679245282,71,1.3396226415094339,58,1.0943396226415094,58,1.0943396226415094,58,1.3727810650887573,55,1.3017751479289941]
["Sul","Cachoeiro de Itapemirim",578,604.25,486,0.84083044982698962,470,0.77782374844848989,524,0.90657439446366783,478,0.82698961937716264,470,0.81314878892733566,466,0.80622837370242217,411,0.68018204385601988,489,0.80926768721555653]
["Metropolitana","Cariacica",1202,1251.25,915,0.76123128119800332,1164,0.93026973026973026,1126,0.93677204658901825,1113,0.92595673876871876,911,0.75790349417637271,929,0.77287853577371046,986,0.78801198801198802,1195,0.95504495504495501]
["Sul","Castelo",114,99.75,84,0.73684210526315785,100,1.0025062656641603,103,0.90350877192982459,106,0.92982456140350878,82,0.7192982456140351,82,0.7192982456140351,74,0.74185463659147866,99,0.99248120300751874]
["Central","Colatina",366,390.25,312,0.85245901639344257,252,0.64573991031390132,286,0.78142076502732238,306,0.83606557377049184,276,0.75409836065573765,280,0.76502732240437155,240,0.61499039077514417,241,0.61755285073670729]
["Norte","Conceição da Barra",99,97.75,110,1.1111111111111112,127,1.29923273657289,94,0.9494949494949495,96,0.96969696969696972,97,0.97979797979797978,93,0.93939393939393945,86,0.87979539641943738,123,1.2583120204603579]
["Metropolitana","Conceição do Castelo",41,36,39,0.95121951219512191,32,0.88888888888888884,36,0.87804878048780488,33,0.80487804878048785,39,0.95121951219512191,41,1,29,0.80555555555555558,28,0.77777777777777779]
["Sul","Divino de São Lourenço",12,17,13,1.0833333333333333,16,0.94117647058823528,14,1.1666666666666667,14,1.1666666666666667,12,1,13,1.0833333333333333,16,0.94117647058823528,16,0.94117647058823528]
["Metropolitana","Domingos Martins",111,102.75,91,0.81981981981981977,64,0.62287104622871048,90,0.81081081081081086,89,0.80180180180180183,91,0.81981981981981977,92,0.8288288288288288,73,0.71046228710462289,74,0.72019464720194648]
["Sul","Dores do Rio Preto",25,23,24,0.96,8,0.34782608695652173,31,1.24,30,1.2,22,0.88,22,0.88,7,0.30434782608695654,8,0.34782608695652173]
["Norte","Ecoporanga",77,70.75,65,0.8441558441558441,49,0.69257950530035339,70,0.90909090909090906,71,0.92207792207792205,66,0.8571428571428571,69,0.89610389610389607,50,0.70671378091872794,51,0.72084805653710249]
["Metropolitana","Fundão",66,54.5,58,0.87878787878787878,38,0.69724770642201839,62,0.93939393939393945,63,0.95454545454545459,46,0.69696969696969702,50,0.75757575757575757,43,0.78899082568807344,45,0.82568807339449546]
["Central","Governador Lindenberg",37,35.5,23,0.6216216216216216,24,0.676056338028169,24,0.64864864864864868,22,0.59459459459459463,23,0.6216216216216216,21,0.56756756756756754,23,0.647887323943662,22,0.61971830985915488]
["Sul","Guaçuí",79,101.75,79,1,80,0.78624078624078619,83,1.0506329113924051,86,1.0886075949367089,79,1,81,1.0253164556962024,64,0.62899262899262898,67,0.65847665847665848]
["Metropolitana","Guarapari",471,389.25,263,0.55838641188959659,261,0.67052023121387283,382,0.81104033970276013,366,0.77707006369426757,327,0.69426751592356684,330,0.70063694267515919,214,0.54977520873474628,294,0.75529865125240847]
["Metropolitana","Ibatiba",83,88.5,101,1.2168674698795181,125,1.4124293785310735,97,1.1686746987951808,98,1.1807228915662651,78,0.93975903614457834,80,0.96385542168674698,75,0.84745762711864403,84,0.94915254237288138]
["Metropolitana","Ibiraçu",26,40,42,1.6153846153846154,30,0.75,23,0.88461538461538458,25,0.96153846153846156,36,1.3846153846153846,37,1.4230769230769231,28,0.7,27,0.67500000000000004]
["Sul","Ibitirama",38,37,47,1.236842105263158,38,1.027027027027027,44,1.1578947368421053,44,1.1578947368421053,47,1.236842105263158,50,1.3157894736842106,24,0.64864864864864868,34,0.91891891891891897]
["Sul","Iconha",26,39,34,{"$f":"E35/C35","v":1.3076923076923077},24,{"$f":"G35/D35","v":0.61538461538461542},26,{"$f":"I35/C35","v":1},25,{"$f":"K35/C35","v":0.96153846153846156},32,{"$f":"M35/C35","v":1.2307692307692308},32,{"$f":"O35/C35","v":1.2307692307692308},24,{"$f":"Q35/D35","v":0.61538461538461542},25,{"$f":"S35/D35","v":0.64102564102564108}]
["Sul","Irupi",32,50,40,1.25,45,0.9,38,1.1875,33,1.03125,30,0.9375,31,0.96875,41,0.82,42,0.84]
["Metropolitana","Itaguaçu",36,38.5,28,0.77777777777777779,26,0.67532467532467533,27,0.75,31,0.86111111111111116,23,0.63888888888888884,23,0.63888888888888884,25,0.64935064935064934,23,0.59740259740259738]
["Sul","Itapemirim",140,139,123,0.87857142857142856,97,0.69784172661870503,136,0.97142857142857142,143,1.0214285714285714,119,0.85,125,0.8928571428571429,81,0.58273381294964033,104,0.74820143884892087]
["Metropolitana","Itarana",37,32,24,0.64864864864864868,18,0.5625,30,0.81081081081081086,29,0.78378378378378377,26,0.70270270270270274,24,0.64864864864864868,23,0.71875,23,0.71875]
["Sul","Iúna",71,102.5,96,1.352112676056338,85,0.82926829268292679,93,1.3098591549295775,96,1.352112676056338,87,1.2253521126760563,86,1.2112676056338028,55,0.53658536585365857,78,0.76097560975609757]
["Norte","Jaguaré",141,111.25,94,0.66666666666666663,125,1.1235955056179776,126,0.8936170212765957,131,0.92907801418439717,87,0.61702127659574468,84,0.5957446808510638,81,0.72808988764044946,109,0.97977528089887644]
["Sul","Jerônimo Monteiro",40,39.25,31,0.77500000000000002,27,0.68789808917197448,29,0.72499999999999998,22,0.55000000000000004,36,0.9,37,0.92500000000000004,24,0.61146496815286622,27,0.68789808917197448]
["Metropolitana","João Neiva",38,35.5,26,0.68421052631578949,18,0.50704225352112675,25,0.65789473684210531,21,0.55263157894736847,26,0.68421052631578949,27,0.71052631578947367,22,0.61971830985915488,24,0.676056338028169]
["Metropolitana","Laranja da Terra",25,33.25,38,1.52,31,0.93233082706766912,30,1.2,28,1.1200000000000001,36,1.44,36,1.44,24,0.72180451127819545,29,0.8721804511278195]
["Central","Linhares",669,613,513,0.76681614349775784,432,0.70473083197389885,556,0.83109118086696565,552,0.82511210762331844,517,0.77279521674140506,528,0.78923766816143492,319,0.52039151712887444,421,0.68678629690048942]
["Central","Mantenópolis",38,41.5,30,0.78947368421052633,61,1.4698795180722892,35,0.92105263157894735,35,0.92105263157894735,26,0.68421052631578949,28,0.73684210526315785,39,0.93975903614457834,32,0.77108433734939763]
["Sul","Marataízes",155,144.75,119,0.76774193548387093,87,0.60103626943005184,119,0.76774193548387093,118,0.76129032258064511,113,0.7290322580645161,115,0.74193548387096775,60,0.41450777202072536,84,0.5803108808290155]
["Metropolitana","Marechal Floriano",44,59,36,0.81818181818181823,48,0.81355932203389836,54,1.2272727272727273,55,1.25,33,0.75,36,0.81818181818181823,48,0.81355932203389836,41,0.69491525423728817]
["Central","Marilândia",45,41,37,0.82222222222222219,28,0.68292682926829273,34,0.75555555555555554,36,0.8,32,0.71111111111111114,32,0.71111111111111114,28,0.68292682926829273,28,0.68292682926829273]
["Sul","Mimoso do Sul",87,69,55,0.63218390804597702,47,0.6811594202898551,81,0.93103448275862066,74,0.85057471264367812,55,0.63218390804597702,53,0.60919540229885061,44,0.6376811594202898,58,0.84057971014492749]
["Norte","Montanha",42,69.5,57,1.3571428571428572,76,1.0935251798561152,52,1.2380952380952381,52,1.2380952380952381,55,1.3095238095238095,56,1.3333333333333333,79,1.1366906474820144,80,1.1510791366906474]
["Norte","Mucurici",20,24.25,17,0.85,14,0.57731958762886593,12,0.6,10,0.5,18,0.9,20,1,14,0.57731958762886593,14,0.57731958762886593]
["Sul","Muniz Freire",49,68.75,60,1.2244897959183674,106,1.5418181818181818,62,1.2653061224489797,63,1.2857142857142858,62,1.2653061224489797,64,1.3061224489795917,47,0.6836363636363636,47,0.6836363636363636]
["Sul","Muqui",41,38,33,0.80487804878048785,41,1.0789473684210527,44,1.0731707317073171,45,1.0975609756097562,34,0.82926829268292679,35,0.85365853658536583,34,0.89473684210526316,41,1.0789473684210527]
["Norte","Nova Venécia",190,164,183,0.9631578947368421,162,0.98780487804878048,170,0.89473684210526316,175,0.92105263157894735,169,0.88947368421052631,169,0.88947368421052631,118,0.71951219512195119,148,0.90243902439024393]
["Central","Pancas",56,61,53,0.9464285714285714,44,0.72131147540983609,60,1.0714285714285714,61,1.0892857142857142,51,0.9107142857142857,53,0.9464285714285714,34,0.55737704918032782,47,0.77049180327868849]
["Norte","Pedro Canário",77,84.5,72,0.93506493506493504,101,1.1952662721893492,92,1.1948051948051948,97,1.2597402597402598,68,0.88311688311688308,67,0.87012987012987009,76,0.89940828402366868,109,1.2899408284023668]
["Norte","Pinheiros",97,95.75,74,0.76288659793814428,76,0.79373368146214096,84,0.865979381443299,82,0.84536082474226804,80,0.82474226804123707,78,0.80412371134020622,55,0.5744125326370757,75,0.78328981723237601]
["Sul","Piúma",82,77.75,78,0.95121951219512191,67,0.86173633440514474,82,1,58,0.70731707317073167,76,0.92682926829268297,76,0.92682926829268297,51,0.65594855305466238,76,0.977491961414791]
["Norte","Ponto Belo",14,21.25,21,1.5,24,1.1294117647058823,18,1.2857142857142858,16,1.1428571428571428,14,1,18,1.2857142857142858,23,1.0823529411764705,22,1.0352941176470589]
["Sul","Presidente Kennedy",59,59.75,54,0.9152542372881356,56,0.93723849372384938,69,1.1694915254237288,68,1.152542372881356,51,0.86440677966101698,45,0.76271186440677963,51,0.85355648535564854,54,0.90376569037656906]
["Central","Rio Bananal",78,57.25,73,0.9358974358974359,116,2.0262008733624453,66,0.84615384615384615,66,0.84615384615384615,67,0.85897435897435892,67,0.85897435897435892,55,0.9606986899563319,61,1.0655021834061136]
["Sul","Rio Novo do Sul",31,36,28,0.90322580645161288,37,1.0277777777777777,35,1.1290322580645162,34,1.096774193548387,25,0.80645161290322576,23,0.74193548387096775,26,0.72222222222222221,40,1.1111111111111112]
["Metropolitana","Santa Leopoldina",31,38.75,26,0.83870967741935487,28,0.72258064516129028,27,0.87096774193548387,28,0.90322580645161288,28,0.90322580645161288,30,0.967741935483871,25,0.64516129032258063,32,0.82580645161290323]
["Metropolitana","Santa Maria de Jetibá",171,171.25,173,1.0116959064327486,173,1.0102189781021897,159,0.92982456140350878,168,0.98245614035087714,153,0.89473684210526316,159,0.92982456140350878,116,0.67737226277372264,144,0.84087591240875914]
["Metropolitana","Santa Teresa",74,65,69,0.93243243243243246,48,0.7384615384615385,65,0.8783783783783784,75,1.0135135135135136,60,0.81081081081081086,60,0.81081081081081086,43,0.66153846153846152,49,0.75384615384615383]
["Central","São Domingos do Norte",29,29.25,26,{"$f":"E67/C67","v":0.89655172413793105},34,{"$f":"G67/D67","v":1.1623931623931625},29,{"$f":"I67/C67","v":1},29,{"$f":"K67/C67","v":1},27,{"$f":"M67/C67","v":0.93103448275862066},26,{"$f":"O67/C67","v":0.89655172413793105},29,{"$f":"Q67/D67","v":0.99145299145299148},31,{"$f":"S67/D67","v":1.0598290598290598}]
["Central","São Gabriel da Palha",114,106.5,76,0.66666666666666663,72,0.676056338028169,78,0.68421052631578949,80,0.70175438596491224,71,0.6228070175438597,75,0.65789473684210531,47,0.44131455399061031,57,0.53521126760563376]
["Sul","São José do Calçado",19,37.5,16,0.84210526315789469,27,0.72,25,1.3157894736842106,25,1.3157894736842106,15,0.78947368421052633,14,0.73684210526315785,29,0.77333333333333332,29,0.77333333333333332]
["Norte","São Mateus",487,441.5,327,0.67145790554414786,361,0.81766704416761038,398,0.81724845995893225,403,0.82751540041067762,348,0.71457905544147848,344,0.70636550308008217,301,0.68176670441676102,364,0.82446206115515286]
["Central","São Roque do Canaã",32,25,27,0.84375,32,1.28,33,1.03125,37,1.15625,26,0.8125,25,0.78125,32,1.28,30,1.2]
["Metropolitana","Serra",1860,1887.5,1482,0.79677419354838708,1348,0.71417218543046357,1621,0.87150537634408598,1547,0.83172043010752683,1522,0.81827956989247308,1530,0.82258064516129037,1244,0.65907284768211916,1562,0.82754966887417214]
["Central","Sooretama",96,103.75,88,0.91666666666666663,86,0.82891566265060246,94,0.97916666666666663,82,0.85416666666666663,90,0.9375,94,0.97916666666666663,83,0.8,82,0.7903614457831325]
["Sul","Vargem Alta",73,69.5,64,0.87671232876712324,67,0.96402877697841727,74,1.0136986301369864,73,1,52,0.71232876712328763,53,0.72602739726027399,29,0.41726618705035973,66,0.94964028776978415]
["Metropolitana","Venda Nova do Imigrante",84,82,104,1.2380952380952381,106,1.2926829268292683,85,1.0119047619047619,85,1.0119047619047619,91,1.0833333333333333,93,1.1071428571428572,47,0.57317073170731703,60,0.73170731707317072]
["Metropolitana","Viana",216,266,242,1.1203703703703705,196,0.73684210526315785,214,0.9907407407407407,214,0.9907407407407407,234,1.0833333333333333,221,1.0231481481481481,172,0.64661654135338342,197,0.74060150375939848]
["Norte","Vila Pavão",38,31.75,42,1.1052631578947369,28,0.88188976377952755,26,0.68421052631578949,27,0.71052631578947367,25,0.65789473684210531,26,0.68421052631578949,22,0.69291338582677164,26,0.81889763779527558]
["Central","Vila Valério",66,42.25,52,0.78787878787878785,46,1.0887573964497042,44,0.66666666666666663,52,0.78787878787878785,43,0.65151515151515149,47,0.71212121212121215,39,0.92307692307692313,35,0.82840236686390534]
["Metropolitana","Vila Velha",1434,1418.75,946,0.6596931659693166,886,0.6244933920704846,1161,0.80962343096234313,1165,0.81241283124128316,1000,0.69735006973500702,1030,0.71827057182705722,844,0.59488986784140974,962,0.67806167400881057]
["Metropolitana","Vitória",889,958.25,877,0.98650168728908882,546,0.56978867727628491,891,1.0022497187851518,911,1.0247469066366703,769,0.86501687289088869,775,0.87176602924634417,544,0.56770153926428391,667,0.696060527002348]
[]
[null,"Total Norte",{"$f":"SUMIF($A$3:$A$80,\"Norte\",C$3:C$80)","v":1533},{"$f":"SUMIF($A$3:$A$80,\"Norte\",D$3:D$80)","v":1447.25},{"$f":"SUMIF($A$3:$A$80,\"Norte\",E$3:E$80)","v":1273},{"$f":"E82/C82","v":0.83039791258969342},{"$f":"SUMIF($A$3:$A$80,\"Norte\",G$3:G$80)","v":1297},{"$f":"G82/D82","v":0.89618241492485751},{"$f":"SUMIF($A$3:$A$80,\"Norte\",I$3:I$80)","v":1348},{"$f":"I82/C82","v":0.87932159165035872},{"$f":"SUMIF($A$3:$A$80,\"Norte\",K$3:K$80)","v":1374},{"$f":"K82/C82","v":0.89628180039138938},{"$f":"SUMIF($A$3:$A$80,\"Norte\",M$3:M$80)","v":1231},{"$f":"M82/C82","v":0.80300065231572082},{"$f":"SUMIF($A$3:$A$80,\"Norte\",O$3:O$80)","v":1221},{"$f":"O82/C82","v":0.79647749510763211},{"$f":"SUMIF($A$3:$A$80,\"Norte\",Q$3:Q$80)","v":1046},{"$f":"Q82/D82","v":0.72275004318535152},{"$f":"SUMIF($A$3:$A$80,\"Norte\",S$3:S$80)","v":1278},{"$f":"S82/D82","v":0.88305406806011399}]
[null,"Total Central",{"$f":"SUMIF($A$3:$A$80,\"Central\",C$3:C$80)","v":1791},{"$f":"SUMIF($A$3:$A$80,\"Central\",D$3:D$80)","v":1710.75},{"$f":"SUMIF($A$3:$A$80,\"Central\",E$3:E$80)","v":1432},{"$f":"E83/C83","v":0.79955332216638753},{"$f":"SUMIF($A$3:$A$80,\"Central\",G$3:G$80)","v":1366},{"$f":"G83/D83","v":0.79848019874324128},{"$f":"SUMIF($A$3:$A$80,\"Central\",I$3:I$80)","v":1481},{"$f":"I83/C83","v":0.82691233947515352},{"$f":"SUMIF($A$3:$A$80,\"Central\",K$3:K$80)","v":1504},{"$f":"K83/C83","v":0.83975432719151311},{"$f":"SUMIF($A$3:$A$80,\"Central\",M$3:M$80)","v":1367},{"$f":"M83/C83","v":0.76326074818537126},{"$f":"SUMIF($A$3:$A$80,\"Central\",O$3:O$80)","v":1395},{"$f":"O83/C83","v":0.77889447236180909},{"$f":"SUMIF($A$3:$A$80,\"Central\",Q$3:Q$80)","v":1090},{"$f":"Q83/D83","v":0.63714744994885286},{"$f":"SUMIF($A$3:$A$80,\"Central\",S$3:S$80)","v":1217},{"$f":"S83/D83","v":0.71138389595206786}]
[null,"Total Metropolitana",{"$f":"SUMIF($A$3:$A$80,\"Metropolitana\",C$3:C$80)","v":7467},{"$f":"SUMIF($A$3:$A$80,\"Metropolitana\",D$3:D$80)","v":7549.25},{"$f":"SUMIF($A$3:$A$80,\"Metropolitana\",E$3:E$80)","v":6043},{"$f":"E84/C84","v":0.80929422793625283},{"$f":"SUMIF($A$3:$A$80,\"Metropolitana\",G$3:G$80)","v":5608},{"$f":"G84/D84","v":0.74285525052157497},{"$f":"SUMIF($A$3:$A$80,\"Metropolitana\",I$3:I$80)","v":6661},{"$f":"I84/C84","v":0.89205839025043521},{"$f":"SUMIF($A$3:$A$80,\"Metropolitana\",K$3:K$80)","v":6635},{"$f":"K84/C84","v":0.88857640283915895},{"$f":"SUMIF($A$3:$A$80,\"Metropolitana\",M$3:M$80)","v":5961},{"$f":"M84/C84","v":0.79831257533145839},{"$f":"SUMIF($A$3:$A$80,\"Metropolitana\",O$3:O$80)","v":6025},{"$f":"O84/C84","v":0.80688362126690771},{"$f":"SUMIF($A$3:$A$80,\"Metropolitana\",Q$3:Q$80)","v":5023},{"$f":"Q84/D84","v":0.66536410901745202},{"$f":"SUMIF($A$3:$A$80,\"Metropolitana\",S$3:S$80)","v":5995},{"$f":"S84/D84","v":0.79411862105507169}]
[null,"Total Sul",{"$f":"SUMIF($A$3:$A$80,\"sul\",C$3:C$80)","v":2024},{"$f":"SUMIF($A$3:$A$80,\"sul\",D$3:D$80)","v":2172},{"$f":"SUMIF($A$3:$A$80,\"sul\",E$3:E$80)","v":1866},{"$f":"E85/C85","v":0.92193675889328064},{"$f":"SUMIF($A$3:$A$80,\"sul\",G$3:G$80)","v":1858},{"$f":"G85/D85","v":0.85543278084714547},{"$f":"SUMIF($A$3:$A$80,\"sul\",I$3:I$80)","v":1997},{"$f":"I85/C85","v":0.98666007905138342},{"$f":"SUMIF($A$3:$A$80,\"sul\",K$3:K$80)","v":1912},{"$f":"K85/C85","v":0.94466403162055335},{"$f":"SUMIF($A$3:$A$80,\"sul\",M$3:M$80)","v":1783},{"$f":"M85/C85","v":0.88092885375494068},{"$f":"SUMIF($A$3:$A$80,\"sul\",O$3:O$80)","v":1779},{"$f":"O85/C85","v":0.87895256916996045},{"$f":"SUMIF($A$3:$A$80,\"sul\",Q$3:Q$80)","v":1447},{"$f":"Q85/D85","v":0.66620626151012896},{"$f":"SUMIF($A$3:$A$80,\"sul\",S$3:S$80)","v":1764},{"$f":"S85/D85","v":0.81215469613259672}]
[null,"Total Espírito Santo",{"$f":"SUM(C3:C80)","v":12815},{"$f":"SUM(D3:D80)","v":12879.25},{"$f":"SUM(E3:E80)","v":10614},{"$f":"E86/C86","v":0.82824814670308233},{"$f":"SUM(G3:G80)","v":10129},{"$f":"G86/D86","v":0.78645883882990086},{"$f":"SUM(I3:I80)","v":11487},{"$f":"I86/C86","v":0.89637143971907918},{"$f":"SUM(K3:K80)","v":11425},{"$f":"K86/C86","v":0.89153335934451816},{"$f":"SUM(M3:M80)","v":10342},{"$f":"M86/C86","v":0.8070230198985564},{"$f":"SUM(O3:O80)","v":10420},{"$f":"O86/C86","v":0.81310963714397189},{"$f":"SUM(Q3:Q80)","v":8606},{"$f":"Q86/D86","v":0.66820661140982585},{"$f":"SUM(S3:S80)","v":10254},{"$f":"S86/D86","v":0.79616437292544207}]
[]
[]
[]
[]
[" Fonte: Vacina e Confia, em 15 de Abril de 2026.**<https://vacinaeconfia.saude.es.gov.br/>"]
["**Dados referente às doses aplicadas no período de janeiro a março de 2026",null,null,null,null,null," ",null," ",null," "]
["Cobertura Calculada por município de residência do vacinado"]
["1 População estimada extraída do MS/SVS/DASIS - SINASC/DASIS/SVS/MS 2025 referente ao período de janeiro de 2026  e Fevereiro e março de 2025."]
["Sinasc, atualizado em 06/04/2026"]
["²População estimada extraída do Censo IBGE 2022."]
["Método de Cálculo Simples"]
["Homogeineidade: O cálculo da Homogeineidade entre vacinas é feito de acordo com a pactuação estabelecida no Plano Plurianual (PPA) vigente no período 2024-2027."]
[]
["Observações referente a distribuição de imunobiológicos que podem afetar a cobertura vacinal: "]
[null,null,null,null,null,null,null,null,null,null,null,null,null,null,null,null,null," "]
["1. Vacinas que foram recebidas parcialmente pelo estado no mês de Março/2026, sendo distribuídos em quantidades reduzidas às regionais e municípios:",null,null,null,null,null,null,null,null,null,null,null,null," "]
["IMUNOGLOBULINA ANTIRRÁBICA HUMANA; SORO ANTIRRÁBICO HUMANO"]
["2. Vacinas indisponíveis no mês de março/2026, não sendo possível a distribuição às regionais e municípios: "]
["IMUNOGLOBULINA HUMANA ANTIVARICELA (ZOSTER) – 125UI "]
["3. Vacinas enviadas por Pautas aguardando abastecimento do estoque estadual;"]
["VACINA COVID-19 PFIZER PEDIÁTRICA MENOR QUE 5 ANOS; VACINA COVID-19 PFIZER PEDIÁTRICA, VACINA COVID-19 PFIZER MAIORES QUE 12 ANOS, VACINA VÍRUS SINCICIAL RESPIRATÓRIO A E B - VSR \n"]
[]
["Fonte: Informes situacionais de distribuição de imunobiológicos em https://saude.es.gov.br/GrupodeArquivos/informes-situacionais-de-distribuicao-de-imunobiologicos"]

{"sheet":"Cobert. COVID-19 Menores 4 anos","index":6,"n_rows":92,"n_cols":3,"rows_kept":92,"cut":false,"hidden":true,"merged":[[91,0,91,9],[86,0,86,9],[87,0,87,9],[88,0,88,9],[89,0,89,9],[90,0,90,9]]}
["Regional ","Município","Série Histórica "]
["Região Metropolitana","Afonso Cláudio"]
["Região Norte","Água Doce do Norte"]
["Região Central","Águia Branca"]
["Região Sul","Alegre"]
["Região Sul","Alfredo Chaves"]
["Região Central","Alto Rio Novo"]
["Região Sul","Anchieta"]
["Região Sul","Apiacá"]
["Região Metropolitana","Aracruz"]
["Região Sul","Atilio Vivacqua"]
["Região Central","Baixo Guandu"]
["Região Norte","Barra de São Francisco"]
["Região Norte","Boa Esperança"]
["Região Sul","Bom Jesus do Norte"]
["Região Metropolitana","Brejetuba"]
["Região Sul","Cachoeiro de Itapemirim"]
["Região Metropolitana","Cariacica"]
["Região Sul","Castelo"]
["Região Central","Colatina"]
["Região Norte","Conceição da Barra"]
["Região Metropolitana","Conceição do Castelo"]
["Região Sul","Divino de São Lourenço"]
["Região Metropolitana","Domingos Martins"]
["Região Sul","Dores do Rio Preto"]
["Região Norte","Ecoporanga"]
["Região Metropolitana","Fundão"]
["Região Central","Governador Lindenberg"]
["Região Sul","Guaçuí"]
["Região Metropolitana","Guarapari"]
["Região Metropolitana","Ibatiba"]
["Região Metropolitana","Ibiraçu"]
["Região Sul","Ibitirama"]
["Região Sul","Iconha"]
["Região Sul","Irupi"]
["Região Metropolitana","Itaguaçu"]
["Região Sul","Itapemirim"]
["Região Metropolitana","Itarana"]
["Região Sul","Iúna"]
["Região Norte","Jaguaré"]
["Região Sul","Jerônimo Monteiro"]
["Região Metropolitana","João Neiva"]
["Região Metropolitana","Laranja da Terra"]
["Região Central","Linhares"]
["Região Central","Mantenópolis"]
["Região Sul","Marataízes"]
["Região Metropolitana","Marechal Floriano"]
["Região Central","Marilândia"]
["Região Sul","Mimoso do Sul"]
["Região Norte","Montanha"]
["Região Norte","Mucurici"]
["Região Sul","Muniz Freire"]
["Região Sul","Muqui"]
["Região Norte","Nova Venécia"]
["Região Central","Pancas"]
["Região Norte","Pedro Canário"]
["Região Norte","Pinheiros"]
["Região Sul","Piúma"]
["Região Norte","Ponto Belo"]
["Região Sul","Presidente Kennedy"]
["Região Central","Rio Bananal"]
["Região Sul","Rio Novo do Sul"]
["Região Metropolitana","Santa Leopoldina"]
["Região Metropolitana","Santa Maria de Jetibá"]
["Região Metropolitana","Santa Teresa"]
["Região Central","São Domingos do Norte"]
["Região Central","São Gabriel da Palha"]
["Região Sul","São José do Calçado"]
["Região Norte","São Mateus"]
["Região Central","São Roque do Canaã"]
["Região Metropolitana","Serra"]
["Região Central","Sooretama"]
["Região Sul","Vargem Alta"]
["Região Metropolitana","Venda Nova do Imigrante"]
["Região Metropolitana","Viana"]
["Região Norte","Vila Pavão"]
["Região Central","Vila Valério"]
["Região Metropolitana","Vila Velha"]
["Região Metropolitana","Vitória"]
[]
[null,"Espírito Santo"]
[null,"Região Norte"]
[null,"Região Central"]
[null,"Região Metropolitana"]
[null,"Região Sul"]
[]
["Pfizer Pediátrica Menor de 5 anos e Coronavac"]
["Período avaliado: 2021-2024"]
["Fonte: https://www.vacinaeconfia.es.gov.br"]
["*Dados de janeiro/2024 extraídos do Vacina e Confia em 04/01/2024"]
["População proporcional extraída do SINASC 2022 (menores de 1 ano) e Censo IBGE 2022 (demais idades)"]
["Cobertura Calculada por município de procedência da vacinação"]

{"sheet":"dTpa gestantes - procedência","index":7,"n_rows":109,"n_cols":18,"rows_kept":109,"cut":false,"hidden":false,"merged":[[85,1,85,2]]}
["Regional","Município","¹População ","Doses Aplicadas","Cobertura Vacinal %"]
["Metropolitana","Afonso Cláudio",88,94,{"$f":"D2/C2","v":1.0681818181818181}]
["Norte","Água Doce do Norte",38,48,{"$f":"D3/C3","v":1.263157894736842}]
["Central","Águia Branca",52,43,0.82692307692307687]
["Sul","Alegre",75,101,1.3466666666666667]
["Sul","Alfredo Chaves",32,42,1.3125]
["Central","Alto Rio Novo",24,25,1.0416666666666667]
["Sul","Anchieta",103,119,1.1553398058252426,null,null,null," "]
["Sul","Apiacá",11,11,1]
["Metropolitana","Aracruz",387,429,1.1085271317829457]
["Sul","Atilio Vivacqua",47,32,0.68085106382978722]
["Central","Baixo Guandu",89,83,0.93258426966292129]
["Norte","Barra de São Francisco",158,138,0.87341772151898733]
["Norte","Boa Esperança",55,51,0.92727272727272725]
["Sul","Bom Jesus do Norte",5,20,4]
["Metropolitana","Brejetuba",53,85,1.6037735849056605]
["Sul","Cachoeiro de Itapemirim",578,598,1.0346020761245676]
["Metropolitana","Cariacica",1202,1123,0.93427620632279529]
["Sul","Castelo",114,112,0.98245614035087714]
["Central","Colatina",366,355,0.9699453551912568]
["Norte","Conceição da Barra",99,122,1.2323232323232323]
["Metropolitana","Conceição do Castelo",41,48,1.1707317073170731]
["Sul","Divino de São Lourenço",12,15,1.25]
["Metropolitana","Domingos Martins",111,128,1.1531531531531531,null,null,null,null,null,null,null,null,null," "]
["Sul","Dores do Rio Preto",25,24,0.96]
["Norte","Ecoporanga",77,61,0.79220779220779225]
["Metropolitana","Fundão",66,74,1.1212121212121211]
["Central","Governador Lindenberg",37,33,0.89189189189189189]
["Sul","Guaçuí",79,111,1.4050632911392404]
["Metropolitana","Guarapari",471,430,0.91295116772823781]
["Metropolitana","Ibatiba",83,129,1.5542168674698795]
["Metropolitana","Ibiraçu",26,30,1.1538461538461537]
["Sul","Ibitirama",38,41,1.0789473684210527]
["Sul","Iconha",26,39,1.5]
["Sul","Irupi",32,59,1.84375]
["Metropolitana","Itaguaçu",36,36,1]
["Sul","Itapemirim",140,130,0.9285714285714286]
["Metropolitana","Itarana",37,30,0.81081081081081086]
["Sul","Iúna",71,106,1.4929577464788732]
["Norte","Jaguaré",141,136,0.96453900709219853]
["Sul","Jerônimo Monteiro",40,42,1.05]
["Metropolitana","João Neiva",38,42,1.1052631578947369]
["Metropolitana","Laranja da Terra",25,26,1.04]
["Central","Linhares",669,649,0.97010463378176381]
["Central","Mantenópolis",38,48,1.263157894736842]
["Sul","Marataízes",155,148,0.95483870967741935]
["Metropolitana","Marechal Floriano",44,49,1.1136363636363635]
["Central","Marilândia",45,47,1.0444444444444445]
["Sul","Mimoso do Sul",87,67,0.77011494252873558]
["Norte","Montanha",42,79,1.8809523809523809]
["Norte","Mucurici",20,28,1.4]
["Sul","Muniz Freire",49,60,1.2244897959183674]
["Sul","Muqui",41,44,1.0731707317073171]
["Norte","Nova Venécia",190,182,0.95789473684210524]
["Central","Pancas",56,59,1.0535714285714286]
["Norte","Pedro Canário",77,79,1.025974025974026]
["Norte","Pinheiros",97,87,0.89690721649484539]
["Sul","Piúma",82,76,0.92682926829268297]
["Norte","Ponto Belo",14,21,1.5]
["Sul","Presidente Kennedy",59,47,0.79661016949152541]
["Central","Rio Bananal",78,95,1.2179487179487178]
["Sul","Rio Novo do Sul",31,37,1.1935483870967742]
["Metropolitana","Santa Leopoldina",31,40,1.2903225806451613]
["Metropolitana","Santa Maria de Jetibá",171,168,0.98245614035087714]
["Metropolitana","Santa Teresa",74,78,1.0540540540540539]
["Central","São Domingos do Norte",29,47,1.6206896551724137]
["Central","São Gabriel da Palha",114,119,{"$f":"D67/C67","v":1.0438596491228069}]
["Sul","São José do Calçado",19,33,1.736842105263158,null,null,null,null,null,null,null," "]
["Norte","São Mateus",487,472,0.9691991786447639]
["Central","São Roque do Canaã",32,29,0.90625]
["Metropolitana","Serra",1860,1825,0.98118279569892475]
["Central","Sooretama",96,141,1.46875]
["Sul","Vargem Alta",73,76,1.0410958904109588]
["Metropolitana","Venda Nova do Imigrante",84,88,1.0476190476190477]
["Metropolitana","Viana",216,279,1.2916666666666667]
["Norte","Vila Pavão",38,35,0.92105263157894735]
["Central","Vila Valério",66,60,0.90909090909090906]
["Metropolitana","Vila Velha",1434,1369,0.95467224546722451]
["Metropolitana","Vitória",889,979,1.1012373453318336]
[]
[null,"Total Norte",{"$f":"SUMIF($A$2:$A$79,\"Norte\",C$2:C$79)","v":1533},{"$f":"SUMIF($A$2:$A$79,\"Norte\",D$2:D$79)","v":1539},1.0039138943248533,null,null,null,null," "]
[null,"Total Central",{"$f":"SUMIF($A$2:$A$79,\"CENTRAL\",C$2:C$79)","v":1791},{"$f":"SUMIF($A$2:$A$79,\"CENTRAL\",D$2:D$79)","v":1833},1.0234505862646566]
[null,"Total Metropolitana",{"$f":"SUMIF($A$2:$A$79,\"METROPOLITANA\",C$2:C$79)","v":7467},{"$f":"SUMIF($A$2:$A$79,\"METROPOLITANA\",D$2:D$79)","v":7579},{"$f":"D83/C83","v":1.0149993303870364},null,null,null," "]
[null,"Total Sul",{"$f":"SUMIF($A$2:$A$79,\"SUL\",C$2:C$79)","v":2024},{"$f":"SUMIF($A$2:$A$79,\"SUL\",D$2:D$79)","v":2190},1.0820158102766799]
[null,"TOTAL ES",{"$f":"SUM(C2:C79)","v":12815},{"$f":"SUM(D2:D79)","v":13141},1.0254389387436598]
[null,"HOMOGENEIDADE ENTRE MUNICÍPIOS",null,null,{"$f":"COUNTIF(E2:E79,\">=0,95\")/78","v":0.76923076923076927}]
[]
[]
[]
[]
[" Fonte: Vacina e Confia, em 30 de Abril de 2026.**<https://vacinaeconfia.saude.es.gov.br/>",null,null,null,null," "]
["**Dados referente às doses aplicadasem janeiro a Março de 2026",null,null,null," ",null," ",null," "]
["Cobertura Calculada por município de procedência/ocorrência da vacinação"]
["1 População estimada extraída do MS/SVS/DASIS - SINASC/DASIS/SVS/MS 2025 referente ao período de janeiro de 2026 e Fevereiro e março de 2025."]
["Sinasc, atualizado em 06/04/2026"]
["Método de Cálculo Simples"]
["Homogeineidade: O cálculo da Homogeineidade entre vacinas é feito de acordo com a pactuação estabelecida no Plano Plurianual (PPA) vigente no período 2024-2027."]
[]
[]
["Observações referente a distribuição de imunobiológicos que podem afetar a cobertura vacinal: "]
[null,null,null,null,null,null,null,null,null,null,null,null,null,null,null,null,null," "]
["1. Vacinas que foram recebidas parcialmente pelo estado no mês de Março/2026, sendo distribuídos em quantidades reduzidas às regionais e municípios:",null,null,null,null,null,null,null,null,null,null,null,null," "]
["IMUNOGLOBULINA ANTIRRÁBICA HUMANA; SORO ANTIRRÁBICO HUMANO"]
["2. Vacinas indisponíveis no mês de março/2026, não sendo possível a distribuição às regionais e municípios: "]
["IMUNOGLOBULINA HUMANA ANTIVARICELA (ZOSTER) – 125UI "]
["3. Vacinas enviadas por Pautas aguardando abastecimento do estoque estadual;"]
["VACINA COVID-19 PFIZER PEDIÁTRICA MENOR QUE 5 ANOS; VACINA COVID-19 PFIZER PEDIÁTRICA, VACINA COVID-19 PFIZER MAIORES QUE 12 ANOS, VACINA VÍRUS SINCICIAL RESPIRATÓRIO A E B - VSR \n"]
[]
["Fonte: Informes situacionais de distribuição de imunobiológicos em https://saude.es.gov.br/GrupodeArquivos/informes-situacionais-de-distribuicao-de-imunobiologicos"]

{"sheet":"dTpa gestantes - residência","index":8,"n_rows":109,"n_cols":18,"rows_kept":109,"cut":false,"hidden":false,"merged":[[85,1,85,2]]}
["Regional","Município","¹População ","Total de Doses Aplicadas","Cobertura Vacinal %"]
["Metropolitana","Afonso Cláudio",88,101,{"$f":"D2/C2","v":1.1477272727272727}]
["Norte","Água Doce do Norte",38,41,{"$f":"D3/C3","v":1.0789473684210527}]
["Central","Águia Branca",52,35,0.67307692307692313]
["Sul","Alegre",75,112,1.4933333333333334]
["Sul","Alfredo Chaves",32,38,1.1875]
["Central","Alto Rio Novo",24,27,1.125]
["Sul","Anchieta",103,115,1.116504854368932]
["Sul","Apiacá",11,14,1.2727272727272727]
["Metropolitana","Aracruz",387,395,1.020671834625323]
["Sul","Atilio Vivacqua",47,34,0.72340425531914898]
["Central","Baixo Guandu",89,75,0.84269662921348309]
["Norte","Barra de São Francisco",158,129,0.81645569620253167]
["Norte","Boa Esperança",55,46,0.83636363636363631]
["Sul","Bom Jesus do Norte",5,16,3.2]
["Metropolitana","Brejetuba",53,73,1.3773584905660377]
["Sul","Cachoeiro de Itapemirim",578,613,1.060553633217993]
["Metropolitana","Cariacica",1202,1257,1.0457570715474209]
["Sul","Castelo",114,122,1.0701754385964912]
["Central","Colatina",366,355,0.9699453551912568]
["Norte","Conceição da Barra",99,133,1.3434343434343434]
["Metropolitana","Conceição do Castelo",41,45,1.0975609756097562]
["Sul","Divino de São Lourenço",12,13,1.0833333333333333]
["Metropolitana","Domingos Martins",111,127,1.1441441441441442]
["Sul","Dores do Rio Preto",25,16,0.64]
["Norte","Ecoporanga",77,73,0.94805194805194803]
["Metropolitana","Fundão",66,55,0.83333333333333337,null,null,null,null,null,null,null,null,null,null,null," "]
["Central","Governador Lindenberg",37,38,1.027027027027027]
["Sul","Guaçuí",79,112,1.4177215189873418]
["Metropolitana","Guarapari",471,384,0.8152866242038217]
["Metropolitana","Ibatiba",83,122,1.4698795180722892]
["Metropolitana","Ibiraçu",26,32,1.2307692307692308]
["Sul","Ibitirama",38,54,1.4210526315789473]
["Sul","Iconha",26,43,1.6538461538461537]
["Sul","Irupi",32,46,1.4375]
["Metropolitana","Itaguaçu",36,38,1.0555555555555556]
["Sul","Itapemirim",140,133,0.95]
["Metropolitana","Itarana",37,26,0.70270270270270274]
["Sul","Iúna",71,102,1.4366197183098592]
["Norte","Jaguaré",141,129,0.91489361702127658]
["Sul","Jerônimo Monteiro",40,37,0.92500000000000004]
["Metropolitana","João Neiva",38,43,1.131578947368421]
["Metropolitana","Laranja da Terra",25,28,1.1200000000000001]
["Central","Linhares",669,624,0.93273542600896864]
["Central","Mantenópolis",38,40,1.0526315789473684]
["Sul","Marataízes",155,124,0.8]
["Metropolitana","Marechal Floriano",44,49,1.1136363636363635]
["Central","Marilândia",45,32,0.71111111111111114]
["Sul","Mimoso do Sul",87,64,0.73563218390804597]
["Norte","Montanha",42,95,2.2619047619047619]
["Norte","Mucurici",20,21,1.05]
["Sul","Muniz Freire",49,60,1.2244897959183674]
["Sul","Muqui",41,41,1]
["Norte","Nova Venécia",190,198,1.0421052631578946]
["Central","Pancas",56,75,1.3392857142857142]
["Norte","Pedro Canário",77,78,1.0129870129870129]
["Norte","Pinheiros",97,99,1.0206185567010309]
["Sul","Piúma",82,62,0.75609756097560976]
["Norte","Ponto Belo",14,27,1.9285714285714286]
["Sul","Presidente Kennedy",59,38,0.64406779661016944]
["Central","Rio Bananal",78,97,1.2435897435897436]
["Sul","Rio Novo do Sul",31,36,1.1612903225806452]
["Metropolitana","Santa Leopoldina",31,33,1.064516129032258]
["Metropolitana","Santa Maria de Jetibá",171,152,0.88888888888888884]
["Metropolitana","Santa Teresa",74,85,1.1486486486486487]
["Central","São Domingos do Norte",29,45,1.5517241379310345]
["Central","São Gabriel da Palha",114,105,{"$f":"D67/C67","v":0.92105263157894735}]
["Sul","São José do Calçado",19,37,1.9473684210526316]
["Norte","São Mateus",487,386,0.79260780287474331]
["Central","São Roque do Canaã",32,37,1.15625]
["Metropolitana","Serra",1860,1662,0.8935483870967742]
["Central","Sooretama",96,138,1.4375]
["Sul","Vargem Alta",73,70,0.95890410958904104]
["Metropolitana","Venda Nova do Imigrante",84,96,1.1428571428571428]
["Metropolitana","Viana",216,265,1.2268518518518519]
["Norte","Vila Pavão",38,36,0.94736842105263153]
["Central","Vila Valério",66,57,0.86363636363636365]
["Metropolitana","Vila Velha",1434,1201,0.83751743375174337]
["Metropolitana","Vitória",889,816,0.91788526434195727,null,null,null,null,null,null," "]
[]
[null,"Total Norte",{"$f":"SUMIF($A$2:$A$79,\"Norte\",C$2:C$79)","v":1533},{"$f":"SUMIF($A$2:$A$79,\"Norte\",D$2:D$79)","v":1491},0.9726027397260274]
[null,"Total Central",{"$f":"SUMIF($A$2:$A$79,\"CENTRAL\",C$2:C$79)","v":1791},{"$f":"SUMIF($A$2:$A$79,\"CENTRAL\",D$2:D$79)","v":1780},0.99385817978782798,null,null,null,null," "]
[null,"Total Metropolitana",{"$f":"SUMIF($A$2:$A$79,\"METROPOLITANA\",C$2:C$79)","v":7467},{"$f":"SUMIF($A$2:$A$79,\"METROPOLITANA\",D$2:D$79)","v":7085},0.94884156957278698]
[null,"Total Sul",{"$f":"SUMIF($A$2:$A$79,\"SUL\",C$2:C$79)","v":2024},{"$f":"SUMIF($A$2:$A$79,\"SUL\",D$2:D$79)","v":2152},1.0632411067193677]
[null,"TOTAL ES",{"$f":"SUM(C2:C79)","v":12815},{"$f":"SUM(D2:D79)","v":12508},0.97604369879047992]
[null,"HOMOGENEIDADE ENTRE MUNICÍPIOS",null,{"$f":"COUNTIF(E2:E79,\">=0,95\")","v":52},{"$f":"COUNTIF(E2:E79,\">=0,95\")/78","v":0.66666666666666663}]
[]
[]
[]
[]
[" Fonte: Vacina e Confia, em 30 de Abril de 2026.**<https://vacinaeconfia.saude.es.gov.br/>"]
["**Dados referente às doses aplicadas no período de janeiro a março de 2026",null,null,null,null,null," ",null," ",null," "]
["Cobertura Calculada por município de residência do vacinado"]
["1 População estimada extraída do MS/SVS/DASIS - SINASC/DASIS/SVS/MS 2025 referente ao período de janeiro de 2026 e Fevereiro e março de 2025."]
["Sinasc, atualizado em 06/04/2026"]
["Método de Cálculo Simples"]
["Homogeineidade: O cálculo da Homogeineidade entre vacinas é feito de acordo com a pactuação estabelecida no Plano Plurianual (PPA) vigente no período 2024-2027."]
[]
[]
["Observações referente a distribuição de imunobiológicos que podem afetar a cobertura vacinal: "]
[null,null,null,null,null,null,null,null,null,null,null,null,null,null,null,null,null," "]
["1. Vacinas que foram recebidas parcialmente pelo estado no mês de Março/2026, sendo distribuídos em quantidades reduzidas às regionais e municípios:",null,null,null,null,null,null,null,null,null,null,null,null," "]
["IMUNOGLOBULINA ANTIRRÁBICA HUMANA; SORO ANTIRRÁBICO HUMANO"]
["2. Vacinas indisponíveis no mês de março/2026, não sendo possível a distribuição às regionais e municípios: "]
["IMUNOGLOBULINA HUMANA ANTIVARICELA (ZOSTER) – 125UI "]
["3. Vacinas enviadas por Pautas aguardando abastecimento do estoque estadual;"]
["VACINA COVID-19 PFIZER PEDIÁTRICA MENOR QUE 5 ANOS; VACINA COVID-19 PFIZER PEDIÁTRICA, VACINA COVID-19 PFIZER MAIORES QUE 12 ANOS, VACINA VÍRUS SINCICIAL RESPIRATÓRIO A E B - VSR \n"]
[]
["Fonte: Informes situacionais de distribuição de imunobiológicos em https://saude.es.gov.br/GrupodeArquivos/informes-situacionais-de-distribuicao-de-imunobiologicos"]

{"sheet":"VSR gestante - Procedência","index":9,"n_rows":109,"n_cols":18,"rows_kept":109,"cut":false,"hidden":false,"merged":[[85,1,85,3]]}
["Regional","Município","¹População ","Doses Aplicadas","Cobertura Vacinal %"]
["Metropolitana","Afonso Cláudio",88,89,{"$f":"D2/C2","v":1.0113636363636365}]
["Norte","Água Doce do Norte",38,32,{"$f":"D3/C3","v":0.84210526315789469}]
["Central","Águia Branca",52,43,0.82692307692307687]
["Sul","Alegre",75,97,1.2933333333333332]
["Sul","Alfredo Chaves",32,35,1.09375]
["Central","Alto Rio Novo",24,26,1.0833333333333333]
["Sul","Anchieta",103,101,0.98058252427184467]
["Sul","Apiacá",11,14,1.2727272727272727]
["Metropolitana","Aracruz",387,429,1.1085271317829457]
["Sul","Atilio Vivacqua",47,43,0.91489361702127658]
["Central","Baixo Guandu",89,89,1]
["Norte","Barra de São Francisco",158,133,0.84177215189873422]
["Norte","Boa Esperança",55,45,0.81818181818181823]
["Sul","Bom Jesus do Norte",5,16,3.2]
["Metropolitana","Brejetuba",53,64,1.2075471698113207]
["Sul","Cachoeiro de Itapemirim",578,561,0.97058823529411764]
["Metropolitana","Cariacica",1202,1116,0.92845257903494172]
["Sul","Castelo",114,113,0.99122807017543857]
["Central","Colatina",366,335,0.91530054644808745]
["Norte","Conceição da Barra",99,119,1.202020202020202]
["Metropolitana","Conceição do Castelo",41,33,0.80487804878048785]
["Sul","Divino de São Lourenço",12,14,1.1666666666666667]
["Metropolitana","Domingos Martins",111,84,0.7567567567567568]
["Sul","Dores do Rio Preto",25,25,1]
["Norte","Ecoporanga",77,63,0.81818181818181823]
["Metropolitana","Fundão",66,60,0.90909090909090906]
["Central","Governador Lindenberg",37,37,1]
["Sul","Guaçuí",79,90,1.139240506329114]
["Metropolitana","Guarapari",471,398,0.84501061571125269]
["Metropolitana","Ibatiba",83,106,1.2771084337349397]
["Metropolitana","Ibiraçu",26,29,1.1153846153846154]
["Sul","Ibitirama",38,45,1.1842105263157894]
["Sul","Iconha",26,32,1.2307692307692308]
["Sul","Irupi",32,48,1.5]
["Metropolitana","Itaguaçu",36,35,0.97222222222222221]
["Sul","Itapemirim",140,120,0.8571428571428571]
["Metropolitana","Itarana",37,41,1.1081081081081081]
["Sul","Iúna",71,92,1.295774647887324]
["Norte","Jaguaré",141,138,0.97872340425531912]
["Sul","Jerônimo Monteiro",40,50,1.25]
["Metropolitana","João Neiva",38,52,1.368421052631579]
["Metropolitana","Laranja da Terra",25,26,1.04]
["Central","Linhares",669,645,0.9641255605381166]
["Central","Mantenópolis",38,37,0.97368421052631582]
["Sul","Marataízes",155,127,0.8193548387096774]
["Metropolitana","Marechal Floriano",44,45,1.0227272727272727]
["Central","Marilândia",45,45,1]
["Sul","Mimoso do Sul",87,58,0.66666666666666663]
["Norte","Montanha",42,77,1.8333333333333333]
["Norte","Mucurici",20,17,0.85]
["Sul","Muniz Freire",49,61,1.2448979591836735]
["Sul","Muqui",41,37,0.90243902439024393]
["Norte","Nova Venécia",190,177,0.93157894736842106]
["Central","Pancas",56,60,1.0714285714285714]
["Norte","Pedro Canário",77,90,1.1688311688311688]
["Norte","Pinheiros",97,97,1]
["Sul","Piúma",82,73,0.8902439024390244]
["Norte","Ponto Belo",14,24,1.7142857142857142]
["Sul","Presidente Kennedy",59,51,0.86440677966101698]
["Central","Rio Bananal",78,78,1]
["Sul","Rio Novo do Sul",31,38,1.2258064516129032]
["Metropolitana","Santa Leopoldina",31,31,1]
["Metropolitana","Santa Maria de Jetibá",171,146,0.85380116959064323]
["Metropolitana","Santa Teresa",74,65,0.8783783783783784]
["Central","São Domingos do Norte",29,25,0.86206896551724133]
["Central","São Gabriel da Palha",114,112,{"$f":"D67/C67","v":0.98245614035087714}]
["Sul","São José do Calçado",19,30,1.5789473684210527]
["Norte","São Mateus",487,445,0.91375770020533886]
["Central","São Roque do Canaã",32,26,0.8125]
["Metropolitana","Serra",1860,1731,0.9306451612903226]
["Central","Sooretama",96,124,1.2916666666666667]
["Sul","Vargem Alta",73,70,0.95890410958904104]
["Metropolitana","Venda Nova do Imigrante",84,84,1]
["Metropolitana","Viana",216,241,1.1157407407407407]
["Norte","Vila Pavão",38,30,0.78947368421052633]
["Central","Vila Valério",66,73,1.106060606060606]
["Metropolitana","Vila Velha",1434,1398,0.97489539748953979,null,null,null,null,null,null,null,null," "]
["Metropolitana","Vitória",889,967,1.0877390326209224]
[]
[null,"Total Norte",{"$f":"SUMIF($A$2:$A$79,\"Norte\",C$2:C$79)","v":1533},{"$f":"SUMIF($A$2:$A$79,\"Norte\",D$2:D$79)","v":1487},{"$f":"D81/C81","v":0.96999347684279191},null,null,null,null,null," "]
[null,"Total Central",{"$f":"SUMIF($A$2:$A$79,\"CENTRAL\",C$2:C$79)","v":1791},{"$f":"SUMIF($A$2:$A$79,\"CENTRAL\",D$2:D$79)","v":1755},{"$f":"D82/C82","v":0.97989949748743721}]
[null,"Total Metropolitana",{"$f":"SUMIF($A$2:$A$79,\"METROPOLITANA\",C$2:C$79)","v":7467},{"$f":"SUMIF($A$2:$A$79,\"METROPOLITANA\",D$2:D$79)","v":7270},0.97361724922994508,null,null,null,null," "]
[null,"Total Sul",{"$f":"SUMIF($A$2:$A$79,\"SUL\",C$2:C$79)","v":2024},{"$f":"SUMIF($A$2:$A$79,\"SUL\",D$2:D$79)","v":2041},1.008399209486166]
[null,"TOTAL ES",{"$f":"SUM(C2:C79)","v":12815},{"$f":"SUM(D2:D79)","v":12553},0.9795552087397581]
[null,"HOMOGENEIDADE ENTRE MUNICÍPIOS",null,null,{"$f":"COUNTIF(E2:E79,\">=0,95\")/78","v":0.65384615384615385}]
[]
[]
[]
[]
[" Fonte: Vacina e Confia, em 04 de maio de 2026.**<https://vacinaeconfia.saude.es.gov.br/>",null,null,null,null," "]
["**Dados referente às doses aplicadasem janeiro a março de 2026",null,null,null," ",null," ",null," "]
["Cobertura Calculada por município de procedência/ocorrência da vacinação"]
["1 População estimada extraída do MS/SVS/DASIS - SINASC/DASIS/SVS/MS 2025 referente ao período de janeiro de 2026 e fevereiro e março de 2025."]
["Sinasc, atualizado em 06/04/2026"]
["Método de Cálculo Simples"]
["Homogeineidade: O cálculo da Homogeineidade entre vacinas é feito de acordo com a pactuação estabelecida no Plano Plurianual (PPA) vigente no período 2024-2027."]
[]
[]
["Observações referente a distribuição de imunobiológicos que podem afetar a cobertura vacinal: "]
[null,null,null,null,null,null,null,null,null,null,null,null,null,null,null,null,null," "]
["1. Vacinas que foram recebidas parcialmente pelo estado no mês de Março/2026, sendo distribuídos em quantidades reduzidas às regionais e municípios:",null,null,null,null,null,null,null,null,null,null,null,null," "]
["IMUNOGLOBULINA ANTIRRÁBICA HUMANA; SORO ANTIRRÁBICO HUMANO"]
["2. Vacinas indisponíveis no mês de março/2026, não sendo possível a distribuição às regionais e municípios: "]
["IMUNOGLOBULINA HUMANA ANTIVARICELA (ZOSTER) – 125UI "]
["3. Vacinas enviadas por Pautas aguardando abastecimento do estoque estadual;"]
["VACINA COVID-19 PFIZER PEDIÁTRICA MENOR QUE 5 ANOS; VACINA COVID-19 PFIZER PEDIÁTRICA, VACINA COVID-19 PFIZER MAIORES QUE 12 ANOS, VACINA VÍRUS SINCICIAL RESPIRATÓRIO A E B - VSR \n"]
[]
["Fonte: Informes situacionais de distribuição de imunobiológicos em https://saude.es.gov.br/GrupodeArquivos/informes-situacionais-de-distribuicao-de-imunobiologicos"]

{"sheet":"VSR gestante - residência","index":10,"n_rows":109,"n_cols":18,"rows_kept":109,"cut":false,"hidden":false,"merged":[[85,1,85,3]]}
["Regional","Município","¹População ","Doses Aplicadas","Cobertura Vacinal %"]
["Metropolitana","Afonso Cláudio",88,84,{"$f":"D2/C2","v":0.95454545454545459}]
["Norte","Água Doce do Norte",38,26,{"$f":"D3/C3","v":0.68421052631578949}]
["Central","Águia Branca",52,33,0.63461538461538458]
["Sul","Alegre",75,110,1.4666666666666666]
["Sul","Alfredo Chaves",32,36,1.125]
["Central","Alto Rio Novo",24,25,1.0416666666666667]
["Sul","Anchieta",103,103,1]
["Sul","Apiacá",11,11,1]
["Metropolitana","Aracruz",387,399,1.0310077519379846]
["Sul","Atilio Vivacqua",47,47,1]
["Central","Baixo Guandu",89,70,0.7865168539325843]
["Norte","Barra de São Francisco",158,135,0.85443037974683544]
["Norte","Boa Esperança",55,38,0.69090909090909092]
["Sul","Bom Jesus do Norte",5,13,2.6]
["Metropolitana","Brejetuba",53,58,1.0943396226415094]
["Sul","Cachoeiro de Itapemirim",578,549,0.94982698961937717]
["Metropolitana","Cariacica",1202,1216,1.0116472545757071]
["Sul","Castelo",114,123,1.0789473684210527]
["Central","Colatina",366,346,0.94535519125683065]
["Norte","Conceição da Barra",99,125,1.2626262626262625]
["Metropolitana","Conceição do Castelo",41,31,0.75609756097560976]
["Sul","Divino de São Lourenço",12,14,1.1666666666666667]
["Metropolitana","Domingos Martins",111,105,0.94594594594594594]
["Sul","Dores do Rio Preto",25,19,0.76]
["Norte","Ecoporanga",77,74,0.96103896103896103]
["Metropolitana","Fundão",66,54,0.81818181818181823]
["Central","Governador Lindenberg",37,41,1.1081081081081081]
["Sul","Guaçuí",79,93,1.1772151898734178]
["Metropolitana","Guarapari",471,356,0.75583864118895971]
["Metropolitana","Ibatiba",83,95,1.1445783132530121]
["Metropolitana","Ibiraçu",26,36,1.3846153846153846]
["Sul","Ibitirama",38,55,1.4473684210526316]
["Sul","Iconha",26,35,1.3461538461538463]
["Sul","Irupi",32,39,1.21875]
["Metropolitana","Itaguaçu",36,35,0.97222222222222221]
["Sul","Itapemirim",140,126,0.9]
["Metropolitana","Itarana",37,28,0.7567567567567568]
["Sul","Iúna",71,83,1.1690140845070423]
["Norte","Jaguaré",141,122,0.86524822695035464]
["Sul","Jerônimo Monteiro",40,45,1.125]
["Metropolitana","João Neiva",38,51,1.3421052631578947]
["Metropolitana","Laranja da Terra",25,26,1.04]
["Central","Linhares",669,640,0.9566517189835575]
["Central","Mantenópolis",38,36,0.94736842105263153]
["Sul","Marataízes",155,113,0.7290322580645161]
["Metropolitana","Marechal Floriano",44,40,0.90909090909090906]
["Central","Marilândia",45,43,0.9555555555555556]
["Sul","Mimoso do Sul",87,65,0.74712643678160917]
["Norte","Montanha",42,85,2.0238095238095237]
["Norte","Mucurici",20,17,0.85]
["Sul","Muniz Freire",49,54,1.1020408163265305]
["Sul","Muqui",41,37,0.90243902439024393]
["Norte","Nova Venécia",190,178,0.93684210526315792]
["Central","Pancas",56,68,1.2142857142857142]
["Norte","Pedro Canário",77,86,1.1168831168831168]
["Norte","Pinheiros",97,113,1.1649484536082475]
["Sul","Piúma",82,57,0.69512195121951215]
["Norte","Ponto Belo",14,22,1.5714285714285714]
["Sul","Presidente Kennedy",59,40,0.67796610169491522]
["Central","Rio Bananal",78,90,1.1538461538461537]
["Sul","Rio Novo do Sul",31,40,1.2903225806451613]
["Metropolitana","Santa Leopoldina",31,29,0.93548387096774188]
["Metropolitana","Santa Maria de Jetibá",171,137,0.80116959064327486]
["Metropolitana","Santa Teresa",74,69,0.93243243243243246]
["Central","São Domingos do Norte",29,30,1.0344827586206897]
["Central","São Gabriel da Palha",114,112,{"$f":"D67/C67","v":0.98245614035087714}]
["Sul","São José do Calçado",19,31,1.631578947368421]
["Norte","São Mateus",487,366,0.75154004106776184]
["Central","São Roque do Canaã",32,33,1.03125]
["Metropolitana","Serra",1860,1605,0.86290322580645162]
["Central","Sooretama",96,122,1.2708333333333333]
["Sul","Vargem Alta",73,71,0.9726027397260274]
["Metropolitana","Venda Nova do Imigrante",84,99,1.1785714285714286]
["Metropolitana","Viana",216,242,1.1203703703703705]
["Norte","Vila Pavão",38,35,0.92105263157894735]
["Central","Vila Valério",66,51,0.77272727272727271]
["Metropolitana","Vila Velha",1434,1220,0.85076708507670851]
["Metropolitana","Vitória",889,808,0.90888638920134979]
[]
[null,"Total Norte",{"$f":"SUMIF($A$2:$A$79,\"Norte\",C$2:C$79)","v":1533},{"$f":"SUMIF($A$2:$A$79,\"Norte\",D$2:D$79)","v":1422},{"$f":"D81/C81","v":0.92759295499021521},null,null,null,null,null," "]
[null,"Total Central",{"$f":"SUMIF($A$2:$A$79,\"CENTRAL\",C$2:C$79)","v":1791},{"$f":"SUMIF($A$2:$A$79,\"CENTRAL\",D$2:D$79)","v":1740},{"$f":"D82/C82","v":0.9715242881072027}]
[null,"Total Metropolitana",{"$f":"SUMIF($A$2:$A$79,\"METROPOLITANA\",C$2:C$79)","v":7467},{"$f":"SUMIF($A$2:$A$79,\"METROPOLITANA\",D$2:D$79)","v":6823},0.91375385027454137,null,null,null,null," "]
[null,"Total Sul",{"$f":"SUMIF($A$2:$A$79,\"SUL\",C$2:C$79)","v":2024},{"$f":"SUMIF($A$2:$A$79,\"SUL\",D$2:D$79)","v":2009},0.9925889328063241]
[null,"TOTAL ES",{"$f":"SUM(C2:C79)","v":12815},{"$f":"SUM(D2:D79)","v":11994},0.93593445181428014,null,null,null," "]
[null,"HOMOGENEIDADE ENTRE MUNICÍPIOS",null,null,{"$f":"COUNTIF(E2:E79,\">=0,95\")/78","v":0.57692307692307687}]
[]
[]
[]
[]
[" Fonte: Vacina e Confia, em 04 de maio de 2026.**<https://vacinaeconfia.saude.es.gov.br/>"]
["**Dados referente às doses aplicadas no período de janeiro a março de 2026",null,null,null,null,null," ",null," ",null," "]
["Cobertura Calculada por município de residência do vacinado"]
["1 População estimada extraída do MS/SVS/DASIS - SINASC/DASIS/SVS/MS 2025 referente ao período de janeiro de 2026 e Fevereiro e março de 2026."]
["Sinasc, atualizado em 06/04/2026"]
["Método de Cálculo Simples"]
["Homogeineidade: O cálculo da Homogeineidade entre vacinas é feito de acordo com a pactuação estabelecida no Plano Plurianual (PPA) vigente no período 2024-2027."]
[]
[]
["Observações referente a distribuição de imunobiológicos que podem afetar a cobertura vacinal: "]
[null,null,null,null,null,null,null,null,null,null,null,null,null,null,null,null,null," "]
["1. Vacinas que foram recebidas parcialmente pelo estado no mês de Março/2026, sendo distribuídos em quantidades reduzidas às regionais e municípios:",null,null,null,null,null,null,null,null,null,null,null,null," "]
["IMUNOGLOBULINA ANTIRRÁBICA HUMANA; SORO ANTIRRÁBICO HUMANO"]
["2. Vacinas indisponíveis no mês de março/2026, não sendo possível a distribuição às regionais e municípios: "]
["IMUNOGLOBULINA HUMANA ANTIVARICELA (ZOSTER) – 125UI "]
["3. Vacinas enviadas por Pautas aguardando abastecimento do estoque estadual;"]
["VACINA COVID-19 PFIZER PEDIÁTRICA MENOR QUE 5 ANOS; VACINA COVID-19 PFIZER PEDIÁTRICA, VACINA COVID-19 PFIZER MAIORES QUE 12 ANOS, VACINA VÍRUS SINCICIAL RESPIRATÓRIO A E B - VSR \n"]
[]
["Fonte: Informes situacionais de distribuição de imunobiológicos em https://saude.es.gov.br/GrupodeArquivos/informes-situacionais-de-distribuicao-de-imunobiologicos"]

{"sheet":"COVID-19 gestantes -Procedência","index":11,"n_rows":109,"n_cols":18,"rows_kept":109,"cut":false,"hidden":false,"merged":[[85,1,85,2]]}
["Regional","Município","¹População ","Doses Aplicadas","Cobertura Vacinal %"]
["Metropolitana","Afonso Cláudio",88,0,{"$f":"D2/C2","v":0}]
["Norte","Água Doce do Norte",38,0,{"$f":"D3/C3","v":0}]
["Central","Águia Branca",52,0,0]
["Sul","Alegre",75,7,9.3333333333333338E-2]
["Sul","Alfredo Chaves",32,1,3.125E-2]
["Central","Alto Rio Novo",24,0,0]
["Sul","Anchieta",103,10,9.7087378640776698E-2]
["Sul","Apiacá",11,0,0]
["Metropolitana","Aracruz",387,58,0.14987080103359174]
["Sul","Atilio Vivacqua",47,0,0,null,null," "]
["Central","Baixo Guandu",89,0,0]
["Norte","Barra de São Francisco",158,0,0]
["Norte","Boa Esperança",55,0,0]
["Sul","Bom Jesus do Norte",5,0,0]
["Metropolitana","Brejetuba",53,0,0]
["Sul","Cachoeiro de Itapemirim",578,11,1.9031141868512111E-2]
["Metropolitana","Cariacica",1202,207,0.17221297836938437]
["Sul","Castelo",114,0,0]
["Central","Colatina",366,33,9.0163934426229511E-2]
["Norte","Conceição da Barra",99,0,0]
["Metropolitana","Conceição do Castelo",41,7,0.17073170731707318]
["Sul","Divino de São Lourenço",12,4,0.33333333333333331]
["Metropolitana","Domingos Martins",111,11,9.90990990990991E-2]
["Sul","Dores do Rio Preto",25,1,0.04]
["Norte","Ecoporanga",77,15,0.19480519480519481]
["Metropolitana","Fundão",66,1,1.5151515151515152E-2]
["Central","Governador Lindenberg",37,0,0]
["Sul","Guaçuí",79,0,0]
["Metropolitana","Guarapari",471,15,3.1847133757961783E-2]
["Metropolitana","Ibatiba",83,0,0]
["Metropolitana","Ibiraçu",26,0,0]
["Sul","Ibitirama",38,6,0.15789473684210525]
["Sul","Iconha",26,1,3.8461538461538464E-2]
["Sul","Irupi",32,6,0.1875]
["Metropolitana","Itaguaçu",36,0,0]
["Sul","Itapemirim",140,1,7.1428571428571426E-3]
["Metropolitana","Itarana",37,0,0]
["Sul","Iúna",71,0,0]
["Norte","Jaguaré",141,0,0]
["Sul","Jerônimo Monteiro",40,3,7.4999999999999997E-2]
["Metropolitana","João Neiva",38,0,0]
["Metropolitana","Laranja da Terra",25,0,0]
["Central","Linhares",669,25,3.7369207772795218E-2]
["Central","Mantenópolis",38,0,0]
["Sul","Marataízes",155,0,0]
["Metropolitana","Marechal Floriano",44,4,9.0909090909090912E-2]
["Central","Marilândia",45,0,0]
["Sul","Mimoso do Sul",87,0,0]
["Norte","Montanha",42,14,0.33333333333333331]
["Norte","Mucurici",20,0,0]
["Sul","Muniz Freire",49,3,6.1224489795918366E-2]
["Sul","Muqui",41,0,0]
["Norte","Nova Venécia",190,2,1.0526315789473684E-2]
["Central","Pancas",56,0,0]
["Norte","Pedro Canário",77,7,9.0909090909090912E-2]
["Norte","Pinheiros",97,11,0.1134020618556701]
["Sul","Piúma",82,1,1.2195121951219513E-2]
["Norte","Ponto Belo",14,0,0]
["Sul","Presidente Kennedy",59,0,0]
["Central","Rio Bananal",78,0,0]
["Sul","Rio Novo do Sul",31,0,0]
["Metropolitana","Santa Leopoldina",31,0,0]
["Metropolitana","Santa Maria de Jetibá",171,2,1.1695906432748537E-2]
["Metropolitana","Santa Teresa",74,3,4.0540540540540543E-2]
["Central","São Domingos do Norte",29,0,0]
["Central","São Gabriel da Palha",114,0,{"$f":"D67/C67","v":0}]
["Sul","São José do Calçado",19,1,5.2631578947368418E-2]
["Norte","São Mateus",487,52,0.10677618069815195]
["Central","São Roque do Canaã",32,0,0]
["Metropolitana","Serra",1860,445,0.239247311827957]
["Central","Sooretama",96,1,1.0416666666666666E-2]
["Sul","Vargem Alta",73,14,0.19178082191780821]
["Metropolitana","Venda Nova do Imigrante",84,4,4.7619047619047616E-2]
["Metropolitana","Viana",216,12,5.5555555555555552E-2]
["Norte","Vila Pavão",38,0,0]
["Central","Vila Valério",66,0,0]
["Metropolitana","Vila Velha",1434,295,0.20571827057182707]
["Metropolitana","Vitória",889,158,0.17772778402699663]
[]
[null,"Total Norte",{"$f":"SUMIF($A$2:$A$79,\"Norte\",C$2:C$79)","v":1533},{"$f":"SUMIF($A$2:$A$79,\"Norte\",D$2:D$79)","v":101},{"$f":"D81/C81","v":6.5883887801696017E-2},null,null,null,null,null," "]
[null,"Total Central",{"$f":"SUMIF($A$2:$A$79,\"CENTRAL\",C$2:C$79)","v":1791},{"$f":"SUMIF($A$2:$A$79,\"cENTRAL\",D$2:D$79)","v":59},3.2942490228922393E-2,null,null,null,null,null,null,null,null,null,null," "]
[null,"Total Metropolitana",{"$f":"SUMIF($A$2:$A$79,\"METROPOLITANA\",C$2:C$79)","v":7467},{"$f":"SUMIF($A$2:$A$79,\"Metropolitana\",D$2:D$79)","v":1222},0.16365340832998526]
[null,"Total Sul",{"$f":"SUMIF($A$2:$A$79,\"SUL\",C$2:C$79)","v":2024},{"$f":"SUMIF($A$2:$A$79,\"sul\",D$2:D$79)","v":70},3.4584980237154152E-2]
[null,"TOTAL ES",{"$f":"SUM(C2:C79)","v":12815},{"$f":"SUM(D2:D79)","v":1452},0.11330472103004292]
[null,"HOMOGENEIDADE ENTRE MUNICÍPIOS",null,null,{"$f":"COUNTIF(E2:E79,\">=0,90\")/78","v":0}]
[]
[]
[]
[]
[" Fonte: Vacina e Confia, em 15 de Abril de 2026.**<https://vacinaeconfia.saude.es.gov.br/>",null,null,null,null," "]
["**Dados referente às doses aplicadas de janeiro a Março de 2026",null,null,null," ",null," ",null," "]
["Cobertura Calculada por município de procedência/ocorrência da vacinação"]
["1 População estimada extraída do MS/SVS/DASIS - SINASC/DASIS/SVS/MS 2025 referente ao período de janeiro de 2026 e fevereiro e março de 2025."]
["Sinasc, atualizado em 06/04/2026"]
["Método de Cálculo Simples"]
["Homogeineidade: O cálculo da Homogeineidade entre vacinas é feito de acordo com a pactuação estabelecida no Plano Plurianual (PPA) vigente no período 2024-2027."]
[]
[]
["Observações referente a distribuição de imunobiológicos que podem afetar a cobertura vacinal: "]
[null,null,null,null,null,null,null,null,null,null,null,null,null,null,null,null,null," "]
["1. Vacinas que foram recebidas parcialmente pelo estado no mês de Março/2026, sendo distribuídos em quantidades reduzidas às regionais e municípios:",null,null,null,null,null,null,null,null,null,null,null,null," "]
["IMUNOGLOBULINA ANTIRRÁBICA HUMANA; SORO ANTIRRÁBICO HUMANO"]
["2. Vacinas indisponíveis no mês de março/2026, não sendo possível a distribuição às regionais e municípios: "]
["IMUNOGLOBULINA HUMANA ANTIVARICELA (ZOSTER) – 125UI "]
["3. Vacinas enviadas por Pautas aguardando abastecimento do estoque estadual;"]
["VACINA COVID-19 PFIZER PEDIÁTRICA MENOR QUE 5 ANOS; VACINA COVID-19 PFIZER PEDIÁTRICA, VACINA COVID-19 PFIZER MAIORES QUE 12 ANOS, VACINA VÍRUS SINCICIAL RESPIRATÓRIO A E B - VSR \n"]
[]
["Fonte: Informes situacionais de distribuição de imunobiológicos em https://saude.es.gov.br/GrupodeArquivos/informes-situacionais-de-distribuicao-de-imunobiologicos"]

{"sheet":"COVID-19 gestantes -Residência","index":12,"n_rows":109,"n_cols":18,"rows_kept":109,"cut":false,"hidden":false,"merged":[[85,1,85,2]]}
["Regional","Município","¹População ","Doses Aplicadas","Cobertura Vacinal %"]
["Metropolitana","Afonso Cláudio",88,1,{"$f":"D2/C2","v":1.1363636363636364E-2}]
["Norte","Água Doce do Norte",38,0,{"$f":"D3/C3","v":0}]
["Central","Águia Branca",52,1,1.9230769230769232E-2]
["Sul","Alegre",75,6,0.08]
["Sul","Alfredo Chaves",32,0,0]
["Central","Alto Rio Novo",24,0,0]
["Sul","Anchieta",103,12,0.11650485436893204]
["Sul","Apiacá",11,0,0]
["Metropolitana","Aracruz",387,56,0.14470284237726097]
["Sul","Atilio Vivacqua",47,0,0]
["Central","Baixo Guandu",89,2,2.247191011235955E-2]
["Norte","Barra de São Francisco",158,7,4.4303797468354431E-2]
["Norte","Boa Esperança",55,1,1.8181818181818181E-2]
["Sul","Bom Jesus do Norte",5,0,0]
["Metropolitana","Brejetuba",53,0,0]
["Sul","Cachoeiro de Itapemirim",578,21,3.6332179930795849E-2]
["Metropolitana","Cariacica",1202,220,0.18302828618968386]
["Sul","Castelo",114,1,8.771929824561403E-3]
["Central","Colatina",366,32,8.7431693989071038E-2]
["Norte","Conceição da Barra",99,3,3.0303030303030304E-2]
["Metropolitana","Conceição do Castelo",41,5,0.12195121951219512]
["Sul","Divino de São Lourenço",12,3,0.25]
["Metropolitana","Domingos Martins",111,7,6.3063063063063057E-2]
["Sul","Dores do Rio Preto",25,1,0.04]
["Norte","Ecoporanga",77,12,0.15584415584415584]
["Metropolitana","Fundão",66,2,3.0303030303030304E-2]
["Central","Governador Lindenberg",37,1,2.7027027027027029E-2]
["Sul","Guaçuí",79,0,0]
["Metropolitana","Guarapari",471,18,3.8216560509554139E-2]
["Metropolitana","Ibatiba",83,0,0]
["Metropolitana","Ibiraçu",26,2,7.6923076923076927E-2]
["Sul","Ibitirama",38,6,0.15789473684210525]
["Sul","Iconha",26,1,3.8461538461538464E-2]
["Sul","Irupi",32,5,0.15625]
["Metropolitana","Itaguaçu",36,1,2.7777777777777776E-2]
["Sul","Itapemirim",140,0,0]
["Metropolitana","Itarana",37,0,0]
["Sul","Iúna",71,2,2.8169014084507043E-2]
["Norte","Jaguaré",141,4,2.8368794326241134E-2]
["Sul","Jerônimo Monteiro",40,3,7.4999999999999997E-2]
["Metropolitana","João Neiva",38,0,0]
["Metropolitana","Laranja da Terra",25,0,0]
["Central","Linhares",669,31,4.6337817638266068E-2]
["Central","Mantenópolis",38,0,0]
["Sul","Marataízes",155,1,6.4516129032258064E-3]
["Metropolitana","Marechal Floriano",44,3,6.8181818181818177E-2]
["Central","Marilândia",45,0,0]
["Sul","Mimoso do Sul",87,0,0]
["Norte","Montanha",42,16,0.38095238095238093]
["Norte","Mucurici",20,0,0]
["Sul","Muniz Freire",49,4,8.1632653061224483E-2]
["Sul","Muqui",41,1,2.4390243902439025E-2]
["Norte","Nova Venécia",190,4,2.1052631578947368E-2]
["Central","Pancas",56,1,1.7857142857142856E-2]
["Norte","Pedro Canário",77,7,9.0909090909090912E-2]
["Norte","Pinheiros",97,11,0.1134020618556701]
["Sul","Piúma",82,0,0]
["Norte","Ponto Belo",14,2,0.14285714285714285]
["Sul","Presidente Kennedy",59,0,0]
["Central","Rio Bananal",78,1,1.282051282051282E-2]
["Sul","Rio Novo do Sul",31,0,0]
["Metropolitana","Santa Leopoldina",31,0,0]
["Metropolitana","Santa Maria de Jetibá",171,2,1.1695906432748537E-2]
["Metropolitana","Santa Teresa",74,1,1.3513513513513514E-2]
["Central","São Domingos do Norte",29,2,6.8965517241379309E-2]
["Central","São Gabriel da Palha",114,1,{"$f":"D67/C67","v":8.771929824561403E-3}]
["Sul","São José do Calçado",19,2,0.10526315789473684]
["Norte","São Mateus",487,34,6.9815195071868577E-2]
["Central","São Roque do Canaã",32,0,0]
["Metropolitana","Serra",1860,383,0.20591397849462365]
["Central","Sooretama",96,4,4.1666666666666664E-2]
["Sul","Vargem Alta",73,11,0.15068493150684931]
["Metropolitana","Venda Nova do Imigrante",84,5,5.9523809523809521E-2]
["Metropolitana","Viana",216,22,0.10185185185185185]
["Norte","Vila Pavão",38,0,0]
["Central","Vila Valério",66,0,0]
["Metropolitana","Vila Velha",1434,244,0.1701534170153417]
["Metropolitana","Vitória",889,138,0.15523059617547807]
[]
[null,"Total Norte",{"$f":"SUMIF($A$2:$A$79,\"Norte\",C$2:C$79)","v":1533},{"$f":"SUMIF($A$2:$A$79,\"Norte\",D$2:D$79)","v":101},{"$f":"D81/C81","v":6.5883887801696017E-2}]
[null,"Total Central",{"$f":"SUMIF($A$2:$A$79,\"CENTRAL\",C$2:C$79)","v":1791},{"$f":"SUMIF($A$2:$A$79,\"CENTRAL\",D$2:D$79)","v":76},4.243439419318816E-2,null,null,null,null,null,null," "]
[null,"Total Metropolitana",{"$f":"SUMIF($A$2:$A$79,\"METROPOLITANA\",C$2:C$79)","v":7467},{"$f":"SUMIF($A$2:$A$79,\"METROPOLITANA\",D$2:D$79)","v":1110},0.14865407794294896]
[null,"Total Sul",{"$f":"SUMIF($A$2:$A$79,\"SUL\",C$2:C$79)","v":2024},{"$f":"SUMIF($A$2:$A$79,\"SUL\",D$2:D$79)","v":80},3.9525691699604744E-2]
[null,"TOTAL ES",{"$f":"SUM(C2:C79)","v":12815},{"$f":"SUM(D2:D79)","v":1367},0.10667186890362856,null,null,null,null," "]
[null,"HOMOGENEIDADE ENTRE MUNICÍPIOS",null,{"$f":"COUNTIF(E2:E79,\">=0,95\")","v":0},{"$f":"COUNTIF(E2:E79,\">=0,90\")/78","v":0}]
[]
[]
[]
[]
[" Fonte: Vacina e Confia, em 15 de Abril de 2026.**<https://vacinaeconfia.saude.es.gov.br/>"]
["**Dados referente às doses aplicadas no período de Janeiro e Março de 2026",null,null,null,null,null," ",null," ",null," "]
["Cobertura Calculada por município de residência do vacinado"]
["1 População estimada extraída do MS/SVS/DASIS - SINASC/DASIS/SVS/MS 2025 referente ao período de janeiro de 2026 e fevereiro e março de 2025."]
["Sinasc, atualizado em 06/04/2026"]
["Método de Cálculo Simples"]
["Homogeineidade: O cálculo da Homogeineidade entre vacinas é feito de acordo com a pactuação estabelecida no Plano Plurianual (PPA) vigente no período 2024-2027."]
[]
[]
["Observações referente a distribuição de imunobiológicos que podem afetar a cobertura vacinal: "]
[null,null,null,null,null,null,null,null,null,null,null,null,null,null,null,null,null," "]
["1. Vacinas que foram recebidas parcialmente pelo estado no mês de Março/2026, sendo distribuídos em quantidades reduzidas às regionais e municípios:",null,null,null,null,null,null,null,null,null,null,null,null," "]
["IMUNOGLOBULINA ANTIRRÁBICA HUMANA; SORO ANTIRRÁBICO HUMANO"]
["2. Vacinas indisponíveis no mês de março/2026, não sendo possível a distribuição às regionais e municípios: "]
["IMUNOGLOBULINA HUMANA ANTIVARICELA (ZOSTER) – 125UI "]
["3. Vacinas enviadas por Pautas aguardando abastecimento do estoque estadual;"]
["VACINA COVID-19 PFIZER PEDIÁTRICA MENOR QUE 5 ANOS; VACINA COVID-19 PFIZER PEDIÁTRICA, VACINA COVID-19 PFIZER MAIORES QUE 12 ANOS, VACINA VÍRUS SINCICIAL RESPIRATÓRIO A E B - VSR \n"]
[]
["Fonte: Informes situacionais de distribuição de imunobiológicos em https://saude.es.gov.br/GrupodeArquivos/informes-situacionais-de-distribuicao-de-imunobiologicos"]

{"sheet":"COVID-19 idoso -Procêdencia","index":13,"n_rows":108,"n_cols":14,"rows_kept":108,"cut":false,"hidden":false,"merged":[[85,1,85,3]]}
["Regional ","Município","População  60 anos +","Doses Aplicadas ","Cobertura %"]
["Metropolitana","Afonso Cláudio",5905,7,{"$f":"(D2/C2)","v":1.1854360711261642E-3}]
["Norte","Água Doce do Norte",2357,1,{"$f":"(D3/C3)","v":4.2426813746287653E-4}]
["Central","Águia Branca",1775,15,8.4507042253521118E-3]
["Sul","Alegre",5949,120,2.0171457387796268E-2]
["Sul","Alfredo Chaves",3040,41,1.3486842105263158E-2]
["Central","Alto Rio Novo",1417,0,0]
["Sul","Anchieta",5080,273,5.3740157480314958E-2]
["Sul","Apiacá",1536,1,6.5104166666666663E-4]
["Metropolitana","Aracruz",13047,574,4.3994788073886716E-2]
["Sul","Atilio Vivacqua",1843,7,3.7981551817688553E-3]
["Central","Baixo Guandu",5706,27,4.7318611987381704E-3]
["Norte","Barra de São Francisco",7226,31,4.2900636590091339E-3]
["Norte","Boa Esperança",2317,46,1.985325852395339E-2,null,null," "]
["Sul","Bom Jesus do Norte",1991,61,3.0637870416875941E-2]
["Metropolitana","Brejetuba",1637,23,1.4050091631032376E-2]
["Sul","Cachoeiro de Itapemirim",32906,765,2.3248039871148121E-2]
["Metropolitana","Cariacica",54005,2942,5.447643736691047E-2]
["Sul","Castelo",7171,131,1.826802398549714E-2]
["Central","Colatina",21491,836,3.8900004653110602E-2]
["Norte","Conceição da Barra",4468,27,6.0429722470904208E-3]
["Metropolitana","Conceição do Castelo",2176,75,3.4466911764705885E-2]
["Sul","Divino de São Lourenço",847,5,5.9031877213695395E-3]
["Metropolitana","Domingos Martins",6358,323,5.0802139037433157E-2]
["Sul","Dores do Rio Preto",1145,51,4.4541484716157202E-2]
["Norte","Ecoporanga",4274,84,1.9653720168460457E-2]
["Metropolitana","Fundão",3432,169,4.924242424242424E-2]
["Central","Governador Lindenberg",1987,33,1.660795168595873E-2]
["Sul","Guaçuí",5504,108,1.9622093023255814E-2]
["Metropolitana","Guarapari",21755,400,1.8386577798207307E-2]
["Metropolitana","Ibatiba",3852,34,8.8265835929387335E-3]
["Metropolitana","Ibiraçu",2121,30,1.4144271570014143E-2]
["Sul","Ibitirama",1400,26,1.8571428571428572E-2]
["Sul","Iconha",2560,87,3.3984374999999997E-2]
["Sul","Irupi",2006,28,1.3958125623130608E-2]
["Metropolitana","Itaguaçu",3214,31,9.6453018046048535E-3]
["Sul","Itapemirim",6549,58,8.8563139410597035E-3]
["Metropolitana","Itarana",2389,23,9.6274591879447462E-3]
["Sul","Iúna",4417,0,0]
["Norte","Jaguaré",3734,96,2.5709694697375468E-2]
["Sul","Jerônimo Monteiro",2356,133,5.6451612903225805E-2]
["Metropolitana","João Neiva",3012,53,1.759628154050465E-2]
["Metropolitana","Laranja da Terra",2471,15,6.0704168352893563E-3]
["Central","Linhares",21740,212,9.7516099356025759E-3]
["Central","Mantenópolis",2524,0,0]
["Sul","Marataízes",7611,150,1.9708316909735908E-2]
["Metropolitana","Marechal Floriano",2879,69,2.396665508857242E-2]
["Central","Marilândia",2476,42,1.6962843295638127E-2]
["Sul","Mimoso do Sul",5077,47,9.2574354934016143E-3]
["Norte","Montanha",3304,239,7.233656174334141E-2]
["Norte","Mucurici",1090,0,0]
["Sul","Muniz Freire",3309,45,1.3599274705349048E-2]
["Sul","Muqui",2780,38,1.3669064748201438E-2]
["Norte","Nova Venécia",8352,56,6.7049808429118776E-3]
["Central","Pancas",3687,41,1.1120151885001357E-2]
["Norte","Pedro Canário",3253,57,1.7522287119581925E-2]
["Norte","Pinheiros",3762,134,3.5619351408825092E-2]
["Sul","Piúma",3886,85,2.1873391662377766E-2]
["Norte","Ponto Belo",1330,19,1.4285714285714285E-2]
["Sul","Presidente Kennedy",2214,0,0]
["Central","Rio Bananal",3071,27,8.7919244545750577E-3]
["Sul","Rio Novo do Sul",2232,18,8.0645161290322578E-3]
["Metropolitana","Santa Leopoldina",2634,5,1.8982536066818527E-3]
["Metropolitana","Santa Maria de Jetibá",5552,59,1.0626801152737753E-2]
["Metropolitana","Santa Teresa",4767,76,1.5942941053073211E-2]
["Central","São Domingos do Norte",1520,5,3.2894736842105261E-3]
["Central","São Gabriel da Palha",5456,9,{"$f":"(D67/C67)","v":1.6495601173020528E-3}]
["Sul","São José do Calçado",2456,30,1.2214983713355049E-2]
["Norte","São Mateus",17649,999,5.6603773584905662E-2]
["Central","São Roque do Canaã",2370,3,1.2658227848101266E-3]
["Metropolitana","Serra",66481,2838,4.2688888554624632E-2]
["Central","Sooretama",3097,72,2.3248304811107522E-2]
["Sul","Vargem Alta",3365,62,1.8424962852897474E-2]
["Metropolitana","Venda Nova do Imigrante",3766,75,1.9915029208709505E-2]
["Metropolitana","Viana",9758,254,2.6029924164787867E-2]
["Norte","Vila Pavão",1510,31,2.052980132450331E-2]
["Central","Vila Valério",2160,5,2.3148148148148147E-3]
["Metropolitana","Vila Velha",81049,3150,3.8865377734456932E-2]
["Metropolitana","Vitória",64805,3172,4.8946840521564693E-2]
[]
[null,"Total Norte",{"$f":"SUMIF($A$2:$A$79,\"Norte\",C$2:C$79)","v":64626},{"$f":"SUMIF($A$2:$A$79,\"Norte\",D$2:D$79)","v":1820},{"$f":"D81/C81","v":2.8162040045802E-2}]
[null,"Total Central",{"$f":"SUMIF($A$2:$A$79,\"Central\",C$2:C$79)","v":80477},{"$f":"SUMIF($A$2:$A$79,\"Central\",D$2:D$79)","v":1327},{"$f":"D82/C82","v":1.648918324490227E-2},null," "]
[null,"Total Metropolitana",{"$f":"SUMIF($A$2:$A$79,\"Metropolitana\",C$2:C$79)","v":367065},{"$f":"SUMIF($A$2:$A$79,\"Metropolitana\",D$2:D$79)","v":14397},3.9221936169343302E-2]
[null,"Total Sul",{"$f":"SUMIF($A$2:$A$79,\"sul\",C$2:C$79)","v":119230},{"$f":"SUMIF($A$2:$A$79,\"sul\",D$2:D$79)","v":2370},1.9877547597081272E-2]
[null,"Total Espírito Santo",{"$f":"SUM(C2:C79)","v":631398},{"$f":"SUM(D2:D79)","v":19914},3.1539536077086087E-2]
[null,"HOMOGENEIDADE ENTRE MUNICÍPIOS",null,null,{"$f":"COUNTIF(E2:E79,\">=0,90\")/78","v":0},null,null,null," "]
[]
[]
[]
[]
[" Fonte: Vacina e Confia, em 15 de Abril de 2026.**<https://vacinaeconfia.saude.es.gov.br/>"]
["Vacina Covid-19-Recombinante, Serum/Zalika>,  Vacina Covid-19-RNAm, Moderna (Spikevax), Vacina Covid-19-RNAm, Pfizer (Comirnaty)"]
["Período analisado: últimos 6 meses"]
["Faixa Etária: 60+.  População estimada extraída do Censo IBGE 2022."]
["Cobertura Calculada por município de procedência/ocorrência da vacinação"]
["Método de Cálculo Simples"]
["Homogeineidade: O cálculo da Homogeineidade entre vacinas é feito de acordo com a pactuação estabelecida no Plano Plurianual (PPA) vigente no período 2024-2027."]
[]
["Observações referente a distribuição de imunobiológicos que podem afetar a cobertura vacinal: "]
[]
["1. Vacinas que foram recebidas parcialmente pelo estado no mês de Março/2026, sendo distribuídos em quantidades reduzidas às regionais e municípios:",null,null,null,null,null,null,null,null,null,null,null,null," "]
["IMUNOGLOBULINA ANTIRRÁBICA HUMANA; SORO ANTIRRÁBICO HUMANO"]
["2. Vacinas indisponíveis no mês de março/2026, não sendo possível a distribuição às regionais e municípios: "]
["IMUNOGLOBULINA HUMANA ANTIVARICELA (ZOSTER) – 125UI "]
["3. Vacinas enviadas por Pautas aguardando abastecimento do estoque estadual;"]
["VACINA COVID-19 PFIZER PEDIÁTRICA MENOR QUE 5 ANOS; VACINA COVID-19 PFIZER PEDIÁTRICA, VACINA COVID-19 PFIZER MAIORES QUE 12 ANOS, VACINA VÍRUS SINCICIAL RESPIRATÓRIO A E B - VSR \n"]
[]
["Fonte: Informes situacionais de distribuição de imunobiológicos em https://saude.es.gov.br/GrupodeArquivos/informes-situacionais-de-distribuicao-de-imunobiologicos"]

{"sheet":"COVID-19 idoso -Residência","index":14,"n_rows":108,"n_cols":16,"rows_kept":108,"cut":false,"hidden":false,"merged":[[85,1,85,3]]}
["Regional ","Município","População  60 anos +","Doses Aplicadas ","Cobertura %"]
["Metropolitana","Afonso Cláudio",5905,18,{"$f":"(D2/C2)","v":3.048264182895851E-3}]
["Norte","Água Doce do Norte",2357,6,{"$f":"(D3/C3)","v":2.5456088247772591E-3}]
["Central","Águia Branca",1775,14,7.8873239436619714E-3]
["Sul","Alegre",5949,121,2.0339552866027902E-2]
["Sul","Alfredo Chaves",3040,41,1.3486842105263158E-2]
["Central","Alto Rio Novo",1417,2,1.4114326040931546E-3,null,null,null,null," "]
["Sul","Anchieta",5080,251,4.9409448818897639E-2]
["Sul","Apiacá",1536,2,1.3020833333333333E-3]
["Metropolitana","Aracruz",13047,541,4.14654709894995E-2]
["Sul","Atilio Vivacqua",1843,13,7.0537167661421599E-3]
["Central","Baixo Guandu",5706,28,4.9071153172099546E-3]
["Norte","Barra de São Francisco",7226,48,6.6426792139496265E-3]
["Norte","Boa Esperança",2317,44,1.8990073370738023E-2]
["Sul","Bom Jesus do Norte",1991,57,2.8628829733802111E-2]
["Metropolitana","Brejetuba",1637,27,1.6493585827733658E-2]
["Sul","Cachoeiro de Itapemirim",32906,763,2.3187260681942504E-2]
["Metropolitana","Cariacica",54005,2837,5.2532172946949354E-2]
["Sul","Castelo",7171,146,2.035978245711895E-2]
["Central","Colatina",21491,856,3.9830626773998415E-2]
["Norte","Conceição da Barra",4468,41,9.1763652641002683E-3]
["Metropolitana","Conceição do Castelo",2176,72,3.3088235294117647E-2]
["Sul","Divino de São Lourenço",847,6,7.0838252656434475E-3]
["Metropolitana","Domingos Martins",6358,294,4.6240956275558354E-2]
["Sul","Dores do Rio Preto",1145,44,3.8427947598253277E-2]
["Norte","Ecoporanga",4274,78,1.8249883013570427E-2]
["Metropolitana","Fundão",3432,121,3.5256410256410256E-2]
["Central","Governador Lindenberg",1987,35,1.7614494212380472E-2]
["Sul","Guaçuí",5504,112,2.0348837209302327E-2]
["Metropolitana","Guarapari",21755,331,1.5214893128016547E-2]
["Metropolitana","Ibatiba",3852,30,7.7881619937694704E-3]
["Metropolitana","Ibiraçu",2121,42,1.9801980198019802E-2]
["Sul","Ibitirama",1400,28,0.02]
["Sul","Iconha",2560,88,3.4375000000000003E-2]
["Sul","Irupi",2006,22,1.0967098703888335E-2]
["Metropolitana","Itaguaçu",3214,30,9.3341630367143741E-3]
["Sul","Itapemirim",6549,56,8.5509238051610925E-3]
["Metropolitana","Itarana",2389,24,1.0046044370029301E-2]
["Sul","Iúna",4417,13,2.9431741000679195E-3]
["Norte","Jaguaré",3734,92,2.4638457418318157E-2]
["Sul","Jerônimo Monteiro",2356,114,4.8387096774193547E-2]
["Metropolitana","João Neiva",3012,58,1.9256308100929615E-2]
["Metropolitana","Laranja da Terra",2471,20,8.0938891137191417E-3]
["Central","Linhares",21740,233,1.0717571297148114E-2]
["Central","Mantenópolis",2524,0,0]
["Sul","Marataízes",7611,126,1.6554986204178165E-2]
["Metropolitana","Marechal Floriano",2879,77,2.6745397707537338E-2]
["Central","Marilândia",2476,36,1.4539579967689823E-2]
["Sul","Mimoso do Sul",5077,51,1.004530234390388E-2]
["Norte","Montanha",3304,241,7.2941888619854719E-2]
["Norte","Mucurici",1090,3,2.7522935779816515E-3]
["Sul","Muniz Freire",3309,40,1.2088244182532487E-2]
["Sul","Muqui",2780,37,1.3309352517985611E-2]
["Norte","Nova Venécia",8352,81,9.6982758620689658E-3]
["Central","Pancas",3687,41,1.1120151885001357E-2]
["Norte","Pedro Canário",3253,62,1.9059329849369814E-2]
["Norte","Pinheiros",3762,147,3.9074960127591707E-2]
["Sul","Piúma",3886,82,2.1101389603705611E-2]
["Norte","Ponto Belo",1330,22,1.6541353383458645E-2]
["Sul","Presidente Kennedy",2214,8,3.6133694670280035E-3]
["Central","Rio Bananal",3071,31,1.0094431781178768E-2]
["Sul","Rio Novo do Sul",2232,26,1.1648745519713262E-2]
["Metropolitana","Santa Leopoldina",2634,17,6.4540622627182994E-3]
["Metropolitana","Santa Maria de Jetibá",5552,68,1.2247838616714697E-2]
["Metropolitana","Santa Teresa",4767,83,1.7411369834277324E-2]
["Central","São Domingos do Norte",1520,7,4.6052631578947364E-3]
["Central","São Gabriel da Palha",5456,15,{"$f":"(D67/C67)","v":2.7492668621700881E-3}]
["Sul","São José do Calçado",2456,30,1.2214983713355049E-2]
["Norte","São Mateus",17649,863,4.8897954558331916E-2]
["Central","São Roque do Canaã",2370,5,2.1097046413502108E-3]
["Metropolitana","Serra",66481,2775,4.1741249379521971E-2]
["Central","Sooretama",3097,67,2.1633839199225055E-2]
["Sul","Vargem Alta",3365,60,1.7830609212481426E-2]
["Metropolitana","Venda Nova do Imigrante",3766,82,2.1773765268189062E-2]
["Metropolitana","Viana",9758,249,2.5517524082803854E-2]
["Norte","Vila Pavão",1510,29,1.9205298013245033E-2]
["Central","Vila Valério",2160,7,3.2407407407407406E-3]
["Metropolitana","Vila Velha",81049,2907,3.5867191452084543E-2,null,null,null,null," "]
["Metropolitana","Vitória",64805,3160,4.8761669624257389E-2]
[null,null,null,null,null,null,null,null,null," "]
[null,"Total Norte",{"$f":"SUMIF($A$2:$A$79,\"Norte\",C$2:C$79)","v":64626},{"$f":"SUMIF($A$2:$A$79,\"Norte\",D$2:D$79)","v":1757},{"$f":"D81/C81","v":2.71872001980627E-2}]
[null,"Total Central",{"$f":"SUMIF($A$2:$A$79,\"Central\",C$2:C$79)","v":80477},{"$f":"SUMIF($A$2:$A$79,\"Central\",D$2:D$79)","v":1377},{"$f":"D82/C82","v":1.7110478770331897E-2},null,null,null,null,null,null,null,null,null,null," "]
[null,"Total Metropolitana",{"$f":"SUMIF($A$2:$A$79,\"Metropolitana\",C$2:C$79)","v":367065},{"$f":"SUMIF($A$2:$A$79,\"Metropolitana\",D$2:D$79)","v":13863},3.7767152956560829E-2]
[null,"Total Sul",{"$f":"SUMIF($A$2:$A$79,\"sul\",C$2:C$79)","v":119230},{"$f":"SUMIF($A$2:$A$79,\"Sul\",D$2:D$79)","v":2337},1.9600771617881405E-2]
[null,"Total Espírito Santo",{"$f":"SUM(C2:C79)","v":631398},{"$f":"SUM(D81:D84)","v":19334},3.0620939565852285E-2]
[null,"HOMOGENEIDADE ENTRE MUNICÍPIOS",null,null,{"$f":"COUNTIF(E2:E79,\">=0,90\")/78","v":0}]
[]
[]
[]
[]
[" Fonte: Vacina e Confia, em 15de Abril de 2026.**<https://vacinaeconfia.saude.es.gov.br/>"]
["Vacina Covid-19-Recombinante, Serum/Zalika>,  Vacina Covid-19-RNAm, Moderna (Spikevax), Vacina Covid-19-RNAm, Pfizer (Comirnaty)"]
["Período analisado: últimos 6 meses"]
["Faixa Etária: 60+.  População estimada extraída do Censo IBGE 2022."]
["Cobertura Calculada por município de residência do vacinado"]
["Método de Cálculo Simples"]
["Homogeineidade: O cálculo da Homogeineidade entre vacinas é feito de acordo com a pactuação estabelecida no Plano Plurianual (PPA) vigente no período 2024-2027."]
[]
["Observações referente a distribuição de imunobiológicos que podem afetar a cobertura vacinal: "]
[]
["1. Vacinas que foram recebidas parcialmente pelo estado no mês de Março/2026, sendo distribuídos em quantidades reduzidas às regionais e municípios:",null,null,null,null,null,null,null,null,null,null,null,null," "]
["IMUNOGLOBULINA ANTIRRÁBICA HUMANA; SORO ANTIRRÁBICO HUMANO"]
["2. Vacinas indisponíveis no mês de março/2026, não sendo possível a distribuição às regionais e municípios: "]
["IMUNOGLOBULINA HUMANA ANTIVARICELA (ZOSTER) – 125UI "]
["3. Vacinas enviadas por Pautas aguardando abastecimento do estoque estadual;"]
["VACINA COVID-19 PFIZER PEDIÁTRICA MENOR QUE 5 ANOS; VACINA COVID-19 PFIZER PEDIÁTRICA, VACINA COVID-19 PFIZER MAIORES QUE 12 ANOS, VACINA VÍRUS SINCICIAL RESPIRATÓRIO A E B - VSR \n"]
[]
["Fonte: Informes situacionais de distribuição de imunobiológicos em https://saude.es.gov.br/GrupodeArquivos/informes-situacionais-de-distribuicao-de-imunobiologicos"]

{"sheet":"Cobert. Meningo C Adolescentes","index":15,"n_rows":109,"n_cols":14,"rows_kept":109,"cut":false,"hidden":false,"merged":[]}
["Regional ","Município","População 11 a 14 anos","Doses Acumuladas","Série Histórica %"]
["Metropolitana","Afonso Cláudio",1627,619,46.541353383458642]
["Norte","Água Doce do Norte",664,427,77.848678213309014]
["Central","Águia Branca",504,327,76.090750436300169]
["Sul","Alegre",1351,913,84.283406415878147]
["Sul","Alfredo Chaves",632,344,65.742952699474444]
["Central","Alto Rio Novo",412,326,95.043731778425652]
["Sul","Anchieta",1512,1133,92.849825855357508]
["Sul","Apiacá",364,139,45.723684210526315]
["Metropolitana","Aracruz",5398,4204,95.74674030632579]
["Sul","Atilio Vivacqua",512,419,100]
["Central","Baixo Guandu",1522,1003,80.936050030260247]
["Norte","Barra de São Francisco",2306,1409,74.827403080191175]
["Norte","Boa Esperança",713,386,67.218110579016113]
["Sul","Bom Jesus do Norte",521,369,84.439359267734545]
["Metropolitana","Brejetuba",753,608,100.08230452674897]
["Sul","Cachoeiro de Itapemirim",9041,5907,80.840290132749416]
["Metropolitana","Cariacica",19769,13514,84.020081756998309]
["Sul","Castelo",1588,1124,87.317925810837068]
["Central","Colatina",5562,3572,79.536851480739259]
["Norte","Conceição da Barra",1742,931,65.864874425185704]
["Metropolitana","Conceição do Castelo",592,443,91.813471502590673]
["Sul","Divino de São Lourenço",272,166,75.113122171945705]
["Metropolitana","Domingos Martins",1722,1204,86.634286742219828]
["Sul","Dores do Rio Preto",381,241,78.951678951678943]
["Norte","Ecoporanga",1137,604,63.966110669843786]
["Metropolitana","Fundão",954,788,101.61186331399097]
["Central","Governador Lindenberg",550,378,83.122594832325461]
["Sul","Guaçuí",1508,985,81.641110650642361]
["Metropolitana","Guarapari",6549,4617,86.315199102636015]
["Metropolitana","Ibatiba",1388,779,68.983838831082579]
["Metropolitana","Ibiraçu",574,450,99.118942731277542]
["Sul","Ibitirama",573,471,102.95081967213116]
["Sul","Iconha",508,391,92.874109263657957]
["Sul","Irupi",753,504,81.553398058252426]
["Metropolitana","Itaguaçu",616,327,66.734693877551024]
["Sul","Itapemirim",2337,1510,80.662393162393158]
["Metropolitana","Itarana",428,264,75.91660675772826]
["Sul","Iúna",1564,899,69.961089494163417]
["Norte","Jaguaré",1794,1161,78.69852567361464]
["Sul","Jerônimo Monteiro",563,433,94.386920980926419]
["Metropolitana","João Neiva",659,427,80.794701986754973]
["Metropolitana","Laranja da Terra",488,273,71.700590938936315]
["Central","Linhares",9326,6830,90.096626323252977]
["Central","Mantenópolis",710,557,97.377622377622373]
["Sul","Marataízes",2239,1743,94.999318708270891]
["Metropolitana","Marechal Floriano",922,681,89.693776753375047]
["Central","Marilândia",550,381,83.233205898416159]
["Sul","Mimoso do Sul",1159,679,72.061554789068722]
["Norte","Montanha",1050,688,81.75876411170529]
["Norte","Mucurici",253,158,76.513317191283292]
["Sul","Muniz Freire",924,615,80.078125]
["Sul","Muqui",662,418,77.443260768874481]
["Norte","Nova Venécia",2425,1910,95.333166957823806]
["Central","Pancas",946,590,76.129032258064512]
["Norte","Pedro Canário",1253,894,88.122227698373578]
["Norte","Pinheiros",1417,800,70.206230802983754]
["Sul","Piúma",1086,777,87.058823529411768]
["Norte","Ponto Belo",396,238,74.316939890710387]
["Sul","Presidente Kennedy",730,596,100.67567567567568]
["Central","Rio Bananal",990,703,88.678650268054241]
["Sul","Rio Novo do Sul",522,330,78.152753108348136]
["Metropolitana","Santa Leopoldina",635,277,52.486972998578871]
["Metropolitana","Santa Maria de Jetibá",2131,1462,87.049717177731466]
["Metropolitana","Santa Teresa",1054,674,79.154433352906636]
["Central","São Domingos do Norte",410,258,77.710843373493972]
["Central","São Gabriel da Palha",1616,962,72.195121951219505]
["Sul","São José do Calçado",552,360,78.303425774877653]
["Norte","São Mateus",6608,4440,82.593126540482714]
["Central","São Roque do Canaã",465,324,83.720930232558146]
["Metropolitana","Serra",29073,17565,74.841018758188739]
["Central","Sooretama",1715,1285,91.345299449084777]
["Sul","Vargem Alta",1036,644,75.299619994153758]
["Metropolitana","Venda Nova do Imigrante",1122,756,83.443708609271525]
["Metropolitana","Viana",3978,2994,93.22746380196169]
["Norte","Vila Pavão",458,373,101.98222829801777]
["Central","Vila Valério",678,616,109.21985815602837]
["Metropolitana","Vila Velha",22007,14529,81.341413915209884]
["Metropolitana","Vitória",14287,9129,78.904038548801836]
[]
[null,"Total Central",null,18112,85.602542743374329]
[null,"Total Norte",null,14419,79.636584557605218]
[null,"Total Metropolitana",null,76584,80.975932118264353]
[null,"Total Sul",null,22110,82.708313850182364]
[null,"Total Espírito Santo",null,131225,81.722954668593104]
[]
[]
[]
[]
["Meningocócica Conjudada C e Meningocócica ACWY"]
["Método de Cálculo por COORTE"]
["Período avaliado: 2016-2026",null,null,null,null,null,null,null," "]
["Faixa Etária: 11 a 14 anos. População estimada extraída do Censo IBGE 2022."]
["Fonte: http://tabnet.datasus.gov.br/ e https://www.vacinaeconfia.es.gov.br"]
["*Dados parciais:"]
["Dados de janeiro/2022 a abril/2022 extraídos do TABNET em 26/02/2026"]
["Dados de Maio/2022 a Março/2026 extraídos do Vacina e Confia em  09/04/2026"]
["Cobertura Calculada por município de procedência da vacinação"]
[]
["Observações referente a distribuição de imunobiológicos que podem afetar a cobertura vacinal: "]
[]
["1. Vacinas que foram recebidas parcialmente pelo estado no mês de Março/2026, sendo distribuídos em quantidades reduzidas às regionais e municípios:",null,null,null,null,null,null,null,null,null,null,null,null," "]
["IMUNOGLOBULINA ANTIRRÁBICA HUMANA; SORO ANTIRRÁBICO HUMANO"]
["2. Vacinas indisponíveis no mês de março/2026, não sendo possível a distribuição às regionais e municípios: "]
["IMUNOGLOBULINA HUMANA ANTIVARICELA (ZOSTER) – 125UI "]
["3. Vacinas enviadas por Pautas aguardando abastecimento do estoque estadual;"]
["VACINA COVID-19 PFIZER PEDIÁTRICA MENOR QUE 5 ANOS; VACINA COVID-19 PFIZER PEDIÁTRICA, VACINA COVID-19 PFIZER MAIORES QUE 12 ANOS, VACINA VÍRUS SINCICIAL RESPIRATÓRIO A E B - VSR \n"]
[]
["Fonte: Informes situacionais de distribuição de imunobiológicos em https://saude.es.gov.br/GrupodeArquivos/informes-situacionais-de-distribuicao-de-imunobiologicos"]

{"sheet":"Cobert. HPV ","index":16,"n_rows":109,"n_cols":14,"rows_kept":109,"cut":false,"hidden":false,"merged":[]}
["Regional","Município","População Feminina \n9 a 14 anos","População Masculina \n9 a 14 anos","Doses Acumuladas\nFeminino","HPV \nFeminino %","Doses Acumuladas Masculino","HPV\nMasculino %"]
["Metropolitana","Afonso Cláudio",15277,15407,912,89.85221674876847,978,91.231343283582092]
["Norte","Água Doce do Norte",4781,4930,381,92.644376899696042,439,99.943084803642563]
["Central","Águia Branca",5990,6052,288,92.233787029623699,323,96.48991784914115]
["Sul","Alegre",14870,14307,791,88.5530366638679,773,86.176142697881829]
["Sul","Alfredo Chaves",6823,7013,317,79.498432601880879,298,69.544924154025665]
["Central","Alto Rio Novo",3733,3701,273,105.10105871029836,292,108.85368126747437]
["Sul","Anchieta",15163,14821,1035,104.25585494837573,1052,106.07511973783717]
["Sul","Apiacá",3725,3498,192,81.098204857444571,177,75.159235668789819]
["Metropolitana","Aracruz",47872,46893,3872,112.43557168784028,3898,106.67761357416529]
["Sul","Atílio Vivácqua",5285,5255,422,125.31551596139569,389,112.18457101658255]
["Central","Baixo Guandu",15696,14978,942,92.557111274871033,1006,101.36020151133501]
["Norte","Barra de São Francisco",21504,20994,1357,91.134989926124916,1326,85.259604565182443]
["Norte","Boa Esperança",6846,6762,431,91.65337586390217,319,70.34178610804851]
["Sul","Bom Jesus do Norte",5417,4837,342,93.506493506493499,316,100.95846645367412]
["Metropolitana","Brejetuba",6331,6654,508,102.16189039718451,577,119.8961038961039]
["Sul","Cachoeiro de Itapemirim",95939,89847,5866,100.23067065356686,6009,98.958376219687921]
["Metropolitana","Cariacica",183096,170395,12559,99.558057036405785,12323,92.339971150783981]
["Sul","Castelo",18706,18224,1037,98.714897667777251,1078,104.17975356366271]
["Central","Colatina",61911,58122,2919,82.434340581756572,3142,83.915336849836422]
["Norte","Conceição da Barra",14062,13396,993,88.680509042196917,1048,93.238434163701072]
["Metropolitana","Conceição do Castelo",5964,5973,410,107.25964682799216,461,116.26733921815888]
["Sul","Divino de São Lourenço",2463,2620,148,92.355694227769121,176,94.117647058823522]
["Metropolitana","Domingos Martins",17546,17870,1215,112.00737497119151,1205,103.34476843910807]
["Sul","Dores do Rio Preto",3288,3308,251,113.83219954648527,219,83.03317535545024]
["Norte","Ecoporanga",11077,10915,652,94.117647058823522,643,85.024793388429757]
["Metropolitana","Fundão",9113,8901,609,94.455215199689803,726,120.39800995024876]
["Central","Governador Lindenberg",5347,5662,358,109.31297709923665,381,100.39525691699605]
["Sul","Guaçuí",15088,14270,963,100.15600624024961,911,89.073576142752387]
["Metropolitana","Guarapari",63971,60685,3979,94.361771506491962,4183,95.742732890821699]
["Metropolitana","Ibatiba",12686,12694,875,104.41527446300715,958,98.055271238485147]
["Metropolitana","Ibiraçu",5916,5807,393,106.21621621621622,399,98.884758364312262]
["Sul","Ibitirama",4693,4827,273,75.62326869806094,363,96.478405315614609]
["Sul","Iconha",6183,6143,374,113.93754760091394,357,102.21904080171798]
["Sul","Irupi",6771,6939,420,86.375321336760919,511,103.23232323232322]
["Metropolitana","Itaguaçu",6840,6749,383,97.455470737913487,310,77.45159275452842]
["Sul","Itapemirim",20328,19504,1276,86.611233667062621,1383,88.469534623380781]
["Metropolitana","Itarana",5336,5261,283,112.41310824230388,291,93.719806763285035]
["Sul","Iúna",14480,14110,981,96.793290577207685,1031,102.40874099826173]
["Norte","Jaguaré",14495,14436,1254,109.59143543805988,1222,101.57938487115545]
["Sul","Jerônimo Monteiro",5904,5671,358,95.212765957446805,386,108.50316233309908]
["Metropolitana","João Neiva",7265,6814,458,103.8548752834467,479,117.98029556650246]
["Metropolitana","Laranja da Terra",5493,5601,300,104.89510489510489,303,83.643892339544507]
["Central","Linhares",84307,82479,5984,98.64820309924167,6349,103.28195534588637]
["Central","Mantenópolis",6477,6293,425,88.082901554404145,395,90.234151913192463]
["Sul","Marataízes",21396,20533,1613,114.90650044523598,1681,110.8839050131926]
["Metropolitana","Marechal Floriano",8846,8795,608,106.948109058927,637,104.12750306497753]
["Central","Marilândia",6263,6124,385,103.63391655450876,450,134.83146067415731]
["Sul","Mimoso do Sul",12165,12310,590,79.434533826994283,572,78.679504814305375]
["Norte","Montanha",9553,9347,702,104.46428571428572,707,100.21261516654856]
["Norte","Mucurici",2718,2748,172,116.80814940577248,167,94.751773049645394]
["Sul","Muniz Freire",8942,9211,624,107.95847750865053,656,105.63607085346216]
["Sul","Muqui",6890,6855,415,93.206064008983716,433,99.028016009148089]
["Norte","Nova Venécia",24772,24293,1598,106.4978340553149,1700,100.28019466155433]
["Central","Pancas",9385,9508,595,100.08410428931876,624,96.073903002309464]
["Norte","Pedro Canário",10884,10638,835,105.52922590837284,804,96.460707858428322]
["Norte","Pinheiros",11985,11930,794,88.369504730105731,791,83.770187979878202]
["Sul","Piúma",11401,10899,693,98.4375,648,84.927916120576668]
["Norte","Ponto Belo",3351,3146,257,97.718631178707227,257,108.66807610993658]
["Sul","Presidente Kennedy",6865,6831,476,100.47493403693932,554,106.53846153846153]
["Central","Rio Bananal",9408,9866,756,117.52817722502915,837,125.01867064973862]
["Sul","Rio Novo do Sul",5467,5602,290,89.506172839506178,367,102.44242847173761]
["Metropolitana","Santa Leopoldina",6229,6877,303,76.85478757133798,313,72.411798727588206]
["Metropolitana","Santa Maria de Jetibá",20534,21102,1390,104.90566037735849,1428,98.738115816767504]
["Metropolitana","Santa Teresa",11475,11333,681,104.52801227935534,688,98.602651379433894]
["Central","São Domingos do Norte",4092,4497,278,104.21743205248359,324,119.33701657458565]
["Central","São Gabriel da Palha",16365,15887,996,94.586894586894587,1027,100.56303549571604]
["Sul","São José do Calçado",5498,5380,338,94.347522679692958,354,96.919917864476389]
["Norte","São Mateus",62665,61087,4126,97.282640730916597,4130,92.626857303055786]
["Central","São Roque do Canaã",5368,5518,324,100.07722007722009,315,105.26315789473684]
["Metropolitana","Serra",269243,251410,17491,92.811376570314266,15965,81.668670230452463]
["Central","Sooretama",13209,13293,1137,101.02176810306531,1152,102.8341887971435]
["Sul","Vargem Alta",9623,9940,602,96.079123984457794,680,96.079123984457794]
["Metropolitana","Venda Nova do Imigrante",12129,11702,799,115.08822470291682,804,108.17356205852676]
["Metropolitana","Viana",36243,37180,2827,113.9230304251461,2898,107.27373681288172]
["Norte","Vila Pavão",4415,4496,300,100.67114093959732,295,98.333333333333329]
["Central","Vila Valério",6650,7078,546,139.73128598848368,529,111.83932346723044]
["Metropolitana","Vila Velha",242147,225575,14453,102.30401698814369,14377,97.178005339822221]
["Metropolitana","Vitória",173415,149454,9853,108.1707149718677,9734,100.98034130400954]
[]
[null,"Total Central",null,null,16206,96.603728596336978,17146,100.02187577476703]
[null,"Total Norte",null,null,13852,97.970153476200579,13848,93.056698866022685]
[null,"Total Metropolitana",null,null,75161,100.64947238738016,73935,94.110683634211298]
[null,"Total Sul",null,null,20687,97.851356944362323,21374,97.354786549607724]
[null,"Total Espírito Santo",null,191099,125906,99.348230912476723,126303,95.294250792213674]
[]
[]
[]
[]
["Vacina HPV Quadrivalente, Bivalente e Nonavalente"]
["Método de Cálculo por COORTE"]
["Período avaliado: 2013-2026"]
["Faixa Etária: 9 a 14 anos. População estimada extraída do Censo IBGE 2022."]
["Fonte: http://tabnet.datasus.gov.br/ e https://www.vacinaeconfia.es.gov.br"]
["*Dados parciais:"]
["Dados de janeiro/2013 a dezembro/2022 extraídos do TABNET em 23/02/2026"]
["Dados de Janeiro/2023 a Março/2026 extraídos do Vacina e Confia em 09/04/2026"]
["Cobertura Calculada por município de procedência da vacinação"]
[]
["Observações referente a distribuição de imunobiológicos que podem afetar a cobertura vacinal: "]
[]
["1. Vacinas que foram recebidas parcialmente pelo estado no mês de Março/2026, sendo distribuídos em quantidades reduzidas às regionais e municípios:",null,null,null,null,null,null,null,null,null,null,null,null," "]
["IMUNOGLOBULINA ANTIRRÁBICA HUMANA; SORO ANTIRRÁBICO HUMANO"]
["2. Vacinas indisponíveis no mês de março/2026, não sendo possível a distribuição às regionais e municípios: "]
["IMUNOGLOBULINA HUMANA ANTIVARICELA (ZOSTER) – 125UI "]
["3. Vacinas enviadas por Pautas aguardando abastecimento do estoque estadual;"]
["VACINA COVID-19 PFIZER PEDIÁTRICA MENOR QUE 5 ANOS; VACINA COVID-19 PFIZER PEDIÁTRICA, VACINA COVID-19 PFIZER MAIORES QUE 12 ANOS, VACINA VÍRUS SINCICIAL RESPIRATÓRIO A E B - VSR \n"]
[]
["Fonte: Informes situacionais de distribuição de imunobiológicos em https://saude.es.gov.br/GrupodeArquivos/informes-situacionais-de-distribuicao-de-imunobiologicos"]

{"sheet":"Cobert. Dengue","index":17,"n_rows":109,"n_cols":14,"rows_kept":109,"cut":false,"hidden":false,"merged":[]}
["Regional","Município","População 10 a 14 anos","Doses Acumuladas D1","DENGUE -D1 %","Doses Acumuladas D2","DENGUE - D2 %"]
["Metropolitana","Afonso Cláudio",1987,1305,76.00465928945836,893,52.009318578916719]
["Norte","Água Doce do Norte",819,458,65.172536463891845,245,34.863038064745645]
["Central","Águia Branca",605,300,56.683986773736414,201,37.9782711384034]
["Sul","Alegre",1706,1444,100.2951901371766,515,35.770098975516582]
["Sul","Alfredo Chaves",781,256,38.251774374299593,78,11.654837504669405]
["Central","Alto Rio Novo",503,474,109.0281771132835,369,84.876365727429558]
["Sul","Anchieta",1875,1552,96.833567306192478,612,38.184370613008888]
["Sul","Apiacá",452,121,31.347150259067359,24,6.2176165803108807]
["Metropolitana","Aracruz",6737,5886,102.67323710261218,3829,66.79167938598404]
["Sul","Atílio Vivácqua",646,569,104.30797433547205,163,29.880843263061411]
["Central","Baixo Guandu",1916,1374,84.788645479790191,717,44.245603208886145]
["Norte","Barra de São Francisco",2900,946,38.541454471379097,269,10.95946221226319]
["Norte","Boa Esperança",882,270,35.749751737835155,128,16.948030453492223]
["Sul","Bom Jesus do Norte",649,403,72.875226039783001,75,13.562386980108499]
["Metropolitana","Brejetuba",924,787,98.900408419729814,561,70.4995287464656]
["Sul","Cachoeiro de Itapemirim",11366,7618,79.170672140091966,1984,20.618878121021591]
["Metropolitana","Cariacica",24648,16267,77.503424453576315,9243,44.037877434339819]
["Sul","Castelo",1979,1362,80.794898413169207,401,23.787631617974196]
["Central","Colatina",6926,3131,53.040826698289003,1527,25.86820260884296]
["Norte","Conceição da Barra",2137,1392,75.621349993209293,689,37.430395219339943]
["Metropolitana","Conceição do Castelo",734,753,120,561,89.402390438247011]
["Sul","Divino de São Lourenço",331,176,61.377506538796865,68,23.714036617262423]
["Metropolitana","Domingos Martins",2134,1606,88,1171,64.164383561643831]
["Sul","Dores do Rio Preto",464,254,63.223397635345371,72,17.9215930304916]
["Norte","Ecoporanga",1386,849,70.794246404002507,376,31.352928913904528]
["Metropolitana","Fundão",1188,1070,105.679012345679,750,74.074074074074076]
["Central","Governador Lindenberg",672,577,99.397071490094746,393,67.700258397932828]
["Sul","Guaçuí",1888,772,48.159700561447288,197,12.289457267623206]
["Metropolitana","Guarapari",8184,2760,39.667996119435159,1118,16.068412920843663]
["Metropolitana","Ibatiba",1738,1511,102.40596407997289,914,61.945103354794981]
["Metropolitana","Ibiraçu",735,621,101.09890109890109,415,67.562067562067568]
["Sul","Ibitirama",700,476,78.710210830921866,137,22.653989251756922]
["Sul","Iconha",644,444,81.91881918819189,146,26.937269372693727]
["Sul","Irupi",933,659,82.581453634085207,193,24.185463659147867]
["Metropolitana","Itaguaçu",763,673,103.10225967062428,540,82.726924549980851]
["Sul","Itapemirim",2900,1035,41.771768741802042,283,11.421652709111088]
["Metropolitana","Itarana",535,503,110.61022539857063,374,82.242990654205599]
["Sul","Iúna",1916,1256,76.029055690072639,333,20.157384987893462]
["Norte","Jaguaré",2237,685,35.962724767029798,348,18.270114188213675]
["Sul","Jerônimo Monteiro",702,474,79.297365119196996,146,24.424926808866584]
["Metropolitana","João Neiva",808,676,97.091561938958705,455,65.350089766606828]
["Metropolitana","Laranja da Terra",617,539,103.60403652090342,425,81.691494473810664]
["Central","Linhares",11616,7905,79.860584937111682,4616,46.633328282062941]
["Central","Mantenópolis",880,769,102.19269102990035,572,76.013289036544847]
["Sul","Marataízes",2782,1352,56.9323086640699,344,14.485735340562163]
["Metropolitana","Marechal Floriano",1127,985,101.20729514513229,705,72.437708707937318]
["Central","Marilândia",673,588,101.24838570813604,358,61.644425312096431]
["Sul","Mimoso do Sul",1399,527,43.232157506152582,147,12.059064807219032]
["Norte","Montanha",1316,895,80.161218092252568,513,45.947156291983873]
["Norte","Mucurici",312,172,64.239028944911297,114,42.577030812324928]
["Sul","Muniz Freire",1140,746,76.27811860940696,300,30.674846625766872]
["Sul","Muqui",844,312,44.098939929328623,101,14.275618374558304]
["Norte","Nova Venécia",3044,1644,63.727105339664689,740,28.684950092063183]
["Central","Pancas",1188,934,92.796820665673124,625,62.096373571783403]
["Norte","Pedro Canário",1545,940,70.889894419306188,564,42.533936651583709]
["Norte","Pinheiros",1757,815,54.260985352862846,335,22.303595206391478]
["Sul","Piúma",1385,813,70.04092181779022,195,16.799483092827913]
["Norte","Ponto Belo",476,408,98.076923076923066,293,70.432692307692307]
["Sul","Presidente Kennedy",939,820,104.82582294662832,293,37.456056248002554]
["Central","Rio Bananal",1246,1042,98.861480075901326,678,64.326375711574954]
["Sul","Rio Novo do Sul",647,526,95.074559421599631,174,31.450519656574787]
["Metropolitana","Santa Leopoldina",787,526,78.157503714710259,339,50.371471025260028]
["Metropolitana","Santa Maria de Jetibá",2632,2170,96.177285318559555,1498,66.393351800554015]
["Metropolitana","Santa Teresa",1292,940,84.418500224517288,664,59.631791647956888]
["Central","São Domingos do Norte",516,337,77.20504009163804,198,45.360824742268044]
["Central","São Gabriel da Palha",1977,1705,99.926739926739927,1044,61.186813186813183]
["Sul","São José do Calçado",691,451,76.864081806561572,106,18.065615679590969]
["Norte","São Mateus",8277,3779,53.791680011387498,1737,24.72509875093413]
["Central","São Roque do Canaã",600,476,95.438596491228068,370,74.185463659147871]
["Metropolitana","Serra",36482,20496,66.275939563948555,10235,33.095932935061157]
["Central","Sooretama",2138,1348,74.035424962240839,756,41.521351091583135]
["Sul","Vargem Alta",1247,903,82.939150401836969,331,30.401836969001149]
["Metropolitana","Venda Nova do Imigrante",1375,1017,85.804682556422691,676,57.034380932292763]
["Metropolitana","Viana",4928,4229,100.3202467085755,2605,61.79575376586407]
["Norte","Vila Pavão",566,386,79.587628865979383,264,54.432989690721648]
["Central","Vila Valério",817,721,101.15748860049105,433,60.750613819712385]
["Metropolitana","Vila Velha",27506,17115,73.198113913629214,8794,37.610529579693562]
["Metropolitana","Vitória",17857,12759,84.054151981290559,7422,48.894891136071678]
[]
[null,"Total Central",null,21681,78.739070827393974,12857,46.692875495955185]
[null,"Total Norte",null,13639,57.852431549702018,6615,28.058789845390343]
[null,"Total Metropolitana",null,95194,76.785455014761155,54187,43.708358204139579]
[null,"Total Sul",null,25321,72.513531315329757,14855,42.541309888599329]
[null,"Total Espírito Santo",null,155835,74.205817753254408,88514,42.148771152896082]
[]
[]
[]
[]
["Vacina Dengue (Atenuada)"]
["Método de Cálculo por COORTE"]
["Período avaliado: 2024-2026"]
["Faixa Etária: 10 a 14 anos. População estimada extraída do Censo IBGE 2022."]
["Fonte: https://www.vacinaeconfia.es.gov.br"]
["*Dados parciais:"]
["Dados de Janeiro/2024 a Março/2026 extraídos do Vacina e Confia em em 09/04/2026"]
["População proporcional extraída do Censo IBGE 2022"]
[]
[]
["Observações referente a distribuição de imunobiológicos que podem afetar a cobertura vacinal: "]
[]
["1. Vacinas que foram recebidas parcialmente pelo estado no mês de Março/2026, sendo distribuídos em quantidades reduzidas às regionais e municípios:",null,null,null,null,null,null,null,null,null,null,null,null," "]
["IMUNOGLOBULINA ANTIRRÁBICA HUMANA; SORO ANTIRRÁBICO HUMANO"]
["2. Vacinas indisponíveis no mês de março/2026, não sendo possível a distribuição às regionais e municípios: "]
["IMUNOGLOBULINA HUMANA ANTIVARICELA (ZOSTER) – 125UI "]
["3. Vacinas enviadas por Pautas aguardando abastecimento do estoque estadual;"]
["VACINA COVID-19 PFIZER PEDIÁTRICA MENOR QUE 5 ANOS; VACINA COVID-19 PFIZER PEDIÁTRICA, VACINA COVID-19 PFIZER MAIORES QUE 12 ANOS, VACINA VÍRUS SINCICIAL RESPIRATÓRIO A E B - VSR \n"]
[]
["Fonte: Informes situacionais de distribuição de imunobiológicos em https://saude.es.gov.br/GrupodeArquivos/informes-situacionais-de-distribuicao-de-imunobiologicos"]