{"text_format":"1","workbook":"xlsx","n_sheets":18,"sheets":["CV Rotina <2A - procedência","CV Rotina <2A - residência","CV REF 1A e 4A - procedência","CV REF 1A e 4A - residência","Cobert. COVID-19 Menores 4 anos","dTpa gestantes - procedência","dTpa gestantes - residência","VSR gestante - Procedência","VSR gestante - residência","COVID-19 gestantes -Procedência","COVID-19 gestantes -Residência","COVID-19 idoso -Procêdencia","COVID-19 idoso -Residência","Cobert. Meningo C Adolescentes","Cobert. HPV ","Cobert. Dengue","cálculos1","cálculos2"],"not_rendered":{"charts":0,"images":0,"macros":1,"external_links":1,"defined_names":20,"comments":2,"pivot_tables":0},"unopened":[],"bounds":{"document_bytes":16777216,"sheet_cells":100000,"rows_first":2000,"rows_last":500,"rows_between":2000,"halvings":0,"cell_chars":16384,"cell_head_chars":4096},"cells_cut":0,"cells_raw":0,"read":"whole","date_system":"1900"}

{"sheet":"CV Rotina <2A - procedência","index":0,"n_rows":107,"n_cols":41,"rows_kept":107,"cut":false,"hidden":false,"merged":[[86,8,86,9],[87,8,87,9],[86,6,86,7],[87,6,87,7],[86,16,86,17],[87,16,87,17],[86,10,86,11],[86,14,86,15],[2,39,2,40],[11,39,11,40],[87,20,87,21],[86,20,86,21],[87,28,87,29],[86,28,86,29],[86,24,86,25],[86,26,86,27],[87,24,87,25],[86,31,86,32],[87,31,87,32],[86,22,86,23],[104,0,104,11],[0,31,0,32],[87,1,87,3],[0,24,0,29],[87,26,87,27],[87,22,87,23],[86,18,86,19],[87,18,87,19],[0,4,0,11],[87,14,87,15],[87,10,87,11],[86,4,86,5],[87,4,87,5],[0,12,0,23],[86,12,86,13],[87,12,87,13]]}
[null," ",null,null,"AO NASCER",null,null,null,null,null,null,null,"MENOR DE 1 ANO",null,null,null,null,null,null,null,null,null,null,null,"1 ANO",null,null,null,null,null,null,"MENOR DE 1 ANO"]
["Regional ","Município","¹População < 1 ano e 1 ano anual ","²População < 1 ano e 1 ano proporcional ","Doses Aplicadas HB\n≤30 dias","Cobertura Vacinal HB\naté 30 dias","Doses Aplicadas HB\n≤2 dias","Cobertura Vacinal HB\naté 2 dias","Doses Aplicadas HB\n≤1 dia","Cobertura Vacinal HB\naté 1 dia","Doses Aplicadas BCG","Cobertura Vacinal BCG","Doses Aplicadas Pentavalente ","Cobertura Vacinal Pentavalente","Doses Aplicadas Poliomielite ","Cobertura Vacinal Poliomielite ","Doses Aplicadas Pneumo 10","Cobertura Vacinal Pneumo 10","Doses Aplicadas Rotavírus","Cobertura Vacinal Rotavírus","Doses Aplicadas Meningo C","Cobertura Vacinal Meningo C","Doses Aplicadas Febre Amarela","Cobertura Vacinal Febre Amarela","Doses Aplicadas Hepatite A","Cobertura Vacinal Hepatite A","Doses Aplicadas de Tríplice Viral","Cobertura Vacinal Tríplice Viral","Doses Aplicadas Varicela","Cobertura Varicela",null,"Doses Aplicadas COVID-19","Cobertura Vacinal \nCOVID-19",null,"VACINAS QUE ATINGIRAM A META DE CV","HOMOGENEIDADE ENTRE AS 10 VACINAS","VACINAS DO PQA-VS QUE ATINGIRAM A META DE CV","HOMOGENEIDADE ENTRE AS VACINAS DO PQA-VS"]
["Metropolitana","Afonso Cláudio",359,332,290,{"$f":"E3/D3","v":0.87349397590361444},244,{"$f":"G3/D3","v":0.73493975903614461},196,{"$f":"I3/D3","v":0.59036144578313254},295,{"$f":"K3/D3","v":0.88855421686746983},321,{"$f":"M3/D3","v":0.9668674698795181},318,{"$f":"O3/D3","v":0.95783132530120485},307,{"$f":"Q3/D3","v":0.92469879518072284},311,{"$f":"S3/D3","v":0.93674698795180722},321,{"$f":"U3/D3","v":0.9668674698795181},269,{"$f":"W3/D3","v":0.81024096385542166},319,{"$f":"Y3/D3","v":0.96084337349397586},320,{"$f":"AA3/D3","v":0.96385542168674698},345,{"$f":"AC3/D3","v":1.0391566265060241},null,1,{"$f":"AF3/D3","v":3.0120481927710845E-3},null,{"$f":"cálculos1!O3","v":7},{"$f":"AI3*0.1","v":0.70000000000000007},{"$f":"cálculos1!P3","v":3},{"$f":"AK3*0.25","v":0.75},null,"LEGENDA / HOMOGENEIDADE PQA-VS"]
["Norte","Água Doce do Norte",145,139,37,{"$f":"E4/D4","v":0.26618705035971224},1,{"$f":"G4/D4","v":7.1942446043165471E-3},0,{"$f":"I4/D4","v":0},38,0.2733812949640288,120,0.86330935251798557,118,0.84892086330935257,104,0.74820143884892087,101,0.72661870503597126,125,0.89928057553956831,121,0.87050359712230219,137,0.98561151079136688,152,1.0935251798561152,88,0.63309352517985606,null,1,{"$f":"AF4/D4","v":7.1942446043165471E-3},null,{"$f":"cálculos1!O4","v":2},{"$f":"AI4*0.1","v":0.2},{"$f":"cálculos1!P4","v":1},{"$f":"AK4*0.25","v":0.25},null,"PERCENTUAL","Nº DE MUNICÍPIOS"]
["Central","Águia Branca",165,153,63,0.41176470588235292,2,1.3071895424836602E-2,0,0,72,0.47058823529411764,130,0.84967320261437906,131,0.85620915032679734,128,0.83660130718954251,135,0.88235294117647056,132,0.86274509803921573,113,0.73856209150326801,140,0.91503267973856206,138,0.90196078431372551,150,0.98039215686274506,null,1,6.5359477124183009E-3,null,{"$f":"cálculos1!O5","v":1},0.1,{"$f":"cálculos1!P5","v":0},0,null,0,{"$f":"COUNTIF($AL$3:$AL$80,\"=0\")","v":17}]
["Sul","Alegre",322,292,121,0.41438356164383561,18,6.1643835616438353E-2,5,1.7123287671232876E-2,124,0.42465753424657532,289,0.98972602739726023,279,0.95547945205479456,292,1,294,1.0068493150684932,313,1.071917808219178,254,0.86986301369863017,314,1.0753424657534247,305,1.0445205479452055,333,1.1404109589041096,null,16,5.4794520547945202E-2,null,{"$f":"cálculos1!O6","v":8},0.8,{"$f":"cálculos1!P6","v":4},1,null,0.25,{"$f":"COUNTIF($AL$3:$AL$80,\"=0,25\")","v":23}]
["Sul","Alfredo Chaves",119,104,15,0.14423076923076922,2,1.9230769230769232E-2,1,9.6153846153846159E-3,46,0.44230769230769229,95,0.91346153846153844,92,0.88461538461538458,74,0.71153846153846156,97,0.93269230769230771,84,0.80769230769230771,89,0.85576923076923073,125,1.2019230769230769,110,1.0576923076923077,123,1.1826923076923077,null,1,9.6153846153846159E-3,null,{"$f":"cálculos1!O7","v":4},0.4,{"$f":"cálculos1!P7","v":1},0.25,null,0.5,{"$f":"COUNTIF($AL$3:$AL$80,\"=0,5\")","v":9}]
["Central","Alto Rio Novo",99,92,31,0.33695652173913043,2,2.1739130434782608E-2,1,1.0869565217391304E-2,35,0.38043478260869568,87,0.94565217391304346,87,0.94565217391304346,92,1,98,1.0652173913043479,92,1,83,0.90217391304347827,88,0.95652173913043481,90,0.97826086956521741,95,1.0326086956521738,null,0,0,null,{"$f":"cálculos1!O8","v":6},0.60000000000000009,{"$f":"cálculos1!P8","v":2},0.5,null,0.75,{"$f":"COUNTIF($AL$3:$AL$80,\"=0,75\")","v":9}]
["Sul","Anchieta",334,308,28,9.0909090909090912E-2,2,6.4935064935064939E-3,0,0,134,0.43506493506493504,316,1.025974025974026,316,1.025974025974026,303,0.98376623376623373,326,1.0584415584415585,308,1,277,0.89935064935064934,324,1.051948051948052,354,1.1493506493506493,325,1.0551948051948052,null,22,7.1428571428571425E-2,null,{"$f":"cálculos1!O9","v":8},0.8,{"$f":"cálculos1!P9","v":4},1,null,1,{"$f":"COUNTIF($AL$3:$AL$80,\"=1,0\")","v":20}]
["Sul","Apiacá",64,57,6,0.10526315789473684,0,0,0,0,52,0.91228070175438591,65,1.1403508771929824,61,1.0701754385964912,68,1.1929824561403508,66,1.1578947368421053,72,1.263157894736842,51,0.89473684210526316,66,1.1578947368421053,63,1.1052631578947369,71,1.2456140350877194,null,0,0,null,{"$f":"cálculos1!O10","v":9},0.9,{"$f":"cálculos1!P10","v":4},1]
["Metropolitana","Aracruz",1420,1316,1107,0.84118541033434646,708,0.53799392097264442,446,0.33890577507598785,1132,0.86018237082066873,1149,0.87310030395136773,1140,0.86626139817629177,1139,0.86550151975683887,1234,0.93768996960486317,1156,0.87841945288753798,956,0.7264437689969605,1287,0.97796352583586621,1313,0.99772036474164139,1298,0.98632218844984798,null,58,4.4072948328267476E-2,null,{"$f":"cálculos1!O11","v":4},0.4,{"$f":"cálculos1!P11","v":1},0.25]
["Sul","Atilio Vivacqua",148,131,7,5.3435114503816793E-2,0,0,0,0,13,9.9236641221374045E-2,140,1.0687022900763359,138,1.0534351145038168,140,1.0687022900763359,142,1.083969465648855,149,1.1374045801526718,128,0.97709923664122134,134,1.0229007633587786,145,1.1068702290076335,130,0.99236641221374045,null,4,3.0534351145038167E-2,null,{"$f":"cálculos1!O12","v":9},0.9,{"$f":"cálculos1!P12","v":4},1,null,"LEGENDA / HOMOGENEIDADE 10 VACINAS"]
["Central","Baixo Guandu",354,324,75,0.23148148148148148,7,2.1604938271604937E-2,3,9.2592592592592587E-3,155,0.47839506172839508,318,0.98148148148148151,318,0.98148148148148151,338,1.0432098765432098,328,1.0123456790123457,329,1.0154320987654322,272,0.83950617283950613,354,1.0925925925925926,339,1.0462962962962963,342,1.0555555555555556,null,0,0,null,{"$f":"cálculos1!O13","v":8},0.8,{"$f":"cálculos1!P13","v":4},1,null,"PERCENTUAL","Nº DE MUNICÍPIOS"]
["Norte","Barra de São Francisco",622,570,383,0.67192982456140349,212,0.3719298245614035,185,0.32456140350877194,402,0.70526315789473681,488,0.85614035087719298,477,0.83684210526315794,488,0.85614035087719298,502,0.88070175438596487,486,0.85263157894736841,402,0.70526315789473681,457,0.80175438596491233,512,0.89824561403508774,498,0.87368421052631584,null,0,0,null,{"$f":"cálculos1!O14","v":0},0,{"$f":"cálculos1!P14","v":0},0,null,0,{"$f":"COUNTIF($AJ$3:$AJ$80,\"=0\")","v":8}]
["Norte","Boa Esperança",209,191,14,7.3298429319371722E-2,1,5.235602094240838E-3,0,0,73,0.38219895287958117,184,0.96335078534031415,182,0.95287958115183247,198,1.036649214659686,201,1.0523560209424083,181,0.94764397905759157,156,0.81675392670157065,171,0.89528795811518325,185,0.96858638743455494,165,0.86387434554973819,null,2,1.0471204188481676E-2,null,{"$f":"cálculos1!O15","v":5},0.5,{"$f":"cálculos1!P15","v":4},1,null,0.1,{"$f":"COUNTIFS($AJ$3:$AJ$80,\">=0,10\",$AJ$3:$AJ$80,\"<0,20\")","v":6}]
["Sul","Bom Jesus do Norte",72,67,38,0.56716417910447758,0,0,0,0,84,1.2537313432835822,98,1.4626865671641791,98,1.4626865671641791,98,1.4626865671641791,102,1.5223880597014925,93,1.3880597014925373,84,1.2537313432835822,96,1.4328358208955223,104,1.5522388059701493,89,1.3283582089552239,null,6,8.9552238805970144E-2,null,{"$f":"cálculos1!O16","v":10},1,{"$f":"cálculos1!P16","v":4},1,null,0.2,{"$f":"COUNTIFS($AJ$3:$AJ$80,\">=0,20\",$AJ$3:$AJ$80,\"<0,30\")","v":9}]
["Metropolitana","Brejetuba",227,213,17,7.9812206572769953E-2,1,4.6948356807511738E-3,0,0,128,0.60093896713615025,177,0.83098591549295775,186,0.87323943661971826,179,0.84037558685446012,195,0.91549295774647887,188,0.88262910798122063,171,0.80281690140845074,185,0.86854460093896713,200,0.93896713615023475,215,1.0093896713615023,null,2,9.3896713615023476E-3,null,{"$f":"cálculos1!O17","v":2},0.2,{"$f":"cálculos1!P17","v":0},0,null,0.3,{"$f":"COUNTIFS($AJ$3:$AJ$80,\">=0,30\",$AJ$3:$AJ$80,\"<0,40\")","v":10}]
["Sul","Cachoeiro de Itapemirim",2386,2179,4732,2.1716383662230383,4329,1.9866911427260212,2817,1.2927948600275356,4727,2.169343735658559,2022,0.92794860027535564,2007,0.92106470858191836,2096,0.96190913262964661,2154,0.98852684717760442,2052,0.94171638366223043,1474,0.67645709040844426,2010,0.92244148692060579,2211,1.0146856356126663,1963,0.90087195961450206,null,59,2.7076640660853604E-2,null,{"$f":"cálculos1!O18","v":4},0.4,{"$f":"cálculos1!P18","v":2},0.5,null,0.4,{"$f":"COUNTIFS($AJ$3:$AJ$80,\">=0,40\",$AJ$3:$AJ$80,\"<0,50\")","v":7}]
["Metropolitana","Cariacica",4738,4375,2325,0.53142857142857147,1335,0.30514285714285716,704,0.1609142857142857,2275,0.52,3681,0.84137142857142855,3646,0.83337142857142854,3491,0.79794285714285718,3948,0.90239999999999998,3817,0.87245714285714282,2906,0.66422857142857139,3952,0.90331428571428574,4178,0.95497142857142858,3411,0.77965714285714283,null,136,3.1085714285714286E-2,null,{"$f":"cálculos1!O19","v":2},0.2,{"$f":"cálculos1!P19","v":1},0.25,null,0.5,{"$f":"COUNTIFS($AJ$3:$AJ$80,\">=0,50\",$AJ$3:$AJ$80,\"<0,60\")","v":8}]
["Sul","Castelo",383,342,226,0.66081871345029242,159,0.46491228070175439,116,0.33918128654970758,239,0.69883040935672514,382,1.1169590643274854,376,1.0994152046783625,358,1.0467836257309941,387,1.131578947368421,391,1.1432748538011697,327,0.95614035087719296,415,1.2134502923976609,396,1.1578947368421053,358,1.0467836257309941,null,3,8.771929824561403E-3,null,{"$f":"cálculos1!O20","v":9},0.9,{"$f":"cálculos1!P20","v":4},1,null,0.6,{"$f":"COUNTIFS($AJ$3:$AJ$80,\">=0,60\",$AJ$3:$AJ$80,\"<0,70\")","v":8}]
["Central","Colatina",1485,1358,3174,2.3372606774668632,2436,1.7938144329896908,2127,1.5662739322533137,3123,2.2997054491899851,1255,0.92415316642120771,1252,0.92194403534609726,1253,0.92268041237113407,1296,0.95434462444771728,1319,0.97128129602356406,992,0.73048600883652426,1222,0.89985272459499266,1319,0.97128129602356406,1142,0.84094256259204714,null,22,1.6200294550810016E-2,null,{"$f":"cálculos1!O21","v":4},0.4,{"$f":"cálculos1!P21","v":1},0.25,null,0.7,{"$f":"COUNTIFS($AJ$3:$AJ$80,\">=0,70\",$AJ$3:$AJ$80,\"<0,80\")","v":6}]
["Norte","Conceição da Barra",343,327,14,4.2813455657492352E-2,0,0,0,0,24,7.3394495412844041E-2,314,0.96024464831804279,317,0.96941896024464835,315,0.96330275229357798,330,1.0091743119266054,318,0.97247706422018354,291,0.88990825688073394,380,1.1620795107033639,379,1.1590214067278288,372,1.1376146788990826,null,6,1.834862385321101E-2,null,{"$f":"cálculos1!O22","v":8},0.8,{"$f":"cálculos1!P22","v":4},1,null,0.8,{"$f":"COUNTIFS($AJ$3:$AJ$80,\">=0,80\",$AJ$3:$AJ$80,\"<0,90\")","v":7}]
["Metropolitana","Conceição do Castelo",187,171,5,2.9239766081871343E-2,0,0,0,0,30,0.17543859649122806,140,0.81871345029239762,131,0.76608187134502925,93,0.54385964912280704,150,0.8771929824561403,138,0.80701754385964908,123,0.7192982456140351,129,0.75438596491228072,143,0.83625730994152048,151,0.88304093567251463,null,5,2.9239766081871343E-2,null,{"$f":"cálculos1!O23","v":0},0,{"$f":"cálculos1!P23","v":0},0,null,0.9,{"$f":"COUNTIFS($AJ$3:$AJ$80,\">=0,90\",$AJ$3:$AJ$80,\"<1,0\")","v":8}]
["Sul","Divino de São Lourenço",67,62,51,0.82258064516129037,2,3.2258064516129031E-2,0,0,54,0.87096774193548387,45,0.72580645161290325,45,0.72580645161290325,44,0.70967741935483875,45,0.72580645161290325,46,0.74193548387096775,54,0.87096774193548387,66,1.064516129032258,68,1.096774193548387,72,1.1612903225806452,null,1,1.6129032258064516E-2,null,{"$f":"cálculos1!O24","v":3},0.30000000000000004,{"$f":"cálculos1!P24","v":1},0.25,null,1,{"$f":"COUNTIF($AJ$3:$AJ$80,\">=1,0\")","v":1}]
["Metropolitana","Domingos Martins",426,382,23,6.0209424083769635E-2,1,2.617801047120419E-3,0,0,58,0.15183246073298429,394,1.0314136125654449,390,1.0209424083769634,345,0.90314136125654454,383,1.0026178010471205,375,0.98167539267015702,346,0.90575916230366493,386,1.0104712041884816,383,1.0026178010471205,401,1.049738219895288,null,32,8.3769633507853408E-2,null,{"$f":"cálculos1!O25","v":7},0.70000000000000007,{"$f":"cálculos1!P25","v":3},0.75]
["Sul","Dores do Rio Preto",102,99,41,0.41414141414141414,2,2.0202020202020204E-2,0,0,65,0.65656565656565657,110,1.1111111111111112,110,1.1111111111111112,74,0.74747474747474751,112,1.1313131313131313,106,1.0707070707070707,82,0.82828282828282829,100,1.0101010101010102,106,1.0707070707070707,93,0.93939393939393945,null,1,1.0101010101010102E-2,null,{"$f":"cálculos1!O26","v":6},0.60000000000000009,{"$f":"cálculos1!P26","v":3},0.75]
["Norte","Ecoporanga",250,233,77,0.33047210300429186,0,0,0,0,77,0.33047210300429186,228,0.97854077253218885,224,0.96137339055793991,226,0.96995708154506433,234,1.0042918454935623,230,0.98712446351931327,186,0.79828326180257514,220,0.94420600858369097,222,0.9527896995708155,207,0.88841201716738194,null,1,4.2918454935622317E-3,null,{"$f":"cálculos1!O27","v":6},0.60000000000000009,{"$f":"cálculos1!P27","v":4},1]
["Metropolitana","Fundão",231,213,26,0.12206572769953052,0,0,0,0,33,0.15492957746478872,220,1.0328638497652582,220,1.0328638497652582,195,0.91549295774647887,221,1.0375586854460095,216,1.0140845070422535,151,0.70892018779342725,199,0.93427230046948362,212,0.99530516431924887,199,0.93427230046948362,null,3,1.4084507042253521E-2,null,{"$f":"cálculos1!O28","v":5},0.5,{"$f":"cálculos1!P28","v":3},0.75]
["Central","Governador Lindenberg",141,130,56,0.43076923076923079,4,3.0769230769230771E-2,1,7.6923076923076927E-3,44,0.33846153846153848,89,0.68461538461538463,90,0.69230769230769229,87,0.66923076923076918,102,0.7846153846153846,96,0.7384615384615385,84,0.64615384615384619,113,0.86923076923076925,121,0.93076923076923079,106,0.81538461538461537,null,0,0,null,{"$f":"cálculos1!O29","v":0},0,{"$f":"cálculos1!P29","v":0},0]
["Sul","Guaçuí",387,354,238,0.67231638418079098,62,0.1751412429378531,52,0.14689265536723164,247,0.69774011299435024,286,0.80790960451977401,283,0.79943502824858759,296,0.83615819209039544,305,0.8615819209039548,297,0.83898305084745761,252,0.71186440677966101,300,0.84745762711864403,322,0.90960451977401124,289,0.81638418079096042,null,13,3.6723163841807911E-2,null,{"$f":"cálculos1!O30","v":0},0,{"$f":"cálculos1!P30","v":0},0]
["Metropolitana","Guarapari",1643,1526,1245,0.81585845347313235,1034,0.67758846657929228,853,0.55897771952817821,1287,0.84338138925294892,1244,0.8152031454783748,1232,0.80733944954128445,1335,0.87483617300131067,1388,0.90956749672346004,1329,0.87090432503276538,887,0.58125819134993451,1277,0.83682830930537355,1358,0.88990825688073394,1128,0.73918741808650068,null,34,2.2280471821756225E-2,null,{"$f":"cálculos1!O31","v":1},0.1,{"$f":"cálculos1!P31","v":0},0]
["Metropolitana","Ibatiba",410,375,242,0.64533333333333331,15,0.04,5,1.3333333333333334E-2,284,0.7573333333333333,360,0.96,355,0.94666666666666666,334,0.89066666666666672,361,0.96266666666666667,363,0.96799999999999997,310,0.82666666666666666,378,1.008,364,0.97066666666666668,351,0.93600000000000005,null,13,3.4666666666666665E-2,null,{"$f":"cálculos1!O32","v":5},0.5,{"$f":"cálculos1!P32","v":2},0.5]
["Metropolitana","Ibiraçu",130,123,31,0.25203252032520324,2,1.6260162601626018E-2,0,0,29,0.23577235772357724,109,0.88617886178861793,107,0.86991869918699183,105,0.85365853658536583,103,0.83739837398373984,112,0.91056910569105687,101,0.82113821138211385,126,1.024390243902439,144,1.1707317073170731,127,1.032520325203252,null,0,0,null,{"$f":"cálculos1!O33","v":3},0.30000000000000004,{"$f":"cálculos1!P33","v":1},0.25]
["Sul","Ibitirama",139,130,81,0.62307692307692308,7,5.3846153846153849E-2,0,0,94,0.72307692307692306,138,1.0615384615384615,135,1.0384615384615385,142,1.0923076923076922,149,1.1461538461538461,141,1.0846153846153845,113,0.86923076923076925,116,0.89230769230769236,133,1.023076923076923,122,0.93846153846153846,null,12,9.2307692307692313E-2,null,{"$f":"cálculos1!O34","v":6},0.60000000000000009,{"$f":"cálculos1!P34","v":4},1]
["Sul","Iconha",140,132,27,0.20454545454545456,1,7.575757575757576E-3,0,0,63,{"$f":"K35/D35","v":0.47727272727272729},107,{"$f":"M35/D35","v":0.81060606060606055},107,{"$f":"O35/D35","v":0.81060606060606055},91,{"$f":"Q35/D35","v":0.68939393939393945},107,{"$f":"S35/D35","v":0.81060606060606055},109,{"$f":"U35/D35","v":0.8257575757575758},98,{"$f":"W35/D35","v":0.74242424242424243},95,{"$f":"Y35/D35","v":0.71969696969696972},101,{"$f":"AA35/D35","v":0.76515151515151514},121,{"$f":"AC35/D35","v":0.91666666666666663},null,1,7.575757575757576E-3,null,{"$f":"cálculos1!O35","v":0},0,{"$f":"cálculos1!P35","v":0},0]
["Sul","Irupi",194,179,83,0.46368715083798884,6,3.3519553072625698E-2,3,1.6759776536312849E-2,119,0.66480446927374304,163,0.91061452513966479,161,0.8994413407821229,157,0.87709497206703912,168,0.93854748603351956,165,0.92178770949720668,162,0.9050279329608939,208,1.1620111731843576,189,1.0558659217877095,166,0.92737430167597767,null,14,7.8212290502793297E-2,null,{"$f":"cálculos1!O36","v":3},0.30000000000000004,{"$f":"cálculos1!P36","v":1},0.25]
["Metropolitana","Itaguaçu",121,119,21,0.17647058823529413,1,8.4033613445378148E-3,0,0,26,0.21848739495798319,110,0.92436974789915971,110,0.92436974789915971,99,0.83193277310924374,113,0.94957983193277307,103,0.86554621848739499,122,1.0252100840336134,139,1.1680672268907564,147,1.2352941176470589,144,1.2100840336134453,null,10,8.4033613445378158E-2,null,{"$f":"cálculos1!O37","v":5},0.5,{"$f":"cálculos1!P37","v":1},0.25]
["Sul","Itapemirim",537,494,768,1.5546558704453441,744,1.5060728744939271,743,1.5040485829959513,225,0.45546558704453444,381,0.77125506072874495,359,0.72672064777327938,415,0.84008097165991902,410,0.82995951417004044,406,0.82186234817813764,268,0.54251012145748989,384,0.77732793522267207,416,0.84210526315789469,342,0.69230769230769229,null,3,6.0728744939271256E-3,null,{"$f":"cálculos1!O38","v":0},0,{"$f":"cálculos1!P38","v":0},0]
["Metropolitana","Itarana",131,126,12,9.5238095238095233E-2,2,1.5873015873015872E-2,0,0,20,0.15873015873015872,97,0.76984126984126988,97,0.76984126984126988,91,0.72222222222222221,97,0.76984126984126988,97,0.76984126984126988,98,0.77777777777777779,129,1.0238095238095237,126,1,131,1.0396825396825398,null,1,7.9365079365079361E-3,null,{"$f":"cálculos1!O39","v":3},0.30000000000000004,{"$f":"cálculos1!P39","v":1},0.25]
["Sul","Iúna",387,358,241,0.67318435754189943,20,5.5865921787709494E-2,7,1.9553072625698324E-2,287,0.8016759776536313,338,0.94413407821229045,340,0.94972067039106145,329,0.91899441340782118,346,0.96648044692737434,346,0.96648044692737434,307,0.85754189944134074,402,1.1229050279329609,383,1.0698324022346368,371,1.0363128491620113,null,1,2.7932960893854749E-3,null,{"$f":"cálculos1!O40","v":5},0.5,{"$f":"cálculos1!P40","v":1},0.25]
["Norte","Jaguaré",444,415,314,0.75662650602409642,283,0.68192771084337345,274,0.66024096385542164,302,0.72771084337349401,383,0.92289156626506019,377,0.90843373493975899,373,0.89879518072289155,401,0.96626506024096381,387,0.93253012048192774,328,0.7903614457831325,446,1.074698795180723,456,1.0987951807228915,373,0.89879518072289155,null,1,2.4096385542168677E-3,null,{"$f":"cálculos1!O41","v":3},0.30000000000000004,{"$f":"cálculos1!P41","v":1},0.25]
["Sul","Jerônimo Monteiro",114,111,5,4.5045045045045043E-2,0,0,0,0,10,9.0090090090090086E-2,97,0.87387387387387383,98,0.88288288288288286,96,0.86486486486486491,105,0.94594594594594594,98,0.88288288288288286,90,0.81081081081081086,123,1.1081081081081081,127,1.1441441441441442,121,1.0900900900900901,null,5,4.5045045045045043E-2,null,{"$f":"cálculos1!O42","v":4},0.4,{"$f":"cálculos1!P42","v":1},0.25]
["Metropolitana","João Neiva",143,132,54,0.40909090909090912,13,9.8484848484848481E-2,7,5.3030303030303032E-2,40,0.30303030303030304,136,1.0303030303030303,132,1,122,0.9242424242424242,127,0.96212121212121215,134,1.0151515151515151,120,0.90909090909090906,149,1.1287878787878789,151,1.143939393939394,143,1.0833333333333333,null,2,1.5151515151515152E-2,null,{"$f":"cálculos1!O43","v":7},0.70000000000000007,{"$f":"cálculos1!P43","v":3},0.75]
["Metropolitana","Laranja da Terra",120,114,8,7.0175438596491224E-2,2,1.7543859649122806E-2,1,8.771929824561403E-3,17,0.14912280701754385,116,1.0175438596491229,116,1.0175438596491229,124,1.0877192982456141,129,1.131578947368421,117,1.0263157894736843,97,0.85087719298245612,97,0.85087719298245612,104,0.91228070175438591,110,0.96491228070175439,null,8,7.0175438596491224E-2,null,{"$f":"cálculos1!O44","v":6},0.60000000000000009,{"$f":"cálculos1!P44","v":3},0.75]
["Central","Linhares",2668,2438,3022,1.2395406070549631,2517,1.0324036095159967,2156,0.8843314191960624,3052,1.2518457752255947,2093,0.85849056603773588,2046,0.83921246923707959,2150,0.88187038556193598,2224,0.91222313371616082,2222,0.91140278917145201,1638,0.67186218211648896,2012,0.82526661197703033,2194,0.89991796554552916,1848,0.75799835931091053,null,9,3.6915504511894994E-3,null,{"$f":"cálculos1!O45","v":2},0.2,{"$f":"cálculos1!P45","v":0},0]
["Central","Mantenópolis",132,121,32,0.26446280991735538,1,8.2644628099173556E-3,1,8.2644628099173556E-3,38,0.31404958677685951,119,0.98347107438016534,114,0.94214876033057848,106,0.87603305785123964,110,0.90909090909090906,119,0.98347107438016534,118,0.97520661157024791,138,1.140495867768595,141,1.165289256198347,152,1.2561983471074381,null,1,8.2644628099173556E-3,null,{"$f":"cálculos1!O46","v":7},0.70000000000000007,{"$f":"cálculos1!P46","v":2},0.5]
["Sul","Marataízes",570,532,34,6.3909774436090222E-2,2,3.7593984962406013E-3,0,0,232,0.43609022556390975,496,0.93233082706766912,438,0.82330827067669177,523,0.98308270676691734,527,0.99060150375939848,495,0.93045112781954886,326,0.61278195488721809,532,1,530,0.99624060150375937,448,0.84210526315789469,null,2,3.7593984962406013E-3,null,{"$f":"cálculos1!O47","v":4},0.4,{"$f":"cálculos1!P47","v":2},0.5]
["Metropolitana","Marechal Floriano",207,190,30,0.15789473684210525,4,2.1052631578947368E-2,0,0,28,0.14736842105263157,177,0.93157894736842106,178,0.93684210526315792,167,0.87894736842105259,183,0.9631578947368421,175,0.92105263157894735,152,0.8,196,1.0315789473684212,186,0.97894736842105268,201,1.0578947368421052,null,11,5.7894736842105263E-2,null,{"$f":"cálculos1!O48","v":4},0.4,{"$f":"cálculos1!P48","v":1},0.25]
["Central","Marilândia",166,159,48,0.30188679245283018,8,5.0314465408805034E-2,0,0,60,0.37735849056603776,119,0.74842767295597479,120,0.75471698113207553,116,0.72955974842767291,134,0.84276729559748431,113,0.71069182389937102,130,0.8176100628930818,138,0.86792452830188682,139,0.87421383647798745,146,0.91823899371069184,null,6,3.7735849056603772E-2,null,{"$f":"cálculos1!O49","v":0},0,{"$f":"cálculos1!P49","v":0},0]
["Sul","Mimoso do Sul",279,256,28,0.109375,1,3.90625E-3,1,3.90625E-3,37,0.14453125,226,0.8828125,213,0.83203125,225,0.87890625,242,0.9453125,217,0.84765625,188,0.734375,166,0.6484375,203,0.79296875,179,0.69921875,null,5,1.953125E-2,null,{"$f":"cálculos1!O50","v":1},0.1,{"$f":"cálculos1!P50","v":0},0]
["Norte","Montanha",217,205,63,0.3073170731707317,4,1.9512195121951219E-2,1,4.8780487804878049E-3,78,0.38048780487804879,221,1.0780487804878049,223,1.0878048780487806,249,1.2146341463414634,242,1.1804878048780487,220,1.0731707317073171,186,0.90731707317073174,227,1.1073170731707318,237,1.1560975609756097,241,1.1756097560975609,null,8,3.9024390243902439E-2,null,{"$f":"cálculos1!O51","v":8},0.8,{"$f":"cálculos1!P51","v":4},1]
["Norte","Mucurici",53,46,8,0.17391304347826086,1,2.1739130434782608E-2,0,0,6,0.13043478260869565,58,1.2608695652173914,59,1.2826086956521738,60,1.3043478260869565,60,1.3043478260869565,54,1.173913043478261,56,1.2173913043478262,63,1.3695652173913044,63,1.3695652173913044,64,1.3913043478260869,null,1,2.1739130434782608E-2,null,{"$f":"cálculos1!O52","v":9},0.9,{"$f":"cálculos1!P52","v":4},1]
["Sul","Muniz Freire",248,226,100,0.44247787610619471,6,2.6548672566371681E-2,0,0,125,0.55309734513274333,206,0.91150442477876104,206,0.91150442477876104,217,0.96017699115044253,222,0.98230088495575218,197,0.87168141592920356,204,0.90265486725663713,219,0.96902654867256632,224,0.99115044247787609,244,1.0796460176991149,null,3,1.3274336283185841E-2,null,{"$f":"cálculos1!O53","v":5},0.5,{"$f":"cálculos1!P53","v":2},0.5]
["Sul","Muqui",154,143,17,0.11888111888111888,3,2.097902097902098E-2,0,0,18,0.12587412587412589,144,1.0069930069930071,144,1.0069930069930071,142,0.99300699300699302,149,1.0419580419580419,135,0.94405594405594406,129,0.90209790209790208,144,1.0069930069930071,140,0.97902097902097907,156,1.0909090909090908,null,7,4.8951048951048952E-2,null,{"$f":"cálculos1!O54","v":7},0.70000000000000007,{"$f":"cálculos1!P54","v":4},1]
["Norte","Nova Venécia",690,628,522,0.83121019108280259,449,0.71496815286624205,444,0.70700636942675155,444,0.70700636942675155,531,0.84554140127388533,524,0.83439490445859876,479,0.76273885350318471,592,0.9426751592356688,549,0.87420382165605093,496,0.78980891719745228,576,0.91719745222929938,626,0.99681528662420382,538,0.85668789808917201,null,12,1.9108280254777069E-2,null,{"$f":"cálculos1!O55","v":2},0.2,{"$f":"cálculos1!P55","v":1},0.25]
["Central","Pancas",218,201,84,0.41791044776119401,5,2.4875621890547265E-2,2,9.9502487562189053E-3,101,0.50248756218905477,197,0.98009950248756217,198,0.9850746268656716,189,0.94029850746268662,192,0.95522388059701491,198,0.9850746268656716,173,0.86069651741293529,193,0.96019900497512434,198,0.9850746268656716,206,1.0248756218905473,null,3,1.4925373134328358E-2,null,{"$f":"cálculos1!O56","v":7},0.70000000000000007,{"$f":"cálculos1!P56","v":3},0.75]
["Norte","Pedro Canário",320,297,21,7.0707070707070704E-2,2,6.7340067340067337E-3,0,0,33,0.1111111111111111,285,0.95959595959595956,269,0.90572390572390571,279,0.93939393939393945,293,0.98653198653198648,273,0.91919191919191923,210,0.70707070707070707,321,1.0808080808080809,331,1.1144781144781144,305,1.026936026936027,null,7,2.3569023569023569E-2,null,{"$f":"cálculos1!O57","v":5},0.5,{"$f":"cálculos1!P57","v":2},0.5]
["Norte","Pinheiros",304,286,6,2.097902097902098E-2,1,3.4965034965034965E-3,0,0,18,6.2937062937062943E-2,244,0.85314685314685312,240,0.83916083916083917,261,0.91258741258741261,279,0.97552447552447552,263,0.91958041958041958,218,0.76223776223776218,249,0.87062937062937062,273,0.95454545454545459,258,0.90209790209790208,null,3,1.048951048951049E-2,null,{"$f":"cálculos1!O58","v":2},0.2,{"$f":"cálculos1!P58","v":1},0.25]
["Sul","Piúma",310,281,12,4.2704626334519574E-2,0,0,0,0,101,0.35943060498220641,266,0.94661921708185048,258,0.91814946619217086,257,0.91459074733096091,270,0.96085409252669041,265,0.94306049822064053,191,0.67971530249110323,255,0.90747330960854089,279,0.99288256227758009,226,0.80427046263345192,null,13,4.6263345195729534E-2,null,{"$f":"cálculos1!O59","v":2},0.2,{"$f":"cálculos1!P59","v":1},0.25]
["Norte","Ponto Belo",68,65,13,0.2,2,3.0769230769230771E-2,0,0,15,0.23076923076923078,72,1.1076923076923078,72,1.1076923076923078,75,1.1538461538461537,77,1.1846153846153846,77,1.1846153846153846,81,1.2461538461538462,80,1.2307692307692308,82,1.2615384615384615,75,1.1538461538461537,null,3,4.6153846153846156E-2,null,{"$f":"cálculos1!O60","v":9},0.9,{"$f":"cálculos1!P60","v":4},1]
["Sul","Presidente Kennedy",199,183,9,4.9180327868852458E-2,0,0,0,0,14,7.650273224043716E-2,170,0.92896174863387981,168,0.91803278688524592,176,0.96174863387978138,182,0.99453551912568305,181,0.98907103825136611,168,0.91803278688524592,177,0.96721311475409832,203,1.1092896174863387,179,0.97814207650273222,null,5,2.7322404371584699E-2,null,{"$f":"cálculos1!O61","v":6},0.60000000000000009,{"$f":"cálculos1!P61","v":2},0.5]
["Central","Rio Bananal",296,265,42,0.15849056603773584,1,3.7735849056603774E-3,0,0,37,0.13962264150943396,236,0.89056603773584908,234,0.88301886792452833,234,0.88301886792452833,247,0.93207547169811322,232,0.87547169811320757,246,0.92830188679245285,277,1.0452830188679245,275,1.0377358490566038,240,0.90566037735849059,null,9,3.3962264150943396E-2,null,{"$f":"cálculos1!O62","v":3},0.30000000000000004,{"$f":"cálculos1!P62","v":1},0.25]
["Sul","Rio Novo do Sul",97,88,3,3.4090909090909088E-2,0,0,0,0,31,0.35227272727272729,97,1.1022727272727273,97,1.1022727272727273,98,1.1136363636363635,103,1.1704545454545454,101,1.1477272727272727,78,0.88636363636363635,87,0.98863636363636365,98,1.1136363636363635,93,1.0568181818181819,null,1,1.1363636363636364E-2,null,{"$f":"cálculos1!O63","v":8},0.8,{"$f":"cálculos1!P63","v":4},1]
["Metropolitana","Santa Leopoldina",96,89,11,0.12359550561797752,2,2.247191011235955E-2,0,0,15,0.16853932584269662,72,0.8089887640449438,72,0.8089887640449438,75,0.84269662921348309,78,0.8764044943820225,76,0.8539325842696629,65,0.7303370786516854,86,0.9662921348314607,72,0.8089887640449438,84,0.9438202247191011,null,0,0,null,{"$f":"cálculos1!O64","v":1},0.1,{"$f":"cálculos1!P64","v":0},0]
["Metropolitana","Santa Maria de Jetibá",721,667,441,0.66116941529235385,431,0.64617691154422785,430,0.64467766116941527,428,0.64167916041979012,570,0.85457271364317844,571,0.85607196401799102,605,0.9070464767616192,629,0.94302848575712139,609,0.91304347826086951,480,0.71964017991004503,553,0.82908545727136429,584,0.87556221889055474,525,0.78710644677661168,null,1,1.4992503748125937E-3,null,{"$f":"cálculos1!O65","v":1},0.1,{"$f":"cálculos1!P65","v":0},0]
["Metropolitana","Santa Teresa",283,262,694,2.6488549618320612,671,2.5610687022900764,467,1.782442748091603,696,2.6564885496183206,222,0.84732824427480913,222,0.84732824427480913,238,0.90839694656488545,236,0.9007633587786259,236,0.9007633587786259,200,0.76335877862595425,244,0.93129770992366412,243,0.9274809160305344,254,0.96946564885496178,null,5,1.9083969465648856E-2,null,{"$f":"cálculos1!O66","v":3},0.30000000000000004,{"$f":"cálculos1!P66","v":0},0]
["Central","São Domingos do Norte",111,101,50,0.49504950495049505,8,7.9207920792079209E-2,1,9.9009900990099011E-3,55,{"$f":"K67/D67","v":0.54455445544554459},77,{"$f":"M67/D67","v":0.76237623762376239},78,{"$f":"O67/D67","v":0.7722772277227723},81,{"$f":"Q67/D67","v":0.80198019801980203},90,{"$f":"S67/D67","v":0.8910891089108911},82,{"$f":"U67/D67","v":0.81188118811881194},84,{"$f":"W67/D67","v":0.83168316831683164},115,{"$f":"Y67/D67","v":1.1386138613861385},105,{"$f":"AA67/D67","v":1.0396039603960396},110,{"$f":"AC67/D67","v":1.0891089108910892},null,0,0,null,{"$f":"cálculos1!O67","v":3},0.30000000000000004,{"$f":"cálculos1!P67","v":1},0.25]
["Central","São Gabriel da Palha",401,376,139,{"$f":"E68/D68","v":0.36968085106382981},7,{"$f":"G68/D68","v":1.8617021276595744E-2},0,{"$f":"I68/D68","v":0},162,0.43085106382978722,359,0.95478723404255317,359,0.95478723404255317,345,0.91755319148936165,352,0.93617021276595747,356,0.94680851063829785,318,0.8457446808510638,379,1.0079787234042554,381,1.0132978723404256,356,0.94680851063829785,null,5,{"$f":"AF68/D68","v":1.3297872340425532E-2},null,{"$f":"cálculos1!O68","v":5},{"$f":"AI68*0.1","v":0.5},{"$f":"cálculos1!P68","v":3},{"$f":"AK68*0.25","v":0.75}]
["Sul","São José do Calçado",94,84,65,0.77380952380952384,6,7.1428571428571425E-2,1,1.1904761904761904E-2,73,0.86904761904761907,94,1.1190476190476191,94,1.1190476190476191,87,1.0357142857142858,89,1.0595238095238095,88,1.0476190476190477,58,0.69047619047619047,91,1.0833333333333333,85,1.0119047619047619,91,1.0833333333333333,null,3,3.5714285714285712E-2,null,{"$f":"cálculos1!O69","v":8},0.8,{"$f":"cálculos1!P69","v":4},1]
["Norte","São Mateus",1670,1562,2816,1.8028169014084507,2716,1.7387964148527528,2464,1.5774647887323943,2670,1.7093469910371319,1460,0.93469910371318821,1438,0.9206145966709347,1615,1.0339308578745199,1611,1.0313700384122919,1562,1,1079,0.69078104993597955,1498,0.95902688860435337,1553,0.99423815620998723,1320,0.84507042253521125,null,47,3.0089628681177975E-2,null,{"$f":"cálculos1!O70","v":6},0.60000000000000009,{"$f":"cálculos1!P70","v":2},0.5]
["Central","São Roque do Canaã",131,121,47,0.38842975206611569,6,4.9586776859504134E-2,0,0,48,0.39669421487603307,105,0.86776859504132231,102,0.84297520661157022,94,0.77685950413223137,109,0.90082644628099173,101,0.83471074380165289,95,0.78512396694214881,109,0.90082644628099173,126,1.0413223140495869,114,0.94214876033057848,null,5,4.1322314049586778E-2,null,{"$f":"cálculos1!O71","v":2},0.2,{"$f":"cálculos1!P71","v":1},0.25]
["Metropolitana","Serra",7550,7009,8192,1.1687829932943359,6916,0.98673134541304042,5330,0.7604508489085462,7864,1.1219860179768868,5435,0.77543158795833933,5370,0.76615779711799115,5684,0.81095734056213442,6002,0.8563275788272221,5658,0.80724782422599517,4440,0.63347125124839487,5793,0.82650877443287207,6047,0.86274789556284781,4952,0.70652018832929087,null,132,1.8832929091168498E-2,null,{"$f":"cálculos1!O72","v":1},0.1,{"$f":"cálculos1!P72","v":0},0]
["Central","Sooretama",428,391,22,5.6265984654731455E-2,1,2.5575447570332483E-3,0,0,32,8.1841432225063945E-2,337,0.86189258312020456,332,0.84910485933503832,336,0.85933503836317138,377,0.96419437340153458,362,0.92583120204603575,297,0.75959079283887465,362,0.92583120204603575,405,1.0358056265984654,338,0.86445012787723785,null,2,5.1150895140664966E-3,null,{"$f":"cálculos1!O73","v":2},0.2,{"$f":"cálculos1!P73","v":1},0.25]
["Sul","Vargem Alta",270,252,17,6.7460317460317457E-2,2,7.9365079365079361E-3,0,0,31,0.12301587301587301,231,0.91666666666666663,227,0.90079365079365081,243,0.9642857142857143,247,0.98015873015873012,242,0.96031746031746035,196,0.77777777777777779,228,0.90476190476190477,230,0.91269841269841268,239,0.94841269841269837,null,7,2.7777777777777776E-2,null,{"$f":"cálculos1!O74","v":3},0.30000000000000004,{"$f":"cálculos1!P74","v":1},0.25]
["Metropolitana","Venda Nova do Imigrante",352,323,601,1.8606811145510835,563,1.7430340557275541,562,1.7399380804953561,371,1.1486068111455108,310,0.95975232198142413,309,0.95665634674922606,314,0.97213622291021673,326,1.0092879256965945,314,0.97213622291021673,290,0.89783281733746134,335,1.0371517027863777,338,1.0464396284829722,352,1.0897832817337461,null,12,3.7151702786377708E-2,null,{"$f":"cálculos1!O75","v":9},0.9,{"$f":"cálculos1!P75","v":4},1]
["Metropolitana","Viana",863,803,194,0.24159402241594022,3,3.7359900373599006E-3,1,1.2453300124533001E-3,163,0.20298879202988793,785,0.97758405977584062,733,0.91282689912826898,789,0.98256537982565384,832,1.0361145703611456,804,1.0012453300124533,539,0.67123287671232879,793,0.98754669987546695,906,1.12826899128269,613,0.76338729763387303,null,17,2.1170610211706103E-2,null,{"$f":"cálculos1!O76","v":6},0.60000000000000009,{"$f":"cálculos1!P76","v":3},0.75]
["Norte","Vila Pavão",95,91,24,0.26373626373626374,2,2.197802197802198E-2,2,2.197802197802198E-2,47,0.51648351648351654,118,1.2967032967032968,118,1.2967032967032968,106,1.1648351648351649,110,1.2087912087912087,119,1.3076923076923077,98,1.0769230769230769,99,1.0879120879120878,111,1.2197802197802199,90,0.98901098901098905,null,4,4.3956043956043959E-2,null,{"$f":"cálculos1!O77","v":9},0.9,{"$f":"cálculos1!P77","v":4},1]
["Central","Vila Valério",254,236,40,0.16949152542372881,0,0,0,0,53,0.22457627118644069,179,0.75847457627118642,181,0.76694915254237284,171,0.72457627118644063,185,0.78389830508474578,177,0.75,178,0.75423728813559321,245,1.0381355932203389,238,1.0084745762711864,235,0.99576271186440679,null,0,0,null,{"$f":"cálculos1!O78","v":3},0.30000000000000004,{"$f":"cálculos1!P78","v":1},0.25]
["Metropolitana","Vila Velha",5551,5140,3877,0.75428015564202333,2619,0.50953307392996106,1820,0.35408560311284049,3737,0.7270428015564202,3998,0.77782101167315176,3989,0.77607003891050585,4299,0.83638132295719847,4511,0.87762645914396886,4341,0.84455252918287937,3166,0.61595330739299614,4349,0.8461089494163424,4434,0.8626459143968872,3938,0.76614785992217904,null,167,3.2490272373540859E-2,null,{"$f":"cálculos1!O79","v":0},0,{"$f":"cálculos1!P79","v":0},0]
["Metropolitana","Vitória",3544,3269,6110,1.8690731110431325,5363,1.6405628632609361,4424,1.3533190578158458,6675,2.041908840624044,3698,1.1312327929030284,3685,1.1272560416029367,3982,1.2181095136127256,3808,1.164882226980728,3910,1.1960844294891404,2360,0.72193331293973695,3431,1.0495564392780667,3726,1.1397981033955338,3199,0.97858672376873657,null,189,5.7815845824411134E-2,null,{"$f":"cálculos1!O80","v":9},0.9,{"$f":"cálculos1!P80","v":4},1]
[]
[null,"Total Norte",{"$f":"SUMIF($A$3:$A$80,\"Norte\",C$3:C$80)","v":5430},{"$f":"SUMIF($A$3:$A$80,\"Norte\",D$3:D$80)","v":5055},{"$f":"SUMIF($A$3:$A$80,\"Norte\",E$3:E$80)","v":4312},{"$f":"E82/D82","v":0.85301681503461924},{"$f":"SUMIF($A$3:$A$80,\"Norte\",G$3:G$80)","v":3674},{"$f":"G82/D82","v":0.72680514342235414},{"$f":"SUMIF($A$3:$A$80,\"Norte\",I$3:I$80)","v":3370},{"$f":"I82/D82","v":0.66666666666666663},{"$f":"SUMIF($A$3:$A$80,\"Norte\",K$3:K$80)","v":4227},{"$f":"K82/D82","v":0.83620178041543025},{"$f":"SUMIF($A$3:$A$80,\"Norte\",M$3:M$80)","v":4706},{"$f":"M82/D82","v":0.93095944609297721},{"$f":"SUMIF($A$3:$A$80,\"Norte\",O$3:O$80)","v":4638},{"$f":"O82/D82","v":0.91750741839762606},{"$f":"SUMIF($A$3:$A$80,\"Norte\",Q$3:Q$80)","v":4828},{"$f":"Q82/D82","v":0.95509396636993071},{"$f":"SUMIF($A$3:$A$80,\"Norte\",S$3:S$80)","v":5033},{"$f":"S82/D82","v":0.99564787339268046},{"$f":"SUMIF($A$3:$A$80,\"Norte\",U$3:U$80)","v":4844},{"$f":"U82/D82","v":0.95825914935707224},{"$f":"SUMIF($A$3:$A$80,\"Norte\",W$3:W$80)","v":3908},{"$f":"W82/D82","v":0.77309594460929776},{"$f":"SUMIF($A$3:$A$80,\"Norte\",Y$3:Y$80)","v":4924},{"$f":"Y82/D82","v":0.97408506429277941},{"$f":"SUMIF($A$3:$A$80,\"Norte\",AA$3:AA$80)","v":5182},{"$f":"AA82/D82","v":1.0251236399604353},{"$f":"SUMIF($A$3:$A$80,\"Norte\",AC$3:AC$80)","v":4594},{"$f":"AC82/D82","v":0.90880316518298709},null,{"$f":"SUMIF($A$3:$A$80,\"Norte\",AF$3:AF$80)","v":96},{"$f":"AF82/D82","v":1.8991097922848664E-2},null,{"$f":"cálculos1!O82","v":5},{"$f":"AI82*0.1","v":0.5},{"$f":"cálculos1!P82","v":2},0.5]
[null,"Total Central",{"$f":"SUMIF($A$3:$A$80,\"Central\",C$3:C$80)","v":7049},{"$f":"SUMIF($A$3:$A$80,\"Central\",D$3:D$80)","v":6466},{"$f":"SUMIF($A$3:$A$80,\"Central\",E$3:E$80)","v":6925},{"$f":"E83/D83","v":1.0709866996597588},{"$f":"SUMIF($A$3:$A$80,\"Central\",G$3:G$80)","v":5005},{"$f":"G83/D83","v":0.77404887101763065},{"$f":"SUMIF($A$3:$A$80,\"Central\",I$3:I$80)","v":4292},{"$f":"I83/D83","v":0.66377977111042374},{"$f":"SUMIF($A$3:$A$80,\"Central\",K$3:K$80)","v":7067},{"$f":"K83/D83","v":1.0929477265697494},{"$f":"SUMIF($A$3:$A$80,\"Central\",M$3:M$80)","v":5700},{"$f":"M83/D83","v":0.88153417878131768},{"$f":"SUMIF($A$3:$A$80,\"Central\",O$3:O$80)","v":5642},{"$f":"O83/D83","v":0.87256418187442009},{"$f":"SUMIF($A$3:$A$80,\"Central\",Q$3:Q$80)","v":5720},{"$f":"Q83/D83","v":0.88462728116300648},{"$f":"SUMIF($A$3:$A$80,\"Central\",S$3:S$80)","v":5979},{"$f":"S83/D83","v":0.92468295700587688},{"$f":"SUMIF($A$3:$A$80,\"Central\",U$3:U$80)","v":5930},{"$f":"U83/D83","v":0.91710485617073922},{"$f":"SUMIF($A$3:$A$80,\"Central\",W$3:W$80)","v":4821},{"$f":"W83/D83","v":0.74559232910609341},{"$f":"SUMIF($A$3:$A$80,\"Central\",Y$3:Y$80)","v":5885},{"$f":"Y83/D83","v":0.91014537581193933},{"$f":"SUMIF($A$3:$A$80,\"Central\",AA$3:AA$80)","v":6209},{"$f":"AA83/D83","v":0.96025363439529854},{"$f":"SUMIF($A$3:$A$80,\"Central\",AC$3:AC$80)","v":5580},{"$f":"AC83/D83","v":0.86297556449118462},null,{"$f":"SUMIF($A$3:$A$80,\"Central\",AF$3:AF$80)","v":63},{"$f":"AF83/D83","v":9.7432725023198271E-3},null,{"$f":"cálculos1!O83","v":3},{"$f":"AI83*0.1","v":0.30000000000000004},{"$f":"cálculos1!P83","v":1},0.25]
[null,"Total Metropolitana",{"$f":"SUMIF($A$3:$A$80,\"Metropolitana\",C$3:C$80)","v":29453},{"$f":"SUMIF($A$3:$A$80,\"Metropolitana\",D$3:D$80)","v":27269},{"$f":"SUMIF($A$3:$A$80,\"Metropolitana\",E$3:E$80)","v":25556},{"$f":"E84/D84","v":0.93718141479335504},{"$f":"SUMIF($A$3:$A$80,\"Metropolitana\",G$3:G$80)","v":19930},{"$f":"G84/D84","v":0.73086655176207416},{"$f":"SUMIF($A$3:$A$80,\"Metropolitana\",I$3:I$80)","v":15246},0.5590964098426785,{"$f":"SUMIF($A$3:$A$80,\"Metropolitana\",K$3:K$80)","v":25631},{"$f":"K84/D84","v":0.93993179067805932},{"$f":"SUMIF($A$3:$A$80,\"Metropolitana\",M$3:M$80)","v":23521},{"$f":"M84/D84","v":0.86255454912171325},{"$f":"SUMIF($A$3:$A$80,\"Metropolitana\",O$3:O$80)","v":23309},{"$f":"O84/D84","v":0.85478015328761603},{"$f":"SUMIF($A$3:$A$80,\"Metropolitana\",Q$3:Q$80)","v":24112},{"$f":"Q84/D84","v":0.88422751109318276},{"$f":"SUMIF($A$3:$A$80,\"Metropolitana\",S$3:S$80)","v":25365},{"$f":"S84/D84","v":0.93017712420697496},{"$f":"SUMIF($A$3:$A$80,\"Metropolitana\",U$3:U$80)","v":24589},{"$f":"U84/D84","v":0.90171990171990168},{"$f":"SUMIF($A$3:$A$80,\"Metropolitana\",W$3:W$80)","v":18349},{"$f":"W84/D84","v":0.67288862811250871},{"$f":"SUMIF($A$3:$A$80,\"Metropolitana\",Y$3:Y$80)","v":24532},{"$f":"Y84/D84","v":0.89962961604752645},{"$f":"SUMIF($A$3:$A$80,\"Metropolitana\",AA$3:AA$80)","v":25679},{"$f":"AA84/D84","v":0.94169203124427003},{"$f":"SUMIF($A$3:$A$80,\"Metropolitana\",AC$3:AC$80)","v":22272},{"$f":"AC84/D84","v":0.81675162272177193},null,{"$f":"SUMIF($A$3:$A$80,\"Metropolitana\",AF$3:AF$80)","v":839},3.0767538230224798E-2,null,{"$f":"cálculos1!O84","v":2},0.2,{"$f":"cálculos1!P84","v":0},0]
[null,"Total Sul",{"$f":"SUMIF($A$3:$A$80,\"sul\",C$3:C$80)","v":8116},{"$f":"SUMIF($A$3:$A$80,\"sul\",D$3:D$80)","v":7444},{"$f":"SUMIF($A$3:$A$80,\"Sul\",E$3:E$80)","v":6993},{"$f":"E85/D85","v":0.93941429339065019},{"$f":"SUMIF($A$3:$A$80,\"Sul\",G$3:G$80)","v":5374},{"$f":"G85/D85","v":0.72192369693713054},{"$f":"SUMIF($A$3:$A$80,\"Sul\",I$3:I$80)","v":3746},0.50322407307898975,{"$f":"SUMIF($A$3:$A$80,\"Sul\",K$3:K$80)","v":7245},{"$f":"K85/D85","v":0.97326706072004299},{"$f":"SUMIF($A$3:$A$80,\"Sul\",M$3:M$80)","v":7002},{"$f":"M85/D85","v":0.94062332079527133},{"$f":"SUMIF($A$3:$A$80,\"Sul\",O$3:O$80)","v":6850},{"$f":"O85/D85","v":0.92020419129500264},{"$f":"SUMIF($A$3:$A$80,\"Sul\",Q$3:Q$80)","v":7041},{"$f":"Q85/D85","v":0.94586243954862981},{"$f":"SUMIF($A$3:$A$80,\"Sul\",S$3:S$80)","v":7346},{"$f":"S85/D85","v":0.98683503492745839},{"$f":"SUMIF($A$3:$A$80,\"Sul\",U$3:U$80)","v":7097},{"$f":"U85/D85","v":0.95338527673293927},{"$f":"SUMIF($A$3:$A$80,\"Sul\",W$3:W$80)","v":5648},{"$f":"W85/D85","v":0.75873186458893072},{"$f":"SUMIF($A$3:$A$80,\"Sul\",Y$3:Y$80)","v":7177},{"$f":"Y85/D85","v":0.96413218699623859},{"$f":"SUMIF($A$3:$A$80,\"Sul\",AA$3:AA$80)","v":7525},{"$f":"AA85/D85","v":1.0108812466415906},{"$f":"SUMIF($A$3:$A$80,\"Sul\",AC$3:AC$80)","v":6944},{"$f":"AC85/D85","v":0.93283181085437938},null,{"$f":"SUMIF($A$3:$A$80,\"Sul\",AF$3:AF$80)","v":208},2.7941966684578184E-2,null,{"$f":"cálculos1!O85","v":5},0.5,{"$f":"cálculos1!P85","v":1},0.25]
[null,"Total Espírito Santo",{"$f":"SUM(C3:C80)","v":50048},{"$f":"SUM(D3:D80)","v":46234},{"$f":"SUM(E82:E85)","v":43786},{"$f":"E86/D86","v":0.94705195310810231},{"$f":"SUM(G82:G85)","v":33983},{"$f":"G86/D86","v":0.73502184539516369},{"$f":"SUM(I82:I85)","v":26654},0.57650214128130817,{"$f":"SUM(K82:K85)","v":44170},{"$f":"K86/D86","v":0.95535752909114502},{"$f":"SUM(M82:M85)","v":40929},{"$f":"M86/D86","v":0.88525760263009912},{"$f":"SUM(O82:O85)","v":40439},{"$f":"O86/D86","v":0.87465934161007053},{"$f":"SUM(Q82:Q85)","v":41701},{"$f":"Q86/D86","v":0.9019552710126747},{"$f":"SUM(S82:S85)","v":43723},{"$f":"S86/D86","v":0.94568931954838431},{"$f":"SUM(U82:U85)","v":42460},{"$f":"U86/D86","v":0.91837176104165763},{"$f":"SUM(W82:W85)","v":32726},{"$f":"W86/D86","v":0.70783406151317207},{"$f":"SUM(Y82:Y85)","v":42518},{"$f":"Y86/D86","v":0.91962624908076307},{"$f":"SUM(AA82:AA85)","v":44595},{"$f":"AA86/D86","v":0.96454989834321059},{"$f":"SUM(AC82:AC85)","v":39390},{"$f":"AC86/D86","v":0.8519704113855604},null,{"$f":"SUM(AF82:AF85)","v":1206},2.6084699571743739E-2,null,{"$f":"cálculos1!O86","v":3},0.30000000000000004,{"$f":"cálculos1!P86","v":1},0.25]
[null,null,null,null,{"$f":"COUNTIF(F3:F80,\">=0,95\")","v":9},null,{"$f":"COUNTIF(H3:H80,\">=0,95\")","v":9},null,{"$f":"COUNTIF(J3:J80,\">=0,95\")","v":7},null,{"$f":"COUNTIF(L3:L80,\">=0,9\")","v":10},null,{"$f":"COUNTIF(N3:N80,\">=0,95\")","v":32},null,{"$f":"COUNTIF(P3:P80,\">=0,95\")","v":28},null,{"$f":"COUNTIF(R3:R80,\">=0,95\")","v":29},null,{"$f":"COUNTIF(T3:T80,\">=0,9\")","v":61},null,{"$f":"COUNTIF(V3:V80,\">=0,95\")","v":34},null,{"$f":"COUNTIF(X3:X80,\">=0,95\")","v":8},null,{"$f":"COUNTIF(Z3:Z80,\">=0,95\")","v":48},null,{"$f":"COUNTIF(AB3:AB80,\">=0,95\")","v":59},null,{"$f":"COUNTIF(AD3:AD80,\">=0,95\")","v":41},null,null,{"$f":"COUNTIF(AG3:AG80,\">=0,9\")","v":0}]
[null,"HOMOGENEIDADE ENTRE MUNICÍPIOS",null,null,{"$f":"E87/78","v":0.11538461538461539},null,{"$f":"G87/78","v":0.11538461538461539},null,{"$f":"I87/78","v":8.9743589743589744E-2},null,{"$f":"K87/78","v":0.12820512820512819},null,{"$f":"M87/78","v":0.41025641025641024},null,{"$f":"O87/78","v":0.35897435897435898},null,{"$f":"Q87/78","v":0.37179487179487181},null,{"$f":"S87/78","v":0.78205128205128205},null,{"$f":"U87/78","v":0.4358974358974359},null,{"$f":"W87/78","v":0.10256410256410256},null,{"$f":"Y87/78","v":0.61538461538461542},null,{"$f":"AA87/78","v":0.75641025641025639},null,{"$f":"AC87/78","v":0.52564102564102566},null,null,{"$f":"AF87/78","v":0}]
[]
[" Fonte: Vacina e Confia, em 22 e 23 de Dezembro de 2025.**<https://vacinaeconfia.saude.es.gov.br/>",null,null,null,null,null," "]
["**Dados referente às doses aplicadas no período de Janeiro a Novembro 2025",null,null,null,null," ",null," ",null," "]
["Cobertura Calculada por município de procedência/ocorrência da vacinação"]
["1 População anual extraída do MS/SVS/DASIS - SINASC/DASIS/SVS/MS 2024 (hoje preliminares) referente ao período de Outubro a Dezembro de 2024 e SINASC/DASIS/SVS/MS 2025 referente ao período de Janeiro e Setembro de 2025."]
["² População proporcional extraída do MS/SVS/DASIS - SINASC/DASIS/SVS/MS 2024 (hoje preliminares) referente ao período de Outubro e Novembro 2024 e SINASC/DASIS/SVS/MS 2024 (hoje preliminares) referente ao período de Janeiro a Setembro/ 2025."]
["Sinasc, atualizado em 11/12/2025"]
["Método de Cálculo Simples"]
["Homogeineidade: O cálculo da Homogeineidade entre vacinas é feito de acordo com a pactuação estabelecida no Plano Plurianual (PPA) vigente no período 2024-2027."]
[]
[]
["Observações:"]
["1. Imunobiológicos que foram recebidos parcialmente pelo estado no mês de Novembro/2025, sendo distribuídos em quantidades reduzidas às regionais e municípios:",null,null,null,null,null,null,null,null,null,null,null,null,null," "]
["SORO ANTIRRÁBICO HUMANO; IMUNOGLOBULINA ANTIRRÁBICA HUMANA.\n"]
["2. Imunobiológicos indisponíveis no mês de Novembro/2025, não sendo possível a distribuição às regionais e municípios: "]
["IMUNOGLOBULINA HUMANA ANTI-HEPATITE B - 100 UI, VACINA TETRA VIRAL, IMUNOGLOBULINA HUMANA ANTIVARICELA (ZOSTER) – 125UI"]
["3. Imunobiológicos distribuídos através de pautas: VACINA COVID-19 PFIZER PEDIÁTRICA MENOR QUE 5 ANOS,VACINA COVID-19 PFIZER ADULTO E ADOLESCENTE A PARTIR\nDE 12 ANOS, VACINA COVID-19 PFIZER PEDIÁTRICA, VACINA CONTRA DENGUE 1,2,3 E 4 (ATENUADA)."]
[]
[null,null,null,null,null,null,null,null,null,null,null,null," "]

{"sheet":"CV Rotina <2A - residência","index":1,"n_rows":106,"n_cols":41,"rows_kept":106,"cut":false,"hidden":false,"merged":[[87,20,87,21],[87,10,87,11],[86,12,86,13],[87,12,87,13],[86,4,86,5],[86,14,86,15],[86,10,86,11],[86,6,86,7],[86,8,86,9],[87,6,87,7],[87,8,87,9],[2,39,2,40],[11,39,11,40],[86,18,86,19],[86,20,86,21],[86,22,86,23],[86,24,86,25],[86,26,86,27],[86,28,86,29],[86,31,86,32],[105,0,105,8],[0,31,0,32],[0,12,0,23],[87,14,87,15],[87,16,87,17],[87,22,87,23],[87,24,87,25],[87,26,87,27],[87,31,87,32],[0,24,0,29],[87,1,87,3],[0,4,0,11],[86,16,86,17],[87,28,87,29],[87,4,87,5],[87,18,87,19]]}
[null,null,null,null,"AO NASCER",null,null,null,null,null,null,null,"MENOR DE 1 ANO",null,null,null,null,null,null,null,null,null,null,null,"1 ANO",null,null,null,null,null,null,"MENOR DE 1 ANO"]
["Regional ","Município","¹População < 1 ano e 1 ano anual ","²População < 1 ano e 1 ano proporcional ","Doses Aplicadas HB\n≤30 dias","Cobertura Vacinal HB\naté 30 dias","Doses Aplicadas HB\n≤2 dias","Cobertura Vacinal HB\naté 2 dias","Doses Aplicadas HB\n≤1 dia","Cobertura Vacinal HB\naté 1 dia","Doses Aplicadas BCG","Cobertura Vacinal BCG","Doses Aplicadas Pentavalente ","Cobertura Vacinal Pentavalente","Doses Aplicadas Poliomielite ","Cobertura Vacinal Poliomielite ","Doses Aplicadas Pneumo 10","Cobertura Vacinal Pneumo 10","Doses Aplicadas Rotavírus","Cobertura Vacinal Rotavírus","Doses Aplicadas Meningo C","Cobertura Vacinal Meningo C","Doses Aplicadas Febre Amarela","Cobertura Vacinal Febre Amarela","Doses Aplicadas Hepatite A","Cobertura Vacinal Hepatite A","Doses Aplicadas de Tríplice Viral","Cobertura Vacinal Tríplice Viral","Doses Aplicadas Varicela","Cobertura Varicela",null,"Doses Aplicadas COVID-19","Cobertura Vacinal \nCOVID-19 D1",null,"VACINAS QUE ATINGIRAM A META DE CV","HOMOGENEIDADE ENTRE AS 10 VACINAS","VACINAS DO PQA-VS QUE ATINGIRAM A META DE CV","HOMOGENEIDADE ENTRE AS VACINAS DO PQA-VS"]
["Metropolitana","Afonso Cláudio",359,332,317,{"$f":"E3/D3","v":0.95481927710843373},264,{"$f":"G3/D3","v":0.79518072289156627},214,{"$f":"I3/D3","v":0.64457831325301207},316,{"$f":"K3/D3","v":0.95180722891566261},322,{"$f":"M3/D3","v":0.96987951807228912},319,{"$f":"O3/D3","v":0.96084337349397586},307,{"$f":"Q3/D3","v":0.92469879518072284},315,{"$f":"S3/D3","v":0.9487951807228916},319,{"$f":"U3/D3","v":0.96084337349397586},281,{"$f":"W3/D3","v":0.84638554216867468},346,{"$f":"Y3/D3","v":1.0421686746987953},337,{"$f":"AA3/D3","v":1.0150602409638554},367,{"$f":"AC3/D3","v":1.1054216867469879},null,1,{"$f":"AF3/D3","v":3.0120481927710845E-3},null,{"$f":"cálculos2!O3","v":8},{"$f":"AI3*0.1","v":0.8},{"$f":"cálculos2!P3","v":3},{"$f":"AK3*0.25","v":0.75},null,"LEGENDA / HOMOGENEIDADE PQA-VS"]
["Norte","Água Doce do Norte",145,139,118,{"$f":"E4/D4","v":0.84892086330935257},74,{"$f":"G4/D4","v":0.53237410071942448},64,{"$f":"I4/D4","v":0.46043165467625902},121,{"$f":"K4/D4","v":0.87050359712230219},117,0.84172661870503596,117,0.84172661870503596,101,0.72661870503597126,98,0.70503597122302153,118,0.84892086330935257,126,0.90647482014388492,144,1.0359712230215827,158,1.1366906474820144,100,0.71942446043165464,null,1,{"$f":"AF4/D4","v":7.1942446043165471E-3},null,{"$f":"cálculos2!O4","v":2},{"$f":"AI4*0.1","v":0.2},{"$f":"cálculos2!P4","v":1},{"$f":"AK4*0.25","v":0.25},null,"PERCENTUAL","Nº DE MUNICÍPIOS"]
["Central","Águia Branca",165,153,152,0.99346405228758172,77,0.50326797385620914,66,0.43137254901960786,150,0.98039215686274506,140,0.91503267973856206,141,0.92156862745098034,135,0.88235294117647056,139,0.90849673202614378,137,0.89542483660130723,113,0.73856209150326801,136,0.88888888888888884,140,0.91503267973856206,143,0.934640522875817,null,1,6.5359477124183009E-3,null,{"$f":"cálculos2!O5","v":2},0.2,{"$f":"cálculos2!P5","v":0},0,null,0,{"$f":"COUNTIF($AL$3:$AL$80,\"=0\")","v":16}]
["Sul","Alegre",322,292,254,0.86986301369863017,148,0.50684931506849318,90,0.30821917808219179,251,0.8595890410958904,272,0.93150684931506844,262,0.89726027397260277,257,0.88013698630136983,272,0.93150684931506844,279,0.95547945205479456,242,0.82876712328767121,309,1.0582191780821917,304,1.0410958904109588,327,1.1198630136986301,null,16,5.4794520547945202E-2,null,{"$f":"cálculos2!O6","v":5},0.5,{"$f":"cálculos2!P6","v":1},0.25,null,0.25,{"$f":"COUNTIF($AL$3:$AL$80,\"=0,25\")","v":24}]
["Sul","Alfredo Chaves",119,104,108,1.0384615384615385,89,0.85576923076923073,72,0.69230769230769229,107,1.0288461538461537,101,0.97115384615384615,100,0.96153846153846156,89,0.85576923076923073,102,0.98076923076923073,96,0.92307692307692313,85,0.81730769230769229,112,1.0769230769230769,104,1,117,1.125,null,1,9.6153846153846159E-3,null,{"$f":"cálculos2!O7","v":7},0.70000000000000007,{"$f":"cálculos2!P7","v":3},0.75,null,0.5,{"$f":"COUNTIF($AL$3:$AL$80,\"=0,5\")","v":2}]
["Central","Alto Rio Novo",99,92,83,0.90217391304347827,51,0.55434782608695654,47,0.51086956521739135,91,0.98913043478260865,84,0.91304347826086951,84,0.91304347826086951,94,1.0217391304347827,95,1.0326086956521738,91,0.98913043478260865,80,0.86956521739130432,86,0.93478260869565222,87,0.94565217391304346,92,1,null,0,0,null,{"$f":"cálculos2!O8","v":5},0.5,{"$f":"cálculos2!P8","v":1},0.25,null,0.75,{"$f":"COUNTIF($AL$3:$AL$80,\"=0,75\")","v":13}]
["Sul","Anchieta",334,308,312,1.0129870129870129,277,0.89935064935064934,214,0.69480519480519476,321,1.0422077922077921,350,1.1363636363636365,348,1.1298701298701299,347,1.1266233766233766,354,1.1493506493506493,354,1.1493506493506493,285,0.92532467532467533,348,1.1298701298701299,380,1.2337662337662338,351,1.1396103896103895,null,20,6.4935064935064929E-2,null,{"$f":"cálculos2!O9","v":9},0.9,{"$f":"cálculos2!P9","v":4},1,null,1,{"$f":"COUNTIF($AL$3:$AL$80,\"=1,0\")","v":23}]
["Sul","Apiacá",64,57,16,0.2807017543859649,9,0.15789473684210525,4,7.0175438596491224E-2,58,1.0175438596491229,61,1.0701754385964912,58,1.0175438596491229,56,0.98245614035087714,54,0.94736842105263153,59,1.0350877192982457,47,0.82456140350877194,55,0.96491228070175439,57,1,62,1.0877192982456141,null,0,0,null,{"$f":"cálculos2!O10","v":9},0.9,{"$f":"cálculos2!P10","v":4},1]
["Metropolitana","Aracruz",1420,1316,1290,0.98024316109422494,842,0.63981762917933127,555,0.42173252279635259,1296,0.98480243161094227,1155,0.87765957446808507,1151,0.87462006079027355,1146,0.87082066869300911,1241,0.94300911854103342,1175,0.8928571428571429,956,0.7264437689969605,1267,0.96276595744680848,1321,1.0037993920972645,1273,0.96732522796352582,null,55,4.1793313069908813E-2,null,{"$f":"cálculos2!O11","v":5},0.5,{"$f":"cálculos2!P11","v":1},0.25]
["Sul","Atilio Vivacqua",148,131,129,0.98473282442748089,120,0.91603053435114501,71,0.5419847328244275,129,0.98473282442748089,161,1.2290076335877862,159,1.2137404580152671,157,1.1984732824427482,160,1.2213740458015268,162,1.2366412213740459,146,1.1145038167938932,148,1.1297709923664123,161,1.2290076335877862,146,1.1145038167938932,null,4,3.0534351145038167E-2,null,{"$f":"cálculos2!O12","v":10},1,{"$f":"cálculos2!P12","v":4},1,null,"LEGENDA / HOMOGENEIDADE 10 VACINAS"]
["Central","Baixo Guandu",354,324,267,0.82407407407407407,179,0.55246913580246915,159,0.49074074074074076,337,1.0401234567901234,302,0.9320987654320988,301,0.92901234567901236,307,0.94753086419753085,314,0.96913580246913578,307,0.94753086419753085,264,0.81481481481481477,341,1.0524691358024691,331,1.021604938271605,323,0.99691358024691357," ",0,0,null,{"$f":"cálculos2!O13","v":5},0.5,{"$f":"cálculos2!P13","v":1},0.25,null,"PERCENTUAL","Nº DE MUNICÍPIOS"]
["Norte","Barra de São Francisco",622,570,469,0.82280701754385965,296,0.51929824561403504,259,0.45438596491228073,478,0.83859649122807023,478,0.83859649122807023,468,0.82105263157894737,476,0.83508771929824566,490,0.85964912280701755,479,0.8403508771929824,387,0.67894736842105263,454,0.79649122807017547,493,0.86491228070175441,489,0.85789473684210527,null,0,0,null,{"$f":"cálculos2!O14","v":0},0,{"$f":"cálculos2!P14","v":0},0,null,0,{"$f":"COUNTIF($AJ$3:$AJ$80,\"=0\")","v":3}]
["Norte","Boa Esperança",209,191,177,0.92670157068062831,166,0.86910994764397909,149,0.78010471204188481,172,0.90052356020942403,171,0.89528795811518325,171,0.89528795811518325,184,0.96335078534031415,183,0.95811518324607325,173,0.90575916230366493,147,0.76963350785340312,170,0.89005235602094246,179,0.93717277486910999,162,0.84816753926701571,null,2,1.0471204188481676E-2,null,{"$f":"cálculos2!O15","v":3},0.30000000000000004,{"$f":"cálculos2!P15","v":1},0.25,null,0.1,{"$f":"COUNTIFS($AJ$3:$AJ$80,\">=0,10\",$AJ$3:$AJ$80,\"<0,20\")","v":5}]
["Sul","Bom Jesus do Norte",72,67,44,0.65671641791044777,10,0.14925373134328357,5,7.4626865671641784E-2,88,1.3134328358208955,92,1.3731343283582089,92,1.3731343283582089,99,1.4776119402985075,102,1.5223880597014925,94,1.4029850746268657,74,1.1044776119402986,93,1.3880597014925373,95,1.4179104477611941,89,1.3283582089552239,null,6,8.9552238805970144E-2,null,{"$f":"cálculos2!O16","v":10},1,{"$f":"cálculos2!P16","v":4},1,null,0.2,{"$f":"COUNTIFS($AJ$3:$AJ$80,\">=0,20\",$AJ$3:$AJ$80,\"<0,30\")","v":10}]
["Metropolitana","Brejetuba",227,213,165,0.77464788732394363,145,0.68075117370892024,130,0.61032863849765262,168,0.78873239436619713,183,0.85915492957746475,191,0.89671361502347413,188,0.88262910798122063,204,0.95774647887323938,195,0.91549295774647887,168,0.78873239436619713,181,0.84976525821596249,196,0.92018779342723001,210,0.9859154929577465,null,2,9.3896713615023476E-3,null,{"$f":"cálculos2!O17","v":2},0.2,{"$f":"cálculos2!P17","v":0},0,null,0.3,{"$f":"COUNTIFS($AJ$3:$AJ$80,\">=0,30\",$AJ$3:$AJ$80,\"<0,40\")","v":9}]
["Sul","Cachoeiro de Itapemirim",2386,2179,2125,0.97521798990362552,1845,0.8467186782927949,1223,0.56126663607159244,2134,0.97934832491968793,1917,0.87976135842129422,1897,0.87058283616337773,1951,0.89536484625975221,2058,0.9444699403396053,1941,0.89077558513079391,1449,0.66498393758604868,1998,0.91693437356585594,2171,0.99632859109683336,1949,0.89444699403396055,null,60,2.7535566773749427E-2,null,{"$f":"cálculos2!O18","v":3},0.30000000000000004,{"$f":"cálculos2!P18","v":1},0.25,null,0.4,{"$f":"COUNTIFS($AJ$3:$AJ$80,\">=0,40\",$AJ$3:$AJ$80,\"<0,50\")","v":6}]
["Metropolitana","Cariacica",4738,4375,4019,0.91862857142857146,2835,0.64800000000000002,1913,0.43725714285714284,4051,0.92594285714285718,3642,0.8324571428571429,3603,0.82354285714285713,3555,0.81257142857142861,3906,0.89280000000000004,3832,0.87588571428571427,2797,0.63931428571428572,3872,0.88502857142857139,4072,0.93074285714285709,3344,0.7643428571428571,null,131,2.9942857142857143E-2,null,{"$f":"cálculos2!O19","v":1},0.1,{"$f":"cálculos2!P19","v":0},0,null,0.5,{"$f":"COUNTIFS($AJ$3:$AJ$80,\">=0,50\",$AJ$3:$AJ$80,\"<0,60\")","v":8}]
["Sul","Castelo",383,342,386,1.128654970760234,305,0.89181286549707606,218,0.63742690058479534,389,1.1374269005847952,369,1.0789473684210527,362,1.0584795321637428,347,1.0146198830409356,377,1.1023391812865497,372,1.0877192982456141,328,0.95906432748538006,405,1.1842105263157894,396,1.1578947368421053,360,1.0526315789473684,null,5,1.4619883040935672E-2,null,{"$f":"cálculos2!O20","v":10},1,{"$f":"cálculos2!P20","v":4},1,null,0.6,{"$f":"COUNTIFS($AJ$3:$AJ$80,\">=0,60\",$AJ$3:$AJ$80,\"<0,70\")","v":4}]
["Central","Colatina",1485,1358,1334,0.9823269513991163,775,0.57069219440353458,651,0.47938144329896909,1358,1,1174,0.86450662739322537,1170,0.8615611192930781,1131,0.83284241531664216,1227,0.90353460972017674,1228,0.90427098674521356,988,0.72754050073637699,1211,0.89175257731958768,1313,0.96686303387334316,1141,0.84020618556701032,null,23,1.6936671575846832E-2,null,{"$f":"cálculos2!O21","v":3},0.30000000000000004,{"$f":"cálculos2!P21","v":1},0.25,null,0.7,{"$f":"COUNTIFS($AJ$3:$AJ$80,\">=0,70\",$AJ$3:$AJ$80,\"<0,80\")","v":5}]
["Norte","Conceição da Barra",343,327,333,1.0183486238532109,310,0.94801223241590216,269,0.82262996941896027,321,0.98165137614678899,339,1.036697247706422,340,1.0397553516819571,347,1.0611620795107033,353,1.0795107033639144,351,1.073394495412844,306,0.93577981651376152,396,1.2110091743119267,400,1.2232415902140672,388,1.1865443425076452,null,6,1.834862385321101E-2,null,{"$f":"cálculos2!O22","v":9},0.9,{"$f":"cálculos2!P22","v":4},1,null,0.8,{"$f":"COUNTIFS($AJ$3:$AJ$80,\">=0,80\",$AJ$3:$AJ$80,\"<0,90\")","v":9}]
["Metropolitana","Conceição do Castelo",187,171,145,0.84795321637426901,131,0.76608187134502925,126,0.73684210526315785,143,0.83625730994152048,135,0.78947368421052633,126,0.73684210526315785,100,0.58479532163742687,148,0.86549707602339176,138,0.80701754385964908,116,0.67836257309941517,112,0.65497076023391809,132,0.77192982456140347,132,0.77192982456140347,null,3,1.7543859649122806E-2,null,{"$f":"cálculos2!O23","v":0},0,{"$f":"cálculos2!P23","v":0},0,null,0.9,{"$f":"COUNTIFS($AJ$3:$AJ$80,\">=0,90\",$AJ$3:$AJ$80,\"<1,0\")","v":12}]
["Sul","Divino de São Lourenço",67,62,68,1.096774193548387,19,0.30645161290322581,12,0.19354838709677419,67,1.0806451612903225,43,0.69354838709677424,44,0.70967741935483875,45,0.72580645161290325,46,0.74193548387096775,44,0.70967741935483875,52,0.83870967741935487,66,1.064516129032258,63,1.0161290322580645,72,1.1612903225806452,null,0,0,null,{"$f":"cálculos2!O24","v":4},0.4,{"$f":"cálculos2!P24","v":1},0.25,null,1,{"$f":"COUNTIF($AJ$3:$AJ$80,\">=1,0\")","v":7}]
["Metropolitana","Domingos Martins",426,382,345,0.90314136125654454,305,0.79842931937172779,259,0.67801047120418845,354,0.92670157068062831,380,0.99476439790575921,376,0.98429319371727753,365,0.95549738219895286,383,1.0026178010471205,398,1.0418848167539267,333,0.87172774869109948,385,1.0078534031413613,382,1,390,1.0209424083769634,null,31,8.1151832460732987E-2,null,{"$f":"cálculos2!O25","v":9},0.9,{"$f":"cálculos2!P25","v":4},1]
["Sul","Dores do Rio Preto",102,99,59,0.59595959595959591,19,0.19191919191919191,8,8.0808080808080815E-2,61,0.61616161616161613,97,0.97979797979797978,96,0.96969696969696972,65,0.65656565656565657,99,1,93,0.93939393939393945,77,0.77777777777777779,88,0.88888888888888884,95,0.95959595959595956,81,0.81818181818181823,null,0,0,null,{"$f":"cálculos2!O26","v":4},0.4,{"$f":"cálculos2!P26","v":3},0.75]
["Norte","Ecoporanga",250,233,227,0.97424892703862664,151,0.64806866952789699,134,0.57510729613733902,226,0.96995708154506433,238,1.0214592274678111,233,1,232,0.99570815450643779,241,1.0343347639484979,239,1.0257510729613735,190,0.81545064377682408,229,0.98283261802575106,238,1.0214592274678111,215,0.92274678111587982,null,1,4.2918454935622317E-3,null,{"$f":"cálculos2!O27","v":8},0.8,{"$f":"cálculos2!P27","v":4},1]
["Metropolitana","Fundão",231,213,194,0.91079812206572774,164,0.7699530516431925,124,0.5821596244131455,205,0.96244131455399062,211,0.99061032863849763,210,0.9859154929577465,195,0.91549295774647887,213,1,201,0.94366197183098588,152,0.71361502347417838,187,0.8779342723004695,205,0.96244131455399062,188,0.88262910798122063,null,3,1.4084507042253521E-2,null,{"$f":"cálculos2!O28","v":5},0.5,{"$f":"cálculos2!P28","v":3},0.75]
["Central","Governador Lindenberg",141,130,129,0.99230769230769234,74,0.56923076923076921,61,0.46923076923076923,136,1.0461538461538462,94,0.72307692307692306,94,0.72307692307692306,99,0.7615384615384615,106,0.81538461538461537,98,0.75384615384615383,79,0.60769230769230764,113,0.86923076923076925,118,0.90769230769230769,109,0.83846153846153848,null,0,0,null,{"$f":"cálculos2!O29","v":1},0.1,{"$f":"cálculos2!P29","v":0},0]
["Sul","Guaçuí",387,354,315,0.88983050847457623,139,0.39265536723163841,89,0.25141242937853109,323,0.91242937853107342,308,0.87005649717514122,305,0.8615819209039548,316,0.89265536723163841,318,0.89830508474576276,322,0.90960451977401124,262,0.74011299435028244,312,0.88135593220338981,338,0.95480225988700562,301,0.85028248587570621,null,14,3.954802259887006E-2,null,{"$f":"cálculos2!O30","v":2},0.2,{"$f":"cálculos2!P30","v":1},0.25]
["Metropolitana","Guarapari",1643,1526,1304,0.85452162516382701,1100,0.72083879423328967,902,0.5910878112712975,1394,0.91349934469200522,1257,0.82372214941022281,1248,0.81782437745740499,1340,0.8781127129750983,1403,0.91939711664482304,1350,0.88466579292267367,912,0.59764089121887287,1324,0.86762778505897775,1407,0.92201834862385323,1170,0.76671035386631714,null,34,2.2280471821756225E-2,null,{"$f":"cálculos2!O31","v":2},0.2,{"$f":"cálculos2!P31","v":0},0]
["Metropolitana","Ibatiba",410,375,309,0.82399999999999995,76,0.20266666666666666,52,0.13866666666666666,335,0.89333333333333331,336,0.89600000000000002,333,0.88800000000000001,321,0.85599999999999998,340,0.90666666666666662,334,0.89066666666666672,283,0.75466666666666671,357,0.95199999999999996,346,0.92266666666666663,331,0.88266666666666671,null,14,3.7333333333333336E-2,null,{"$f":"cálculos2!O32","v":2},0.2,{"$f":"cálculos2!P32","v":0},0]
["Metropolitana","Ibiraçu",130,123,119,0.96747967479674801,80,0.65040650406504064,59,0.47967479674796748,117,0.95121951219512191,115,0.93495934959349591,112,0.91056910569105687,112,0.91056910569105687,107,0.86991869918699183,114,0.92682926829268297,104,0.84552845528455289,129,1.0487804878048781,129,1.0487804878048781,129,1.0487804878048781,null,0,0,null,{"$f":"cálculos2!O33","v":4},0.4,{"$f":"cálculos2!P33","v":1},0.25]
["Sul","Ibitirama",139,130,126,0.96923076923076923,48,0.36923076923076925,25,0.19230769230769232,134,1.0307692307692307,155,1.1923076923076923,151,1.1615384615384616,156,1.2,161,1.2384615384615385,153,1.176923076923077,127,0.97692307692307689,138,1.0615384615384615,149,1.1461538461538461,136,1.0461538461538462,null,13,0.1,null,{"$f":"cálculos2!O34","v":10},1,{"$f":"cálculos2!P34","v":4},1]
["Sul","Iconha",140,132,120,0.90909090909090906,91,0.68939393939393945,68,0.51515151515151514,126,0.95454545454545459,120,{"$f":"M35/D35","v":0.90909090909090906},120,{"$f":"O35/D35","v":0.90909090909090906},108,{"$f":"Q35/D35","v":0.81818181818181823},114,{"$f":"S35/D35","v":0.86363636363636365},115,{"$f":"U35/D35","v":0.87121212121212122},98,{"$f":"W35/D35","v":0.74242424242424243},101,{"$f":"Y35/D35","v":0.76515151515151514},109,{"$f":"AA35/D35","v":0.8257575757575758},118,{"$f":"AC35/D35","v":0.89393939393939392},null,1,7.575757575757576E-3,null,{"$f":"cálculos2!O35","v":1},0.1,{"$f":"cálculos2!P35","v":0},0]
["Sul","Irupi",194,179,131,0.73184357541899436,50,0.27932960893854747,32,0.1787709497206704,161,0.8994413407821229,150,0.83798882681564246,147,0.82122905027932958,150,0.83798882681564246,162,0.9050279329608939,157,0.87709497206703912,153,0.85474860335195535,196,1.0949720670391061,179,1,161,0.8994413407821229,null,11,6.1452513966480445E-2,null,{"$f":"cálculos2!O36","v":3},0.30000000000000004,{"$f":"cálculos2!P36","v":1},0.25]
["Metropolitana","Itaguaçu",121,119,123,1.0336134453781514,100,0.84033613445378152,75,0.63025210084033612,126,1.0588235294117647,109,0.91596638655462181,109,0.91596638655462181,111,0.9327731092436975,112,0.94117647058823528,112,0.94117647058823528,113,0.94957983193277307,136,1.1428571428571428,143,1.2016806722689075,135,1.134453781512605,null,9,7.5630252100840331E-2,null,{"$f":"cálculos2!O37","v":5},0.5,{"$f":"cálculos2!P37","v":1},0.25]
["Sul","Itapemirim",537,494,477,0.96558704453441291,438,0.88663967611336036,365,0.73886639676113364,461,0.9331983805668016,402,0.81376518218623484,378,0.76518218623481782,447,0.90485829959514175,445,0.90080971659919029,440,0.89068825910931171,280,0.5668016194331984,391,0.791497975708502,432,0.87449392712550611,349,0.70647773279352222,null,3,6.0728744939271256E-3,null,{"$f":"cálculos2!O38","v":2},0.2,{"$f":"cálculos2!P38","v":0},0]
["Metropolitana","Itarana",131,126,130,1.0317460317460319,117,0.9285714285714286,90,0.7142857142857143,136,1.0793650793650793,124,0.98412698412698407,125,0.99206349206349209,115,0.91269841269841268,116,0.92063492063492058,118,0.93650793650793651,111,0.88095238095238093,141,1.1190476190476191,142,1.126984126984127,142,1.126984126984127,null,1,7.9365079365079361E-3,null,{"$f":"cálculos2!O39","v":7},0.70000000000000007,{"$f":"cálculos2!P39","v":3},0.75]
["Sul","Iúna",387,358,288,0.8044692737430168,68,0.18994413407821228,41,0.11452513966480447,330,0.92178770949720668,343,0.95810055865921784,344,0.96089385474860334,323,0.9022346368715084,336,0.93854748603351956,354,0.98882681564245811,310,0.86592178770949724,390,1.0893854748603351,379,1.058659217877095,361,1.0083798882681565,null,3,8.3798882681564244E-3,null,{"$f":"cálculos2!O40","v":8},0.8,{"$f":"cálculos2!P40","v":3},0.75]
["Norte","Jaguaré",444,415,446,1.074698795180723,409,0.98554216867469879,387,0.93253012048192774,438,1.0554216867469879,400,0.96385542168674698,393,0.94698795180722894,405,0.97590361445783136,410,0.98795180722891562,411,0.99036144578313257,322,0.77590361445783129,443,1.0674698795180724,445,1.072289156626506,379,0.91325301204819276,null,2,4.8192771084337354E-3,null,{"$f":"cálculos2!O41","v":7},0.70000000000000007,{"$f":"cálculos2!P41","v":3},0.75]
["Sul","Jerônimo Monteiro",114,111,105,0.94594594594594594,92,0.8288288288288288,63,0.56756756756756754,103,0.92792792792792789,106,0.95495495495495497,107,0.963963963963964,107,0.963963963963964,110,0.99099099099099097,108,0.97297297297297303,95,0.85585585585585588,132,1.1891891891891893,132,1.1891891891891893,128,1.1531531531531531,null,5,4.5045045045045043E-2,null,{"$f":"cálculos2!O42","v":9},0.9,{"$f":"cálculos2!P42","v":4},1]
["Metropolitana","João Neiva",143,132,117,0.88636363636363635,67,0.50757575757575757,40,0.30303030303030304,119,0.90151515151515149,131,0.99242424242424243,128,0.96969696969696972,125,0.94696969696969702,127,0.96212121212121215,127,0.96212121212121215,111,0.84090909090909094,143,1.0833333333333333,146,1.106060606060606,142,1.0757575757575757,null,2,1.5151515151515152E-2,null,{"$f":"cálculos2!O43","v":8},0.8,{"$f":"cálculos2!P43","v":3},0.75]
["Metropolitana","Laranja da Terra",120,114,107,0.93859649122807021,95,0.83333333333333337,66,0.57894736842105265,113,0.99122807017543857,121,1.0614035087719298,121,1.0614035087719298,130,1.1403508771929824,129,1.131578947368421,128,1.1228070175438596,97,0.85087719298245612,89,0.7807017543859649,100,0.8771929824561403,99,0.86842105263157898,null,7,6.1403508771929821E-2,null,{"$f":"cálculos2!O44","v":6},0.60000000000000009,{"$f":"cálculos2!P44","v":3},0.75]
["Central","Linhares",2668,2438,2362,0.96882690730106646,1904,0.78096800656275633,1631,0.66899097621000825,2371,0.97251845775225598,2078,0.85233798195242005,2035,0.83470057424118127,2115,0.86751435602953242,2219,0.9101722723543888,2182,0.89499589827727644,1644,0.67432321575061527,2010,0.82444626743232152,2195,0.90032813781788346,1865,0.76497128794093516,null,10,4.1017227235438884E-3,null,{"$f":"cálculos2!O45","v":2},0.2,{"$f":"cálculos2!P45","v":0},0]
["Central","Mantenópolis",132,121,121,1,83,0.68595041322314054,75,0.6198347107438017,123,1.0165289256198347,115,0.95041322314049592,112,0.92561983471074383,108,0.8925619834710744,113,0.93388429752066116,120,0.99173553719008267,118,0.97520661157024791,133,1.0991735537190082,134,1.1074380165289257,143,1.1818181818181819,null,1,8.2644628099173556E-3,null,{"$f":"cálculos2!O46","v":8},0.8,{"$f":"cálculos2!P46","v":2},0.5]
["Sul","Marataízes",570,532,536,1.0075187969924813,493,0.92669172932330823,384,0.72180451127819545,535,1.005639097744361,480,0.90225563909774431,428,0.80451127819548873,497,0.93421052631578949,500,0.93984962406015038,481,0.90413533834586468,322,0.60526315789473684,508,0.95488721804511278,519,0.97556390977443608,431,0.81015037593984962,null,2,3.7593984962406013E-3,null,{"$f":"cálculos2!O47","v":4},0.4,{"$f":"cálculos2!P47","v":1},0.25]
["Metropolitana","Marechal Floriano",207,190,178,0.93684210526315792,149,0.78421052631578947,117,0.61578947368421055,171,0.9,174,0.91578947368421049,175,0.92105263157894735,173,0.91052631578947374,184,0.96842105263157896,183,0.9631578947368421,147,0.77368421052631575,195,1.0263157894736843,179,0.94210526315789478,201,1.0578947368421052,null,11,5.7894736842105263E-2,null,{"$f":"cálculos2!O48","v":5},0.5,{"$f":"cálculos2!P48","v":0},0]
["Central","Marilândia",166,159,136,0.85534591194968557,92,0.57861635220125784,76,0.4779874213836478,140,0.88050314465408808,137,0.86163522012578619,139,0.87421383647798745,143,0.89937106918238996,148,0.9308176100628931,140,0.88050314465408808,127,0.79874213836477992,129,0.81132075471698117,140,0.88050314465408808,134,0.84276729559748431,null,4,2.5157232704402517E-2,null,{"$f":"cálculos2!O49","v":1},0.1,{"$f":"cálculos2!P49","v":0},0]
["Sul","Mimoso do Sul",279,256,233,0.91015625,198,0.7734375,129,0.50390625,243,0.94921875,243,0.94921875,229,0.89453125,252,0.984375,265,1.03515625,242,0.9453125,201,0.78515625,186,0.7265625,209,0.81640625,196,0.765625,null,6,2.34375E-2,null,{"$f":"cálculos2!O50","v":3},0.30000000000000004,{"$f":"cálculos2!P50","v":1},0.25]
["Norte","Montanha",217,205,207,1.0097560975609756,143,0.69756097560975605,125,0.6097560975609756,201,0.98048780487804876,216,1.0536585365853659,216,1.0536585365853659,220,1.0731707317073171,228,1.1121951219512196,209,1.0195121951219512,181,0.88292682926829269,229,1.1170731707317074,245,1.1951219512195121,244,1.1902439024390243,null,8,3.9024390243902439E-2,null,{"$f":"cálculos2!O51","v":9},0.9,{"$f":"cálculos2!P51","v":4},1]
["Norte","Mucurici",53,46,44,0.95652173913043481,35,0.76086956521739135,27,0.58695652173913049,42,0.91304347826086951,61,1.326086956521739,61,1.326086956521739,61,1.326086956521739,61,1.326086956521739,58,1.2608695652173914,54,1.173913043478261,66,1.4347826086956521,66,1.4347826086956521,69,1.5,null,2,4.3478260869565216E-2,null,{"$f":"cálculos2!O52","v":10},1,{"$f":"cálculos2!P52","v":4},1]
["Sul","Muniz Freire",248,226,218,0.96460176991150437,123,0.54424778761061943,89,0.39380530973451328,224,0.99115044247787609,208,0.92035398230088494,208,0.92035398230088494,222,0.98230088495575218,226,1,205,0.90707964601769908,196,0.86725663716814161,206,0.91150442477876104,208,0.92035398230088494,229,1.0132743362831858,null,3,1.3274336283185841E-2,null,{"$f":"cálculos2!O53","v":4},0.4,{"$f":"cálculos2!P53","v":1},0.25]
["Sul","Muqui",154,143,137,0.95804195804195802,118,0.82517482517482521,77,0.53846153846153844,138,0.965034965034965,146,1.020979020979021,146,1.020979020979021,156,1.0909090909090908,154,1.0769230769230769,146,1.020979020979021,115,0.80419580419580416,126,0.88111888111888115,131,0.91608391608391604,135,0.94405594405594406,null,7,4.8951048951048952E-2,null,{"$f":"cálculos2!O54","v":6},0.60000000000000009,{"$f":"cálculos2!P54","v":3},0.75]
["Norte","Nova Venécia",690,628,646,1.0286624203821657,545,0.86783439490445857,508,0.80891719745222934,642,1.0222929936305734,574,0.9140127388535032,571,0.90923566878980888,559,0.89012738853503182,645,1.0270700636942676,601,0.95700636942675155,499,0.79458598726114649,585,0.93152866242038213,621,0.98885350318471332,541,0.86146496815286622,null,12,1.9108280254777069E-2,null,{"$f":"cálculos2!O55","v":4},0.4,{"$f":"cálculos2!P55","v":1},0.25]
["Central","Pancas",218,201,197,0.98009950248756217,105,0.52238805970149249,88,0.43781094527363185,202,1.0049751243781095,193,0.96019900497512434,194,0.96517412935323388,191,0.95024875621890548,189,0.94029850746268662,192,0.95522388059701491,169,0.84079601990049746,191,0.95024875621890548,189,0.94029850746268662,203,1.0099502487562189,null,3,1.4925373134328358E-2,null,{"$f":"cálculos2!O56","v":8},0.8,{"$f":"cálculos2!P56","v":3},0.75]
["Norte","Pedro Canário",320,297,286,0.96296296296296291,266,0.89562289562289565,248,0.83501683501683499,290,0.97643097643097643,277,0.93265993265993263,262,0.88215488215488214,286,0.96296296296296291,296,0.99663299663299665,270,0.90909090909090906,189,0.63636363636363635,298,1.0033670033670035,297,1,287,0.96632996632996637,null,4,1.3468013468013467E-2,null,{"$f":"cálculos2!O57","v":6},0.60000000000000009,{"$f":"cálculos2!P57","v":2},0.5]
["Norte","Pinheiros",304,286,321,1.1223776223776223,305,1.0664335664335665,282,0.98601398601398604,304,1.0629370629370629,308,1.0769230769230769,304,1.0629370629370629,331,1.1573426573426573,348,1.2167832167832169,328,1.1468531468531469,265,0.92657342657342656,308,1.0769230769230769,326,1.1398601398601398,311,1.0874125874125875,null,6,2.097902097902098E-2,null,{"$f":"cálculos2!O58","v":9},0.9,{"$f":"cálculos2!P58","v":4},1]
["Sul","Piúma",310,281,260,0.92526690391459077,246,0.8754448398576512,199,0.70818505338078297,234,0.83274021352313166,262,0.93238434163701067,255,0.90747330960854089,268,0.9537366548042705,272,0.96797153024911031,270,0.96085409252669041,189,0.67259786476868333,250,0.88967971530249113,262,0.93238434163701067,220,0.7829181494661922,null,15,5.3380782918149468E-2,null,{"$f":"cálculos2!O59","v":3},0.30000000000000004,{"$f":"cálculos2!P59","v":1},0.25]
["Norte","Ponto Belo",68,65,65,1,53,0.81538461538461537,47,0.72307692307692306,62,0.9538461538461539,68,1.0461538461538462,69,1.0615384615384615,72,1.1076923076923078,71,1.0923076923076922,71,1.0923076923076922,75,1.1538461538461537,78,1.2,75,1.1538461538461537,72,1.1076923076923078,null,1,1.5384615384615385E-2,null,{"$f":"cálculos2!O60","v":10},1,{"$f":"cálculos2!P60","v":4},1]
["Sul","Presidente Kennedy",199,183,191,1.0437158469945356,177,0.96721311475409832,109,0.59562841530054644,192,1.0491803278688525,185,1.0109289617486339,184,1.0054644808743169,191,1.0437158469945356,194,1.0601092896174864,194,1.0601092896174864,167,0.91256830601092898,180,0.98360655737704916,203,1.1092896174863387,177,0.96721311475409832,null,6,3.2786885245901641E-2,null,{"$f":"cálculos2!O61","v":9},0.9,{"$f":"cálculos2!P61","v":4},1]
["Central","Rio Bananal",296,265,257,0.96981132075471699,191,0.72075471698113203,166,0.62641509433962261,259,0.97735849056603774,257,0.96981132075471699,256,0.96603773584905661,257,0.96981132075471699,261,0.98490566037735849,258,0.97358490566037736,249,0.93962264150943398,267,1.0075471698113208,281,1.060377358490566,245,0.92452830188679247,null,9,3.3962264150943396E-2,null,{"$f":"cálculos2!O62","v":8},0.8,{"$f":"cálculos2!P62","v":4},1]
["Sul","Rio Novo do Sul",97,88,101,1.1477272727272727,95,1.0795454545454546,69,0.78409090909090906,102,1.1590909090909092,98,1.1136363636363635,98,1.1136363636363635,96,1.0909090909090908,98,1.1136363636363635,101,1.1477272727272727,70,0.79545454545454541,86,0.97727272727272729,92,1.0454545454545454,90,1.0227272727272727,null,0,0,null,{"$f":"cálculos2!O63","v":9},0.9,{"$f":"cálculos2!P63","v":4},1]
["Metropolitana","Santa Leopoldina",96,89,92,1.0337078651685394,81,0.9101123595505618,55,0.6179775280898876,90,1.0112359550561798,103,1.1573033707865168,103,1.1573033707865168,109,1.2247191011235956,110,1.2359550561797752,105,1.1797752808988764,82,0.9213483146067416,98,1.101123595505618,92,1.0337078651685394,103,1.1573033707865168,null,0,0,null,{"$f":"cálculos2!O64","v":9},0.9,{"$f":"cálculos2!P64","v":4},1]
["Metropolitana","Santa Maria de Jetibá",721,667,641,0.96101949025487254,611,0.91604197901049478,541,0.81109445277361314,632,0.94752623688155924,556,0.83358320839580213,558,0.83658170914542729,592,0.88755622188905547,605,0.9070464767616192,588,0.88155922038980505,467,0.7001499250374813,528,0.79160419790104952,567,0.8500749625187406,498,0.74662668665667165,null,0,0,null,{"$f":"cálculos2!O65","v":2},0.2,{"$f":"cálculos2!P65","v":0},0]
["Metropolitana","Santa Teresa",283,262,248,0.94656488549618323,222,0.84732824427480913,161,0.6145038167938931,253,0.96564885496183206,227,0.86641221374045807,226,0.86259541984732824,234,0.89312977099236646,243,0.9274809160305344,239,0.91221374045801529,215,0.82061068702290074,271,1.0343511450381679,266,1.0152671755725191,274,1.0458015267175573,null,6,2.2900763358778626E-2,null,{"$f":"cálculos2!O66","v":5},0.5,{"$f":"cálculos2!P66","v":1},0.25]
["Central","São Domingos do Norte",111,101,112,1.108910891089109,66,0.65346534653465349,52,0.51485148514851486,113,1.1188118811881189,100,{"$f":"M67/D67","v":0.99009900990099009},101,{"$f":"O67/D67","v":1},102,{"$f":"Q67/D67","v":1.0099009900990099},106,{"$f":"S67/D67","v":1.0495049504950495},100,{"$f":"U67/D67","v":0.99009900990099009},93,{"$f":"W67/D67","v":0.92079207920792083},128,{"$f":"Y67/D67","v":1.2673267326732673},127,{"$f":"AA67/D67","v":1.2574257425742574},119,{"$f":"AC67/D67","v":1.1782178217821782},null,0,0,null,{"$f":"cálculos2!O67","v":9},0.9,{"$f":"cálculos2!P67","v":4},1]
["Central","São Gabriel da Palha",401,376,332,{"$f":"E68/D68","v":0.88297872340425532},183,{"$f":"G68/D68","v":0.48670212765957449},156,{"$f":"I68/D68","v":0.41489361702127658},335,{"$f":"K68/D68","v":0.89095744680851063},325,0.86436170212765961,326,0.86702127659574468,311,0.8271276595744681,329,0.875,332,0.88297872340425532,307,0.81648936170212771,368,0.97872340425531912,374,0.99468085106382975,345,0.91755319148936165,null,3,{"$f":"AF68/D68","v":7.9787234042553185E-3},null,{"$f":"cálculos2!O68","v":2},{"$f":"AI68*0.1","v":0.2},{"$f":"cálculos2!P68","v":1},{"$f":"AK68*0.25","v":0.25}]
["Sul","São José do Calçado",94,84,81,0.9642857142857143,22,0.26190476190476192,10,0.11904761904761904,86,1.0238095238095237,92,1.0952380952380953,92,1.0952380952380953,88,1.0476190476190477,89,1.0595238095238095,87,1.0357142857142858,55,0.65476190476190477,84,1,84,1,84,1,null,2,2.3809523809523808E-2,null,{"$f":"cálculos2!O69","v":9},0.9,{"$f":"cálculos2!P69","v":4},1]
["Norte","São Mateus",1670,1562,1516,0.97055057618437901,1432,0.91677336747759286,1308,0.83738796414852756,1468,0.93982074263764404,1372,0.87836107554417409,1343,0.8597951344430218,1453,0.93021766965428943,1499,0.95966709346991041,1453,0.93021766965428943,1083,0.69334186939820741,1482,0.94878361075544171,1556,0.99615877080665816,1305,0.83546734955185664,null,52,3.3290653008962869E-2,null,{"$f":"cálculos2!O70","v":3},0.30000000000000004,{"$f":"cálculos2!P70","v":1},0.25]
["Central","São Roque do Canaã",131,121,136,1.1239669421487604,81,0.66942148760330578,69,0.57024793388429751,137,1.1322314049586777,113,0.93388429752066116,110,0.90909090909090906,111,0.9173553719008265,115,0.95041322314049592,115,0.95041322314049592,104,0.85950413223140498,115,0.95041322314049592,130,1.0743801652892562,122,1.0082644628099173,null,6,4.9586776859504134E-2,null,{"$f":"cálculos2!O71","v":6},0.60000000000000009,{"$f":"cálculos2!P71","v":1},0.25]
["Metropolitana","Serra",7550,7009,6391,0.91182765016407474,5395,0.76972463974889427,4340,0.61920388072478239,6373,0.90925952346982453,5519,0.78741617919817375,5460,0.77899843058924245,5869,0.83735197603081757,6061,0.86474532743615351,5810,0.82893422742188616,4370,0.62348409188186615,5865,0.83678128120987305,6052,0.86346126408902835,5001,0.71351119988586098,null,133,1.8975602796404624E-2,null,{"$f":"cálculos2!O72","v":1},0.1,{"$f":"cálculos2!P72","v":0},0]
["Central","Sooretama",428,391,392,1.0025575447570332,339,0.86700767263427114,284,0.72634271099744241,402,1.0281329923273657,341,0.87212276214833762,337,0.86189258312020456,347,0.88746803069053704,372,0.95140664961636834,363,0.92838874680306904,284,0.72634271099744241,344,0.87979539641943738,387,0.98976982097186705,321,0.82097186700767266,null,2,5.1150895140664966E-3,null,{"$f":"cálculos2!O73","v":3},0.30000000000000004,{"$f":"cálculos2!P73","v":1},0.25]
["Sul","Vargem Alta",270,252,250,0.99206349206349209,227,0.90079365079365081,155,0.61507936507936511,249,0.98809523809523814,242,0.96031746031746035,237,0.94047619047619047,262,1.0396825396825398,261,1.0357142857142858,258,1.0238095238095237,197,0.78174603174603174,238,0.94444444444444442,245,0.97222222222222221,244,0.96825396825396826,null,6,2.3809523809523808E-2,null,{"$f":"cálculos2!O74","v":7},0.70000000000000007,{"$f":"cálculos2!P74","v":3},0.75]
["Metropolitana","Venda Nova do Imigrante",352,323,290,0.89783281733746134,246,0.76160990712074306,233,0.72136222910216719,308,0.95356037151702788,311,0.96284829721362231,311,0.96284829721362231,315,0.97523219814241491,329,1.0185758513931888,305,0.94427244582043346,295,0.91331269349845201,339,1.0495356037151702,332,1.0278637770897834,372,1.151702786377709,null,13,4.0247678018575851E-2,null,{"$f":"cálculos2!O75","v":8},0.8,{"$f":"cálculos2!P75","v":4},1]
["Metropolitana","Viana",863,803,808,1.0062266500622665,567,0.70610211706102122,407,0.50684931506849318,807,1.0049813200498132,771,0.96014943960149435,729,0.90784557907845576,805,1.0024906600249066,825,1.0273972602739727,787,0.98007471980074723,537,0.66874221668742218,793,0.98754669987546695,885,1.1021170610211706,629,0.7833125778331258,null,18,2.2415940224159402E-2,null,{"$f":"cálculos2!O76","v":7},0.70000000000000007,{"$f":"cálculos2!P76","v":3},0.75]
["Norte","Vila Pavão",95,91,100,1.098901098901099,83,0.91208791208791207,78,0.8571428571428571,101,1.1098901098901099,105,1.1538461538461537,104,1.1428571428571428,101,1.1098901098901099,98,1.0769230769230769,105,1.1538461538461537,87,0.95604395604395609,98,1.0769230769230769,107,1.1758241758241759,93,1.0219780219780219,null,3,3.2967032967032968E-2,null,{"$f":"cálculos2!O77","v":10},1,{"$f":"cálculos2!P77","v":4},1]
["Central","Vila Valério",254,236,204,0.86440677966101698,157,0.6652542372881356,142,0.60169491525423724,206,0.8728813559322034,192,0.81355932203389836,193,0.81779661016949157,208,0.88135593220338981,204,0.86440677966101698,197,0.8347457627118644,180,0.76271186440677963,254,1.076271186440678,243,1.0296610169491525,248,1.0508474576271187,null,1,4.2372881355932203E-3,null,{"$f":"cálculos2!O78","v":3},0.30000000000000004,{"$f":"cálculos2!P78","v":1},0.25]
["Metropolitana","Vila Velha",5551,5140,4516,0.87859922178988326,3299,0.64182879377431912,2333,0.45389105058365758,4496,0.87470817120622568,3976,0.77354085603112843,3958,0.77003891050583662,4127,0.80291828793774322,4376,0.85136186770428013,4246,0.82607003891050579,3057,0.59474708171206225,4252,0.82723735408560306,4353,0.84688715953307392,3841,0.7472762645914397,null,155,3.0155642023346304E-2,null,{"$f":"cálculos2!O79","v":0},0,{"$f":"cálculos2!P79","v":0},0]
["Metropolitana","Vitória",3544,3269,3548,1.0853472009788927,2883,0.88192107678189047,2339,0.71550933007035789,3507,1.0728051391862956,3500,1.0706638115631693,3478,1.0639339247476292,3632,1.1110431324564087,3772,1.1538696849189354,3618,1.106760477210156,2543,0.77791373508718265,3366,1.0296726827776079,3704,1.1330682165799939,3101,0.94860813704496783,null,200,6.1180789232181093E-2,null,{"$f":"cálculos2!O80","v":8},0.8,{"$f":"cálculos2!P80","v":4},1]
[]
[null,"Total Norte",{"$f":"SUMIF($A$3:$A$80,\"Norte\",C$3:C$80)","v":5430},{"$f":"SUMIF($A$3:$A$80,\"Norte\",D$3:D$80)","v":5055},{"$f":"SUMIF($A$3:$A$80,\"Norte\",E$3:E$80)","v":4955},{"$f":"E82/D82","v":0.98021760633036592},{"$f":"SUMIF($A$3:$A$80,\"Norte\",G$3:G$80)","v":4268},{"$f":"G82/D82","v":0.84431256181998027},{"$f":"SUMIF($A$3:$A$80,\"Norte\",I$3:I$80)","v":3885},{"$f":"I82/D82","v":0.7685459940652819},{"$f":"SUMIF($A$3:$A$80,\"Norte\",K$3:K$80)","v":4866},{"$f":"K82/D82","v":0.96261127596439167},{"$f":"SUMIF($A$3:$A$80,\"Norte\",M$3:M$80)","v":4724},{"$f":"M82/D82","v":0.93452027695351136},{"$f":"SUMIF($A$3:$A$80,\"Norte\",O$3:O$80)","v":4652},{"$f":"O82/D82","v":0.92027695351137484},{"$f":"SUMIF($A$3:$A$80,\"Norte\",Q$3:Q$80)","v":4828},{"$f":"Q82/D82","v":0.95509396636993071},{"$f":"SUMIF($A$3:$A$80,\"Norte\",S$3:S$80)","v":5021},{"$f":"S82/D82","v":0.99327398615232443},{"$f":"SUMIF($A$3:$A$80,\"Norte\",U$3:U$80)","v":4866},{"$f":"U82/D82","v":0.96261127596439167},{"$f":"SUMIF($A$3:$A$80,\"Norte\",W$3:W$80)","v":3911},{"$f":"W82/D82","v":0.77368941641938671},{"$f":"SUMIF($A$3:$A$80,\"Norte\",Y$3:Y$80)","v":4980},{"$f":"Y82/D82","v":0.98516320474777452},{"$f":"SUMIF($A$3:$A$80,\"Norte\",AA$3:AA$80)","v":5206},{"$f":"AA82/D82","v":1.0298714144411474},{"$f":"SUMIF($A$3:$A$80,\"Norte\",AC$3:AC$80)","v":4655},{"$f":"AC82/D82","v":0.9208704253214639},null,{"$f":"SUMIF($A$3:$A$80,\"Norte\",AF$3:AF$80)","v":100},{"$f":"AF82/D82","v":1.9782393669634024E-2},null,{"$f":"cálculos2!O82","v":6},{"$f":"AI82*0.1","v":0.60000000000000009},{"$f":"cálculos2!P82","v":2},0.5]
[null,"Total Central",{"$f":"SUMIF($A$3:$A$80,\"Central\",C$3:C$80)","v":7049},{"$f":"SUMIF($A$3:$A$80,\"Central\",D$3:D$80)","v":6466},{"$f":"SUMIF($A$3:$A$80,\"Central\",E$3:E$80)","v":6214},{"$f":"E83/D83","v":0.96102690999072071},{"$f":"SUMIF($A$3:$A$80,\"Central\",G$3:G$80)","v":4357},{"$f":"G83/D83","v":0.67383235385091245},{"$f":"SUMIF($A$3:$A$80,\"Central\",I$3:I$80)","v":3723},{"$f":"I83/D83","v":0.57578100835137647},{"$f":"SUMIF($A$3:$A$80,\"Central\",K$3:K$80)","v":6360},{"$f":"K83/D83","v":0.98360655737704916},{"$f":"SUMIF($A$3:$A$80,\"Central\",M$3:M$80)","v":5645},{"$f":"M83/D83","v":0.87302814723167332},{"$f":"SUMIF($A$3:$A$80,\"Central\",O$3:O$80)","v":5593},{"$f":"O83/D83","v":0.86498608103928243},{"$f":"SUMIF($A$3:$A$80,\"Central\",Q$3:Q$80)","v":5659},{"$f":"Q83/D83","v":0.87519331889885554},{"$f":"SUMIF($A$3:$A$80,\"Central\",S$3:S$80)","v":5937},{"$f":"S83/D83","v":0.91818744200433033},{"$f":"SUMIF($A$3:$A$80,\"Central\",U$3:U$80)","v":5860},{"$f":"U83/D83","v":0.90627899783482835},{"$f":"SUMIF($A$3:$A$80,\"Central\",W$3:W$80)","v":4799},{"$f":"W83/D83","v":0.74218991648623567},{"$f":"SUMIF($A$3:$A$80,\"Central\",Y$3:Y$80)","v":5826},{"$f":"Y83/D83","v":0.90102072378595732},{"$f":"SUMIF($A$3:$A$80,\"Central\",AA$3:AA$80)","v":6189},{"$f":"AA83/D83","v":0.95716053201360962},{"$f":"SUMIF($A$3:$A$80,\"Central\",AC$3:AC$80)","v":5553},{"$f":"AC83/D83","v":0.85879987627590471},null,{"$f":"SUMIF($A$3:$A$80,\"Central\",AF$3:AF$80)","v":63},{"$f":"AF83/D83","v":9.7432725023198271E-3},null,{"$f":"cálculos2!O83","v":3},{"$f":"AI83*0.1","v":0.30000000000000004},{"$f":"cálculos2!P83","v":1},0.25]
[null,"Total Metropolitana",{"$f":"SUMIF($A$3:$A$80,\"Metropolitana\",C$3:C$80)","v":29453},{"$f":"SUMIF($A$3:$A$80,\"Metropolitana\",D$3:D$80)","v":27269},{"$f":"SUMIF($A$3:$A$80,\"Metropolitana\",E$3:E$80)","v":25396},{"$f":"E84/D84","v":0.9313139462393194},{"$f":"SUMIF($A$3:$A$80,\"Metropolitana\",G$3:G$80)","v":19774},{"$f":"G84/D84","v":0.72514576992188928},{"$f":"SUMIF($A$3:$A$80,\"Metropolitana\",I$3:I$80)","v":15131},0.55487916681946536,{"$f":"SUMIF($A$3:$A$80,\"Metropolitana\",K$3:K$80)","v":25510},{"$f":"K84/D84","v":0.93549451758406987},{"$f":"SUMIF($A$3:$A$80,\"Metropolitana\",M$3:M$80)","v":23358},{"$f":"M84/D84","v":0.85657706553228941},{"$f":"SUMIF($A$3:$A$80,\"Metropolitana\",O$3:O$80)","v":23150},{"$f":"O84/D84","v":0.84894935641204294},{"$f":"SUMIF($A$3:$A$80,\"Metropolitana\",Q$3:Q$80)","v":23966},{"$f":"Q84/D84","v":0.87887344603762518},{"$f":"SUMIF($A$3:$A$80,\"Metropolitana\",S$3:S$80)","v":25249},{"$f":"S84/D84","v":0.92592320950529905},{"$f":"SUMIF($A$3:$A$80,\"Metropolitana\",U$3:U$80)","v":24422},{"$f":"U84/D84","v":0.89559573141662696},{"$f":"SUMIF($A$3:$A$80,\"Metropolitana\",W$3:W$80)","v":18247},{"$f":"W84/D84","v":0.66914811690931097},{"$f":"SUMIF($A$3:$A$80,\"Metropolitana\",Y$3:Y$80)","v":24376},{"$f":"Y84/D84","v":0.89390883420734168},{"$f":"SUMIF($A$3:$A$80,\"Metropolitana\",AA$3:AA$80)","v":25488},{"$f":"AA84/D84","v":0.93468774065788995},{"$f":"SUMIF($A$3:$A$80,\"Metropolitana\",AC$3:AC$80)","v":22072},{"$f":"AC84/D84","v":0.80941728702922733},null,{"$f":"SUMIF($A$3:$A$80,\"Metropolitana\",AF$3:AF$80)","v":829},3.0400821445597564E-2,null,{"$f":"cálculos2!O84","v":2},0.2,{"$f":"cálculos2!P84","v":0},0]
[null,"Total Sul",{"$f":"SUMIF($A$3:$A$80,\"sul\",C$3:C$80)","v":8116},{"$f":"SUMIF($A$3:$A$80,\"sul\",D$3:D$80)","v":7444},{"$f":"SUMIF($A$3:$A$80,\"Sul\",E$3:E$80)","v":7070},{"$f":"E85/D85","v":0.94975819451907573},{"$f":"SUMIF($A$3:$A$80,\"Sul\",G$3:G$80)","v":5466},{"$f":"G85/D85","v":0.7342826437399248},{"$f":"SUMIF($A$3:$A$80,\"Sul\",I$3:I$80)","v":3821},0.51329930145083291,{"$f":"SUMIF($A$3:$A$80,\"Sul\",K$3:K$80)","v":7246},{"$f":"K85/D85","v":0.97340139709833418},{"$f":"SUMIF($A$3:$A$80,\"Sul\",M$3:M$80)","v":7003},{"$f":"M85/D85","v":0.94075765717356263},{"$f":"SUMIF($A$3:$A$80,\"Sul\",O$3:O$80)","v":6847},{"$f":"O85/D85","v":0.91980118216012896},{"$f":"SUMIF($A$3:$A$80,\"Sul\",Q$3:Q$80)","v":7052},{"$f":"Q85/D85","v":0.94734013970983344},{"$f":"SUMIF($A$3:$A$80,\"Sul\",S$3:S$80)","v":7329},{"$f":"S85/D85","v":0.98455131649650729},{"$f":"SUMIF($A$3:$A$80,\"Sul\",U$3:U$80)","v":7127},{"$f":"U85/D85","v":0.95741536808167649},{"$f":"SUMIF($A$3:$A$80,\"Sul\",W$3:W$80)","v":5622},{"$f":"W85/D85","v":0.75523911875335836},{"$f":"SUMIF($A$3:$A$80,\"Sul\",Y$3:Y$80)","v":7146},{"$f":"Y85/D85","v":0.95996775926921007},{"$f":"SUMIF($A$3:$A$80,\"Sul\",AA$3:AA$80)","v":7497},{"$f":"AA85/D85","v":1.0071198280494358},{"$f":"SUMIF($A$3:$A$80,\"Sul\",AC$3:AC$80)","v":6914},{"$f":"AC85/D85","v":0.92880171950564216},null,{"$f":"SUMIF($A$3:$A$80,\"Sul\",AF$3:AF$80)","v":209},2.8076303062869425E-2,null,{"$f":"cálculos2!O85","v":5},0.5,{"$f":"cálculos2!P85","v":1},0.25]
[null,"Total Espírito Santo",{"$f":"SUM(C3:C80)","v":50048},{"$f":"SUM(D3:D80)","v":46234},{"$f":"SUM(E82:E85)","v":43635},{"$f":"E86/D86","v":0.94378595838560364},{"$f":"SUM(G82:G85)","v":33865},{"$f":"G86/D86","v":0.7324696111087079},{"$f":"SUM(I82:I85)","v":26560},0.57446900549379243,{"$f":"SUM(K82:K85)","v":43982},{"$f":"K86/D86","v":0.95129125751611365},{"$f":"SUM(M82:M85)","v":40730},{"$f":"M86/D86","v":0.88095341090972012},{"$f":"SUM(O82:O85)","v":40242},{"$f":"O86/D86","v":0.87039840809793656},{"$f":"SUM(Q82:Q85)","v":41505},{"$f":"Q86/D86","v":0.89771596660466324},{"$f":"SUM(S82:S85)","v":43536},{"$f":"S86/D86","v":0.94164467707747546},{"$f":"SUM(U82:U85)","v":42275},{"$f":"U86/D86","v":0.9143703767789938},{"$f":"SUM(W82:W85)","v":32579},{"$f":"W86/D86","v":0.70465458320716357},{"$f":"SUM(Y82:Y85)","v":42328},{"$f":"Y86/D86","v":0.91551671929748668},{"$f":"SUM(AA82:AA85)","v":44380},{"$f":"AA86/D86","v":0.95989964095687152},{"$f":"SUM(AC82:AC85)","v":39194},{"$f":"AC86/D86","v":0.84773110697754894},null,{"$f":"SUM(AF82:AF85)","v":1201},2.5976554051131202E-2,null,{"$f":"cálculos2!O86","v":3},0.30000000000000004,{"$f":"cálculos2!P86","v":1},0.25]
[null,null,null,null,{"$f":"COUNTIF(F3:F80,\">=0,95\")","v":45},null,{"$f":"COUNTIF(H3:H80,\">=0,95\")","v":4},null,{"$f":"COUNTIF(J3:J80,\">=0,95\")","v":1},null,{"$f":"COUNTIF(L3:L80,\">=0,9\")","v":65},null,{"$f":"COUNTIF(N3:N80,\">=0,95\")","v":37},null,{"$f":"COUNTIF(P3:P80,\">=0,95\")","v":33},null,{"$f":"COUNTIF(R3:R80,\">=0,95\")","v":35},null,{"$f":"COUNTIF(T3:T80,\">=0,9\")","v":65},null,{"$f":"COUNTIF(V3:V80,\">=0,95\")","v":38},null,{"$f":"COUNTIF(X3:X80,\">=0,95\")","v":8},null,{"$f":"COUNTIF(Z3:Z80,\">=0,95\")","v":48},null,{"$f":"COUNTIF(AB3:AB80,\">=0,95\")","v":54},null,{"$f":"COUNTIF(AD3:AD80,\">=0,95\")","v":42},null,null,{"$f":"COUNTIF(AG3:AG80,\">=0,9\")","v":0}]
[null,"HOMOGENEIDADE ENTRE MUNICÍPIOS",null,null,{"$f":"E87/78","v":0.57692307692307687},null,{"$f":"G87/78","v":5.128205128205128E-2},null,{"$f":"I87/78","v":1.282051282051282E-2},null,{"$f":"K87/78","v":0.83333333333333337},null,{"$f":"M87/78","v":0.47435897435897434},null,{"$f":"O87/78","v":0.42307692307692307},null,{"$f":"Q87/78","v":0.44871794871794873},null,{"$f":"S87/78","v":0.83333333333333337},null,{"$f":"U87/78","v":0.48717948717948717},null,{"$f":"W87/78","v":0.10256410256410256},null,{"$f":"Y87/78","v":0.61538461538461542},null,{"$f":"AA87/78","v":0.69230769230769229},null,{"$f":"AC87/78","v":0.53846153846153844},null,null,{"$f":"AF87/78","v":0}]
[]
[" Fonte: Vacina e Confia, em 22 e 23 de Dezembro de 2025.**<https://vacinaeconfia.saude.es.gov.br/>"]
["**Dados referente às doses aplicadas no período de Janeiro a Novembro 2025",null,null,null,null,null,null," ",null," ",null," "]
["Cobertura Calculada por município de residência da vacinação"]
["1 População anual extraída do MS/SVS/DASIS - SINASC/DASIS/SVS/MS 2024 (hoje preliminares) referente ao período de Outubro a Dezembro de 2024 e SINASC/DASIS/SVS/MS 2025 referente ao período de Janeiro e Setembro de 2025."]
["² População proporcional extraída do MS/SVS/DASIS - SINASC/DASIS/SVS/MS 2024 (hoje preliminares) referente ao período de Outubro e Novembro 2024 e SINASC/DASIS/SVS/MS 2024 (hoje preliminares) referente ao período de Janeiro a Setembro/ 2025."]
["Sinasc, atualizado em 11/12/2025"]
["Método de Cálculo Simples"]
["Homogeineidade: O cálculo da Homogeineidade entre vacinas é feito de acordo com a pactuação estabelecida no Plano Plurianual (PPA) vigente no período 2024-2027."]
[]
[]
[]
["Observações:"]
["1. Imunobiológicos que foram recebidos parcialmente pelo estado no mês de Novembro/2025, sendo distribuídos em quantidades reduzidas às regionais e municípios:",null,null,null,null,null,null,null,null,null,null,null,null,null," "]
["SORO ANTIRRÁBICO HUMANO; IMUNOGLOBULINA ANTIRRÁBICA HUMANA.\n"]
["2. Imunobiológicos indisponíveis no mês de Novembro/2025, não sendo possível a distribuição às regionais e municípios: "]
["IMUNOGLOBULINA HUMANA ANTI-HEPATITE B - 100 UI, VACINA TETRA VIRAL, IMUNOGLOBULINA HUMANA ANTIVARICELA (ZOSTER) – 125UI"]
["3. Imunobiológicos distribuídos através de pautas: VACINA COVID-19 PFIZER PEDIÁTRICA MENOR QUE 5 ANOS,VACINA COVID-19 PFIZER ADULTO E ADOLESCENTE A PARTIR\nDE 12 ANOS, VACINA COVID-19 PFIZER PEDIÁTRICA, VACINA CONTRA DENGUE 1,2,3 E 4 (ATENUADA)."]

{"sheet":"CV REF 1A e 4A - procedência","index":2,"n_rows":106,"n_cols":26,"rows_kept":106,"cut":false,"hidden":false,"merged":[[0,18,0,21],[0,10,0,17],[0,6,0,9],[105,0,105,11]]}
[null,null,null,null,null,null,"D2",null,null,null,"REFORÇOS 1 ANO",null,null,null,null,null,null,null,"REFORÇOS 4 ANOS"]
["Regional ","Município","¹População 1 ano anual ","²População 1 ano proporcional ","³População 4 anos anual ","³População 4 anos proporcional ","DOSES APLICADAS D2 TRÍPLICE VIRAL","COBERTURA D2 TRÍPLICE VIRAL","DOSES APLICADAS D2 VARICELA","COBERTURA D2 VARICELA","DOSES APLICADAS REF PNEUMO ","COBERTURA REF PNEUMO","DOSES APLICADAS REF MENINGO","COBERTURA REF MENINGO","DOSES APLICADAS REF POLIO","COBERTURA REF POLIO","DOSES APLICADAS R1 TRÍPLICE BACTERIANA","COBERTURA R1 TRÍPLICE BACTERIANA","DOSES APLICADAS REF FEBRE AMARELA","COBERTURA REF FEBRE AMARELA","DOSES APLICADAS R2 TRÍPLICE BACTERIANA","COBERTURA R2 TRÍPLICE BACTERIANA"]
["Metropolitana","Afonso Cláudio",359,332,416,{"$f":"(E3/12)*11","v":381.33333333333331},305,{"$f":"G3/D3","v":0.91867469879518071},365,{"$f":"I3/F3","v":0.95716783216783219},338,{"$f":"K3/D3","v":1.0180722891566265},311,{"$f":"M3/D3","v":0.93674698795180722},338,{"$f":"O3/D3","v":1.0180722891566265},305,{"$f":"Q3/D3","v":0.91867469879518071},345,{"$f":"S3/F3","v":0.9047202797202798},341,{"$f":"U3/F3","v":0.89423076923076927}]
["Norte","Água Doce do Norte",145,139,151,{"$f":"(E4/12)*11","v":138.41666666666669},114,0.82014388489208634,73,0.52739313666465981,180,1.2949640287769784,146,1.0503597122302157,138,0.9928057553956835,132,0.94964028776978415,86,0.62131246237206494,102,0.7369054786273328]
["Central","Águia Branca",165,153,129,118.25,147,0.96078431372549022,106,0.89640591966173366,154,1.0065359477124183,134,0.87581699346405228,140,0.91503267973856206,135,0.88235294117647056,101,0.85412262156448204,103,0.87103594080338265]
["Sul","Alegre",322,292,372,341,322,1.1027397260273972,308,0.90322580645161288,322,1.1027397260273972,282,0.96575342465753422,329,1.1267123287671232,310,1.0616438356164384,276,0.80938416422287385,299,0.87683284457478006]
["Sul","Alfredo Chaves",119,104,138,126.5,118,1.1346153846153846,126,0.99604743083003955,112,1.0769230769230769,103,0.99038461538461542,129,1.2403846153846154,125,1.2019230769230769,107,0.8458498023715415,125,0.98814229249011853]
["Central","Alto Rio Novo",99,92,102,93.5,94,1.0217391304347827,126,1.3475935828877006,94,1.0217391304347827,87,0.94565217391304346,86,0.93478260869565222,84,0.91304347826086951,103,1.1016042780748663,102,1.0909090909090908]
["Sul","Anchieta",334,308,390,357.5,316,1.025974025974026,356,0.99580419580419577,328,1.0649350649350648,329,1.0681818181818181,345,1.1201298701298701,318,1.0324675324675325,348,0.97342657342657346,359,1.0041958041958041]
["Sul","Apiacá",64,57,90,82.5,68,1.1929824561403508,65,0.78787878787878785,90,1.5789473684210527,68,1.1929824561403508,66,1.1578947368421053,64,1.1228070175438596,22,0.26666666666666666,68,0.82424242424242422]
["Metropolitana","Aracruz",1420,1316,1420,1301.6666666666665,1269,0.9642857142857143,1470,1.1293213828425097,1368,1.0395136778115501,1236,0.93920972644376899,1307,0.99316109422492405,1200,0.91185410334346506,1148,0.88194622279129331,1308,1.0048655569782332]
["Sul","Atilio Vivacqua",148,131,138,126.5,139,1.0610687022900764,142,1.1225296442687747,126,0.96183206106870234,138,1.0534351145038168,133,1.0152671755725191,125,0.95419847328244278,130,1.0276679841897234,133,1.0513833992094861,null,null,null," "]
["Central","Baixo Guandu",354,324,427,391.41666666666669,346,1.0679012345679013,394,1.0065999574196296,416,1.2839506172839505,334,1.0308641975308641,363,1.1203703703703705,349,1.0771604938271604,338,0.86352991271024049,365,0.93251011283798169]
["Norte","Barra de São Francisco",622,570,589,539.91666666666674,483,0.84736842105263155,457,0.84642691773421808,492,0.86315789473684212,510,0.89473684210526316,484,0.84912280701754383,467,0.81929824561403508,400,0.74085507022688679,422,0.78160209908936551]
["Norte","Boa Esperança",209,191,200,183.33333333333334,158,0.82722513089005234,127,0.69272727272727264,180,0.94240837696335078,172,0.90052356020942403,154,0.80628272251308897,130,0.68062827225130895,98,0.53454545454545455,128,0.69818181818181813]
["Sul","Bom Jesus do Norte",72,67,146,133.83333333333331,92,1.3731343283582089,133,0.99377334993773359,98,1.4626865671641791,99,1.4776119402985075,99,1.4776119402985075,92,1.3731343283582089,102,0.76214196762141984,139,1.0386052303860525]
["Metropolitana","Brejetuba",227,213,169,154.91666666666669,232,1.0892018779342723,262,1.6912318450779986,192,0.90140845070422537,199,0.93427230046948362,174,0.81690140845070425,172,0.80751173708920188,196,1.2651963421194188,191,1.2329209252286173]
["Sul","Cachoeiro de Itapemirim",2386,2179,2417,2215.583333333333,1930,0.88572739788893984,1829,0.82551622973633743,2240,1.0279944928866454,2057,0.94401101422670952,2133,0.97888939880679215,1965,0.90178981184029372,1641,0.74066272990559301,1958,0.88374017376913538]
["Metropolitana","Cariacica",4738,4375,5005,4587.9166666666661,3499,0.79977142857142858,3187,0.69465080374171295,4294,0.98148571428571429,4010,0.91657142857142859,4010,0.91657142857142859,3748,0.85668571428571427,3055,0.66587957497048411,3761,0.81976205612569264]
["Sul","Castelo",383,342,399,365.75,385,1.1257309941520468,370,1.0116199589883801,418,1.2222222222222223,385,1.1257309941520468,413,1.2076023391812865,410,1.1988304093567252,321,0.87764866712235134,356,0.97334244702665751]
["Central","Colatina",1485,1358,1561,1430.9166666666667,1168,0.86008836524300447,1015,0.70933550754178554,1320,0.97201767304860087,1282,0.94403534609720174,1188,0.8748159057437408,1107,0.81516936671575846,861,0.60171218915613534,978,0.68347795702055791]
["Norte","Conceição da Barra",343,327,391,358.41666666666669,379,1.1590214067278288,397,1.1076493838642176,400,1.2232415902140672,365,1.1162079510703364,381,1.165137614678899,350,1.070336391437309,408,1.1383399209486165,385,1.074168797953964]
["Metropolitana","Conceição do Castelo",187,171,144,132,168,0.98245614035087714,168,1.2727272727272727,114,0.66666666666666663,137,0.80116959064327486,114,0.66666666666666663,124,0.72514619883040932,141,1.0681818181818181,131,0.99242424242424243]
["Sul","Divino de São Lourenço",67,62,68,62.333333333333336,72,1.1612903225806452,78,1.2513368983957218,92,1.4838709677419355,65,1.0483870967741935,70,1.1290322580645162,68,1.096774193548387,48,0.77005347593582885,52,0.83422459893048129]
["Metropolitana","Domingos Martins",426,382,411,376.75,383,1.0026178010471205,432,1.1466489714664898,378,0.98952879581151831,361,0.94502617801047117,390,1.0209424083769634,369,0.96596858638743455,320,0.84936960849369614,369,0.97942932979429331]
["Sul","Dores do Rio Preto",102,99,92,84.333333333333343,92,0.92929292929292928,86,1.0197628458498023,98,0.98989898989898994,106,1.0707070707070707,109,1.101010101010101,104,1.0505050505050506,73,0.86561264822134376,77,0.91304347826086951]
["Norte","Ecoporanga",250,233,283,259.41666666666663,205,0.87982832618025753,259,0.99839383231609391,242,1.03862660944206,224,0.96137339055793991,221,0.94849785407725318,202,0.86695278969957079,207,0.79794410536460014,230,0.88660456151622247]
["Metropolitana","Fundão",231,213,218,199.83333333333334,187,0.8779342723004695,208,1.0408673894912426,208,0.97652582159624413,201,0.94366197183098588,192,0.90140845070422537,183,0.85915492957746475,170,0.85070892410341947,199,0.99582985821517922]
["Central","Governador Lindenberg",141,130,142,130.16666666666669,117,0.9,151,1.1600512163892445,112,0.86153846153846159,113,0.86923076923076925,114,0.87692307692307692,108,0.83076923076923082,148,1.1370038412291932,143,1.0985915492957745]
["Sul","Guaçuí",387,354,407,373.08333333333331,311,0.87853107344632764,341,0.91400491400491402,290,0.8192090395480226,319,0.90112994350282483,311,0.87853107344632764,300,0.84745762711864403,366,0.98101407192316292,349,0.93544784453875363]
["Metropolitana","Guarapari",1643,1526,1557,1427.25,1116,0.73132372214941022,1398,0.97950604308985811,1438,0.94233289646133678,1334,0.87418086500655312,1371,0.89842726081258195,1248,0.81782437745740499,1067,0.74759152215799618,1369,0.95918724820458923]
["Metropolitana","Ibatiba",410,375,354,324.5,413,1.1013333333333333,243,0.74884437596302,350,0.93333333333333335,355,0.94666666666666666,391,1.0426666666666666,351,0.93600000000000005,289,0.89060092449922956,330,1.0169491525423728]
["Metropolitana","Ibiraçu",130,123,160,146.66666666666669,129,1.0487804878048781,150,1.0227272727272725,144,1.1707317073170731,143,1.1626016260162602,121,0.98373983739837401,123,1,119,0.81136363636363629,119,0.81136363636363629]
["Sul","Ibitirama",139,130,148,135.66666666666669,127,0.97692307692307689,137,1.0098280098280097,148,1.1384615384615384,135,1.0384615384615385,130,1,111,0.85384615384615381,131,0.96560196560196543,125,0.92137592137592128]
["Sul","Iconha",140,132,156,143,135,{"$f":"G35/D35","v":1.0227272727272727},176,{"$f":"I35/F35","v":1.2307692307692308},102,{"$f":"K35/D35","v":0.77272727272727271},96,{"$f":"M35/D35","v":0.72727272727272729},94,{"$f":"O35/D35","v":0.71212121212121215},88,{"$f":"Q35/D35","v":0.66666666666666663},118,{"$f":"S35/F35","v":0.82517482517482521},118,{"$f":"U35/F35","v":0.82517482517482521}]
["Sul","Irupi",194,179,200,183.33333333333334,165,0.92178770949720668,163,0.88909090909090904,198,1.1061452513966481,193,1.0782122905027933,204,1.1396648044692737,205,1.1452513966480447,164,0.89454545454545453,163,0.88909090909090904]
["Metropolitana","Itaguaçu",121,119,154,141.16666666666669,138,1.1596638655462186,143,1.0129870129870129,152,1.2773109243697478,142,1.1932773109243697,142,1.1932773109243697,127,1.0672268907563025,110,0.77922077922077915,110,0.77922077922077915]
["Sul","Itapemirim",537,494,556,509.66666666666669,343,0.69433198380566796,393,0.77109221713538256,432,0.87449392712550611,385,0.77935222672064774,389,0.78744939271255066,373,0.75506072874493924,307,0.60235448005232173,446,0.87508175277959444]
["Metropolitana","Itarana",131,126,128,117.33333333333333,132,1.0476190476190477,117,0.99715909090909094,146,1.1587301587301588,118,0.93650793650793651,128,1.0158730158730158,121,0.96031746031746035,99,0.84375,95,0.80965909090909094]
["Sul","Iúna",387,358,410,375.83333333333331,386,1.0782122905027933,317,0.84345898004434594,388,1.0837988826815643,374,1.0446927374301676,419,1.1703910614525139,377,1.053072625698324,327,0.8700665188470067,356,0.94722838137472287]
["Norte","Jaguaré",444,415,445,407.91666666666669,391,0.94216867469879517,377,0.92420837589376914,406,0.97831325301204819,425,1.0240963855421688,416,1.0024096385542169,408,0.98313253012048196,332,0.81389172625127681,409,1.002655771195097]
["Sul","Jerônimo Monteiro",114,111,157,143.91666666666669,131,1.1801801801801801,125,0.86855819339895757,136,1.2252252252252251,116,1.045045045045045,133,1.1981981981981982,120,1.0810810810810811,83,0.57672264041690791,126,0.87550665894614932]
["Metropolitana","João Neiva",143,132,142,130.16666666666669,135,1.0227272727272727,158,1.2138284250960305,150,1.1363636363636365,139,1.053030303030303,144,1.0909090909090908,140,1.0606060606060606,116,0.8911651728553136,148,1.1370038412291932]
["Metropolitana","Laranja da Terra",120,114,133,121.91666666666667,110,0.96491228070175439,129,1.0580997949419002,106,0.92982456140350878,104,0.91228070175438591,94,0.82456140350877194,87,0.76315789473684215,88,0.72180451127819545,101,0.82843472317156519]
["Central","Linhares",2668,2438,2452,2247.666666666667,1856,0.76127973748974564,1864,0.82930446388847678,2086,0.85561936013125517,2090,0.85726004922067267,2006,0.82280557834290402,1995,0.8182936833470057,1601,0.71229423105442669,2046,0.91027732463295252]
["Central","Mantenópolis",132,121,166,152.16666666666669,148,1.2231404958677685,148,0.97261774370208098,148,1.2231404958677685,138,1.140495867768595,146,1.2066115702479339,135,1.115702479338843,174,1.1434830230010951,184,1.2092004381161006]
["Sul","Marataízes",570,532,579,530.75,432,0.81203007518796988,568,1.0701837023080547,550,1.0338345864661653,540,1.0150375939849625,501,0.94172932330827064,506,0.95112781954887216,345,0.65002355157795577,539,1.0155440414507773]
["Metropolitana","Marechal Floriano ",207,190,236,216.33333333333334,197,1.0368421052631578,216,0.99845916795069334,202,1.0631578947368421,175,0.92105263157894735,201,1.0578947368421052,192,1.0105263157894737,160,0.73959938366718025,196,0.90600924499229585]
["Central","Marilândia",166,159,164,150.33333333333331,146,0.91823899371069184,174,1.1574279379157428,126,0.79245283018867929,116,0.72955974842767291,139,0.87421383647798745,128,0.80503144654088055,143,0.95121951219512202,132,0.87804878048780499]
["Sul","Mimoso do Sul",279,256,276,253,199,0.77734375,169,0.66798418972332019,204,0.796875,199,0.77734375,195,0.76171875,187,0.73046875,171,0.67588932806324109,188,0.74308300395256921]
["Norte","Montanha",217,205,278,254.83333333333334,244,1.1902439024390243,251,0.98495748855461085,288,1.4048780487804877,241,1.1756097560975609,239,1.1658536585365853,234,1.1414634146341462,175,0.6867233485938522,191,0.74950948332243295]
["Norte","Mucurici",53,46,97,88.916666666666671,65,1.4130434782608696,58,0.65229615745079661,64,1.3913043478260869,50,1.0869565217391304,64,1.3913043478260869,60,1.3043478260869565,52,0.584817244611059,52,0.584817244611059]
["Sul","Muniz Freire",248,226,275,252.08333333333334,350,1.5486725663716814,127,0.50380165289256196,234,1.0353982300884956,207,0.91592920353982299,217,0.96017699115044253,211,0.9336283185840708,211,0.83702479338842972,224,0.88859504132231404]
["Sul","Muqui",154,143,152,139.33333333333331,149,1.0419580419580419,179,1.2846889952153111,148,1.034965034965035,138,0.965034965034965,152,1.0629370629370629,144,1.0069930069930071,160,1.1483253588516749,162,1.1626794258373208]
["Norte","Nova Venécia",690,628,656,601.33333333333326,536,0.85350318471337583,601,0.99944567627494474,638,1.015923566878981,605,0.9633757961783439,593,0.94426751592356684,550,0.87579617834394907,452,0.75166297117516634,535,0.88968957871396903]
["Central","Pancas",218,201,244,223.66666666666666,198,0.9850746268656716,226,1.0104321907600597,184,0.91542288557213936,186,0.92537313432835822,205,1.0199004975124377,193,0.96019900497512434,136,0.60804769001490311,174,0.77794336810730258]
["Norte","Pedro Canário",320,297,338,309.83333333333337,311,1.0471380471380471,337,1.0876815492200107,346,1.164983164983165,297,1,318,1.0707070707070707,294,0.98989898989898994,268,0.86498117267348029,304,0.98117267348036563]
["Norte","Pinheiros",304,286,383,351.08333333333337,264,0.92307692307692313,271,0.77189651079990496,256,0.8951048951048951,268,0.93706293706293708,253,0.88461538461538458,247,0.86363636363636365,227,0.64657014004272484,271,0.77189651079990496]
["Sul","Piúma",310,281,311,285.08333333333337,236,0.83985765124555156,250,0.87693656825489608,296,1.0533807829181494,265,0.94306049822064053,236,0.83985765124555156,219,0.77935943060498225,234,0.82081262788658271,266,0.93306050862320944]
["Norte","Ponto Belo",68,65,85,77.916666666666657,76,1.1692307692307693,107,1.3732620320855617,80,1.2307692307692308,81,1.2461538461538462,72,1.1076923076923078,73,1.1230769230769231,93,1.193582887700535,95,1.2192513368983959]
["Sul","Presidente Kennedy",199,183,239,219.08333333333334,179,0.97814207650273222,169,0.77139596804868771,214,1.1693989071038251,185,1.0109289617486339,188,1.0273224043715847,175,0.95628415300546443,162,0.7394446557626474,162,0.7394446557626474]
["Central","Rio Bananal",296,265,229,209.91666666666666,365,1.3773584905660377,218,1.0385073441842001,258,0.97358490566037736,250,0.94339622641509435,280,1.0566037735849056,273,1.030188679245283,260,1.238586740770147,275,1.3100436681222709]
["Sul","Rio Novo do Sul",97,88,144,132,93,1.0568181818181819,113,0.85606060606060608,94,1.0681818181818181,97,1.1022727272727273,91,1.0340909090909092,83,0.94318181818181823,74,0.56060606060606055,85,0.64393939393939392]
["Metropolitana","Santa Leopoldina",96,89,155,142.08333333333331,92,1.0337078651685394,108,0.76011730205278605,94,1.0561797752808988,79,0.88764044943820219,85,0.9550561797752809,84,0.9438202247191011,103,0.72492668621700884,100,0.70381231671554256]
["Metropolitana","Santa Maria de Jetibá",721,667,685,627.91666666666674,584,0.87556221889055474,470,0.74850696748506962,610,0.9145427286356822,558,0.83658170914542729,560,0.83958020989505244,548,0.8215892053973014,493,0.78513603185136027,590,0.93961512939615122]
["Metropolitana","Santa Teresa",283,262,260,238.33333333333334,242,0.92366412213740456,310,1.3006993006993006,274,1.0458015267175573,259,0.98854961832061072,255,0.97328244274809161,237,0.90458015267175573,230,0.965034965034965,243,1.0195804195804195]
["Central","São Domingos do Norte",111,101,117,107.25,104,{"$f":"G67/D67","v":1.0297029702970297},91,{"$f":"I67/F67","v":0.84848484848484851},110,{"$f":"K67/D67","v":1.0891089108910892},105,{"$f":"M67/D67","v":1.0396039603960396},114,{"$f":"O67/D67","v":1.1287128712871286},103,{"$f":"Q67/D67","v":1.0198019801980198},79,{"$f":"S67/F67","v":0.73659673659673663},85,{"$f":"U67/F67","v":0.79254079254079257}]
["Central","São Gabriel da Palha",401,376,426,{"$f":"(E68/12)*11","v":390.5},407,1.0824468085106382,382,0.9782330345710627,384,1.0212765957446808,371,0.98670212765957444,378,1.0053191489361701,384,1.0212765957446808,345,0.88348271446862991,360,0.92189500640204869]
["Sul","São José do Calçado",94,84,150,137.5,88,1.0476190476190477,94,0.6836363636363636,82,0.97619047619047616,83,0.98809523809523814,92,1.0952380952380953,86,1.0238095238095237,77,0.56000000000000005,103,0.74909090909090914]
["Norte","São Mateus",1670,1562,1766,1618.8333333333333,1316,0.84250960307298339,1324,0.81787295377329361,1654,1.058898847631242,1540,0.9859154929577465,1538,0.98463508322663251,1448,0.92701664532650452,1208,0.74621641099557301,1414,0.87346854730773194]
["Central","São Roque do Canaã",131,121,100,91.666666666666671,113,0.93388429752066116,111,1.2109090909090909,116,0.95867768595041325,111,0.9173553719008265,97,0.80165289256198347,97,0.80165289256198347,89,0.97090909090909083,96,1.0472727272727271]
["Metropolitana","Serra",7550,7009,7550,6920.833333333333,5057,0.721500927379084,4676,0.67564118001204099,6446,0.91967470395206163,5900,0.84177486089313736,5638,0.80439435012127269,5310,0.75759737480382361,4514,0.65223359422034921,5299,0.76565924142083086]
["Central","Sooretama",428,391,415,380.41666666666669,346,0.88491048593350385,368,0.96736035049288061,398,1.0179028132992327,384,0.98209718670076729,390,0.99744245524296671,347,0.88746803069053704,309,0.81226725082146767,374,0.98313253012048185]
["Sul","Vargem Alta",270,252,278,254.83333333333334,226,0.89682539682539686,226,0.88685415304120341,224,0.88888888888888884,224,0.88888888888888884,235,0.93253968253968256,222,0.88095238095238093,141,0.55330281229561806,214,0.83976455199476774]
["Metropolitana","Venda Nova do Imigrante",352,323,328,300.66666666666663,353,1.0928792569659442,217,0.72172949002217301,370,1.1455108359133126,290,0.89783281733746134,331,1.0247678018575852,319,0.9876160990712074,285,0.94789356984478945,305,1.0144124168514415,null," "]
["Metropolitana","Viana",863,803,1064,975.33333333333337,636,0.79202988792029883,707,0.72488038277511957,888,1.1058530510585305,844,1.0510585305105853,760,0.9464508094645081,769,0.95765877957658785,692,0.70950102529049897,954,0.97812713602187285]
["Norte","Vila Pavão",95,91,127,116.41666666666667,93,1.0219780219780219,84,0.72154617036506796,106,1.1648351648351649,107,1.1758241758241759,107,1.1758241758241759,100,1.098901098901099,93,0.79885468861846809,104,0.8933428775948461]
["Central","Vila Valério",254,236,169,154.91666666666669,256,1.0847457627118644,220,1.4201183431952662,226,0.9576271186440678,216,0.9152542372881356,228,0.96610169491525422,219,0.92796610169491522,198,1.2781065088757395,200,1.29101667563206]
["Metropolitana","Vila Velha",5551,5140,5675,5202.0833333333339,3866,0.75214007782101167,4363,0.83870244293151774,4836,0.94085603112840466,4177,0.81264591439688716,4315,0.83949416342412453,4010,0.78015564202334631,3529,0.67838205847016408,4034,0.7754585502603123]
["Metropolitana","Vitória",3544,3269,3833,3513.5833333333335,3185,0.97430406852248397,2554,0.72689324763418162,3720,1.1379626797185685,2936,0.89813398592841842,3482,1.0651575405322729,3251,0.99449372896910371,2025,0.57633470104119722,2869,0.81654531224059002]
[]
[null,"Total Norte",{"$f":"SUMIF($A$3:$A$80,\"Norte\",C$3:C$80)","v":5430},{"$f":"SUMIF($A$3:$A$80,\"Norte\",D$3:D$80)","v":5055},{"$f":"SUMIF($A$3:$A$80,\"Norte\",E$3:E$80)","v":5789},{"$f":"SUMIF($A$3:$A$80,\"Norte\",F$3:F$80)","v":5306.5833333333339},{"$f":"SUMIF($A$3:$A$80,\"Norte\",G$3:G$80)","v":4635},{"$f":"G82/D82","v":0.91691394658753711},{"$f":"SUMIF($A$3:$A$80,\"Norte\",I$3:I$80)","v":4723},{"$f":"I82/F82","v":0.89002653936148479},{"$f":"SUMIF($A$3:$A$80,\"Norte\",K$3:K$80)","v":5332},{"$f":"K82/D82","v":1.0547972304648863},{"$f":"SUMIF($A$3:$A$80,\"Norte\",M$3:M$80)","v":5031},{"$f":"M82/D82","v":0.99525222551928783},{"$f":"SUMIF($A$3:$A$80,\"Norte\",O$3:O$80)","v":4978},{"$f":"O82/D82","v":0.98476755687438178},{"$f":"SUMIF($A$3:$A$80,\"Norte\",Q$3:Q$80)","v":4695},{"$f":"Q82/D82","v":0.92878338278931749},{"$f":"SUMIF($A$3:$A$80,\"Norte\",S$3:S$80)","v":4099},{"$f":"S82/F82","v":0.77243675308971549},{"$f":"SUMIF($A$3:$A$80,\"Norte\",U$3:U$80)","v":4642},{"$f":"U82/F82","v":0.87476248056659167}]
[null,"Total Central",{"$f":"SUMIF($A$3:$A$80,\"Central\",C$3:C$80)","v":7049},{"$f":"SUMIF($A$3:$A$80,\"Central\",D$3:D$80)","v":6466},{"$f":"SUMIF($A$3:$A$80,\"Central\",E$3:E$80)","v":6843},{"$f":"SUMIF($A$3:$A$80,\"Central\",F$3:F$80)","v":6272.7500000000018},{"$f":"SUMIF($A$3:$A$80,\"Central\",G$3:G$80)","v":5811},{"$f":"G83/D83","v":0.89870089699969069},{"$f":"SUMIF($A$3:$A$80,\"Central\",I$3:I$80)","v":5594},{"$f":"I83/F83","v":0.89179387031206381},{"$f":"SUMIF($A$3:$A$80,\"Central\",K$3:K$80)","v":6132},{"$f":"K83/D83","v":0.94834519022579644},{"$f":"SUMIF($A$3:$A$80,\"Central\",M$3:M$80)","v":5917},{"$f":"M83/D83","v":0.91509433962264153},{"$f":"SUMIF($A$3:$A$80,\"Central\",O$3:O$80)","v":5874},{"$f":"O83/D83","v":0.90844416950201057},{"$f":"SUMIF($A$3:$A$80,\"Central\",Q$3:Q$80)","v":5657},{"$f":"Q83/D83","v":0.87488400866068672},{"$f":"SUMIF($A$3:$A$80,\"Central\",S$3:S$80)","v":4885},{"$f":"S83/F83","v":0.7787652943286435},{"$f":"SUMIF($A$3:$A$80,\"Central\",U$3:U$80)","v":5617},{"$f":"U83/F83","v":0.89546052369375451}]
[null,"Total Metropolitana",{"$f":"SUMIF($A$3:$A$80,\"Metropolitana\",C$3:C$80)","v":29453},{"$f":"SUMIF($A$3:$A$80,\"Metropolitana\",D$3:D$80)","v":27269},{"$f":"SUMIF($A$3:$A$80,\"Metropolitana\",E$3:E$80)","v":30197},{"$f":"SUMIF($A$3:$A$80,\"Metropolitana\",F$3:F$80)","v":27680.583333333332},{"$f":"SUMIF($A$3:$A$80,\"Metropolitana\",G$3:G$80)","v":22428},{"$f":"G84/D84","v":0.8224724045619568},{"$f":"SUMIF($A$3:$A$80,\"Metropolitana\",I$3:I$80)","v":22051},{"$f":"I84/F84","v":0.79662338522490195},{"$f":"SUMIF($A$3:$A$80,\"Metropolitana\",K$3:K$80)","v":26818},{"$f":"K84/D84","v":0.98346107301331187},{"$f":"SUMIF($A$3:$A$80,\"Metropolitana\",M$3:M$80)","v":24008},{"$f":"M84/D84","v":0.88041365653305947},{"$f":"SUMIF($A$3:$A$80,\"Metropolitana\",O$3:O$80)","v":24543},{"$f":"O84/D84","v":0.90003300451061641},{"$f":"SUMIF($A$3:$A$80,\"Metropolitana\",Q$3:Q$80)","v":23018},{"$f":"Q84/D84","v":0.84410869485496354},{"$f":"SUMIF($A$3:$A$80,\"Metropolitana\",S$3:S$80)","v":19294},{"$f":"S84/F84","v":0.69702288306785443},{"$f":"SUMIF($A$3:$A$80,\"Metropolitana\",U$3:U$80)","v":23162},{"$f":"U84/F84","v":0.83675982261934512}]
[null,"Total Sul",{"$f":"SUMIF($A$3:$A$80,\"sul\",C$3:C$80)","v":8116},{"$f":"SUMIF($A$3:$A$80,\"sul\",D$3:D$80)","v":7444},{"$f":"SUMIF($A$3:$A$80,\"sul\",E$3:E$80)","v":8688},{"$f":"SUMIF($A$3:$A$80,\"sul\",F$3:F$80)","v":7963.9999999999982},{"$f":"SUMIF($A$3:$A$80,\"sul\",G$3:G$80)","v":7084},{"$f":"G85/D85","v":0.95163890381515315},{"$f":"SUMIF($A$3:$A$80,\"sul\",I$3:I$80)","v":7040},{"$f":"I85/F85","v":0.88397790055248637},{"$f":"SUMIF($A$3:$A$80,\"Sul\",K$3:K$80)","v":7664},{"$f":"K85/D85","v":1.0295540032240731},{"$f":"SUMIF($A$3:$A$80,\"Sul\",M$3:M$80)","v":7188},{"$f":"M85/D85","v":0.96560988715744223},{"$f":"SUMIF($A$3:$A$80,\"Sul\",O$3:O$80)","v":7413},{"$f":"O85/D85","v":0.99583557227297148},{"$f":"SUMIF($A$3:$A$80,\"Sul\",Q$3:Q$80)","v":6988},{"$f":"Q85/D85","v":0.93874261149919402},{"$f":"SUMIF($A$3:$A$80,\"Sul\",S$3:S$80)","v":6139},{"$f":"S85/F85","v":0.77084379708689121},{"$f":"SUMIF($A$3:$A$80,\"Sul\",U$3:U$80)","v":7192},{"$f":"U85/F85","v":0.90306378704168777}]
[null,"Total Espírito Santo",{"$f":"SUM(C3:C80)","v":50048},{"$f":"SUM(D3:D80)","v":46234},{"$f":"SUM(E3:E80)","v":51517},{"$f":"SUM(F3:F80)","v":47223.916666666664},{"$f":"SUM(G3:G80)","v":39958},{"$f":"G86/D86","v":0.86425574252714454},{"$f":"SUM(I3:I80)","v":39408},{"$f":"I86/F86","v":0.83449240939001601},{"$f":"SUM(K3:K80)","v":45946},{"$f":"K86/D86","v":0.99377081801271794},{"$f":"SUM(M3:M80)","v":42144},{"$f":"M86/D86","v":0.91153696413894536},{"$f":"SUM(O3:O80)","v":42808},{"$f":"O86/D86","v":0.92589868927629015},{"$f":"SUM(Q3:Q80)","v":40358},{"$f":"Q86/D86","v":0.87290738417614744},{"$f":"SUM(S3:S80)","v":34417},{"$f":"S86/F86","v":0.72880443701726005},{"$f":"SUM(U3:U80)","v":40613},{"$f":"U86/F86","v":0.86000914084847546}]
[]
[]
[]
[" Fonte: Vacina e Confia, em 22 e 23 de Dezembro de 2025.**<https://vacinaeconfia.saude.es.gov.br/>"]
["**Dados referente às doses aplicadas no período de Janeiro a Outubro 2025"]
["Cobertura Calculada por município de procedência/ocorrência da vacinação"]
["1 População anual extraída do MS/SVS/DASIS - SINASC/DASIS/SVS/MS 2024 (hoje preliminares) referente ao período de Outubro a Dezembro de 2024 e SINASC/DASIS/SVS/MS 2025 referente ao período de Janeiro e Setembro de 2025.",null,null,null,null,null,null,null,null,null,null,null,null,null,null,null,null,null," "]
["² População proporcional extraída do MS/SVS/DASIS - SINASC/DASIS/SVS/MS 2024 (hoje preliminares) referente ao período de Outubro  e Novembro de 2024 e SINASC/DASIS/SVS/MS 2025 referente ao período de Janeiro a Setembro de  2025."]
["Sinasc, atualizado em  11/12/2025."]
["Método de Cálculo Simples"]
["Homogeineidade: O cálculo da Homogeineidade entre vacinas é feito de acordo com a pactuação estabelecida no Plano Plurianual (PPA) vigente no período 2024-2027."]
[]
[]
[]
["Observações:"]
["1. Imunobiológicos que foram recebidos parcialmente pelo estado no mês de Novembro/2025, sendo distribuídos em quantidades reduzidas às regionais e municípios:",null,null,null,null,null,null,null,null,null,null,null,null,null," "]
["SORO ANTIRRÁBICO HUMANO; IMUNOGLOBULINA ANTIRRÁBICA HUMANA.\n"]
["2. Imunobiológicos indisponíveis no mês de Novembro/2025, não sendo possível a distribuição às regionais e municípios: "]
["IMUNOGLOBULINA HUMANA ANTI-HEPATITE B - 100 UI, VACINA TETRA VIRAL, IMUNOGLOBULINA HUMANA ANTIVARICELA (ZOSTER) – 125UI"]
["3. Imunobiológicos distribuídos através de pautas: VACINA COVID-19 PFIZER PEDIÁTRICA MENOR QUE 5 ANOS,VACINA COVID-19 PFIZER ADULTO E ADOLESCENTE A PARTIR\nDE 12 ANOS, VACINA COVID-19 PFIZER PEDIÁTRICA, VACINA CONTRA DENGUE 1,2,3 E 4 (ATENUADA)."]

{"sheet":"CV REF 1A e 4A - residência","index":3,"n_rows":105,"n_cols":22,"rows_kept":105,"cut":false,"hidden":false,"merged":[[88,0,88,11],[0,18,0,21],[0,10,0,17],[0,6,0,9],[104,0,104,11]]}
[null,null,null,null,null,null,"D2",null,null,null,"REFORÇOS 1 ANO",null,null,null,null,null,null,null,"REFORÇOS 4 ANOS"]
["Regional ","Município","¹População 1 ano anual ","²População 1 ano proporcional ","³População 4 anos anual ","³População 4 anos proporcional ","DOSES APLICADAS D2 TRÍPLICE VIRAL","COBERTURA D2 TRÍPLICE VIRAL","DOSES APLICADAS D2 VARICELA","COBERTURA D2 VARICELA","DOSES APLICADAS REF PNEUMO ","COBERTURA REF PNEUMO","DOSES APLICADAS REF MENINGO","COBERTURA REF MENINGO","DOSES APLICADAS REF POLIO","COBERTURA REF POLIO","DOSES APLICADAS R1 TRÍPLICE BACTERIANA","COBERTURA R1 TRÍPLICE BACTERIANA","DOSES APLICADAS REF FEBRE AMARELA","COBERTURA REF FEBRE AMARELA","DOSES APLICADAS R2 TRÍPLICE BACTERIANA","COBERTURA R2 TRÍPLICE BACTERIANA"]
["Metropolitana","Afonso Cláudio",359,332,416,{"$f":"(E3/12)*11","v":381.33333333333331},342,{"$f":"G3/D3","v":1.0301204819277108},378,{"$f":"I3/F3","v":0.99125874125874136},328,{"$f":"K3/D3","v":0.98795180722891562},328,{"$f":"M3/D3","v":0.98795180722891562},362,{"$f":"O3/D3","v":1.0903614457831325},334,{"$f":"Q3/D3","v":1.0060240963855422},355,{"$f":"S3/F3","v":0.93094405594405594},366,{"$f":"U3/F3","v":0.95979020979020979}]
["Norte","Água Doce do Norte",145,139,151,{"$f":"(E4/12)*11","v":138.41666666666669},126,0.90647482014388492,79,0.57074051776038526,159,1.1438848920863309,150,1.079136690647482,146,1.0503597122302157,141,1.014388489208633,88,0.63576158940397343,101,0.72968091511137856]
["Central","Águia Branca",165,153,129,118.25,140,0.91503267973856206,94,0.79492600422832982,133,0.86928104575163401,137,0.89542483660130723,144,0.94117647058823528,140,0.91503267973856206,88,0.7441860465116279,94,0.79492600422832982]
["Sul","Alegre",322,292,372,341,323,1.1061643835616439,299,0.87683284457478006,280,0.95890410958904104,270,0.92465753424657537,319,1.0924657534246576,307,1.0513698630136987,268,0.78592375366568912,294,0.8621700879765396]
["Sul","Alfredo Chaves",119,104,138,126.5,108,1.0384615384615385,117,0.92490118577075098,102,0.98076923076923073,97,0.93269230769230771,123,1.1826923076923077,116,1.1153846153846154,97,0.76679841897233203,112,0.88537549407114624]
["Central","Alto Rio Novo",99,92,102,93.5,91,0.98913043478260865,103,1.1016042780748663,82,0.89130434782608692,85,0.92391304347826086,85,0.92391304347826086,84,0.91304347826086951,91,0.9732620320855615,86,0.9197860962566845]
["Sul","Anchieta",334,308,390,357.5,339,1.1006493506493507,384,1.0741258741258741,346,1.1233766233766234,349,1.1331168831168832,368,1.1948051948051948,340,1.1038961038961039,367,1.0265734265734265,391,1.0937062937062938]
["Sul","Apiacá",64,57,90,82.5,59,1.0350877192982457,63,0.76363636363636367,61,1.0701754385964912,59,1.0350877192982457,59,1.0350877192982457,54,0.94736842105263153,23,0.27878787878787881,58,0.70303030303030301]
["Metropolitana","Aracruz",1420,1316,1420,1301.6666666666665,1251,0.95060790273556228,1418,1.0893725992317542,1189,0.90349544072948329,1247,0.94756838905775076,1295,0.98404255319148937,1197,0.90957446808510634,1115,0.85659411011523701,1266,0.97259923175416141]
["Sul","Atilio Vivacqua",148,131,138,126.5,152,1.1603053435114503,159,1.2569169960474309,154,1.1755725190839694,157,1.1984732824427482,150,1.1450381679389312,143,1.0916030534351144,145,1.1462450592885376,155,1.2252964426877471]
["Central","Baixo Guandu",354,324,427,391.41666666666669,331,1.021604938271605,367,0.9376197572918884,325,1.0030864197530864,319,0.98456790123456794,340,1.0493827160493827,328,1.0123456790123457,305,0.77922077922077915,335,0.85586544602938042]
["Norte","Barra de São Francisco",622,570,589,539.91666666666674,476,0.83508771929824566,456,0.84457478005865094,478,0.83859649122807023,491,0.86140350877192984,476,0.83508771929824566,452,0.7929824561403509,394,0.72974224417348343,428,0.79271492514276887]
["Norte","Boa Esperança",209,191,200,183.33333333333334,158,0.82722513089005234,122,0.66545454545454541,169,0.88481675392670156,173,0.90575916230366493,160,0.83769633507853403,138,0.72251308900523559,97,0.52909090909090906,116,0.63272727272727269]
["Sul","Bom Jesus do Norte",72,67,146,133.83333333333331,89,1.3283582089552239,128,0.95641344956413465,92,1.3731343283582089,93,1.3880597014925373,94,1.4029850746268657,89,1.3283582089552239,93,0.69489414694894158,125,0.93399750933997527]
["Metropolitana","Brejetuba",227,213,169,154.91666666666669,226,1.0610328638497653,237,1.5298547606239912,189,0.88732394366197187,193,0.9061032863849765,172,0.80751173708920188,168,0.78873239436619713,178,1.1490048413125336,178,1.1490048413125336]
["Sul","Cachoeiro de Itapemirim",2386,2179,2417,2215.583333333333,1930,0.88572739788893984,1837,0.82912701696317759,1959,0.89903625516291874,1978,0.90775585130793945,2100,0.96374483708122993,1948,0.89398806792106467,1653,0.74607891074585331,1963,0.88599691578591055]
["Metropolitana","Cariacica",4738,4375,5005,4587.9166666666661,3431,0.78422857142857139,3258,0.71012623739896474,3865,0.88342857142857145,3900,0.89142857142857146,3952,0.90331428571428574,3687,0.84274285714285713,3039,0.66239215330124435,3781,0.82412133321224246]
["Sul","Castelo",383,342,399,365.75,385,1.1257309941520468,362,0.98974709501025293,350,1.0233918128654971,372,1.0877192982456141,405,1.1842105263157894,400,1.1695906432748537,303,0.8284347231715653,339,0.92686261107313739]
["Central","Colatina",1485,1358,1561,1430.9166666666667,1170,0.8615611192930781,1040,0.72680682546153397,1204,0.88659793814432986,1246,0.91752577319587625,1185,0.87260677466863035,1097,0.8078055964653903,886,0.61918350707588377,999,0.6981538640731465]
["Norte","Conceição da Barra",343,327,391,358.41666666666669,395,1.2079510703363914,421,1.1746105556847244,380,1.1620795107033639,384,1.1743119266055047,405,1.238532110091743,369,1.128440366972477,418,1.166240409207161,403,1.1243896768193442]
["Metropolitana","Conceição do Castelo",187,171,144,132,141,0.82456140350877194,164,1.2424242424242424,113,0.66081871345029242,128,0.74853801169590639,106,0.61988304093567248,110,0.64327485380116955,136,1.0303030303030303,126,0.95454545454545459]
["Sul","Divino de São Lourenço",67,62,68,62.333333333333336,72,1.1612903225806452,68,1.0909090909090908,61,0.9838709677419355,61,0.9838709677419355,68,1.096774193548387,67,1.0806451612903225,42,0.6737967914438503,50,0.80213903743315507]
["Metropolitana","Domingos Martins",426,382,411,376.75,379,0.99214659685863871,426,1.1307232913072329,361,0.94502617801047117,360,0.94240837696335078,396,1.036649214659686,376,0.98429319371727753,326,0.86529528865295291,359,0.95288652952886532]
["Sul","Dores do Rio Preto",102,99,92,84.333333333333343,83,0.83838383838383834,64,0.75889328063241102,90,0.90909090909090906,95,0.95959595959595956,92,0.92929292929292928,92,0.92929292929292928,58,0.68774703557312244,62,0.73517786561264808]
["Norte","Ecoporanga",250,233,283,259.41666666666663,212,0.90987124463519309,260,1.0022486347574688,236,1.0128755364806867,243,1.0429184549356223,228,0.97854077253218885,211,0.90557939914163088,204,0.78637969804047558,231,0.89045936395759728]
["Metropolitana","Fundão",231,213,218,199.83333333333334,177,0.83098591549295775,188,0.94078398665554619,185,0.86854460093896713,188,0.88262910798122063,187,0.8779342723004695,172,0.80751173708920188,163,0.81567973311092579,181,0.9057547956630525]
["Central","Governador Lindenberg",141,130,142,130.16666666666669,114,0.87692307692307692,146,1.1216389244558258,100,0.76923076923076927,106,0.81538461538461537,110,0.84615384615384615,104,0.8,140,1.0755441741357232,135,1.0371318822023046]
["Sul","Guaçuí",387,354,407,373.08333333333331,318,0.89830508474576276,344,0.92204601295510391,296,0.83615819209039544,339,0.9576271186440678,327,0.92372881355932202,316,0.89265536723163841,362,0.97029260665624306,349,0.93544784453875363]
["Metropolitana","Guarapari",1643,1526,1557,1427.25,1162,0.76146788990825687,1335,0.93536521282186025,1388,0.90956749672346004,1349,0.88401048492791612,1400,0.91743119266055051,1285,0.84207077326343382,1048,0.73427920826764759,1340,0.93886845331932034]
["Metropolitana","Ibatiba",410,375,354,324.5,389,1.0373333333333334,233,0.71802773497688754,327,0.872,340,0.90666666666666662,373,0.9946666666666667,337,0.89866666666666661,290,0.89368258859784289,322,0.99229583975346691]
["Metropolitana","Ibiraçu",130,123,160,146.66666666666669,129,1.0487804878048781,141,0.9613636363636362,133,1.0813008130081301,133,1.0813008130081301,121,0.98373983739837401,124,1.0081300813008129,108,0.73636363636363622,114,0.77727272727272723]
["Sul","Ibitirama",139,130,148,135.66666666666669,146,1.1230769230769231,156,1.1498771498771496,150,1.1538461538461537,149,1.1461538461538461,147,1.1307692307692307,128,0.98461538461538467,155,1.1425061425061422,150,1.1056511056511056]
["Sul","Iconha",140,132,156,143,133,{"$f":"G35/D35","v":1.0075757575757576},173,{"$f":"I35/F35","v":1.2097902097902098},107,{"$f":"K35/D35","v":0.81060606060606055},107,{"$f":"M35/D35","v":0.81060606060606055},100,{"$f":"O35/D35","v":0.75757575757575757},94,{"$f":"Q35/D35","v":0.71212121212121215},110,{"$f":"S35/F35","v":0.76923076923076927},117,{"$f":"U35/F35","v":0.81818181818181823}]
["Sul","Irupi",194,179,200,183.33333333333334,162,0.9050279329608939,162,0.88363636363636355,166,0.92737430167597767,179,1,188,1.0502793296089385,191,1.0670391061452513,150,0.81818181818181812,154,0.84]
["Metropolitana","Itaguaçu",121,119,154,141.16666666666669,134,1.1260504201680672,136,0.96340023612750869,128,1.0756302521008403,138,1.1596638655462186,138,1.1596638655462186,124,1.0420168067226891,105,0.74380165289256184,102,0.72255017709563152]
["Sul","Itapemirim",537,494,556,509.66666666666669,346,0.70040485829959509,386,0.75735775016350548,425,0.86032388663967607,412,0.83400809716599189,404,0.81781376518218618,378,0.76518218623481782,310,0.60824068018312616,429,0.84172661870503596]
["Metropolitana","Itarana",131,126,128,117.33333333333333,141,1.1190476190476191,121,1.03125,138,1.0952380952380953,138,1.0952380952380953,140,1.1111111111111112,135,1.0714285714285714,98,0.83522727272727271,103,0.87784090909090917]
["Sul","Iúna",387,358,410,375.83333333333331,376,1.0502793296089385,288,0.76629711751662977,348,0.97206703910614523,371,1.0363128491620113,415,1.1592178770949721,367,1.0251396648044693,301,0.80088691796008871,329,0.87538802660753889]
["Norte","Jaguaré",444,415,445,407.91666666666669,399,0.96144578313253015,363,0.88988764044943813,408,0.98313253012048196,419,1.0096385542168675,421,1.0144578313253012,415,1,317,0.7771195097037793,390,0.95607763023493353]
["Sul","Jerônimo Monteiro",114,111,157,143.91666666666669,135,1.2162162162162162,112,0.77822814128546602,126,1.1351351351351351,127,1.1441441441441442,138,1.2432432432432432,127,1.1441441441441442,85,0.59061957151129119,123,0.85466126230457429]
["Metropolitana","João Neiva",143,132,142,130.16666666666669,131,0.99242424242424243,154,1.1830985915492955,135,1.0227272727272727,133,1.0075757575757576,133,1.0075757575757576,130,0.98484848484848486,114,0.87580025608194612,137,1.0524967989756722]
["Metropolitana","Laranja da Terra",120,114,133,121.91666666666667,96,0.84210526315789469,121,0.99248120300751874,94,0.82456140350877194,98,0.85964912280701755,85,0.74561403508771928,80,0.70175438596491224,81,0.66438824333561175,94,0.77101845522898149]
["Central","Linhares",2668,2438,2452,2247.666666666667,1867,0.76579163248564397,1891,0.84131692125166824,1977,0.81091058244462677,2050,0.8408531583264971,2002,0.82116488925348652,1989,0.81583264971287939,1663,0.73987839240694042,2080,0.92540412279400852]
["Central","Mantenópolis",132,121,166,152.16666666666669,141,1.165289256198347,135,0.88718510405257378,123,1.0165289256198347,132,1.0909090909090908,140,1.1570247933884297,130,1.0743801652892562,162,1.0646221248630885,171,1.1237677984665935]
["Sul","Marataízes",570,532,579,530.75,420,0.78947368421052633,551,1.0381535562882713,509,0.95676691729323304,536,1.0075187969924813,485,0.91165413533834583,484,0.90977443609022557,340,0.64060292039566646,527,0.99293452661328307]
["Metropolitana","Marechal Floriano",207,190,236,216.33333333333334,199,1.0473684210526315,201,0.92912172573189522,173,0.91052631578947374,164,0.86315789473684212,201,1.0578947368421052,195,1.0263157894736843,158,0.73035439137134051,182,0.84129429892141749]
["Central","Marilândia",166,159,164,150.33333333333331,134,0.84276729559748431,166,1.1042128603104213,123,0.77358490566037741,135,0.84905660377358494,131,0.82389937106918243,123,0.77358490566037741,133,0.88470066518847013,126,0.83813747228381386]
["Sul","Mimoso do Sul",279,256,276,253,213,0.83203125,177,0.69960474308300391,204,0.796875,205,0.80078125,213,0.83203125,205,0.80078125,179,0.70750988142292492,198,0.78260869565217395]
["Norte","Montanha",217,205,278,254.83333333333334,243,1.1853658536585365,259,1.0163505559189012,230,1.1219512195121952,244,1.1902439024390243,233,1.1365853658536584,225,1.0975609756097562,183,0.71811641595814257,205,0.80444735120994115]
["Norte","Mucurici",53,46,97,88.916666666666671,69,1.5,57,0.64104967197750695,60,1.3043478260869565,53,1.1521739130434783,69,1.5,64,1.3913043478260869,50,0.56232427366447979,51,0.57357075913776945]
["Sul","Muniz Freire",248,226,275,252.08333333333334,321,1.4203539823008851,121,0.48,206,0.91150442477876104,201,0.88938053097345138,204,0.90265486725663713,201,0.88938053097345138,183,0.72595041322314047,204,0.80925619834710738]
["Sul","Muqui",154,143,152,139.33333333333331,129,0.90209790209790208,173,1.2416267942583734,130,0.90909090909090906,131,0.91608391608391604,135,0.94405594405594406,126,0.88111888111888115,148,1.0622009569377993,152,1.0909090909090911]
["Norte","Nova Venécia",690,628,656,601.33333333333326,542,0.86305732484076436,582,0.96784922394678508,598,0.95222929936305734,603,0.96019108280254772,597,0.95063694267515919,561,0.89331210191082799,444,0.73835920177383596,515,0.85643015521064314]
["Central","Pancas",218,201,244,223.66666666666666,195,0.97014925373134331,215,0.96125186289120723,170,0.845771144278607,180,0.89552238805970152,204,1.0149253731343284,191,0.95024875621890548,140,0.62593144560357683,172,0.76900149031296572]
["Norte","Pedro Canário",320,297,338,309.83333333333337,292,0.98316498316498313,332,1.0715438407746098,290,0.97643097643097643,273,0.91919191919191923,302,1.0168350168350169,280,0.9427609427609428,269,0.86820871436256042,301,0.97149004841312525]
["Norte","Pinheiros",304,286,383,351.08333333333337,319,1.1153846153846154,305,0.86873961547590783,323,1.1293706293706294,324,1.1328671328671329,317,1.1083916083916083,304,1.0629370629370629,261,0.74341324471872772,308,0.87728459530026104]
["Sul","Piúma",310,281,311,285.08333333333337,227,0.80782918149466187,227,0.79625840397544567,243,0.86476868327402134,241,0.85765124555160144,232,0.82562277580071175,218,0.77580071174377219,204,0.71558023969599527,239,0.83835135925168069]
["Norte","Ponto Belo",68,65,85,77.916666666666657,72,1.1076923076923078,106,1.3604278074866312,74,1.1384615384615384,74,1.1384615384615384,69,1.0615384615384615,71,1.0923076923076922,89,1.1422459893048129,90,1.1550802139037435]
["Sul","Presidente Kennedy",199,183,239,219.08333333333334,179,0.97814207650273222,174,0.79421833396728791,188,1.0273224043715847,186,1.0163934426229508,190,1.0382513661202186,179,0.97814207650273222,166,0.75770254849752749,171,0.78052491441612781]
["Central","Rio Bananal",296,265,229,209.91666666666666,357,1.3471698113207546,239,1.1385470424771735,246,0.92830188679245285,256,0.96603773584905661,267,1.0075471698113208,261,0.98490566037735849,268,1.276697102024613,282,1.3433902342199286]
["Sul","Rio Novo do Sul",97,88,144,132,87,0.98863636363636365,105,0.79545454545454541,88,1,90,1.0227272727272727,86,0.97727272727272729,80,0.90909090909090906,75,0.56818181818181823,87,0.65909090909090906]
["Metropolitana","Santa Leopoldina",96,89,155,142.08333333333331,110,1.2359550561797752,132,0.92903225806451628,98,1.101123595505618,97,1.0898876404494382,98,1.101123595505618,98,1.101123595505618,121,0.85161290322580652,131,0.92199413489736082]
["Metropolitana","Santa Maria de Jetibá",721,667,685,627.91666666666674,548,0.8215892053973014,467,0.74372926343729251,537,0.80509745127436283,538,0.80659670164917541,539,0.80809595202398798,524,0.7856071964017991,467,0.74372926343729251,557,0.88706038487060379]
["Metropolitana","Santa Teresa",283,262,260,238.33333333333334,269,1.0267175572519085,316,1.3258741258741258,266,1.0152671755725191,271,1.0343511450381679,281,1.0725190839694656,259,0.98854961832061072,246,1.032167832167832,259,1.0867132867132867]
["Central","São Domingos do Norte",111,101,117,107.25,118,{"$f":"G67/D67","v":1.1683168316831682},102,{"$f":"I67/F67","v":0.95104895104895104},121,{"$f":"K67/D67","v":1.198019801980198},123,{"$f":"M67/D67","v":1.2178217821782178},125,{"$f":"O67/D67","v":1.2376237623762376},115,{"$f":"Q67/D67","v":1.1386138613861385},84,{"$f":"S67/F67","v":0.78321678321678323},90,{"$f":"U67/F67","v":0.83916083916083917}]
["Central","São Gabriel da Palha",401,376,426,{"$f":"(E68/12)*11","v":390.5},395,1.050531914893617,352,0.90140845070422537,355,0.94414893617021278,365,0.9707446808510638,365,0.9707446808510638,362,0.96276595744680848,313,0.80153649167733676,334,0.85531370038412291]
["Sul","São José do Calçado",94,84,150,137.5,85,1.0119047619047619,86,0.62545454545454549,82,0.97619047619047616,82,0.97619047619047616,87,1.0357142857142858,81,0.9642857142857143,66,0.48,96,0.69818181818181824]
["Norte","São Mateus",1670,1562,1766,1618.8333333333333,1308,0.83738796414852756,1259,0.77772058066508809,1504,0.96286811779769521,1525,0.97631241997439178,1512,0.96798975672215104,1424,0.91165172855313703,1151,0.71100586842376201,1363,0.84196437763821685]
["Central","São Roque do Canaã",131,121,100,91.666666666666671,118,0.97520661157024791,113,1.2327272727272727,114,0.94214876033057848,124,1.024793388429752,104,0.85950413223140498,103,0.85123966942148765,96,1.0472727272727271,99,1.0799999999999998]
["Metropolitana","Serra",7550,7009,7550,6920.833333333333,5096,0.72706520188329293,4774,0.68980132450331133,5932,0.84634041946069338,5922,0.84491368240833209,5750,0.82037380510771862,5416,0.77272078755885287,4521,0.65324503311258286,5353,0.77346177001806149]
["Central","Sooretama",428,391,415,380.41666666666669,327,0.83631713554987208,366,0.96210295728368012,359,0.9181585677749361,361,0.92327365728900257,378,0.96675191815856776,341,0.87212276214833762,297,0.78072289156626506,361,0.94895947426067906]
["Sul","Vargem Alta",270,252,278,254.83333333333334,237,0.94047619047619047,225,0.88293001962066708,245,0.97222222222222221,246,0.97619047619047616,253,1.003968253968254,236,0.93650793650793651,144,0.56507521255722692,211,0.82799215173315888]
["Metropolitana","Venda Nova do Imigrante",352,323,328,300.66666666666663,360,1.1145510835913313,249,0.82815964523281604,325,1.0061919504643964,300,0.92879256965944268,329,1.0185758513931888,317,0.98142414860681115,296,0.98447893569844802,319,1.0609756097560976]
["Metropolitana","Viana",863,803,1064,975.33333333333337,653,0.81320049813200501,705,0.72282980177717016,841,1.0473225404732254,817,1.0174346201743463,764,0.95143212951432132,767,0.95516811955168124,672,0.68899521531100472,918,0.94121667805878328]
["Norte","Vila Pavão",95,91,127,116.41666666666667,93,1.0219780219780219,89,0.76449534717251244,102,1.1208791208791209,105,1.1538461538461537,106,1.1648351648351649,99,1.0879120879120878,98,0.84180386542591268,106,0.91052254831782387]
["Central","Vila Valério",254,236,169,154.91666666666669,258,1.0932203389830508,212,1.3684776761699837,223,0.94491525423728817,221,0.93644067796610164,237,1.0042372881355932,230,0.97457627118644063,187,1.2071005917159763,192,1.2393760086067778]
["Metropolitana","Vila Velha",5551,5140,5675,5202.0833333333339,3808,0.7408560311284047,4242,0.81544253103724462,4162,0.80972762645914398,4088,0.79533073929961084,4313,0.83910505836575877,4007,0.77957198443579767,3439,0.66108129755706846,4034,0.7754585502603123]
["Metropolitana","Vitória",3544,3269,3833,3513.5833333333335,3089,0.94493728969103696,2300,0.65460237649123632,3186,0.97460997246864489,3033,0.92780666870602635,3242,0.99174059345365551,3015,0.92230039767513006,1942,0.5527120935417309,2546,0.72461636980290778]
[]
[null,"Total Norte",{"$f":"SUMIF($A$3:$A$80,\"Norte\",C$3:C$80)","v":5430},{"$f":"SUMIF($A$3:$A$80,\"Norte\",D$3:D$80)","v":5055},{"$f":"SUMIF($A$3:$A$80,\"Norte\",E$3:E$80)","v":5789},{"$f":"SUMIF($A$3:$A$80,\"Norte\",F$3:F$80)","v":5306.5833333333339},{"$f":"SUMIF($A$3:$A$80,\"Norte\",G$3:G$80)","v":4704},{"$f":"G82/D82","v":0.93056379821958457},{"$f":"SUMIF($A$3:$A$80,\"Norte\",I$3:I$80)","v":4690},{"$f":"I82/F82","v":0.88380784874134322},{"$f":"SUMIF($A$3:$A$80,\"Norte\",K$3:K$80)","v":5011},{"$f":"K82/D82","v":0.99129574678536103},{"$f":"SUMIF($A$3:$A$80,\"Norte\",M$3:M$80)","v":5061},{"$f":"M82/D82","v":1.0011869436201781},{"$f":"SUMIF($A$3:$A$80,\"Norte\",O$3:O$80)","v":5041},{"$f":"O82/D82","v":0.99723046488625122},{"$f":"SUMIF($A$3:$A$80,\"Norte\",Q$3:Q$80)","v":4754},{"$f":"Q82/D82","v":0.94045499505440155},{"$f":"SUMIF($A$3:$A$80,\"Norte\",S$3:S$80)","v":4063},{"$f":"S82/F82","v":0.76565272695865194},{"$f":"SUMIF($A$3:$A$80,\"Norte\",U$3:U$80)","v":4608},{"$f":"U82/F82","v":0.86835534477614273}]
[null,"Total Central",{"$f":"SUMIF($A$3:$A$80,\"Central\",C$3:C$80)","v":7049},{"$f":"SUMIF($A$3:$A$80,\"Central\",D$3:D$80)","v":6466},{"$f":"SUMIF($A$3:$A$80,\"Central\",E$3:E$80)","v":6843},{"$f":"SUMIF($A$3:$A$80,\"Central\",F$3:F$80)","v":6272.7500000000018},{"$f":"SUMIF($A$3:$A$80,\"Central\",G$3:G$80)","v":5756},{"$f":"G83/D83","v":0.89019486545004645},{"$f":"SUMIF($A$3:$A$80,\"Central\",I$3:I$80)","v":5541},{"$f":"I83/F83","v":0.88334462556295057},{"$f":"SUMIF($A$3:$A$80,\"Central\",K$3:K$80)","v":5655},{"$f":"K83/D83","v":0.87457469842251778},{"$f":"SUMIF($A$3:$A$80,\"Central\",M$3:M$80)","v":5840},{"$f":"M83/D83","v":0.90318589545313954},{"$f":"SUMIF($A$3:$A$80,\"Central\",O$3:O$80)","v":5817},{"$f":"O83/D83","v":0.89962882771419739},{"$f":"SUMIF($A$3:$A$80,\"Central\",Q$3:Q$80)","v":5598},{"$f":"Q83/D83","v":0.8657593566347046},{"$f":"SUMIF($A$3:$A$80,\"Central\",S$3:S$80)","v":4853},{"$f":"S83/F83","v":0.77366386353672612},{"$f":"SUMIF($A$3:$A$80,\"Central\",U$3:U$80)","v":5556},{"$f":"U83/F83","v":0.88573592124666189}]
[null,"Total Metropolitana",{"$f":"SUMIF($A$3:$A$80,\"Metropolitana\",C$3:C$80)","v":29453},{"$f":"SUMIF($A$3:$A$80,\"Metropolitana\",D$3:D$80)","v":27269},{"$f":"SUMIF($A$3:$A$80,\"Metropolitana\",E$3:E$80)","v":30197},{"$f":"SUMIF($A$3:$A$80,\"Metropolitana\",F$3:F$80)","v":27680.583333333332},{"$f":"SUMIF($A$3:$A$80,\"Metropolitana\",G$3:G$80)","v":22261},{"$f":"G84/D84","v":0.81634823425868197},{"$f":"SUMIF($A$3:$A$80,\"Metropolitana\",I$3:I$80)","v":21696},{"$f":"I84/F84","v":0.7837985109899539},{"$f":"SUMIF($A$3:$A$80,\"Metropolitana\",K$3:K$80)","v":24093},{"$f":"K84/D84","v":0.88353074920239094},{"$f":"SUMIF($A$3:$A$80,\"Metropolitana\",M$3:M$80)","v":23903},{"$f":"M84/D84","v":0.87656313029447352},{"$f":"SUMIF($A$3:$A$80,\"Metropolitana\",O$3:O$80)","v":24377},{"$f":"O84/D84","v":0.89394550588580435},{"$f":"SUMIF($A$3:$A$80,\"Metropolitana\",Q$3:Q$80)","v":22857},{"$f":"Q84/D84","v":0.83820455462246513},{"$f":"SUMIF($A$3:$A$80,\"Metropolitana\",S$3:S$80)","v":19018},{"$f":"S84/F84","v":0.68705199493026103},{"$f":"SUMIF($A$3:$A$80,\"Metropolitana\",U$3:U$80)","v":22768},{"$f":"U84/F84","v":0.82252601853886753}]
[null,"Total Sul",{"$f":"SUMIF($A$3:$A$80,\"sul\",C$3:C$80)","v":8116},{"$f":"SUMIF($A$3:$A$80,\"sul\",D$3:D$80)","v":7444},{"$f":"SUMIF($A$3:$A$80,\"sul\",E$3:E$80)","v":8688},{"$f":"SUMIF($A$3:$A$80,\"sul\",F$3:F$80)","v":7963.9999999999982},{"$f":"SUMIF($A$3:$A$80,\"sul\",G$3:G$80)","v":7054},{"$f":"G85/D85","v":0.94760881246641593},{"$f":"SUMIF($A$3:$A$80,\"sul\",I$3:I$80)","v":6941},{"$f":"I85/F85","v":0.8715469613259671},{"$f":"SUMIF($A$3:$A$80,\"sul\",K$3:K$80)","v":7008},{"$f":"K85/D85","v":0.9414293390650188},{"$f":"SUMIF($A$3:$A$80,\"sul\",M$3:M$80)","v":7133},{"$f":"M85/D85","v":0.95822138635142395},{"$f":"SUMIF($A$3:$A$80,\"sul\",O$3:O$80)","v":7382},{"$f":"O85/D85","v":0.99167114454594307},{"$f":"SUMIF($A$3:$A$80,\"sul\",Q$3:Q$80)","v":6967},{"$f":"Q85/D85","v":0.93592154755507795},{"$f":"SUMIF($A$3:$A$80,\"sul\",S$3:S$80)","v":6027},{"$f":"S85/F85","v":0.75678051230537435},{"$f":"SUMIF($A$3:$A$80,\"sul\",U$3:U$80)","v":7085},{"$f":"U85/F85","v":0.88962832747363152}]
[null,"Total Espírito Santo",{"$f":"SUM(C3:C80)","v":50048},{"$f":"SUM(D3:D80)","v":46234},{"$f":"SUM(E3:E80)","v":51517},{"$f":"SUM(F3:F80)","v":47223.916666666664},{"$f":"SUM(G3:G80)","v":39775},{"$f":"G86/D86","v":0.86029761647272573},{"$f":"SUM(I3:I80)","v":38868},{"$f":"I86/F86","v":0.82305752558290557},{"$f":"SUM(K3:K80)","v":41767},{"$f":"K86/D86","v":0.90338279188476012},{"$f":"SUM(M3:M80)","v":41937},{"$f":"M86/D86","v":0.90705973958558639},{"$f":"SUM(O3:O80)","v":42617},{"$f":"O86/D86","v":0.92176753038889125},{"$f":"SUM(Q3:Q80)","v":40176},{"$f":"Q86/D86","v":0.86897088722585114},{"$f":"SUM(S3:S80)","v":33961},{"$f":"S86/F86","v":0.71914831291347781},{"$f":"SUM(U3:U80)","v":40017},{"$f":"U86/F86","v":0.84738841723914615}]
[]
[]
[]
[" Fonte: Vacina e Confia, em 22 e 23 de Dezembro de 2025.**<https://vacinaeconfia.saude.es.gov.br/>"]
["**Dados referente às doses aplicadas no período de Janeiro a Outubro 2025"]
["Cobertura Calculada por município de residência"]
["1 População anual extraída do MS/SVS/DASIS - SINASC/DASIS/SVS/MS 2024 (hoje preliminares) referente ao período de Outubro a Dezembro de 2024 e SINASC/DASIS/SVS/MS 2025 referente ao período de Janeiro e Setembro de 2025."]
["² População proporcional extraída do MS/SVS/DASIS - SINASC/DASIS/SVS/MS 2024 (hoje preliminares) referente ao período de Outubro  e Novembro de 2024 e SINASC/DASIS/SVS/MS 2025 referente ao período de Janeiro a Setembro de  2025."]
["Sinasc, atualizado em  11/12/2025."]
["Método de Cálculo Simples"]
["Homogeineidade: O cálculo da Homogeineidade entre vacinas é feito de acordo com a pactuação estabelecida no Plano Plurianual (PPA) vigente no período 2024-2027."]
[]
[]
["Observações:"]
["1. Imunobiológicos que foram recebidos parcialmente pelo estado no mês de Novembro/2025, sendo distribuídos em quantidades reduzidas às regionais e municípios:",null,null,null,null,null,null,null,null,null,null,null,null,null," "]
["SORO ANTIRRÁBICO HUMANO; IMUNOGLOBULINA ANTIRRÁBICA HUMANA.\n"]
["2. Imunobiológicos indisponíveis no mês de Novembro/2025, não sendo possível a distribuição às regionais e municípios: "]
["IMUNOGLOBULINA HUMANA ANTI-HEPATITE B - 100 UI, VACINA TETRA VIRAL, IMUNOGLOBULINA HUMANA ANTIVARICELA (ZOSTER) – 125UI"]
["3. Imunobiológicos distribuídos através de pautas: VACINA COVID-19 PFIZER PEDIÁTRICA MENOR QUE 5 ANOS,VACINA COVID-19 PFIZER ADULTO E ADOLESCENTE A PARTIR\nDE 12 ANOS, VACINA COVID-19 PFIZER PEDIÁTRICA, VACINA CONTRA DENGUE 1,2,3 E 4 (ATENUADA)."]

{"sheet":"Cobert. COVID-19 Menores 4 anos","index":4,"n_rows":92,"n_cols":3,"rows_kept":92,"cut":false,"hidden":true,"merged":[[90,0,90,9],[91,0,91,9],[86,0,86,9],[87,0,87,9],[88,0,88,9],[89,0,89,9]]}
["Regional ","Município","Série Histórica "]
["Região Metropolitana","Afonso Cláudio"]
["Região Norte","Água Doce do Norte"]
["Região Central","Águia Branca"]
["Região Sul","Alegre"]
["Região Sul","Alfredo Chaves"]
["Região Central","Alto Rio Novo"]
["Região Sul","Anchieta"]
["Região Sul","Apiacá"]
["Região Metropolitana","Aracruz"]
["Região Sul","Atilio Vivacqua"]
["Região Central","Baixo Guandu"]
["Região Norte","Barra de São Francisco"]
["Região Norte","Boa Esperança"]
["Região Sul","Bom Jesus do Norte"]
["Região Metropolitana","Brejetuba"]
["Região Sul","Cachoeiro de Itapemirim"]
["Região Metropolitana","Cariacica"]
["Região Sul","Castelo"]
["Região Central","Colatina"]
["Região Norte","Conceição da Barra"]
["Região Metropolitana","Conceição do Castelo"]
["Região Sul","Divino de São Lourenço"]
["Região Metropolitana","Domingos Martins"]
["Região Sul","Dores do Rio Preto"]
["Região Norte","Ecoporanga"]
["Região Metropolitana","Fundão"]
["Região Central","Governador Lindenberg"]
["Região Sul","Guaçuí"]
["Região Metropolitana","Guarapari"]
["Região Metropolitana","Ibatiba"]
["Região Metropolitana","Ibiraçu"]
["Região Sul","Ibitirama"]
["Região Sul","Iconha"]
["Região Sul","Irupi"]
["Região Metropolitana","Itaguaçu"]
["Região Sul","Itapemirim"]
["Região Metropolitana","Itarana"]
["Região Sul","Iúna"]
["Região Norte","Jaguaré"]
["Região Sul","Jerônimo Monteiro"]
["Região Metropolitana","João Neiva"]
["Região Metropolitana","Laranja da Terra"]
["Região Central","Linhares"]
["Região Central","Mantenópolis"]
["Região Sul","Marataízes"]
["Região Metropolitana","Marechal Floriano"]
["Região Central","Marilândia"]
["Região Sul","Mimoso do Sul"]
["Região Norte","Montanha"]
["Região Norte","Mucurici"]
["Região Sul","Muniz Freire"]
["Região Sul","Muqui"]
["Região Norte","Nova Venécia"]
["Região Central","Pancas"]
["Região Norte","Pedro Canário"]
["Região Norte","Pinheiros"]
["Região Sul","Piúma"]
["Região Norte","Ponto Belo"]
["Região Sul","Presidente Kennedy"]
["Região Central","Rio Bananal"]
["Região Sul","Rio Novo do Sul"]
["Região Metropolitana","Santa Leopoldina"]
["Região Metropolitana","Santa Maria de Jetibá"]
["Região Metropolitana","Santa Teresa"]
["Região Central","São Domingos do Norte"]
["Região Central","São Gabriel da Palha"]
["Região Sul","São José do Calçado"]
["Região Norte","São Mateus"]
["Região Central","São Roque do Canaã"]
["Região Metropolitana","Serra"]
["Região Central","Sooretama"]
["Região Sul","Vargem Alta"]
["Região Metropolitana","Venda Nova do Imigrante"]
["Região Metropolitana","Viana"]
["Região Norte","Vila Pavão"]
["Região Central","Vila Valério"]
["Região Metropolitana","Vila Velha"]
["Região Metropolitana","Vitória"]
[]
[null,"Espírito Santo"]
[null,"Região Norte"]
[null,"Região Central"]
[null,"Região Metropolitana"]
[null,"Região Sul"]
[]
["Pfizer Pediátrica Menor de 5 anos e Coronavac"]
["Período avaliado: 2021-2024"]
["Fonte: https://www.vacinaeconfia.es.gov.br"]
["*Dados de janeiro/2024 extraídos do Vacina e Confia em 04/01/2024"]
["População proporcional extraída do SINASC 2022 (menores de 1 ano) e Censo IBGE 2022 (demais idades)"]
["Cobertura Calculada por município de procedência da vacinação"]

{"sheet":"dTpa gestantes - procedência","index":5,"n_rows":104,"n_cols":16,"rows_kept":104,"cut":false,"hidden":false,"merged":[[85,1,85,3],[103,0,103,11]]}
["REGIONAL","MUNICÍPIO","¹POPULAÇÃO GESTANTE ANUAL","²POPULAÇÃO PROPORCIONAL","DOSES APLICADAS dTpa GESTANTES","COBERTURA VACINAL dTpa GESTANTES"]
["Metropolitana","Afonso Cláudio",359,332,296,{"$f":"E2/D2","v":0.89156626506024095}]
["Norte","Água Doce do Norte",145,139,109,{"$f":"E3/D3","v":0.78417266187050361}]
["Central","Águia Branca",165,153,119,0.77777777777777779]
["Sul","Alegre",322,292,274,0.93835616438356162]
["Sul","Alfredo Chaves",119,104,107,1.0288461538461537]
["Central","Alto Rio Novo",99,92,96,1.0434782608695652]
["Sul","Anchieta",334,308,317,1.0292207792207793,null,null,null," "]
["Sul","Apiacá",64,57,60,1.0526315789473684]
["Metropolitana","Aracruz",1420,1316,1226,0.93161094224924013]
["Sul","Atilio Vivacqua",148,131,108,0.82442748091603058]
["Central","Baixo Guandu",354,324,292,0.90123456790123457]
["Norte","Barra de São Francisco",622,570,467,0.81929824561403508]
["Norte","Boa Esperança",209,191,193,1.0104712041884816]
["Sul","Bom Jesus do Norte",72,67,88,1.3134328358208955]
["Metropolitana","Brejetuba",227,213,216,1.0140845070422535]
["Sul","Cachoeiro de Itapemirim",2386,2179,1829,0.83937586048646173]
["Metropolitana","Cariacica",4738,4375,3526,0.80594285714285718]
["Sul","Castelo",383,342,383,1.1198830409356726]
["Central","Colatina",1485,1358,1231,0.90648011782032401]
["Norte","Conceição da Barra",343,327,361,1.1039755351681957]
["Metropolitana","Conceição do Castelo",187,171,135,0.78947368421052633]
["Sul","Divino de São Lourenço",67,62,57,0.91935483870967738]
["Metropolitana","Domingos Martins",426,382,374,0.97905759162303663,null,null,null,null,null,null,null,null,null," "]
["Sul","Dores do Rio Preto",102,99,76,0.76767676767676762]
["Norte","Ecoporanga",250,233,183,0.78540772532188841]
["Metropolitana","Fundão",231,213,196,0.92018779342723001]
["Central","Governador Lindenberg",141,130,148,1.1384615384615384]
["Sul","Guaçuí",387,354,252,0.71186440677966101]
["Metropolitana","Guarapari",1643,1526,1220,0.79947575360419398]
["Metropolitana","Ibatiba",410,375,348,0.92800000000000005]
["Metropolitana","Ibiraçu",130,123,99,0.80487804878048785]
["Sul","Ibitirama",139,130,121,0.93076923076923079]
["Sul","Iconha",140,132,115,0.87121212121212122]
["Sul","Irupi",194,179,170,0.94972067039106145]
["Metropolitana","Itaguaçu",121,119,114,0.95798319327731096]
["Sul","Itapemirim",537,494,433,0.87651821862348178]
["Metropolitana","Itarana",131,126,129,1.0238095238095237]
["Sul","Iúna",387,358,303,0.84636871508379885]
["Norte","Jaguaré",444,415,424,1.0216867469879518]
["Sul","Jerônimo Monteiro",114,111,109,0.98198198198198194]
["Metropolitana","João Neiva",143,132,111,0.84090909090909094]
["Metropolitana","Laranja da Terra",120,114,98,0.85964912280701755]
["Central","Linhares",2668,2438,2089,0.85684987694831827]
["Central","Mantenópolis",132,121,124,1.024793388429752]
["Sul","Marataízes",570,532,491,0.92293233082706772]
["Metropolitana","Marechal Floriano",207,190,166,0.87368421052631584]
["Central","Marilândia",166,159,145,0.91194968553459121]
["Sul","Mimoso do Sul",279,256,169,0.66015625]
["Norte","Montanha",217,205,218,1.0634146341463415]
["Norte","Mucurici",53,46,60,1.3043478260869565]
["Sul","Muniz Freire",248,226,232,1.0265486725663717]
["Sul","Muqui",154,143,130,0.90909090909090906]
["Norte","Nova Venécia",690,628,590,0.93949044585987262]
["Central","Pancas",218,201,166,0.82587064676616917]
["Norte","Pedro Canário",320,297,286,0.96296296296296291]
["Norte","Pinheiros",304,286,248,0.86713286713286708]
["Sul","Piúma",310,281,209,0.74377224199288261]
["Norte","Ponto Belo",68,65,83,1.2769230769230768]
["Sul","Presidente Kennedy",199,183,162,0.88524590163934425]
["Central","Rio Bananal",296,265,273,1.030188679245283]
["Sul","Rio Novo do Sul",97,88,104,1.1818181818181819]
["Metropolitana","Santa Leopoldina",96,89,87,0.97752808988764039]
["Metropolitana","Santa Maria de Jetibá",721,667,569,0.85307346326836586]
["Metropolitana","Santa Teresa",283,262,213,0.81297709923664119]
["Central","São Domingos do Norte",111,101,102,1.0099009900990099]
["Central","São Gabriel da Palha",401,376,391,{"$f":"E67/D67","v":1.0398936170212767}]
["Sul","São José do Calçado",94,84,75,0.8928571428571429,null,null,null,null,null,null,null," "]
["Norte","São Mateus",1670,1562,1384,0.88604353393085789]
["Central","São Roque do Canaã",131,121,122,1.0082644628099173]
["Metropolitana","Serra",7550,7009,5662,0.80781851904693969]
["Central","Sooretama",428,391,364,0.93094629156010233]
["Sul","Vargem Alta",270,252,210,0.83333333333333337]
["Metropolitana","Venda Nova do Imigrante",352,323,282,0.87306501547987614]
["Metropolitana","Viana",863,803,781,0.9726027397260274]
["Norte","Vila Pavão",95,91,106,1.1648351648351649]
["Central","Vila Valério",254,236,231,0.97881355932203384]
["Metropolitana","Vila Velha",5551,5140,4131,0.80369649805447474]
["Metropolitana","Vitória",3544,3269,3271,1.0006118078923218]
[]
[null,"Total Norte",{"$f":"SUMIF($A$2:$A$79,\"Norte\",C$2:C$79)","v":5430},{"$f":"SUMIF($A$2:$A$79,\"Norte\",D$2:D$79)","v":5055},{"$f":"SUMIF($A$2:$A$79,\"Norte\",E$2:E$79)","v":4712},0.93214638971315533,null,null,null,null," "]
[null,"Total Central",{"$f":"SUMIF($A$2:$A$79,\"CENTRAL\",C$2:C$79)","v":7049},{"$f":"SUMIF($A$2:$A$79,\"CENTRAL\",D$2:D$79)","v":6466},{"$f":"SUMIF($A$2:$A$79,\"CENTRAL\",E$2:E$79)","v":5893},0.91138261676461496]
[null,"Total Metropolitana",{"$f":"SUMIF($A$2:$A$79,\"METROPOLITANA\",C$2:C$79)","v":29453},{"$f":"SUMIF($A$2:$A$79,\"METROPOLITANA\",D$2:D$79)","v":27269},{"$f":"SUMIF($A$2:$A$79,\"METROPOLITANA\",E$2:E$79)","v":23250},0.85261652425831536,null,null,null," "]
[null,"Total Sul",{"$f":"SUMIF($A$2:$A$79,\"SUL\",C$2:C$79)","v":8116},{"$f":"SUMIF($A$2:$A$79,\"SUL\",D$2:D$79)","v":7444},{"$f":"SUMIF($A$2:$A$79,\"SUL\",E$2:E$79)","v":6584},0.88447071466953253]
[null,"TOTAL ES",{"$f":"SUM(C2:C79)","v":50048},{"$f":"SUM(D2:D79)","v":46234},{"$f":"SUM(E2:E79)","v":40439},{"$f":"E85/D85","v":0.87465934161007053}]
[null,"HOMOGENEIDADE ENTRE MUNICÍPIOS",null,null,null,{"$f":"COUNTIF(F2:F79,\">=0,95\")/78","v":0.39743589743589741}]
[]
[]
[]
[" Fonte: Vacina e Confia, em 22 de Dezembro de 2025.**<https://vacinaeconfia.saude.es.gov.br/>"]
["**Dados referente às doses aplicadas no período de Janeiro a Novembro 2025",null,null,null,null," ",null," ",null," "]
["Cobertura Calculada por município de procedência/ocorrência da vacinação"]
["1 População anual extraída do MS/SVS/DASIS - SINASC/DASIS/SVS/MS 2024 (hoje preliminares) referente ao período de Outubro a Dezembro de 2024 e SINASC/DASIS/SVS/MS 2025 referente ao período de Janeiro e Setembro de 2025."]
["² População proporcional extraída do MS/SVS/DASIS - SINASC/DASIS/SVS/MS 2024 (hoje preliminares) referente ao período de Outubro e Novembro 2024 e SINASC/DASIS/SVS/MS 2024 (hoje preliminares) referente ao período de Janeiro a Setembro/ 2025."]
["Sinasc, atualizado em 11/12/2025"]
["Método de Cálculo Simples"]
["Homogeineidade: O cálculo da Homogeineidade entre vacinas é feito de acordo com a pactuação estabelecida no Plano Plurianual (PPA) vigente no período 2024-2027."]
[]
["Observações:"]
["1. Imunobiológicos que foram recebidos parcialmente pelo estado no mês de Novembro/2025, sendo distribuídos em quantidades reduzidas às regionais e municípios:",null,null,null,null,null,null,null,null,null,null,null,null,null," "]
["SORO ANTIRRÁBICO HUMANO; IMUNOGLOBULINA ANTIRRÁBICA HUMANA.\n"]
["2. Imunobiológicos indisponíveis no mês de Novembro/2025, não sendo possível a distribuição às regionais e municípios: "]
["IMUNOGLOBULINA HUMANA ANTI-HEPATITE B - 100 UI, VACINA TETRA VIRAL, IMUNOGLOBULINA HUMANA ANTIVARICELA (ZOSTER) – 125UI"]
["3. Imunobiológicos distribuídos através de pautas: VACINA COVID-19 PFIZER PEDIÁTRICA MENOR QUE 5 ANOS,VACINA COVID-19 PFIZER ADULTO E ADOLESCENTE A PARTIR\nDE 12 ANOS, VACINA COVID-19 PFIZER PEDIÁTRICA, VACINA CONTRA DENGUE 1,2,3 E 4 (ATENUADA)."]

{"sheet":"dTpa gestantes - residência","index":6,"n_rows":105,"n_cols":18,"rows_kept":105,"cut":false,"hidden":false,"merged":[[85,1,85,3],[104,0,104,11]]}
["REGIONAL","MUNICÍPIO","¹POPULAÇÃO GESTANTE ANUAL","¹POPULAÇÃO PROPORCIONAL","DOSES APLICADAS dTpa GESTANTES","COBERTURA VACINAL dTpa GESTANTES"]
["Metropolitana","Afonso Cláudio",359,332,295,{"$f":"E2/D2","v":0.88855421686746983}]
["Norte","Água Doce do Norte",145,139,105,{"$f":"E3/D3","v":0.75539568345323738}]
["Central","Águia Branca",165,153,97,0.63398692810457513]
["Sul","Alegre",322,292,301,1.0308219178082192]
["Sul","Alfredo Chaves",119,104,111,1.0673076923076923]
["Central","Alto Rio Novo",99,92,97,1.0543478260869565]
["Sul","Anchieta",334,308,332,1.0779220779220779]
["Sul","Apiacá",64,57,55,0.96491228070175439]
["Metropolitana","Aracruz",1420,1316,1104,0.83890577507598785]
["Sul","Atilio Vivacqua",148,131,126,0.96183206106870234]
["Central","Baixo Guandu",354,324,272,0.83950617283950613]
["Norte","Barra de São Francisco",622,570,426,0.74736842105263157]
["Norte","Boa Esperança",209,191,178,0.93193717277486909]
["Sul","Bom Jesus do Norte",72,67,83,1.2388059701492538]
["Metropolitana","Brejetuba",227,213,194,0.91079812206572774]
["Sul","Cachoeiro de Itapemirim",2386,2179,1739,0.79807251032583759]
["Metropolitana","Cariacica",4738,4375,3830,0.87542857142857144]
["Sul","Castelo",383,342,411,1.2017543859649122]
["Central","Colatina",1485,1358,1208,0.88954344624447712]
["Norte","Conceição da Barra",343,327,397,1.2140672782874617]
["Metropolitana","Conceição do Castelo",187,171,135,0.78947368421052633]
["Sul","Divino de São Lourenço",67,62,53,0.85483870967741937]
["Metropolitana","Domingos Martins",426,382,378,0.98952879581151831]
["Sul","Dores do Rio Preto",102,99,56,0.56565656565656564]
["Norte","Ecoporanga",250,233,199,0.85407725321888417]
["Metropolitana","Fundão",231,213,187,0.8779342723004695,null,null,null,null,null,null,null,null,null,null,null," "]
["Central","Governador Lindenberg",141,130,143,1.1000000000000001]
["Sul","Guaçuí",387,354,277,0.78248587570621464]
["Metropolitana","Guarapari",1643,1526,1154,0.75622542595019659]
["Metropolitana","Ibatiba",410,375,321,0.85599999999999998]
["Metropolitana","Ibiraçu",130,123,122,0.99186991869918695]
["Sul","Ibitirama",139,130,152,1.1692307692307693]
["Sul","Iconha",140,132,118,0.89393939393939392]
["Sul","Irupi",194,179,149,0.83240223463687146]
["Metropolitana","Itaguaçu",121,119,104,0.87394957983193278]
["Sul","Itapemirim",537,494,446,0.90283400809716596]
["Metropolitana","Itarana",131,126,128,1.0158730158730158]
["Sul","Iúna",387,358,281,0.78491620111731841]
["Norte","Jaguaré",444,415,400,0.96385542168674698]
["Sul","Jerônimo Monteiro",114,111,103,0.92792792792792789]
["Metropolitana","João Neiva",143,132,102,0.77272727272727271]
["Metropolitana","Laranja da Terra",120,114,99,0.86842105263157898]
["Central","Linhares",2668,2438,2005,0.82239540607054962]
["Central","Mantenópolis",132,121,113,0.93388429752066116]
["Sul","Marataízes",570,532,459,0.86278195488721809]
["Metropolitana","Marechal Floriano",207,190,160,0.84210526315789469]
["Central","Marilândia",166,159,125,0.78616352201257866]
["Sul","Mimoso do Sul",279,256,185,0.72265625]
["Norte","Montanha",217,205,253,1.2341463414634146]
["Norte","Mucurici",53,46,58,1.2608695652173914]
["Sul","Muniz Freire",248,226,206,0.91150442477876104]
["Sul","Muqui",154,143,127,0.88811188811188813]
["Norte","Nova Venécia",690,628,619,0.98566878980891715]
["Central","Pancas",218,201,197,0.98009950248756217]
["Norte","Pedro Canário",320,297,316,1.063973063973064]
["Norte","Pinheiros",304,286,292,1.020979020979021]
["Sul","Piúma",310,281,195,0.69395017793594305]
["Norte","Ponto Belo",68,65,78,1.2]
["Sul","Presidente Kennedy",199,183,164,0.89617486338797814]
["Central","Rio Bananal",296,265,302,1.1396226415094339]
["Sul","Rio Novo do Sul",97,88,110,1.25]
["Metropolitana","Santa Leopoldina",96,89,123,1.3820224719101124]
["Metropolitana","Santa Maria de Jetibá",721,667,472,0.70764617691154419]
["Metropolitana","Santa Teresa",283,262,226,0.86259541984732824]
["Central","São Domingos do Norte",111,101,123,1.2178217821782178]
["Central","São Gabriel da Palha",401,376,363,{"$f":"E67/D67","v":0.96542553191489366}]
["Sul","São José do Calçado",94,84,71,0.84523809523809523]
["Norte","São Mateus",1670,1562,1183,0.75736235595390522]
["Central","São Roque do Canaã",131,121,148,1.2231404958677685]
["Metropolitana","Serra",7550,7009,5459,0.77885575688400632]
["Central","Sooretama",428,391,388,0.99232736572890023]
["Sul","Vargem Alta",270,252,215,0.85317460317460314]
["Metropolitana","Venda Nova do Imigrante",352,323,311,0.96284829721362231]
["Metropolitana","Viana",863,803,776,0.96637608966376087]
["Norte","Vila Pavão",95,91,100,1.098901098901099]
["Central","Vila Valério",254,236,209,0.88559322033898302]
["Metropolitana","Vila Velha",5551,5140,3698,0.71945525291828794]
["Metropolitana","Vitória",3544,3269,2948,0.90180483328234939,null,null,null,null,null,null," "]
[]
[null,"Total Norte",{"$f":"SUMIF($A$2:$A$79,\"Norte\",C$2:C$79)","v":5430},{"$f":"SUMIF($A$2:$A$79,\"Norte\",D$2:D$79)","v":5055},{"$f":"SUMIF($A$2:$A$79,\"Norte\",E$2:E$79)","v":4604},0.91078140454995049]
[null,"Total Central",{"$f":"SUMIF($A$2:$A$79,\"CENTRAL\",C$2:C$79)","v":7049},{"$f":"SUMIF($A$2:$A$79,\"CENTRAL\",D$2:D$79)","v":6466},{"$f":"SUMIF($A$2:$A$79,\"CENTRAL\",E$2:E$79)","v":5790},0.89545313949891736,null,null,null,null," "]
[null,"Total Metropolitana",{"$f":"SUMIF($A$2:$A$79,\"METROPOLITANA\",C$2:C$79)","v":29453},{"$f":"SUMIF($A$2:$A$79,\"METROPOLITANA\",D$2:D$79)","v":27269},{"$f":"SUMIF($A$2:$A$79,\"METROPOLITANA\",E$2:E$79)","v":22326},0.81873189335875907]
[null,"Total Sul",{"$f":"SUMIF($A$2:$A$79,\"SUL\",C$2:C$79)","v":8116},{"$f":"SUMIF($A$2:$A$79,\"SUL\",D$2:D$79)","v":7444},{"$f":"SUMIF($A$2:$A$79,\"SUL\",E$2:E$79)","v":6525},0.87654486835034928]
[null,"TOTAL ES",{"$f":"SUM(C2:C79)","v":50048},{"$f":"SUM(D2:D79)","v":46234},{"$f":"SUM(E2:E79)","v":39245},{"$f":"E85/D85","v":0.84883419128779691}]
[null,"HOMOGENEIDADE ENTRE MUNICÍPIOS",null,null,{"$f":"COUNTIF(F2:F79,\">=0,95\")","v":32},{"$f":"COUNTIF(F2:F79,\">=0,95\")/78","v":0.41025641025641024}]
[]
[]
[]
[" Fonte: Vacina e Confia, em 22 de Dezembro de 2025.**<https://vacinaeconfia.saude.es.gov.br/>"]
["**Dados referente às doses aplicadas no período de Janeiro a Novembro 2025",null,null,null,null,null,null," ",null," ",null," "]
["Cobertura Calculada por município de residência da vacinação"]
["1 População anual extraída do MS/SVS/DASIS - SINASC/DASIS/SVS/MS 2024 (hoje preliminares) referente ao período de Outubro a Dezembro de 2024 e SINASC/DASIS/SVS/MS 2025 referente ao período de Janeiro e Setembro de 2025."]
["² População proporcional extraída do MS/SVS/DASIS - SINASC/DASIS/SVS/MS 2024 (hoje preliminares) referente ao período de Outubro e Novembro 2024 e SINASC/DASIS/SVS/MS 2024 (hoje preliminares) referente ao período de Janeiro a Setembro/ 2025."]
["Sinasc, atualizado em 11/12/2025"]
["Método de Cálculo Simples"]
["Homogeineidade: O cálculo da Homogeineidade entre vacinas é feito de acordo com a pactuação estabelecida no Plano Plurianual (PPA) vigente no período 2024-2027."]
[]
[]
["Observações:"]
["1. Imunobiológicos que foram recebidos parcialmente pelo estado no mês de Novembro/2025, sendo distribuídos em quantidades reduzidas às regionais e municípios:",null,null,null,null,null,null,null,null,null,null,null,null,null," "]
["SORO ANTIRRÁBICO HUMANO; IMUNOGLOBULINA ANTIRRÁBICA HUMANA.\n"]
["2. Imunobiológicos indisponíveis no mês de Novembro/2025, não sendo possível a distribuição às regionais e municípios: "]
["IMUNOGLOBULINA HUMANA ANTI-HEPATITE B - 100 UI, VACINA TETRA VIRAL, IMUNOGLOBULINA HUMANA ANTIVARICELA (ZOSTER) – 125UI"]
["3. Imunobiológicos distribuídos através de pautas: VACINA COVID-19 PFIZER PEDIÁTRICA MENOR QUE 5 ANOS,VACINA COVID-19 PFIZER ADULTO E ADOLESCENTE A PARTIR\nDE 12 ANOS, VACINA COVID-19 PFIZER PEDIÁTRICA, VACINA CONTRA DENGUE 1,2,3 E 4 (ATENUADA)."]

{"sheet":"VSR gestante - Procedência","index":7,"n_rows":101,"n_cols":15,"rows_kept":101,"cut":false,"hidden":true,"merged":[[100,0,100,11],[85,1,85,3],[91,0,91,3]]}
["REGIONAL","MUNICÍPIO","¹POPULAÇÃO GESTANTE ","DOSES APLICADAS VSR GESTANTES","COBERTURA VACINAL VSR GESTANTES"]
["Metropolitana","Afonso Cláudio",407,40,{"$f":"D2/C6","v":0.25806451612903225}]
["Norte","Água Doce do Norte",157,20,{"$f":"D3/C3","v":0.12738853503184713}]
["Central","Águia Branca",160,19,{"$f":"D4/C4","v":0.11874999999999999}]
["Sul","Alegre",352,45,0.12784090909090909]
["Sul","Alfredo Chaves",155,17,0.10967741935483871]
["Central","Alto Rio Novo",93,7,7.5268817204301078E-2]
["Sul","Anchieta",381,55,0.14435695538057744]
["Sul","Apiacá",65,14,0.2153846153846154]
["Metropolitana","Aracruz",1495,129,8.6287625418060204E-2]
["Sul","Atilio Vivacqua",142,15,0.10563380281690141]
["Central","Baixo Guandu",379,38,0.10026385224274406]
["Norte","Barra de São Francisco",566,47,8.3038869257950523E-2]
["Norte","Boa Esperança",210,25,0.11904761904761904]
["Sul","Bom Jesus do Norte",78,11,0.14102564102564102]
["Metropolitana","Brejetuba",204,25,0.12254901960784313]
["Sul","Cachoeiro de Itapemirim",2453,130,5.2996331023236851E-2]
["Metropolitana","Cariacica",4931,287,5.8203204218211319E-2]
["Sul","Castelo",453,41,9.0507726269315678E-2]
["Central","Colatina",1576,110,6.9796954314720813E-2]
["Norte","Conceição da Barra",392,58,0.14795918367346939]
["Metropolitana","Conceição do Castelo",161,13,8.0745341614906832E-2]
["Sul","Divino de São Lourenço",62,11,0.17741935483870969]
["Metropolitana","Domingos Martins",417,81,0.19424460431654678]
["Sul","Dores do Rio Preto",95,18,0.18947368421052632]
["Norte","Ecoporanga",243,30,0.12345679012345678]
["Metropolitana","Fundão",209,28,0.13397129186602871]
["Central","Governador Lindenberg",140,21,0.15]
["Sul","Guaçuí",407,35,8.5995085995085999E-2]
["Metropolitana","Guarapari",1768,98,5.5429864253393663E-2]
["Metropolitana","Ibatiba",349,39,0.11174785100286533]
["Metropolitana","Ibiraçu",140,14,0.1]
["Sul","Ibitirama",133,12,9.0225563909774431E-2]
["Sul","Iconha",121,16,0.13223140495867769]
["Sul","Irupi",198,24,0.12121212121212122]
["Metropolitana","Itaguaçu",143,22,0.15384615384615385]
["Sul","Itapemirim",578,73,0.12629757785467127]
["Metropolitana","Itarana",133,0,0]
["Sul","Iúna",482,42,8.7136929460580909E-2]
["Norte","Jaguaré",493,49,9.9391480730223122E-2]
["Sul","Jerônimo Monteiro",164,19,0.11585365853658537]
["Metropolitana","João Neiva",192,10,5.2083333333333336E-2]
["Metropolitana","Laranja da Terra",104,16,0.15384615384615385]
["Central","Linhares",2615,233,8.9101338432122368E-2]
["Central","Mantenópolis",163,29,0.17791411042944785]
["Sul","Marataízes",547,60,0.10968921389396709]
["Metropolitana","Marechal Floriano",237,30,0.12658227848101267]
["Central","Marilândia",164,17,0.10365853658536585]
["Sul","Mimoso do Sul",263,32,0.12167300380228137]
["Norte","Montanha",254,30,0.11811023622047244]
["Norte","Mucurici",80,4,0.05]
["Sul","Muniz Freire",229,29,0.12663755458515283]
["Sul","Muqui",172,22,0.12790697674418605]
["Norte","Nova Venécia",697,36,5.1649928263988523E-2]
["Central","Pancas",217,29,0.13364055299539171]
["Norte","Pedro Canário",335,33,9.8507462686567168E-2]
["Norte","Pinheiros",325,32,9.8461538461538461E-2]
["Sul","Piúma",313,17,5.4313099041533544E-2]
["Norte","Ponto Belo",89,15,0.16853932584269662]
["Sul","Presidente Kennedy",199,13,6.5326633165829151E-2]
["Central","Rio Bananal",307,36,0.11726384364820847]
["Sul","Rio Novo do Sul",130,14,0.1076923076923077]
["Metropolitana","Santa Leopoldina",108,18,0.16666666666666666]
["Metropolitana","Santa Maria de Jetibá",630,100,0.15873015873015872]
["Metropolitana","Santa Teresa",288,35,0.12152777777777778]
["Central","São Domingos do Norte",117,13,0.1111111111111111]
["Central","São Gabriel da Palha",440,73,0.16590909090909092]
["Sul","São José do Calçado",116,12,{"$f":"D68/C68","v":0.10344827586206896}]
["Norte","São Mateus",1923,129,6.7082683307332289E-2]
["Central","São Roque do Canaã",113,12,0.10619469026548672]
["Metropolitana","Serra",7418,466,6.2820167160959825E-2]
["Central","Sooretama",424,49,0.11556603773584906]
["Sul","Vargem Alta",266,33,0.12406015037593984]
["Metropolitana","Venda Nova do Imigrante",412,38,9.2233009708737865E-2]
["Metropolitana","Viana",1007,90,8.937437934458789E-2]
["Norte","Vila Pavão",95,18,0.18947368421052632]
["Central","Vila Valério",248,30,0.12096774193548387]
["Metropolitana","Vila Velha",5791,466,8.046969435330685E-2,null,null,null,null,null,null,null,null," "]
["Metropolitana","Vitória",3698,483,0.13061114115738237]
[]
[null,"Total Norte",{"$f":"SUMIF($A$2:$A$79,\"Norte\",C$2:C$79)","v":5859},{"$f":"SUMIF($A$2:$A$79,\"Norte\",D$2:D$79)","v":526},{"$f":"D2/C2","v":9.8280098280098274E-2},null,null,null,null,null," "]
[null,"Total Central",{"$f":"SUMIF($A$2:$A$79,\"CENTRAL\",C$2:C$79)","v":7156},{"$f":"SUMIF($A$2:$A$79,\"CENTRAL\",D$2:D$79)","v":716},{"$f":"D3/C3","v":0.12738853503184713}]
[null,"Total Metropolitana",{"$f":"SUMIF($A$2:$A$79,\"METROPOLITANA\",C$2:C$79)","v":30242},{"$f":"SUMIF($A$2:$A$79,\"METROPOLITANA\",D$2:D$79)","v":2528},0.11874999999999999,null,null,null,null," "]
[null,"Total Sul",{"$f":"SUMIF($A$2:$A$79,\"SUL\",C$2:C$79)","v":8554},{"$f":"SUMIF($A$2:$A$79,\"SUL\",D$2:D$79)","v":810},0.12784090909090909]
[null,"TOTAL ES",{"$f":"SUM(C2:C79)","v":51811},{"$f":"SUM(D2:D79)","v":4580},0.10967741935483871]
[null,"HOMOGENEIDADE ENTRE MUNICÍPIOS",null,null,{"$f":"COUNTIF(F2:F79,\">=0,95\")/78","v":0}]
[]
[]
[" Fonte: Vacina e Confia, em 22 de Dezembro de 2025.**<https://vacinaeconfia.saude.es.gov.br/>"]
["**Dados referente às doses aplicadas no mês de dezembro desde o início da vacinação em 08/12/2025.",null,null,null,null," ",null," ",null," "]
["Cobertura Calculada por município de procedência/ocorrência da vacinação"]
["1 População - Fonte: MS/SVSA/Cgiae – Sinasc, 2023."]
["Método de Cálculo Simples"]
["Homogeineidade: O cálculo da Homogeineidade entre vacinas é feito de acordo com a pactuação estabelecida no Plano Plurianual (PPA) vigente no período 2024-2027."]
[]
["Observações:"]
["1. Imunobiológicos que foram recebidos parcialmente pelo estado no mês de Novembro/2025, sendo distribuídos em quantidades reduzidas às regionais e municípios:",null,null,null,null,null,null,null,null,null,null,null,null,null," "]
["SORO ANTIRRÁBICO HUMANO; IMUNOGLOBULINA ANTIRRÁBICA HUMANA.\n"]
["2. Imunobiológicos indisponíveis no mês de Novembro/2025, não sendo possível a distribuição às regionais e municípios: "]
["IMUNOGLOBULINA HUMANA ANTI-HEPATITE B - 100 UI, VACINA TETRA VIRAL, IMUNOGLOBULINA HUMANA ANTIVARICELA (ZOSTER) – 125UI"]
["3. Imunobiológicos distribuídos através de pautas: VACINA COVID-19 PFIZER PEDIÁTRICA MENOR QUE 5 ANOS,VACINA COVID-19 PFIZER ADULTO E ADOLESCENTE A PARTIR\nDE 12 ANOS, VACINA COVID-19 PFIZER PEDIÁTRICA, VACINA CONTRA DENGUE 1,2,3 E 4 (ATENUADA)."]

{"sheet":"VSR gestante - residência","index":8,"n_rows":101,"n_cols":15,"rows_kept":101,"cut":false,"hidden":true,"merged":[[85,1,85,3],[100,0,100,11],[91,0,91,3]]}
["REGIONAL","MUNICÍPIO","¹POPULAÇÃO GESTANTE ","DOSES APLICADAS VSR GESTANTES","COBERTURA VACINAL VSR GESTANTES"]
["Metropolitana","Afonso Cláudio",407,40,{"$f":"D2/C6","v":0.25806451612903225}]
["Norte","Água Doce do Norte",157,20,{"$f":"D3/C3","v":0.12738853503184713}]
["Central","Águia Branca",160,19,{"$f":"D4/C4","v":0.11874999999999999}]
["Sul","Alegre",352,45,0.12784090909090909]
["Sul","Alfredo Chaves",155,16,0.1032258064516129]
["Central","Alto Rio Novo",93,7,7.5268817204301078E-2]
["Sul","Anchieta",381,55,0.14435695538057744]
["Sul","Apiacá",65,11,0.16923076923076924]
["Metropolitana","Aracruz",1495,122,8.1605351170568566E-2]
["Sul","Atilio Vivacqua",142,15,0.10563380281690141]
["Central","Baixo Guandu",379,37,9.7625329815303433E-2]
["Norte","Barra de São Francisco",566,43,7.5971731448763249E-2]
["Norte","Boa Esperança",210,23,0.10952380952380952]
["Sul","Bom Jesus do Norte",78,10,0.12820512820512819]
["Metropolitana","Brejetuba",204,24,0.11764705882352941]
["Sul","Cachoeiro de Itapemirim",2453,128,5.2181002853648593E-2]
["Metropolitana","Cariacica",4931,280,5.6783613871425671E-2]
["Sul","Castelo",453,41,9.0507726269315678E-2]
["Central","Colatina",1576,109,6.9162436548223349E-2]
["Norte","Conceição da Barra",392,57,0.14540816326530612]
["Metropolitana","Conceição do Castelo",161,13,8.0745341614906832E-2]
["Sul","Divino de São Lourenço",62,11,0.17741935483870969]
["Metropolitana","Domingos Martins",417,81,0.19424460431654678]
["Sul","Dores do Rio Preto",95,15,0.15789473684210525]
["Norte","Ecoporanga",243,29,0.11934156378600823]
["Metropolitana","Fundão",209,28,0.13397129186602871]
["Central","Governador Lindenberg",140,21,0.15]
["Sul","Guaçuí",407,35,8.5995085995085999E-2]
["Metropolitana","Guarapari",1768,95,5.3733031674208148E-2]
["Metropolitana","Ibatiba",349,37,0.10601719197707736]
["Metropolitana","Ibiraçu",140,14,0.1]
["Sul","Ibitirama",133,12,9.0225563909774431E-2]
["Sul","Iconha",121,16,0.13223140495867769]
["Sul","Irupi",198,23,0.11616161616161616]
["Metropolitana","Itaguaçu",143,22,0.15384615384615385]
["Sul","Itapemirim",578,71,0.12283737024221453]
["Metropolitana","Itarana",133,0,0]
["Sul","Iúna",482,41,8.5062240663900418E-2]
["Norte","Jaguaré",493,49,9.9391480730223122E-2]
["Sul","Jerônimo Monteiro",164,19,0.11585365853658537]
["Metropolitana","João Neiva",192,10,5.2083333333333336E-2]
["Metropolitana","Laranja da Terra",104,16,0.15384615384615385]
["Central","Linhares",2615,226,8.6424474187380501E-2]
["Central","Mantenópolis",163,29,0.17791411042944785]
["Sul","Marataízes",547,60,0.10968921389396709]
["Metropolitana","Marechal Floriano",237,28,0.11814345991561181]
["Central","Marilândia",164,17,0.10365853658536585]
["Sul","Mimoso do Sul",263,32,0.12167300380228137]
["Norte","Montanha",254,30,0.11811023622047244]
["Norte","Mucurici",80,4,0.05]
["Sul","Muniz Freire",229,29,0.12663755458515283]
["Sul","Muqui",172,20,0.11627906976744186]
["Norte","Nova Venécia",697,36,5.1649928263988523E-2]
["Central","Pancas",217,29,0.13364055299539171]
["Norte","Pedro Canário",335,33,9.8507462686567168E-2]
["Norte","Pinheiros",325,32,9.8461538461538461E-2]
["Sul","Piúma",313,16,5.1118210862619806E-2]
["Norte","Ponto Belo",89,15,0.16853932584269662]
["Sul","Presidente Kennedy",199,13,6.5326633165829151E-2]
["Central","Rio Bananal",307,36,0.11726384364820847]
["Sul","Rio Novo do Sul",130,14,0.1076923076923077]
["Metropolitana","Santa Leopoldina",108,18,0.16666666666666666]
["Metropolitana","Santa Maria de Jetibá",630,98,0.15555555555555556]
["Metropolitana","Santa Teresa",288,35,0.12152777777777778]
["Central","São Domingos do Norte",117,13,0.1111111111111111]
["Central","São Gabriel da Palha",440,72,0.16363636363636364]
["Sul","São José do Calçado",116,11,{"$f":"D68/C68","v":9.4827586206896547E-2}]
["Norte","São Mateus",1923,123,6.3962558502340089E-2]
["Central","São Roque do Canaã",113,12,0.10619469026548672]
["Metropolitana","Serra",7418,457,6.1606902129954164E-2]
["Central","Sooretama",424,48,0.11320754716981132]
["Sul","Vargem Alta",266,33,0.12406015037593984]
["Metropolitana","Venda Nova do Imigrante",412,38,9.2233009708737865E-2]
["Metropolitana","Viana",1007,86,8.5402184707050646E-2]
["Norte","Vila Pavão",95,18,0.18947368421052632]
["Central","Vila Valério",248,30,0.12096774193548387]
["Metropolitana","Vila Velha",5791,446,7.7016059402521153E-2]
["Metropolitana","Vitória",3698,455,0.12303948080043267]
[]
[null,"Total Norte",{"$f":"SUMIF($A$2:$A$79,\"Norte\",C$2:C$79)","v":5859},{"$f":"SUMIF($A$2:$A$79,\"Norte\",D$2:D$79)","v":512},{"$f":"D2/C2","v":9.8280098280098274E-2},null,null,null,null,null," "]
[null,"Total Central",{"$f":"SUMIF($A$2:$A$79,\"CENTRAL\",C$2:C$79)","v":7156},{"$f":"SUMIF($A$2:$A$79,\"CENTRAL\",D$2:D$79)","v":705},{"$f":"D3/C3","v":0.12738853503184713}]
[null,"Total Metropolitana",{"$f":"SUMIF($A$2:$A$79,\"METROPOLITANA\",C$2:C$79)","v":30242},{"$f":"SUMIF($A$2:$A$79,\"METROPOLITANA\",D$2:D$79)","v":2443},0.11874999999999999,null,null,null,null," "]
[null,"Total Sul",{"$f":"SUMIF($A$2:$A$79,\"SUL\",C$2:C$79)","v":8554},{"$f":"SUMIF($A$2:$A$79,\"SUL\",D$2:D$79)","v":792},0.12784090909090909]
[null,"TOTAL ES",{"$f":"SUM(C2:C79)","v":51811},{"$f":"SUM(D2:D79)","v":4452},0.1032258064516129]
[null,"HOMOGENEIDADE ENTRE MUNICÍPIOS",null,null,{"$f":"COUNTIF(F2:F79,\">=0,95\")/78","v":0}]
[]
[]
[" Fonte: Vacina e Confia, em 22 de Dezembro de 2025.**<https://vacinaeconfia.saude.es.gov.br/>"]
["**Dados referente às doses aplicadas no mês de dezembro desde o início da vacinação em 08/12/2025.",null,null,null,null," ",null," ",null," "]
["Cobertura Calculada por município deresidência da vacinação"]
["1 População - Fonte: MS/SVSA/Cgiae – Sinasc, 2023."]
["Método de Cálculo Simples"]
["Homogeineidade: O cálculo da Homogeineidade entre vacinas é feito de acordo com a pactuação estabelecida no Plano Plurianual (PPA) vigente no período 2024-2027."]
[]
["Observações:"]
["1. Imunobiológicos que foram recebidos parcialmente pelo estado no mês de Novembro/2025, sendo distribuídos em quantidades reduzidas às regionais e municípios:",null,null,null,null,null,null,null,null,null,null,null,null,null," "]
["SORO ANTIRRÁBICO HUMANO; IMUNOGLOBULINA ANTIRRÁBICA HUMANA.\n"]
["2. Imunobiológicos indisponíveis no mês de Novembro/2025, não sendo possível a distribuição às regionais e municípios: "]
["IMUNOGLOBULINA HUMANA ANTI-HEPATITE B - 100 UI, VACINA TETRA VIRAL, IMUNOGLOBULINA HUMANA ANTIVARICELA (ZOSTER) – 125UI"]
["3. Imunobiológicos distribuídos através de pautas: VACINA COVID-19 PFIZER PEDIÁTRICA MENOR QUE 5 ANOS,VACINA COVID-19 PFIZER ADULTO E ADOLESCENTE A PARTIR\nDE 12 ANOS, VACINA COVID-19 PFIZER PEDIÁTRICA, VACINA CONTRA DENGUE 1,2,3 E 4 (ATENUADA)."]

{"sheet":"COVID-19 gestantes -Procedência","index":9,"n_rows":105,"n_cols":17,"rows_kept":105,"cut":false,"hidden":false,"merged":[[85,1,85,3],[104,0,104,11]]}
["REGIONAL","MUNICÍPIO","¹POPULAÇÃO GESTANTE ANUAL","²POPULAÇÃO PROPORCIONAL","DOSES APLICADAS COVID 19 GESTANTES","COBERTURA VACINAL COVID GESTANTES"]
["Metropolitana","Afonso Cláudio",359,332,1,{"$f":"E2/D2","v":3.0120481927710845E-3}]
["Norte","Água Doce do Norte",145,139,1,{"$f":"E3/D3","v":7.1942446043165471E-3}]
["Central","Águia Branca",165,153,1,6.5359477124183009E-3]
["Sul","Alegre",322,292,31,0.10616438356164383]
["Sul","Alfredo Chaves",119,104,8,7.6923076923076927E-2]
["Central","Alto Rio Novo",99,92,0,0]
["Sul","Anchieta",334,308,49,0.15909090909090909]
["Sul","Apiacá",64,57,0,0]
["Metropolitana","Aracruz",1420,1316,178,0.13525835866261399]
["Sul","Atilio Vivacqua",148,131,0,0,null,null," "]
["Central","Baixo Guandu",354,324,0,0]
["Norte","Barra de São Francisco",622,570,0,0]
["Norte","Boa Esperança",209,191,5,2.6178010471204188E-2]
["Sul","Bom Jesus do Norte",72,67,3,4.4776119402985072E-2]
["Metropolitana","Brejetuba",227,213,0,0]
["Sul","Cachoeiro de Itapemirim",2386,2179,115,5.2776502983019731E-2]
["Metropolitana","Cariacica",4738,4375,993,0.22697142857142857]
["Sul","Castelo",383,342,0,0]
["Central","Colatina",1485,1358,180,0.13254786450662739]
["Norte","Conceição da Barra",343,327,55,0.16819571865443425]
["Metropolitana","Conceição do Castelo",187,171,34,0.19883040935672514]
["Sul","Divino de São Lourenço",67,62,8,0.12903225806451613]
["Metropolitana","Domingos Martins",426,382,53,0.13874345549738221]
["Sul","Dores do Rio Preto",102,99,13,0.13131313131313133]
["Norte","Ecoporanga",250,233,52,0.22317596566523606]
["Metropolitana","Fundão",231,213,9,4.2253521126760563E-2]
["Central","Governador Lindenberg",141,130,10,7.6923076923076927E-2]
["Sul","Guaçuí",387,354,1,2.8248587570621469E-3]
["Metropolitana","Guarapari",1643,1526,80,5.242463958060288E-2]
["Metropolitana","Ibatiba",410,375,25,6.6666666666666666E-2]
["Metropolitana","Ibiraçu",130,123,2,1.6260162601626018E-2]
["Sul","Ibitirama",139,130,30,0.23076923076923078]
["Sul","Iconha",140,132,14,0.10606060606060606]
["Sul","Irupi",194,179,7,3.9106145251396648E-2]
["Metropolitana","Itaguaçu",121,119,2,1.680672268907563E-2]
["Sul","Itapemirim",537,494,28,5.6680161943319839E-2]
["Metropolitana","Itarana",131,126,0,0]
["Sul","Iúna",387,358,2,5.5865921787709499E-3]
["Norte","Jaguaré",444,415,20,4.8192771084337352E-2]
["Sul","Jerônimo Monteiro",114,111,15,0.13513513513513514]
["Metropolitana","João Neiva",143,132,0,0]
["Metropolitana","Laranja da Terra",120,114,0,0]
["Central","Linhares",2668,2438,46,1.8867924528301886E-2]
["Central","Mantenópolis",132,121,1,8.2644628099173556E-3]
["Sul","Marataízes",570,532,9,1.6917293233082706E-2]
["Metropolitana","Marechal Floriano",207,190,22,0.11578947368421053]
["Central","Marilândia",166,159,2,1.2578616352201259E-2]
["Sul","Mimoso do Sul",279,256,19,7.421875E-2]
["Norte","Montanha",217,205,32,0.15609756097560976]
["Norte","Mucurici",53,46,9,0.19565217391304349]
["Sul","Muniz Freire",248,226,6,2.6548672566371681E-2]
["Sul","Muqui",154,143,4,2.7972027972027972E-2]
["Norte","Nova Venécia",690,628,26,4.1401273885350316E-2]
["Central","Pancas",218,201,9,4.4776119402985072E-2]
["Norte","Pedro Canário",320,297,32,0.10774410774410774]
["Norte","Pinheiros",304,286,18,6.2937062937062943E-2]
["Sul","Piúma",310,281,33,0.11743772241992882]
["Norte","Ponto Belo",68,65,0,0]
["Sul","Presidente Kennedy",199,183,0,0]
["Central","Rio Bananal",296,265,12,4.5283018867924525E-2]
["Sul","Rio Novo do Sul",97,88,4,4.5454545454545456E-2]
["Metropolitana","Santa Leopoldina",96,89,3,3.3707865168539325E-2]
["Metropolitana","Santa Maria de Jetibá",721,667,9,1.3493253373313344E-2]
["Metropolitana","Santa Teresa",283,262,15,5.7251908396946563E-2]
["Central","São Domingos do Norte",111,101,4,3.9603960396039604E-2]
["Central","São Gabriel da Palha",401,376,1,{"$f":"E67/D67","v":2.6595744680851063E-3}]
["Sul","São José do Calçado",94,84,1,1.1904761904761904E-2]
["Norte","São Mateus",1670,1562,252,0.16133162612035851]
["Central","São Roque do Canaã",131,121,14,0.11570247933884298]
["Metropolitana","Serra",7550,7009,1282,0.18290769011271224]
["Central","Sooretama",428,391,41,0.10485933503836317]
["Sul","Vargem Alta",270,252,14,5.5555555555555552E-2]
["Metropolitana","Venda Nova do Imigrante",352,323,29,8.9783281733746126E-2]
["Metropolitana","Viana",863,803,161,0.20049813200498132]
["Norte","Vila Pavão",95,91,1,1.098901098901099E-2]
["Central","Vila Valério",254,236,0,0]
["Metropolitana","Vila Velha",5551,5140,914,0.17782101167315176]
["Metropolitana","Vitória",3544,3269,676,0.20679106760477209]
[]
[null,"Total Norte",{"$f":"SUMIF($A$2:$A$79,\"Norte\",C$2:C$79)","v":5430},{"$f":"SUMIF($A$2:$A$79,\"Norte\",D$2:D$79)","v":5055},{"$f":"SUMIF($A$2:$A$79,\"Norte\",E$2:E$79)","v":503},{"$f":"E81/D81","v":9.9505440158259142E-2},null,null,null,null,null," "]
[null,"Total Central",{"$f":"SUMIF($A$2:$A$79,\"CENTRAL\",C$2:C$79)","v":7049},{"$f":"SUMIF($A$2:$A$79,\"CENTRAL\",D$2:D$79)","v":6466},{"$f":"SUMIF($A$2:$A$79,\"cENTRAL\",E$2:E$79)","v":321},4.9644293226105786E-2,null,null,null,null,null,null,null,null,null,null," "]
[null,"Total Metropolitana",{"$f":"SUMIF($A$2:$A$79,\"METROPOLITANA\",C$2:C$79)","v":29453},{"$f":"SUMIF($A$2:$A$79,\"METROPOLITANA\",D$2:D$79)","v":27269},{"$f":"SUMIF($A$2:$A$79,\"Metropolitana\",E$2:E$79)","v":4488},0.1645824929407019]
[null,"Total Sul",{"$f":"SUMIF($A$2:$A$79,\"SUL\",C$2:C$79)","v":8116},{"$f":"SUMIF($A$2:$A$79,\"SUL\",D$2:D$79)","v":7444},{"$f":"SUMIF($A$2:$A$79,\"sul\",E$2:E$79)","v":414},5.5615260612573887E-2]
[null,"TOTAL ES",{"$f":"SUM(C2:C79)","v":50048},{"$f":"SUM(D2:D79)","v":46234},{"$f":"SUM(E2:E79)","v":5726},{"$f":"E85/D85","v":0.12384825020547649}]
[null,"HOMOGENEIDADE ENTRE MUNICÍPIOS",null,null,null,{"$f":"COUNTIF(F2:F79,\">=0,90\")/78","v":0}]
[]
[]
[]
[" Fonte: Vacina e Confia, em 22 de Dezembro de 2025.**<https://vacinaeconfia.saude.es.gov.br/>"]
["**Dados referente às doses aplicadas no período de Janeiro a Novembro 2025",null,null,null,null," ",null," ",null," "]
["Cobertura Calculada por município de procedência/ocorrência da vacinação"]
["1 População anual extraída do MS/SVS/DASIS - SINASC/DASIS/SVS/MS 2024 (hoje preliminares) referente ao período de Outubro a Dezembro de 2024 e SINASC/DASIS/SVS/MS 2025 referente ao período de Janeiro e Setembro de 2025."]
["² População proporcional extraída do MS/SVS/DASIS - SINASC/DASIS/SVS/MS 2024 (hoje preliminares) referente ao período de Outubro e Novembro 2024 e SINASC/DASIS/SVS/MS 2024 (hoje preliminares) referente ao período de Janeiro a Setembro/ 2025."]
["Sinasc, atualizado em 11/12/2025"]
["Método de Cálculo Simples"]
["Homogeineidade: O cálculo da Homogeineidade entre vacinas é feito de acordo com a pactuação estabelecida no Plano Plurianual (PPA) vigente no período 2024-2027."]
[]
[]
["Observações:"]
["1. Imunobiológicos que foram recebidos parcialmente pelo estado no mês de Novembro/2025, sendo distribuídos em quantidades reduzidas às regionais e municípios:",null,null,null,null,null,null,null,null,null,null,null,null,null," "]
["SORO ANTIRRÁBICO HUMANO; IMUNOGLOBULINA ANTIRRÁBICA HUMANA.\n"]
["2. Imunobiológicos indisponíveis no mês de Novembro/2025, não sendo possível a distribuição às regionais e municípios: "]
["IMUNOGLOBULINA HUMANA ANTI-HEPATITE B - 100 UI, VACINA TETRA VIRAL, IMUNOGLOBULINA HUMANA ANTIVARICELA (ZOSTER) – 125UI"]
["3. Imunobiológicos distribuídos através de pautas: VACINA COVID-19 PFIZER PEDIÁTRICA MENOR QUE 5 ANOS,VACINA COVID-19 PFIZER ADULTO E ADOLESCENTE A PARTIR\nDE 12 ANOS, VACINA COVID-19 PFIZER PEDIÁTRICA, VACINA CONTRA DENGUE 1,2,3 E 4 (ATENUADA)."]

{"sheet":"COVID-19 gestantes -Residência","index":10,"n_rows":104,"n_cols":15,"rows_kept":104,"cut":false,"hidden":false,"merged":[[85,1,85,3],[103,0,103,11]]}
["REGIONAL","MUNICÍPIO","¹POPULAÇÃO GESTANTE ANUAL","²POPULAÇÃO PROPORCIONAL","DOSES APLICADAS COVID GESTANTES","COBERTURA VACINAL COVID GESTANTES"]
["Metropolitana","Afonso Cláudio",359,332,7,{"$f":"E2/D2","v":2.1084337349397589E-2}]
["Norte","Água Doce do Norte",145,139,1,{"$f":"E3/D3","v":7.1942446043165471E-3}]
["Central","Águia Branca",165,153,2,1.3071895424836602E-2]
["Sul","Alegre",322,292,33,0.11301369863013698]
["Sul","Alfredo Chaves",119,104,7,6.7307692307692304E-2]
["Central","Alto Rio Novo",99,92,2,2.1739130434782608E-2]
["Sul","Anchieta",334,308,55,0.17857142857142858]
["Sul","Apiacá",64,57,1,1.7543859649122806E-2]
["Metropolitana","Aracruz",1420,1316,164,0.12462006079027356]
["Sul","Atilio Vivacqua",148,131,0,0]
["Central","Baixo Guandu",354,324,7,2.1604938271604937E-2]
["Norte","Barra de São Francisco",622,570,12,2.1052631578947368E-2]
["Norte","Boa Esperança",209,191,11,5.7591623036649213E-2]
["Sul","Bom Jesus do Norte",72,67,3,4.4776119402985072E-2]
["Metropolitana","Brejetuba",227,213,5,2.3474178403755867E-2]
["Sul","Cachoeiro de Itapemirim",2386,2179,117,5.3694355208811384E-2]
["Metropolitana","Cariacica",4738,4375,1025,0.23428571428571429]
["Sul","Castelo",383,342,4,1.1695906432748537E-2]
["Central","Colatina",1485,1358,173,0.12739322533136965]
["Norte","Conceição da Barra",343,327,61,0.18654434250764526]
["Metropolitana","Conceição do Castelo",187,171,29,0.16959064327485379]
["Sul","Divino de São Lourenço",67,62,8,0.12903225806451613]
["Metropolitana","Domingos Martins",426,382,43,0.112565445026178]
["Sul","Dores do Rio Preto",102,99,11,0.1111111111111111]
["Norte","Ecoporanga",250,233,46,0.19742489270386265]
["Metropolitana","Fundão",231,213,13,6.1032863849765258E-2]
["Central","Governador Lindenberg",141,130,9,6.9230769230769235E-2]
["Sul","Guaçuí",387,354,6,1.6949152542372881E-2]
["Metropolitana","Guarapari",1643,1526,92,6.0288335517693317E-2]
["Metropolitana","Ibatiba",410,375,19,5.0666666666666665E-2]
["Metropolitana","Ibiraçu",130,123,7,5.6910569105691054E-2]
["Sul","Ibitirama",139,130,29,0.22307692307692309]
["Sul","Iconha",140,132,11,8.3333333333333329E-2]
["Sul","Irupi",194,179,8,4.4692737430167599E-2]
["Metropolitana","Itaguaçu",121,119,5,4.2016806722689079E-2]
["Sul","Itapemirim",537,494,31,6.2753036437246959E-2]
["Metropolitana","Itarana",131,126,2,1.5873015873015872E-2]
["Sul","Iúna",387,358,7,1.9553072625698324E-2]
["Norte","Jaguaré",444,415,23,5.5421686746987948E-2]
["Sul","Jerônimo Monteiro",114,111,8,7.2072072072072071E-2]
["Metropolitana","João Neiva",143,132,3,2.2727272727272728E-2]
["Metropolitana","Laranja da Terra",120,114,0,0]
["Central","Linhares",2668,2438,88,3.6095159967186222E-2]
["Central","Mantenópolis",132,121,3,2.4793388429752067E-2]
["Sul","Marataízes",570,532,11,2.0676691729323307E-2]
["Metropolitana","Marechal Floriano",207,190,32,0.16842105263157894]
["Central","Marilândia",166,159,3,1.8867924528301886E-2]
["Sul","Mimoso do Sul",279,256,18,7.03125E-2]
["Norte","Montanha",217,205,36,0.17560975609756097]
["Norte","Mucurici",53,46,6,0.13043478260869565]
["Sul","Muniz Freire",248,226,8,3.5398230088495575E-2]
["Sul","Muqui",154,143,4,2.7972027972027972E-2]
["Norte","Nova Venécia",690,628,38,6.0509554140127389E-2]
["Central","Pancas",218,201,6,2.9850746268656716E-2]
["Norte","Pedro Canário",320,297,37,0.12457912457912458]
["Norte","Pinheiros",304,286,22,7.6923076923076927E-2]
["Sul","Piúma",310,281,32,0.11387900355871886]
["Norte","Ponto Belo",68,65,4,6.1538461538461542E-2]
["Sul","Presidente Kennedy",199,183,1,5.4644808743169399E-3]
["Central","Rio Bananal",296,265,15,5.6603773584905662E-2]
["Sul","Rio Novo do Sul",97,88,5,5.6818181818181816E-2]
["Metropolitana","Santa Leopoldina",96,89,5,5.6179775280898875E-2]
["Metropolitana","Santa Maria de Jetibá",721,667,14,2.0989505247376312E-2]
["Metropolitana","Santa Teresa",283,262,19,7.2519083969465645E-2]
["Central","São Domingos do Norte",111,101,7,6.9306930693069313E-2]
["Central","São Gabriel da Palha",401,376,5,{"$f":"E67/D67","v":1.3297872340425532E-2}]
["Sul","São José do Calçado",94,84,0,0]
["Norte","São Mateus",1670,1562,205,0.13124199743918052]
["Central","São Roque do Canaã",131,121,17,0.14049586776859505]
["Metropolitana","Serra",7550,7009,1191,0.16992438293622486]
["Central","Sooretama",428,391,42,0.10741687979539642]
["Sul","Vargem Alta",270,252,15,5.9523809523809521E-2]
["Metropolitana","Venda Nova do Imigrante",352,323,34,0.10526315789473684]
["Metropolitana","Viana",863,803,162,0.20174346201743462]
["Norte","Vila Pavão",95,91,2,2.197802197802198E-2]
["Central","Vila Valério",254,236,8,3.3898305084745763E-2]
["Metropolitana","Vila Velha",5551,5140,794,0.15447470817120623]
["Metropolitana","Vitória",3544,3269,605,0.18507188742734781]
[]
[null,"Total Norte",{"$f":"SUMIF($A$2:$A$79,\"Norte\",C$2:C$79)","v":5430},{"$f":"SUMIF($A$2:$A$79,\"Norte\",D$2:D$79)","v":5055},{"$f":"SUMIF($A$2:$A$79,\"Norte\",E$2:E$79)","v":504},{"$f":"E81/D81","v":9.9703264094955488E-2}]
[null,"Total Central",{"$f":"SUMIF($A$2:$A$79,\"CENTRAL\",C$2:C$79)","v":7049},{"$f":"SUMIF($A$2:$A$79,\"CENTRAL\",D$2:D$79)","v":6466},{"$f":"SUMIF($A$2:$A$79,\"CENTRAL\",E$2:E$79)","v":387},5.9851531085678936E-2,null,null,null,null,null,null," "]
[null,"Total Metropolitana",{"$f":"SUMIF($A$2:$A$79,\"METROPOLITANA\",C$2:C$79)","v":29453},{"$f":"SUMIF($A$2:$A$79,\"METROPOLITANA\",D$2:D$79)","v":27269},{"$f":"SUMIF($A$2:$A$79,\"METROPOLITANA\",E$2:E$79)","v":4270},0.15658806703582823]
[null,"Total Sul",{"$f":"SUMIF($A$2:$A$79,\"SUL\",C$2:C$79)","v":8116},{"$f":"SUMIF($A$2:$A$79,\"SUL\",D$2:D$79)","v":7444},{"$f":"SUMIF($A$2:$A$79,\"SUL\",E$2:E$79)","v":433},5.8167651800107467E-2]
[null,"TOTAL ES",{"$f":"SUM(C2:C79)","v":50048},{"$f":"SUM(D2:D79)","v":46234},{"$f":"SUM(E2:E79)","v":5594},{"$f":"E85/D85","v":0.12099320846130553},null,null,null,null," "]
[null,"HOMOGENEIDADE ENTRE MUNICÍPIOS",null,null,{"$f":"COUNTIF(F2:F79,\">=0,95\")","v":0},{"$f":"COUNTIF(F2:F79,\">=0,90\")/78","v":0}]
[]
[]
[" Fonte: Vacina e Confia, em 22 de Dezembro de 2025.**<https://vacinaeconfia.saude.es.gov.br/>"]
["**Dados referente às doses aplicadas no período de Janeiro a Novembro 2025",null,null,null,null,null,null," ",null," ",null," "]
["Cobertura Calculada por município de residência da vacinação"]
["1 População anual extraída do MS/SVS/DASIS - SINASC/DASIS/SVS/MS 2024 (hoje preliminares) referente ao período de Outubro a Dezembro de 2024 e SINASC/DASIS/SVS/MS 2025 referente ao período de Janeiro e Setembro de 2025."]
["² População proporcional extraída do MS/SVS/DASIS - SINASC/DASIS/SVS/MS 2024 (hoje preliminares) referente ao período de Outubro e Novembro 2024 e SINASC/DASIS/SVS/MS 2024 (hoje preliminares) referente ao período de Janeiro a Setembro/ 2025."]
["Sinasc, atualizado em 11/12/2025"]
["Método de Cálculo Simples"]
["Homogeineidade: O cálculo da Homogeineidade entre vacinas é feito de acordo com a pactuação estabelecida no Plano Plurianual (PPA) vigente no período 2024-2027."]
[]
[]
["Observações:"]
["1. Imunobiológicos que foram recebidos parcialmente pelo estado no mês de Novembro/2025, sendo distribuídos em quantidades reduzidas às regionais e municípios:",null,null,null,null,null,null,null,null,null,null,null,null,null," "]
["SORO ANTIRRÁBICO HUMANO; IMUNOGLOBULINA ANTIRRÁBICA HUMANA.\n"]
["2. Imunobiológicos indisponíveis no mês de Novembro/2025, não sendo possível a distribuição às regionais e municípios: "]
["IMUNOGLOBULINA HUMANA ANTI-HEPATITE B - 100 UI, VACINA TETRA VIRAL, IMUNOGLOBULINA HUMANA ANTIVARICELA (ZOSTER) – 125UI"]
["3. Imunobiológicos distribuídos através de pautas: VACINA COVID-19 PFIZER PEDIÁTRICA MENOR QUE 5 ANOS,VACINA COVID-19 PFIZER ADULTO E ADOLESCENTE A PARTIR\nDE 12 ANOS, VACINA COVID-19 PFIZER PEDIÁTRICA, VACINA CONTRA DENGUE 1,2,3 E 4 (ATENUADA)."]

{"sheet":"COVID-19 idoso -Procêdencia","index":11,"n_rows":106,"n_cols":15,"rows_kept":106,"cut":false,"hidden":false,"merged":[[85,1,85,3],[105,0,105,11]]}
["Regional ","Município","População  60 anos +","TOTAL DE DOSES APLICADAS COVID-19","COBERTURA COVID-19"]
["Metropolitana","Afonso Cláudio",5905,9,{"$f":"(D2/C2)","v":1.5241320914479255E-3}]
["Norte","Água Doce do Norte",2357,5,{"$f":"(D3/C3)","v":2.1213406873143827E-3}]
["Central","Águia Branca",1775,20,1.1267605633802818E-2]
["Sul","Alegre",5949,217,3.6476718776264919E-2]
["Sul","Alfredo Chaves",3040,62,2.0394736842105264E-2]
["Central","Alto Rio Novo",1417,4,2.8228652081863093E-3]
["Sul","Anchieta",5080,331,6.5157480314960631E-2]
["Sul","Apiacá",1536,7,4.557291666666667E-3]
["Metropolitana","Aracruz",13047,883,6.7678393500421555E-2]
["Sul","Atilio Vivacqua",1843,27,1.4650027129679871E-2]
["Central","Baixo Guandu",5706,39,6.8349106203995794E-3]
["Norte","Barra de São Francisco",7226,146,2.0204815942430114E-2]
["Norte","Boa Esperança",2317,30,1.294777729823047E-2,null,null," "]
["Sul","Bom Jesus do Norte",1991,106,5.3239578101456554E-2]
["Metropolitana","Brejetuba",1637,4,2.4434941967012829E-3]
["Sul","Cachoeiro de Itapemirim",32906,1245,3.7835045280495957E-2]
["Metropolitana","Cariacica",54005,4605,8.5269882418294599E-2]
["Sul","Castelo",7171,182,2.5380002789011296E-2]
["Central","Colatina",21491,1365,6.3514959750593278E-2]
["Norte","Conceição da Barra",4468,91,2.0367054610564012E-2]
["Metropolitana","Conceição do Castelo",2176,51,2.34375E-2]
["Sul","Divino de São Lourenço",847,14,1.6528925619834711E-2]
["Metropolitana","Domingos Martins",6358,359,5.6464296948726012E-2]
["Sul","Dores do Rio Preto",1145,44,3.8427947598253277E-2]
["Norte","Ecoporanga",4274,113,2.6438933083762283E-2]
["Metropolitana","Fundão",3432,185,5.3904428904428904E-2]
["Central","Governador Lindenberg",1987,33,1.660795168595873E-2]
["Sul","Guaçuí",5504,189,3.4338662790697673E-2]
["Metropolitana","Guarapari",21755,944,4.3392323603769246E-2]
["Metropolitana","Ibatiba",3852,154,3.9979231568016617E-2]
["Metropolitana","Ibiraçu",2121,44,2.0744931636020744E-2]
["Sul","Ibitirama",1400,40,2.8571428571428571E-2]
["Sul","Iconha",2560,118,4.6093750000000003E-2]
["Sul","Irupi",2006,42,2.0937188434695914E-2]
["Metropolitana","Itaguaçu",3214,145,4.5115121344119477E-2]
["Sul","Itapemirim",6549,120,1.8323408153916629E-2]
["Metropolitana","Itarana",2389,25,1.0464629552113856E-2]
["Sul","Iúna",4417,9,2.0375820692777906E-3]
["Norte","Jaguaré",3734,117,3.1333690412426354E-2]
["Sul","Jerônimo Monteiro",2356,116,4.9235993208828523E-2]
["Metropolitana","João Neiva",3012,44,1.4608233731739707E-2]
["Metropolitana","Laranja da Terra",2471,12,4.8563334682314848E-3]
["Central","Linhares",21740,441,2.0285188592456302E-2]
["Central","Mantenópolis",2524,0,0]
["Sul","Marataízes",7611,241,3.1664695834975692E-2]
["Metropolitana","Marechal Floriano",2879,140,4.8627995831886074E-2]
["Central","Marilândia",2476,38,1.5347334410339256E-2]
["Sul","Mimoso do Sul",5077,34,6.6968682292692537E-3]
["Norte","Montanha",3304,285,8.6259079903147698E-2]
["Norte","Mucurici",1090,11,1.0091743119266056E-2]
["Sul","Muniz Freire",3309,97,2.9313992142641281E-2]
["Sul","Muqui",2780,75,2.6978417266187049E-2]
["Norte","Nova Venécia",8352,170,2.0354406130268198E-2]
["Central","Pancas",3687,56,1.5188500135611608E-2]
["Norte","Pedro Canário",3253,81,2.4900092222563789E-2]
["Norte","Pinheiros",3762,180,4.784688995215311E-2]
["Sul","Piúma",3886,155,3.9886773031394748E-2]
["Norte","Ponto Belo",1330,30,2.2556390977443608E-2]
["Sul","Presidente Kennedy",2214,8,3.6133694670280035E-3]
["Central","Rio Bananal",3071,36,1.1722565939433409E-2]
["Sul","Rio Novo do Sul",2232,20,8.9605734767025085E-3]
["Metropolitana","Santa Leopoldina",2634,15,5.6947608200455585E-3]
["Metropolitana","Santa Maria de Jetibá",5552,78,1.4048991354466859E-2]
["Metropolitana","Santa Teresa",4767,101,2.118732955737361E-2]
["Central","São Domingos do Norte",1520,18,1.1842105263157895E-2]
["Central","São Gabriel da Palha",5456,21,{"$f":"(D67/C67)","v":3.8489736070381232E-3}]
["Sul","São José do Calçado",2456,44,1.7915309446254073E-2]
["Norte","São Mateus",17649,1372,7.7738115473964531E-2]
["Central","São Roque do Canaã",2370,13,5.4852320675105488E-3]
["Metropolitana","Serra",66481,5146,7.740557452505227E-2]
["Central","Sooretama",3097,79,2.5508556667742977E-2]
["Sul","Vargem Alta",3365,70,2.0802377414561663E-2]
["Metropolitana","Venda Nova do Imigrante",3766,147,3.9033457249070633E-2]
["Metropolitana","Viana",9758,591,6.0565689690510349E-2]
["Norte","Vila Pavão",1510,136,9.006622516556291E-2]
["Central","Vila Valério",2160,18,8.3333333333333332E-3]
["Metropolitana","Vila Velha",81049,5491,6.7749139409493023E-2]
["Metropolitana","Vitória",64805,4578,7.0642697322737438E-2]
[]
[null,"Total Norte",{"$f":"SUMIF($A$2:$A$79,\"Norte\",C$2:C$79)","v":64626},{"$f":"SUMIF($A$2:$A$79,\"Norte\",D$2:D$79)","v":2767},{"$f":"D81/C81","v":4.2815585058645127E-2}]
[null,"Total Central",{"$f":"SUMIF($A$2:$A$79,\"Central\",C$2:C$79)","v":80477},{"$f":"SUMIF($A$2:$A$79,\"Central\",D$2:D$79)","v":2181},{"$f":"D82/C82","v":2.7100910819240279E-2},null," "]
[null,"Total Metropolitana",{"$f":"SUMIF($A$2:$A$79,\"Metropolitana\",C$2:C$79)","v":367065},{"$f":"SUMIF($A$2:$A$79,\"Metropolitana\",D$2:D$79)","v":23751},6.4705161211229614E-2]
[null,"Total Sul",{"$f":"SUMIF($A$2:$A$79,\"sul\",C$2:C$79)","v":119230},{"$f":"SUMIF($A$2:$A$79,\"sul\",D$2:D$79)","v":3613},3.0302776146942885E-2]
[null,"Total Espírito Santo",{"$f":"SUM(C2:C79)","v":631398},{"$f":"SUM(D2:D79)","v":32312},5.1175328398252763E-2]
[null,"HOMOGENEIDADE ENTRE MUNICÍPIOS",null,null,{"$f":"COUNTIF(E2:E79,\">=0,90\")/78","v":0},null,null,null," "]
[]
[]
[]
["Cobertura Vacinal Covid19 dos Idosos de  Novembro de 2025"]
["Vacina Covid-19-Recombinante, Serum/Zalika>,  Vacina Covid-19-RNAm, Moderna (Spikevax), Vacina Covid-19-RNAm, Pfizer (Comirnaty)"]
["Período analisado: últimos 6 meses"]
["Fonte: Vacina e Confia, em 22 de Dezembro de 2025.**<https://vacinaeconfia.saude.es.gov.br/>"]
["Faixa Etária: 60+"]
["Cobertura Calculada por município de procedência da vacinação"]
["Método de Cálculo Simples"]
["Homogeineidade: O cálculo da Homogeineidade entre vacinas é feito de acordo com a pactuação estabelecida no Plano Plurianual (PPA) vigente no período 2024-2027."]
[]
[]
[]
["Observações:"]
["1. Imunobiológicos que foram recebidos parcialmente pelo estado no mês de Novembro/2025, sendo distribuídos em quantidades reduzidas às regionais e municípios:",null,null,null,null,null,null,null,null,null,null,null,null,null," "]
["SORO ANTIRRÁBICO HUMANO; IMUNOGLOBULINA ANTIRRÁBICA HUMANA.\n"]
["2. Imunobiológicos indisponíveis no mês de Novembro/2025, não sendo possível a distribuição às regionais e municípios: "]
["IMUNOGLOBULINA HUMANA ANTI-HEPATITE B - 100 UI, VACINA TETRA VIRAL, IMUNOGLOBULINA HUMANA ANTIVARICELA (ZOSTER) – 125UI"]
["3. Imunobiológicos distribuídos através de pautas: VACINA COVID-19 PFIZER PEDIÁTRICA MENOR QUE 5 ANOS,VACINA COVID-19 PFIZER ADULTO E ADOLESCENTE A PARTIR\nDE 12 ANOS, VACINA COVID-19 PFIZER PEDIÁTRICA, VACINA CONTRA DENGUE 1,2,3 E 4 (ATENUADA)."]

{"sheet":"COVID-19 idoso -Residência","index":12,"n_rows":106,"n_cols":16,"rows_kept":106,"cut":false,"hidden":false,"merged":[[85,1,85,3],[105,0,105,11]]}
["Regional ","Município","População 60 anos +","TOTAL DE DOSES APLICADAS COVID-19","COBERTURA COVID-19"]
["Metropolitana","Afonso Cláudio",5905,22,{"$f":"(D2/C2)","v":3.7256562235393736E-3}]
["Norte","Água Doce do Norte",2357,12,{"$f":"(D3/C3)","v":5.0912176495545181E-3}]
["Central","Águia Branca",1775,18,1.0140845070422535E-2]
["Sul","Alegre",5949,214,3.5972432341570014E-2]
["Sul","Alfredo Chaves",3040,64,2.1052631578947368E-2]
["Central","Alto Rio Novo",1417,7,4.9400141143260412E-3,null,null,null,null," "]
["Sul","Anchieta",5080,308,6.0629921259842519E-2]
["Sul","Apiacá",1536,8,5.208333333333333E-3]
["Metropolitana","Aracruz",13047,789,6.0473672108530697E-2]
["Sul","Atilio Vivacqua",1843,37,2.0075963103635377E-2]
["Central","Baixo Guandu",5706,46,8.0616894497020676E-3]
["Norte","Barra de São Francisco",7226,164,2.2695820647661222E-2]
["Norte","Boa Esperança",2317,30,1.294777729823047E-2]
["Sul","Bom Jesus do Norte",1991,99,4.9723756906077346E-2]
["Metropolitana","Brejetuba",1637,13,7.9413561392791699E-3]
["Sul","Cachoeiro de Itapemirim",32906,1251,3.8017382848112805E-2]
["Metropolitana","Cariacica",54005,4484,8.3029349134339417E-2]
["Sul","Castelo",7171,199,2.775066239018268E-2]
["Central","Colatina",21491,1371,6.379414638685961E-2]
["Norte","Conceição da Barra",4468,95,2.1262309758281112E-2]
["Metropolitana","Conceição do Castelo",2176,50,2.297794117647059E-2]
["Sul","Divino de São Lourenço",847,12,1.4167650531286895E-2]
["Metropolitana","Domingos Martins",6358,331,5.2060396351053792E-2]
["Sul","Dores do Rio Preto",1145,37,3.2314410480349345E-2]
["Norte","Ecoporanga",4274,115,2.690687880205896E-2]
["Metropolitana","Fundão",3432,128,3.7296037296037296E-2]
["Central","Governador Lindenberg",1987,41,2.0634121791645699E-2]
["Sul","Guaçuí",5504,191,3.4702034883720929E-2]
["Metropolitana","Guarapari",21755,808,3.7140887152378767E-2]
["Metropolitana","Ibatiba",3852,129,3.348909657320872E-2]
["Metropolitana","Ibiraçu",2121,49,2.3102310231023101E-2]
["Sul","Ibitirama",1400,44,3.1428571428571431E-2]
["Sul","Iconha",2560,110,4.296875E-2]
["Sul","Irupi",2006,32,1.5952143569292122E-2]
["Metropolitana","Itaguaçu",3214,127,3.9514623522090855E-2]
["Sul","Itapemirim",6549,122,1.862879828981524E-2]
["Metropolitana","Itarana",2389,33,1.381331100879029E-2]
["Sul","Iúna",4417,31,7.0183382386235001E-3]
["Norte","Jaguaré",3734,130,3.4815211569362611E-2]
["Sul","Jerônimo Monteiro",2356,108,4.5840407470288627E-2]
["Metropolitana","João Neiva",3012,58,1.9256308100929615E-2]
["Metropolitana","Laranja da Terra",2471,24,9.7126669364629697E-3]
["Central","Linhares",21740,449,2.0653173873045078E-2]
["Central","Mantenópolis",2524,3,1.1885895404120444E-3]
["Sul","Marataízes",7611,195,2.5620811982656682E-2]
["Metropolitana","Marechal Floriano",2879,132,4.5849253212921152E-2]
["Central","Marilândia",2476,37,1.494345718901454E-2]
["Sul","Mimoso do Sul",5077,54,1.063620248178058E-2]
["Norte","Montanha",3304,287,8.6864406779661021E-2]
["Norte","Mucurici",1090,12,1.1009174311926606E-2]
["Sul","Muniz Freire",3309,88,2.6594137201571472E-2]
["Sul","Muqui",2780,57,2.050359712230216E-2]
["Norte","Nova Venécia",8352,213,2.5502873563218391E-2]
["Central","Pancas",3687,59,1.6002169785733659E-2]
["Norte","Pedro Canário",3253,91,2.7974177682139563E-2]
["Norte","Pinheiros",3762,198,5.2631578947368418E-2]
["Sul","Piúma",3886,142,3.6541430777148741E-2]
["Norte","Ponto Belo",1330,32,2.4060150375939851E-2]
["Sul","Presidente Kennedy",2214,13,5.871725383920506E-3]
["Central","Rio Bananal",3071,43,1.4001953760989906E-2]
["Sul","Rio Novo do Sul",2232,26,1.1648745519713262E-2]
["Metropolitana","Santa Leopoldina",2634,37,1.4047076689445709E-2]
["Metropolitana","Santa Maria de Jetibá",5552,75,1.350864553314121E-2]
["Metropolitana","Santa Teresa",4767,112,2.3494860499265784E-2]
["Central","São Domingos do Norte",1520,16,1.0526315789473684E-2]
["Central","São Gabriel da Palha",5456,45,{"$f":"(D67/C67)","v":8.2478005865102635E-3}]
["Sul","São José do Calçado",2456,38,1.5472312703583062E-2]
["Norte","São Mateus",17649,1153,6.5329480423820044E-2]
["Central","São Roque do Canaã",2370,15,6.3291139240506328E-3]
["Metropolitana","Serra",66481,4829,7.2637294866202379E-2]
["Central","Sooretama",3097,78,2.5185663545366485E-2]
["Sul","Vargem Alta",3365,71,2.1099554234769689E-2]
["Metropolitana","Venda Nova do Imigrante",3766,147,3.9033457249070633E-2]
["Metropolitana","Viana",9758,565,5.7901209264193482E-2]
["Norte","Vila Pavão",1510,116,7.6821192052980131E-2]
["Central","Vila Valério",2160,17,7.8703703703703696E-3]
["Metropolitana","Vila Velha",81049,5159,6.3652851978432803E-2,null,null,null,null," "]
["Metropolitana","Vitória",64805,4712,7.2710439009335701E-2]
[null,null,null,null,null,null,null,null,null," "]
[null,"Total Norte",{"$f":"SUMIF($A$2:$A$79,\"Norte\",C$2:C$79)","v":64626},{"$f":"SUMIF($A$2:$A$79,\"Norte\",D$2:D$79)","v":2648},{"$f":"D81/C81","v":4.0974220901804227E-2}]
[null,"Total Central",{"$f":"SUMIF($A$2:$A$79,\"Central\",C$2:C$79)","v":80477},{"$f":"SUMIF($A$2:$A$79,\"Central\",D$2:D$79)","v":2245},{"$f":"D82/C82","v":2.7896169091790202E-2},null,null,null,null,null,null,null,null,null,null," "]
[null,"Total Metropolitana",{"$f":"SUMIF($A$2:$A$79,\"Metropolitana\",C$2:C$79)","v":367065},{"$f":"SUMIF($A$2:$A$79,\"Metropolitana\",D$2:D$79)","v":22813},6.2149755492896357E-2]
[null,"Total Sul",{"$f":"SUMIF($A$2:$A$79,\"sul\",C$2:C$79)","v":119230},{"$f":"SUMIF($A$2:$A$79,\"Sul\",D$2:D$79)","v":3551},2.9782772792082531E-2]
[null,"Total Espírito Santo",{"$f":"SUM(C2:C79)","v":631398},{"$f":"SUM(D81:D84)","v":31257},4.9504433020060246E-2]
[null,"HOMOGENEIDADE ENTRE MUNICÍPIOS",null,null,{"$f":"COUNTIF(E2:E79,\">=0,90\")/78","v":0}]
[]
[]
[]
["Cobertura Vacinal Covid19 dos Idosos de  Novembro de 2025"]
["Vacina Covid-19-Recombinante, Serum/Zalika>,  Vacina Covid-19-RNAm, Moderna (Spikevax), Vacina Covid-19-RNAm, Pfizer (Comirnaty)"]
["Período analisado: últimos 6 meses"]
["Fonte: Vacina e Confia, em 22 de Dezembro de 2025.**<https://vacinaeconfia.saude.es.gov.br/>"]
["Faixa Etária: 60+"]
["Cobertura Calculada por município de residência do cidadão (no Vacina e Confia, a origem da informação é o endereço que consta no cadastro do cidadão preenchido manualmente por meio do autocadastro ou pelo cadastro realizado por um profissional de saúde no momento do atendimento)."]
["Método de Cálculo Simples"]
["Homogeineidade: O cálculo da Homogeineidade entre vacinas é feito de acordo com a pactuação estabelecida no Plano Plurianual (PPA) vigente no período 2024-2027."]
[]
[]
[]
["Observações:"]
["1. Imunobiológicos que foram recebidos parcialmente pelo estado no mês de Novembro/2025, sendo distribuídos em quantidades reduzidas às regionais e municípios:"]
["SORO ANTIRRÁBICO HUMANO; IMUNOGLOBULINA ANTIRRÁBICA HUMANA.\n"]
["2. Imunobiológicos indisponíveis no mês de Novembro/2025, não sendo possível a distribuição às regionais e municípios: "]
["IMUNOGLOBULINA HUMANA ANTI-HEPATITE B - 100 UI, VACINA TETRA VIRAL, IMUNOGLOBULINA HUMANA ANTIVARICELA (ZOSTER) – 125UI"]
["3. Imunobiológicos distribuídos através de pautas: VACINA COVID-19 PFIZER PEDIÁTRICA MENOR QUE 5 ANOS,VACINA COVID-19 PFIZER ADULTO E ADOLESCENTE A PARTIR\nDE 12 ANOS, VACINA COVID-19 PFIZER PEDIÁTRICA, VACINA CONTRA DENGUE 1,2,3 E 4 (ATENUADA)."]

{"sheet":"Cobert. Meningo C Adolescentes","index":13,"n_rows":98,"n_cols":9,"rows_kept":98,"cut":false,"hidden":false,"merged":[[79,0,79,1],[97,0,97,11]]}
["Regional ","Município","População 11 a 14 anos","Doses Acumuladas","Série Histórica %"]
["Metropolitana","Afonso Cláudio",1627,1233,77.352572145545793]
["Norte","Água Doce do Norte",664,566,86.920911185052461]
["Central","Águia Branca",504,484,97.62985375693394]
["Sul","Alegre",1351,1250,94.607379375591293]
["Sul","Alfredo Chaves",632,492,79.365506116413485]
["Central","Alto Rio Novo",412,442,109.31574608408903]
["Sul","Anchieta",1512,1589,107.39509997183892]
["Sul","Apiacá",364,169,47.294776119402982]
["Metropolitana","Aracruz",5398,5790,109.53289297368876]
["Sul","Atilio Vivacqua",512,563,112.22591362126246]
["Central","Baixo Guandu",1522,1336,89.629339743948108]
["Norte","Barra de São Francisco",2306,1961,86.808322266489597]
["Norte","Boa Esperança",713,546,78.270218611874327]
["Sul","Bom Jesus do Norte",521,468,91.465798045602597]
["Metropolitana","Brejetuba",753,827,112.23705044107668]
["Sul","Cachoeiro de Itapemirim",9041,8803,99.487662459973649]
["Metropolitana","Cariacica",19769,19092,98.617824935970546]
["Sul","Castelo",1588,1579,101.57062449745378]
["Central","Colatina",5562,4402,80.874517729193457]
["Norte","Conceição da Barra",1742,1443,84.60861917326298]
["Metropolitana","Conceição do Castelo",592,611,105.37510778959474]
["Sul","Divino de São Lourenço",272,234,87.859824780976197]
["Metropolitana","Domingos Martins",1722,1761,104.50521734830127]
["Sul","Dores do Rio Preto",381,365,97.964661149630956]
["Norte","Ecoporanga",1137,830,74.400537835213257]
["Metropolitana","Fundão",954,1078,115.39696699375558]
["Central","Governador Lindenberg",550,543,100.66429785261855]
["Sul","Guaçuí",1508,1288,87.351644625296714]
["Metropolitana","Guarapari",6549,6367,99.241440224450557]
["Metropolitana","Ibatiba",1388,1259,92.624609159462935]
["Metropolitana","Ibiraçu",574,600,107.01545778834721]
["Sul","Ibitirama",573,597,106.57542398095802]
["Sul","Iconha",508,485,97.324414715719058]
["Sul","Irupi",753,781,105.82655826558265]
["Metropolitana","Itaguaçu",616,486,80.730897009966768]
["Sul","Itapemirim",2337,2149,94.03442240373397]
["Metropolitana","Itarana",428,402,95.923642871346189]
["Sul","Iúna",1564,1352,88.193085453359416]
["Norte","Jaguaré",1794,1645,93.541202672605792]
["Sul","Jerônimo Monteiro",563,566,102.64470303763034]
["Metropolitana","João Neiva",659,678,105.19782777346779]
["Metropolitana","Laranja da Terra",488,454,95.361456327673736]
["Central","Linhares",9326,9736,106.61313135921888]
["Central","Mantenópolis",710,750,107.96545105566217]
["Sul","Marataízes",2239,2540,115.76588552546623]
["Metropolitana","Marechal Floriano",922,962,106.42573983589934]
["Central","Marilândia",550,494,91.523853635942558]
["Sul","Mimoso do Sul",1159,890,78.419854614876286]
["Norte","Montanha",1050,1042,101.47703294919654]
["Norte","Mucurici",253,217,87.558843308675179]
["Sul","Muniz Freire",924,936,103.23529411764707]
["Sul","Muqui",662,626,96.54286081480528]
["Norte","Nova Venécia",2425,2593,109.03356927605297]
["Central","Pancas",946,812,87.594390507011866]
["Norte","Pedro Canário",1253,1240,101.10069302894415]
["Norte","Pinheiros",1417,1097,79.139112660815201]
["Sul","Piúma",1086,1034,97.134805072804127]
["Norte","Ponto Belo",396,353,91.077187701569557]
["Sul","Presidente Kennedy",730,772,108.02238805970148]
["Central","Rio Bananal",990,1101,113.72987862615132]
["Sul","Rio Novo do Sul",522,452,88.468439080084821]
["Metropolitana","Santa Leopoldina",635,384,61.628995586465166]
["Metropolitana","Santa Maria de Jetibá",2131,2072,99.575490588706458]
["Metropolitana","Santa Teresa",1054,1133,109.84003877847795]
["Central","São Domingos do Norte",410,369,91.943521594684384]
["Central","São Gabriel da Palha",1616,1403,88.545282423477431]
["Sul","São José do Calçado",552,467,86.202122750346106]
["Norte","São Mateus",6608,5958,92.071136981185532]
["Central","São Roque do Canaã",465,486,106.50109569028487]
["Metropolitana","Serra",29073,24501,86.118246657195996]
["Central","Sooretama",1715,1779,105.84560464078537]
["Sul","Vargem Alta",1036,973,95.775572143384466]
["Metropolitana","Venda Nova do Imigrante",1122,1144,104.18943533697632]
["Metropolitana","Viana",3978,4284,110.04837950079205]
["Norte","Vila Pavão",458,518,115.6895589056393]
["Central","Vila Valério",678,819,123.09619238476954]
["Metropolitana","Vila Velha",22007,20840,96.721419261516814]
["Metropolitana","Vitória",14287,13689,97.882863288861344]
["Total",null,{"$f":"SUM(C2:C79)","v":197788},186032,96.064610411405965]
[]
[]
["Meningocócica Conjudada C e Meningocócica ACWY"]
["Método de Cálculo por COORTE"]
["Período avaliado: 2016-2025",null,null,null,null,null,null,null," "]
["Faixa Etária: 11 a 14 anos. "]
["Fonte: http://tabnet.datasus.gov.br/ e https://www.vacinaeconfia.es.gov.br"]
["*Dados parciais:"]
["Dados de janeiro/2022 a abril/2022 extraídos do TABNET em 27/05/2025"]
["Dados de Maio/2022 a Novembro/2025 extraídos do Vacina e Confia em  22/12/2025"]
["Cobertura Calculada por município de procedência da vacinação"]
[]
["Observações:"]
["1. Imunobiológicos que foram recebidos parcialmente pelo estado no mês de Novembro/2025, sendo distribuídos em quantidades reduzidas às regionais e municípios:"]
["SORO ANTIRRÁBICO HUMANO; IMUNOGLOBULINA ANTIRRÁBICA HUMANA.\n"]
["2. Imunobiológicos indisponíveis no mês de Novembro/2025, não sendo possível a distribuição às regionais e municípios: "]
["IMUNOGLOBULINA HUMANA ANTI-HEPATITE B - 100 UI, VACINA TETRA VIRAL, IMUNOGLOBULINA HUMANA ANTIVARICELA (ZOSTER) – 125UI"]
["3. Imunobiológicos distribuídos através de pautas: VACINA COVID-19 PFIZER PEDIÁTRICA MENOR QUE 5 ANOS,VACINA COVID-19 PFIZER ADULTO E ADOLESCENTE A PARTIR\nDE 12 ANOS, VACINA COVID-19 PFIZER PEDIÁTRICA, VACINA CONTRA DENGUE 1,2,3 E 4 (ATENUADA)."]

{"sheet":"Cobert. HPV ","index":14,"n_rows":100,"n_cols":8,"rows_kept":100,"cut":false,"hidden":false,"merged":[[79,0,79,1],[99,0,99,11]]}
["REGIONAL","MUNICÍPIO","População Feminina \n9 a 14 anos","População Masculina \n9 a 14 anos","Doses Acumuladas\nFeminino","HPV \nFeminino %","Doses Acumuladas Masculino","HPV\nMasculino %"]
["Metropolitana","Afonso Cláudio",15277,15407,1053,91.698113207547166,1144,94.911504424778741]
["Norte","Água Doce do Norte",4781,4930,442,97.805642633228857,456,94.491452253496803]
["Central","Águia Branca",5990,6052,294,80.273037542662124,365,92.934436664544876]
["Sul","Alegre",14870,14307,942,92.179727635978153,826,83.18227593152065]
["Sul","Alfredo Chaves",6823,7013,398,87.649109928427222,329,66.26384692849949]
["Central","Alto Rio Novo",3733,3701,320,109.93415402233038,328,108.0428218501235]
["Sul","Anchieta",15163,14821,1209,106.92018571744417,1201,104.82216888500982]
["Sul","Apiacá",3725,3498,221,82.437053155113475,186,72.046481601032923]
["Metropolitana","Aracruz",47872,46893,4301,110.30797837098464,4411,106.01666399615446]
["Sul","Atílio Vivácqua",5285,5255,454,117.3884938590821,433,109.13673597983617]
["Central","Baixo Guandu",15696,14978,1059,92.698227441826532,1082,96.679076693968724]
["Norte","Barra de São Francisco",21504,20994,1529,91.102284011916581,1478,84.428999857190462]
["Norte","Boa Esperança",6846,6762,488,91.68623767026773,347,69.008949287371564]
["Sul","Bom Jesus do Norte",5417,4837,405,99.979428101213728,352,99.716713881019828]
["Metropolitana","Brejetuba",6331,6654,574,101.66789667896681,625,111.75681716584711]
["Sul","Cachoeiro de Itapemirim",95939,89847,6507,98.703071672354952,6702,98.237385026933936]
["Metropolitana","Cariacica",183096,170395,14282,99.692286214538768,13904,91.881205566355177]
["Sul","Castelo",18706,18224,1196,100.01393728222996,1208,103.00575570240886]
["Central","Colatina",61911,58122,3016,75.255759793728686,3319,78.359926810553446]
["Norte","Conceição da Barra",14062,13396,1172,92.204812168098073,1188,94.485683987274655]
["Metropolitana","Conceição do Castelo",5964,5973,473,107.11454991507831,511,111.93866374589265]
["Sul","Divino de São Lourenço",2463,2620,165,91.879350348027856,190,90.047393364928908]
["Metropolitana","Domingos Martins",17546,17870,1413,114.31268118384681,1368,103.16742081447966]
["Sul","Dores do Rio Preto",3288,3308,284,115.52542372881356,258,88.230265032772863]
["Norte","Ecoporanga",11077,10915,748,97.216506011047315,701,82.70573198308918]
["Metropolitana","Fundão",9113,8901,633,87.100103199174413,801,117.73640372366488]
["Central","Governador Lindenberg",5347,5662,424,114.9570718481699,437,101.27462340672074]
["Sul","Guaçuí",15088,14270,1111,101.60036579789666,1000,87.152298641876669]
["Metropolitana","Guarapari",63971,60685,4449,93.569588306430404,4669,95.240361732508319]
["Metropolitana","Ibatiba",12686,12694,991,107.0194384449244,1098,100.33505939689309]
["Metropolitana","Ibiraçu",5916,5807,450,104.97667185069986,459,102.56983240223462]
["Sul","Ibitirama",4693,4827,286,70.385561936013119,391,90.877396862289359]
["Sul","Iconha",6183,6143,418,110.12074643249177,389,100.45190445448678]
["Sul","Irupi",6771,6939,437,79.322341551958843,589,105.36672629695884]
["Metropolitana","Itaguaçu",6840,6749,432,99.158377964804899,351,80.091272104962911]
["Sul","Itapemirim",20328,19504,1482,89.968128699347389,1578,90.004277769855975]
["Metropolitana","Itarana",5336,5261,324,112.33747471828951,330,95.238095238095227]
["Sul","Iúna",14480,14110,1072,93.58358795285902,1124,97.505963999132504]
["Norte","Jaguaré",14495,14436,1416,109.85970129954097,1384,102.34163174759674]
["Sul","Jerônimo Monteiro",5904,5671,433,105.4383116883117,428,106.88865764828306]
["Metropolitana","João Neiva",7265,6814,513,102.66844563042028,557,123.41211225997044]
["Metropolitana","Laranja da Terra",5493,5601,333,100.5030181086519,359,89.693941286695804]
["Central","Linhares",84307,82479,6653,97.732837136421509,7227,103.2637557600943]
["Central","Mantenópolis",6477,6293,494,92.886242557192105,442,89.15784165405951]
["Sul","Marataízes",21396,20533,1784,111.47097110127572,1914,113.47826086956523]
["Metropolitana","Marechal Floriano",8846,8795,700,110.43912700499607,725,105.31412661905337]
["Central","Marilândia",6263,6124,429,103.24909747292419,467,124.28476380572189]
["Sul","Mimoso do Sul",12165,12310,692,82.832917705735653,662,80.437424058323202]
["Norte","Montanha",9553,9347,792,106.83453237410072,803,100.35409289731305]
["Norte","Mucurici",2718,2748,187,115.96899224806201,183,94.85961123110151]
["Sul","Muniz Freire",8942,9211,700,105.95358224016145,745,107.09151892668902]
["Sul","Muqui",6890,6855,473,96.810506566604118,480,96.660513508978013]
["Norte","Nova Venécia",24772,24293,1810,106.5228052967141,1866,98.145956607495066]
["Central","Pancas",9385,9508,666,99.328859060402692,687,95.042656213972805]
["Norte","Pedro Canário",10884,10638,942,105.14370756208724,911,96.760488582049916]
["Norte","Pinheiros",11985,11930,921,90.783637259733865,868,82.125680044153583]
["Sul","Piúma",11401,10899,733,89.245129870129887,717,82.95410721172388]
["Norte","Ponto Belo",3351,3146,308,105.35917901938427,298,110.43854231006793]
["Sul","Presidente Kennedy",6865,6831,536,98.333588136370594,568,95.515695067264559]
["Central","Rio Bananal",9408,9866,882,121.83722804190167,957,124.79895674853294]
["Sul","Rio Novo do Sul",5467,5602,318,87.362637362637358,389,94.360218314129767]
["Metropolitana","Santa Leopoldina",6229,6877,310,69.990592662276583,318,65.041758990966429]
["Metropolitana","Santa Maria de Jetibá",20534,21102,1643,109.46035976015989,1650,100.51271638154221]
["Metropolitana","Santa Teresa",11475,11333,816,111.75530700753251,818,105.99287333981211]
["Central","São Domingos do Norte",4092,4497,319,108.9666951323655,344,112.84855112083103]
["Central","São Gabriel da Palha",16365,15887,1077,90.783928069682489,1132,98.670734364785346]
["Sul","São José do Calçado",5498,5380,377,93.878398007885437,383,93.73852743218437]
["Norte","São Mateus",62665,61087,4753,98.489060800193414,4561,91.182007496876295]
["Central","São Roque do Canaã",5368,5518,383,106.26589595375724,375,115.77051710830975]
["Metropolitana","Serra",269243,251410,20030,93.833078932061213,17881,80.737189858747925]
["Central","Sooretama",13209,13293,1190,93.836246550138,1315,103.95941761644379]
["Sul","Vargem Alta",9623,9940,714,93.390059147037476,750,93.390059147037476]
["Metropolitana","Venda Nova do Imigrante",12129,11702,879,113.82324376820978,921,110.70820394670939]
["Metropolitana","Viana",36243,37180,3253,115.84070271232714,3216,105.27579246003602]
["Norte","Vila Pavão",4415,4496,351,103.03326810176125,339,98.929961089494185]
["Central","Vila Valério",6650,7078,601,133.92757660167132,574,106.36195182211242]
["Metropolitana","Vila Velha",242147,225575,16424,102.88470573495788,16043,95.867817980818074]
["Metropolitana","Vitória",173415,149454,11225,109.46146907530657,11025,101.42438785053893]
["TOTAL",null,1963649,1870063,142514,99.508904881159651,141410,94.455527550920422]
[]
[]
["Vacina HPV Quadrivalente, Bivalente e Nonavalente"]
["Método de Cálculo por COORTE"]
["Período avaliado: 2013-2025"]
["Faixa Etária: 9 a 14 anos. "]
["Fonte: http://tabnet.datasus.gov.br/ e https://www.vacinaeconfia.es.gov.br"]
["*Dados parciais:"]
["Dados de janeiro/2013 a dezembro/2022 extraídos do TABNET em 04/09/2025"]
["Dados de Janeiro/2023 a Novembro/2025 extraídos do Vacina e Confia em  22/12/2025"]
["Cobertura Calculada por município de procedência da vacinação"]
[]
[]
[]
["Observações:"]
["1. Imunobiológicos que foram recebidos parcialmente pelo estado no mês de Novembro/2025, sendo distribuídos em quantidades reduzidas às regionais e municípios:"]
["SORO ANTIRRÁBICO HUMANO; IMUNOGLOBULINA ANTIRRÁBICA HUMANA.\n"]
["2. Imunobiológicos indisponíveis no mês de Novembro/2025, não sendo possível a distribuição às regionais e municípios: "]
["IMUNOGLOBULINA HUMANA ANTI-HEPATITE B - 100 UI, VACINA TETRA VIRAL, IMUNOGLOBULINA HUMANA ANTIVARICELA (ZOSTER) – 125UI"]
["3. Imunobiológicos distribuídos através de pautas: VACINA COVID-19 PFIZER PEDIÁTRICA MENOR QUE 5 ANOS,VACINA COVID-19 PFIZER ADULTO E ADOLESCENTE A PARTIR\nDE 12 ANOS, VACINA COVID-19 PFIZER PEDIÁTRICA, VACINA CONTRA DENGUE 1,2,3 E 4 (ATENUADA)."]

{"sheet":"Cobert. Dengue","index":15,"n_rows":98,"n_cols":7,"rows_kept":98,"cut":false,"hidden":false,"merged":[[79,0,79,1],[97,0,97,11]]}
["REGIONAL","MUNICÍPIO","População 10 a 14 anos","Doses Acumuladas D1","DENGUE -D1 %","Doses Acumuladas D2","DENGUE - D2 %"]
["Metropolitana","Afonso Cláudio",1987,1391,71.078180889115998,895,45.733265201839551]
["Norte","Água Doce do Norte",819,438,54.336813811640653,233,28.90520004135222]
["Central","Águia Branca",605,305,51.124458723285379,184,30.842296410113146]
["Sul","Alegre",1706,1595,95.143411045384511,1040,62.037083064075169]
["Sul","Alfredo Chaves",781,281,36.560771983085765,141,18.345440745961188]
["Central","Alto Rio Novo",503,537,108.39360807401179,373,75.290159798149716]
["Sul","Anchieta",1875,1737,94.159100149071691,1119,60.658625830058277]
["Sul","Apiacá",452,115,25.862068965517242,48,10.794602698650674]
["Metropolitana","Aracruz",6737,6432,97.080686749261062,3975,59.996226652411799]
["Sul","Atílio Vivácqua",646,477,75.137831451824638,258,40.640588080861122]
["Central","Baixo Guandu",1916,1185,62.925922648021945,626,33.24187981237278]
["Norte","Barra de São Francisco",2900,833,29.222943343273112,204,7.156639186107701]
["Norte","Boa Esperança",882,260,29.956793086893903,114,13.13490158425348]
["Sul","Bom Jesus do Norte",649,392,61.409921671018289,139,21.775456919060055]
["Metropolitana","Brejetuba",924,871,95.740588073646606,595,65.402583127232759]
["Sul","Cachoeiro de Itapemirim",11366,7394,66.181834455906369,3863,34.57674148000627]
["Metropolitana","Cariacica",24648,16739,69.05124494236793,8959,36.957411042396451]
["Sul","Castelo",1979,1457,74.85550370338656,845,43.41310956030312]
["Central","Colatina",6926,3033,44.52219014532465,1431,21.006018495865341]
["Norte","Conceição da Barra",2137,1507,71.622638520337446,731,34.741969979009077]
["Metropolitana","Conceição do Castelo",734,840,116.31663974151856,568,78.652204015693499]
["Sul","Divino de São Lourenço",331,181,55.507283414260158,121,37.107078967544076]
["Metropolitana","Domingos Martins",2134,1800,85.727893316399417,1241,59.104619780917602]
["Sul","Dores do Rio Preto",464,242,52.944393801276199,92,20.127620783956242]
["Norte","Ecoporanga",1386,707,51.785387291704822,271,19.849844350851491]
["Metropolitana","Fundão",1188,1130,96.705177578091579,752,64.356011981172443]
["Central","Governador Lindenberg",672,626,94.585746663308996,397,59.984890455804582]
["Sul","Guaçuí",1888,798,42.98796911474232,386,20.793679296103427]
["Metropolitana","Guarapari",8184,2512,31.213693268304805,970,12.053058308222795]
["Metropolitana","Ibatiba",1738,1537,89.944406515166293,889,52.023797912806003]
["Metropolitana","Ibiraçu",735,641,88.83242868691535,407,56.403741771567162]
["Sul","Ibitirama",700,498,72.23498126435392,294,42.644747975341467]
["Sul","Iconha",644,492,77.766069546891458,304,48.050579557428868]
["Sul","Irupi",933,676,73.63834422657952,411,44.771241830065364]
["Metropolitana","Itaguaçu",763,771,102.6973026973027,631,84.04928404928404]
["Sul","Itapemirim",2900,966,33.858106726640777,454,15.912609165522682]
["Metropolitana","Itarana",535,577,109.67844131157929,420,79.835260573419944]
["Sul","Iúna",1916,1219,64.611307420494697,614,32.544169611307424]
["Norte","Jaguaré",2237,654,29.726146736866031,319,14.499450778379607]
["Sul","Jerônimo Monteiro",702,488,70.681955340977666,274,39.686179843089917]
["Metropolitana","João Neiva",808,779,97.915575573478591,501,62.9726615690793]
["Metropolitana","Laranja da Terra",617,605,99.793814432989691,466,76.865979381443296]
["Central","Linhares",11616,8519,74.563463698560184,4788,41.907484938221174]
["Central","Mantenópolis",880,882,101.86717998075072,591,68.257940327237733]
["Sul","Marataízes",2782,1317,48.122773362565084,565,20.644925550379099]
["Metropolitana","Marechal Floriano",1127,1068,96.223440198213098,722,65.049928673323834]
["Central","Marilândia",673,541,81.629573745756318,312,47.076574877404752]
["Sul","Mimoso do Sul",1399,526,38.14358230601885,263,19.071791153009425]
["Norte","Montanha",1316,929,71.802138348576577,495,38.258405255700112]
["Norte","Mucurici",312,207,67.408412483039342,125,40.705563093622786]
["Sul","Muniz Freire",1140,827,73.707664884135468,620,55.258467023172905]
["Sul","Muqui",844,295,35.592197868489848,159,19.183591393525038]
["Norte","Nova Venécia",3044,1494,49.926202344816055,617,20.618786376674368]
["Central","Pancas",1188,985,84.344227201370046,635,54.374197231340084]
["Norte","Pedro Canário",1545,962,63.261727312582202,505,33.209118807540555]
["Norte","Pinheiros",1757,768,44.427304280755884,297,17.180871577323565]
["Sul","Piúma",1385,765,56.246553520004895,305,22.42509650143986]
["Norte","Ponto Belo",476,475,101.20738636363636,290,61.78977272727272]
["Sul","Presidente Kennedy",939,852,92.44958857039515,487,52.843837598336194]
["Central","Rio Bananal",1246,1180,96.352749047359836,732,59.771366358192715]
["Sul","Rio Novo do Sul",647,503,79.015577955229759,296,46.49823275297814]
["Metropolitana","Santa Leopoldina",787,584,75.419715884631941,372,48.041325871717611]
["Metropolitana","Santa Maria de Jetibá",2632,2381,91.921629186371973,1564,60.380272174500526]
["Metropolitana","Santa Teresa",1292,1087,85.444779248002106,694,54.552600550242381]
["Central","São Domingos do Norte",516,351,69.208018402891881,198,39.040420637528754]
["Central","São Gabriel da Palha",1977,1905,97.847023070667305,1103,56.653683174249892]
["Sul","São José do Calçado",691,409,60.198699865080329,185,27.229240770268611]
["Norte","São Mateus",8277,3862,47.456863447852129,1636,20.103425323844146]
["Central","São Roque do Canaã",600,581,98.683651804670916,408,69.29936305732484]
["Metropolitana","Serra",36482,20868,58.185535869880923,9914,27.642869590473428]
["Central","Sooretama",2138,1395,66.341695398882422,782,37.189394840090358]
["Sul","Vargem Alta",1247,961,78.167152443570814,598,48.64095438215957]
["Metropolitana","Venda Nova do Imigrante",1375,1044,77.109620237582334,688,50.815535175724754]
["Metropolitana","Viana",4928,4513,93.073935310899515,2558,52.754958237376684]
["Norte","Vila Pavão",566,426,76.481149012567329,274,49.192100538599639]
["Central","Vila Valério",817,728,90.387997930677699,396,49.167097775478524]
["Metropolitana","Vila Velha",27506,16771,62.005157545452029,8304,30.701259809041421]
["Metropolitana","Vitória",17857,13685,77.935020928841936,7669,43.674364304222784]
["TOTAL",null,246651,160364,66.107925628377558,86702,35.74174607662313]
[]
[]
["Vacina Dengue (Atenuada)"]
["Método de Cálculo por COORTE"]
["Período avaliado: 2024-2025"]
["Faixa Etária: 10 a 14 anos. "]
["Fonte: https://www.vacinaeconfia.es.gov.br"]
["*Dados parciais:"]
["Dados de Janeiro/2024 a Novembro/2025 extraídos do Vacina e Confia em em 22/12/2025"]
["População proporcional extraída do Censo IBGE 2022"]
[]
[]
["Observações:"]
["1. Imunobiológicos que foram recebidos parcialmente pelo estado no mês de Novembro/2025, sendo distribuídos em quantidades reduzidas às regionais e municípios:"]
["SORO ANTIRRÁBICO HUMANO; IMUNOGLOBULINA ANTIRRÁBICA HUMANA.\n"]
["2. Imunobiológicos indisponíveis no mês de Novembro/2025, não sendo possível a distribuição às regionais e municípios: "]
["IMUNOGLOBULINA HUMANA ANTI-HEPATITE B - 100 UI, VACINA TETRA VIRAL, IMUNOGLOBULINA HUMANA ANTIVARICELA (ZOSTER) – 125UI"]
["3. Imunobiológicos distribuídos através de pautas: VACINA COVID-19 PFIZER PEDIÁTRICA MENOR QUE 5 ANOS,VACINA COVID-19 PFIZER ADULTO E ADOLESCENTE A PARTIR\nDE 12 ANOS, VACINA COVID-19 PFIZER PEDIÁTRICA, VACINA CONTRA DENGUE 1,2,3 E 4 (ATENUADA)."]

{"sheet":"cálculos1","index":16,"n_rows":96,"n_cols":16,"rows_kept":96,"cut":false,"hidden":true,"merged":[[0,2,0,3],[0,4,0,11]]}
[null,null,0.9,null,0.95]
["Regional ","Município","Cobertura Vacinal BCG","Cobertura Vacinal Rotavírus","Cobertura Vacinal Pentavalente","Cobertura Vacinal Poliomielite ","Cobertura Vacinal Pneumo 10","Cobertura Vacinal Tríplice Viral","Cobertura Vacinal Meningo C","Cobertura Vacinal Febre Amarela","Cobertura Vacinal Hepatite A","Cobertura Varicela","META 90%","META 95%","ATINGIRAM META","PQA-VS"]
["Metropolitana","Afonso Cláudio",{"$f":"'CV Rotina <2A - procedência'!L3","v":0.88855421686746983},{"$f":"'CV Rotina <2A - procedência'!T3","v":0.93674698795180722},{"$f":"'CV Rotina <2A - procedência'!N3","v":0.9668674698795181},{"$f":"'CV Rotina <2A - procedência'!P3","v":0.95783132530120485},{"$f":"'CV Rotina <2A - procedência'!R3","v":0.92469879518072284},{"$f":"'CV Rotina <2A - procedência'!AB3","v":0.96385542168674698},{"$f":"'CV Rotina <2A - procedência'!V3","v":0.9668674698795181},{"$f":"'CV Rotina <2A - procedência'!X3","v":0.81024096385542166},{"$f":"'CV Rotina <2A - procedência'!Z3","v":0.96084337349397586},{"$f":"'CV Rotina <2A - procedência'!AD3","v":1.0391566265060241},{"$f":"COUNTIF(C3:D3,\">=0,9\")","v":1},{"$f":"COUNTIFS(E3:L3,\">=0,95\")","v":6},{"$f":"SUM(M3:N3)","v":7},{"$f":"COUNTIF(E3:H3,\">=0,95\")","v":3}]
["Norte","Água Doce do Norte",{"$f":"'CV Rotina <2A - procedência'!L4","v":0.2733812949640288},{"$f":"'CV Rotina <2A - procedência'!T4","v":0.72661870503597126},{"$f":"'CV Rotina <2A - procedência'!N4","v":0.86330935251798557},{"$f":"'CV Rotina <2A - procedência'!P4","v":0.84892086330935257},{"$f":"'CV Rotina <2A - procedência'!R4","v":0.74820143884892087},{"$f":"'CV Rotina <2A - procedência'!AB4","v":1.0935251798561152},{"$f":"'CV Rotina <2A - procedência'!V4","v":0.89928057553956831},{"$f":"'CV Rotina <2A - procedência'!X4","v":0.87050359712230219},{"$f":"'CV Rotina <2A - procedência'!Z4","v":0.98561151079136688},{"$f":"'CV Rotina <2A - procedência'!AD4","v":0.63309352517985606},0,2,{"$f":"SUM(M4:N4)","v":2},{"$f":"COUNTIF(E4:H4,\">=0,95\")","v":1}]
["Central","Águia Branca",{"$f":"'CV Rotina <2A - procedência'!L5","v":0.47058823529411764},{"$f":"'CV Rotina <2A - procedência'!T5","v":0.88235294117647056},{"$f":"'CV Rotina <2A - procedência'!N5","v":0.84967320261437906},{"$f":"'CV Rotina <2A - procedência'!P5","v":0.85620915032679734},{"$f":"'CV Rotina <2A - procedência'!R5","v":0.83660130718954251},{"$f":"'CV Rotina <2A - procedência'!AB5","v":0.90196078431372551},{"$f":"'CV Rotina <2A - procedência'!V5","v":0.86274509803921573},{"$f":"'CV Rotina <2A - procedência'!X5","v":0.73856209150326801},{"$f":"'CV Rotina <2A - procedência'!Z5","v":0.91503267973856206},{"$f":"'CV Rotina <2A - procedência'!AD5","v":0.98039215686274506},0,1,1,0]
["Sul","Alegre",{"$f":"'CV Rotina <2A - procedência'!L6","v":0.42465753424657532},{"$f":"'CV Rotina <2A - procedência'!T6","v":1.0068493150684932},{"$f":"'CV Rotina <2A - procedência'!N6","v":0.98972602739726023},{"$f":"'CV Rotina <2A - procedência'!P6","v":0.95547945205479456},{"$f":"'CV Rotina <2A - procedência'!R6","v":1},{"$f":"'CV Rotina <2A - procedência'!AB6","v":1.0445205479452055},{"$f":"'CV Rotina <2A - procedência'!V6","v":1.071917808219178},{"$f":"'CV Rotina <2A - procedência'!X6","v":0.86986301369863017},{"$f":"'CV Rotina <2A - procedência'!Z6","v":1.0753424657534247},{"$f":"'CV Rotina <2A - procedência'!AD6","v":1.1404109589041096},1,7,8,4]
["Sul","Alfredo Chaves",{"$f":"'CV Rotina <2A - procedência'!L7","v":0.44230769230769229},{"$f":"'CV Rotina <2A - procedência'!T7","v":0.93269230769230771},{"$f":"'CV Rotina <2A - procedência'!N7","v":0.91346153846153844},{"$f":"'CV Rotina <2A - procedência'!P7","v":0.88461538461538458},{"$f":"'CV Rotina <2A - procedência'!R7","v":0.71153846153846156},{"$f":"'CV Rotina <2A - procedência'!AB7","v":1.0576923076923077},{"$f":"'CV Rotina <2A - procedência'!V7","v":0.80769230769230771},{"$f":"'CV Rotina <2A - procedência'!X7","v":0.85576923076923073},{"$f":"'CV Rotina <2A - procedência'!Z7","v":1.2019230769230769},{"$f":"'CV Rotina <2A - procedência'!AD7","v":1.1826923076923077},1,3,4,1]
["Central","Alto Rio Novo",{"$f":"'CV Rotina <2A - procedência'!L8","v":0.38043478260869568},{"$f":"'CV Rotina <2A - procedência'!T8","v":1.0652173913043479},{"$f":"'CV Rotina <2A - procedência'!N8","v":0.94565217391304346},{"$f":"'CV Rotina <2A - procedência'!P8","v":0.94565217391304346},{"$f":"'CV Rotina <2A - procedência'!R8","v":1},{"$f":"'CV Rotina <2A - procedência'!AB8","v":0.97826086956521741},{"$f":"'CV Rotina <2A - procedência'!V8","v":1},{"$f":"'CV Rotina <2A - procedência'!X8","v":0.90217391304347827},{"$f":"'CV Rotina <2A - procedência'!Z8","v":0.95652173913043481},{"$f":"'CV Rotina <2A - procedência'!AD8","v":1.0326086956521738},1,5,6,2]
["Sul","Anchieta",{"$f":"'CV Rotina <2A - procedência'!L9","v":0.43506493506493504},{"$f":"'CV Rotina <2A - procedência'!T9","v":1.0584415584415585},{"$f":"'CV Rotina <2A - procedência'!N9","v":1.025974025974026},{"$f":"'CV Rotina <2A - procedência'!P9","v":1.025974025974026},{"$f":"'CV Rotina <2A - procedência'!R9","v":0.98376623376623373},{"$f":"'CV Rotina <2A - procedência'!AB9","v":1.1493506493506493},{"$f":"'CV Rotina <2A - procedência'!V9","v":1},{"$f":"'CV Rotina <2A - procedência'!X9","v":0.89935064935064934},{"$f":"'CV Rotina <2A - procedência'!Z9","v":1.051948051948052},{"$f":"'CV Rotina <2A - procedência'!AD9","v":1.0551948051948052},1,7,8,4]
["Sul","Apiacá",{"$f":"'CV Rotina <2A - procedência'!L10","v":0.91228070175438591},{"$f":"'CV Rotina <2A - procedência'!T10","v":1.1578947368421053},{"$f":"'CV Rotina <2A - procedência'!N10","v":1.1403508771929824},{"$f":"'CV Rotina <2A - procedência'!P10","v":1.0701754385964912},{"$f":"'CV Rotina <2A - procedência'!R10","v":1.1929824561403508},{"$f":"'CV Rotina <2A - procedência'!AB10","v":1.1052631578947369},{"$f":"'CV Rotina <2A - procedência'!V10","v":1.263157894736842},{"$f":"'CV Rotina <2A - procedência'!X10","v":0.89473684210526316},{"$f":"'CV Rotina <2A - procedência'!Z10","v":1.1578947368421053},{"$f":"'CV Rotina <2A - procedência'!AD10","v":1.2456140350877194},2,7,9,4]
["Metropolitana","Aracruz",{"$f":"'CV Rotina <2A - procedência'!L11","v":0.86018237082066873},{"$f":"'CV Rotina <2A - procedência'!T11","v":0.93768996960486317},{"$f":"'CV Rotina <2A - procedência'!N11","v":0.87310030395136773},{"$f":"'CV Rotina <2A - procedência'!P11","v":0.86626139817629177},{"$f":"'CV Rotina <2A - procedência'!R11","v":0.86550151975683887},{"$f":"'CV Rotina <2A - procedência'!AB11","v":0.99772036474164139},{"$f":"'CV Rotina <2A - procedência'!V11","v":0.87841945288753798},{"$f":"'CV Rotina <2A - procedência'!X11","v":0.7264437689969605},{"$f":"'CV Rotina <2A - procedência'!Z11","v":0.97796352583586621},{"$f":"'CV Rotina <2A - procedência'!AD11","v":0.98632218844984798},1,3,4,1]
["Sul","Atilio Vivacqua",{"$f":"'CV Rotina <2A - procedência'!L12","v":9.9236641221374045E-2},{"$f":"'CV Rotina <2A - procedência'!T12","v":1.083969465648855},{"$f":"'CV Rotina <2A - procedência'!N12","v":1.0687022900763359},{"$f":"'CV Rotina <2A - procedência'!P12","v":1.0534351145038168},{"$f":"'CV Rotina <2A - procedência'!R12","v":1.0687022900763359},{"$f":"'CV Rotina <2A - procedência'!AB12","v":1.1068702290076335},{"$f":"'CV Rotina <2A - procedência'!V12","v":1.1374045801526718},{"$f":"'CV Rotina <2A - procedência'!X12","v":0.97709923664122134},{"$f":"'CV Rotina <2A - procedência'!Z12","v":1.0229007633587786},{"$f":"'CV Rotina <2A - procedência'!AD12","v":0.99236641221374045},1,8,9,4]
["Central","Baixo Guandu",{"$f":"'CV Rotina <2A - procedência'!L13","v":0.47839506172839508},{"$f":"'CV Rotina <2A - procedência'!T13","v":1.0123456790123457},{"$f":"'CV Rotina <2A - procedência'!N13","v":0.98148148148148151},{"$f":"'CV Rotina <2A - procedência'!P13","v":0.98148148148148151},{"$f":"'CV Rotina <2A - procedência'!R13","v":1.0432098765432098},{"$f":"'CV Rotina <2A - procedência'!AB13","v":1.0462962962962963},{"$f":"'CV Rotina <2A - procedência'!V13","v":1.0154320987654322},{"$f":"'CV Rotina <2A - procedência'!X13","v":0.83950617283950613},{"$f":"'CV Rotina <2A - procedência'!Z13","v":1.0925925925925926},{"$f":"'CV Rotina <2A - procedência'!AD13","v":1.0555555555555556},1,7,8,4]
["Norte","Barra de São Francisco",{"$f":"'CV Rotina <2A - procedência'!L14","v":0.70526315789473681},{"$f":"'CV Rotina <2A - procedência'!T14","v":0.88070175438596487},{"$f":"'CV Rotina <2A - procedência'!N14","v":0.85614035087719298},{"$f":"'CV Rotina <2A - procedência'!P14","v":0.83684210526315794},{"$f":"'CV Rotina <2A - procedência'!R14","v":0.85614035087719298},{"$f":"'CV Rotina <2A - procedência'!AB14","v":0.89824561403508774},{"$f":"'CV Rotina <2A - procedência'!V14","v":0.85263157894736841},{"$f":"'CV Rotina <2A - procedência'!X14","v":0.70526315789473681},{"$f":"'CV Rotina <2A - procedência'!Z14","v":0.80175438596491233},{"$f":"'CV Rotina <2A - procedência'!AD14","v":0.87368421052631584},0,0,0,0]
["Norte","Boa Esperança",{"$f":"'CV Rotina <2A - procedência'!L15","v":0.38219895287958117},{"$f":"'CV Rotina <2A - procedência'!T15","v":1.0523560209424083},{"$f":"'CV Rotina <2A - procedência'!N15","v":0.96335078534031415},{"$f":"'CV Rotina <2A - procedência'!P15","v":0.95287958115183247},{"$f":"'CV Rotina <2A - procedência'!R15","v":1.036649214659686},{"$f":"'CV Rotina <2A - procedência'!AB15","v":0.96858638743455494},{"$f":"'CV Rotina <2A - procedência'!V15","v":0.94764397905759157},{"$f":"'CV Rotina <2A - procedência'!X15","v":0.81675392670157065},{"$f":"'CV Rotina <2A - procedência'!Z15","v":0.89528795811518325},{"$f":"'CV Rotina <2A - procedência'!AD15","v":0.86387434554973819},1,4,5,4]
["Sul","Bom Jesus do Norte",{"$f":"'CV Rotina <2A - procedência'!L16","v":1.2537313432835822},{"$f":"'CV Rotina <2A - procedência'!T16","v":1.5223880597014925},{"$f":"'CV Rotina <2A - procedência'!N16","v":1.4626865671641791},{"$f":"'CV Rotina <2A - procedência'!P16","v":1.4626865671641791},{"$f":"'CV Rotina <2A - procedência'!R16","v":1.4626865671641791},{"$f":"'CV Rotina <2A - procedência'!AB16","v":1.5522388059701493},{"$f":"'CV Rotina <2A - procedência'!V16","v":1.3880597014925373},{"$f":"'CV Rotina <2A - procedência'!X16","v":1.2537313432835822},{"$f":"'CV Rotina <2A - procedência'!Z16","v":1.4328358208955223},{"$f":"'CV Rotina <2A - procedência'!AD16","v":1.3283582089552239},2,8,10,4]
["Metropolitana","Brejetuba",{"$f":"'CV Rotina <2A - procedência'!L17","v":0.60093896713615025},{"$f":"'CV Rotina <2A - procedência'!T17","v":0.91549295774647887},{"$f":"'CV Rotina <2A - procedência'!N17","v":0.83098591549295775},{"$f":"'CV Rotina <2A - procedência'!P17","v":0.87323943661971826},{"$f":"'CV Rotina <2A - procedência'!R17","v":0.84037558685446012},{"$f":"'CV Rotina <2A - procedência'!AB17","v":0.93896713615023475},{"$f":"'CV Rotina <2A - procedência'!V17","v":0.88262910798122063},{"$f":"'CV Rotina <2A - procedência'!X17","v":0.80281690140845074},{"$f":"'CV Rotina <2A - procedência'!Z17","v":0.86854460093896713},{"$f":"'CV Rotina <2A - procedência'!AD17","v":1.0093896713615023},1,1,2,0]
["Sul","Cachoeiro de Itapemirim",{"$f":"'CV Rotina <2A - procedência'!L18","v":2.169343735658559},{"$f":"'CV Rotina <2A - procedência'!T18","v":0.98852684717760442},{"$f":"'CV Rotina <2A - procedência'!N18","v":0.92794860027535564},{"$f":"'CV Rotina <2A - procedência'!P18","v":0.92106470858191836},{"$f":"'CV Rotina <2A - procedência'!R18","v":0.96190913262964661},{"$f":"'CV Rotina <2A - procedência'!AB18","v":1.0146856356126663},{"$f":"'CV Rotina <2A - procedência'!V18","v":0.94171638366223043},{"$f":"'CV Rotina <2A - procedência'!X18","v":0.67645709040844426},{"$f":"'CV Rotina <2A - procedência'!Z18","v":0.92244148692060579},{"$f":"'CV Rotina <2A - procedência'!AD18","v":0.90087195961450206},2,2,4,2]
["Metropolitana","Cariacica",{"$f":"'CV Rotina <2A - procedência'!L19","v":0.52},{"$f":"'CV Rotina <2A - procedência'!T19","v":0.90239999999999998},{"$f":"'CV Rotina <2A - procedência'!N19","v":0.84137142857142855},{"$f":"'CV Rotina <2A - procedência'!P19","v":0.83337142857142854},{"$f":"'CV Rotina <2A - procedência'!R19","v":0.79794285714285718},{"$f":"'CV Rotina <2A - procedência'!AB19","v":0.95497142857142858},{"$f":"'CV Rotina <2A - procedência'!V19","v":0.87245714285714282},{"$f":"'CV Rotina <2A - procedência'!X19","v":0.66422857142857139},{"$f":"'CV Rotina <2A - procedência'!Z19","v":0.90331428571428574},{"$f":"'CV Rotina <2A - procedência'!AD19","v":0.77965714285714283},1,1,2,1]
["Sul","Castelo",{"$f":"'CV Rotina <2A - procedência'!L20","v":0.69883040935672514},{"$f":"'CV Rotina <2A - procedência'!T20","v":1.131578947368421},{"$f":"'CV Rotina <2A - procedência'!N20","v":1.1169590643274854},{"$f":"'CV Rotina <2A - procedência'!P20","v":1.0994152046783625},{"$f":"'CV Rotina <2A - procedência'!R20","v":1.0467836257309941},{"$f":"'CV Rotina <2A - procedência'!AB20","v":1.1578947368421053},{"$f":"'CV Rotina <2A - procedência'!V20","v":1.1432748538011697},{"$f":"'CV Rotina <2A - procedência'!X20","v":0.95614035087719296},{"$f":"'CV Rotina <2A - procedência'!Z20","v":1.2134502923976609},{"$f":"'CV Rotina <2A - procedência'!AD20","v":1.0467836257309941},1,8,9,4]
["Central","Colatina",{"$f":"'CV Rotina <2A - procedência'!L21","v":2.2997054491899851},{"$f":"'CV Rotina <2A - procedência'!T21","v":0.95434462444771728},{"$f":"'CV Rotina <2A - procedência'!N21","v":0.92415316642120771},{"$f":"'CV Rotina <2A - procedência'!P21","v":0.92194403534609726},{"$f":"'CV Rotina <2A - procedência'!R21","v":0.92268041237113407},{"$f":"'CV Rotina <2A - procedência'!AB21","v":0.97128129602356406},{"$f":"'CV Rotina <2A - procedência'!V21","v":0.97128129602356406},{"$f":"'CV Rotina <2A - procedência'!X21","v":0.73048600883652426},{"$f":"'CV Rotina <2A - procedência'!Z21","v":0.89985272459499266},{"$f":"'CV Rotina <2A - procedência'!AD21","v":0.84094256259204714},2,2,4,1]
["Norte","Conceição da Barra",{"$f":"'CV Rotina <2A - procedência'!L22","v":7.3394495412844041E-2},{"$f":"'CV Rotina <2A - procedência'!T22","v":1.0091743119266054},{"$f":"'CV Rotina <2A - procedência'!N22","v":0.96024464831804279},{"$f":"'CV Rotina <2A - procedência'!P22","v":0.96941896024464835},{"$f":"'CV Rotina <2A - procedência'!R22","v":0.96330275229357798},{"$f":"'CV Rotina <2A - procedência'!AB22","v":1.1590214067278288},{"$f":"'CV Rotina <2A - procedência'!V22","v":0.97247706422018354},{"$f":"'CV Rotina <2A - procedência'!X22","v":0.88990825688073394},{"$f":"'CV Rotina <2A - procedência'!Z22","v":1.1620795107033639},{"$f":"'CV Rotina <2A - procedência'!AD22","v":1.1376146788990826},1,7,8,4]
["Metropolitana","Conceição do Castelo",{"$f":"'CV Rotina <2A - procedência'!L23","v":0.17543859649122806},{"$f":"'CV Rotina <2A - procedência'!T23","v":0.8771929824561403},{"$f":"'CV Rotina <2A - procedência'!N23","v":0.81871345029239762},{"$f":"'CV Rotina <2A - procedência'!P23","v":0.76608187134502925},{"$f":"'CV Rotina <2A - procedência'!R23","v":0.54385964912280704},{"$f":"'CV Rotina <2A - procedência'!AB23","v":0.83625730994152048},{"$f":"'CV Rotina <2A - procedência'!V23","v":0.80701754385964908},{"$f":"'CV Rotina <2A - procedência'!X23","v":0.7192982456140351},{"$f":"'CV Rotina <2A - procedência'!Z23","v":0.75438596491228072},{"$f":"'CV Rotina <2A - procedência'!AD23","v":0.88304093567251463},0,0,0,0]
["Sul","Divino de São Lourenço",{"$f":"'CV Rotina <2A - procedência'!L24","v":0.87096774193548387},{"$f":"'CV Rotina <2A - procedência'!T24","v":0.72580645161290325},{"$f":"'CV Rotina <2A - procedência'!N24","v":0.72580645161290325},{"$f":"'CV Rotina <2A - procedência'!P24","v":0.72580645161290325},{"$f":"'CV Rotina <2A - procedência'!R24","v":0.70967741935483875},{"$f":"'CV Rotina <2A - procedência'!AB24","v":1.096774193548387},{"$f":"'CV Rotina <2A - procedência'!V24","v":0.74193548387096775},{"$f":"'CV Rotina <2A - procedência'!X24","v":0.87096774193548387},{"$f":"'CV Rotina <2A - procedência'!Z24","v":1.064516129032258},{"$f":"'CV Rotina <2A - procedência'!AD24","v":1.1612903225806452},0,3,3,1]
["Metropolitana","Domingos Martins",{"$f":"'CV Rotina <2A - procedência'!L25","v":0.15183246073298429},{"$f":"'CV Rotina <2A - procedência'!T25","v":1.0026178010471205},{"$f":"'CV Rotina <2A - procedência'!N25","v":1.0314136125654449},{"$f":"'CV Rotina <2A - procedência'!P25","v":1.0209424083769634},{"$f":"'CV Rotina <2A - procedência'!R25","v":0.90314136125654454},{"$f":"'CV Rotina <2A - procedência'!AB25","v":1.0026178010471205},{"$f":"'CV Rotina <2A - procedência'!V25","v":0.98167539267015702},{"$f":"'CV Rotina <2A - procedência'!X25","v":0.90575916230366493},{"$f":"'CV Rotina <2A - procedência'!Z25","v":1.0104712041884816},{"$f":"'CV Rotina <2A - procedência'!AD25","v":1.049738219895288},1,6,7,3]
["Sul","Dores do Rio Preto",{"$f":"'CV Rotina <2A - procedência'!L26","v":0.65656565656565657},{"$f":"'CV Rotina <2A - procedência'!T26","v":1.1313131313131313},{"$f":"'CV Rotina <2A - procedência'!N26","v":1.1111111111111112},{"$f":"'CV Rotina <2A - procedência'!P26","v":1.1111111111111112},{"$f":"'CV Rotina <2A - procedência'!R26","v":0.74747474747474751},{"$f":"'CV Rotina <2A - procedência'!AB26","v":1.0707070707070707},{"$f":"'CV Rotina <2A - procedência'!V26","v":1.0707070707070707},{"$f":"'CV Rotina <2A - procedência'!X26","v":0.82828282828282829},{"$f":"'CV Rotina <2A - procedência'!Z26","v":1.0101010101010102},{"$f":"'CV Rotina <2A - procedência'!AD26","v":0.93939393939393945},1,5,6,3]
["Norte","Ecoporanga",{"$f":"'CV Rotina <2A - procedência'!L27","v":0.33047210300429186},{"$f":"'CV Rotina <2A - procedência'!T27","v":1.0042918454935623},{"$f":"'CV Rotina <2A - procedência'!N27","v":0.97854077253218885},{"$f":"'CV Rotina <2A - procedência'!P27","v":0.96137339055793991},{"$f":"'CV Rotina <2A - procedência'!R27","v":0.96995708154506433},{"$f":"'CV Rotina <2A - procedência'!AB27","v":0.9527896995708155},{"$f":"'CV Rotina <2A - procedência'!V27","v":0.98712446351931327},{"$f":"'CV Rotina <2A - procedência'!X27","v":0.79828326180257514},{"$f":"'CV Rotina <2A - procedência'!Z27","v":0.94420600858369097},{"$f":"'CV Rotina <2A - procedência'!AD27","v":0.88841201716738194},1,5,6,4]
["Metropolitana","Fundão",{"$f":"'CV Rotina <2A - procedência'!L28","v":0.15492957746478872},{"$f":"'CV Rotina <2A - procedência'!T28","v":1.0375586854460095},{"$f":"'CV Rotina <2A - procedência'!N28","v":1.0328638497652582},{"$f":"'CV Rotina <2A - procedência'!P28","v":1.0328638497652582},{"$f":"'CV Rotina <2A - procedência'!R28","v":0.91549295774647887},{"$f":"'CV Rotina <2A - procedência'!AB28","v":0.99530516431924887},{"$f":"'CV Rotina <2A - procedência'!V28","v":1.0140845070422535},{"$f":"'CV Rotina <2A - procedência'!X28","v":0.70892018779342725},{"$f":"'CV Rotina <2A - procedência'!Z28","v":0.93427230046948362},{"$f":"'CV Rotina <2A - procedência'!AD28","v":0.93427230046948362},1,4,5,3]
["Central","Governador Lindenberg",{"$f":"'CV Rotina <2A - procedência'!L29","v":0.33846153846153848},{"$f":"'CV Rotina <2A - procedência'!T29","v":0.7846153846153846},{"$f":"'CV Rotina <2A - procedência'!N29","v":0.68461538461538463},{"$f":"'CV Rotina <2A - procedência'!P29","v":0.69230769230769229},{"$f":"'CV Rotina <2A - procedência'!R29","v":0.66923076923076918},{"$f":"'CV Rotina <2A - procedência'!AB29","v":0.93076923076923079},{"$f":"'CV Rotina <2A - procedência'!V29","v":0.7384615384615385},{"$f":"'CV Rotina <2A - procedência'!X29","v":0.64615384615384619},{"$f":"'CV Rotina <2A - procedência'!Z29","v":0.86923076923076925},{"$f":"'CV Rotina <2A - procedência'!AD29","v":0.81538461538461537},0,0,0,0]
["Sul","Guaçuí",{"$f":"'CV Rotina <2A - procedência'!L30","v":0.69774011299435024},{"$f":"'CV Rotina <2A - procedência'!T30","v":0.8615819209039548},{"$f":"'CV Rotina <2A - procedência'!N30","v":0.80790960451977401},{"$f":"'CV Rotina <2A - procedência'!P30","v":0.79943502824858759},{"$f":"'CV Rotina <2A - procedência'!R30","v":0.83615819209039544},{"$f":"'CV Rotina <2A - procedência'!AB30","v":0.90960451977401124},{"$f":"'CV Rotina <2A - procedência'!V30","v":0.83898305084745761},{"$f":"'CV Rotina <2A - procedência'!X30","v":0.71186440677966101},{"$f":"'CV Rotina <2A - procedência'!Z30","v":0.84745762711864403},{"$f":"'CV Rotina <2A - procedência'!AD30","v":0.81638418079096042},0,0,0,0]
["Metropolitana","Guarapari",{"$f":"'CV Rotina <2A - procedência'!L31","v":0.84338138925294892},{"$f":"'CV Rotina <2A - procedência'!T31","v":0.90956749672346004},{"$f":"'CV Rotina <2A - procedência'!N31","v":0.8152031454783748},{"$f":"'CV Rotina <2A - procedência'!P31","v":0.80733944954128445},{"$f":"'CV Rotina <2A - procedência'!R31","v":0.87483617300131067},{"$f":"'CV Rotina <2A - procedência'!AB31","v":0.88990825688073394},{"$f":"'CV Rotina <2A - procedência'!V31","v":0.87090432503276538},{"$f":"'CV Rotina <2A - procedência'!X31","v":0.58125819134993451},{"$f":"'CV Rotina <2A - procedência'!Z31","v":0.83682830930537355},{"$f":"'CV Rotina <2A - procedência'!AD31","v":0.73918741808650068},1,0,1,0]
["Metropolitana","Ibatiba",{"$f":"'CV Rotina <2A - procedência'!L32","v":0.7573333333333333},{"$f":"'CV Rotina <2A - procedência'!T32","v":0.96266666666666667},{"$f":"'CV Rotina <2A - procedência'!N32","v":0.96},{"$f":"'CV Rotina <2A - procedência'!P32","v":0.94666666666666666},{"$f":"'CV Rotina <2A - procedência'!R32","v":0.89066666666666672},{"$f":"'CV Rotina <2A - procedência'!AB32","v":0.97066666666666668},{"$f":"'CV Rotina <2A - procedência'!V32","v":0.96799999999999997},{"$f":"'CV Rotina <2A - procedência'!X32","v":0.82666666666666666},{"$f":"'CV Rotina <2A - procedência'!Z32","v":1.008},{"$f":"'CV Rotina <2A - procedência'!AD32","v":0.93600000000000005},1,4,5,2]
["Metropolitana","Ibiraçu",{"$f":"'CV Rotina <2A - procedência'!L33","v":0.23577235772357724},{"$f":"'CV Rotina <2A - procedência'!T33","v":0.83739837398373984},{"$f":"'CV Rotina <2A - procedência'!N33","v":0.88617886178861793},{"$f":"'CV Rotina <2A - procedência'!P33","v":0.86991869918699183},{"$f":"'CV Rotina <2A - procedência'!R33","v":0.85365853658536583},{"$f":"'CV Rotina <2A - procedência'!AB33","v":1.1707317073170731},{"$f":"'CV Rotina <2A - procedência'!V33","v":0.91056910569105687},{"$f":"'CV Rotina <2A - procedência'!X33","v":0.82113821138211385},{"$f":"'CV Rotina <2A - procedência'!Z33","v":1.024390243902439},{"$f":"'CV Rotina <2A - procedência'!AD33","v":1.032520325203252},0,3,3,1]
["Sul","Ibitirama",{"$f":"'CV Rotina <2A - procedência'!L34","v":0.72307692307692306},{"$f":"'CV Rotina <2A - procedência'!T34","v":1.1461538461538461},{"$f":"'CV Rotina <2A - procedência'!N34","v":1.0615384615384615},{"$f":"'CV Rotina <2A - procedência'!P34","v":1.0384615384615385},{"$f":"'CV Rotina <2A - procedência'!R34","v":1.0923076923076922},{"$f":"'CV Rotina <2A - procedência'!AB34","v":1.023076923076923},{"$f":"'CV Rotina <2A - procedência'!V34","v":1.0846153846153845},{"$f":"'CV Rotina <2A - procedência'!X34","v":0.86923076923076925},{"$f":"'CV Rotina <2A - procedência'!Z34","v":0.89230769230769236},{"$f":"'CV Rotina <2A - procedência'!AD34","v":0.93846153846153846},1,5,6,4]
["Sul","Iconha",{"$f":"'CV Rotina <2A - procedência'!L35","v":0.47727272727272729},{"$f":"'CV Rotina <2A - procedência'!T35","v":0.81060606060606055},{"$f":"'CV Rotina <2A - procedência'!N35","v":0.81060606060606055},{"$f":"'CV Rotina <2A - procedência'!P35","v":0.81060606060606055},{"$f":"'CV Rotina <2A - procedência'!R35","v":0.68939393939393945},{"$f":"'CV Rotina <2A - procedência'!AB35","v":0.76515151515151514},{"$f":"'CV Rotina <2A - procedência'!V35","v":0.8257575757575758},{"$f":"'CV Rotina <2A - procedência'!X35","v":0.74242424242424243},{"$f":"'CV Rotina <2A - procedência'!Z35","v":0.71969696969696972},{"$f":"'CV Rotina <2A - procedência'!AD35","v":0.91666666666666663},{"$f":"COUNTIF(C35:D35,\">=0,9\")","v":0},{"$f":"COUNTIFS(E35:L35,\">=0,95\")","v":0},0,0]
["Sul","Irupi",{"$f":"'CV Rotina <2A - procedência'!L36","v":0.66480446927374304},{"$f":"'CV Rotina <2A - procedência'!T36","v":0.93854748603351956},{"$f":"'CV Rotina <2A - procedência'!N36","v":0.91061452513966479},{"$f":"'CV Rotina <2A - procedência'!P36","v":0.8994413407821229},{"$f":"'CV Rotina <2A - procedência'!R36","v":0.87709497206703912},{"$f":"'CV Rotina <2A - procedência'!AB36","v":1.0558659217877095},{"$f":"'CV Rotina <2A - procedência'!V36","v":0.92178770949720668},{"$f":"'CV Rotina <2A - procedência'!X36","v":0.9050279329608939},{"$f":"'CV Rotina <2A - procedência'!Z36","v":1.1620111731843576},{"$f":"'CV Rotina <2A - procedência'!AD36","v":0.92737430167597767},1,2,3,1]
["Metropolitana","Itaguaçu",{"$f":"'CV Rotina <2A - procedência'!L37","v":0.21848739495798319},{"$f":"'CV Rotina <2A - procedência'!T37","v":0.94957983193277307},{"$f":"'CV Rotina <2A - procedência'!N37","v":0.92436974789915971},{"$f":"'CV Rotina <2A - procedência'!P37","v":0.92436974789915971},{"$f":"'CV Rotina <2A - procedência'!R37","v":0.83193277310924374},{"$f":"'CV Rotina <2A - procedência'!AB37","v":1.2352941176470589},{"$f":"'CV Rotina <2A - procedência'!V37","v":0.86554621848739499},{"$f":"'CV Rotina <2A - procedência'!X37","v":1.0252100840336134},{"$f":"'CV Rotina <2A - procedência'!Z37","v":1.1680672268907564},{"$f":"'CV Rotina <2A - procedência'!AD37","v":1.2100840336134453},1,4,5,1]
["Sul","Itapemirim",{"$f":"'CV Rotina <2A - procedência'!L38","v":0.45546558704453444},{"$f":"'CV Rotina <2A - procedência'!T38","v":0.82995951417004044},{"$f":"'CV Rotina <2A - procedência'!N38","v":0.77125506072874495},{"$f":"'CV Rotina <2A - procedência'!P38","v":0.72672064777327938},{"$f":"'CV Rotina <2A - procedência'!R38","v":0.84008097165991902},{"$f":"'CV Rotina <2A - procedência'!AB38","v":0.84210526315789469},{"$f":"'CV Rotina <2A - procedência'!V38","v":0.82186234817813764},{"$f":"'CV Rotina <2A - procedência'!X38","v":0.54251012145748989},{"$f":"'CV Rotina <2A - procedência'!Z38","v":0.77732793522267207},{"$f":"'CV Rotina <2A - procedência'!AD38","v":0.69230769230769229},0,0,0,0]
["Metropolitana","Itarana",{"$f":"'CV Rotina <2A - procedência'!L39","v":0.15873015873015872},{"$f":"'CV Rotina <2A - procedência'!T39","v":0.76984126984126988},{"$f":"'CV Rotina <2A - procedência'!N39","v":0.76984126984126988},{"$f":"'CV Rotina <2A - procedência'!P39","v":0.76984126984126988},{"$f":"'CV Rotina <2A - procedência'!R39","v":0.72222222222222221},{"$f":"'CV Rotina <2A - procedência'!AB39","v":1},{"$f":"'CV Rotina <2A - procedência'!V39","v":0.76984126984126988},{"$f":"'CV Rotina <2A - procedência'!X39","v":0.77777777777777779},{"$f":"'CV Rotina <2A - procedência'!Z39","v":1.0238095238095237},{"$f":"'CV Rotina <2A - procedência'!AD39","v":1.0396825396825398},0,3,3,1]
["Sul","Iúna",{"$f":"'CV Rotina <2A - procedência'!L40","v":0.8016759776536313},{"$f":"'CV Rotina <2A - procedência'!T40","v":0.96648044692737434},{"$f":"'CV Rotina <2A - procedência'!N40","v":0.94413407821229045},{"$f":"'CV Rotina <2A - procedência'!P40","v":0.94972067039106145},{"$f":"'CV Rotina <2A - procedência'!R40","v":0.91899441340782118},{"$f":"'CV Rotina <2A - procedência'!AB40","v":1.0698324022346368},{"$f":"'CV Rotina <2A - procedência'!V40","v":0.96648044692737434},{"$f":"'CV Rotina <2A - procedência'!X40","v":0.85754189944134074},{"$f":"'CV Rotina <2A - procedência'!Z40","v":1.1229050279329609},{"$f":"'CV Rotina <2A - procedência'!AD40","v":1.0363128491620113},1,4,5,1]
["Norte","Jaguaré",{"$f":"'CV Rotina <2A - procedência'!L41","v":0.72771084337349401},{"$f":"'CV Rotina <2A - procedência'!T41","v":0.96626506024096381},{"$f":"'CV Rotina <2A - procedência'!N41","v":0.92289156626506019},{"$f":"'CV Rotina <2A - procedência'!P41","v":0.90843373493975899},{"$f":"'CV Rotina <2A - procedência'!R41","v":0.89879518072289155},{"$f":"'CV Rotina <2A - procedência'!AB41","v":1.0987951807228915},{"$f":"'CV Rotina <2A - procedência'!V41","v":0.93253012048192774},{"$f":"'CV Rotina <2A - procedência'!X41","v":0.7903614457831325},{"$f":"'CV Rotina <2A - procedência'!Z41","v":1.074698795180723},{"$f":"'CV Rotina <2A - procedência'!AD41","v":0.89879518072289155},1,2,3,1]
["Sul","Jerônimo Monteiro",{"$f":"'CV Rotina <2A - procedência'!L42","v":9.0090090090090086E-2},{"$f":"'CV Rotina <2A - procedência'!T42","v":0.94594594594594594},{"$f":"'CV Rotina <2A - procedência'!N42","v":0.87387387387387383},{"$f":"'CV Rotina <2A - procedência'!P42","v":0.88288288288288286},{"$f":"'CV Rotina <2A - procedência'!R42","v":0.86486486486486491},{"$f":"'CV Rotina <2A - procedência'!AB42","v":1.1441441441441442},{"$f":"'CV Rotina <2A - procedência'!V42","v":0.88288288288288286},{"$f":"'CV Rotina <2A - procedência'!X42","v":0.81081081081081086},{"$f":"'CV Rotina <2A - procedência'!Z42","v":1.1081081081081081},{"$f":"'CV Rotina <2A - procedência'!AD42","v":1.0900900900900901},1,3,4,1]
["Metropolitana","João Neiva",{"$f":"'CV Rotina <2A - procedência'!L43","v":0.30303030303030304},{"$f":"'CV Rotina <2A - procedência'!T43","v":0.96212121212121215},{"$f":"'CV Rotina <2A - procedência'!N43","v":1.0303030303030303},{"$f":"'CV Rotina <2A - procedência'!P43","v":1},{"$f":"'CV Rotina <2A - procedência'!R43","v":0.9242424242424242},{"$f":"'CV Rotina <2A - procedência'!AB43","v":1.143939393939394},{"$f":"'CV Rotina <2A - procedência'!V43","v":1.0151515151515151},{"$f":"'CV Rotina <2A - procedência'!X43","v":0.90909090909090906},{"$f":"'CV Rotina <2A - procedência'!Z43","v":1.1287878787878789},{"$f":"'CV Rotina <2A - procedência'!AD43","v":1.0833333333333333},1,6,7,3]
["Metropolitana","Laranja da Terra",{"$f":"'CV Rotina <2A - procedência'!L44","v":0.14912280701754385},{"$f":"'CV Rotina <2A - procedência'!T44","v":1.131578947368421},{"$f":"'CV Rotina <2A - procedência'!N44","v":1.0175438596491229},{"$f":"'CV Rotina <2A - procedência'!P44","v":1.0175438596491229},{"$f":"'CV Rotina <2A - procedência'!R44","v":1.0877192982456141},{"$f":"'CV Rotina <2A - procedência'!AB44","v":0.91228070175438591},{"$f":"'CV Rotina <2A - procedência'!V44","v":1.0263157894736843},{"$f":"'CV Rotina <2A - procedência'!X44","v":0.85087719298245612},{"$f":"'CV Rotina <2A - procedência'!Z44","v":0.85087719298245612},{"$f":"'CV Rotina <2A - procedência'!AD44","v":0.96491228070175439},1,5,6,3]
["Central","Linhares",{"$f":"'CV Rotina <2A - procedência'!L45","v":1.2518457752255947},{"$f":"'CV Rotina <2A - procedência'!T45","v":0.91222313371616082},{"$f":"'CV Rotina <2A - procedência'!N45","v":0.85849056603773588},{"$f":"'CV Rotina <2A - procedência'!P45","v":0.83921246923707959},{"$f":"'CV Rotina <2A - procedência'!R45","v":0.88187038556193598},{"$f":"'CV Rotina <2A - procedência'!AB45","v":0.89991796554552916},{"$f":"'CV Rotina <2A - procedência'!V45","v":0.91140278917145201},{"$f":"'CV Rotina <2A - procedência'!X45","v":0.67186218211648896},{"$f":"'CV Rotina <2A - procedência'!Z45","v":0.82526661197703033},{"$f":"'CV Rotina <2A - procedência'!AD45","v":0.75799835931091053},2,0,2,0]
["Central","Mantenópolis",{"$f":"'CV Rotina <2A - procedência'!L46","v":0.31404958677685951},{"$f":"'CV Rotina <2A - procedência'!T46","v":0.90909090909090906},{"$f":"'CV Rotina <2A - procedência'!N46","v":0.98347107438016534},{"$f":"'CV Rotina <2A - procedência'!P46","v":0.94214876033057848},{"$f":"'CV Rotina <2A - procedência'!R46","v":0.87603305785123964},{"$f":"'CV Rotina <2A - procedência'!AB46","v":1.165289256198347},{"$f":"'CV Rotina <2A - procedência'!V46","v":0.98347107438016534},{"$f":"'CV Rotina <2A - procedência'!X46","v":0.97520661157024791},{"$f":"'CV Rotina <2A - procedência'!Z46","v":1.140495867768595},{"$f":"'CV Rotina <2A - procedência'!AD46","v":1.2561983471074381},1,6,7,2]
["Sul","Marataízes",{"$f":"'CV Rotina <2A - procedência'!L47","v":0.43609022556390975},{"$f":"'CV Rotina <2A - procedência'!T47","v":0.99060150375939848},{"$f":"'CV Rotina <2A - procedência'!N47","v":0.93233082706766912},{"$f":"'CV Rotina <2A - procedência'!P47","v":0.82330827067669177},{"$f":"'CV Rotina <2A - procedência'!R47","v":0.98308270676691734},{"$f":"'CV Rotina <2A - procedência'!AB47","v":0.99624060150375937},{"$f":"'CV Rotina <2A - procedência'!V47","v":0.93045112781954886},{"$f":"'CV Rotina <2A - procedência'!X47","v":0.61278195488721809},{"$f":"'CV Rotina <2A - procedência'!Z47","v":1},{"$f":"'CV Rotina <2A - procedência'!AD47","v":0.84210526315789469},1,3,4,2]
["Metropolitana","Marechal Floriano",{"$f":"'CV Rotina <2A - procedência'!L48","v":0.14736842105263157},{"$f":"'CV Rotina <2A - procedência'!T48","v":0.9631578947368421},{"$f":"'CV Rotina <2A - procedência'!N48","v":0.93157894736842106},{"$f":"'CV Rotina <2A - procedência'!P48","v":0.93684210526315792},{"$f":"'CV Rotina <2A - procedência'!R48","v":0.87894736842105259},{"$f":"'CV Rotina <2A - procedência'!AB48","v":0.97894736842105268},{"$f":"'CV Rotina <2A - procedência'!V48","v":0.92105263157894735},{"$f":"'CV Rotina <2A - procedência'!X48","v":0.8},{"$f":"'CV Rotina <2A - procedência'!Z48","v":1.0315789473684212},{"$f":"'CV Rotina <2A - procedência'!AD48","v":1.0578947368421052},1,3,4,1]
["Central","Marilândia",{"$f":"'CV Rotina <2A - procedência'!L49","v":0.37735849056603776},{"$f":"'CV Rotina <2A - procedência'!T49","v":0.84276729559748431},{"$f":"'CV Rotina <2A - procedência'!N49","v":0.74842767295597479},{"$f":"'CV Rotina <2A - procedência'!P49","v":0.75471698113207553},{"$f":"'CV Rotina <2A - procedência'!R49","v":0.72955974842767291},{"$f":"'CV Rotina <2A - procedência'!AB49","v":0.87421383647798745},{"$f":"'CV Rotina <2A - procedência'!V49","v":0.71069182389937102},{"$f":"'CV Rotina <2A - procedência'!X49","v":0.8176100628930818},{"$f":"'CV Rotina <2A - procedência'!Z49","v":0.86792452830188682},{"$f":"'CV Rotina <2A - procedência'!AD49","v":0.91823899371069184},0,0,0,0]
["Sul","Mimoso do Sul",{"$f":"'CV Rotina <2A - procedência'!L50","v":0.14453125},{"$f":"'CV Rotina <2A - procedência'!T50","v":0.9453125},{"$f":"'CV Rotina <2A - procedência'!N50","v":0.8828125},{"$f":"'CV Rotina <2A - procedência'!P50","v":0.83203125},{"$f":"'CV Rotina <2A - procedência'!R50","v":0.87890625},{"$f":"'CV Rotina <2A - procedência'!AB50","v":0.79296875},{"$f":"'CV Rotina <2A - procedência'!V50","v":0.84765625},{"$f":"'CV Rotina <2A - procedência'!X50","v":0.734375},{"$f":"'CV Rotina <2A - procedência'!Z50","v":0.6484375},{"$f":"'CV Rotina <2A - procedência'!AD50","v":0.69921875},1,0,1,0]
["Norte","Montanha",{"$f":"'CV Rotina <2A - procedência'!L51","v":0.38048780487804879},{"$f":"'CV Rotina <2A - procedência'!T51","v":1.1804878048780487},{"$f":"'CV Rotina <2A - procedência'!N51","v":1.0780487804878049},{"$f":"'CV Rotina <2A - procedência'!P51","v":1.0878048780487806},{"$f":"'CV Rotina <2A - procedência'!R51","v":1.2146341463414634},{"$f":"'CV Rotina <2A - procedência'!AB51","v":1.1560975609756097},{"$f":"'CV Rotina <2A - procedência'!V51","v":1.0731707317073171},{"$f":"'CV Rotina <2A - procedência'!X51","v":0.90731707317073174},{"$f":"'CV Rotina <2A - procedência'!Z51","v":1.1073170731707318},{"$f":"'CV Rotina <2A - procedência'!AD51","v":1.1756097560975609},1,7,8,4]
["Norte","Mucurici",{"$f":"'CV Rotina <2A - procedência'!L52","v":0.13043478260869565},{"$f":"'CV Rotina <2A - procedência'!T52","v":1.3043478260869565},{"$f":"'CV Rotina <2A - procedência'!N52","v":1.2608695652173914},{"$f":"'CV Rotina <2A - procedência'!P52","v":1.2826086956521738},{"$f":"'CV Rotina <2A - procedência'!R52","v":1.3043478260869565},{"$f":"'CV Rotina <2A - procedência'!AB52","v":1.3695652173913044},{"$f":"'CV Rotina <2A - procedência'!V52","v":1.173913043478261},{"$f":"'CV Rotina <2A - procedência'!X52","v":1.2173913043478262},{"$f":"'CV Rotina <2A - procedência'!Z52","v":1.3695652173913044},{"$f":"'CV Rotina <2A - procedência'!AD52","v":1.3913043478260869},1,8,9,4]
["Sul","Muniz Freire",{"$f":"'CV Rotina <2A - procedência'!L53","v":0.55309734513274333},{"$f":"'CV Rotina <2A - procedência'!T53","v":0.98230088495575218},{"$f":"'CV Rotina <2A - procedência'!N53","v":0.91150442477876104},{"$f":"'CV Rotina <2A - procedência'!P53","v":0.91150442477876104},{"$f":"'CV Rotina <2A - procedência'!R53","v":0.96017699115044253},{"$f":"'CV Rotina <2A - procedência'!AB53","v":0.99115044247787609},{"$f":"'CV Rotina <2A - procedência'!V53","v":0.87168141592920356},{"$f":"'CV Rotina <2A - procedência'!X53","v":0.90265486725663713},{"$f":"'CV Rotina <2A - procedência'!Z53","v":0.96902654867256632},{"$f":"'CV Rotina <2A - procedência'!AD53","v":1.0796460176991149},1,4,5,2]
["Sul","Muqui",{"$f":"'CV Rotina <2A - procedência'!L54","v":0.12587412587412589},{"$f":"'CV Rotina <2A - procedência'!T54","v":1.0419580419580419},{"$f":"'CV Rotina <2A - procedência'!N54","v":1.0069930069930071},{"$f":"'CV Rotina <2A - procedência'!P54","v":1.0069930069930071},{"$f":"'CV Rotina <2A - procedência'!R54","v":0.99300699300699302},{"$f":"'CV Rotina <2A - procedência'!AB54","v":0.97902097902097907},{"$f":"'CV Rotina <2A - procedência'!V54","v":0.94405594405594406},{"$f":"'CV Rotina <2A - procedência'!X54","v":0.90209790209790208},{"$f":"'CV Rotina <2A - procedência'!Z54","v":1.0069930069930071},{"$f":"'CV Rotina <2A - procedência'!AD54","v":1.0909090909090908},1,6,7,4]
["Norte","Nova Venécia",{"$f":"'CV Rotina <2A - procedência'!L55","v":0.70700636942675155},{"$f":"'CV Rotina <2A - procedência'!T55","v":0.9426751592356688},{"$f":"'CV Rotina <2A - procedência'!N55","v":0.84554140127388533},{"$f":"'CV Rotina <2A - procedência'!P55","v":0.83439490445859876},{"$f":"'CV Rotina <2A - procedência'!R55","v":0.76273885350318471},{"$f":"'CV Rotina <2A - procedência'!AB55","v":0.99681528662420382},{"$f":"'CV Rotina <2A - procedência'!V55","v":0.87420382165605093},{"$f":"'CV Rotina <2A - procedência'!X55","v":0.78980891719745228},{"$f":"'CV Rotina <2A - procedência'!Z55","v":0.91719745222929938},{"$f":"'CV Rotina <2A - procedência'!AD55","v":0.85668789808917201},1,1,2,1]
["Central","Pancas",{"$f":"'CV Rotina <2A - procedência'!L56","v":0.50248756218905477},{"$f":"'CV Rotina <2A - procedência'!T56","v":0.95522388059701491},{"$f":"'CV Rotina <2A - procedência'!N56","v":0.98009950248756217},{"$f":"'CV Rotina <2A - procedência'!P56","v":0.9850746268656716},{"$f":"'CV Rotina <2A - procedência'!R56","v":0.94029850746268662},{"$f":"'CV Rotina <2A - procedência'!AB56","v":0.9850746268656716},{"$f":"'CV Rotina <2A - procedência'!V56","v":0.9850746268656716},{"$f":"'CV Rotina <2A - procedência'!X56","v":0.86069651741293529},{"$f":"'CV Rotina <2A - procedência'!Z56","v":0.96019900497512434},{"$f":"'CV Rotina <2A - procedência'!AD56","v":1.0248756218905473},1,6,7,3]
["Norte","Pedro Canário",{"$f":"'CV Rotina <2A - procedência'!L57","v":0.1111111111111111},{"$f":"'CV Rotina <2A - procedência'!T57","v":0.98653198653198648},{"$f":"'CV Rotina <2A - procedência'!N57","v":0.95959595959595956},{"$f":"'CV Rotina <2A - procedência'!P57","v":0.90572390572390571},{"$f":"'CV Rotina <2A - procedência'!R57","v":0.93939393939393945},{"$f":"'CV Rotina <2A - procedência'!AB57","v":1.1144781144781144},{"$f":"'CV Rotina <2A - procedência'!V57","v":0.91919191919191923},{"$f":"'CV Rotina <2A - procedência'!X57","v":0.70707070707070707},{"$f":"'CV Rotina <2A - procedência'!Z57","v":1.0808080808080809},{"$f":"'CV Rotina <2A - procedência'!AD57","v":1.026936026936027},1,4,5,2]
["Norte","Pinheiros",{"$f":"'CV Rotina <2A - procedência'!L58","v":6.2937062937062943E-2},{"$f":"'CV Rotina <2A - procedência'!T58","v":0.97552447552447552},{"$f":"'CV Rotina <2A - procedência'!N58","v":0.85314685314685312},{"$f":"'CV Rotina <2A - procedência'!P58","v":0.83916083916083917},{"$f":"'CV Rotina <2A - procedência'!R58","v":0.91258741258741261},{"$f":"'CV Rotina <2A - procedência'!AB58","v":0.95454545454545459},{"$f":"'CV Rotina <2A - procedência'!V58","v":0.91958041958041958},{"$f":"'CV Rotina <2A - procedência'!X58","v":0.76223776223776218},{"$f":"'CV Rotina <2A - procedência'!Z58","v":0.87062937062937062},{"$f":"'CV Rotina <2A - procedência'!AD58","v":0.90209790209790208},1,1,2,1]
["Sul","Piúma",{"$f":"'CV Rotina <2A - procedência'!L59","v":0.35943060498220641},{"$f":"'CV Rotina <2A - procedência'!T59","v":0.96085409252669041},{"$f":"'CV Rotina <2A - procedência'!N59","v":0.94661921708185048},{"$f":"'CV Rotina <2A - procedência'!P59","v":0.91814946619217086},{"$f":"'CV Rotina <2A - procedência'!R59","v":0.91459074733096091},{"$f":"'CV Rotina <2A - procedência'!AB59","v":0.99288256227758009},{"$f":"'CV Rotina <2A - procedência'!V59","v":0.94306049822064053},{"$f":"'CV Rotina <2A - procedência'!X59","v":0.67971530249110323},{"$f":"'CV Rotina <2A - procedência'!Z59","v":0.90747330960854089},{"$f":"'CV Rotina <2A - procedência'!AD59","v":0.80427046263345192},1,1,2,1]
["Norte","Ponto Belo",{"$f":"'CV Rotina <2A - procedência'!L60","v":0.23076923076923078},{"$f":"'CV Rotina <2A - procedência'!T60","v":1.1846153846153846},{"$f":"'CV Rotina <2A - procedência'!N60","v":1.1076923076923078},{"$f":"'CV Rotina <2A - procedência'!P60","v":1.1076923076923078},{"$f":"'CV Rotina <2A - procedência'!R60","v":1.1538461538461537},{"$f":"'CV Rotina <2A - procedência'!AB60","v":1.2615384615384615},{"$f":"'CV Rotina <2A - procedência'!V60","v":1.1846153846153846},{"$f":"'CV Rotina <2A - procedência'!X60","v":1.2461538461538462},{"$f":"'CV Rotina <2A - procedência'!Z60","v":1.2307692307692308},{"$f":"'CV Rotina <2A - procedência'!AD60","v":1.1538461538461537},1,8,9,4]
["Sul","Presidente Kennedy",{"$f":"'CV Rotina <2A - procedência'!L61","v":7.650273224043716E-2},{"$f":"'CV Rotina <2A - procedência'!T61","v":0.99453551912568305},{"$f":"'CV Rotina <2A - procedência'!N61","v":0.92896174863387981},{"$f":"'CV Rotina <2A - procedência'!P61","v":0.91803278688524592},{"$f":"'CV Rotina <2A - procedência'!R61","v":0.96174863387978138},{"$f":"'CV Rotina <2A - procedência'!AB61","v":1.1092896174863387},{"$f":"'CV Rotina <2A - procedência'!V61","v":0.98907103825136611},{"$f":"'CV Rotina <2A - procedência'!X61","v":0.91803278688524592},{"$f":"'CV Rotina <2A - procedência'!Z61","v":0.96721311475409832},{"$f":"'CV Rotina <2A - procedência'!AD61","v":0.97814207650273222},1,5,6,2]
["Central","Rio Bananal",{"$f":"'CV Rotina <2A - procedência'!L62","v":0.13962264150943396},{"$f":"'CV Rotina <2A - procedência'!T62","v":0.93207547169811322},{"$f":"'CV Rotina <2A - procedência'!N62","v":0.89056603773584908},{"$f":"'CV Rotina <2A - procedência'!P62","v":0.88301886792452833},{"$f":"'CV Rotina <2A - procedência'!R62","v":0.88301886792452833},{"$f":"'CV Rotina <2A - procedência'!AB62","v":1.0377358490566038},{"$f":"'CV Rotina <2A - procedência'!V62","v":0.87547169811320757},{"$f":"'CV Rotina <2A - procedência'!X62","v":0.92830188679245285},{"$f":"'CV Rotina <2A - procedência'!Z62","v":1.0452830188679245},{"$f":"'CV Rotina <2A - procedência'!AD62","v":0.90566037735849059},1,2,3,1]
["Sul","Rio Novo do Sul",{"$f":"'CV Rotina <2A - procedência'!L63","v":0.35227272727272729},{"$f":"'CV Rotina <2A - procedência'!T63","v":1.1704545454545454},{"$f":"'CV Rotina <2A - procedência'!N63","v":1.1022727272727273},{"$f":"'CV Rotina <2A - procedência'!P63","v":1.1022727272727273},{"$f":"'CV Rotina <2A - procedência'!R63","v":1.1136363636363635},{"$f":"'CV Rotina <2A - procedência'!AB63","v":1.1136363636363635},{"$f":"'CV Rotina <2A - procedência'!V63","v":1.1477272727272727},{"$f":"'CV Rotina <2A - procedência'!X63","v":0.88636363636363635},{"$f":"'CV Rotina <2A - procedência'!Z63","v":0.98863636363636365},{"$f":"'CV Rotina <2A - procedência'!AD63","v":1.0568181818181819},1,7,8,4]
["Metropolitana","Santa Leopoldina",{"$f":"'CV Rotina <2A - procedência'!L64","v":0.16853932584269662},{"$f":"'CV Rotina <2A - procedência'!T64","v":0.8764044943820225},{"$f":"'CV Rotina <2A - procedência'!N64","v":0.8089887640449438},{"$f":"'CV Rotina <2A - procedência'!P64","v":0.8089887640449438},{"$f":"'CV Rotina <2A - procedência'!R64","v":0.84269662921348309},{"$f":"'CV Rotina <2A - procedência'!AB64","v":0.8089887640449438},{"$f":"'CV Rotina <2A - procedência'!V64","v":0.8539325842696629},{"$f":"'CV Rotina <2A - procedência'!X64","v":0.7303370786516854},{"$f":"'CV Rotina <2A - procedência'!Z64","v":0.9662921348314607},{"$f":"'CV Rotina <2A - procedência'!AD64","v":0.9438202247191011},0,1,1,0]
["Metropolitana","Santa Maria de Jetibá",{"$f":"'CV Rotina <2A - procedência'!L65","v":0.64167916041979012},{"$f":"'CV Rotina <2A - procedência'!T65","v":0.94302848575712139},{"$f":"'CV Rotina <2A - procedência'!N65","v":0.85457271364317844},{"$f":"'CV Rotina <2A - procedência'!P65","v":0.85607196401799102},{"$f":"'CV Rotina <2A - procedência'!R65","v":0.9070464767616192},{"$f":"'CV Rotina <2A - procedência'!AB65","v":0.87556221889055474},{"$f":"'CV Rotina <2A - procedência'!V65","v":0.91304347826086951},{"$f":"'CV Rotina <2A - procedência'!X65","v":0.71964017991004503},{"$f":"'CV Rotina <2A - procedência'!Z65","v":0.82908545727136429},{"$f":"'CV Rotina <2A - procedência'!AD65","v":0.78710644677661168},1,0,1,0]
["Metropolitana","Santa Teresa",{"$f":"'CV Rotina <2A - procedência'!L66","v":2.6564885496183206},{"$f":"'CV Rotina <2A - procedência'!T66","v":0.9007633587786259},{"$f":"'CV Rotina <2A - procedência'!N66","v":0.84732824427480913},{"$f":"'CV Rotina <2A - procedência'!P66","v":0.84732824427480913},{"$f":"'CV Rotina <2A - procedência'!R66","v":0.90839694656488545},{"$f":"'CV Rotina <2A - procedência'!AB66","v":0.9274809160305344},{"$f":"'CV Rotina <2A - procedência'!V66","v":0.9007633587786259},{"$f":"'CV Rotina <2A - procedência'!X66","v":0.76335877862595425},{"$f":"'CV Rotina <2A - procedência'!Z66","v":0.93129770992366412},{"$f":"'CV Rotina <2A - procedência'!AD66","v":0.96946564885496178},2,1,3,0]
["Central","São Domingos do Norte",{"$f":"'CV Rotina <2A - procedência'!L67","v":0.54455445544554459},{"$f":"'CV Rotina <2A - procedência'!T67","v":0.8910891089108911},{"$f":"'CV Rotina <2A - procedência'!N67","v":0.76237623762376239},{"$f":"'CV Rotina <2A - procedência'!P67","v":0.7722772277227723},{"$f":"'CV Rotina <2A - procedência'!R67","v":0.80198019801980203},{"$f":"'CV Rotina <2A - procedência'!AB67","v":1.0396039603960396},{"$f":"'CV Rotina <2A - procedência'!V67","v":0.81188118811881194},{"$f":"'CV Rotina <2A - procedência'!X67","v":0.83168316831683164},{"$f":"'CV Rotina <2A - procedência'!Z67","v":1.1386138613861385},{"$f":"'CV Rotina <2A - procedência'!AD67","v":1.0891089108910892},{"$f":"COUNTIF(C67:D67,\">=0,9\")","v":0},{"$f":"COUNTIFS(E67:L67,\">=0,95\")","v":3},3,1]
["Central","São Gabriel da Palha",{"$f":"'CV Rotina <2A - procedência'!L68","v":0.43085106382978722},{"$f":"'CV Rotina <2A - procedência'!T68","v":0.93617021276595747},{"$f":"'CV Rotina <2A - procedência'!N68","v":0.95478723404255317},{"$f":"'CV Rotina <2A - procedência'!P68","v":0.95478723404255317},{"$f":"'CV Rotina <2A - procedência'!R68","v":0.91755319148936165},{"$f":"'CV Rotina <2A - procedência'!AB68","v":1.0132978723404256},{"$f":"'CV Rotina <2A - procedência'!V68","v":0.94680851063829785},{"$f":"'CV Rotina <2A - procedência'!X68","v":0.8457446808510638},{"$f":"'CV Rotina <2A - procedência'!Z68","v":1.0079787234042554},{"$f":"'CV Rotina <2A - procedência'!AD68","v":0.94680851063829785},1,4,{"$f":"SUM(M68:N68)","v":5},{"$f":"COUNTIF(E68:H68,\">=0,95\")","v":3}]
["Sul","São José do Calçado",{"$f":"'CV Rotina <2A - procedência'!L69","v":0.86904761904761907},{"$f":"'CV Rotina <2A - procedência'!T69","v":1.0595238095238095},{"$f":"'CV Rotina <2A - procedência'!N69","v":1.1190476190476191},{"$f":"'CV Rotina <2A - procedência'!P69","v":1.1190476190476191},{"$f":"'CV Rotina <2A - procedência'!R69","v":1.0357142857142858},{"$f":"'CV Rotina <2A - procedência'!AB69","v":1.0119047619047619},{"$f":"'CV Rotina <2A - procedência'!V69","v":1.0476190476190477},{"$f":"'CV Rotina <2A - procedência'!X69","v":0.69047619047619047},{"$f":"'CV Rotina <2A - procedência'!Z69","v":1.0833333333333333},{"$f":"'CV Rotina <2A - procedência'!AD69","v":1.0833333333333333},1,7,8,4]
["Norte","São Mateus",{"$f":"'CV Rotina <2A - procedência'!L70","v":1.7093469910371319},{"$f":"'CV Rotina <2A - procedência'!T70","v":1.0313700384122919},{"$f":"'CV Rotina <2A - procedência'!N70","v":0.93469910371318821},{"$f":"'CV Rotina <2A - procedência'!P70","v":0.9206145966709347},{"$f":"'CV Rotina <2A - procedência'!R70","v":1.0339308578745199},{"$f":"'CV Rotina <2A - procedência'!AB70","v":0.99423815620998723},{"$f":"'CV Rotina <2A - procedência'!V70","v":1},{"$f":"'CV Rotina <2A - procedência'!X70","v":0.69078104993597955},{"$f":"'CV Rotina <2A - procedência'!Z70","v":0.95902688860435337},{"$f":"'CV Rotina <2A - procedência'!AD70","v":0.84507042253521125},2,4,6,2]
["Central","São Roque do Canaã",{"$f":"'CV Rotina <2A - procedência'!L71","v":0.39669421487603307},{"$f":"'CV Rotina <2A - procedência'!T71","v":0.90082644628099173},{"$f":"'CV Rotina <2A - procedência'!N71","v":0.86776859504132231},{"$f":"'CV Rotina <2A - procedência'!P71","v":0.84297520661157022},{"$f":"'CV Rotina <2A - procedência'!R71","v":0.77685950413223137},{"$f":"'CV Rotina <2A - procedência'!AB71","v":1.0413223140495869},{"$f":"'CV Rotina <2A - procedência'!V71","v":0.83471074380165289},{"$f":"'CV Rotina <2A - procedência'!X71","v":0.78512396694214881},{"$f":"'CV Rotina <2A - procedência'!Z71","v":0.90082644628099173},{"$f":"'CV Rotina <2A - procedência'!AD71","v":0.94214876033057848},1,1,2,1]
["Metropolitana","Serra",{"$f":"'CV Rotina <2A - procedência'!L72","v":1.1219860179768868},{"$f":"'CV Rotina <2A - procedência'!T72","v":0.8563275788272221},{"$f":"'CV Rotina <2A - procedência'!N72","v":0.77543158795833933},{"$f":"'CV Rotina <2A - procedência'!P72","v":0.76615779711799115},{"$f":"'CV Rotina <2A - procedência'!R72","v":0.81095734056213442},{"$f":"'CV Rotina <2A - procedência'!AB72","v":0.86274789556284781},{"$f":"'CV Rotina <2A - procedência'!V72","v":0.80724782422599517},{"$f":"'CV Rotina <2A - procedência'!X72","v":0.63347125124839487},{"$f":"'CV Rotina <2A - procedência'!Z72","v":0.82650877443287207},{"$f":"'CV Rotina <2A - procedência'!AD72","v":0.70652018832929087},1,0,1,0]
["Central","Sooretama",{"$f":"'CV Rotina <2A - procedência'!L73","v":8.1841432225063945E-2},{"$f":"'CV Rotina <2A - procedência'!T73","v":0.96419437340153458},{"$f":"'CV Rotina <2A - procedência'!N73","v":0.86189258312020456},{"$f":"'CV Rotina <2A - procedência'!P73","v":0.84910485933503832},{"$f":"'CV Rotina <2A - procedência'!R73","v":0.85933503836317138},{"$f":"'CV Rotina <2A - procedência'!AB73","v":1.0358056265984654},{"$f":"'CV Rotina <2A - procedência'!V73","v":0.92583120204603575},{"$f":"'CV Rotina <2A - procedência'!X73","v":0.75959079283887465},{"$f":"'CV Rotina <2A - procedência'!Z73","v":0.92583120204603575},{"$f":"'CV Rotina <2A - procedência'!AD73","v":0.86445012787723785},1,1,2,1]
["Sul","Vargem Alta",{"$f":"'CV Rotina <2A - procedência'!L74","v":0.12301587301587301},{"$f":"'CV Rotina <2A - procedência'!T74","v":0.98015873015873012},{"$f":"'CV Rotina <2A - procedência'!N74","v":0.91666666666666663},{"$f":"'CV Rotina <2A - procedência'!P74","v":0.90079365079365081},{"$f":"'CV Rotina <2A - procedência'!R74","v":0.9642857142857143},{"$f":"'CV Rotina <2A - procedência'!AB74","v":0.91269841269841268},{"$f":"'CV Rotina <2A - procedência'!V74","v":0.96031746031746035},{"$f":"'CV Rotina <2A - procedência'!X74","v":0.77777777777777779},{"$f":"'CV Rotina <2A - procedência'!Z74","v":0.90476190476190477},{"$f":"'CV Rotina <2A - procedência'!AD74","v":0.94841269841269837},1,2,3,1]
["Metropolitana","Venda Nova do Imigrante",{"$f":"'CV Rotina <2A - procedência'!L75","v":1.1486068111455108},{"$f":"'CV Rotina <2A - procedência'!T75","v":1.0092879256965945},{"$f":"'CV Rotina <2A - procedência'!N75","v":0.95975232198142413},{"$f":"'CV Rotina <2A - procedência'!P75","v":0.95665634674922606},{"$f":"'CV Rotina <2A - procedência'!R75","v":0.97213622291021673},{"$f":"'CV Rotina <2A - procedência'!AB75","v":1.0464396284829722},{"$f":"'CV Rotina <2A - procedência'!V75","v":0.97213622291021673},{"$f":"'CV Rotina <2A - procedência'!X75","v":0.89783281733746134},{"$f":"'CV Rotina <2A - procedência'!Z75","v":1.0371517027863777},{"$f":"'CV Rotina <2A - procedência'!AD75","v":1.0897832817337461},2,7,9,4]
["Metropolitana","Viana",{"$f":"'CV Rotina <2A - procedência'!L76","v":0.20298879202988793},{"$f":"'CV Rotina <2A - procedência'!T76","v":1.0361145703611456},{"$f":"'CV Rotina <2A - procedência'!N76","v":0.97758405977584062},{"$f":"'CV Rotina <2A - procedência'!P76","v":0.91282689912826898},{"$f":"'CV Rotina <2A - procedência'!R76","v":0.98256537982565384},{"$f":"'CV Rotina <2A - procedência'!AB76","v":1.12826899128269},{"$f":"'CV Rotina <2A - procedência'!V76","v":1.0012453300124533},{"$f":"'CV Rotina <2A - procedência'!X76","v":0.67123287671232879},{"$f":"'CV Rotina <2A - procedência'!Z76","v":0.98754669987546695},{"$f":"'CV Rotina <2A - procedência'!AD76","v":0.76338729763387303},1,5,6,3]
["Norte","Vila Pavão",{"$f":"'CV Rotina <2A - procedência'!L77","v":0.51648351648351654},{"$f":"'CV Rotina <2A - procedência'!T77","v":1.2087912087912087},{"$f":"'CV Rotina <2A - procedência'!N77","v":1.2967032967032968},{"$f":"'CV Rotina <2A - procedência'!P77","v":1.2967032967032968},{"$f":"'CV Rotina <2A - procedência'!R77","v":1.1648351648351649},{"$f":"'CV Rotina <2A - procedência'!AB77","v":1.2197802197802199},{"$f":"'CV Rotina <2A - procedência'!V77","v":1.3076923076923077},{"$f":"'CV Rotina <2A - procedência'!X77","v":1.0769230769230769},{"$f":"'CV Rotina <2A - procedência'!Z77","v":1.0879120879120878},{"$f":"'CV Rotina <2A - procedência'!AD77","v":0.98901098901098905},1,8,9,4]
["Central","Vila Valério",{"$f":"'CV Rotina <2A - procedência'!L78","v":0.22457627118644069},{"$f":"'CV Rotina <2A - procedência'!T78","v":0.78389830508474578},{"$f":"'CV Rotina <2A - procedência'!N78","v":0.75847457627118642},{"$f":"'CV Rotina <2A - procedência'!P78","v":0.76694915254237284},{"$f":"'CV Rotina <2A - procedência'!R78","v":0.72457627118644063},{"$f":"'CV Rotina <2A - procedência'!AB78","v":1.0084745762711864},{"$f":"'CV Rotina <2A - procedência'!V78","v":0.75},{"$f":"'CV Rotina <2A - procedência'!X78","v":0.75423728813559321},{"$f":"'CV Rotina <2A - procedência'!Z78","v":1.0381355932203389},{"$f":"'CV Rotina <2A - procedência'!AD78","v":0.99576271186440679},0,3,3,1]
["Metropolitana","Vila Velha",{"$f":"'CV Rotina <2A - procedência'!L79","v":0.7270428015564202},{"$f":"'CV Rotina <2A - procedência'!T79","v":0.87762645914396886},{"$f":"'CV Rotina <2A - procedência'!N79","v":0.77782101167315176},{"$f":"'CV Rotina <2A - procedência'!P79","v":0.77607003891050585},{"$f":"'CV Rotina <2A - procedência'!R79","v":0.83638132295719847},{"$f":"'CV Rotina <2A - procedência'!AB79","v":0.8626459143968872},{"$f":"'CV Rotina <2A - procedência'!V79","v":0.84455252918287937},{"$f":"'CV Rotina <2A - procedência'!X79","v":0.61595330739299614},{"$f":"'CV Rotina <2A - procedência'!Z79","v":0.8461089494163424},{"$f":"'CV Rotina <2A - procedência'!AD79","v":0.76614785992217904},0,0,0,0]
["Metropolitana","Vitória",{"$f":"'CV Rotina <2A - procedência'!L80","v":2.041908840624044},{"$f":"'CV Rotina <2A - procedência'!T80","v":1.164882226980728},{"$f":"'CV Rotina <2A - procedência'!N80","v":1.1312327929030284},{"$f":"'CV Rotina <2A - procedência'!P80","v":1.1272560416029367},{"$f":"'CV Rotina <2A - procedência'!R80","v":1.2181095136127256},{"$f":"'CV Rotina <2A - procedência'!AB80","v":1.1397981033955338},{"$f":"'CV Rotina <2A - procedência'!V80","v":1.1960844294891404},{"$f":"'CV Rotina <2A - procedência'!X80","v":0.72193331293973695},{"$f":"'CV Rotina <2A - procedência'!Z80","v":1.0495564392780667},{"$f":"'CV Rotina <2A - procedência'!AD80","v":0.97858672376873657},2,7,9,4]
[]
[null,"Total Norte",{"$f":"'CV Rotina <2A - procedência'!L82","v":0.83620178041543025},{"$f":"'CV Rotina <2A - procedência'!T82","v":0.99564787339268046},{"$f":"'CV Rotina <2A - procedência'!N82","v":0.93095944609297721},{"$f":"'CV Rotina <2A - procedência'!P82","v":0.91750741839762606},{"$f":"'CV Rotina <2A - procedência'!R82","v":0.95509396636993071},{"$f":"'CV Rotina <2A - procedência'!AB82","v":1.0251236399604353},{"$f":"'CV Rotina <2A - procedência'!V82","v":0.95825914935707224},{"$f":"'CV Rotina <2A - procedência'!X82","v":0.77309594460929776},{"$f":"'CV Rotina <2A - procedência'!Z82","v":0.97408506429277941},{"$f":"'CV Rotina <2A - procedência'!AD82","v":0.90880316518298709},{"$f":"COUNTIF(C82:D82,\">=0,9\")","v":1},{"$f":"COUNTIFS(E82:L82,\">=0,95\")","v":4},{"$f":"SUM(M82:N82)","v":5},{"$f":"COUNTIF(E82:H82,\">=0,95\")","v":2}]
[null,"Total Central",{"$f":"'CV Rotina <2A - procedência'!L83","v":1.0929477265697494},{"$f":"'CV Rotina <2A - procedência'!T83","v":0.92468295700587688},{"$f":"'CV Rotina <2A - procedência'!N83","v":0.88153417878131768},{"$f":"'CV Rotina <2A - procedência'!P83","v":0.87256418187442009},{"$f":"'CV Rotina <2A - procedência'!R83","v":0.88462728116300648},{"$f":"'CV Rotina <2A - procedência'!AB83","v":0.96025363439529854},{"$f":"'CV Rotina <2A - procedência'!V83","v":0.91710485617073922},{"$f":"'CV Rotina <2A - procedência'!X83","v":0.74559232910609341},{"$f":"'CV Rotina <2A - procedência'!Z83","v":0.91014537581193933},{"$f":"'CV Rotina <2A - procedência'!AD83","v":0.86297556449118462},{"$f":"COUNTIF(C83:D83,\">=0,9\")","v":2},{"$f":"COUNTIFS(E83:L83,\">=0,95\")","v":1},{"$f":"SUM(M83:N83)","v":3},{"$f":"COUNTIF(E83:H83,\">=0,95\")","v":1}]
[null,"Total Metropolitana",{"$f":"'CV Rotina <2A - procedência'!L84","v":0.93993179067805932},{"$f":"'CV Rotina <2A - procedência'!T84","v":0.93017712420697496},{"$f":"'CV Rotina <2A - procedência'!N84","v":0.86255454912171325},{"$f":"'CV Rotina <2A - procedência'!P84","v":0.85478015328761603},{"$f":"'CV Rotina <2A - procedência'!R84","v":0.88422751109318276},{"$f":"'CV Rotina <2A - procedência'!AB84","v":0.94169203124427003},{"$f":"'CV Rotina <2A - procedência'!V84","v":0.90171990171990168},{"$f":"'CV Rotina <2A - procedência'!X84","v":0.67288862811250871},{"$f":"'CV Rotina <2A - procedência'!Z84","v":0.89962961604752645},{"$f":"'CV Rotina <2A - procedência'!AD84","v":0.81675162272177193},{"$f":"COUNTIF(C84:D84,\">=0,9\")","v":2},{"$f":"COUNTIFS(E84:L84,\">=0,95\")","v":0},{"$f":"SUM(M84:N84)","v":2},{"$f":"COUNTIF(E84:H84,\">=0,95\")","v":0}]
[null,"Total Sul",{"$f":"'CV Rotina <2A - procedência'!L85","v":0.97326706072004299},{"$f":"'CV Rotina <2A - procedência'!T85","v":0.98683503492745839},{"$f":"'CV Rotina <2A - procedência'!N85","v":0.94062332079527133},{"$f":"'CV Rotina <2A - procedência'!P85","v":0.92020419129500264},{"$f":"'CV Rotina <2A - procedência'!R85","v":0.94586243954862981},{"$f":"'CV Rotina <2A - procedência'!AB85","v":1.0108812466415906},{"$f":"'CV Rotina <2A - procedência'!V85","v":0.95338527673293927},{"$f":"'CV Rotina <2A - procedência'!X85","v":0.75873186458893072},{"$f":"'CV Rotina <2A - procedência'!Z85","v":0.96413218699623859},{"$f":"'CV Rotina <2A - procedência'!AD85","v":0.93283181085437938},{"$f":"COUNTIF(C85:D85,\">=0,9\")","v":2},{"$f":"COUNTIFS(E85:L85,\">=0,95\")","v":3},{"$f":"SUM(M85:N85)","v":5},{"$f":"COUNTIF(E85:H85,\">=0,95\")","v":1}]
[null,"Total Espírito Santo",{"$f":"'CV Rotina <2A - procedência'!L86","v":0.95535752909114502},{"$f":"'CV Rotina <2A - procedência'!T86","v":0.94568931954838431},{"$f":"'CV Rotina <2A - procedência'!N86","v":0.88525760263009912},{"$f":"'CV Rotina <2A - procedência'!P86","v":0.87465934161007053},{"$f":"'CV Rotina <2A - procedência'!R86","v":0.9019552710126747},{"$f":"'CV Rotina <2A - procedência'!AB86","v":0.96454989834321059},{"$f":"'CV Rotina <2A - procedência'!V86","v":0.91837176104165763},{"$f":"'CV Rotina <2A - procedência'!X86","v":0.70783406151317207},{"$f":"'CV Rotina <2A - procedência'!Z86","v":0.91962624908076307},{"$f":"'CV Rotina <2A - procedência'!AD86","v":0.8519704113855604},{"$f":"COUNTIF(C86:D86,\">=0,9\")","v":2},{"$f":"COUNTIFS(E86:L86,\">=0,95\")","v":1},{"$f":"SUM(M86:N86)","v":3},{"$f":"COUNTIF(E86:H86,\">=0,95\")","v":1}]
[]
[]
["Fonte: SIPNI/DATASUS, em 09 de junho de 2023.*"]
[" Vacina e Confia, em 12 de junho de 2023.**"]
["*Dados referentes às doses aplicadas pelas clínicas particulares de janeiro a maio de 2023"]
["**Dados referente às doses aplicadas no período de janeiro a maio de 2023"]
["Cobertura Calculada por município de vacinação"]
["1 População proporcional extraída do MS/SVS/DASIS - Sistema de Informações sobre Nascidos Vivos - SINASC"]
["2000 a 2021 – Estimativas preliminares elaboradas pelo Ministério da Saúde/SVS/DASNT/CGIAE"]
[" Nota: Dados preliminares 2021"]

{"sheet":"cálculos2","index":17,"n_rows":96,"n_cols":16,"rows_kept":96,"cut":false,"hidden":true,"merged":[[0,2,0,3],[0,4,0,11]]}
[null,null,0.9,null,0.95]
["Regional ","Município","Cobertura Vacinal BCG","Cobertura Vacinal Rotavírus","Cobertura Vacinal Pentavalente","Cobertura Vacinal Poliomielite ","Cobertura Vacinal Pneumo 10","Cobertura Vacinal Tríplice Viral","Cobertura Vacinal Meningo C","Cobertura Vacinal Febre Amarela","Cobertura Vacinal Hepatite A","Cobertura Varicela","META 90%","META 95%","ATINGIRAM META","PQA-VS"]
["Metropolitana","Afonso Cláudio",{"$f":"'CV Rotina <2A - residência'!L3","v":0.95180722891566261},{"$f":"'CV Rotina <2A - residência'!T3","v":0.9487951807228916},{"$f":"'CV Rotina <2A - residência'!N3","v":0.96987951807228912},{"$f":"'CV Rotina <2A - residência'!P3","v":0.96084337349397586},{"$f":"'CV Rotina <2A - residência'!R3","v":0.92469879518072284},{"$f":"'CV Rotina <2A - residência'!AB3","v":1.0150602409638554},{"$f":"'CV Rotina <2A - residência'!V3","v":0.96084337349397586},{"$f":"'CV Rotina <2A - residência'!X3","v":0.84638554216867468},{"$f":"'CV Rotina <2A - residência'!Z3","v":1.0421686746987953},{"$f":"'CV Rotina <2A - residência'!AD3","v":1.1054216867469879},{"$f":"COUNTIF(C3:D3,\">=0,9\")","v":2},{"$f":"COUNTIFS(E3:L3,\">=0,95\")","v":6},{"$f":"SUM(M3:N3)","v":8},{"$f":"COUNTIF(E3:H3,\">=0,95\")","v":3}]
["Norte","Água Doce do Norte",{"$f":"'CV Rotina <2A - residência'!L4","v":0.87050359712230219},{"$f":"'CV Rotina <2A - residência'!T4","v":0.70503597122302153},{"$f":"'CV Rotina <2A - residência'!N4","v":0.84172661870503596},{"$f":"'CV Rotina <2A - residência'!P4","v":0.84172661870503596},{"$f":"'CV Rotina <2A - residência'!R4","v":0.72661870503597126},{"$f":"'CV Rotina <2A - residência'!AB4","v":1.1366906474820144},{"$f":"'CV Rotina <2A - residência'!V4","v":0.84892086330935257},{"$f":"'CV Rotina <2A - residência'!X4","v":0.90647482014388492},{"$f":"'CV Rotina <2A - residência'!Z4","v":1.0359712230215827},{"$f":"'CV Rotina <2A - residência'!AD4","v":0.71942446043165464},0,2,{"$f":"SUM(M4:N4)","v":2},{"$f":"COUNTIF(E4:H4,\">=0,95\")","v":1}]
["Central","Águia Branca",{"$f":"'CV Rotina <2A - residência'!L5","v":0.98039215686274506},{"$f":"'CV Rotina <2A - residência'!T5","v":0.90849673202614378},{"$f":"'CV Rotina <2A - residência'!N5","v":0.91503267973856206},{"$f":"'CV Rotina <2A - residência'!P5","v":0.92156862745098034},{"$f":"'CV Rotina <2A - residência'!R5","v":0.88235294117647056},{"$f":"'CV Rotina <2A - residência'!AB5","v":0.91503267973856206},{"$f":"'CV Rotina <2A - residência'!V5","v":0.89542483660130723},{"$f":"'CV Rotina <2A - residência'!X5","v":0.73856209150326801},{"$f":"'CV Rotina <2A - residência'!Z5","v":0.88888888888888884},{"$f":"'CV Rotina <2A - residência'!AD5","v":0.934640522875817},2,0,2,0]
["Sul","Alegre",{"$f":"'CV Rotina <2A - residência'!L6","v":0.8595890410958904},{"$f":"'CV Rotina <2A - residência'!T6","v":0.93150684931506844},{"$f":"'CV Rotina <2A - residência'!N6","v":0.93150684931506844},{"$f":"'CV Rotina <2A - residência'!P6","v":0.89726027397260277},{"$f":"'CV Rotina <2A - residência'!R6","v":0.88013698630136983},{"$f":"'CV Rotina <2A - residência'!AB6","v":1.0410958904109588},{"$f":"'CV Rotina <2A - residência'!V6","v":0.95547945205479456},{"$f":"'CV Rotina <2A - residência'!X6","v":0.82876712328767121},{"$f":"'CV Rotina <2A - residência'!Z6","v":1.0582191780821917},{"$f":"'CV Rotina <2A - residência'!AD6","v":1.1198630136986301},1,4,5,1]
["Sul","Alfredo Chaves",{"$f":"'CV Rotina <2A - residência'!L7","v":1.0288461538461537},{"$f":"'CV Rotina <2A - residência'!T7","v":0.98076923076923073},{"$f":"'CV Rotina <2A - residência'!N7","v":0.97115384615384615},{"$f":"'CV Rotina <2A - residência'!P7","v":0.96153846153846156},{"$f":"'CV Rotina <2A - residência'!R7","v":0.85576923076923073},{"$f":"'CV Rotina <2A - residência'!AB7","v":1},{"$f":"'CV Rotina <2A - residência'!V7","v":0.92307692307692313},{"$f":"'CV Rotina <2A - residência'!X7","v":0.81730769230769229},{"$f":"'CV Rotina <2A - residência'!Z7","v":1.0769230769230769},{"$f":"'CV Rotina <2A - residência'!AD7","v":1.125},2,5,7,3]
["Central","Alto Rio Novo",{"$f":"'CV Rotina <2A - residência'!L8","v":0.98913043478260865},{"$f":"'CV Rotina <2A - residência'!T8","v":1.0326086956521738},{"$f":"'CV Rotina <2A - residência'!N8","v":0.91304347826086951},{"$f":"'CV Rotina <2A - residência'!P8","v":0.91304347826086951},{"$f":"'CV Rotina <2A - residência'!R8","v":1.0217391304347827},{"$f":"'CV Rotina <2A - residência'!AB8","v":0.94565217391304346},{"$f":"'CV Rotina <2A - residência'!V8","v":0.98913043478260865},{"$f":"'CV Rotina <2A - residência'!X8","v":0.86956521739130432},{"$f":"'CV Rotina <2A - residência'!Z8","v":0.93478260869565222},{"$f":"'CV Rotina <2A - residência'!AD8","v":1},2,3,5,1]
["Sul","Anchieta",{"$f":"'CV Rotina <2A - residência'!L9","v":1.0422077922077921},{"$f":"'CV Rotina <2A - residência'!T9","v":1.1493506493506493},{"$f":"'CV Rotina <2A - residência'!N9","v":1.1363636363636365},{"$f":"'CV Rotina <2A - residência'!P9","v":1.1298701298701299},{"$f":"'CV Rotina <2A - residência'!R9","v":1.1266233766233766},{"$f":"'CV Rotina <2A - residência'!AB9","v":1.2337662337662338},{"$f":"'CV Rotina <2A - residência'!V9","v":1.1493506493506493},{"$f":"'CV Rotina <2A - residência'!X9","v":0.92532467532467533},{"$f":"'CV Rotina <2A - residência'!Z9","v":1.1298701298701299},{"$f":"'CV Rotina <2A - residência'!AD9","v":1.1396103896103895},2,7,9,4]
["Sul","Apiacá",{"$f":"'CV Rotina <2A - residência'!L10","v":1.0175438596491229},{"$f":"'CV Rotina <2A - residência'!T10","v":0.94736842105263153},{"$f":"'CV Rotina <2A - residência'!N10","v":1.0701754385964912},{"$f":"'CV Rotina <2A - residência'!P10","v":1.0175438596491229},{"$f":"'CV Rotina <2A - residência'!R10","v":0.98245614035087714},{"$f":"'CV Rotina <2A - residência'!AB10","v":1},{"$f":"'CV Rotina <2A - residência'!V10","v":1.0350877192982457},{"$f":"'CV Rotina <2A - residência'!X10","v":0.82456140350877194},{"$f":"'CV Rotina <2A - residência'!Z10","v":0.96491228070175439},{"$f":"'CV Rotina <2A - residência'!AD10","v":1.0877192982456141},2,7,9,4]
["Metropolitana","Aracruz",{"$f":"'CV Rotina <2A - residência'!L11","v":0.98480243161094227},{"$f":"'CV Rotina <2A - residência'!T11","v":0.94300911854103342},{"$f":"'CV Rotina <2A - residência'!N11","v":0.87765957446808507},{"$f":"'CV Rotina <2A - residência'!P11","v":0.87462006079027355},{"$f":"'CV Rotina <2A - residência'!R11","v":0.87082066869300911},{"$f":"'CV Rotina <2A - residência'!AB11","v":1.0037993920972645},{"$f":"'CV Rotina <2A - residência'!V11","v":0.8928571428571429},{"$f":"'CV Rotina <2A - residência'!X11","v":0.7264437689969605},{"$f":"'CV Rotina <2A - residência'!Z11","v":0.96276595744680848},{"$f":"'CV Rotina <2A - residência'!AD11","v":0.96732522796352582},2,3,5,1]
["Sul","Atilio Vivacqua",{"$f":"'CV Rotina <2A - residência'!L12","v":0.98473282442748089},{"$f":"'CV Rotina <2A - residência'!T12","v":1.2213740458015268},{"$f":"'CV Rotina <2A - residência'!N12","v":1.2290076335877862},{"$f":"'CV Rotina <2A - residência'!P12","v":1.2137404580152671},{"$f":"'CV Rotina <2A - residência'!R12","v":1.1984732824427482},{"$f":"'CV Rotina <2A - residência'!AB12","v":1.2290076335877862},{"$f":"'CV Rotina <2A - residência'!V12","v":1.2366412213740459},{"$f":"'CV Rotina <2A - residência'!X12","v":1.1145038167938932},{"$f":"'CV Rotina <2A - residência'!Z12","v":1.1297709923664123},{"$f":"'CV Rotina <2A - residência'!AD12","v":1.1145038167938932},2,8,10,4]
["Central","Baixo Guandu",{"$f":"'CV Rotina <2A - residência'!L13","v":1.0401234567901234},{"$f":"'CV Rotina <2A - residência'!T13","v":0.96913580246913578},{"$f":"'CV Rotina <2A - residência'!N13","v":0.9320987654320988},{"$f":"'CV Rotina <2A - residência'!P13","v":0.92901234567901236},{"$f":"'CV Rotina <2A - residência'!R13","v":0.94753086419753085},{"$f":"'CV Rotina <2A - residência'!AB13","v":1.021604938271605},{"$f":"'CV Rotina <2A - residência'!V13","v":0.94753086419753085},{"$f":"'CV Rotina <2A - residência'!X13","v":0.81481481481481477},{"$f":"'CV Rotina <2A - residência'!Z13","v":1.0524691358024691},{"$f":"'CV Rotina <2A - residência'!AD13","v":0.99691358024691357},2,3,5,1]
["Norte","Barra de São Francisco",{"$f":"'CV Rotina <2A - residência'!L14","v":0.83859649122807023},{"$f":"'CV Rotina <2A - residência'!T14","v":0.85964912280701755},{"$f":"'CV Rotina <2A - residência'!N14","v":0.83859649122807023},{"$f":"'CV Rotina <2A - residência'!P14","v":0.82105263157894737},{"$f":"'CV Rotina <2A - residência'!R14","v":0.83508771929824566},{"$f":"'CV Rotina <2A - residência'!AB14","v":0.86491228070175441},{"$f":"'CV Rotina <2A - residência'!V14","v":0.8403508771929824},{"$f":"'CV Rotina <2A - residência'!X14","v":0.67894736842105263},{"$f":"'CV Rotina <2A - residência'!Z14","v":0.79649122807017547},{"$f":"'CV Rotina <2A - residência'!AD14","v":0.85789473684210527},0,0,0,0]
["Norte","Boa Esperança",{"$f":"'CV Rotina <2A - residência'!L15","v":0.90052356020942403},{"$f":"'CV Rotina <2A - residência'!T15","v":0.95811518324607325},{"$f":"'CV Rotina <2A - residência'!N15","v":0.89528795811518325},{"$f":"'CV Rotina <2A - residência'!P15","v":0.89528795811518325},{"$f":"'CV Rotina <2A - residência'!R15","v":0.96335078534031415},{"$f":"'CV Rotina <2A - residência'!AB15","v":0.93717277486910999},{"$f":"'CV Rotina <2A - residência'!V15","v":0.90575916230366493},{"$f":"'CV Rotina <2A - residência'!X15","v":0.76963350785340312},{"$f":"'CV Rotina <2A - residência'!Z15","v":0.89005235602094246},{"$f":"'CV Rotina <2A - residência'!AD15","v":0.84816753926701571},2,1,3,1]
["Sul","Bom Jesus do Norte",{"$f":"'CV Rotina <2A - residência'!L16","v":1.3134328358208955},{"$f":"'CV Rotina <2A - residência'!T16","v":1.5223880597014925},{"$f":"'CV Rotina <2A - residência'!N16","v":1.3731343283582089},{"$f":"'CV Rotina <2A - residência'!P16","v":1.3731343283582089},{"$f":"'CV Rotina <2A - residência'!R16","v":1.4776119402985075},{"$f":"'CV Rotina <2A - residência'!AB16","v":1.4179104477611941},{"$f":"'CV Rotina <2A - residência'!V16","v":1.4029850746268657},{"$f":"'CV Rotina <2A - residência'!X16","v":1.1044776119402986},{"$f":"'CV Rotina <2A - residência'!Z16","v":1.3880597014925373},{"$f":"'CV Rotina <2A - residência'!AD16","v":1.3283582089552239},2,8,10,4]
["Metropolitana","Brejetuba",{"$f":"'CV Rotina <2A - residência'!L17","v":0.78873239436619713},{"$f":"'CV Rotina <2A - residência'!T17","v":0.95774647887323938},{"$f":"'CV Rotina <2A - residência'!N17","v":0.85915492957746475},{"$f":"'CV Rotina <2A - residência'!P17","v":0.89671361502347413},{"$f":"'CV Rotina <2A - residência'!R17","v":0.88262910798122063},{"$f":"'CV Rotina <2A - residência'!AB17","v":0.92018779342723001},{"$f":"'CV Rotina <2A - residência'!V17","v":0.91549295774647887},{"$f":"'CV Rotina <2A - residência'!X17","v":0.78873239436619713},{"$f":"'CV Rotina <2A - residência'!Z17","v":0.84976525821596249},{"$f":"'CV Rotina <2A - residência'!AD17","v":0.9859154929577465},1,1,2,0]
["Sul","Cachoeiro de Itapemirim",{"$f":"'CV Rotina <2A - residência'!L18","v":0.97934832491968793},{"$f":"'CV Rotina <2A - residência'!T18","v":0.9444699403396053},{"$f":"'CV Rotina <2A - residência'!N18","v":0.87976135842129422},{"$f":"'CV Rotina <2A - residência'!P18","v":0.87058283616337773},{"$f":"'CV Rotina <2A - residência'!R18","v":0.89536484625975221},{"$f":"'CV Rotina <2A - residência'!AB18","v":0.99632859109683336},{"$f":"'CV Rotina <2A - residência'!V18","v":0.89077558513079391},{"$f":"'CV Rotina <2A - residência'!X18","v":0.66498393758604868},{"$f":"'CV Rotina <2A - residência'!Z18","v":0.91693437356585594},{"$f":"'CV Rotina <2A - residência'!AD18","v":0.89444699403396055},2,1,3,1]
["Metropolitana","Cariacica",{"$f":"'CV Rotina <2A - residência'!L19","v":0.92594285714285718},{"$f":"'CV Rotina <2A - residência'!T19","v":0.89280000000000004},{"$f":"'CV Rotina <2A - residência'!N19","v":0.8324571428571429},{"$f":"'CV Rotina <2A - residência'!P19","v":0.82354285714285713},{"$f":"'CV Rotina <2A - residência'!R19","v":0.81257142857142861},{"$f":"'CV Rotina <2A - residência'!AB19","v":0.93074285714285709},{"$f":"'CV Rotina <2A - residência'!V19","v":0.87588571428571427},{"$f":"'CV Rotina <2A - residência'!X19","v":0.63931428571428572},{"$f":"'CV Rotina <2A - residência'!Z19","v":0.88502857142857139},{"$f":"'CV Rotina <2A - residência'!AD19","v":0.7643428571428571},1,0,1,0]
["Sul","Castelo",{"$f":"'CV Rotina <2A - residência'!L20","v":1.1374269005847952},{"$f":"'CV Rotina <2A - residência'!T20","v":1.1023391812865497},{"$f":"'CV Rotina <2A - residência'!N20","v":1.0789473684210527},{"$f":"'CV Rotina <2A - residência'!P20","v":1.0584795321637428},{"$f":"'CV Rotina <2A - residência'!R20","v":1.0146198830409356},{"$f":"'CV Rotina <2A - residência'!AB20","v":1.1578947368421053},{"$f":"'CV Rotina <2A - residência'!V20","v":1.0877192982456141},{"$f":"'CV Rotina <2A - residência'!X20","v":0.95906432748538006},{"$f":"'CV Rotina <2A - residência'!Z20","v":1.1842105263157894},{"$f":"'CV Rotina <2A - residência'!AD20","v":1.0526315789473684},2,8,10,4]
["Central","Colatina",{"$f":"'CV Rotina <2A - residência'!L21","v":1},{"$f":"'CV Rotina <2A - residência'!T21","v":0.90353460972017674},{"$f":"'CV Rotina <2A - residência'!N21","v":0.86450662739322537},{"$f":"'CV Rotina <2A - residência'!P21","v":0.8615611192930781},{"$f":"'CV Rotina <2A - residência'!R21","v":0.83284241531664216},{"$f":"'CV Rotina <2A - residência'!AB21","v":0.96686303387334316},{"$f":"'CV Rotina <2A - residência'!V21","v":0.90427098674521356},{"$f":"'CV Rotina <2A - residência'!X21","v":0.72754050073637699},{"$f":"'CV Rotina <2A - residência'!Z21","v":0.89175257731958768},{"$f":"'CV Rotina <2A - residência'!AD21","v":0.84020618556701032},2,1,3,1]
["Norte","Conceição da Barra",{"$f":"'CV Rotina <2A - residência'!L22","v":0.98165137614678899},{"$f":"'CV Rotina <2A - residência'!T22","v":1.0795107033639144},{"$f":"'CV Rotina <2A - residência'!N22","v":1.036697247706422},{"$f":"'CV Rotina <2A - residência'!P22","v":1.0397553516819571},{"$f":"'CV Rotina <2A - residência'!R22","v":1.0611620795107033},{"$f":"'CV Rotina <2A - residência'!AB22","v":1.2232415902140672},{"$f":"'CV Rotina <2A - residência'!V22","v":1.073394495412844},{"$f":"'CV Rotina <2A - residência'!X22","v":0.93577981651376152},{"$f":"'CV Rotina <2A - residência'!Z22","v":1.2110091743119267},{"$f":"'CV Rotina <2A - residência'!AD22","v":1.1865443425076452},2,7,9,4]
["Metropolitana","Conceição do Castelo",{"$f":"'CV Rotina <2A - residência'!L23","v":0.83625730994152048},{"$f":"'CV Rotina <2A - residência'!T23","v":0.86549707602339176},{"$f":"'CV Rotina <2A - residência'!N23","v":0.78947368421052633},{"$f":"'CV Rotina <2A - residência'!P23","v":0.73684210526315785},{"$f":"'CV Rotina <2A - residência'!R23","v":0.58479532163742687},{"$f":"'CV Rotina <2A - residência'!AB23","v":0.77192982456140347},{"$f":"'CV Rotina <2A - residência'!V23","v":0.80701754385964908},{"$f":"'CV Rotina <2A - residência'!X23","v":0.67836257309941517},{"$f":"'CV Rotina <2A - residência'!Z23","v":0.65497076023391809},{"$f":"'CV Rotina <2A - residência'!AD23","v":0.77192982456140347},0,0,0,0]
["Sul","Divino de São Lourenço",{"$f":"'CV Rotina <2A - residência'!L24","v":1.0806451612903225},{"$f":"'CV Rotina <2A - residência'!T24","v":0.74193548387096775},{"$f":"'CV Rotina <2A - residência'!N24","v":0.69354838709677424},{"$f":"'CV Rotina <2A - residência'!P24","v":0.70967741935483875},{"$f":"'CV Rotina <2A - residência'!R24","v":0.72580645161290325},{"$f":"'CV Rotina <2A - residência'!AB24","v":1.0161290322580645},{"$f":"'CV Rotina <2A - residência'!V24","v":0.70967741935483875},{"$f":"'CV Rotina <2A - residência'!X24","v":0.83870967741935487},{"$f":"'CV Rotina <2A - residência'!Z24","v":1.064516129032258},{"$f":"'CV Rotina <2A - residência'!AD24","v":1.1612903225806452},1,3,4,1]
["Metropolitana","Domingos Martins",{"$f":"'CV Rotina <2A - residência'!L25","v":0.92670157068062831},{"$f":"'CV Rotina <2A - residência'!T25","v":1.0026178010471205},{"$f":"'CV Rotina <2A - residência'!N25","v":0.99476439790575921},{"$f":"'CV Rotina <2A - residência'!P25","v":0.98429319371727753},{"$f":"'CV Rotina <2A - residência'!R25","v":0.95549738219895286},{"$f":"'CV Rotina <2A - residência'!AB25","v":1},{"$f":"'CV Rotina <2A - residência'!V25","v":1.0418848167539267},{"$f":"'CV Rotina <2A - residência'!X25","v":0.87172774869109948},{"$f":"'CV Rotina <2A - residência'!Z25","v":1.0078534031413613},{"$f":"'CV Rotina <2A - residência'!AD25","v":1.0209424083769634},2,7,9,4]
["Sul","Dores do Rio Preto",{"$f":"'CV Rotina <2A - residência'!L26","v":0.61616161616161613},{"$f":"'CV Rotina <2A - residência'!T26","v":1},{"$f":"'CV Rotina <2A - residência'!N26","v":0.97979797979797978},{"$f":"'CV Rotina <2A - residência'!P26","v":0.96969696969696972},{"$f":"'CV Rotina <2A - residência'!R26","v":0.65656565656565657},{"$f":"'CV Rotina <2A - residência'!AB26","v":0.95959595959595956},{"$f":"'CV Rotina <2A - residência'!V26","v":0.93939393939393945},{"$f":"'CV Rotina <2A - residência'!X26","v":0.77777777777777779},{"$f":"'CV Rotina <2A - residência'!Z26","v":0.88888888888888884},{"$f":"'CV Rotina <2A - residência'!AD26","v":0.81818181818181823},1,3,4,3]
["Norte","Ecoporanga",{"$f":"'CV Rotina <2A - residência'!L27","v":0.96995708154506433},{"$f":"'CV Rotina <2A - residência'!T27","v":1.0343347639484979},{"$f":"'CV Rotina <2A - residência'!N27","v":1.0214592274678111},{"$f":"'CV Rotina <2A - residência'!P27","v":1},{"$f":"'CV Rotina <2A - residência'!R27","v":0.99570815450643779},{"$f":"'CV Rotina <2A - residência'!AB27","v":1.0214592274678111},{"$f":"'CV Rotina <2A - residência'!V27","v":1.0257510729613735},{"$f":"'CV Rotina <2A - residência'!X27","v":0.81545064377682408},{"$f":"'CV Rotina <2A - residência'!Z27","v":0.98283261802575106},{"$f":"'CV Rotina <2A - residência'!AD27","v":0.92274678111587982},2,6,8,4]
["Metropolitana","Fundão",{"$f":"'CV Rotina <2A - residência'!L28","v":0.96244131455399062},{"$f":"'CV Rotina <2A - residência'!T28","v":1},{"$f":"'CV Rotina <2A - residência'!N28","v":0.99061032863849763},{"$f":"'CV Rotina <2A - residência'!P28","v":0.9859154929577465},{"$f":"'CV Rotina <2A - residência'!R28","v":0.91549295774647887},{"$f":"'CV Rotina <2A - residência'!AB28","v":0.96244131455399062},{"$f":"'CV Rotina <2A - residência'!V28","v":0.94366197183098588},{"$f":"'CV Rotina <2A - residência'!X28","v":0.71361502347417838},{"$f":"'CV Rotina <2A - residência'!Z28","v":0.8779342723004695},{"$f":"'CV Rotina <2A - residência'!AD28","v":0.88262910798122063},2,3,5,3]
["Central","Governador Lindenberg",{"$f":"'CV Rotina <2A - residência'!L29","v":1.0461538461538462},{"$f":"'CV Rotina <2A - residência'!T29","v":0.81538461538461537},{"$f":"'CV Rotina <2A - residência'!N29","v":0.72307692307692306},{"$f":"'CV Rotina <2A - residência'!P29","v":0.72307692307692306},{"$f":"'CV Rotina <2A - residência'!R29","v":0.7615384615384615},{"$f":"'CV Rotina <2A - residência'!AB29","v":0.90769230769230769},{"$f":"'CV Rotina <2A - residência'!V29","v":0.75384615384615383},{"$f":"'CV Rotina <2A - residência'!X29","v":0.60769230769230764},{"$f":"'CV Rotina <2A - residência'!Z29","v":0.86923076923076925},{"$f":"'CV Rotina <2A - residência'!AD29","v":0.83846153846153848},1,0,1,0]
["Sul","Guaçuí",{"$f":"'CV Rotina <2A - residência'!L30","v":0.91242937853107342},{"$f":"'CV Rotina <2A - residência'!T30","v":0.89830508474576276},{"$f":"'CV Rotina <2A - residência'!N30","v":0.87005649717514122},{"$f":"'CV Rotina <2A - residência'!P30","v":0.8615819209039548},{"$f":"'CV Rotina <2A - residência'!R30","v":0.89265536723163841},{"$f":"'CV Rotina <2A - residência'!AB30","v":0.95480225988700562},{"$f":"'CV Rotina <2A - residência'!V30","v":0.90960451977401124},{"$f":"'CV Rotina <2A - residência'!X30","v":0.74011299435028244},{"$f":"'CV Rotina <2A - residência'!Z30","v":0.88135593220338981},{"$f":"'CV Rotina <2A - residência'!AD30","v":0.85028248587570621},1,1,2,1]
["Metropolitana","Guarapari",{"$f":"'CV Rotina <2A - residência'!L31","v":0.91349934469200522},{"$f":"'CV Rotina <2A - residência'!T31","v":0.91939711664482304},{"$f":"'CV Rotina <2A - residência'!N31","v":0.82372214941022281},{"$f":"'CV Rotina <2A - residência'!P31","v":0.81782437745740499},{"$f":"'CV Rotina <2A - residência'!R31","v":0.8781127129750983},{"$f":"'CV Rotina <2A - residência'!AB31","v":0.92201834862385323},{"$f":"'CV Rotina <2A - residência'!V31","v":0.88466579292267367},{"$f":"'CV Rotina <2A - residência'!X31","v":0.59764089121887287},{"$f":"'CV Rotina <2A - residência'!Z31","v":0.86762778505897775},{"$f":"'CV Rotina <2A - residência'!AD31","v":0.76671035386631714},2,0,2,0]
["Metropolitana","Ibatiba",{"$f":"'CV Rotina <2A - residência'!L32","v":0.89333333333333331},{"$f":"'CV Rotina <2A - residência'!T32","v":0.90666666666666662},{"$f":"'CV Rotina <2A - residência'!N32","v":0.89600000000000002},{"$f":"'CV Rotina <2A - residência'!P32","v":0.88800000000000001},{"$f":"'CV Rotina <2A - residência'!R32","v":0.85599999999999998},{"$f":"'CV Rotina <2A - residência'!AB32","v":0.92266666666666663},{"$f":"'CV Rotina <2A - residência'!V32","v":0.89066666666666672},{"$f":"'CV Rotina <2A - residência'!X32","v":0.75466666666666671},{"$f":"'CV Rotina <2A - residência'!Z32","v":0.95199999999999996},{"$f":"'CV Rotina <2A - residência'!AD32","v":0.88266666666666671},1,1,2,0]
["Metropolitana","Ibiraçu",{"$f":"'CV Rotina <2A - residência'!L33","v":0.95121951219512191},{"$f":"'CV Rotina <2A - residência'!T33","v":0.86991869918699183},{"$f":"'CV Rotina <2A - residência'!N33","v":0.93495934959349591},{"$f":"'CV Rotina <2A - residência'!P33","v":0.91056910569105687},{"$f":"'CV Rotina <2A - residência'!R33","v":0.91056910569105687},{"$f":"'CV Rotina <2A - residência'!AB33","v":1.0487804878048781},{"$f":"'CV Rotina <2A - residência'!V33","v":0.92682926829268297},{"$f":"'CV Rotina <2A - residência'!X33","v":0.84552845528455289},{"$f":"'CV Rotina <2A - residência'!Z33","v":1.0487804878048781},{"$f":"'CV Rotina <2A - residência'!AD33","v":1.0487804878048781},1,3,4,1]
["Sul","Ibitirama",{"$f":"'CV Rotina <2A - residência'!L34","v":1.0307692307692307},{"$f":"'CV Rotina <2A - residência'!T34","v":1.2384615384615385},{"$f":"'CV Rotina <2A - residência'!N34","v":1.1923076923076923},{"$f":"'CV Rotina <2A - residência'!P34","v":1.1615384615384616},{"$f":"'CV Rotina <2A - residência'!R34","v":1.2},{"$f":"'CV Rotina <2A - residência'!AB34","v":1.1461538461538461},{"$f":"'CV Rotina <2A - residência'!V34","v":1.176923076923077},{"$f":"'CV Rotina <2A - residência'!X34","v":0.97692307692307689},{"$f":"'CV Rotina <2A - residência'!Z34","v":1.0615384615384615},{"$f":"'CV Rotina <2A - residência'!AD34","v":1.0461538461538462},2,8,10,4]
["Sul","Iconha",{"$f":"'CV Rotina <2A - residência'!L35","v":0.95454545454545459},{"$f":"'CV Rotina <2A - residência'!T35","v":0.86363636363636365},{"$f":"'CV Rotina <2A - residência'!N35","v":0.90909090909090906},{"$f":"'CV Rotina <2A - residência'!P35","v":0.90909090909090906},{"$f":"'CV Rotina <2A - residência'!R35","v":0.81818181818181823},{"$f":"'CV Rotina <2A - residência'!AB35","v":0.8257575757575758},{"$f":"'CV Rotina <2A - residência'!V35","v":0.87121212121212122},{"$f":"'CV Rotina <2A - residência'!X35","v":0.74242424242424243},{"$f":"'CV Rotina <2A - residência'!Z35","v":0.76515151515151514},{"$f":"'CV Rotina <2A - residência'!AD35","v":0.89393939393939392},{"$f":"COUNTIF(C35:D35,\">=0,9\")","v":1},0,{"$f":"SUM(M35:N35)","v":1},0]
["Sul","Irupi",{"$f":"'CV Rotina <2A - residência'!L36","v":0.8994413407821229},{"$f":"'CV Rotina <2A - residência'!T36","v":0.9050279329608939},{"$f":"'CV Rotina <2A - residência'!N36","v":0.83798882681564246},{"$f":"'CV Rotina <2A - residência'!P36","v":0.82122905027932958},{"$f":"'CV Rotina <2A - residência'!R36","v":0.83798882681564246},{"$f":"'CV Rotina <2A - residência'!AB36","v":1},{"$f":"'CV Rotina <2A - residência'!V36","v":0.87709497206703912},{"$f":"'CV Rotina <2A - residência'!X36","v":0.85474860335195535},{"$f":"'CV Rotina <2A - residência'!Z36","v":1.0949720670391061},{"$f":"'CV Rotina <2A - residência'!AD36","v":0.8994413407821229},1,2,3,1]
["Metropolitana","Itaguaçu",{"$f":"'CV Rotina <2A - residência'!L37","v":1.0588235294117647},{"$f":"'CV Rotina <2A - residência'!T37","v":0.94117647058823528},{"$f":"'CV Rotina <2A - residência'!N37","v":0.91596638655462181},{"$f":"'CV Rotina <2A - residência'!P37","v":0.91596638655462181},{"$f":"'CV Rotina <2A - residência'!R37","v":0.9327731092436975},{"$f":"'CV Rotina <2A - residência'!AB37","v":1.2016806722689075},{"$f":"'CV Rotina <2A - residência'!V37","v":0.94117647058823528},{"$f":"'CV Rotina <2A - residência'!X37","v":0.94957983193277307},{"$f":"'CV Rotina <2A - residência'!Z37","v":1.1428571428571428},{"$f":"'CV Rotina <2A - residência'!AD37","v":1.134453781512605},2,3,5,1]
["Sul","Itapemirim",{"$f":"'CV Rotina <2A - residência'!L38","v":0.9331983805668016},{"$f":"'CV Rotina <2A - residência'!T38","v":0.90080971659919029},{"$f":"'CV Rotina <2A - residência'!N38","v":0.81376518218623484},{"$f":"'CV Rotina <2A - residência'!P38","v":0.76518218623481782},{"$f":"'CV Rotina <2A - residência'!R38","v":0.90485829959514175},{"$f":"'CV Rotina <2A - residência'!AB38","v":0.87449392712550611},{"$f":"'CV Rotina <2A - residência'!V38","v":0.89068825910931171},{"$f":"'CV Rotina <2A - residência'!X38","v":0.5668016194331984},{"$f":"'CV Rotina <2A - residência'!Z38","v":0.791497975708502},{"$f":"'CV Rotina <2A - residência'!AD38","v":0.70647773279352222},2,0,2,0]
["Metropolitana","Itarana",{"$f":"'CV Rotina <2A - residência'!L39","v":1.0793650793650793},{"$f":"'CV Rotina <2A - residência'!T39","v":0.92063492063492058},{"$f":"'CV Rotina <2A - residência'!N39","v":0.98412698412698407},{"$f":"'CV Rotina <2A - residência'!P39","v":0.99206349206349209},{"$f":"'CV Rotina <2A - residência'!R39","v":0.91269841269841268},{"$f":"'CV Rotina <2A - residência'!AB39","v":1.126984126984127},{"$f":"'CV Rotina <2A - residência'!V39","v":0.93650793650793651},{"$f":"'CV Rotina <2A - residência'!X39","v":0.88095238095238093},{"$f":"'CV Rotina <2A - residência'!Z39","v":1.1190476190476191},{"$f":"'CV Rotina <2A - residência'!AD39","v":1.126984126984127},2,5,7,3]
["Sul","Iúna",{"$f":"'CV Rotina <2A - residência'!L40","v":0.92178770949720668},{"$f":"'CV Rotina <2A - residência'!T40","v":0.93854748603351956},{"$f":"'CV Rotina <2A - residência'!N40","v":0.95810055865921784},{"$f":"'CV Rotina <2A - residência'!P40","v":0.96089385474860334},{"$f":"'CV Rotina <2A - residência'!R40","v":0.9022346368715084},{"$f":"'CV Rotina <2A - residência'!AB40","v":1.058659217877095},{"$f":"'CV Rotina <2A - residência'!V40","v":0.98882681564245811},{"$f":"'CV Rotina <2A - residência'!X40","v":0.86592178770949724},{"$f":"'CV Rotina <2A - residência'!Z40","v":1.0893854748603351},{"$f":"'CV Rotina <2A - residência'!AD40","v":1.0083798882681565},2,6,8,3]
["Norte","Jaguaré",{"$f":"'CV Rotina <2A - residência'!L41","v":1.0554216867469879},{"$f":"'CV Rotina <2A - residência'!T41","v":0.98795180722891562},{"$f":"'CV Rotina <2A - residência'!N41","v":0.96385542168674698},{"$f":"'CV Rotina <2A - residência'!P41","v":0.94698795180722894},{"$f":"'CV Rotina <2A - residência'!R41","v":0.97590361445783136},{"$f":"'CV Rotina <2A - residência'!AB41","v":1.072289156626506},{"$f":"'CV Rotina <2A - residência'!V41","v":0.99036144578313257},{"$f":"'CV Rotina <2A - residência'!X41","v":0.77590361445783129},{"$f":"'CV Rotina <2A - residência'!Z41","v":1.0674698795180724},{"$f":"'CV Rotina <2A - residência'!AD41","v":0.91325301204819276},2,5,7,3]
["Sul","Jerônimo Monteiro",{"$f":"'CV Rotina <2A - residência'!L42","v":0.92792792792792789},{"$f":"'CV Rotina <2A - residência'!T42","v":0.99099099099099097},{"$f":"'CV Rotina <2A - residência'!N42","v":0.95495495495495497},{"$f":"'CV Rotina <2A - residência'!P42","v":0.963963963963964},{"$f":"'CV Rotina <2A - residência'!R42","v":0.963963963963964},{"$f":"'CV Rotina <2A - residência'!AB42","v":1.1891891891891893},{"$f":"'CV Rotina <2A - residência'!V42","v":0.97297297297297303},{"$f":"'CV Rotina <2A - residência'!X42","v":0.85585585585585588},{"$f":"'CV Rotina <2A - residência'!Z42","v":1.1891891891891893},{"$f":"'CV Rotina <2A - residência'!AD42","v":1.1531531531531531},2,7,9,4]
["Metropolitana","João Neiva",{"$f":"'CV Rotina <2A - residência'!L43","v":0.90151515151515149},{"$f":"'CV Rotina <2A - residência'!T43","v":0.96212121212121215},{"$f":"'CV Rotina <2A - residência'!N43","v":0.99242424242424243},{"$f":"'CV Rotina <2A - residência'!P43","v":0.96969696969696972},{"$f":"'CV Rotina <2A - residência'!R43","v":0.94696969696969702},{"$f":"'CV Rotina <2A - residência'!AB43","v":1.106060606060606},{"$f":"'CV Rotina <2A - residência'!V43","v":0.96212121212121215},{"$f":"'CV Rotina <2A - residência'!X43","v":0.84090909090909094},{"$f":"'CV Rotina <2A - residência'!Z43","v":1.0833333333333333},{"$f":"'CV Rotina <2A - residência'!AD43","v":1.0757575757575757},2,6,8,3]
["Metropolitana","Laranja da Terra",{"$f":"'CV Rotina <2A - residência'!L44","v":0.99122807017543857},{"$f":"'CV Rotina <2A - residência'!T44","v":1.131578947368421},{"$f":"'CV Rotina <2A - residência'!N44","v":1.0614035087719298},{"$f":"'CV Rotina <2A - residência'!P44","v":1.0614035087719298},{"$f":"'CV Rotina <2A - residência'!R44","v":1.1403508771929824},{"$f":"'CV Rotina <2A - residência'!AB44","v":0.8771929824561403},{"$f":"'CV Rotina <2A - residência'!V44","v":1.1228070175438596},{"$f":"'CV Rotina <2A - residência'!X44","v":0.85087719298245612},{"$f":"'CV Rotina <2A - residência'!Z44","v":0.7807017543859649},{"$f":"'CV Rotina <2A - residência'!AD44","v":0.86842105263157898},2,4,6,3]
["Central","Linhares",{"$f":"'CV Rotina <2A - residência'!L45","v":0.97251845775225598},{"$f":"'CV Rotina <2A - residência'!T45","v":0.9101722723543888},{"$f":"'CV Rotina <2A - residência'!N45","v":0.85233798195242005},{"$f":"'CV Rotina <2A - residência'!P45","v":0.83470057424118127},{"$f":"'CV Rotina <2A - residência'!R45","v":0.86751435602953242},{"$f":"'CV Rotina <2A - residência'!AB45","v":0.90032813781788346},{"$f":"'CV Rotina <2A - residência'!V45","v":0.89499589827727644},{"$f":"'CV Rotina <2A - residência'!X45","v":0.67432321575061527},{"$f":"'CV Rotina <2A - residência'!Z45","v":0.82444626743232152},{"$f":"'CV Rotina <2A - residência'!AD45","v":0.76497128794093516},2,0,2,0]
["Central","Mantenópolis",{"$f":"'CV Rotina <2A - residência'!L46","v":1.0165289256198347},{"$f":"'CV Rotina <2A - residência'!T46","v":0.93388429752066116},{"$f":"'CV Rotina <2A - residência'!N46","v":0.95041322314049592},{"$f":"'CV Rotina <2A - residência'!P46","v":0.92561983471074383},{"$f":"'CV Rotina <2A - residência'!R46","v":0.8925619834710744},{"$f":"'CV Rotina <2A - residência'!AB46","v":1.1074380165289257},{"$f":"'CV Rotina <2A - residência'!V46","v":0.99173553719008267},{"$f":"'CV Rotina <2A - residência'!X46","v":0.97520661157024791},{"$f":"'CV Rotina <2A - residência'!Z46","v":1.0991735537190082},{"$f":"'CV Rotina <2A - residência'!AD46","v":1.1818181818181819},2,6,8,2]
["Sul","Marataízes",{"$f":"'CV Rotina <2A - residência'!L47","v":1.005639097744361},{"$f":"'CV Rotina <2A - residência'!T47","v":0.93984962406015038},{"$f":"'CV Rotina <2A - residência'!N47","v":0.90225563909774431},{"$f":"'CV Rotina <2A - residência'!P47","v":0.80451127819548873},{"$f":"'CV Rotina <2A - residência'!R47","v":0.93421052631578949},{"$f":"'CV Rotina <2A - residência'!AB47","v":0.97556390977443608},{"$f":"'CV Rotina <2A - residência'!V47","v":0.90413533834586468},{"$f":"'CV Rotina <2A - residência'!X47","v":0.60526315789473684},{"$f":"'CV Rotina <2A - residência'!Z47","v":0.95488721804511278},{"$f":"'CV Rotina <2A - residência'!AD47","v":0.81015037593984962},2,2,4,1]
["Metropolitana","Marechal Floriano",{"$f":"'CV Rotina <2A - residência'!L48","v":0.9},{"$f":"'CV Rotina <2A - residência'!T48","v":0.96842105263157896},{"$f":"'CV Rotina <2A - residência'!N48","v":0.91578947368421049},{"$f":"'CV Rotina <2A - residência'!P48","v":0.92105263157894735},{"$f":"'CV Rotina <2A - residência'!R48","v":0.91052631578947374},{"$f":"'CV Rotina <2A - residência'!AB48","v":0.94210526315789478},{"$f":"'CV Rotina <2A - residência'!V48","v":0.9631578947368421},{"$f":"'CV Rotina <2A - residência'!X48","v":0.77368421052631575},{"$f":"'CV Rotina <2A - residência'!Z48","v":1.0263157894736843},{"$f":"'CV Rotina <2A - residência'!AD48","v":1.0578947368421052},2,3,5,0]
["Central","Marilândia",{"$f":"'CV Rotina <2A - residência'!L49","v":0.88050314465408808},{"$f":"'CV Rotina <2A - residência'!T49","v":0.9308176100628931},{"$f":"'CV Rotina <2A - residência'!N49","v":0.86163522012578619},{"$f":"'CV Rotina <2A - residência'!P49","v":0.87421383647798745},{"$f":"'CV Rotina <2A - residência'!R49","v":0.89937106918238996},{"$f":"'CV Rotina <2A - residência'!AB49","v":0.88050314465408808},{"$f":"'CV Rotina <2A - residência'!V49","v":0.88050314465408808},{"$f":"'CV Rotina <2A - residência'!X49","v":0.79874213836477992},{"$f":"'CV Rotina <2A - residência'!Z49","v":0.81132075471698117},{"$f":"'CV Rotina <2A - residência'!AD49","v":0.84276729559748431},1,0,1,0]
["Sul","Mimoso do Sul",{"$f":"'CV Rotina <2A - residência'!L50","v":0.94921875},{"$f":"'CV Rotina <2A - residência'!T50","v":1.03515625},{"$f":"'CV Rotina <2A - residência'!N50","v":0.94921875},{"$f":"'CV Rotina <2A - residência'!P50","v":0.89453125},{"$f":"'CV Rotina <2A - residência'!R50","v":0.984375},{"$f":"'CV Rotina <2A - residência'!AB50","v":0.81640625},{"$f":"'CV Rotina <2A - residência'!V50","v":0.9453125},{"$f":"'CV Rotina <2A - residência'!X50","v":0.78515625},{"$f":"'CV Rotina <2A - residência'!Z50","v":0.7265625},{"$f":"'CV Rotina <2A - residência'!AD50","v":0.765625},2,1,3,1]
["Norte","Montanha",{"$f":"'CV Rotina <2A - residência'!L51","v":0.98048780487804876},{"$f":"'CV Rotina <2A - residência'!T51","v":1.1121951219512196},{"$f":"'CV Rotina <2A - residência'!N51","v":1.0536585365853659},{"$f":"'CV Rotina <2A - residência'!P51","v":1.0536585365853659},{"$f":"'CV Rotina <2A - residência'!R51","v":1.0731707317073171},{"$f":"'CV Rotina <2A - residência'!AB51","v":1.1951219512195121},{"$f":"'CV Rotina <2A - residência'!V51","v":1.0195121951219512},{"$f":"'CV Rotina <2A - residência'!X51","v":0.88292682926829269},{"$f":"'CV Rotina <2A - residência'!Z51","v":1.1170731707317074},{"$f":"'CV Rotina <2A - residência'!AD51","v":1.1902439024390243},2,7,9,4]
["Norte","Mucurici",{"$f":"'CV Rotina <2A - residência'!L52","v":0.91304347826086951},{"$f":"'CV Rotina <2A - residência'!T52","v":1.326086956521739},{"$f":"'CV Rotina <2A - residência'!N52","v":1.326086956521739},{"$f":"'CV Rotina <2A - residência'!P52","v":1.326086956521739},{"$f":"'CV Rotina <2A - residência'!R52","v":1.326086956521739},{"$f":"'CV Rotina <2A - residência'!AB52","v":1.4347826086956521},{"$f":"'CV Rotina <2A - residência'!V52","v":1.2608695652173914},{"$f":"'CV Rotina <2A - residência'!X52","v":1.173913043478261},{"$f":"'CV Rotina <2A - residência'!Z52","v":1.4347826086956521},{"$f":"'CV Rotina <2A - residência'!AD52","v":1.5},2,8,10,4]
["Sul","Muniz Freire",{"$f":"'CV Rotina <2A - residência'!L53","v":0.99115044247787609},{"$f":"'CV Rotina <2A - residência'!T53","v":1},{"$f":"'CV Rotina <2A - residência'!N53","v":0.92035398230088494},{"$f":"'CV Rotina <2A - residência'!P53","v":0.92035398230088494},{"$f":"'CV Rotina <2A - residência'!R53","v":0.98230088495575218},{"$f":"'CV Rotina <2A - residência'!AB53","v":0.92035398230088494},{"$f":"'CV Rotina <2A - residência'!V53","v":0.90707964601769908},{"$f":"'CV Rotina <2A - residência'!X53","v":0.86725663716814161},{"$f":"'CV Rotina <2A - residência'!Z53","v":0.91150442477876104},{"$f":"'CV Rotina <2A - residência'!AD53","v":1.0132743362831858},2,2,4,1]
["Sul","Muqui",{"$f":"'CV Rotina <2A - residência'!L54","v":0.965034965034965},{"$f":"'CV Rotina <2A - residência'!T54","v":1.0769230769230769},{"$f":"'CV Rotina <2A - residência'!N54","v":1.020979020979021},{"$f":"'CV Rotina <2A - residência'!P54","v":1.020979020979021},{"$f":"'CV Rotina <2A - residência'!R54","v":1.0909090909090908},{"$f":"'CV Rotina <2A - residência'!AB54","v":0.91608391608391604},{"$f":"'CV Rotina <2A - residência'!V54","v":1.020979020979021},{"$f":"'CV Rotina <2A - residência'!X54","v":0.80419580419580416},{"$f":"'CV Rotina <2A - residência'!Z54","v":0.88111888111888115},{"$f":"'CV Rotina <2A - residência'!AD54","v":0.94405594405594406},2,4,6,3]
["Norte","Nova Venécia",{"$f":"'CV Rotina <2A - residência'!L55","v":1.0222929936305734},{"$f":"'CV Rotina <2A - residência'!T55","v":1.0270700636942676},{"$f":"'CV Rotina <2A - residência'!N55","v":0.9140127388535032},{"$f":"'CV Rotina <2A - residência'!P55","v":0.90923566878980888},{"$f":"'CV Rotina <2A - residência'!R55","v":0.89012738853503182},{"$f":"'CV Rotina <2A - residência'!AB55","v":0.98885350318471332},{"$f":"'CV Rotina <2A - residência'!V55","v":0.95700636942675155},{"$f":"'CV Rotina <2A - residência'!X55","v":0.79458598726114649},{"$f":"'CV Rotina <2A - residência'!Z55","v":0.93152866242038213},{"$f":"'CV Rotina <2A - residência'!AD55","v":0.86146496815286622},2,2,4,1]
["Central","Pancas",{"$f":"'CV Rotina <2A - residência'!L56","v":1.0049751243781095},{"$f":"'CV Rotina <2A - residência'!T56","v":0.94029850746268662},{"$f":"'CV Rotina <2A - residência'!N56","v":0.96019900497512434},{"$f":"'CV Rotina <2A - residência'!P56","v":0.96517412935323388},{"$f":"'CV Rotina <2A - residência'!R56","v":0.95024875621890548},{"$f":"'CV Rotina <2A - residência'!AB56","v":0.94029850746268662},{"$f":"'CV Rotina <2A - residência'!V56","v":0.95522388059701491},{"$f":"'CV Rotina <2A - residência'!X56","v":0.84079601990049746},{"$f":"'CV Rotina <2A - residência'!Z56","v":0.95024875621890548},{"$f":"'CV Rotina <2A - residência'!AD56","v":1.0099502487562189},2,6,8,3]
["Norte","Pedro Canário",{"$f":"'CV Rotina <2A - residência'!L57","v":0.97643097643097643},{"$f":"'CV Rotina <2A - residência'!T57","v":0.99663299663299665},{"$f":"'CV Rotina <2A - residência'!N57","v":0.93265993265993263},{"$f":"'CV Rotina <2A - residência'!P57","v":0.88215488215488214},{"$f":"'CV Rotina <2A - residência'!R57","v":0.96296296296296291},{"$f":"'CV Rotina <2A - residência'!AB57","v":1},{"$f":"'CV Rotina <2A - residência'!V57","v":0.90909090909090906},{"$f":"'CV Rotina <2A - residência'!X57","v":0.63636363636363635},{"$f":"'CV Rotina <2A - residência'!Z57","v":1.0033670033670035},{"$f":"'CV Rotina <2A - residência'!AD57","v":0.96632996632996637},2,4,6,2]
["Norte","Pinheiros",{"$f":"'CV Rotina <2A - residência'!L58","v":1.0629370629370629},{"$f":"'CV Rotina <2A - residência'!T58","v":1.2167832167832169},{"$f":"'CV Rotina <2A - residência'!N58","v":1.0769230769230769},{"$f":"'CV Rotina <2A - residência'!P58","v":1.0629370629370629},{"$f":"'CV Rotina <2A - residência'!R58","v":1.1573426573426573},{"$f":"'CV Rotina <2A - residência'!AB58","v":1.1398601398601398},{"$f":"'CV Rotina <2A - residência'!V58","v":1.1468531468531469},{"$f":"'CV Rotina <2A - residência'!X58","v":0.92657342657342656},{"$f":"'CV Rotina <2A - residência'!Z58","v":1.0769230769230769},{"$f":"'CV Rotina <2A - residência'!AD58","v":1.0874125874125875},2,7,9,4]
["Sul","Piúma",{"$f":"'CV Rotina <2A - residência'!L59","v":0.83274021352313166},{"$f":"'CV Rotina <2A - residência'!T59","v":0.96797153024911031},{"$f":"'CV Rotina <2A - residência'!N59","v":0.93238434163701067},{"$f":"'CV Rotina <2A - residência'!P59","v":0.90747330960854089},{"$f":"'CV Rotina <2A - residência'!R59","v":0.9537366548042705},{"$f":"'CV Rotina <2A - residência'!AB59","v":0.93238434163701067},{"$f":"'CV Rotina <2A - residência'!V59","v":0.96085409252669041},{"$f":"'CV Rotina <2A - residência'!X59","v":0.67259786476868333},{"$f":"'CV Rotina <2A - residência'!Z59","v":0.88967971530249113},{"$f":"'CV Rotina <2A - residência'!AD59","v":0.7829181494661922},1,2,3,1]
["Norte","Ponto Belo",{"$f":"'CV Rotina <2A - residência'!L60","v":0.9538461538461539},{"$f":"'CV Rotina <2A - residência'!T60","v":1.0923076923076922},{"$f":"'CV Rotina <2A - residência'!N60","v":1.0461538461538462},{"$f":"'CV Rotina <2A - residência'!P60","v":1.0615384615384615},{"$f":"'CV Rotina <2A - residência'!R60","v":1.1076923076923078},{"$f":"'CV Rotina <2A - residência'!AB60","v":1.1538461538461537},{"$f":"'CV Rotina <2A - residência'!V60","v":1.0923076923076922},{"$f":"'CV Rotina <2A - residência'!X60","v":1.1538461538461537},{"$f":"'CV Rotina <2A - residência'!Z60","v":1.2},{"$f":"'CV Rotina <2A - residência'!AD60","v":1.1076923076923078},2,8,10,4]
["Sul","Presidente Kennedy",{"$f":"'CV Rotina <2A - residência'!L61","v":1.0491803278688525},{"$f":"'CV Rotina <2A - residência'!T61","v":1.0601092896174864},{"$f":"'CV Rotina <2A - residência'!N61","v":1.0109289617486339},{"$f":"'CV Rotina <2A - residência'!P61","v":1.0054644808743169},{"$f":"'CV Rotina <2A - residência'!R61","v":1.0437158469945356},{"$f":"'CV Rotina <2A - residência'!AB61","v":1.1092896174863387},{"$f":"'CV Rotina <2A - residência'!V61","v":1.0601092896174864},{"$f":"'CV Rotina <2A - residência'!X61","v":0.91256830601092898},{"$f":"'CV Rotina <2A - residência'!Z61","v":0.98360655737704916},{"$f":"'CV Rotina <2A - residência'!AD61","v":0.96721311475409832},2,7,9,4]
["Central","Rio Bananal",{"$f":"'CV Rotina <2A - residência'!L62","v":0.97735849056603774},{"$f":"'CV Rotina <2A - residência'!T62","v":0.98490566037735849},{"$f":"'CV Rotina <2A - residência'!N62","v":0.96981132075471699},{"$f":"'CV Rotina <2A - residência'!P62","v":0.96603773584905661},{"$f":"'CV Rotina <2A - residência'!R62","v":0.96981132075471699},{"$f":"'CV Rotina <2A - residência'!AB62","v":1.060377358490566},{"$f":"'CV Rotina <2A - residência'!V62","v":0.97358490566037736},{"$f":"'CV Rotina <2A - residência'!X62","v":0.93962264150943398},{"$f":"'CV Rotina <2A - residência'!Z62","v":1.0075471698113208},{"$f":"'CV Rotina <2A - residência'!AD62","v":0.92452830188679247},2,6,8,4]
["Sul","Rio Novo do Sul",{"$f":"'CV Rotina <2A - residência'!L63","v":1.1590909090909092},{"$f":"'CV Rotina <2A - residência'!T63","v":1.1136363636363635},{"$f":"'CV Rotina <2A - residência'!N63","v":1.1136363636363635},{"$f":"'CV Rotina <2A - residência'!P63","v":1.1136363636363635},{"$f":"'CV Rotina <2A - residência'!R63","v":1.0909090909090908},{"$f":"'CV Rotina <2A - residência'!AB63","v":1.0454545454545454},{"$f":"'CV Rotina <2A - residência'!V63","v":1.1477272727272727},{"$f":"'CV Rotina <2A - residência'!X63","v":0.79545454545454541},{"$f":"'CV Rotina <2A - residência'!Z63","v":0.97727272727272729},{"$f":"'CV Rotina <2A - residência'!AD63","v":1.0227272727272727},2,7,9,4]
["Metropolitana","Santa Leopoldina",{"$f":"'CV Rotina <2A - residência'!L64","v":1.0112359550561798},{"$f":"'CV Rotina <2A - residência'!T64","v":1.2359550561797752},{"$f":"'CV Rotina <2A - residência'!N64","v":1.1573033707865168},{"$f":"'CV Rotina <2A - residência'!P64","v":1.1573033707865168},{"$f":"'CV Rotina <2A - residência'!R64","v":1.2247191011235956},{"$f":"'CV Rotina <2A - residência'!AB64","v":1.0337078651685394},{"$f":"'CV Rotina <2A - residência'!V64","v":1.1797752808988764},{"$f":"'CV Rotina <2A - residência'!X64","v":0.9213483146067416},{"$f":"'CV Rotina <2A - residência'!Z64","v":1.101123595505618},{"$f":"'CV Rotina <2A - residência'!AD64","v":1.1573033707865168},2,7,9,4]
["Metropolitana","Santa Maria de Jetibá",{"$f":"'CV Rotina <2A - residência'!L65","v":0.94752623688155924},{"$f":"'CV Rotina <2A - residência'!T65","v":0.9070464767616192},{"$f":"'CV Rotina <2A - residência'!N65","v":0.83358320839580213},{"$f":"'CV Rotina <2A - residência'!P65","v":0.83658170914542729},{"$f":"'CV Rotina <2A - residência'!R65","v":0.88755622188905547},{"$f":"'CV Rotina <2A - residência'!AB65","v":0.8500749625187406},{"$f":"'CV Rotina <2A - residência'!V65","v":0.88155922038980505},{"$f":"'CV Rotina <2A - residência'!X65","v":0.7001499250374813},{"$f":"'CV Rotina <2A - residência'!Z65","v":0.79160419790104952},{"$f":"'CV Rotina <2A - residência'!AD65","v":0.74662668665667165},2,0,2,0]
["Metropolitana","Santa Teresa",{"$f":"'CV Rotina <2A - residência'!L66","v":0.96564885496183206},{"$f":"'CV Rotina <2A - residência'!T66","v":0.9274809160305344},{"$f":"'CV Rotina <2A - residência'!N66","v":0.86641221374045807},{"$f":"'CV Rotina <2A - residência'!P66","v":0.86259541984732824},{"$f":"'CV Rotina <2A - residência'!R66","v":0.89312977099236646},{"$f":"'CV Rotina <2A - residência'!AB66","v":1.0152671755725191},{"$f":"'CV Rotina <2A - residência'!V66","v":0.91221374045801529},{"$f":"'CV Rotina <2A - residência'!X66","v":0.82061068702290074},{"$f":"'CV Rotina <2A - residência'!Z66","v":1.0343511450381679},{"$f":"'CV Rotina <2A - residência'!AD66","v":1.0458015267175573},2,3,5,1]
["Central","São Domingos do Norte",{"$f":"'CV Rotina <2A - residência'!L67","v":1.1188118811881189},{"$f":"'CV Rotina <2A - residência'!T67","v":1.0495049504950495},{"$f":"'CV Rotina <2A - residência'!N67","v":0.99009900990099009},{"$f":"'CV Rotina <2A - residência'!P67","v":1},{"$f":"'CV Rotina <2A - residência'!R67","v":1.0099009900990099},{"$f":"'CV Rotina <2A - residência'!AB67","v":1.2574257425742574},{"$f":"'CV Rotina <2A - residência'!V67","v":0.99009900990099009},{"$f":"'CV Rotina <2A - residência'!X67","v":0.92079207920792083},{"$f":"'CV Rotina <2A - residência'!Z67","v":1.2673267326732673},{"$f":"'CV Rotina <2A - residência'!AD67","v":1.1782178217821782},{"$f":"COUNTIF(C67:D67,\">=0,9\")","v":2},{"$f":"COUNTIFS(E67:L67,\">=0,95\")","v":7},9,4]
["Central","São Gabriel da Palha",{"$f":"'CV Rotina <2A - residência'!L68","v":0.89095744680851063},{"$f":"'CV Rotina <2A - residência'!T68","v":0.875},{"$f":"'CV Rotina <2A - residência'!N68","v":0.86436170212765961},{"$f":"'CV Rotina <2A - residência'!P68","v":0.86702127659574468},{"$f":"'CV Rotina <2A - residência'!R68","v":0.8271276595744681},{"$f":"'CV Rotina <2A - residência'!AB68","v":0.99468085106382975},{"$f":"'CV Rotina <2A - residência'!V68","v":0.88297872340425532},{"$f":"'CV Rotina <2A - residência'!X68","v":0.81648936170212771},{"$f":"'CV Rotina <2A - residência'!Z68","v":0.97872340425531912},{"$f":"'CV Rotina <2A - residência'!AD68","v":0.91755319148936165},0,2,{"$f":"SUM(M68:N68)","v":2},{"$f":"COUNTIF(E68:H68,\">=0,95\")","v":1}]
["Sul","São José do Calçado",{"$f":"'CV Rotina <2A - residência'!L69","v":1.0238095238095237},{"$f":"'CV Rotina <2A - residência'!T69","v":1.0595238095238095},{"$f":"'CV Rotina <2A - residência'!N69","v":1.0952380952380953},{"$f":"'CV Rotina <2A - residência'!P69","v":1.0952380952380953},{"$f":"'CV Rotina <2A - residência'!R69","v":1.0476190476190477},{"$f":"'CV Rotina <2A - residência'!AB69","v":1},{"$f":"'CV Rotina <2A - residência'!V69","v":1.0357142857142858},{"$f":"'CV Rotina <2A - residência'!X69","v":0.65476190476190477},{"$f":"'CV Rotina <2A - residência'!Z69","v":1},{"$f":"'CV Rotina <2A - residência'!AD69","v":1},2,7,9,4]
["Norte","São Mateus",{"$f":"'CV Rotina <2A - residência'!L70","v":0.93982074263764404},{"$f":"'CV Rotina <2A - residência'!T70","v":0.95966709346991041},{"$f":"'CV Rotina <2A - residência'!N70","v":0.87836107554417409},{"$f":"'CV Rotina <2A - residência'!P70","v":0.8597951344430218},{"$f":"'CV Rotina <2A - residência'!R70","v":0.93021766965428943},{"$f":"'CV Rotina <2A - residência'!AB70","v":0.99615877080665816},{"$f":"'CV Rotina <2A - residência'!V70","v":0.93021766965428943},{"$f":"'CV Rotina <2A - residência'!X70","v":0.69334186939820741},{"$f":"'CV Rotina <2A - residência'!Z70","v":0.94878361075544171},{"$f":"'CV Rotina <2A - residência'!AD70","v":0.83546734955185664},2,1,3,1]
["Central","São Roque do Canaã",{"$f":"'CV Rotina <2A - residência'!L71","v":1.1322314049586777},{"$f":"'CV Rotina <2A - residência'!T71","v":0.95041322314049592},{"$f":"'CV Rotina <2A - residência'!N71","v":0.93388429752066116},{"$f":"'CV Rotina <2A - residência'!P71","v":0.90909090909090906},{"$f":"'CV Rotina <2A - residência'!R71","v":0.9173553719008265},{"$f":"'CV Rotina <2A - residência'!AB71","v":1.0743801652892562},{"$f":"'CV Rotina <2A - residência'!V71","v":0.95041322314049592},{"$f":"'CV Rotina <2A - residência'!X71","v":0.85950413223140498},{"$f":"'CV Rotina <2A - residência'!Z71","v":0.95041322314049592},{"$f":"'CV Rotina <2A - residência'!AD71","v":1.0082644628099173},2,4,6,1]
["Metropolitana","Serra",{"$f":"'CV Rotina <2A - residência'!L72","v":0.90925952346982453},{"$f":"'CV Rotina <2A - residência'!T72","v":0.86474532743615351},{"$f":"'CV Rotina <2A - residência'!N72","v":0.78741617919817375},{"$f":"'CV Rotina <2A - residência'!P72","v":0.77899843058924245},{"$f":"'CV Rotina <2A - residência'!R72","v":0.83735197603081757},{"$f":"'CV Rotina <2A - residência'!AB72","v":0.86346126408902835},{"$f":"'CV Rotina <2A - residência'!V72","v":0.82893422742188616},{"$f":"'CV Rotina <2A - residência'!X72","v":0.62348409188186615},{"$f":"'CV Rotina <2A - residência'!Z72","v":0.83678128120987305},{"$f":"'CV Rotina <2A - residência'!AD72","v":0.71351119988586098},1,0,1,0]
["Central","Sooretama",{"$f":"'CV Rotina <2A - residência'!L73","v":1.0281329923273657},{"$f":"'CV Rotina <2A - residência'!T73","v":0.95140664961636834},{"$f":"'CV Rotina <2A - residência'!N73","v":0.87212276214833762},{"$f":"'CV Rotina <2A - residência'!P73","v":0.86189258312020456},{"$f":"'CV Rotina <2A - residência'!R73","v":0.88746803069053704},{"$f":"'CV Rotina <2A - residência'!AB73","v":0.98976982097186705},{"$f":"'CV Rotina <2A - residência'!V73","v":0.92838874680306904},{"$f":"'CV Rotina <2A - residência'!X73","v":0.72634271099744241},{"$f":"'CV Rotina <2A - residência'!Z73","v":0.87979539641943738},{"$f":"'CV Rotina <2A - residência'!AD73","v":0.82097186700767266},2,1,3,1]
["Sul","Vargem Alta",{"$f":"'CV Rotina <2A - residência'!L74","v":0.98809523809523814},{"$f":"'CV Rotina <2A - residência'!T74","v":1.0357142857142858},{"$f":"'CV Rotina <2A - residência'!N74","v":0.96031746031746035},{"$f":"'CV Rotina <2A - residência'!P74","v":0.94047619047619047},{"$f":"'CV Rotina <2A - residência'!R74","v":1.0396825396825398},{"$f":"'CV Rotina <2A - residência'!AB74","v":0.97222222222222221},{"$f":"'CV Rotina <2A - residência'!V74","v":1.0238095238095237},{"$f":"'CV Rotina <2A - residência'!X74","v":0.78174603174603174},{"$f":"'CV Rotina <2A - residência'!Z74","v":0.94444444444444442},{"$f":"'CV Rotina <2A - residência'!AD74","v":0.96825396825396826},2,5,7,3]
["Metropolitana","Venda Nova do Imigrante",{"$f":"'CV Rotina <2A - residência'!L75","v":0.95356037151702788},{"$f":"'CV Rotina <2A - residência'!T75","v":1.0185758513931888},{"$f":"'CV Rotina <2A - residência'!N75","v":0.96284829721362231},{"$f":"'CV Rotina <2A - residência'!P75","v":0.96284829721362231},{"$f":"'CV Rotina <2A - residência'!R75","v":0.97523219814241491},{"$f":"'CV Rotina <2A - residência'!AB75","v":1.0278637770897834},{"$f":"'CV Rotina <2A - residência'!V75","v":0.94427244582043346},{"$f":"'CV Rotina <2A - residência'!X75","v":0.91331269349845201},{"$f":"'CV Rotina <2A - residência'!Z75","v":1.0495356037151702},{"$f":"'CV Rotina <2A - residência'!AD75","v":1.151702786377709},2,6,8,4]
["Metropolitana","Viana",{"$f":"'CV Rotina <2A - residência'!L76","v":1.0049813200498132},{"$f":"'CV Rotina <2A - residência'!T76","v":1.0273972602739727},{"$f":"'CV Rotina <2A - residência'!N76","v":0.96014943960149435},{"$f":"'CV Rotina <2A - residência'!P76","v":0.90784557907845576},{"$f":"'CV Rotina <2A - residência'!R76","v":1.0024906600249066},{"$f":"'CV Rotina <2A - residência'!AB76","v":1.1021170610211706},{"$f":"'CV Rotina <2A - residência'!V76","v":0.98007471980074723},{"$f":"'CV Rotina <2A - residência'!X76","v":0.66874221668742218},{"$f":"'CV Rotina <2A - residência'!Z76","v":0.98754669987546695},{"$f":"'CV Rotina <2A - residência'!AD76","v":0.7833125778331258},2,5,7,3]
["Norte","Vila Pavão",{"$f":"'CV Rotina <2A - residência'!L77","v":1.1098901098901099},{"$f":"'CV Rotina <2A - residência'!T77","v":1.0769230769230769},{"$f":"'CV Rotina <2A - residência'!N77","v":1.1538461538461537},{"$f":"'CV Rotina <2A - residência'!P77","v":1.1428571428571428},{"$f":"'CV Rotina <2A - residência'!R77","v":1.1098901098901099},{"$f":"'CV Rotina <2A - residência'!AB77","v":1.1758241758241759},{"$f":"'CV Rotina <2A - residência'!V77","v":1.1538461538461537},{"$f":"'CV Rotina <2A - residência'!X77","v":0.95604395604395609},{"$f":"'CV Rotina <2A - residência'!Z77","v":1.0769230769230769},{"$f":"'CV Rotina <2A - residência'!AD77","v":1.0219780219780219},2,8,10,4]
["Central","Vila Valério",{"$f":"'CV Rotina <2A - residência'!L78","v":0.8728813559322034},{"$f":"'CV Rotina <2A - residência'!T78","v":0.86440677966101698},{"$f":"'CV Rotina <2A - residência'!N78","v":0.81355932203389836},{"$f":"'CV Rotina <2A - residência'!P78","v":0.81779661016949157},{"$f":"'CV Rotina <2A - residência'!R78","v":0.88135593220338981},{"$f":"'CV Rotina <2A - residência'!AB78","v":1.0296610169491525},{"$f":"'CV Rotina <2A - residência'!V78","v":0.8347457627118644},{"$f":"'CV Rotina <2A - residência'!X78","v":0.76271186440677963},{"$f":"'CV Rotina <2A - residência'!Z78","v":1.076271186440678},{"$f":"'CV Rotina <2A - residência'!AD78","v":1.0508474576271187},0,3,3,1]
["Metropolitana","Vila Velha",{"$f":"'CV Rotina <2A - residência'!L79","v":0.87470817120622568},{"$f":"'CV Rotina <2A - residência'!T79","v":0.85136186770428013},{"$f":"'CV Rotina <2A - residência'!N79","v":0.77354085603112843},{"$f":"'CV Rotina <2A - residência'!P79","v":0.77003891050583662},{"$f":"'CV Rotina <2A - residência'!R79","v":0.80291828793774322},{"$f":"'CV Rotina <2A - residência'!AB79","v":0.84688715953307392},{"$f":"'CV Rotina <2A - residência'!V79","v":0.82607003891050579},{"$f":"'CV Rotina <2A - residência'!X79","v":0.59474708171206225},{"$f":"'CV Rotina <2A - residência'!Z79","v":0.82723735408560306},{"$f":"'CV Rotina <2A - residência'!AD79","v":0.7472762645914397},0,0,0,0]
["Metropolitana","Vitória",{"$f":"'CV Rotina <2A - residência'!L80","v":1.0728051391862956},{"$f":"'CV Rotina <2A - residência'!T80","v":1.1538696849189354},{"$f":"'CV Rotina <2A - residência'!N80","v":1.0706638115631693},{"$f":"'CV Rotina <2A - residência'!P80","v":1.0639339247476292},{"$f":"'CV Rotina <2A - residência'!R80","v":1.1110431324564087},{"$f":"'CV Rotina <2A - residência'!AB80","v":1.1330682165799939},{"$f":"'CV Rotina <2A - residência'!V80","v":1.106760477210156},{"$f":"'CV Rotina <2A - residência'!X80","v":0.77791373508718265},{"$f":"'CV Rotina <2A - residência'!Z80","v":1.0296726827776079},{"$f":"'CV Rotina <2A - residência'!AD80","v":0.94860813704496783},2,6,8,4]
[]
[null,"Total Norte",{"$f":"'CV Rotina <2A - residência'!L82","v":0.96261127596439167},{"$f":"'CV Rotina <2A - residência'!T82","v":0.99327398615232443},{"$f":"'CV Rotina <2A - residência'!N82","v":0.93452027695351136},{"$f":"'CV Rotina <2A - residência'!P82","v":0.92027695351137484},{"$f":"'CV Rotina <2A - residência'!R82","v":0.95509396636993071},{"$f":"'CV Rotina <2A - residência'!AB82","v":1.0298714144411474},{"$f":"'CV Rotina <2A - residência'!V82","v":0.96261127596439167},{"$f":"'CV Rotina <2A - residência'!X82","v":0.77368941641938671},{"$f":"'CV Rotina <2A - residência'!Z82","v":0.98516320474777452},{"$f":"'CV Rotina <2A - residência'!AD82","v":0.9208704253214639},{"$f":"COUNTIF(C82:D82,\">=0,9\")","v":2},{"$f":"COUNTIFS(E82:L82,\">=0,95\")","v":4},{"$f":"SUM(M82:N82)","v":6},{"$f":"COUNTIF(E82:H82,\">=0,95\")","v":2}]
[null,"Total Central",{"$f":"'CV Rotina <2A - residência'!L83","v":0.98360655737704916},{"$f":"'CV Rotina <2A - residência'!T83","v":0.91818744200433033},{"$f":"'CV Rotina <2A - residência'!N83","v":0.87302814723167332},{"$f":"'CV Rotina <2A - residência'!P83","v":0.86498608103928243},{"$f":"'CV Rotina <2A - residência'!R83","v":0.87519331889885554},{"$f":"'CV Rotina <2A - residência'!AB83","v":0.95716053201360962},{"$f":"'CV Rotina <2A - residência'!V83","v":0.90627899783482835},{"$f":"'CV Rotina <2A - residência'!X83","v":0.74218991648623567},{"$f":"'CV Rotina <2A - residência'!Z83","v":0.90102072378595732},{"$f":"'CV Rotina <2A - residência'!AD83","v":0.85879987627590471},{"$f":"COUNTIF(C83:D83,\">=0,9\")","v":2},{"$f":"COUNTIFS(E83:L83,\">=0,95\")","v":1},{"$f":"SUM(M83:N83)","v":3},{"$f":"COUNTIF(E83:H83,\">=0,95\")","v":1}]
[null,"Total Metropolitana",{"$f":"'CV Rotina <2A - residência'!L84","v":0.93549451758406987},{"$f":"'CV Rotina <2A - residência'!T84","v":0.92592320950529905},{"$f":"'CV Rotina <2A - residência'!N84","v":0.85657706553228941},{"$f":"'CV Rotina <2A - residência'!P84","v":0.84894935641204294},{"$f":"'CV Rotina <2A - residência'!R84","v":0.87887344603762518},{"$f":"'CV Rotina <2A - residência'!AB84","v":0.93468774065788995},{"$f":"'CV Rotina <2A - residência'!V84","v":0.89559573141662696},{"$f":"'CV Rotina <2A - residência'!X84","v":0.66914811690931097},{"$f":"'CV Rotina <2A - residência'!Z84","v":0.89390883420734168},{"$f":"'CV Rotina <2A - residência'!AD84","v":0.80941728702922733},{"$f":"COUNTIF(C84:D84,\">=0,9\")","v":2},{"$f":"COUNTIFS(E84:L84,\">=0,95\")","v":0},{"$f":"SUM(M84:N84)","v":2},{"$f":"COUNTIF(E84:H84,\">=0,95\")","v":0}]
[null,"Total Sul",{"$f":"'CV Rotina <2A - residência'!L85","v":0.97340139709833418},{"$f":"'CV Rotina <2A - residência'!T85","v":0.98455131649650729},{"$f":"'CV Rotina <2A - residência'!N85","v":0.94075765717356263},{"$f":"'CV Rotina <2A - residência'!P85","v":0.91980118216012896},{"$f":"'CV Rotina <2A - residência'!R85","v":0.94734013970983344},{"$f":"'CV Rotina <2A - residência'!AB85","v":1.0071198280494358},{"$f":"'CV Rotina <2A - residência'!V85","v":0.95741536808167649},{"$f":"'CV Rotina <2A - residência'!X85","v":0.75523911875335836},{"$f":"'CV Rotina <2A - residência'!Z85","v":0.95996775926921007},{"$f":"'CV Rotina <2A - residência'!AD85","v":0.92880171950564216},{"$f":"COUNTIF(C85:D85,\">=0,9\")","v":2},{"$f":"COUNTIFS(E85:L85,\">=0,95\")","v":3},{"$f":"SUM(M85:N85)","v":5},{"$f":"COUNTIF(E85:H85,\">=0,95\")","v":1}]
[null,"Total Espírito Santo",{"$f":"'CV Rotina <2A - residência'!L86","v":0.95129125751611365},{"$f":"'CV Rotina <2A - residência'!T86","v":0.94164467707747546},{"$f":"'CV Rotina <2A - residência'!N86","v":0.88095341090972012},{"$f":"'CV Rotina <2A - residência'!P86","v":0.87039840809793656},{"$f":"'CV Rotina <2A - residência'!R86","v":0.89771596660466324},{"$f":"'CV Rotina <2A - residência'!AB86","v":0.95989964095687152},{"$f":"'CV Rotina <2A - residência'!V86","v":0.9143703767789938},{"$f":"'CV Rotina <2A - residência'!X86","v":0.70465458320716357},{"$f":"'CV Rotina <2A - residência'!Z86","v":0.91551671929748668},{"$f":"'CV Rotina <2A - residência'!AD86","v":0.84773110697754894},{"$f":"COUNTIF(C86:D86,\">=0,9\")","v":2},{"$f":"COUNTIFS(E86:L86,\">=0,95\")","v":1},{"$f":"SUM(M86:N86)","v":3},{"$f":"COUNTIF(E86:H86,\">=0,95\")","v":1}]
[]
[]
["Fonte: SIPNI/DATASUS, em 09 de junho de 2023.*"]
[" Vacina e Confia, em 12 de junho de 2023.**"]
["*Dados referentes às doses aplicadas pelas clínicas particulares de janeiro a maio de 2023"]
["**Dados referente às doses aplicadas no período de janeiro a maio de 2023"]
["Cobertura Calculada por município de vacinação"]
["1 População proporcional extraída do MS/SVS/DASIS - Sistema de Informações sobre Nascidos Vivos - SINASC"]
["2000 a 2021 – Estimativas preliminares elaboradas pelo Ministério da Saúde/SVS/DASNT/CGIAE"]
[" Nota: Dados preliminares 2021"]