Workbook
Name Dose_Procedencia: [1]Tabdin!$B:$B
Name DOSES_30D_PROCEDENCIA: '[2]TABDIN<=30D'!$D:$D
Name Doses_Procedencia: [3]Tabdin!$B$8:$B$85
Name Doses_Residencia: [4]Tabdin!$E$8:$E$85
Name MUNICIPIO_30D_PROCEDENCIA: '[2]TABDIN<=30D'!$A:$A
Name Municipio_Procedencia: [1]Tabdin!$A:$A
Name Municipio_Residencia: [4]Tabdin!$D$8:$D$85

Sheet cálculos1
C1: 0.9 | E1: 0.95
A2: Regional | B2: Município | C2: Cobertura Vacinal BCG | D2: Cobertura Vacinal Rotavírus | E2: Cobertura Vacinal Pentavalente | F2: Cobertura Vacinal Poliomielite | G2: Cobertura Vacinal Pneumo 10 | H2: Cobertura Vacinal Tríplice Viral | I2: Cobertura Vacinal Meningo C | J2: Cobertura Vacinal Febre Amarela | K2: Cobertura Vacinal Hepatite A | L2: Cobertura Varicela | M2: META 90% | N2: META 95% | O2: ATINGIRAM META | P2: PQA-VS
A3: Metropolitana | B3: Afonso Cláudio | C3: ='CV Rotina <2A - procedência'!K3 -> 0.72028812 | D3: ='CV Rotina <2A - procedência'!AC3 -> 0.87394958 | E3: ='CV Rotina <2A - procedência'!M3 -> 0.89795918 | F3: ='CV Rotina <2A - procedência'!O3 -> 0.8547419 | G3: ='CV Rotina <2A - procedência'!Q3 -> 0.8547419 | H3: ='CV Rotina <2A - procedência'!Y3 -> 1.0132053 | I3: ='CV Rotina <2A - procedência'!S3 -> 0.86434574 | J3: ='CV Rotina <2A - procedência'!U3 -> 0.92677071 | K3: ='CV Rotina <2A - procedência'!W3 -> 1.0804322 | L3: ='CV Rotina <2A - procedência'!AA3 -> 1.0660264 | M3: =COUNTIF(C3:D3,">=0,9") -> 0 | N3: =COUNTIFS(E3:L3,">=0,95") -> 3 | O3: =SUM(M3:N3) -> 3 | P3: =COUNTIF(E3:H3,">=0,95") -> 1
A4: Norte | B4: Água Doce do Norte | C4: ='CV Rotina <2A - procedência'!K4 -> 0.3956044 | D4: ='CV Rotina <2A - procedência'!AC4 -> 0.87032967 | E4: ='CV Rotina <2A - procedência'!M4 -> 0.79120879 | F4: ='CV Rotina <2A - procedência'!O4 -> 0.80879121 | G4: ='CV Rotina <2A - procedência'!Q4 -> 0.80879121 | H4: ='CV Rotina <2A - procedência'!Y4 -> 0.69450549 | I4: ='CV Rotina <2A - procedência'!S4 -> 0.84395604 | J4: ='CV Rotina <2A - procedência'!U4 -> 0.58021978 | K4: ='CV Rotina <2A - procedência'!W4 -> 0.7032967 | L4: ='CV Rotina <2A - procedência'!AA4 -> 0.71208791 | M4: =COUNTIF(C4:D4,">=0,9") -> 0 | N4: =COUNTIFS(E4:L4,">=0,95") -> 0 | O4: =SUM(M4:N4) -> 0 | P4: =COUNTIF(E4:H4,">=0,95") -> 0
A5: Central | B5: Águia Branca | C5: ='CV Rotina <2A - procedência'!K5 -> 0.71137026 | D5: ='CV Rotina <2A - procedência'!AC5 -> 0.94460641 | E5: ='CV Rotina <2A - procedência'!M5 -> 0.88629738 | F5: ='CV Rotina <2A - procedência'!O5 -> 0.90962099 | G5: ='CV Rotina <2A - procedência'!Q5 -> 0.90962099 | H5: ='CV Rotina <2A - procedência'!Y5 -> 1.154519 | I5: ='CV Rotina <2A - procedência'!S5 -> 0.9212828 | J5: ='CV Rotina <2A - procedência'!U5 -> 1.1661808 | K5: ='CV Rotina <2A - procedência'!W5 -> 0.89795918 | L5: ='CV Rotina <2A - procedência'!AA5 -> 0.96793003 | M5: =COUNTIF(C5:D5,">=0,9") -> 1 | N5: =COUNTIFS(E5:L5,">=0,95") -> 3 | O5: =SUM(M5:N5) -> 4 | P5: =COUNTIF(E5:H5,">=0,95") -> 1
A6: Sul | B6: Alegre | C6: ='CV Rotina <2A - procedência'!K6 -> 0.62128476 | D6: ='CV Rotina <2A - procedência'!AC6 -> 1.012464 | E6: ='CV Rotina <2A - procedência'!M6 -> 1.0469799 | F6: ='CV Rotina <2A - procedência'!O6 -> 0.95493768 | G6: ='CV Rotina <2A - procedência'!Q6 -> 0.96644295 | H6: ='CV Rotina <2A - procedência'!Y6 -> 1.1965484 | I6: ='CV Rotina <2A - procedência'!S6 -> 0.96644295 | J6: ='CV Rotina <2A - procedência'!U6 -> 1.012464 | K6: ='CV Rotina <2A - procedência'!W6 -> 1.0699904 | L6: ='CV Rotina <2A - procedência'!AA6 -> 1.0642378 | M6: =COUNTIF(C6:D6,">=0,9") -> 1 | N6: =COUNTIFS(E6:L6,">=0,95") -> 8 | O6: =SUM(M6:N6) -> 9 | P6: =COUNTIF(E6:H6,">=0,95") -> 4
A7: Sul | B7: Alfredo Chaves | C7: ='CV Rotina <2A - procedência'!K7 -> 0.45993031 | D7: ='CV Rotina <2A - procedência'!AC7 -> 0.96167247 | E7: ='CV Rotina <2A - procedência'!M7 -> 0.83623693 | F7: ='CV Rotina <2A - procedência'!O7 -> 0.83623693 | G7: ='CV Rotina <2A - procedência'!Q7 -> 0.8641115 | H7: ='CV Rotina <2A - procedência'!Y7 -> 1.0731707 | I7: ='CV Rotina <2A - procedência'!S7 -> 0.8641115 | J7: ='CV Rotina <2A - procedência'!U7 -> 0.85017422 | K7: ='CV Rotina <2A - procedência'!W7 -> 1.0034843 | L7: ='CV Rotina <2A - procedência'!AA7 -> 1.0452962 | M7: =COUNTIF(C7:D7,">=0,9") -> 1 | N7: =COUNTIFS(E7:L7,">=0,95") -> 3 | O7: =SUM(M7:N7) -> 4 | P7: =COUNTIF(E7:H7,">=0,95") -> 1
A8: Central | B8: Alto Rio Novo | C8: ='CV Rotina <2A - procedência'!K8 -> 0.4144427 | D8: ='CV Rotina <2A - procedência'!AC8 -> 1.0549451 | E8: ='CV Rotina <2A - procedência'!M8 -> 1.0172684 | F8: ='CV Rotina <2A - procedência'!O8 -> 0.97959184 | G8: ='CV Rotina <2A - procedência'!Q8 -> 0.97959184 | H8: ='CV Rotina <2A - procedência'!Y8 -> 1.3563579 | I8: ='CV Rotina <2A - procedência'!S8 -> 0.97959184 | J8: ='CV Rotina <2A - procedência'!U8 -> 1.0926217 | K8: ='CV Rotina <2A - procedência'!W8 -> 0.88540031 | L8: ='CV Rotina <2A - procedência'!AA8 -> 0.94191523 | M8: =COUNTIF(C8:D8,">=0,9") -> 1 | N8: =COUNTIFS(E8:L8,">=0,95") -> 6 | O8: =SUM(M8:N8) -> 7 | P8: =COUNTIF(E8:H8,">=0,95") -> 4
A9: Sul | B9: Anchieta | C9: ='CV Rotina <2A - procedência'!K9 -> 0.45163901 | D9: ='CV Rotina <2A - procedência'!AC9 -> 1.005261 | E9: ='CV Rotina <2A - procedência'!M9 -> 0.92270336 | F9: ='CV Rotina <2A - procedência'!O9 -> 0.87899636 | G9: ='CV Rotina <2A - procedência'!Q9 -> 0.87899636 | H9: ='CV Rotina <2A - procedência'!Y9 -> 1.0246864 | I9: ='CV Rotina <2A - procedência'!S9 -> 0.88385269 | J9: ='CV Rotina <2A - procedência'!U9 -> 0.76244435 | K9: ='CV Rotina <2A - procedência'!W9 -> 1.1703764 | L9: ='CV Rotina <2A - procedência'!AA9 -> 1.2140834 | M9: =COUNTIF(C9:D9,">=0,9") -> 1 | N9: =COUNTIFS(E9:L9,">=0,95") -> 3 | O9: =SUM(M9:N9) -> 4 | P9: =COUNTIF(E9:H9,">=0,95") -> 1
A10: Sul | B10: Apiacá | C10: ='CV Rotina <2A - procedência'!K10 -> 0.75428571 | D10: ='CV Rotina <2A - procedência'!AC10 -> 0.82285714 | E10: ='CV Rotina <2A - procedência'!M10 -> 0.91428571 | F10: ='CV Rotina <2A - procedência'!O10 -> 0.77714286 | G10: ='CV Rotina <2A - procedência'!Q10 -> 0.77714286 | H10: ='CV Rotina <2A - procedência'!Y10 -> 0.84571429 | I10: ='CV Rotina <2A - procedência'!S10 -> 0.75428571 | J10: ='CV Rotina <2A - procedência'!U10 -> 0.64 | K10: ='CV Rotina <2A - procedência'!W10 -> 0.86857143 | L10: ='CV Rotina <2A - procedência'!AA10 -> 0.70857143 | M10: =COUNTIF(C10:D10,">=0,9") -> 0 | N10: =COUNTIFS(E10:L10,">=0,95") -> 0 | O10: =SUM(M10:N10) -> 0 | P10: =COUNTIF(E10:H10,">=0,95") -> 0
A11: Metropolitana | B11: Aracruz | C11: ='CV Rotina <2A - procedência'!K11 -> 0.34913658 | D11: ='CV Rotina <2A - procedência'!AC11 -> 0.96452119 | E11: ='CV Rotina <2A - procedência'!M11 -> 0.84897959 | F11: ='CV Rotina <2A - procedência'!O11 -> 0.92935636 | G11: ='CV Rotina <2A - procedência'!Q11 -> 0.93061224 | H11: ='CV Rotina <2A - procedência'!Y11 -> 1.0963893 | I11: ='CV Rotina <2A - procedência'!S11 -> 0.94191523 | J11: ='CV Rotina <2A - procedência'!U11 -> 0.85023548 | K11: ='CV Rotina <2A - procedência'!W11 -> 0.97708006 | L11: ='CV Rotina <2A - procedência'!AA11 -> 0.96200942 | M11: =COUNTIF(C11:D11,">=0,9") -> 1 | N11: =COUNTIFS(E11:L11,">=0,95") -> 3 | O11: =SUM(M11:N11) -> 4 | P11: =COUNTIF(E11:H11,">=0,95") -> 1
A12: Sul | B12: Atilio Vivacqua | C12: ='CV Rotina <2A - procedência'!K12 -> 0.12938005 | D12: ='CV Rotina <2A - procedência'!AC12 -> 0.77628032 | E12: ='CV Rotina <2A - procedência'!M12 -> 0.67924528 | F12: ='CV Rotina <2A - procedência'!O12 -> 0.7115903 | G12: ='CV Rotina <2A - procedência'!Q12 -> 0.7115903 | H12: ='CV Rotina <2A - procedência'!Y12 -> 1.0997305 | I12: ='CV Rotina <2A - procedência'!S12 -> 0.70080863 | J12: ='CV Rotina <2A - procedência'!U12 -> 0.76549865 | K12: ='CV Rotina <2A - procedência'!W12 -> 1.1428571 | L12: ='CV Rotina <2A - procedência'!AA12 -> 1.1859838 | M12: =COUNTIF(C12:D12,">=0,9") -> 0 | N12: =COUNTIFS(E12:L12,">=0,95") -> 3 | O12: =SUM(M12:N12) -> 3 | P12: =COUNTIF(E12:H12,">=0,95") -> 1
A13: Central | B13: Baixo Guandu | C13: ='CV Rotina <2A - procedência'!K13 -> 0.42857143 | D13: ='CV Rotina <2A - procedência'!AC13 -> 0.9408867 | E13: ='CV Rotina <2A - procedência'!M13 -> 0.95073892 | F13: ='CV Rotina <2A - procedência'!O13 -> 0.91133005 | G13: ='CV Rotina <2A - procedência'!Q13 -> 0.91133005 | H13: ='CV Rotina <2A - procedência'!Y13 -> 1.0197044 | I13: ='CV Rotina <2A - procedência'!S13 -> 0.91625616 | J13: ='CV Rotina <2A - procedência'!U13 -> 0.88669951 | K13: ='CV Rotina <2A - procedência'!W13 -> 0.86699507 | L13: ='CV Rotina <2A - procedência'!AA13 -> 0.92610837 | M13: =COUNTIF(C13:D13,">=0,9") -> 1 | N13: =COUNTIFS(E13:L13,">=0,95") -> 2 | O13: =SUM(M13:N13) -> 3 | P13: =COUNTIF(E13:H13,">=0,95") -> 2
A14: Norte | B14: Barra de São Francisco | C14: ='CV Rotina <2A - procedência'!K14 -> 0.59868581 | D14: ='CV Rotina <2A - procedência'!AC14 -> 0.98710148 | E14: ='CV Rotina <2A - procedência'!M14 -> 0.96081772 | F14: ='CV Rotina <2A - procedência'!O14 -> 0.89072767 | G14: ='CV Rotina <2A - procedência'!Q14 -> 0.89072767 | H14: ='CV Rotina <2A - procedência'!Y14 -> 0.92285228 | I14: ='CV Rotina <2A - procedência'!S14 -> 0.91701144 | J14: ='CV Rotina <2A - procedência'!U14 -> 0.753468 | K14: ='CV Rotina <2A - procedência'!W14 -> 0.753468 | L14: ='CV Rotina <2A - procedência'!AA14 -> 0.7388659 | M14: =COUNTIF(C14:D14,">=0,9") -> 1 | N14: =COUNTIFS(E14:L14,">=0,95") -> 1 | O14: =SUM(M14:N14) -> 2 | P14: =COUNTIF(E14:H14,">=0,95") -> 1
... A80: Metropolitana | B80: Vitória | C80: ='CV Rotina <2A - procedência'!K80 -> 2.0720412 | D80: ='CV Rotina <2A - procedência'!AC80 -> 1.2697868 | E80: ='CV Rotina <2A - procedência'!M80 -> 1.3756432 | F80: ='CV Rotina <2A - procedência'!O80 -> 1.1982357 | G80: ='CV Rotina <2A - procedência'!Q80 -> 1.2119579 | H80: ='CV Rotina <2A - procedência'!Y80 -> 1.0977702 | I80: ='CV Rotina <2A - procedência'!S80 -> 1.2080372 | J80: ='CV Rotina <2A - procedência'!U80 -> 0.69394756 | K80: ='CV Rotina <2A - procedência'!W80 -> 1.2296006 | L80: ='CV Rotina <2A - procedência'!AA80 -> 1.1771625 | M80: =COUNTIF(C80:D80,">=0,9") -> 2 | N80: =COUNTIFS(E80:L80,">=0,95") -> 7 | O80: =SUM(M80:N80) -> 9 | P80: =COUNTIF(E80:H80,">=0,95") -> 4
B82: Total Norte | C82: ='CV Rotina <2A - procedência'!K82 -> 0.86046278 | D82: ='CV Rotina <2A - procedência'!AC82 -> 1.0466801 | E82: ='CV Rotina <2A - procedência'!M82 -> 1.0110664 | F82: ='CV Rotina <2A - procedência'!O82 -> 0.97364185 | G82: ='CV Rotina <2A - procedência'!Q82 -> 0.97484909 | H82: ='CV Rotina <2A - procedência'!Y82 -> 0.99839034 | I82: ='CV Rotina <2A - procedência'!S82 -> 0.98873239 | J82: ='CV Rotina <2A - procedência'!U82 -> 0.81579477 | K82: ='CV Rotina <2A - procedência'!W82 -> 0.91720322 | L82: ='CV Rotina <2A - procedência'!AA82 -> 0.88641851 | M82: =COUNTIF(C82:D82,">=0,9") -> 1 | N82: =COUNTIFS(E82:L82,">=0,95") -> 5 | O82: =SUM(M82:N82) -> 6 | P82: =COUNTIF(E82:H82,">=0,95") -> 4
B83: Total Central | C83: ='CV Rotina <2A - procedência'!K83 -> 1.1489153 | D83: ='CV Rotina <2A - procedência'!AC83 -> 0.99369628 | E83: ='CV Rotina <2A - procedência'!M83 -> 0.95538273 | F83: ='CV Rotina <2A - procedência'!O83 -> 0.91805158 | G83: ='CV Rotina <2A - procedência'!Q83 -> 0.92148997 | H83: ='CV Rotina <2A - procedência'!Y83 -> 0.95882112 | I83: ='CV Rotina <2A - procedência'!S83 -> 0.92836676 | J83: ='CV Rotina <2A - procedência'!U83 -> 0.8215309 | K83: ='CV Rotina <2A - procedência'!W83 -> 0.88735162 | L83: ='CV Rotina <2A - procedência'!AA83 -> 0.92075317 | M83: =COUNTIF(C83:D83,">=0,9") -> 2 | N83: =COUNTIFS(E83:L83,">=0,95") -> 2 | O83: =SUM(M83:N83) -> 4 | P83: =COUNTIF(E83:H83,">=0,95") -> 2
B84: Total Metropolitana | C84: ='CV Rotina <2A - procedência'!K84 -> 0.9438751 | D84: ='CV Rotina <2A - procedência'!AC84 -> 0.97382538 | E84: ='CV Rotina <2A - procedência'!M84 -> 0.93987388 | F84: ='CV Rotina <2A - procedência'!O84 -> 0.88674009 | G84: ='CV Rotina <2A - procedência'!Q84 -> 0.89280075 | H84: ='CV Rotina <2A - procedência'!Y84 -> 0.96223362 | I84: ='CV Rotina <2A - procedência'!S84 -> 0.89491904 | J84: ='CV Rotina <2A - procedência'!U84 -> 0.73298748 | K84: ='CV Rotina <2A - procedência'!W84 -> 0.91357177 | L84: ='CV Rotina <2A - procedência'!AA84 -> 0.88550442 | M84: =COUNTIF(C84:D84,">=0,9") -> 2 | N84: =COUNTIFS(E84:L84,">=0,95") -> 1 | O84: =SUM(M84:N84) -> 3 | P84: =COUNTIF(E84:H84,">=0,95") -> 1
B85: Total Sul | C85: ='CV Rotina <2A - procedência'!K85 -> 0.9315356 | D85: ='CV Rotina <2A - procedência'!AC85 -> 0.96175437 | E85: ='CV Rotina <2A - procedência'!M85 -> 0.91621636 | F85: ='CV Rotina <2A - procedência'!O85 -> 0.92251194 | G85: ='CV Rotina <2A - procedência'!Q85 -> 0.92670899 | H85: ='CV Rotina <2A - procedência'!Y85 -> 0.99721945 | I85: ='CV Rotina <2A - procedência'!S85 -> 0.93006663 | J85: ='CV Rotina <2A - procedência'!U85 -> 0.78358953 | K85: ='CV Rotina <2A - procedência'!W85 -> 0.9319553 | L85: ='CV Rotina <2A - procedência'!AA85 -> 0.9443366 | M85: =COUNTIF(C85:D85,">=0,9") -> 2 | N85: =COUNTIFS(E85:L85,">=0,95") -> 1 | O85: =SUM(M85:N85) -> 3 | P85: =COUNTIF(E85:H85,">=0,95") -> 1
B86: Total Espírito Santo | C86: ='CV Rotina <2A - procedência'!K86 -> 0.96101973 | D86: ='CV Rotina <2A - procedência'!AC86 -> 0.98291021 | E86: ='CV Rotina <2A - procedência'!M86 -> 0.94626595 | F86: ='CV Rotina <2A - procedência'!O86 -> 0.90684249 | G86: ='CV Rotina <2A - procedência'!Q86 -> 0.91168036 | H86: ='CV Rotina <2A - procedência'!Y86 -> 0.97158755 | I86: ='CV Rotina <2A - procedência'!S86 -> 0.91600356 | J86: ='CV Rotina <2A - procedência'!U86 -> 0.76304465 | K86: ='CV Rotina <2A - procedência'!W86 -> 0.91332729 | L86: ='CV Rotina <2A - procedência'!AA86 -> 0.90015183 | M86: =COUNTIF(C86:D86,">=0,9") -> 2 | N86: =COUNTIFS(E86:L86,">=0,95") -> 1 | O86: =SUM(M86:N86) -> 3 | P86: =COUNTIF(E86:H86,">=0,95") -> 1
A89: Fonte: SIPNI/DATASUS, em 09 de junho de 2023.*
A90: Vacina e Confia, em 12 de junho de 2023.**
A91: *Dados referentes às doses aplicadas pelas clínicas particulares de janeiro a maio de 2023
A92: **Dados referente às doses aplicadas no período de janeiro a maio de 2023
A93: Cobertura Calculada por município de vacinação
A94: 1 População proporcional extraída do MS/SVS/DASIS - Sistema de Informações sobre Nascidos Vivos - SINASC
A95: 2000 a 2021 – Estimativas preliminares elaboradas pelo Ministério da Saúde/SVS/DASNT/CGIAE
A96: Nota: Dados preliminares 2021

Sheet cálculos2
C1: 0.9 | E1: 0.95
A2: Regional | B2: Município | C2: Cobertura Vacinal BCG | D2: Cobertura Vacinal Rotavírus | E2: Cobertura Vacinal Pentavalente | F2: Cobertura Vacinal Poliomielite | G2: Cobertura Vacinal Pneumo 10 | H2: Cobertura Vacinal Tríplice Viral | I2: Cobertura Vacinal Meningo C | J2: Cobertura Vacinal Febre Amarela | K2: Cobertura Vacinal Hepatite A | L2: Cobertura Varicela | M2: META 90% | N2: META 95% | O2: ATINGIRAM META | P2: PQA-VS
A3: Metropolitana | B3: Afonso Cláudio | C3: ='CV Rotina <2A - residência'!K3 -> 0.82112845 | D3: ='CV Rotina <2A - residência'!AC3 -> 0.94597839 | E3: ='CV Rotina <2A - residência'!M3 -> 0.94597839 | F3: ='CV Rotina <2A - residência'!O3 -> 0.89315726 | G3: ='CV Rotina <2A - residência'!Q3 -> 0.89315726 | H3: ='CV Rotina <2A - residência'!Y3 -> 1.0132053 | I3: ='CV Rotina <2A - residência'!S3 -> 0.9027611 | J3: ='CV Rotina <2A - residência'!U3 -> 0.93157263 | K3: ='CV Rotina <2A - residência'!W3 -> 1.0372149 | L3: ='CV Rotina <2A - residência'!AA3 -> 1.0372149 | M3: =COUNTIF(C3:D3,">=0,9") -> 1 | N3: =COUNTIFS(E3:L3,">=0,95") -> 3 | O3: =SUM(M3:N3) -> 4 | P3: =COUNTIF(E3:H3,">=0,95") -> 1
A4: Norte | B4: Água Doce do Norte | C4: ='CV Rotina <2A - residência'!K4 -> 0.79120879 | D4: ='CV Rotina <2A - residência'!AC4 -> 0.79120879 | E4: ='CV Rotina <2A - residência'!M4 -> 0.72967033 | F4: ='CV Rotina <2A - residência'!O4 -> 0.74725275 | G4: ='CV Rotina <2A - residência'!Q4 -> 0.74725275 | H4: ='CV Rotina <2A - residência'!Y4 -> 0.61538462 | I4: ='CV Rotina <2A - residência'!S4 -> 0.79120879 | J4: ='CV Rotina <2A - residência'!U4 -> 0.51868132 | K4: ='CV Rotina <2A - residência'!W4 -> 0.65054945 | L4: ='CV Rotina <2A - residência'!AA4 -> 0.66813187 | M4: =COUNTIF(C4:D4,">=0,9") -> 0 | N4: =COUNTIFS(E4:L4,">=0,95") -> 0 | O4: =SUM(M4:N4) -> 0 | P4: =COUNTIF(E4:H4,">=0,95") -> 0
A5: Central | B5: Águia Branca | C5: ='CV Rotina <2A - residência'!K5 -> 1.1428571 | D5: ='CV Rotina <2A - residência'!AC5 -> 0.97959184 | E5: ='CV Rotina <2A - residência'!M5 -> 0.96793003 | F5: ='CV Rotina <2A - residência'!O5 -> 0.90962099 | G5: ='CV Rotina <2A - residência'!Q5 -> 0.90962099 | H5: ='CV Rotina <2A - residência'!Y5 -> 1.212828 | I5: ='CV Rotina <2A - residência'!S5 -> 0.9212828 | J5: ='CV Rotina <2A - residência'!U5 -> 1.1311953 | K5: ='CV Rotina <2A - residência'!W5 -> 0.95626822 | L5: ='CV Rotina <2A - residência'!AA5 -> 1.0029155 | M5: =COUNTIF(C5:D5,">=0,9") -> 2 | N5: =COUNTIFS(E5:L5,">=0,95") -> 5 | O5: =SUM(M5:N5) -> 7 | P5: =COUNTIF(E5:H5,">=0,95") -> 2
A6: Sul | B6: Alegre | C6: ='CV Rotina <2A - residência'!K6 -> 1.012464 | D6: ='CV Rotina <2A - residência'!AC6 -> 0.92042186 | E6: ='CV Rotina <2A - residência'!M6 -> 0.89741131 | F6: ='CV Rotina <2A - residência'!O6 -> 0.93192713 | G6: ='CV Rotina <2A - residência'!Q6 -> 0.93192713 | H6: ='CV Rotina <2A - residência'!Y6 -> 1.0872483 | I6: ='CV Rotina <2A - residência'!S6 -> 0.93767977 | J6: ='CV Rotina <2A - residência'!U6 -> 0.97219559 | K6: ='CV Rotina <2A - residência'!W6 -> 0.94343241 | L6: ='CV Rotina <2A - residência'!AA6 -> 0.97219559 | M6: =COUNTIF(C6:D6,">=0,9") -> 2 | N6: =COUNTIFS(E6:L6,">=0,95") -> 3 | O6: =SUM(M6:N6) -> 5 | P6: =COUNTIF(E6:H6,">=0,95") -> 1
A7: Sul | B7: Alfredo Chaves | C7: ='CV Rotina <2A - residência'!K7 -> 1.0174216 | D7: ='CV Rotina <2A - residência'!AC7 -> 0.94773519 | E7: ='CV Rotina <2A - residência'!M7 -> 0.93379791 | F7: ='CV Rotina <2A - residência'!O7 -> 0.87804878 | G7: ='CV Rotina <2A - residência'!Q7 -> 0.91986063 | H7: ='CV Rotina <2A - residência'!Y7 -> 0.96167247 | I7: ='CV Rotina <2A - residência'!S7 -> 0.90592334 | J7: ='CV Rotina <2A - residência'!U7 -> 0.82229965 | K7: ='CV Rotina <2A - residência'!W7 -> 0.93379791 | L7: ='CV Rotina <2A - residência'!AA7 -> 0.97560976 | M7: =COUNTIF(C7:D7,">=0,9") -> 2 | N7: =COUNTIFS(E7:L7,">=0,95") -> 2 | O7: =SUM(M7:N7) -> 4 | P7: =COUNTIF(E7:H7,">=0,95") -> 1
A8: Central | B8: Alto Rio Novo | C8: ='CV Rotina <2A - residência'!K8 -> 1.3186813 | D8: ='CV Rotina <2A - residência'!AC8 -> 1.0549451 | E8: ='CV Rotina <2A - residência'!M8 -> 1.0172684 | F8: ='CV Rotina <2A - residência'!O8 -> 0.99843014 | G8: ='CV Rotina <2A - residência'!Q8 -> 0.99843014 | H8: ='CV Rotina <2A - residência'!Y8 -> 1.299843 | I8: ='CV Rotina <2A - residência'!S8 -> 0.99843014 | J8: ='CV Rotina <2A - residência'!U8 -> 1.0549451 | K8: ='CV Rotina <2A - residência'!W8 -> 0.8288854 | L8: ='CV Rotina <2A - residência'!AA8 -> 0.8288854 | M8: =COUNTIF(C8:D8,">=0,9") -> 2 | N8: =COUNTIFS(E8:L8,">=0,95") -> 6 | O8: =SUM(M8:N8) -> 8 | P8: =COUNTIF(E8:H8,">=0,95") -> 4
A9: Sul | B9: Anchieta | C9: ='CV Rotina <2A - residência'!K9 -> 0.98583569 | D9: ='CV Rotina <2A - residência'!AC9 -> 1.063537 | E9: ='CV Rotina <2A - residência'!M9 -> 1.0295427 | F9: ='CV Rotina <2A - residência'!O9 -> 0.99554836 | G9: ='CV Rotina <2A - residência'!Q9 -> 0.96641036 | H9: ='CV Rotina <2A - residência'!Y9 -> 1.0586807 | I9: ='CV Rotina <2A - residência'!S9 -> 0.96641036 | J9: ='CV Rotina <2A - residência'!U9 -> 0.76244435 | K9: ='CV Rotina <2A - residência'!W9 -> 1.2043707 | L9: ='CV Rotina <2A - residência'!AA9 -> 1.2480777 | M9: =COUNTIF(C9:D9,">=0,9") -> 2 | N9: =COUNTIFS(E9:L9,">=0,95") -> 7 | O9: =SUM(M9:N9) -> 9 | P9: =COUNTIF(E9:H9,">=0,95") -> 4
A10: Sul | B10: Apiacá | C10: ='CV Rotina <2A - residência'!K10 -> 0.89142857 | D10: ='CV Rotina <2A - residência'!AC10 -> 0.77714286 | E10: ='CV Rotina <2A - residência'!M10 -> 0.86857143 | F10: ='CV Rotina <2A - residência'!O10 -> 0.8 | G10: ='CV Rotina <2A - residência'!Q10 -> 0.8 | H10: ='CV Rotina <2A - residência'!Y10 -> 0.70857143 | I10: ='CV Rotina <2A - residência'!S10 -> 0.8 | J10: ='CV Rotina <2A - residência'!U10 -> 0.54857143 | K10: ='CV Rotina <2A - residência'!W10 -> 0.73142857 | L10: ='CV Rotina <2A - residência'!AA10 -> 0.59428571 | M10: =COUNTIF(C10:D10,">=0,9") -> 0 | N10: =COUNTIFS(E10:L10,">=0,95") -> 0 | O10: =SUM(M10:N10) -> 0 | P10: =COUNTIF(E10:H10,">=0,95") -> 0
A11: Metropolitana | B11: Aracruz | C11: ='CV Rotina <2A - residência'!K11 -> 0.55384615 | D11: ='CV Rotina <2A - residência'!AC11 -> 0.95949765 | E11: ='CV Rotina <2A - residência'!M11 -> 0.85400314 | F11: ='CV Rotina <2A - residência'!O11 -> 0.92810047 | G11: ='CV Rotina <2A - residência'!Q11 -> 0.92433281 | H11: ='CV Rotina <2A - residência'!Y11 -> 1.066248 | I11: ='CV Rotina <2A - residência'!S11 -> 0.93312402 | J11: ='CV Rotina <2A - residência'!U11 -> 0.84270016 | K11: ='CV Rotina <2A - residência'!W11 -> 0.97080063 | L11: ='CV Rotina <2A - residência'!AA11 -> 0.9544741 | M11: =COUNTIF(C11:D11,">=0,9") -> 1 | N11: =COUNTIFS(E11:L11,">=0,95") -> 3 | O11: =SUM(M11:N11) -> 4 | P11: =COUNTIF(E11:H11,">=0,95") -> 1
A12: Sul | B12: Atilio Vivacqua | C12: ='CV Rotina <2A - residência'!K12 -> 0.84097035 | D12: ='CV Rotina <2A - residência'!AC12 -> 0.84097035 | E12: ='CV Rotina <2A - residência'!M12 -> 0.75471698 | F12: ='CV Rotina <2A - residência'!O12 -> 0.74393531 | G12: ='CV Rotina <2A - residência'!Q12 -> 0.7115903 | H12: ='CV Rotina <2A - residência'!Y12 -> 1.1644205 | I12: ='CV Rotina <2A - residência'!S12 -> 0.7115903 | J12: ='CV Rotina <2A - residência'!U12 -> 0.76549865 | K12: ='CV Rotina <2A - residência'!W12 -> 1.2075472 | L12: ='CV Rotina <2A - residência'!AA12 -> 1.2398922 | M12: =COUNTIF(C12:D12,">=0,9") -> 0 | N12: =COUNTIFS(E12:L12,">=0,95") -> 3 | O12: =SUM(M12:N12) -> 3 | P12: =COUNTIF(E12:H12,">=0,95") -> 1
A13: Central | B13: Baixo Guandu | C13: ='CV Rotina <2A - residência'!K13 -> 1.0147783 | D13: ='CV Rotina <2A - residência'!AC13 -> 0.85221675 | E13: ='CV Rotina <2A - residência'!M13 -> 0.83251232 | F13: ='CV Rotina <2A - residência'!O13 -> 0.81280788 | G13: ='CV Rotina <2A - residência'!Q13 -> 0.81280788 | H13: ='CV Rotina <2A - residência'!Y13 -> 0.96551724 | I13: ='CV Rotina <2A - residência'!S13 -> 0.81773399 | J13: ='CV Rotina <2A - residência'!U13 -> 0.87192118 | K13: ='CV Rotina <2A - residência'!W13 -> 0.84236453 | L13: ='CV Rotina <2A - residência'!AA13 -> 0.89655172 | M13: =COUNTIF(C13:D13,">=0,9") -> 1 | N13: =COUNTIFS(E13:L13,">=0,95") -> 1 | O13: =SUM(M13:N13) -> 2 | P13: =COUNTIF(E13:H13,">=0,95") -> 1
A14: Norte | B14: Barra de São Francisco | C14: ='CV Rotina <2A - residência'!K14 -> 0.89072767 | D14: ='CV Rotina <2A - residência'!AC14 -> 0.95205646 | E14: ='CV Rotina <2A - residência'!M14 -> 0.92577269 | F14: ='CV Rotina <2A - residência'!O14 -> 0.85860307 | G14: ='CV Rotina <2A - residência'!Q14 -> 0.86152349 | H14: ='CV Rotina <2A - residência'!Y14 -> 0.92285228 | I14: ='CV Rotina <2A - residência'!S14 -> 0.87612558 | J14: ='CV Rotina <2A - residência'!U14 -> 0.76807009 | K14: ='CV Rotina <2A - residência'!W14 -> 0.76514967 | L14: ='CV Rotina <2A - residência'!AA14 -> 0.72426381 | M14: =COUNTIF(C14:D14,">=0,9") -> 1 | N14: =COUNTIFS(E14:L14,">=0,95") -> 0 | O14: =SUM(M14:N14) -> 1 | P14: =COUNTIF(E14:H14,">=0,95") -> 0
... A80: Metropolitana | B80: Vitória | C80: ='CV Rotina <2A - residência'!K80 -> 1.0026954 | D80: ='CV Rotina <2A - residência'!AC80 -> 1.2046067 | E80: ='CV Rotina <2A - residência'!M80 -> 1.1967655 | F80: ='CV Rotina <2A - residência'!O80 -> 1.0977702 | G80: ='CV Rotina <2A - residência'!Q80 -> 1.1105121 | H80: ='CV Rotina <2A - residência'!Y80 -> 1.2055869 | I80: ='CV Rotina <2A - residência'!S80 -> 1.0958099 | J80: ='CV Rotina <2A - residência'!U80 -> 0.74344523 | K80: ='CV Rotina <2A - residência'!W80 -> 1.2423426 | L80: ='CV Rotina <2A - residência'!AA80 -> 1.2026464 | M80: =COUNTIF(C80:D80,">=0,9") -> 2 | N80: =COUNTIFS(E80:L80,">=0,95") -> 7 | O80: =SUM(M80:N80) -> 9 | P80: =COUNTIF(E80:H80,">=0,95") -> 4
B82: Total Norte | C82: ='CV Rotina <2A - residência'!K82 -> 0.98692153 | D82: ='CV Rotina <2A - residência'!AC82 -> 1.0222334 | E82: ='CV Rotina <2A - residência'!M82 -> 0.98843058 | F82: ='CV Rotina <2A - residência'!O82 -> 0.95492958 | G82: ='CV Rotina <2A - residência'!Q82 -> 0.95583501 | H82: ='CV Rotina <2A - residência'!Y82 -> 0.98782696 | I82: ='CV Rotina <2A - residência'!S82 -> 0.96790744 | J82: ='CV Rotina <2A - residência'!U82 -> 0.80251509 | K82: ='CV Rotina <2A - residência'!W82 -> 0.89909457 | L82: ='CV Rotina <2A - residência'!AA82 -> 0.86830986 | M82: =COUNTIF(C82:D82,">=0,9") -> 2 | N82: =COUNTIFS(E82:L82,">=0,95") -> 5 | O82: =SUM(M82:N82) -> 7 | P82: =COUNTIF(E82:H82,">=0,95") -> 4
B83: Total Central | C83: ='CV Rotina <2A - residência'!K83 -> 1.037413 | D83: ='CV Rotina <2A - residência'!AC83 -> 0.9757675 | E83: ='CV Rotina <2A - residência'!M83 -> 0.93990995 | F83: ='CV Rotina <2A - residência'!O83 -> 0.9033156 | G83: ='CV Rotina <2A - residência'!Q83 -> 0.90994679 | H83: ='CV Rotina <2A - residência'!Y83 -> 0.93499795 | I83: ='CV Rotina <2A - residência'!S83 -> 0.91608678 | J83: ='CV Rotina <2A - residência'!U83 -> 0.81170692 | K83: ='CV Rotina <2A - residência'!W83 -> 0.87728203 | L83: ='CV Rotina <2A - residência'!AA83 -> 0.9033156 | M83: =COUNTIF(C83:D83,">=0,9") -> 2 | N83: =COUNTIFS(E83:L83,">=0,95") -> 0 | O83: =SUM(M83:N83) -> 2 | P83: =COUNTIF(E83:H83,">=0,95") -> 0
B84: Total Metropolitana | C84: ='CV Rotina <2A - residência'!K84 -> 0.93799096 | D84: ='CV Rotina <2A - residência'!AC84 -> 0.95858545 | E84: ='CV Rotina <2A - residência'!M84 -> 0.9256931 | F84: ='CV Rotina <2A - residência'!O84 -> 0.87355961 | G84: ='CV Rotina <2A - residência'!Q84 -> 0.88067942 | H84: ='CV Rotina <2A - residência'!Y84 -> 0.95111259 | I84: ='CV Rotina <2A - residência'!S84 -> 0.88209162 | J84: ='CV Rotina <2A - residência'!U84 -> 0.72522041 | K84: ='CV Rotina <2A - residência'!W84 -> 0.89821416 | L84: ='CV Rotina <2A - residência'!AA84 -> 0.87173553 | M84: =COUNTIF(C84:D84,">=0,9") -> 2 | N84: =COUNTIFS(E84:L84,">=0,95") -> 1 | O84: =SUM(M84:N84) -> 3 | P84: =COUNTIF(E84:H84,">=0,95") -> 1
B85: Total Sul | C85: ='CV Rotina <2A - residência'!K85 -> 0.93237501 | D85: ='CV Rotina <2A - residência'!AC85 -> 0.95503909 | E85: ='CV Rotina <2A - residência'!M85 -> 0.9155868 | F85: ='CV Rotina <2A - residência'!O85 -> 0.91684592 | G85: ='CV Rotina <2A - residência'!Q85 -> 0.91852474 | H85: ='CV Rotina <2A - residência'!Y85 -> 0.98252977 | I85: ='CV Rotina <2A - residência'!S85 -> 0.92314149 | J85: ='CV Rotina <2A - residência'!U85 -> 0.77372646 | K85: ='CV Rotina <2A - residência'!W85 -> 0.92586958 | L85: ='CV Rotina <2A - residência'!AA85 -> 0.93531294 | M85: =COUNTIF(C85:D85,">=0,9") -> 2 | N85: =COUNTIFS(E85:L85,">=0,95") -> 1 | O85: =SUM(M85:N85) -> 3 | P85: =COUNTIF(E85:H85,">=0,95") -> 1
B86: Total Espírito Santo | C86: ='CV Rotina <2A - residência'!K86 -> 0.95652497 | D86: ='CV Rotina <2A - residência'!AC86 -> 0.96764177 | E86: ='CV Rotina <2A - residência'!M86 -> 0.93315911 | F86: ='CV Rotina <2A - residência'!O86 -> 0.89404445 | G86: ='CV Rotina <2A - residência'!Q86 -> 0.89949992 | H86: ='CV Rotina <2A - residência'!Y86 -> 0.9581719 | I86: ='CV Rotina <2A - residência'!S86 -> 0.90330845 | J86: ='CV Rotina <2A - residência'!U86 -> 0.75402083 | K86: ='CV Rotina <2A - residência'!W86 -> 0.89991165 | L86: ='CV Rotina <2A - residência'!AA86 -> 0.8861529 | M86: =COUNTIF(C86:D86,">=0,9") -> 2 | N86: =COUNTIFS(E86:L86,">=0,95") -> 1 | O86: =SUM(M86:N86) -> 3 | P86: =COUNTIF(E86:H86,">=0,95") -> 1
A89: Fonte: SIPNI/DATASUS, em 09 de junho de 2023.*
A90: Vacina e Confia, em 12 de junho de 2023.**
A91: *Dados referentes às doses aplicadas pelas clínicas particulares de janeiro a maio de 2023
A92: **Dados referente às doses aplicadas no período de janeiro a maio de 2023
A93: Cobertura Calculada por município de vacinação
A94: 1 População proporcional extraída do MS/SVS/DASIS - Sistema de Informações sobre Nascidos Vivos - SINASC
A95: 2000 a 2021 – Estimativas preliminares elaboradas pelo Ministério da Saúde/SVS/DASNT/CGIAE
A96: Nota: Dados preliminares 2021

Sheet CV Rotina <2A - procedência
D1: AO NASCER | L1: MENOR DE 1 ANO | V1: 1 ANO | AB1: MENOR DE 2 ANOS | AE1: MENOR DE 1 ANO
A2: Regional | B2: Município | C2: ¹População < 1 ano e 1 ano | D2: Doses Aplicadas HB ≤30 dias | E2: Cobertura Vacinal HB até 30 dias | F2: Doses Aplicadas HB ≤2 dias | G2: Cobertura Vacinal HB até 2 dias | H2: Doses Aplicadas HB ≤1 dia | I2: Cobertura Vacinal HB até 1 dia | J2: Doses Aplicadas BCG | K2: Cobertura Vacinal BCG | L2: Doses Aplicadas Pentavalente | M2: Cobertura Vacinal Pentavalente | N2: Doses Aplicadas Poliomielite | O2: Cobertura Vacinal Poliomielite | P2: Doses Aplicadas Pneumo 10 | Q2: Cobertura Vacinal Pneumo 10 | R2: Doses Aplicadas Meningo C | S2: Cobertura Vacinal Meningo C | T2: Doses Aplicadas Febre Amarela | U2: Cobertura Vacinal Febre Amarela | V2: Doses Aplicadas Hepatite A | W2: Cobertura Vacinal Hepatite A | X2: Doses Aplicadas de Tríplice Viral | Y2: Cobertura Vacinal Tríplice Viral | Z2: Doses Aplicadas Varicela | AA2: Cobertura Varicela | AB2: Doses Aplicadas Rotavírus | AC2: Cobertura Vacinal Rotavírus | AE2: Doses Aplicadas COVID-19 | AF2: Cobertura Vacinal COVID-19 | AH2: VACINAS QUE ATINGIRAM A META DE CV | AI2: HOMOGENEIDADE ENTRE AS 10 VACINAS | AJ2: VACINAS DO PQA-VS QUE ATINGIRAM A META DE CV | AK2: HOMOGENEIDADE ENTRE AS VACINAS DO PQA-VS
A3: Metropolitana | B3: Afonso Cláudio | C3: 208.25 | D3: 142 | E3: =D3/C3 -> 0.68187275 | F3: 111 | G3: =F3/C3 -> 0.53301321 | H3: 70 | I3: =H3/C3 -> 0.33613445 | J3: 150 | K3: =J3/C3 -> 0.72028812 | L3: 187 | M3: =L3/C3 -> 0.89795918 | N3: 178 | O3: =N3/C3 -> 0.8547419 | P3: 178 | Q3: =P3/C3 -> 0.8547419 | R3: 180 | S3: =R3/C3 -> 0.86434574 | T3: 193 | U3: =T3/C3 -> 0.92677071 | V3: 225 | W3: =V3/C3 -> 1.0804322 | X3: 211 | Y3: =X3/C3 -> 1.0132053 | Z3: 222 | AA3: =Z3/C3 -> 1.0660264 | AB3: 182 | AC3: =AB3/C3 -> 0.87394958 | AE3: 0 | AF3: =AE3/C3 -> 0 | AH3: =cálculos1!O3 -> 3 | AI3: =AH3*0.1 -> 0.3 | AJ3: =cálculos1!P3 -> 1 | AK3: =AJ3*0.25 -> 0.25 | AM3: LEGENDA / HOMOGENEIDADE PQA-VS
A4: Norte | B4: Água Doce do Norte | C4: 113.75 | D4: 45 | E4: =D4/C4 -> 0.3956044 | F4: 1 | G4: =F4/C4 -> 0.0087912088 | H4: 0 | I4: =H4/C4 -> 0 | J4: 45 | K4: =J4/C4 -> 0.3956044 | L4: 90 | M4: =L4/C4 -> 0.79120879 | N4: 92 | O4: =N4/C4 -> 0.80879121 | P4: 92 | Q4: =P4/C4 -> 0.80879121 | R4: 96 | S4: =R4/C4 -> 0.84395604 | T4: 66 | U4: =T4/C4 -> 0.58021978 | V4: 80 | W4: =V4/C4 -> 0.7032967 | X4: 79 | Y4: =X4/C4 -> 0.69450549 | Z4: 81 | AA4: =Z4/C4 -> 0.71208791 | AB4: 99 | AC4: =AB4/C4 -> 0.87032967 | AE4: 0 | AF4: =AE4/C4 -> 0 | AH4: =cálculos1!O4 -> 0 | AI4: =AH4*0.1 -> 0 | AJ4: =cálculos1!P4 -> 0 | AK4: =AJ4*0.25 -> 0 | AM4: PERCENTUAL | AN4: Nº DE MUNICÍPIOS
A5: Central | B5: Águia Branca | C5: 85.75 | D5: 61 | E5: =D5/C5 -> 0.71137026 | F5: 4 | G5: =F5/C5 -> 0.04664723 | H5: 1 | I5: =H5/C5 -> 0.011661808 | J5: 61 | K5: =J5/C5 -> 0.71137026 | L5: 76 | M5: =L5/C5 -> 0.88629738 | N5: 78 | O5: =N5/C5 -> 0.90962099 | P5: 78 | Q5: =P5/C5 -> 0.90962099 | R5: 79 | S5: =R5/C5 -> 0.9212828 | T5: 100 | U5: =T5/C5 -> 1.1661808 | V5: 77 | W5: =V5/C5 -> 0.89795918 | X5: 99 | Y5: =X5/C5 -> 1.154519 | Z5: 83 | AA5: =Z5/C5 -> 0.96793003 | AB5: 81 | AC5: =AB5/C5 -> 0.94460641 | AE5: 4 | AF5: =AE5/C5 -> 0.04664723 | AH5: =cálculos1!O5 -> 4 | AI5: =AH5*0.1 -> 0.4 | AJ5: =cálculos1!P5 -> 1 | AK5: =AJ5*0.25 -> 0.25 | AM5: 0 | AN5: =COUNTIF($AK$3:$AK$80,"=0") -> 17
A6: Sul | B6: Alegre | C6: 173.83333 | D6: 100 | E6: =D6/C6 -> 0.57526366 | F6: 10 | G6: =F6/C6 -> 0.057526366 | H6: 5 | I6: =H6/C6 -> 0.028763183 | J6: 108 | K6: =J6/C6 -> 0.62128476 | L6: 182 | M6: =L6/C6 -> 1.0469799 | N6: 166 | O6: =N6/C6 -> 0.95493768 | P6: 168 | Q6: =P6/C6 -> 0.96644295 | R6: 168 | S6: =R6/C6 -> 0.96644295 | T6: 176 | U6: =T6/C6 -> 1.012464 | V6: 186 | W6: =V6/C6 -> 1.0699904 | X6: 208 | Y6: =X6/C6 -> 1.1965484 | Z6: 185 | AA6: =Z6/C6 -> 1.0642378 | AB6: 176 | AC6: =AB6/C6 -> 1.012464 | AE6: 11 | AF6: =AE6/C6 -> 0.063279003 | AH6: =cálculos1!O6 -> 9 | AI6: =AH6*0.1 -> 0.9 | AJ6: =cálculos1!P6 -> 4 | AK6: =AJ6*0.25 -> 1 | AM6: 0.25 | AN6: =COUNTIF($AK$3:$AK$80,"=0,25") -> 29
A7: Sul | B7: Alfredo Chaves | C7: 71.75 | D7: 5 | E7: =D7/C7 -> 0.069686411 | F7: 1 | G7: =F7/C7 -> 0.013937282 | H7: 0 | I7: =H7/C7 -> 0 | J7: 33 | K7: =J7/C7 -> 0.45993031 | L7: 60 | M7: =L7/C7 -> 0.83623693 | N7: 60 | O7: =N7/C7 -> 0.83623693 | P7: 62 | Q7: =P7/C7 -> 0.8641115 | R7: 62 | S7: =R7/C7 -> 0.8641115 | T7: 61 | U7: =T7/C7 -> 0.85017422 | V7: 72 | W7: =V7/C7 -> 1.0034843 | X7: 77 | Y7: =X7/C7 -> 1.0731707 | Z7: 75 | AA7: =Z7/C7 -> 1.0452962 | AB7: 69 | AC7: =AB7/C7 -> 0.96167247 | AE7: 1 | AF7: =AE7/C7 -> 0.013937282 | AH7: =cálculos1!O7 -> 4 | AI7: =AH7*0.1 -> 0.4 | AJ7: =cálculos1!P7 -> 1 | AK7: =AJ7*0.25 -> 0.25 | AM7: 0.5 | AN7: =COUNTIF($AK$3:$AK$80,"=0,5") -> 2
A8: Central | B8: Alto Rio Novo | C8: 53.083333 | D8: 18 | E8: =D8/C8 -> 0.33908948 | F8: 0 | G8: =F8/C8 -> 0 | H8: 0 | I8: =H8/C8 -> 0 | J8: 22 | K8: =J8/C8 -> 0.4144427 | L8: 54 | M8: =L8/C8 -> 1.0172684 | N8: 52 | O8: =N8/C8 -> 0.97959184 | P8: 52 | Q8: =P8/C8 -> 0.97959184 | R8: 52 | S8: =R8/C8 -> 0.97959184 | T8: 58 | U8: =T8/C8 -> 1.0926217 | V8: 47 | W8: =V8/C8 -> 0.88540031 | X8: 72 | Y8: =X8/C8 -> 1.3563579 | Z8: 50 | AA8: =Z8/C8 -> 0.94191523 | AB8: 56 | AC8: =AB8/C8 -> 1.0549451 | AE8: 0 | AF8: =AE8/C8 -> 0 | AH8: =cálculos1!O8 -> 7 | AI8: =AH8*0.1 -> 0.7 | AJ8: =cálculos1!P8 -> 4 | AK8: =AJ8*0.25 -> 1 | AM8: 0.75 | AN8: =COUNTIF($AK$3:$AK$80,"=0,75") -> 13
A9: Sul | B9: Anchieta | C9: 205.91667 | D9: 23 | E9: =D9/C9 -> 0.11169567 | F9: 1 | G9: =F9/C9 -> 0.0048563335 | H9: 0 | I9: =H9/C9 -> 0 | J9: 93 | K9: =J9/C9 -> 0.45163901 | L9: 190 | M9: =L9/C9 -> 0.92270336 | N9: 181 | O9: =N9/C9 -> 0.87899636 | P9: 181 | Q9: =P9/C9 -> 0.87899636 | R9: 182 | S9: =R9/C9 -> 0.88385269 | T9: 157 | U9: =T9/C9 -> 0.76244435 | V9: 241 | W9: =V9/C9 -> 1.1703764 | X9: 211 | Y9: =X9/C9 -> 1.0246864 | Z9: 250 | AA9: =Z9/C9 -> 1.2140834 | AB9: 207 | AC9: =AB9/C9 -> 1.005261 | AE9: 1 | AF9: =AE9/C9 -> 0.0048563335 | AH9: =cálculos1!O9 -> 4 | AI9: =AH9*0.1 -> 0.4 | AJ9: =cálculos1!P9 -> 1 | AK9: =AJ9*0.25 -> 0.25 | AM9: 1 | AN9: =COUNTIF($AK$3:$AK$80,"=1,0") -> 17
A10: Sul | B10: Apiacá | C10: 43.75 | D10: 4 | E10: =D10/C10 -> 0.091428571 | F10: 0 | G10: =F10/C10 -> 0 | H10: 0 | I10: =H10/C10 -> 0 | J10: 33 | K10: =J10/C10 -> 0.75428571 | L10: 40 | M10: =L10/C10 -> 0.91428571 | N10: 34 | O10: =N10/C10 -> 0.77714286 | P10: 34 | Q10: =P10/C10 -> 0.77714286 | R10: 33 | S10: =R10/C10 -> 0.75428571 | T10: 28 | U10: =T10/C10 -> 0.64 | V10: 38 | W10: =V10/C10 -> 0.86857143 | X10: 37 | Y10: =X10/C10 -> 0.84571429 | Z10: 31 | AA10: =Z10/C10 -> 0.70857143 | AB10: 36 | AC10: =AB10/C10 -> 0.82285714 | AE10: 0 | AF10: =AE10/C10 -> 0 | AH10: =cálculos1!O10 -> 0 | AI10: =AH10*0.1 -> 0 | AJ10: =cálculos1!P10 -> 0 | AK10: =AJ10*0.25 -> 0
A11: Metropolitana | B11: Aracruz | C11: 796.25 | D11: 254 | E11: =D11/C11 -> 0.31899529 | F11: 66 | G11: =F11/C11 -> 0.08288854 | H11: 30 | I11: =H11/C11 -> 0.037676609 | J11: 278 | K11: =J11/C11 -> 0.34913658 | L11: 676 | M11: =L11/C11 -> 0.84897959 | N11: 740 | O11: =N11/C11 -> 0.92935636 | P11: 741 | Q11: =P11/C11 -> 0.93061224 | R11: 750 | S11: =R11/C11 -> 0.94191523 | T11: 677 | U11: =T11/C11 -> 0.85023548 | V11: 778 | W11: =V11/C11 -> 0.97708006 | X11: 873 | Y11: =X11/C11 -> 1.0963893 | Z11: 766 | AA11: =Z11/C11 -> 0.96200942 | AB11: 768 | AC11: =AB11/C11 -> 0.96452119 | AE11: 25 | AF11: =AE11/C11 -> 0.031397174 | AH11: =cálculos1!O11 -> 4 | AI11: =AH11*0.1 -> 0.4 | AJ11: =cálculos1!P11 -> 1 | AK11: =AJ11*0.25 -> 0.25
A12: Sul | B12: Atilio Vivacqua | C12: 92.75 | D12: 9 | E12: =D12/C12 -> 0.09703504 | F12: 0 | G12: =F12/C12 -> 0 | H12: 0 | I12: =H12/C12 -> 0 | J12: 12 | K12: =J12/C12 -> 0.12938005 | L12: 63 | M12: =L12/C12 -> 0.67924528 | N12: 66 | O12: =N12/C12 -> 0.7115903 | P12: 66 | Q12: =P12/C12 -> 0.7115903 | R12: 65 | S12: =R12/C12 -> 0.70080863 | T12: 71 | U12: =T12/C12 -> 0.76549865 | V12: 106 | W12: =V12/C12 -> 1.1428571 | X12: 102 | Y12: =X12/C12 -> 1.0997305 | Z12: 110 | AA12: =Z12/C12 -> 1.1859838 | AB12: 72 | AC12: =AB12/C12 -> 0.77628032 | AE12: 0 | AF12: =AE12/C12 -> 0 | AH12: =cálculos1!O12 -> 3 | AI12: =AH12*0.1 -> 0.3 | AJ12: =cálculos1!P12 -> 1 | AK12: =AJ12*0.25 -> 0.25 | AM12: LEGENDA / HOMOGENEIDADE 10 VACINAS
A13: Central | B13: Baixo Guandu | C13: 203 | D13: 38 | E13: =D13/C13 -> 0.18719212 | F13: 2 | G13: =F13/C13 -> 0.0098522167 | H13: 1 | I13: =H13/C13 -> 0.0049261084 | J13: 87 | K13: =J13/C13 -> 0.42857143 | L13: 193 | M13: =L13/C13 -> 0.95073892 | N13: 185 | O13: =N13/C13 -> 0.91133005 | P13: 185 | Q13: =P13/C13 -> 0.91133005 | R13: 186 | S13: =R13/C13 -> 0.91625616 | T13: 180 | U13: =T13/C13 -> 0.88669951 | V13: 176 | W13: =V13/C13 -> 0.86699507 | X13: 207 | Y13: =X13/C13 -> 1.0197044 | Z13: 188 | AA13: =Z13/C13 -> 0.92610837 | AB13: 191 | AC13: =AB13/C13 -> 0.9408867 | AE13: 0 | AF13: =AE13/C13 -> 0 | AH13: =cálculos1!O13 -> 3 | AI13: =AH13*0.1 -> 0.3 | AJ13: =cálculos1!P13 -> 2 | AK13: =AJ13*0.25 -> 0.5 | AM13: PERCENTUAL | AN13: Nº DE MUNICÍPIOS
A14: Norte | B14: Barra de São Francisco | C14: 342.41667 | D14: 192 | E14: =D14/C14 -> 0.56072037 | F14: 48 | G14: =F14/C14 -> 0.14018009 | H14: 31 | I14: =H14/C14 -> 0.090532976 | J14: 205 | K14: =J14/C14 -> 0.59868581 | L14: 329 | M14: =L14/C14 -> 0.96081772 | N14: 305 | O14: =N14/C14 -> 0.89072767 | P14: 305 | Q14: =P14/C14 -> 0.89072767 | R14: 314 | S14: =R14/C14 -> 0.91701144 | T14: 258 | U14: =T14/C14 -> 0.753468 | V14: 258 | W14: =V14/C14 -> 0.753468 | X14: 316 | Y14: =X14/C14 -> 0.92285228 | Z14: 253 | AA14: =Z14/C14 -> 0.7388659 | AB14: 338 | AC14: =AB14/C14 -> 0.98710148 | AE14: 0 | AF14: =AE14/C14 -> 0 | AH14: =cálculos1!O14 -> 2 | AI14: =AH14*0.1 -> 0.2 | AJ14: =cálculos1!P14 -> 1 | AK14: =AJ14*0.25 -> 0.25 | AM14: 0 | AN14: =COUNTIF($AI$3:$AI$80,"=0") -> 4
A15: Norte | B15: Boa Esperança | C15: 119 | D15: 5 | E15: =D15/C15 -> 0.042016807 | F15: 1 | G15: =F15/C15 -> 0.0084033613 | H15: 1 | I15: =H15/C15 -> 0.0084033613 | J15: 32 | K15: =J15/C15 -> 0.26890756 | L15: 125 | M15: =L15/C15 -> 1.0504202 | N15: 118 | O15: =N15/C15 -> 0.99159664 | P15: 118 | Q15: =P15/C15 -> 0.99159664 | R15: 125 | S15: =R15/C15 -> 1.0504202 | T15: 117 | U15: =T15/C15 -> 0.98319328 | V15: 111 | W15: =V15/C15 -> 0.93277311 | X15: 113 | Y15: =X15/C15 -> 0.94957983 | Z15: 107 | AA15: =Z15/C15 -> 0.89915966 | AB15: 129 | AC15: =AB15/C15 -> 1.0840336 | AE15: 0 | AF15: =AE15/C15 -> 0 | AH15: =cálculos1!O15 -> 6 | AI15: =AH15*0.1 -> 0.6 | AJ15: =cálculos1!P15 -> 3 | AK15: =AJ15*0.25 -> 0.75 | AM15: 0.1 | AN15: =COUNTIFS($AI$3:$AI$80,">=0,10",$AI$3:$AI$80,"<0,20") -> 10
A16: Sul | B16: Bom Jesus do Norte | C16: 46.666667 | D16: 19 | E16: =D16/C16 -> 0.40714286 | F16: 0 | G16: =F16/C16 -> 0 | H16: 0 | I16: =H16/C16 -> 0 | J16: 51 | K16: =J16/C16 -> 1.0928571 | L16: 67 | M16: =L16/C16 -> 1.4357143 | N16: 64 | O16: =N16/C16 -> 1.3714286 | P16: 64 | Q16: =P16/C16 -> 1.3714286 | R16: 62 | S16: =R16/C16 -> 1.3285714 | T16: 54 | U16: =T16/C16 -> 1.1571429 | V16: 52 | W16: =V16/C16 -> 1.1142857 | X16: 70 | Y16: =X16/C16 -> 1.5 | Z16: 49 | AA16: =Z16/C16 -> 1.05 | AB16: 80 | AC16: =AB16/C16 -> 1.7142857 | AE16: 2 | AF16: =AE16/C16 -> 0.042857143 | AH16: =cálculos1!O16 -> 10 | AI16: =AH16*0.1 -> 1 | AJ16: =cálculos1!P16 -> 4 | AK16: =AJ16*0.25 -> 1 | AM16: 0.2 | AN16: =COUNTIFS($AI$3:$AI$80,">=0,20",$AI$3:$AI$80,"<0,30") -> 11
A17: Metropolitana | B17: Brejetuba | C17: 121.91667 | D17: 20 | E17: =D17/C17 -> 0.16404648 | F17: 2 | G17: =F17/C17 -> 0.016404648 | H17: 0 | I17: =H17/C17 -> 0 | J17: 105 | K17: =J17/C17 -> 0.86124402 | L17: 157 | M17: =L17/C17 -> 1.2877649 | N17: 153 | O17: =N17/C17 -> 1.2549556 | P17: 153 | Q17: =P17/C17 -> 1.2549556 | R17: 156 | S17: =R17/C17 -> 1.2795625 | T17: 138 | U17: =T17/C17 -> 1.1319207 | V17: 157 | W17: =V17/C17 -> 1.2877649 | X17: 137 | Y17: =X17/C17 -> 1.1237184 | Z17: 147 | AA17: =Z17/C17 -> 1.2057416 | AB17: 163 | AC17: =AB17/C17 -> 1.3369788 | AE17: 0 | AF17: =AE17/C17 -> 0 | AH17: =cálculos1!O17 -> 9 | AI17: =AH17*0.1 -> 0.9 | AJ17: =cálculos1!P17 -> 4 | AK17: =AJ17*0.25 -> 1 | AM17: 0.3 | AN17: =COUNTIFS($AI$3:$AI$80,">=0,30",$AI$3:$AI$80,"<0,40") -> 9
A18: Sul | B18: Cachoeiro de Itapemirim | C18: 1404.6667 | D18: 2725 | E18: =D18/C18 -> 1.939962 | F18: 2408 | G18: =F18/C18 -> 1.7142857 | H18: 1411 | I18: =H18/C18 -> 1.0045088 | J18: 2736 | K18: =J18/C18 -> 1.9477931 | L18: 1289 | M18: =L18/C18 -> 0.91765543 | N18: 1265 | O18: =N18/C18 -> 0.90056953 | P18: 1268 | Q18: =P18/C18 -> 0.90270527 | R18: 1289 | S18: =R18/C18 -> 0.91765543 | T18: 979 | U18: =T18/C18 -> 0.69696251 | V18: 1162 | W18: =V18/C18 -> 0.82724252 | X18: 1265 | Y18: =X18/C18 -> 0.90056953 | Z18: 1140 | AA18: =Z18/C18 -> 0.81158045 | AB18: 1322 | AC18: =AB18/C18 -> 0.94114855 | AE18: 19 | AF18: =AE18/C18 -> 0.013526341 | AH18: =cálculos1!O18 -> 2 | AI18: =AH18*0.1 -> 0.2 | AJ18: =cálculos1!P18 -> 0 | AK18: =AJ18*0.25 -> 0 | AM18: 0.4 | AN18: =COUNTIFS($AI$3:$AI$80,">=0,40",$AI$3:$AI$80,"<0,50") -> 9
A19: Metropolitana | B19: Cariacica | C19: 2780.75 | D19: 1117 | E19: =D19/C19 -> 0.40169019 | F19: 22 | G19: =F19/C19 -> 0.0079115347 | H19: 5 | I19: =H19/C19 -> 0.0017980761 | J19: 1121 | K19: =J19/C19 -> 0.40312865 | L19: 2418 | M19: =L19/C19 -> 0.86954958 | N19: 2268 | O19: =N19/C19 -> 0.8156073 | P19: 2272 | Q19: =P19/C19 -> 0.81704576 | R19: 2275 | S19: =R19/C19 -> 0.81812461 | T19: 2032 | U19: =T19/C19 -> 0.73073811 | V19: 2321 | W19: =V19/C19 -> 0.83466691 | X19: 2690 | Y19: =X19/C19 -> 0.96736492 | Z19: 2357 | AA19: =Z19/C19 -> 0.84761305 | AB19: 2534 | AC19: =AB19/C19 -> 0.91126495 | AE19: 37 | AF19: =AE19/C19 -> 0.013305763 | AH19: =cálculos1!O19 -> 2 | AI19: =AH19*0.1 -> 0.2 | AJ19: =cálculos1!P19 -> 1 | AK19: =AJ19*0.25 -> 0.25 | AM19: 0.5 | AN19: =COUNTIFS($AI$3:$AI$80,">=0,50",$AI$3:$AI$80,"<0,60") -> 10
A20: Sul | B20: Castelo | C20: 245 | D20: 173 | E20: =D20/C20 -> 0.70612245 | F20: 119 | G20: =F20/C20 -> 0.48571429 | H20: 79 | I20: =H20/C20 -> 0.32244898 | J20: 187 | K20: =J20/C20 -> 0.76326531 | L20: 257 | M20: =L20/C20 -> 1.0489796 | N20: 262 | O20: =N20/C20 -> 1.0693878 | P20: 262 | Q20: =P20/C20 -> 1.0693878 | R20: 262 | S20: =R20/C20 -> 1.0693878 | T20: 206 | U20: =T20/C20 -> 0.84081633 | V20: 241 | W20: =V20/C20 -> 0.98367347 | X20: 253 | Y20: =X20/C20 -> 1.0326531 | Z20: 245 | AA20: =Z20/C20 -> 1 | AB20: 266 | AC20: =AB20/C20 -> 1.0857143 | AE20: 1 | AF20: =AE20/C20 -> 0.0040816327 | AH20: =cálculos1!O20 -> 8 | AI20: =AH20*0.1 -> 0.8 | AJ20: =cálculos1!P20 -> 4 | AK20: =AJ20*0.25 -> 1 | AM20: 0.6 | AN20: =COUNTIFS($AI$3:$AI$80,">=0,60",$AI$3:$AI$80,"<0,70") -> 4
A21: Central | B21: Colatina | C21: 876.75 | D21: 2139 | E21: =D21/C21 -> 2.439692 | F21: 1644 | G21: =F21/C21 -> 1.8751069 | H21: 1334 | I21: =H21/C21 -> 1.5215284 | J21: 2120 | K21: =J21/C21 -> 2.4180211 | L21: 898 | M21: =L21/C21 -> 1.0242372 | N21: 824 | O21: =N21/C21 -> 0.93983462 | P21: 825 | Q21: =P21/C21 -> 0.94097519 | R21: 824 | S21: =R21/C21 -> 0.93983462 | T21: 678 | U21: =T21/C21 -> 0.77331052 | V21: 785 | W21: =V21/C21 -> 0.89535215 | X21: 805 | Y21: =X21/C21 -> 0.91816367 | Z21: 774 | AA21: =Z21/C21 -> 0.88280582 | AB21: 873 | AC21: =AB21/C21 -> 0.99572284 | AE21: 13 | AF21: =AE21/C21 -> 0.014827488 | AH21: =cálculos1!O21 -> 3 | AI21: =AH21*0.1 -> 0.3 | AJ21: =cálculos1!P21 -> 1 | AK21: =AJ21*0.25 -> 0.25 | AM21: 0.7 | AN21: =COUNTIFS($AI$3:$AI$80,">=0,70",$AI$3:$AI$80,"<0,80") -> 7
A22: Norte | B22: Conceição da Barra | C22: 208.25 | D22: 4 | E22: =D22/C22 -> 0.019207683 | F22: 0 | G22: =F22/C22 -> 0 | H22: 0 | I22: =H22/C22 -> 0 | J22: 10 | K22: =J22/C22 -> 0.048019208 | L22: 211 | M22: =L22/C22 -> 1.0132053 | N22: 210 | O22: =N22/C22 -> 1.0084034 | P22: 210 | Q22: =P22/C22 -> 1.0084034 | R22: 210 | S22: =R22/C22 -> 1.0084034 | T22: 229 | U22: =T22/C22 -> 1.0996399 | V22: 210 | W22: =V22/C22 -> 1.0084034 | X22: 239 | Y22: =X22/C22 -> 1.1476591 | Z22: 226 | AA22: =Z22/C22 -> 1.0852341 | AB22: 242 | AC22: =AB22/C22 -> 1.1620648 | AE22: 0 | AF22: =AE22/C22 -> 0 | AH22: =cálculos1!O22 -> 9 | AI22: =AH22*0.1 -> 0.9 | AJ22: =cálculos1!P22 -> 4 | AK22: =AJ22*0.25 -> 1 | AM22: 0.8 | AN22: =COUNTIFS($AI$3:$AI$80,">=0,80",$AI$3:$AI$80,"<0,90") -> 4
A23: Metropolitana | B23: Conceição do Castelo | C23: 101.5 | D23: 5 | E23: =D23/C23 -> 0.049261084 | F23: 0 | G23: =F23/C23 -> 0 | H23: 0 | I23: =H23/C23 -> 0 | J23: 56 | K23: =J23/C23 -> 0.55172414 | L23: 86 | M23: =L23/C23 -> 0.84729064 | N23: 81 | O23: =N23/C23 -> 0.79802956 | P23: 81 | Q23: =P23/C23 -> 0.79802956 | R23: 82 | S23: =R23/C23 -> 0.80788177 | T23: 75 | U23: =T23/C23 -> 0.73891626 | V23: 96 | W23: =V23/C23 -> 0.94581281 | X23: 91 | Y23: =X23/C23 -> 0.89655172 | Z23: 100 | AA23: =Z23/C23 -> 0.98522167 | AB23: 93 | AC23: =AB23/C23 -> 0.91625616 | AE23: 2 | AF23: =AE23/C23 -> 0.019704433 | AH23: =cálculos1!O23 -> 2 | AI23: =AH23*0.1 -> 0.2 | AJ23: =cálculos1!P23 -> 0 | AK23: =AJ23*0.25 -> 0 | AM23: 0.9 | AN23: =COUNTIFS($AI$3:$AI$80,">=0,90",$AI$3:$AI$80,"<1,0") -> 9
A24: Sul | B24: Divino de São Lourenço | C24: 33.833333 | D24: 21 | E24: =D24/C24 -> 0.62068966 | F24: 0 | G24: =F24/C24 -> 0 | H24: 0 | I24: =H24/C24 -> 0 | J24: 25 | K24: =J24/C24 -> 0.73891626 | L24: 50 | M24: =L24/C24 -> 1.4778325 | N24: 49 | O24: =N24/C24 -> 1.4482759 | P24: 49 | Q24: =P24/C24 -> 1.4482759 | R24: 49 | S24: =R24/C24 -> 1.4482759 | T24: 40 | U24: =T24/C24 -> 1.182266 | V24: 31 | W24: =V24/C24 -> 0.91625616 | X24: 40 | Y24: =X24/C24 -> 1.182266 | Z24: 32 | AA24: =Z24/C24 -> 0.94581281 | AB24: 50 | AC24: =AB24/C24 -> 1.4778325 | AE24: 1 | AF24: =AE24/C24 -> 0.02955665 | AH24: =cálculos1!O24 -> 7 | AI24: =AH24*0.1 -> 0.7 | AJ24: =cálculos1!P24 -> 4 | AK24: =AJ24*0.25 -> 1 | AM24: 1 | AN24: =COUNTIF($AI$3:$AI$80,">=1,0") -> 1
A25: Metropolitana | B25: Domingos Martins | C25: 249.66667 | D25: 21 | E25: =D25/C25 -> 0.08411215 | F25: 3 | G25: =F25/C25 -> 0.012016021 | H25: 0 | I25: =H25/C25 -> 0 | J25: 48 | K25: =J25/C25 -> 0.19225634 | L25: 232 | M25: =L25/C25 -> 0.92923899 | N25: 207 | O25: =N25/C25 -> 0.82910547 | P25: 207 | Q25: =P25/C25 -> 0.82910547 | R25: 211 | S25: =R25/C25 -> 0.84512684 | T25: 211 | U25: =T25/C25 -> 0.84512684 | V25: 240 | W25: =V25/C25 -> 0.96128171 | X25: 259 | Y25: =X25/C25 -> 1.0373832 | Z25: 229 | AA25: =Z25/C25 -> 0.91722296 | AB25: 243 | AC25: =AB25/C25 -> 0.97329773 | AE25: 10 | AF25: =AE25/C25 -> 0.040053405 | AH25: =cálculos1!O25 -> 3 | AI25: =AH25*0.1 -> 0.3 | AJ25: =cálculos1!P25 -> 1 | AK25: =AJ25*0.25 -> 0.25
A26: Sul | B26: Dores do Rio Preto | C26: 54.833333 | D26: 26 | E26: =D26/C26 -> 0.47416413 | F26: 0 | G26: =F26/C26 -> 0 | H26: 0 | I26: =H26/C26 -> 0 | J26: 31 | K26: =J26/C26 -> 0.56534954 | L26: 51 | M26: =L26/C26 -> 0.93009119 | N26: 53 | O26: =N26/C26 -> 0.96656535 | P26: 54 | Q26: =P26/C26 -> 0.98480243 | R26: 55 | S26: =R26/C26 -> 1.0030395 | T26: 49 | U26: =T26/C26 -> 0.89361702 | V26: 68 | W26: =V26/C26 -> 1.2401216 | X26: 71 | Y26: =X26/C26 -> 1.2948328 | Z26: 70 | AA26: =Z26/C26 -> 1.2765957 | AB26: 55 | AC26: =AB26/C26 -> 1.0030395 | AE26: 3 | AF26: =AE26/C26 -> 0.054711246 | AH26: =cálculos1!O26 -> 7 | AI26: =AH26*0.1 -> 0.7 | AJ26: =cálculos1!P26 -> 3 | AK26: =AJ26*0.25 -> 0.75
A27: Norte | B27: Ecoporanga | C27: 152.83333 | D27: 61 | E27: =D27/C27 -> 0.39912759 | F27: 0 | G27: =F27/C27 -> 0 | H27: 0 | I27: =H27/C27 -> 0 | J27: 63 | K27: =J27/C27 -> 0.41221374 | L27: 132 | M27: =L27/C27 -> 0.86368593 | N27: 132 | O27: =N27/C27 -> 0.86368593 | P27: 135 | Q27: =P27/C27 -> 0.88331516 | R27: 132 | S27: =R27/C27 -> 0.86368593 | T27: 130 | U27: =T27/C27 -> 0.85059978 | V27: 156 | W27: =V27/C27 -> 1.0207197 | X27: 150 | Y27: =X27/C27 -> 0.98146129 | Z27: 145 | AA27: =Z27/C27 -> 0.94874591 | AB27: 133 | AC27: =AB27/C27 -> 0.87022901 | AE27: 2 | AF27: =AE27/C27 -> 0.01308615 | AH27: =cálculos1!O27 -> 2 | AI27: =AH27*0.1 -> 0.2 | AJ27: =cálculos1!P27 -> 1 | AK27: =AJ27*0.25 -> 0.25
A28: Metropolitana | B28: Fundão | C28: 130.66667 | D28: 18 | E28: =D28/C28 -> 0.1377551 | F28: 3 | G28: =F28/C28 -> 0.022959184 | H28: 0 | I28: =H28/C28 -> 0 | J28: 17 | K28: =J28/C28 -> 0.13010204 | L28: 112 | M28: =L28/C28 -> 0.85714286 | N28: 115 | O28: =N28/C28 -> 0.88010204 | P28: 115 | Q28: =P28/C28 -> 0.88010204 | R28: 114 | S28: =R28/C28 -> 0.87244898 | T28: 111 | U28: =T28/C28 -> 0.8494898 | V28: 153 | W28: =V28/C28 -> 1.1709184 | X28: 161 | Y28: =X28/C28 -> 1.2321429 | Z28: 143 | AA28: =Z28/C28 -> 1.0943878 | AB28: 131 | AC28: =AB28/C28 -> 1.002551 | AE28: 5 | AF28: =AE28/C28 -> 0.038265306 | AH28: =cálculos1!O28 -> 4 | AI28: =AH28*0.1 -> 0.4 | AJ28: =cálculos1!P28 -> 1 | AK28: =AJ28*0.25 -> 0.25
A29: Central | B29: Governador Lindenberg | C29: 68.25 | D29: 24 | E29: =D29/C29 -> 0.35164835 | F29: 2 | G29: =F29/C29 -> 0.029304029 | H29: 1 | I29: =H29/C29 -> 0.014652015 | J29: 19 | K29: =J29/C29 -> 0.27838828 | L29: 73 | M29: =L29/C29 -> 1.0695971 | N29: 88 | O29: =N29/C29 -> 1.2893773 | P29: 88 | Q29: =P29/C29 -> 1.2893773 | R29: 88 | S29: =R29/C29 -> 1.2893773 | T29: 81 | U29: =T29/C29 -> 1.1868132 | V29: 55 | W29: =V29/C29 -> 0.80586081 | X29: 81 | Y29: =X29/C29 -> 1.1868132 | Z29: 59 | AA29: =Z29/C29 -> 0.86446886 | AB29: 85 | AC29: =AB29/C29 -> 1.2454212 | AE29: 0 | AF29: =AE29/C29 -> 0 | AH29: =cálculos1!O29 -> 7 | AI29: =AH29*0.1 -> 0.7 | AJ29: =cálculos1!P29 -> 4 | AK29: =AJ29*0.25 -> 1
A30: Sul | B30: Guaçuí | C30: 233.33333 | D30: 143 | E30: =D30/C30 -> 0.61285714 | F30: 7 | G30: =F30/C30 -> 0.03 | H30: 4 | I30: =H30/C30 -> 0.017142857 | J30: 155 | K30: =J30/C30 -> 0.66428571 | L30: 197 | M30: =L30/C30 -> 0.84428571 | N30: 202 | O30: =N30/C30 -> 0.86571429 | P30: 202 | Q30: =P30/C30 -> 0.86571429 | R30: 201 | S30: =R30/C30 -> 0.86142857 | T30: 181 | U30: =T30/C30 -> 0.77571429 | V30: 163 | W30: =V30/C30 -> 0.69857143 | X30: 202 | Y30: =X30/C30 -> 0.86571429 | Z30: 183 | AA30: =Z30/C30 -> 0.78428571 | AB30: 202 | AC30: =AB30/C30 -> 0.86571429 | AE30: 1 | AF30: =AE30/C30 -> 0.0042857143 | AH30: =cálculos1!O30 -> 0 | AI30: =AH30*0.1 -> 0 | AJ30: =cálculos1!P30 -> 0 | AK30: =AJ30*0.25 -> 0
A31: Metropolitana | B31: Guarapari | C31: 998.66667 | D31: 841 | E31: =D31/C31 -> 0.84212283 | F31: 753 | G31: =F31/C31 -> 0.75400534 | H31: 695 | I31: =H31/C31 -> 0.6959279 | J31: 865 | K31: =J31/C31 -> 0.86615487 | L31: 891 | M31: =L31/C31 -> 0.89218959 | N31: 861 | O31: =N31/C31 -> 0.86214953 | P31: 862 | Q31: =P31/C31 -> 0.86315087 | R31: 863 | S31: =R31/C31 -> 0.8641522 | T31: 634 | U31: =T31/C31 -> 0.63484646 | V31: 782 | W31: =V31/C31 -> 0.78304406 | X31: 894 | Y31: =X31/C31 -> 0.89519359 | Z31: 693 | AA31: =Z31/C31 -> 0.69392523 | AB31: 920 | AC31: =AB31/C31 -> 0.9212283 | AE31: 11 | AF31: =AE31/C31 -> 0.011014686 | AH31: =cálculos1!O31 -> 1 | AI31: =AH31*0.1 -> 0.1 | AJ31: =cálculos1!P31 -> 0 | AK31: =AJ31*0.25 -> 0
A32: Metropolitana | B32: Ibatiba | C32: 221.66667 | D32: 165 | E32: =D32/C32 -> 0.7443609 | F32: 4 | G32: =F32/C32 -> 0.018045113 | H32: 1 | I32: =H32/C32 -> 0.0045112782 | J32: 178 | K32: =J32/C32 -> 0.80300752 | L32: 241 | M32: =L32/C32 -> 1.087218 | N32: 244 | O32: =N32/C32 -> 1.1007519 | P32: 245 | Q32: =P32/C32 -> 1.1052632 | R32: 244 | S32: =R32/C32 -> 1.1007519 | T32: 217 | U32: =T32/C32 -> 0.97894737 | V32: 218 | W32: =V32/C32 -> 0.98345865 | X32: 235 | Y32: =X32/C32 -> 1.0601504 | Z32: 244 | AA32: =Z32/C32 -> 1.1007519 | AB32: 238 | AC32: =AB32/C32 -> 1.0736842 | AE32: 0 | AF32: =AE32/C32 -> 0 | AH32: =cálculos1!O32 -> 9 | AI32: =AH32*0.1 -> 0.9 | AJ32: =cálculos1!P32 -> 4 | AK32: =AJ32*0.25 -> 1
A33: Metropolitana | B33: Ibiraçu | C33: 91.583333 | D33: 20 | E33: =D33/C33 -> 0.21838035 | F33: 0 | G33: =F33/C33 -> 0 | H33: 0 | I33: =H33/C33 -> 0 | J33: 19 | K33: =J33/C33 -> 0.20746133 | L33: 65 | M33: =L33/C33 -> 0.70973612 | N33: 62 | O33: =N33/C33 -> 0.67697907 | P33: 62 | Q33: =P33/C33 -> 0.67697907 | R33: 61 | S33: =R33/C33 -> 0.66606005 | T33: 63 | U33: =T33/C33 -> 0.68789809 | V33: 85 | W33: =V33/C33 -> 0.92811647 | X33: 69 | Y33: =X33/C33 -> 0.75341219 | Z33: 88 | AA33: =Z33/C33 -> 0.96087352 | AB33: 69 | AC33: =AB33/C33 -> 0.75341219 | AE33: 0 | AF33: =AE33/C33 -> 0 | AH33: =cálculos1!O33 -> 1 | AI33: =AH33*0.1 -> 0.1 | AJ33: =cálculos1!P33 -> 0 | AK33: =AJ33*0.25 -> 0
A34: Sul | B34: Ibitirama | C34: 86.916667 | D34: 59 | E34: =D34/C34 -> 0.67881112 | F34: 3 | G34: =F34/C34 -> 0.03451582 | H34: 0 | I34: =H34/C34 -> 0 | J34: 67 | K34: =J34/C34 -> 0.77085331 | L34: 70 | M34: =L34/C34 -> 0.80536913 | N34: 70 | O34: =N34/C34 -> 0.80536913 | P34: 70 | Q34: =P34/C34 -> 0.80536913 | R34: 70 | S34: =R34/C34 -> 0.80536913 | T34: 64 | U34: =T34/C34 -> 0.73633749 | V34: 84 | W34: =V34/C34 -> 0.96644295 | X34: 82 | Y34: =X34/C34 -> 0.94343241 | Z34: 87 | AA34: =Z34/C34 -> 1.0009588 | AB34: 77 | AC34: =AB34/C34 -> 0.88590604 | AE34: 2 | AF34: =AE34/C34 -> 0.023010547 | AH34: =cálculos1!O34 -> 2 | AI34: =AH34*0.1 -> 0.2 | AJ34: =cálculos1!P34 -> 0 | AK34: =AJ34*0.25 -> 0
A35: Sul | B35: Iconha | C35: 70.583333 | D35: 20 | E35: =D35/C35 -> 0.28335301 | F35: 1 | G35: =F35/C35 -> 0.014167651 | H35: 0 | I35: =H35/C35 -> 0 | J35: 31 | K35: =J35/C35 -> 0.43919717 | L35: 60 | M35: =L35/C35 -> 0.85005903 | N35: 67 | O35: =N35/C35 -> 0.94923259 | P35: 67 | Q35: =P35/C35 -> 0.94923259 | R35: 67 | S35: =R35/C35 -> 0.94923259 | T35: 79 | U35: =T35/C35 -> 1.1192444 | V35: 78 | W35: =V35/C35 -> 1.1050767 | X35: 84 | Y35: =X35/C35 -> 1.1900826 | Z35: 75 | AA35: =Z35/C35 -> 1.0625738 | AB35: 64 | AC35: =AB35/C35 -> 0.90672963 | AE35: 3 | AF35: =AE35/C35 -> 0.042502952 | AH35: =cálculos1!O35 -> 5 | AI35: =AH35*0.1 -> 0.5 | AJ35: =cálculos1!P35 -> 1 | AK35: =AJ35*0.25 -> 0.25
A36: Sul | B36: Irupi | C36: 105.58333 | D36: 45 | E36: =D36/C36 -> 0.42620363 | F36: 4 | G36: =F36/C36 -> 0.037884767 | H36: 3 | I36: =H36/C36 -> 0.028413575 | J36: 59 | K36: =J36/C36 -> 0.55880032 | L36: 104 | M36: =L36/C36 -> 0.98500395 | N36: 131 | O36: =N36/C36 -> 1.2407261 | P36: 135 | Q36: =P36/C36 -> 1.2786109 | R36: 134 | S36: =R36/C36 -> 1.2691397 | T36: 136 | U36: =T36/C36 -> 1.2880821 | V36: 99 | W36: =V36/C36 -> 0.93764799 | X36: 124 | Y36: =X36/C36 -> 1.1744278 | Z36: 111 | AA36: =Z36/C36 -> 1.0513023 | AB36: 114 | AC36: =AB36/C36 -> 1.0797159 | AE36: 1 | AF36: =AE36/C36 -> 0.0094711918 | AH36: =cálculos1!O36 -> 8 | AI36: =AH36*0.1 -> 0.8 | AJ36: =cálculos1!P36 -> 4 | AK36: =AJ36*0.25 -> 1
... A80: Metropolitana | B80: Vitória | C80: 2040.5 | D80: 3916 | E80: =D80/C80 -> 1.9191375 | F80: 3480 | G80: =F80/C80 -> 1.7054643 | H80: 2838 | I80: =H80/C80 -> 1.3908356 | J80: 4228 | K80: =J80/C80 -> 2.0720412 | L80: 2807 | M80: =L80/C80 -> 1.3756432 | N80: 2445 | O80: =N80/C80 -> 1.1982357 | P80: 2473 | Q80: =P80/C80 -> 1.2119579 | R80: 2465 | S80: =R80/C80 -> 1.2080372 | T80: 1416 | U80: =T80/C80 -> 0.69394756 | V80: 2509 | W80: =V80/C80 -> 1.2296006 | X80: 2240 | Y80: =X80/C80 -> 1.0977702 | Z80: 2402 | AA80: =Z80/C80 -> 1.1771625 | AB80: 2591 | AC80: =AB80/C80 -> 1.2697868 | AE80: 88 | AF80: =AE80/C80 -> 0.043126685 | AH80: =cálculos1!O80 -> 9 | AI80: =AH80*0.1 -> 0.9 | AJ80: =cálculos1!P80 -> 4 | AK80: =AJ80*0.25 -> 1
B82: Total Norte | C82: =SUMIF($A$3:$A$80,"Norte",C$3:C$80) -> 3313.3333 | D82: =SUMIF($A$3:$A$80,"Norte",D$3:D$80) -> 2919 | E82: =D82/C82 -> 0.88098592 | F82: =SUMIF($A$3:$A$80,"Norte",F$3:F$80) -> 2492 | G82: =F82/C82 -> 0.75211268 | H82: =SUMIF($A$3:$A$80,"Norte",H$3:H$80) -> 2459 | I82: =H82/C82 -> 0.74215292 | J82: =SUMIF($A$3:$A$80,"Norte",J$3:J$80) -> 2851 | K82: =J82/C82 -> 0.86046278 | L82: =SUMIF($A$3:$A$80,"Norte",L$3:L$80) -> 3350 | M82: =L82/C82 -> 1.0110664 | N82: =SUMIF($A$3:$A$80,"Norte",N$3:N$80) -> 3226 | O82: =N82/C82 -> 0.97364185 | P82: =SUMIF($A$3:$A$80,"Norte",P$3:P$80) -> 3230 | Q82: =P82/C82 -> 0.97484909 | R82: =SUMIF($A$3:$A$80,"Norte",R$3:R$80) -> 3276 | S82: =R82/C82 -> 0.98873239 | T82: =SUMIF($A$3:$A$80,"Norte",T$3:T$80) -> 2703 | U82: =T82/C82 -> 0.81579477 | V82: =SUMIF($A$3:$A$80,"Norte",V$3:V$80) -> 3039 | W82: =V82/C82 -> 0.91720322 | X82: =SUMIF($A$3:$A$80,"Norte",X$3:X$80) -> 3308 | Y82: =X82/C82 -> 0.99839034 | Z82: =SUMIF($A$3:$A$80,"Norte",Z$3:Z$80) -> 2937 | AA82: =Z82/C82 -> 0.88641851 | AB82: =SUMIF($A$3:$A$80,"Norte",AB$3:AB$80) -> 3468 | AC82: =AB82/C82 -> 1.0466801 | AE82: =SUMIF($A$3:$A$80,"Norte",AE$3:AE$80) -> 15 | AF82: =AE82/C82 -> 0.004527163 | AH82: =cálculos1!O82 -> 6 | AI82: =AH82*0.1 -> 0.6 | AJ82: =cálculos1!P82 -> 4 | AK82: =AJ82*0.25 -> 1
B83: Total Central | C83: =SUMIF($A$3:$A$80,"Central",C$3:C$80) -> 4071.6667 | D83: =SUMIF($A$3:$A$80,"Central",D$3:D$80) -> 4611 | E83: =D83/C83 -> 1.1324601 | F83: =SUMIF($A$3:$A$80,"Central",F$3:F$80) -> 3301 | G83: =F83/C83 -> 0.81072452 | H83: =SUMIF($A$3:$A$80,"Central",H$3:H$80) -> 2685 | I83: =H83/C83 -> 0.65943512 | J83: =SUMIF($A$3:$A$80,"Central",J$3:J$80) -> 4678 | K83: =J83/C83 -> 1.1489153 | L83: =SUMIF($A$3:$A$80,"Central",L$3:L$80) -> 3890 | M83: =L83/C83 -> 0.95538273 | N83: =SUMIF($A$3:$A$80,"Central",N$3:N$80) -> 3738 | O83: =N83/C83 -> 0.91805158 | P83: =SUMIF($A$3:$A$80,"Central",P$3:P$80) -> 3752 | Q83: =P83/C83 -> 0.92148997 | R83: =SUMIF($A$3:$A$80,"Central",R$3:R$80) -> 3780 | S83: =R83/C83 -> 0.92836676 | T83: =SUMIF($A$3:$A$80,"Central",T$3:T$80) -> 3345 | U83: =T83/C83 -> 0.8215309 | V83: =SUMIF($A$3:$A$80,"Central",V$3:V$80) -> 3613 | W83: =V83/C83 -> 0.88735162 | X83: =SUMIF($A$3:$A$80,"Central",X$3:X$80) -> 3904 | Y83: =X83/C83 -> 0.95882112 | Z83: =SUMIF($A$3:$A$80,"Central",Z$3:Z$80) -> 3749 | AA83: =Z83/C83 -> 0.92075317 | AB83: =SUMIF($A$3:$A$80,"Central",AB$3:AB$80) -> 4046 | AC83: =AB83/C83 -> 0.99369628 | AE83: =SUMIF($A$3:$A$80,"Central",AE$3:AE$80) -> 40 | AF83: =AE83/C83 -> 0.0098239869 | AH83: =cálculos1!O83 -> 4 | AI83: =AH83*0.1 -> 0.4 | AJ83: =cálculos1!P83 -> 2 | AK83: =AJ83*0.25 -> 0.5
B84: Total Metropolitana | C84: =SUMIF($A$3:$A$80,"Metropolitana",C$3:C$80) -> 16994.833 | D84: =SUMIF($A$3:$A$80,"Metropolitana",D$3:D$80) -> 15973 | E84: =D84/C84 -> 0.93987388 | F84: =SUMIF($A$3:$A$80,"Metropolitana",F$3:F$80) -> 12044 | G84: =F84/C84 -> 0.70868597 | H84: =SUMIF($A$3:$A$80,"Metropolitana",H$3:H$80) -> 9507 | I84: =H84/C84 -> 0.55940531 | J84: =SUMIF($A$3:$A$80,"Metropolitana",J$3:J$80) -> 16041 | K84: =J84/C84 -> 0.9438751 | L84: =SUMIF($A$3:$A$80,"Metropolitana",L$3:L$80) -> 15973 | M84: =L84/C84 -> 0.93987388 | N84: =SUMIF($A$3:$A$80,"Metropolitana",N$3:N$80) -> 15070 | O84: =N84/C84 -> 0.88674009 | P84: =SUMIF($A$3:$A$80,"Metropolitana",P$3:P$80) -> 15173 | Q84: =P84/C84 -> 0.89280075 | R84: =SUMIF($A$3:$A$80,"Metropolitana",R$3:R$80) -> 15209 | S84: =R84/C84 -> 0.89491904 | T84: =SUMIF($A$3:$A$80,"Metropolitana",T$3:T$80) -> 12457 | U84: =T84/C84 -> 0.73298748 | V84: =SUMIF($A$3:$A$80,"Metropolitana",V$3:V$80) -> 15526 | W84: =V84/C84 -> 0.91357177 | X84: =SUMIF($A$3:$A$80,"Metropolitana",X$3:X$80) -> 16353 | Y84: =X84/C84 -> 0.96223362 | Z84: =SUMIF($A$3:$A$80,"Metropolitana",Z$3:Z$80) -> 15049 | AA84: =Z84/C84 -> 0.88550442 | AB84: =SUMIF($A$3:$A$80,"Metropolitana",AB$3:AB$80) -> 16550 | AC84: =AB84/C84 -> 0.97382538 | AE84: =SUMIF($A$3:$A$80,"Metropolitana",AE$3:AE$80) -> 349 | AF84: =AE84/C84 -> 0.020535653 | AH84: =cálculos1!O84 -> 3 | AI84: =AH84*0.1 -> 0.3 | AJ84: =cálculos1!P84 -> 1 | AK84: =AJ84*0.25 -> 0.25
...

Sheet CV Rotina <2A - residência
D1: AO NASCER | L1: MENOR DE 1 ANO | V1: 1 ANO | AB1: MENOR DE 2 ANOS | AE1: MENOR DE 1 ANO
