Workbook
Name Dose_Procedencia: [1]Tabdin!$B:$B
Name DOSES_30D_PROCEDENCIA: '[2]TABDIN<=30D'!$D:$D
Name Doses_Procedencia: [3]Tabdin!$B$8:$B$85
Name Doses_Residencia: [4]Tabdin!$E$8:$E$85
Name MUNICIPIO_30D_PROCEDENCIA: '[2]TABDIN<=30D'!$A:$A
Name Municipio_Procedencia: [1]Tabdin!$A:$A
Name Municipio_Residencia: [4]Tabdin!$D$8:$D$85

Sheet cálculos1
C1: 0.9 | E1: 0.95
A2: Regional | B2: Município | C2: Cobertura Vacinal BCG | D2: Cobertura Vacinal Rotavírus | E2: Cobertura Vacinal Pentavalente | F2: Cobertura Vacinal Poliomielite | G2: Cobertura Vacinal Pneumo 10 | H2: Cobertura Vacinal Tríplice Viral | I2: Cobertura Vacinal Meningo C | J2: Cobertura Vacinal Febre Amarela | K2: Cobertura Vacinal Hepatite A | L2: Cobertura Varicela | M2: META 90% | N2: META 95% | O2: ATINGIRAM META | P2: PQA-VS
A3: Metropolitana | B3: Afonso Cláudio | C3: ='CV Rotina <2A - procedência'!K3 -> 0.72028812 | D3: ='CV Rotina <2A - procedência'!AC3 -> 0.87394958 | E3: ='CV Rotina <2A - procedência'!M3 -> 0.89795918 | F3: ='CV Rotina <2A - procedência'!O3 -> 0.8547419 | G3: ='CV Rotina <2A - procedência'!Q3 -> 0.8547419 | H3: ='CV Rotina <2A - procedência'!Y3 -> 1.0132053 | I3: ='CV Rotina <2A - procedência'!S3 -> 0.86434574 | J3: ='CV Rotina <2A - procedência'!U3 -> 0.92677071 | K3: ='CV Rotina <2A - procedência'!W3 -> 1.0804322 | L3: ='CV Rotina <2A - procedência'!AA3 -> 1.0660264 | M3: =COUNTIF(C3:D3,">=0,9") -> 0 | N3: =COUNTIFS(E3:L3,">=0,95") -> 3 | O3: =SUM(M3:N3) -> 3 | P3: =COUNTIF(E3:H3,">=0,95") -> 1
A4: Norte | B4: Água Doce do Norte | C4: ='CV Rotina <2A - procedência'!K4 -> 0.3956044 | D4: ='CV Rotina <2A - procedência'!AC4 -> 0.87032967 | E4: ='CV Rotina <2A - procedência'!M4 -> 0.79120879 | F4: ='CV Rotina <2A - procedência'!O4 -> 0.80879121 | G4: ='CV Rotina <2A - procedência'!Q4 -> 0.80879121 | H4: ='CV Rotina <2A - procedência'!Y4 -> 0.69450549 | I4: ='CV Rotina <2A - procedência'!S4 -> 0.84395604 | J4: ='CV Rotina <2A - procedência'!U4 -> 0.58021978 | K4: ='CV Rotina <2A - procedência'!W4 -> 0.7032967 | L4: ='CV Rotina <2A - procedência'!AA4 -> 0.71208791 | M4: =COUNTIF(C4:D4,">=0,9") -> 0 | N4: =COUNTIFS(E4:L4,">=0,95") -> 0 | O4: =SUM(M4:N4) -> 0 | P4: =COUNTIF(E4:H4,">=0,95") -> 0
A5: Central | B5: Águia Branca | C5: ='CV Rotina <2A - procedência'!K5 -> 0.71137026 | D5: ='CV Rotina <2A - procedência'!AC5 -> 0.94460641 | E5: ='CV Rotina <2A - procedência'!M5 -> 0.88629738 | F5: ='CV Rotina <2A - procedência'!O5 -> 0.90962099 | G5: ='CV Rotina <2A - procedência'!Q5 -> 0.90962099 | H5: ='CV Rotina <2A - procedência'!Y5 -> 1.154519 | I5: ='CV Rotina <2A - procedência'!S5 -> 0.9212828 | J5: ='CV Rotina <2A - procedência'!U5 -> 1.1661808 | K5: ='CV Rotina <2A - procedência'!W5 -> 0.89795918 | L5: ='CV Rotina <2A - procedência'!AA5 -> 0.96793003 | M5: =COUNTIF(C5:D5,">=0,9") -> 1 | N5: =COUNTIFS(E5:L5,">=0,95") -> 3 | O5: =SUM(M5:N5) -> 4 | P5: =COUNTIF(E5:H5,">=0,95") -> 1
A6: Sul | B6: Alegre | C6: ='CV Rotina <2A - procedência'!K6 -> 0.62128476 | D6: ='CV Rotina <2A - procedência'!AC6 -> 1.012464 | E6: ='CV Rotina <2A - procedência'!M6 -> 1.0469799 | F6: ='CV Rotina <2A - procedência'!O6 -> 0.95493768 | G6: ='CV Rotina <2A - procedência'!Q6 -> 0.96644295 | H6: ='CV Rotina <2A - procedência'!Y6 -> 1.1965484 | I6: ='CV Rotina <2A - procedência'!S6 -> 0.96644295 | J6: ='CV Rotina <2A - procedência'!U6 -> 1.012464 | K6: ='CV Rotina <2A - procedência'!W6 -> 1.0699904 | L6: ='CV Rotina <2A - procedência'!AA6 -> 1.0642378 | M6: =COUNTIF(C6:D6,">=0,9") -> 1 | N6: =COUNTIFS(E6:L6,">=0,95") -> 8 | O6: =SUM(M6:N6) -> 9 | P6: =COUNTIF(E6:H6,">=0,95") -> 4
A7: Sul | B7: Alfredo Chaves | C7: ='CV Rotina <2A - procedência'!K7 -> 0.45993031 | D7: ='CV Rotina <2A - procedência'!AC7 -> 0.96167247 | E7: ='CV Rotina <2A - procedência'!M7 -> 0.83623693 | F7: ='CV Rotina <2A - procedência'!O7 -> 0.83623693 | G7: ='CV Rotina <2A - procedência'!Q7 -> 0.8641115 | H7: ='CV Rotina <2A - procedência'!Y7 -> 1.0731707 | I7: ='CV Rotina <2A - procedência'!S7 -> 0.8641115 | J7: ='CV Rotina <2A - procedência'!U7 -> 0.85017422 | K7: ='CV Rotina <2A - procedência'!W7 -> 1.0034843 | L7: ='CV Rotina <2A - procedência'!AA7 -> 1.0452962 | M7: =COUNTIF(C7:D7,">=0,9") -> 1 | N7: =COUNTIFS(E7:L7,">=0,95") -> 3 | O7: =SUM(M7:N7) -> 4 | P7: =COUNTIF(E7:H7,">=0,95") -> 1
A8: Central | B8: Alto Rio Novo | C8: ='CV Rotina <2A - procedência'!K8 -> 0.4144427 | D8: ='CV Rotina <2A - procedência'!AC8 -> 1.0549451 | E8: ='CV Rotina <2A - procedência'!M8 -> 1.0172684 | F8: ='CV Rotina <2A - procedência'!O8 -> 0.97959184 | G8: ='CV Rotina <2A - procedência'!Q8 -> 0.97959184 | H8: ='CV Rotina <2A - procedência'!Y8 -> 1.3563579 | I8: ='CV Rotina <2A - procedência'!S8 -> 0.97959184 | J8: ='CV Rotina <2A - procedência'!U8 -> 1.0926217 | K8: ='CV Rotina <2A - procedência'!W8 -> 0.88540031 | L8: ='CV Rotina <2A - procedência'!AA8 -> 0.94191523 | M8: =COUNTIF(C8:D8,">=0,9") -> 1 | N8: =COUNTIFS(E8:L8,">=0,95") -> 6 | O8: =SUM(M8:N8) -> 7 | P8: =COUNTIF(E8:H8,">=0,95") -> 4
A9: Sul | B9: Anchieta | C9: ='CV Rotina <2A - procedência'!K9 -> 0.45163901 | D9: ='CV Rotina <2A - procedência'!AC9 -> 1.005261 | E9: ='CV Rotina <2A - procedência'!M9 -> 0.92270336 | F9: ='CV Rotina <2A - procedência'!O9 -> 0.87899636 | G9: ='CV Rotina <2A - procedência'!Q9 -> 0.87899636 | H9: ='CV Rotina <2A - procedência'!Y9 -> 1.0246864 | I9: ='CV Rotina <2A - procedência'!S9 -> 0.88385269 | J9: ='CV Rotina <2A - procedência'!U9 -> 0.76244435 | K9: ='CV Rotina <2A - procedência'!W9 -> 1.1703764 | L9: ='CV Rotina <2A - procedência'!AA9 -> 1.2140834 | M9: =COUNTIF(C9:D9,">=0,9") -> 1 | N9: =COUNTIFS(E9:L9,">=0,95") -> 3 | O9: =SUM(M9:N9) -> 4 | P9: =COUNTIF(E9:H9,">=0,95") -> 1
A10: Sul | B10: Apiacá | C10: ='CV Rotina <2A - procedência'!K10 -> 0.75428571 | D10: ='CV Rotina <2A - procedência'!AC10 -> 0.82285714 | E10: ='CV Rotina <2A - procedência'!M10 -> 0.91428571 | F10: ='CV Rotina <2A - procedência'!O10 -> 0.77714286 | G10: ='CV Rotina <2A - procedência'!Q10 -> 0.77714286 | H10: ='CV Rotina <2A - procedência'!Y10 -> 0.84571429 | I10: ='CV Rotina <2A - procedência'!S10 -> 0.75428571 | J10: ='CV Rotina <2A - procedência'!U10 -> 0.64 | K10: ='CV Rotina <2A - procedência'!W10 -> 0.86857143 | L10: ='CV Rotina <2A - procedência'!AA10 -> 0.70857143 | M10: =COUNTIF(C10:D10,">=0,9") -> 0 | N10: =COUNTIFS(E10:L10,">=0,95") -> 0 | O10: =SUM(M10:N10) -> 0 | P10: =COUNTIF(E10:H10,">=0,95") -> 0
A11: Metropolitana | B11: Aracruz | C11: ='CV Rotina <2A - procedência'!K11 -> 0.34913658 | D11: ='CV Rotina <2A - procedência'!AC11 -> 0.96452119 | E11: ='CV Rotina <2A - procedência'!M11 -> 0.84897959 | F11: ='CV Rotina <2A - procedência'!O11 -> 0.92935636 | G11: ='CV Rotina <2A - procedência'!Q11 -> 0.93061224 | H11: ='CV Rotina <2A - procedência'!Y11 -> 1.0963893 | I11: ='CV Rotina <2A - procedência'!S11 -> 0.94191523 | J11: ='CV Rotina <2A - procedência'!U11 -> 0.85023548 | K11: ='CV Rotina <2A - procedência'!W11 -> 0.97708006 | L11: ='CV Rotina <2A - procedência'!AA11 -> 0.96200942 | M11: =COUNTIF(C11:D11,">=0,9") -> 1 | N11: =COUNTIFS(E11:L11,">=0,95") -> 3 | O11: =SUM(M11:N11) -> 4 | P11: =COUNTIF(E11:H11,">=0,95") -> 1
A12: Sul | B12: Atilio Vivacqua | C12: ='CV Rotina <2A - procedência'!K12 -> 0.12938005 | D12: ='CV Rotina <2A - procedência'!AC12 -> 0.77628032 | E12: ='CV Rotina <2A - procedência'!M12 -> 0.67924528 | F12: ='CV Rotina <2A - procedência'!O12 -> 0.7115903 | G12: ='CV Rotina <2A - procedência'!Q12 -> 0.7115903 | H12: ='CV Rotina <2A - procedência'!Y12 -> 1.0997305 | I12: ='CV Rotina <2A - procedência'!S12 -> 0.70080863 | J12: ='CV Rotina <2A - procedência'!U12 -> 0.76549865 | K12: ='CV Rotina <2A - procedência'!W12 -> 1.1428571 | L12: ='CV Rotina <2A - procedência'!AA12 -> 1.1859838 | M12: =COUNTIF(C12:D12,">=0,9") -> 0 | N12: =COUNTIFS(E12:L12,">=0,95") -> 3 | O12: =SUM(M12:N12) -> 3 | P12: =COUNTIF(E12:H12,">=0,95") -> 1
A13: Central | B13: Baixo Guandu | C13: ='CV Rotina <2A - procedência'!K13 -> 0.42857143 | D13: ='CV Rotina <2A - procedência'!AC13 -> 0.9408867 | E13: ='CV Rotina <2A - procedência'!M13 -> 0.95073892 | F13: ='CV Rotina <2A - procedência'!O13 -> 0.91133005 | G13: ='CV Rotina <2A - procedência'!Q13 -> 0.91133005 | H13: ='CV Rotina <2A - procedência'!Y13 -> 1.0197044 | I13: ='CV Rotina <2A - procedência'!S13 -> 0.91625616 | J13: ='CV Rotina <2A - procedência'!U13 -> 0.88669951 | K13: ='CV Rotina <2A - procedência'!W13 -> 0.86699507 | L13: ='CV Rotina <2A - procedência'!AA13 -> 0.92610837 | M13: =COUNTIF(C13:D13,">=0,9") -> 1 | N13: =COUNTIFS(E13:L13,">=0,95") -> 2 | O13: =SUM(M13:N13) -> 3 | P13: =COUNTIF(E13:H13,">=0,95") -> 2
A14: Norte | B14: Barra de São Francisco | C14: ='CV Rotina <2A - procedência'!K14 -> 0.59868581 | D14: ='CV Rotina <2A - procedência'!AC14 -> 0.98710148 | E14: ='CV Rotina <2A - procedência'!M14 -> 0.96081772 | F14: ='CV Rotina <2A - procedência'!O14 -> 0.89072767 | G14: ='CV Rotina <2A - procedência'!Q14 -> 0.89072767 | H14: ='CV Rotina <2A - procedência'!Y14 -> 0.92285228 | I14: ='CV Rotina <2A - procedência'!S14 -> 0.91701144 | J14: ='CV Rotina <2A - procedência'!U14 -> 0.753468 | K14: ='CV Rotina <2A - procedência'!W14 -> 0.753468 | L14: ='CV Rotina <2A - procedência'!AA14 -> 0.7388659 | M14: =COUNTIF(C14:D14,">=0,9") -> 1 | N14: =COUNTIFS(E14:L14,">=0,95") -> 1 | O14: =SUM(M14:N14) -> 2 | P14: =COUNTIF(E14:H14,">=0,95") -> 1
... A80: Metropolitana | B80: Vitória | C80: ='CV Rotina <2A - procedência'!K80 -> 2.0720412 | D80: ='CV Rotina <2A - procedência'!AC80 -> 1.2697868 | E80: ='CV Rotina <2A - procedência'!M80 -> 1.3756432 | F80: ='CV Rotina <2A - procedência'!O80 -> 1.1982357 | G80: ='CV Rotina <2A - procedência'!Q80 -> 1.2119579 | H80: ='CV Rotina <2A - procedência'!Y80 -> 1.0977702 | I80: ='CV Rotina <2A - procedência'!S80 -> 1.2080372 | J80: ='CV Rotina <2A - procedência'!U80 -> 0.69394756 | K80: ='CV Rotina <2A - procedência'!W80 -> 1.2296006 | L80: ='CV Rotina <2A - procedência'!AA80 -> 1.1771625 | M80: =COUNTIF(C80:D80,">=0,9") -> 2 | N80: =COUNTIFS(E80:L80,">=0,95") -> 7 | O80: =SUM(M80:N80) -> 9 | P80: =COUNTIF(E80:H80,">=0,95") -> 4
B82: Total Norte | C82: ='CV Rotina <2A - procedência'!K82 -> 0.86046278 | D82: ='CV Rotina <2A - procedência'!AC82 -> 1.0466801 | E82: ='CV Rotina <2A - procedência'!M82 -> 1.0110664 | F82: ='CV Rotina <2A - procedência'!O82 -> 0.97364185 | G82: ='CV Rotina <2A - procedência'!Q82 -> 0.97484909 | H82: ='CV Rotina <2A - procedência'!Y82 -> 0.99839034 | I82: ='CV Rotina <2A - procedência'!S82 -> 0.98873239 | J82: ='CV Rotina <2A - procedência'!U82 -> 0.81579477 | K82: ='CV Rotina <2A - procedência'!W82 -> 0.91720322 | L82: ='CV Rotina <2A - procedência'!AA82 -> 0.88641851 | M82: =COUNTIF(C82:D82,">=0,9") -> 1 | N82: =COUNTIFS(E82:L82,">=0,95") -> 5 | O82: =SUM(M82:N82) -> 6 | P82: =COUNTIF(E82:H82,">=0,95") -> 4
B83: Total Central | C83: ='CV Rotina <2A - procedência'!K83 -> 1.1489153 | D83: ='CV Rotina <2A - procedência'!AC83 -> 0.99369628 | E83: ='CV Rotina <2A - procedência'!M83 -> 0.95538273 | F83: ='CV Rotina <2A - procedência'!O83 -> 0.91805158 | G83: ='CV Rotina <2A - procedência'!Q83 -> 0.92148997 | H83: ='CV Rotina <2A - procedência'!Y83 -> 0.95882112 | I83: ='CV Rotina <2A - procedência'!S83 -> 0.92836676 | J83: ='CV Rotina <2A - procedência'!U83 -> 0.8215309 | K83: ='CV Rotina <2A - procedência'!W83 -> 0.88735162 | L83: ='CV Rotina <2A - procedência'!AA83 -> 0.92075317 | M83: =COUNTIF(C83:D83,">=0,9") -> 2 | N83: =COUNTIFS(E83:L83,">=0,95") -> 2 | O83: =SUM(M83:N83) -> 4 | P83: =COUNTIF(E83:H83,">=0,95") -> 2
B84: Total Metropolitana | C84: ='CV Rotina <2A - procedência'!K84 -> 0.9438751 | D84: ='CV Rotina <2A - procedência'!AC84 -> 0.97382538 | E84: ='CV Rotina <2A - procedência'!M84 -> 0.93987388 | F84: ='CV Rotina <2A - procedência'!O84 -> 0.88674009 | G84: ='CV Rotina <2A - procedência'!Q84 -> 0.89280075 | H84: ='CV Rotina <2A - procedência'!Y84 -> 0.96223362 | I84: ='CV Rotina <2A - procedência'!S84 -> 0.89491904 | J84: ='CV Rotina <2A - procedência'!U84 -> 0.73298748 | K84: ='CV Rotina <2A - procedência'!W84 -> 0.91357177 | L84: ='CV Rotina <2A - procedência'!AA84 -> 0.88550442 | M84: =COUNTIF(C84:D84,">=0,9") -> 2 | N84: =COUNTIFS(E84:L84,">=0,95") -> 1 | O84: =SUM(M84:N84) -> 3 | P84: =COUNTIF(E84:H84,">=0,95") -> 1
B85: Total Sul | C85: ='CV Rotina <2A - procedência'!K85 -> 0.9315356 | D85: ='CV Rotina <2A - procedência'!AC85 -> 0.96175437 | E85: ='CV Rotina <2A - procedência'!M85 -> 0.91621636 | F85: ='CV Rotina <2A - procedência'!O85 -> 0.92251194 | G85: ='CV Rotina <2A - procedência'!Q85 -> 0.92670899 | H85: ='CV Rotina <2A - procedência'!Y85 -> 0.99721945 | I85: ='CV Rotina <2A - procedência'!S85 -> 0.93006663 | J85: ='CV Rotina <2A - procedência'!U85 -> 0.78358953 | K85: ='CV Rotina <2A - procedência'!W85 -> 0.9319553 | L85: ='CV Rotina <2A - procedência'!AA85 -> 0.9443366 | M85: =COUNTIF(C85:D85,">=0,9") -> 2 | N85: =COUNTIFS(E85:L85,">=0,95") -> 1 | O85: =SUM(M85:N85) -> 3 | P85: =COUNTIF(E85:H85,">=0,95") -> 1
B86: Total Espírito Santo | C86: ='CV Rotina <2A - procedência'!K86 -> 0.96101973 | D86: ='CV Rotina <2A - procedência'!AC86 -> 0.98291021 | E86: ='CV Rotina <2A - procedência'!M86 -> 0.94626595 | F86: ='CV Rotina <2A - procedência'!O86 -> 0.90684249 | G86: ='CV Rotina <2A - procedência'!Q86 -> 0.91168036 | H86: ='CV Rotina <2A - procedência'!Y86 -> 0.97158755 | I86: ='CV Rotina <2A - procedência'!S86 -> 0.91600356 | J86: ='CV Rotina <2A - procedência'!U86 -> 0.76304465 | K86: ='CV Rotina <2A - procedência'!W86 -> 0.91332729 | L86: ='CV Rotina <2A - procedência'!AA86 -> 0.90015183 | M86: =COUNTIF(C86:D86,">=0,9") -> 2 | N86: =COUNTIFS(E86:L86,">=0,95") -> 1 | O86: =SUM(M86:N86) -> 3 | P86: =COUNTIF(E86:H86,">=0,95") -> 1
A89: Fonte: SIPNI/DATASUS, em 09 de junho de 2023.*
A90: Vacina e Confia, em 12 de junho de 2023.**
A91: *Dados referentes às doses aplicadas pelas clínicas particulares de janeiro a maio de 2023
A92: **Dados referente às doses aplicadas no período de janeiro a maio de 2023
A93: Cobertura Calculada por município de vacinação
A94: 1 População proporcional extraída do MS/SVS/DASIS - Sistema de Informações sobre Nascidos Vivos - SINASC
A95: 2000 a 2021 – Estimativas preliminares elaboradas pelo Ministério da Saúde/SVS/DASNT/CGIAE
A96: Nota: Dados preliminares 2021

Sheet cálculos2
C1: 0.9 | E1: 0.95
A2: Regional | B2: Município | C2: Cobertura Vacinal BCG | D2: Cobertura Vacinal Rotavírus | E2: Cobertura Vacinal Pentavalente | F2: Cobertura Vacinal Poliomielite | G2: Cobertura Vacinal Pneumo 10 | H2: Cobertura Vacinal Tríplice Viral | I2: Cobertura Vacinal Meningo C | J2: Cobertura Vacinal Febre Amarela | K2: Cobertura Vacinal Hepatite A | L2: Cobertura Varicela | M2: META 90% | N2: META 95% | O2: ATINGIRAM META | P2: PQA-VS
A3: Metropolitana | B3: Afonso Cláudio | C3: ='CV Rotina <2A - residência'!K3 -> 0.82112845 | D3: ='CV Rotina <2A - residência'!AC3 -> 0.94597839 | E3: ='CV Rotina <2A - residência'!M3 -> 0.94597839 | F3: ='CV Rotina <2A - residência'!O3 -> 0.89315726 | G3: ='CV Rotina <2A - residência'!Q3 -> 0.89315726 | H3: ='CV Rotina <2A - residência'!Y3 -> 1.0132053 | I3: ='CV Rotina <2A - residência'!S3 -> 0.9027611 | J3: ='CV Rotina <2A - residência'!U3 -> 0.93157263 | K3: ='CV Rotina <2A - residência'!W3 -> 1.0372149 | L3: ='CV Rotina <2A - residência'!AA3 -> 1.0372149 | M3: =COUNTIF(C3:D3,">=0,9") -> 1 | N3: =COUNTIFS(E3:L3,">=0,95") -> 3 | O3: =SUM(M3:N3) -> 4 | P3: =COUNTIF(E3:H3,">=0,95") -> 1
A4: Norte | B4: Água Doce do Norte | C4: ='CV Rotina <2A - residência'!K4 -> 0.79120879 | D4: ='CV Rotina <2A - residência'!AC4 -> 0.79120879 | E4: ='CV Rotina <2A - residência'!M4 -> 0.72967033 | F4: ='CV Rotina <2A - residência'!O4 -> 0.74725275 | G4: ='CV Rotina <2A - residência'!Q4 -> 0.74725275 | H4: ='CV Rotina <2A - residência'!Y4 -> 0.61538462 | I4: ='CV Rotina <2A - residência'!S4 -> 0.79120879 | J4: ='CV Rotina <2A - residência'!U4 -> 0.51868132 | K4: ='CV Rotina <2A - residência'!W4 -> 0.65054945 | L4: ='CV Rotina <2A - residência'!AA4 -> 0.66813187 | M4: =COUNTIF(C4:D4,">=0,9") -> 0 | N4: =COUNTIFS(E4:L4,">=0,95") -> 0 | O4: =SUM(M4:N4) -> 0 | P4: =COUNTIF(E4:H4,">=0,95") -> 0
A5: Central | B5: Águia Branca | C5: ='CV Rotina <2A - residência'!K5 -> 1.1428571 | D5: ='CV Rotina <2A - residência'!AC5 -> 0.97959184 | E5: ='CV Rotina <2A - residência'!M5 -> 0.96793003 | F5: ='CV Rotina <2A - residência'!O5 -> 0.90962099 | G5: ='CV Rotina <2A - residência'!Q5 -> 0.90962099 | H5: ='CV Rotina <2A - residência'!Y5 -> 1.212828 | I5: ='CV Rotina <2A - residência'!S5 -> 0.9212828 | J5: ='CV Rotina <2A - residência'!U5 -> 1.1311953 | K5: ='CV Rotina <2A - residência'!W5 -> 0.95626822 | L5: ='CV Rotina <2A - residência'!AA5 -> 1.0029155 | M5: =COUNTIF(C5:D5,">=0,9") -> 2 | N5: =COUNTIFS(E5:L5,">=0,95") -> 5 | O5: =SUM(M5:N5) -> 7 | P5: =COUNTIF(E5:H5,">=0,95") -> 2
A6: Sul | B6: Alegre | C6: ='CV Rotina <2A - residência'!K6 -> 1.012464 | D6: ='CV Rotina <2A - residência'!AC6 -> 0.92042186 | E6: ='CV Rotina <2A - residência'!M6 -> 0.89741131 | F6: ='CV Rotina <2A - residência'!O6 -> 0.93192713 | G6: ='CV Rotina <2A - residência'!Q6 -> 0.93192713 | H6: ='CV Rotina <2A - residência'!Y6 -> 1.0872483 | I6: ='CV Rotina <2A - residência'!S6 -> 0.93767977 | J6: ='CV Rotina <2A - residência'!U6 -> 0.97219559 | K6: ='CV Rotina <2A - residência'!W6 -> 0.94343241 | L6: ='CV Rotina <2A - residência'!AA6 -> 0.97219559 | M6: =COUNTIF(C6:D6,">=0,9") -> 2 | N6: =COUNTIFS(E6:L6,">=0,95") -> 3 | O6: =SUM(M6:N6) -> 5 | P6: =COUNTIF(E6:H6,">=0,95") -> 1
A7: Sul | B7: Alfredo Chaves | C7: ='CV Rotina <2A - residência'!K7 -> 1.0174216 | D7: ='CV Rotina <2A - residência'!AC7 -> 0.94773519 | E7: ='CV Rotina <2A - residência'!M7 -> 0.93379791 | F7: ='CV Rotina <2A - residência'!O7 -> 0.87804878 | G7: ='CV Rotina <2A - residência'!Q7 -> 0.91986063 | H7: ='CV Rotina <2A - residência'!Y7 -> 0.96167247 | I7: ='CV Rotina <2A - residência'!S7 -> 0.90592334 | J7: ='CV Rotina <2A - residência'!U7 -> 0.82229965 | K7: ='CV Rotina <2A - residência'!W7 -> 0.93379791 | L7: ='CV Rotina <2A - residência'!AA7 -> 0.97560976 | M7: =COUNTIF(C7:D7,">=0,9") -> 2 | N7: =COUNTIFS(E7:L7,">=0,95") -> 2 | O7: =SUM(M7:N7) -> 4 | P7: =COUNTIF(E7:H7,">=0,95") -> 1
A8: Central | B8: Alto Rio Novo | C8: ='CV Rotina <2A - residência'!K8 -> 1.3186813 | D8: ='CV Rotina <2A - residência'!AC8 -> 1.0549451 | E8: ='CV Rotina <2A - residência'!M8 -> 1.0172684 | F8: ='CV Rotina <2A - residência'!O8 -> 0.99843014 | G8: ='CV Rotina <2A - residência'!Q8 -> 0.99843014 | H8: ='CV Rotina <2A - residência'!Y8 -> 1.299843 | I8: ='CV Rotina <2A - residência'!S8 -> 0.99843014 | J8: ='CV Rotina <2A - residência'!U8 -> 1.0549451 | K8: ='CV Rotina <2A - residência'!W8 -> 0.8288854 | L8: ='CV Rotina <2A - residência'!AA8 -> 0.8288854 | M8: =COUNTIF(C8:D8,">=0,9") -> 2 | N8: =COUNTIFS(E8:L8,">=0,95") -> 6 | O8: =SUM(M8:N8) -> 8 | P8: =COUNTIF(E8:H8,">=0,95") -> 4
A9: Sul | B9: Anchieta | C9: ='CV Rotina <2A - residência'!K9 -> 0.98583569 | D9: ='CV Rotina <2A - residência'!AC9 -> 1.063537 | E9: ='CV Rotina <2A - residência'!M9 -> 1.0295427 | F9: ='CV Rotina <2A - residência'!O9 -> 0.99554836 | G9: ='CV Rotina <2A - residência'!Q9 -> 0.96641036 | H9: ='CV Rotina <2A - residência'!Y9 -> 1.0586807 | I9: ='CV Rotina <2A - residência'!S9 -> 0.96641036 | J9: ='CV Rotina <2A - residência'!U9 -> 0.76244435 | K9: ='CV Rotina <2A - residência'!W9 -> 1.2043707 | L9: ='CV Rotina <2A - residência'!AA9 -> 1.2480777 | M9: =COUNTIF(C9:D9,">=0,9") -> 2 | N9: =COUNTIFS(E9:L9,">=0,95") -> 7 | O9: =SUM(M9:N9) -> 9 | P9: =COUNTIF(E9:H9,">=0,95") -> 4
A10: Sul | B10: Apiacá | C10: ='CV Rotina <2A - residência'!K10 -> 0.89142857 | D10: ='CV Rotina <2A - residência'!AC10 -> 0.77714286 | E10: ='CV Rotina <2A - residência'!M10 -> 0.86857143 | F10: ='CV Rotina <2A - residência'!O10 -> 0.8 | G10: ='CV Rotina <2A - residência'!Q10 -> 0.8 | H10: ='CV Rotina <2A - residência'!Y10 -> 0.70857143 | I10: ='CV Rotina <2A - residência'!S10 -> 0.8 | J10: ='CV Rotina <2A - residência'!U10 -> 0.54857143 | K10: ='CV Rotina <2A - residência'!W10 -> 0.73142857 | L10: ='CV Rotina <2A - residência'!AA10 -> 0.59428571 | M10: =COUNTIF(C10:D10,">=0,9") -> 0 | N10: =COUNTIFS(E10:L10,">=0,95") -> 0 | O10: =SUM(M10:N10) -> 0 | P10: =COUNTIF(E10:H10,">=0,95") -> 0
A11: Metropolitana | B11: Aracruz | C11: ='CV Rotina <2A - residência'!K11 -> 0.55384615 | D11: ='CV Rotina <2A - residência'!AC11 -> 0.95949765 | E11: ='CV Rotina <2A - residência'!M11 -> 0.85400314 | F11: ='CV Rotina <2A - residência'!O11 -> 0.92810047 | G11: ='CV Rotina <2A - residência'!Q11 -> 0.92433281 | H11: ='CV Rotina <2A - residência'!Y11 -> 1.066248 | I11: ='CV Rotina <2A - residência'!S11 -> 0.93312402 | J11: ='CV Rotina <2A - residência'!U11 -> 0.84270016 | K11: ='CV Rotina <2A - residência'!W11 -> 0.97080063 | L11: ='CV Rotina <2A - residência'!AA11 -> 0.9544741 | M11: =COUNTIF(C11:D11,">=0,9") -> 1 | N11: =COUNTIFS(E11:L11,">=0,95") -> 3 | O11: =SUM(M11:N11) -> 4 | P11: =COUNTIF(E11:H11,">=0,95") -> 1
A12: Sul | B12: Atilio Vivacqua | C12: ='CV Rotina <2A - residência'!K12 -> 0.84097035 | D12: ='CV Rotina <2A - residência'!AC12 -> 0.84097035 | E12: ='CV Rotina <2A - residência'!M12 -> 0.75471698 | F12: ='CV Rotina <2A - residência'!O12 -> 0.74393531 | G12: ='CV Rotina <2A - residência'!Q12 -> 0.7115903 | H12: ='CV Rotina <2A - residência'!Y12 -> 1.1644205 | I12: ='CV Rotina <2A - residência'!S12 -> 0.7115903 | J12: ='CV Rotina <2A - residência'!U12 -> 0.76549865 | K12: ='CV Rotina <2A - residência'!W12 -> 1.2075472 | L12: ='CV Rotina <2A - residência'!AA12 -> 1.2398922 | M12: =COUNTIF(C12:D12,">=0,9") -> 0 | N12: =COUNTIFS(E12:L12,">=0,95") -> 3 | O12: =SUM(M12:N12) -> 3 | P12: =COUNTIF(E12:H12,">=0,95") -> 1
A13: Central | B13: Baixo Guandu | C13: ='CV Rotina <2A - residência'!K13 -> 1.0147783 | D13: ='CV Rotina <2A - residência'!AC13 -> 0.85221675 | E13: ='CV Rotina <2A - residência'!M13 -> 0.83251232 | F13: ='CV Rotina <2A - residência'!O13 -> 0.81280788 | G13: ='CV Rotina <2A - residência'!Q13 -> 0.81280788 | H13: ='CV Rotina <2A - residência'!Y13 -> 0.96551724 | I13: ='CV Rotina <2A - residência'!S13 -> 0.81773399 | J13: ='CV Rotina <2A - residência'!U13 -> 0.87192118 | K13: ='CV Rotina <2A - residência'!W13 -> 0.84236453 | L13: ='CV Rotina <2A - residência'!AA13 -> 0.89655172 | M13: =COUNTIF(C13:D13,">=0,9") -> 1 | N13: =COUNTIFS(E13:L13,">=0,95") -> 1 | O13: =SUM(M13:N13) -> 2 | P13: =COUNTIF(E13:H13,">=0,95") -> 1
A14: Norte | B14: Barra de São Francisco | C14: ='CV Rotina <2A - residência'!K14 -> 0.89072767 | D14: ='CV Rotina <2A - residência'!AC14 -> 0.95205646 | E14: ='CV Rotina <2A - residência'!M14 -> 0.92577269 | F14: ='CV Rotina <2A - residência'!O14 -> 0.85860307 | G14: ='CV Rotina <2A - residência'!Q14 -> 0.86152349 | H14: ='CV Rotina <2A - residência'!Y14 -> 0.92285228 | I14: ='CV Rotina <2A - residência'!S14 -> 0.87612558 | J14: ='CV Rotina <2A - residência'!U14 -> 0.76807009 | K14: ='CV Rotina <2A - residência'!W14 -> 0.76514967 | L14: ='CV Rotina <2A - residência'!AA14 -> 0.72426381 | M14: =COUNTIF(C14:D14,">=0,9") -> 1 | N14: =COUNTIFS(E14:L14,">=0,95") -> 0 | O14: =SUM(M14:N14) -> 1 | P14: =COUNTIF(E14:H14,">=0,95") -> 0
... A80: Metropolitana | B80: Vitória | C80: ='CV Rotina <2A - residência'!K80 -> 1.0026954 | D80: ='CV Rotina <2A - residência'!AC80 -> 1.2046067 | E80: ='CV Rotina <2A - residência'!M80 -> 1.1967655 | F80: ='CV Rotina <2A - residência'!O80 -> 1.0977702 | G80: ='CV Rotina <2A - residência'!Q80 -> 1.1105121 | H80: ='CV Rotina <2A - residência'!Y80 -> 1.2055869 | I80: ='CV Rotina <2A - residência'!S80 -> 1.0958099 | J80: ='CV Rotina <2A - residência'!U80 -> 0.74344523 | K80: ='CV Rotina <2A - residência'!W80 -> 1.2423426 | L80: ='CV Rotina <2A - residência'!AA80 -> 1.2026464 | M80: =COUNTIF(C80:D80,">=0,9") -> 2 | N80: =COUNTIFS(E80:L80,">=0,95") -> 7 | O80: =SUM(M80:N80) -> 9 | P80: =COUNTIF(E80:H80,">=0,95") -> 4
B82: Total Norte | C82: ='CV Rotina <2A - residência'!K82 -> 0.98692153 | D82: ='CV Rotina <2A - residência'!AC82 -> 1.0222334 | E82: ='CV Rotina <2A - residência'!M82 -> 0.98843058 | F82: ='CV Rotina <2A - residência'!O82 -> 0.95492958 | G82: ='CV Rotina <2A - residência'!Q82 -> 0.95583501 | H82: ='CV Rotina <2A - residência'!Y82 -> 0.98782696 | I82: ='CV Rotina <2A - residência'!S82 -> 0.96790744 | J82: ='CV Rotina <2A - residência'!U82 -> 0.80251509 | K82: ='CV Rotina <2A - residência'!W82 -> 0.89909457 | L82: ='CV Rotina <2A - residência'!AA82 -> 0.86830986 | M82: =COUNTIF(C82:D82,">=0,9") -> 2 | N82: =COUNTIFS(E82:L82,">=0,95") -> 5 | O82: =SUM(M82:N82) -> 7 | P82: =COUNTIF(E82:H82,">=0,95") -> 4
B83: Total Central | C83: ='CV Rotina <2A - residência'!K83 -> 1.037413 | D83: ='CV Rotina <2A - residência'!AC83 -> 0.9757675 | E83: ='CV Rotina <2A - residência'!M83 -> 0.93990995 | F83: ='CV Rotina <2A - residência'!O83 -> 0.9033156 | G83: ='CV Rotina <2A - residência'!Q83 -> 0.90994679 | H83: ='CV Rotina <2A - residência'!Y83 -> 0.93499795 | I83: ='CV Rotina <2A - residência'!S83 -> 0.91608678 | J83: ='CV Rotina <2A - residência'!U83 -> 0.81170692 | K83: ='CV Rotina <2A - residência'!W83 -> 0.87728203 | L83: ='CV Rotina <2A - residência'!AA83 -> 0.9033156 | M83: =COUNTIF(C83:D83,">=0,9") -> 2 | N83: =COUNTIFS(E83:L83,">=0,95") -> 0 | O83: =SUM(M83:N83) -> 2 | P83: =COUNTIF(E83:H83,">=0,95") -> 0
B84: Total Metropolitana | C84: ='CV Rotina <2A - residência'!K84 -> 0.93799096 | D84: ='CV Rotina <2A - residência'!AC84 -> 0.95858545 | E84: ='CV Rotina <2A - residência'!M84 -> 0.9256931 | F84: ='CV Rotina <2A - residência'!O84 -> 0.87355961 | G84: ='CV Rotina <2A - residência'!Q84 -> 0.88067942 | H84: ='CV Rotina <2A - residência'!Y84 -> 0.95111259 | I84: ='CV Rotina <2A - residência'!S84 -> 0.88209162 | J84: ='CV Rotina <2A - residência'!U84 -> 0.72522041 | K84: ='CV Rotina <2A - residência'!W84 -> 0.89821416 | L84: ='CV Rotina <2A - residência'!AA84 -> 0.87173553 | M84: =COUNTIF(C84:D84,">=0,9") -> 2 | N84: =COUNTIFS(E84:L84,">=0,95") -> 1 | O84: =SUM(M84:N84) -> 3 | P84: =COUNTIF(E84:H84,">=0,95") -> 1
B85: Total Sul | C85: ='CV Rotina <2A - residência'!K85 -> 0.93237501 | D85: ='CV Rotina <2A - residência'!AC85 -> 0.95503909 | E85: ='CV Rotina <2A - residência'!M85 -> 0.9155868 | F85: ='CV Rotina <2A - residência'!O85 -> 0.91684592 | G85: ='CV Rotina <2A - residência'!Q85 -> 0.91852474 | H85: ='CV Rotina <2A - residência'!Y85 -> 0.98252977 | I85: ='CV Rotina <2A - residência'!S85 -> 0.92314149 | J85: ='CV Rotina <2A - residência'!U85 -> 0.77372646 | K85: ='CV Rotina <2A - residência'!W85 -> 0.92586958 | L85: ='CV Rotina <2A - residência'!AA85 -> 0.93531294 | M85: =COUNTIF(C85:D85,">=0,9") -> 2 | N85: =COUNTIFS(E85:L85,">=0,95") -> 1 | O85: =SUM(M85:N85) -> 3 | P85: =COUNTIF(E85:H85,">=0,95") -> 1
B86: Total Espírito Santo | C86: ='CV Rotina <2A - residência'!K86 -> 0.95652497 | D86: ='CV Rotina <2A - residência'!AC86 -> 0.96764177 | E86: ='CV Rotina <2A - residência'!M86 -> 0.93315911 | F86: ='CV Rotina <2A - residência'!O86 -> 0.89404445 | G86: ='CV Rotina <2A - residência'!Q86 -> 0.89949992 | H86: ='CV Rotina <2A - residência'!Y86 -> 0.9581719 | I86: ='CV Rotina <2A - residência'!S86 -> 0.90330845 | J86: ='CV Rotina <2A - residência'!U86 -> 0.75402083 | K86: ='CV Rotina <2A - residência'!W86 -> 0.89991165 | L86: ='CV Rotina <2A - residência'!AA86 -> 0.8861529 | M86: =COUNTIF(C86:D86,">=0,9") -> 2 | N86: =COUNTIFS(E86:L86,">=0,95") -> 1 | O86: =SUM(M86:N86) -> 3 | P86: =COUNTIF(E86:H86,">=0,95") -> 1
A89: Fonte: SIPNI/DATASUS, em 09 de junho de 2023.*
A90: Vacina e Confia, em 12 de junho de 2023.**
A91: *Dados referentes às doses aplicadas pelas clínicas particulares de janeiro a maio de 2023
A92: **Dados referente às doses aplicadas no período de janeiro a maio de 2023
A93: Cobertura Calculada por município de vacinação
A94: 1 População proporcional extraída do MS/SVS/DASIS - Sistema de Informações sobre Nascidos Vivos - SINASC
A95: 2000 a 2021 – Estimativas preliminares elaboradas pelo Ministério da Saúde/SVS/DASNT/CGIAE
A96: Nota: Dados preliminares 2021

Sheet CV Rotina <2A - procedência
D1: AO NASCER | L1: MENOR DE 1 ANO | V1: 1 ANO | AB1: MENOR DE 2 ANOS | AE1: MENOR DE 1 ANO
A2: Regional | B2: Município | C2: ¹População < 1 ano e 1 ano | D2: Doses Aplicadas HB ≤30 dias | E2: Cobertura Vacinal HB até 30 dias | F2: Doses Aplicadas HB ≤2 dias | G2: Cobertura Vacinal HB até 2 dias | H2: Doses Aplicadas HB ≤1 dia | I2: Cobertura Vacinal HB até 1 dia | J2: Doses Aplicadas BCG | K2: Cobertura Vacinal BCG | L2: Doses Aplicadas Pentavalente | M2: Cobertura Vacinal Pentavalente | N2: Doses Aplicadas Poliomielite | O2: Cobertura Vacinal Poliomielite | P2: Doses Aplicadas Pneumo 10 | Q2: Cobertura Vacinal Pneumo 10 | R2: Doses Aplicadas Meningo C | S2: Cobertura Vacinal Meningo C | T2: Doses Aplicadas Febre Amarela | U2: Cobertura Vacinal Febre Amarela | V2: Doses Aplicadas Hepatite A | W2: Cobertura Vacinal Hepatite A | X2: Doses Aplicadas de Tríplice Viral | Y2: Cobertura Vacinal Tríplice Viral | Z2: Doses Aplicadas Varicela | AA2: Cobertura Varicela | AB2: Doses Aplicadas Rotavírus | AC2: Cobertura Vacinal Rotavírus | AE2: Doses Aplicadas COVID-19 | AF2: Cobertura Vacinal COVID-19 | AH2: VACINAS QUE ATINGIRAM A META DE CV | AI2: HOMOGENEIDADE ENTRE AS 10 VACINAS | AJ2: VACINAS DO PQA-VS QUE ATINGIRAM A META DE CV | AK2: HOMOGENEIDADE ENTRE AS VACINAS DO PQA-VS
A3: Metropolitana | B3: Afonso Cláudio | C3: 208.25 | D3: 142 | E3: =D3/C3 -> 0.68187275 | F3: 111 | G3: =F3/C3 -> 0.53301321 | H3: 70 | I3: =H3/C3 -> 0.33613445 | J3: 150 | K3: =J3/C3 -> 0.72028812 | L3: 187 | M3: =L3/C3 -> 0.89795918 | N3: 178 | O3: =N3/C3 -> 0.8547419 | P3: 178 | Q3: =P3/C3 -> 0.8547419 | R3: 180 | S3: =R3/C3 -> 0.86434574 | T3: 193 | U3: =T3/C3 -> 0.92677071 | V3: 225 | W3: =V3/C3 -> 1.0804322 | X3: 211 | Y3: =X3/C3 -> 1.0132053 | Z3: 222 | AA3: =Z3/C3 -> 1.0660264 | AB3: 182 | AC3: =AB3/C3 -> 0.87394958 | AE3: 0 | AF3: =AE3/C3 -> 0 | AH3: =cálculos1!O3 -> 3 | AI3: =AH3*0.1 -> 0.3 | AJ3: =cálculos1!P3 -> 1 | AK3: =AJ3*0.25 -> 0.25 | AM3: LEGENDA / HOMOGENEIDADE PQA-VS
A4: Norte | B4: Água Doce do Norte | C4: 113.75 | D4: 45 | E4: =D4/C4 -> 0.3956044 | F4: 1 | G4: =F4/C4 -> 0.0087912088 | H4: 0 | I4: =H4/C4 -> 0 | J4: 45 | K4: =J4/C4 -> 0.3956044 | L4: 90 | M4: =L4/C4 -> 0.79120879 | N4: 92 | O4: =N4/C4 -> 0.80879121 | P4: 92 | Q4: =P4/C4 -> 0.80879121 | R4: 96 | S4: =R4/C4 -> 0.84395604 | T4: 66 | U4: =T4/C4 -> 0.58021978 | V4: 80 | W4: =V4/C4 -> 0.7032967 | X4: 79 | Y4: =X4/C4 -> 0.69450549 | Z4: 81 | AA4: =Z4/C4 -> 0.71208791 | AB4: 99 | AC4: =AB4/C4 -> 0.87032967 | AE4: 0 | AF4: =AE4/C4 -> 0 | AH4: =cálculos1!O4 -> 0 | AI4: =AH4*0.1 -> 0 | AJ4: =cálculos1!P4 -> 0 | AK4: =AJ4*0.25 -> 0 | AM4: PERCENTUAL | AN4: Nº DE MUNICÍPIOS
A5: Central | B5: Águia Branca | C5: 85.75 | D5: 61 | E5: =D5/C5 -> 0.71137026 | F5: 4 | G5: =F5/C5 -> 0.04664723 | H5: 1 | I5: =H5/C5 -> 0.011661808 | J5: 61 | K5: =J5/C5 -> 0.71137026 | L5: 76 | M5: =L5/C5 -> 0.88629738 | N5: 78 | O5: =N5/C5 -> 0.90962099 | P5: 78 | Q5: =P5/C5 -> 0.90962099 | R5: 79 | S5: =R5/C5 -> 0.9212828 | T5: 100 | U5: =T5/C5 -> 1.1661808 | V5: 77 | W5: =V5/C5 -> 0.89795918 | X5: 99 | Y5: =X5/C5 -> 1.154519 | Z5: 83 | AA5: =Z5/C5 -> 0.96793003 | AB5: 81 | AC5: =AB5/C5 -> 0.94460641 | AE5: 4 | AF5: =AE5/C5 -> 0.04664723 | AH5: =cálculos1!O5 -> 4 | AI5: =AH5*0.1 -> 0.4 | AJ5: =cálculos1!P5 -> 1 | AK5: =AJ5*0.25 -> 0.25 | AM5: 0 | AN5: =COUNTIF($AK$3:$AK$80,"=0") -> 17
A6: Sul | B6: Alegre | C6: 173.83333 | D6: 100 | E6: =D6/C6 -> 0.57526366 | F6: 10 | G6: =F6/C6 -> 0.057526366 | H6: 5 | I6: =H6/C6 -> 0.028763183 | J6: 108 | K6: =J6/C6 -> 0.62128476 | L6: 182 | M6: =L6/C6 -> 1.0469799 | N6: 166 | O6: =N6/C6 -> 0.95493768 | P6: 168 | Q6: =P6/C6 -> 0.96644295 | R6: 168 | S6: =R6/C6 -> 0.96644295 | T6: 176 | U6: =T6/C6 -> 1.012464 | V6: 186 | W6: =V6/C6 -> 1.0699904 | X6: 208 | Y6: =X6/C6 -> 1.1965484 | Z6: 185 | AA6: =Z6/C6 -> 1.0642378 | AB6: 176 | AC6: =AB6/C6 -> 1.012464 | AE6: 11 | AF6: =AE6/C6 -> 0.063279003 | AH6: =cálculos1!O6 -> 9 | AI6: =AH6*0.1 -> 0.9 | AJ6: =cálculos1!P6 -> 4 | AK6: =AJ6*0.25 -> 1 | AM6: 0.25 | AN6: =COUNTIF($AK$3:$AK$80,"=0,25") -> 29
A7: Sul | B7: Alfredo Chaves | C7: 71.75 | D7: 5 | E7: =D7/C7 -> 0.069686411 | F7: 1 | G7: =F7/C7 -> 0.013937282 | H7: 0 | I7: =H7/C7 -> 0 | J7: 33 | K7: =J7/C7 -> 0.45993031 | L7: 60 | M7: =L7/C7 -> 0.83623693 | N7: 60 | O7: =N7/C7 -> 0.83623693 | P7: 62 | Q7: =P7/C7 -> 0.8641115 | R7: 62 | S7: =R7/C7 -> 0.8641115 | T7: 61 | U7: =T7/C7 -> 0.85017422 | V7: 72 | W7: =V7/C7 -> 1.0034843 | X7: 77 | Y7: =X7/C7 -> 1.0731707 | Z7: 75 | AA7: =Z7/C7 -> 1.0452962 | AB7: 69 | AC7: =AB7/C7 -> 0.96167247 | AE7: 1 | AF7: =AE7/C7 -> 0.013937282 | AH7: =cálculos1!O7 -> 4 | AI7: =AH7*0.1 -> 0.4 | AJ7: =cálculos1!P7 -> 1 | AK7: =AJ7*0.25 -> 0.25 | AM7: 0.5 | AN7: =COUNTIF($AK$3:$AK$80,"=0,5") -> 2
A8: Central | B8: Alto Rio Novo | C8: 53.083333 | D8: 18 | E8: =D8/C8 -> 0.33908948 | F8: 0 | G8: =F8/C8 -> 0 | H8: 0 | I8: =H8/C8 -> 0 | J8: 22 | K8: =J8/C8 -> 0.4144427 | L8: 54 | M8: =L8/C8 -> 1.0172684 | N8: 52 | O8: =N8/C8 -> 0.97959184 | P8: 52 | Q8: =P8/C8 -> 0.97959184 | R8: 52 | S8: =R8/C8 -> 0.97959184 | T8: 58 | U8: =T8/C8 -> 1.0926217 | V8: 47 | W8: =V8/C8 -> 0.88540031 | X8: 72 | Y8: =X8/C8 -> 1.3563579 | Z8: 50 | AA8: =Z8/C8 -> 0.94191523 | AB8: 56 | AC8: =AB8/C8 -> 1.0549451 | AE8: 0 | AF8: =AE8/C8 -> 0 | AH8: =cálculos1!O8 -> 7 | AI8: =AH8*0.1 -> 0.7 | AJ8: =cálculos1!P8 -> 4 | AK8: =AJ8*0.25 -> 1 | AM8: 0.75 | AN8: =COUNTIF($AK$3:$AK$80,"=0,75") -> 13
A9: Sul | B9: Anchieta | C9: 205.91667 | D9: 23 | E9: =D9/C9 -> 0.11169567 | F9: 1 | G9: =F9/C9 -> 0.0048563335 | H9: 0 | I9: =H9/C9 -> 0 | J9: 93 | K9: =J9/C9 -> 0.45163901 | L9: 190 | M9: =L9/C9 -> 0.92270336 | N9: 181 | O9: =N9/C9 -> 0.87899636 | P9: 181 | Q9: =P9/C9 -> 0.87899636 | R9: 182 | S9: =R9/C9 -> 0.88385269 | T9: 157 | U9: =T9/C9 -> 0.76244435 | V9: 241 | W9: =V9/C9 -> 1.1703764 | X9: 211 | Y9: =X9/C9 -> 1.0246864 | Z9: 250 | AA9: =Z9/C9 -> 1.2140834 | AB9: 207 | AC9: =AB9/C9 -> 1.005261 | AE9: 1 | AF9: =AE9/C9 -> 0.0048563335 | AH9: =cálculos1!O9 -> 4 | AI9: =AH9*0.1 -> 0.4 | AJ9: =cálculos1!P9 -> 1 | AK9: =AJ9*0.25 -> 0.25 | AM9: 1 | AN9: =COUNTIF($AK$3:$AK$80,"=1,0") -> 17
A10: Sul | B10: Apiacá | C10: 43.75 | D10: 4 | E10: =D10/C10 -> 0.091428571 | F10: 0 | G10: =F10/C10 -> 0 | H10: 0 | I10: =H10/C10 -> 0 | J10: 33 | K10: =J10/C10 -> 0.75428571 | L10: 40 | M10: =L10/C10 -> 0.91428571 | N10: 34 | O10: =N10/C10 -> 0.77714286 | P10: 34 | Q10: =P10/C10 -> 0.77714286 | R10: 33 | S10: =R10/C10 -> 0.75428571 | T10: 28 | U10: =T10/C10 -> 0.64 | V10: 38 | W10: =V10/C10 -> 0.86857143 | X10: 37 | Y10: =X10/C10 -> 0.84571429 | Z10: 31 | AA10: =Z10/C10 -> 0.70857143 | AB10: 36 | AC10: =AB10/C10 -> 0.82285714 | AE10: 0 | AF10: =AE10/C10 -> 0 | AH10: =cálculos1!O10 -> 0 | AI10: =AH10*0.1 -> 0 | AJ10: =cálculos1!P10 -> 0 | AK10: =AJ10*0.25 -> 0
A11: Metropolitana | B11: Aracruz | C11: 796.25 | D11: 254 | E11: =D11/C11 -> 0.31899529 | F11: 66 | G11: =F11/C11 -> 0.08288854 | H11: 30 | I11: =H11/C11 -> 0.037676609 | J11: 278 | K11: =J11/C11 -> 0.34913658 | L11: 676 | M11: =L11/C11 -> 0.84897959 | N11: 740 | O11: =N11/C11 -> 0.92935636 | P11: 741 | Q11: =P11/C11 -> 0.93061224 | R11: 750 | S11: =R11/C11 -> 0.94191523 | T11: 677 | U11: =T11/C11 -> 0.85023548 | V11: 778 | W11: =V11/C11 -> 0.97708006 | X11: 873 | Y11: =X11/C11 -> 1.0963893 | Z11: 766 | AA11: =Z11/C11 -> 0.96200942 | AB11: 768 | AC11: =AB11/C11 -> 0.96452119 | AE11: 25 | AF11: =AE11/C11 -> 0.031397174 | AH11: =cálculos1!O11 -> 4 | AI11: =AH11*0.1 -> 0.4 | AJ11: =cálculos1!P11 -> 1 | AK11: =AJ11*0.25 -> 0.25
A12: Sul | B12: Atilio Vivacqua | C12: 92.75 | D12: 9 | E12: =D12/C12 -> 0.09703504 | F12: 0 | G12: =F12/C12 -> 0 | H12: 0 | I12: =H12/C12 -> 0 | J12: 12 | K12: =J12/C12 -> 0.12938005 | L12: 63 | M12: =L12/C12 -> 0.67924528 | N12: 66 | O12: =N12/C12 -> 0.7115903 | P12: 66 | Q12: =P12/C12 -> 0.7115903 | R12: 65 | S12: =R12/C12 -> 0.70080863 | T12: 71 | U12: =T12/C12 -> 0.76549865 | V12: 106 | W12: =V12/C12 -> 1.1428571 | X12: 102 | Y12: =X12/C12 -> 1.0997305 | Z12: 110 | AA12: =Z12/C12 -> 1.1859838 | AB12: 72 | AC12: =AB12/C12 -> 0.77628032 | AE12: 0 | AF12: =AE12/C12 -> 0 | AH12: =cálculos1!O12 -> 3 | AI12: =AH12*0.1 -> 0.3 | AJ12: =cálculos1!P12 -> 1 | AK12: =AJ12*0.25 -> 0.25 | AM12: LEGENDA / HOMOGENEIDADE 10 VACINAS
A13: Central | B13: Baixo Guandu | C13: 203 | D13: 38 | E13: =D13/C13 -> 0.18719212 | F13: 2 | G13: =F13/C13 -> 0.0098522167 | H13: 1 | I13: =H13/C13 -> 0.0049261084 | J13: 87 | K13: =J13/C13 -> 0.42857143 | L13: 193 | M13: =L13/C13 -> 0.95073892 | N13: 185 | O13: =N13/C13 -> 0.91133005 | P13: 185 | Q13: =P13/C13 -> 0.91133005 | R13: 186 | S13: =R13/C13 -> 0.91625616 | T13: 180 | U13: =T13/C13 -> 0.88669951 | V13: 176 | W13: =V13/C13 -> 0.86699507 | X13: 207 | Y13: =X13/C13 -> 1.0197044 | Z13: 188 | AA13: =Z13/C13 -> 0.92610837 | AB13: 191 | AC13: =AB13/C13 -> 0.9408867 | AE13: 0 | AF13: =AE13/C13 -> 0 | AH13: =cálculos1!O13 -> 3 | AI13: =AH13*0.1 -> 0.3 | AJ13: =cálculos1!P13 -> 2 | AK13: =AJ13*0.25 -> 0.5 | AM13: PERCENTUAL | AN13: Nº DE MUNICÍPIOS
A14: Norte | B14: Barra de São Francisco | C14: 342.41667 | D14: 192 | E14: =D14/C14 -> 0.56072037 | F14: 48 | G14: =F14/C14 -> 0.14018009 | H14: 31 | I14: =H14/C14 -> 0.090532976 | J14: 205 | K14: =J14/C14 -> 0.59868581 | L14: 329 | M14: =L14/C14 -> 0.96081772 | N14: 305 | O14: =N14/C14 -> 0.89072767 | P14: 305 | Q14: =P14/C14 -> 0.89072767 | R14: 314 | S14: =R14/C14 -> 0.91701144 | T14: 258 | U14: =T14/C14 -> 0.753468 | V14: 258 | W14: =V14/C14 -> 0.753468 | X14: 316 | Y14: =X14/C14 -> 0.92285228 | Z14: 253 | AA14: =Z14/C14 -> 0.7388659 | AB14: 338 | AC14: =AB14/C14 -> 0.98710148 | AE14: 0 | AF14: =AE14/C14 -> 0 | AH14: =cálculos1!O14 -> 2 | AI14: =AH14*0.1 -> 0.2 | AJ14: =cálculos1!P14 -> 1 | AK14: =AJ14*0.25 -> 0.25 | AM14: 0 | AN14: =COUNTIF($AI$3:$AI$80,"=0") -> 4
A15: Norte | B15: Boa Esperança | C15: 119 | D15: 5 | E15: =D15/C15 -> 0.042016807 | F15: 1 | G15: =F15/C15 -> 0.0084033613 | H15: 1 | I15: =H15/C15 -> 0.0084033613 | J15: 32 | K15: =J15/C15 -> 0.26890756 | L15: 125 | M15: =L15/C15 -> 1.0504202 | N15: 118 | O15: =N15/C15 -> 0.99159664 | P15: 118 | Q15: =P15/C15 -> 0.99159664 | R15: 125 | S15: =R15/C15 -> 1.0504202 | T15: 117 | U15: =T15/C15 -> 0.98319328 | V15: 111 | W15: =V15/C15 -> 0.93277311 | X15: 113 | Y15: =X15/C15 -> 0.94957983 | Z15: 107 | AA15: =Z15/C15 -> 0.89915966 | AB15: 129 | AC15: =AB15/C15 -> 1.0840336 | AE15: 0 | AF15: =AE15/C15 -> 0 | AH15: =cálculos1!O15 -> 6 | AI15: =AH15*0.1 -> 0.6 | AJ15: =cálculos1!P15 -> 3 | AK15: =AJ15*0.25 -> 0.75 | AM15: 0.1 | AN15: =COUNTIFS($AI$3:$AI$80,">=0,10",$AI$3:$AI$80,"<0,20") -> 10
A16: Sul | B16: Bom Jesus do Norte | C16: 46.666667 | D16: 19 | E16: =D16/C16 -> 0.40714286 | F16: 0 | G16: =F16/C16 -> 0 | H16: 0 | I16: =H16/C16 -> 0 | J16: 51 | K16: =J16/C16 -> 1.0928571 | L16: 67 | M16: =L16/C16 -> 1.4357143 | N16: 64 | O16: =N16/C16 -> 1.3714286 | P16: 64 | Q16: =P16/C16 -> 1.3714286 | R16: 62 | S16: =R16/C16 -> 1.3285714 | T16: 54 | U16: =T16/C16 -> 1.1571429 | V16: 52 | W16: =V16/C16 -> 1.1142857 | X16: 70 | Y16: =X16/C16 -> 1.5 | Z16: 49 | AA16: =Z16/C16 -> 1.05 | AB16: 80 | AC16: =AB16/C16 -> 1.7142857 | AE16: 2 | AF16: =AE16/C16 -> 0.042857143 | AH16: =cálculos1!O16 -> 10 | AI16: =AH16*0.1 -> 1 | AJ16: =cálculos1!P16 -> 4 | AK16: =AJ16*0.25 -> 1 | AM16: 0.2 | AN16: =COUNTIFS($AI$3:$AI$80,">=0,20",$AI$3:$AI$80,"<0,30") -> 11
A17: Metropolitana | B17: Brejetuba | C17: 121.91667 | D17: 20 | E17: =D17/C17 -> 0.16404648 | F17: 2 | G17: =F17/C17 -> 0.016404648 | H17: 0 | I17: =H17/C17 -> 0 | J17: 105 | K17: =J17/C17 -> 0.86124402 | L17: 157 | M17: =L17/C17 -> 1.2877649 | N17: 153 | O17: =N17/C17 -> 1.2549556 | P17: 153 | Q17: =P17/C17 -> 1.2549556 | R17: 156 | S17: =R17/C17 -> 1.2795625 | T17: 138 | U17: =T17/C17 -> 1.1319207 | V17: 157 | W17: =V17/C17 -> 1.2877649 | X17: 137 | Y17: =X17/C17 -> 1.1237184 | Z17: 147 | AA17: =Z17/C17 -> 1.2057416 | AB17: 163 | AC17: =AB17/C17 -> 1.3369788 | AE17: 0 | AF17: =AE17/C17 -> 0 | AH17: =cálculos1!O17 -> 9 | AI17: =AH17*0.1 -> 0.9 | AJ17: =cálculos1!P17 -> 4 | AK17: =AJ17*0.25 -> 1 | AM17: 0.3 | AN17: =COUNTIFS($AI$3:$AI$80,">=0,30",$AI$3:$AI$80,"<0,40") -> 9
A18: Sul | B18: Cachoeiro de Itapemirim | C18: 1404.6667 | D18: 2725 | E18: =D18/C18 -> 1.939962 | F18: 2408 | G18: =F18/C18 -> 1.7142857 | H18: 1411 | I18: =H18/C18 -> 1.0045088 | J18: 2736 | K18: =J18/C18 -> 1.9477931 | L18: 1289 | M18: =L18/C18 -> 0.91765543 | N18: 1265 | O18: =N18/C18 -> 0.90056953 | P18: 1268 | Q18: =P18/C18 -> 0.90270527 | R18: 1289 | S18: =R18/C18 -> 0.91765543 | T18: 979 | U18: =T18/C18 -> 0.69696251 | V18: 1162 | W18: =V18/C18 -> 0.82724252 | X18: 1265 | Y18: =X18/C18 -> 0.90056953 | Z18: 1140 | AA18: =Z18/C18 -> 0.81158045 | AB18: 1322 | AC18: =AB18/C18 -> 0.94114855 | AE18: 19 | AF18: =AE18/C18 -> 0.013526341 | AH18: =cálculos1!O18 -> 2 | AI18: =AH18*0.1 -> 0.2 | AJ18: =cálculos1!P18 -> 0 | AK18: =AJ18*0.25 -> 0 | AM18: 0.4 | AN18: =COUNTIFS($AI$3:$AI$80,">=0,40",$AI$3:$AI$80,"<0,50") -> 9
A19: Metropolitana | B19: Cariacica | C19: 2780.75 | D19: 1117 | E19: =D19/C19 -> 0.40169019 | F19: 22 | G19: =F19/C19 -> 0.0079115347 | H19: 5 | I19: =H19/C19 -> 0.0017980761 | J19: 1121 | K19: =J19/C19 -> 0.40312865 | L19: 2418 | M19: =L19/C19 -> 0.86954958 | N19: 2268 | O19: =N19/C19 -> 0.8156073 | P19: 2272 | Q19: =P19/C19 -> 0.81704576 | R19: 2275 | S19: =R19/C19 -> 0.81812461 | T19: 2032 | U19: =T19/C19 -> 0.73073811 | V19: 2321 | W19: =V19/C19 -> 0.83466691 | X19: 2690 | Y19: =X19/C19 -> 0.96736492 | Z19: 2357 | AA19: =Z19/C19 -> 0.84761305 | AB19: 2534 | AC19: =AB19/C19 -> 0.91126495 | AE19: 37 | AF19: =AE19/C19 -> 0.013305763 | AH19: =cálculos1!O19 -> 2 | AI19: =AH19*0.1 -> 0.2 | AJ19: =cálculos1!P19 -> 1 | AK19: =AJ19*0.25 -> 0.25 | AM19: 0.5 | AN19: =COUNTIFS($AI$3:$AI$80,">=0,50",$AI$3:$AI$80,"<0,60") -> 10
A20: Sul | B20: Castelo | C20: 245 | D20: 173 | E20: =D20/C20 -> 0.70612245 | F20: 119 | G20: =F20/C20 -> 0.48571429 | H20: 79 | I20: =H20/C20 -> 0.32244898 | J20: 187 | K20: =J20/C20 -> 0.76326531 | L20: 257 | M20: =L20/C20 -> 1.0489796 | N20: 262 | O20: =N20/C20 -> 1.0693878 | P20: 262 | Q20: =P20/C20 -> 1.0693878 | R20: 262 | S20: =R20/C20 -> 1.0693878 | T20: 206 | U20: =T20/C20 -> 0.84081633 | V20: 241 | W20: =V20/C20 -> 0.98367347 | X20: 253 | Y20: =X20/C20 -> 1.0326531 | Z20: 245 | AA20: =Z20/C20 -> 1 | AB20: 266 | AC20: =AB20/C20 -> 1.0857143 | AE20: 1 | AF20: =AE20/C20 -> 0.0040816327 | AH20: =cálculos1!O20 -> 8 | AI20: =AH20*0.1 -> 0.8 | AJ20: =cálculos1!P20 -> 4 | AK20: =AJ20*0.25 -> 1 | AM20: 0.6 | AN20: =COUNTIFS($AI$3:$AI$80,">=0,60",$AI$3:$AI$80,"<0,70") -> 4
A21: Central | B21: Colatina | C21: 876.75 | D21: 2139 | E21: =D21/C21 -> 2.439692 | F21: 1644 | G21: =F21/C21 -> 1.8751069 | H21: 1334 | I21: =H21/C21 -> 1.5215284 | J21: 2120 | K21: =J21/C21 -> 2.4180211 | L21: 898 | M21: =L21/C21 -> 1.0242372 | N21: 824 | O21: =N21/C21 -> 0.93983462 | P21: 825 | Q21: =P21/C21 -> 0.94097519 | R21: 824 | S21: =R21/C21 -> 0.93983462 | T21: 678 | U21: =T21/C21 -> 0.77331052 | V21: 785 | W21: =V21/C21 -> 0.89535215 | X21: 805 | Y21: =X21/C21 -> 0.91816367 | Z21: 774 | AA21: =Z21/C21 -> 0.88280582 | AB21: 873 | AC21: =AB21/C21 -> 0.99572284 | AE21: 13 | AF21: =AE21/C21 -> 0.014827488 | AH21: =cálculos1!O21 -> 3 | AI21: =AH21*0.1 -> 0.3 | AJ21: =cálculos1!P21 -> 1 | AK21: =AJ21*0.25 -> 0.25 | AM21: 0.7 | AN21: =COUNTIFS($AI$3:$AI$80,">=0,70",$AI$3:$AI$80,"<0,80") -> 7
A22: Norte | B22: Conceição da Barra | C22: 208.25 | D22: 4 | E22: =D22/C22 -> 0.019207683 | F22: 0 | G22: =F22/C22 -> 0 | H22: 0 | I22: =H22/C22 -> 0 | J22: 10 | K22: =J22/C22 -> 0.048019208 | L22: 211 | M22: =L22/C22 -> 1.0132053 | N22: 210 | O22: =N22/C22 -> 1.0084034 | P22: 210 | Q22: =P22/C22 -> 1.0084034 | R22: 210 | S22: =R22/C22 -> 1.0084034 | T22: 229 | U22: =T22/C22 -> 1.0996399 | V22: 210 | W22: =V22/C22 -> 1.0084034 | X22: 239 | Y22: =X22/C22 -> 1.1476591 | Z22: 226 | AA22: =Z22/C22 -> 1.0852341 | AB22: 242 | AC22: =AB22/C22 -> 1.1620648 | AE22: 0 | AF22: =AE22/C22 -> 0 | AH22: =cálculos1!O22 -> 9 | AI22: =AH22*0.1 -> 0.9 | AJ22: =cálculos1!P22 -> 4 | AK22: =AJ22*0.25 -> 1 | AM22: 0.8 | AN22: =COUNTIFS($AI$3:$AI$80,">=0,80",$AI$3:$AI$80,"<0,90") -> 4
A23: Metropolitana | B23: Conceição do Castelo | C23: 101.5 | D23: 5 | E23: =D23/C23 -> 0.049261084 | F23: 0 | G23: =F23/C23 -> 0 | H23: 0 | I23: =H23/C23 -> 0 | J23: 56 | K23: =J23/C23 -> 0.55172414 | L23: 86 | M23: =L23/C23 -> 0.84729064 | N23: 81 | O23: =N23/C23 -> 0.79802956 | P23: 81 | Q23: =P23/C23 -> 0.79802956 | R23: 82 | S23: =R23/C23 -> 0.80788177 | T23: 75 | U23: =T23/C23 -> 0.73891626 | V23: 96 | W23: =V23/C23 -> 0.94581281 | X23: 91 | Y23: =X23/C23 -> 0.89655172 | Z23: 100 | AA23: =Z23/C23 -> 0.98522167 | AB23: 93 | AC23: =AB23/C23 -> 0.91625616 | AE23: 2 | AF23: =AE23/C23 -> 0.019704433 | AH23: =cálculos1!O23 -> 2 | AI23: =AH23*0.1 -> 0.2 | AJ23: =cálculos1!P23 -> 0 | AK23: =AJ23*0.25 -> 0 | AM23: 0.9 | AN23: =COUNTIFS($AI$3:$AI$80,">=0,90",$AI$3:$AI$80,"<1,0") -> 9
A24: Sul | B24: Divino de São Lourenço | C24: 33.833333 | D24: 21 | E24: =D24/C24 -> 0.62068966 | F24: 0 | G24: =F24/C24 -> 0 | H24: 0 | I24: =H24/C24 -> 0 | J24: 25 | K24: =J24/C24 -> 0.73891626 | L24: 50 | M24: =L24/C24 -> 1.4778325 | N24: 49 | O24: =N24/C24 -> 1.4482759 | P24: 49 | Q24: =P24/C24 -> 1.4482759 | R24: 49 | S24: =R24/C24 -> 1.4482759 | T24: 40 | U24: =T24/C24 -> 1.182266 | V24: 31 | W24: =V24/C24 -> 0.91625616 | X24: 40 | Y24: =X24/C24 -> 1.182266 | Z24: 32 | AA24: =Z24/C24 -> 0.94581281 | AB24: 50 | AC24: =AB24/C24 -> 1.4778325 | AE24: 1 | AF24: =AE24/C24 -> 0.02955665 | AH24: =cálculos1!O24 -> 7 | AI24: =AH24*0.1 -> 0.7 | AJ24: =cálculos1!P24 -> 4 | AK24: =AJ24*0.25 -> 1 | AM24: 1 | AN24: =COUNTIF($AI$3:$AI$80,">=1,0") -> 1
A25: Metropolitana | B25: Domingos Martins | C25: 249.66667 | D25: 21 | E25: =D25/C25 -> 0.08411215 | F25: 3 | G25: =F25/C25 -> 0.012016021 | H25: 0 | I25: =H25/C25 -> 0 | J25: 48 | K25: =J25/C25 -> 0.19225634 | L25: 232 | M25: =L25/C25 -> 0.92923899 | N25: 207 | O25: =N25/C25 -> 0.82910547 | P25: 207 | Q25: =P25/C25 -> 0.82910547 | R25: 211 | S25: =R25/C25 -> 0.84512684 | T25: 211 | U25: =T25/C25 -> 0.84512684 | V25: 240 | W25: =V25/C25 -> 0.96128171 | X25: 259 | Y25: =X25/C25 -> 1.0373832 | Z25: 229 | AA25: =Z25/C25 -> 0.91722296 | AB25: 243 | AC25: =AB25/C25 -> 0.97329773 | AE25: 10 | AF25: =AE25/C25 -> 0.040053405 | AH25: =cálculos1!O25 -> 3 | AI25: =AH25*0.1 -> 0.3 | AJ25: =cálculos1!P25 -> 1 | AK25: =AJ25*0.25 -> 0.25
A26: Sul | B26: Dores do Rio Preto | C26: 54.833333 | D26: 26 | E26: =D26/C26 -> 0.47416413 | F26: 0 | G26: =F26/C26 -> 0 | H26: 0 | I26: =H26/C26 -> 0 | J26: 31 | K26: =J26/C26 -> 0.56534954 | L26: 51 | M26: =L26/C26 -> 0.93009119 | N26: 53 | O26: =N26/C26 -> 0.96656535 | P26: 54 | Q26: =P26/C26 -> 0.98480243 | R26: 55 | S26: =R26/C26 -> 1.0030395 | T26: 49 | U26: =T26/C26 -> 0.89361702 | V26: 68 | W26: =V26/C26 -> 1.2401216 | X26: 71 | Y26: =X26/C26 -> 1.2948328 | Z26: 70 | AA26: =Z26/C26 -> 1.2765957 | AB26: 55 | AC26: =AB26/C26 -> 1.0030395 | AE26: 3 | AF26: =AE26/C26 -> 0.054711246 | AH26: =cálculos1!O26 -> 7 | AI26: =AH26*0.1 -> 0.7 | AJ26: =cálculos1!P26 -> 3 | AK26: =AJ26*0.25 -> 0.75
A27: Norte | B27: Ecoporanga | C27: 152.83333 | D27: 61 | E27: =D27/C27 -> 0.39912759 | F27: 0 | G27: =F27/C27 -> 0 | H27: 0 | I27: =H27/C27 -> 0 | J27: 63 | K27: =J27/C27 -> 0.41221374 | L27: 132 | M27: =L27/C27 -> 0.86368593 | N27: 132 | O27: =N27/C27 -> 0.86368593 | P27: 135 | Q27: =P27/C27 -> 0.88331516 | R27: 132 | S27: =R27/C27 -> 0.86368593 | T27: 130 | U27: =T27/C27 -> 0.85059978 | V27: 156 | W27: =V27/C27 -> 1.0207197 | X27: 150 | Y27: =X27/C27 -> 0.98146129 | Z27: 145 | AA27: =Z27/C27 -> 0.94874591 | AB27: 133 | AC27: =AB27/C27 -> 0.87022901 | AE27: 2 | AF27: =AE27/C27 -> 0.01308615 | AH27: =cálculos1!O27 -> 2 | AI27: =AH27*0.1 -> 0.2 | AJ27: =cálculos1!P27 -> 1 | AK27: =AJ27*0.25 -> 0.25
A28: Metropolitana | B28: Fundão | C28: 130.66667 | D28: 18 | E28: =D28/C28 -> 0.1377551 | F28: 3 | G28: =F28/C28 -> 0.022959184 | H28: 0 | I28: =H28/C28 -> 0 | J28: 17 | K28: =J28/C28 -> 0.13010204 | L28: 112 | M28: =L28/C28 -> 0.85714286 | N28: 115 | O28: =N28/C28 -> 0.88010204 | P28: 115 | Q28: =P28/C28 -> 0.88010204 | R28: 114 | S28: =R28/C28 -> 0.87244898 | T28: 111 | U28: =T28/C28 -> 0.8494898 | V28: 153 | W28: =V28/C28 -> 1.1709184 | X28: 161 | Y28: =X28/C28 -> 1.2321429 | Z28: 143 | AA28: =Z28/C28 -> 1.0943878 | AB28: 131 | AC28: =AB28/C28 -> 1.002551 | AE28: 5 | AF28: =AE28/C28 -> 0.038265306 | AH28: =cálculos1!O28 -> 4 | AI28: =AH28*0.1 -> 0.4 | AJ28: =cálculos1!P28 -> 1 | AK28: =AJ28*0.25 -> 0.25
A29: Central | B29: Governador Lindenberg | C29: 68.25 | D29: 24 | E29: =D29/C29 -> 0.35164835 | F29: 2 | G29: =F29/C29 -> 0.029304029 | H29: 1 | I29: =H29/C29 -> 0.014652015 | J29: 19 | K29: =J29/C29 -> 0.27838828 | L29: 73 | M29: =L29/C29 -> 1.0695971 | N29: 88 | O29: =N29/C29 -> 1.2893773 | P29: 88 | Q29: =P29/C29 -> 1.2893773 | R29: 88 | S29: =R29/C29 -> 1.2893773 | T29: 81 | U29: =T29/C29 -> 1.1868132 | V29: 55 | W29: =V29/C29 -> 0.80586081 | X29: 81 | Y29: =X29/C29 -> 1.1868132 | Z29: 59 | AA29: =Z29/C29 -> 0.86446886 | AB29: 85 | AC29: =AB29/C29 -> 1.2454212 | AE29: 0 | AF29: =AE29/C29 -> 0 | AH29: =cálculos1!O29 -> 7 | AI29: =AH29*0.1 -> 0.7 | AJ29: =cálculos1!P29 -> 4 | AK29: =AJ29*0.25 -> 1
A30: Sul | B30: Guaçuí | C30: 233.33333 | D30: 143 | E30: =D30/C30 -> 0.61285714 | F30: 7 | G30: =F30/C30 -> 0.03 | H30: 4 | I30: =H30/C30 -> 0.017142857 | J30: 155 | K30: =J30/C30 -> 0.66428571 | L30: 197 | M30: =L30/C30 -> 0.84428571 | N30: 202 | O30: =N30/C30 -> 0.86571429 | P30: 202 | Q30: =P30/C30 -> 0.86571429 | R30: 201 | S30: =R30/C30 -> 0.86142857 | T30: 181 | U30: =T30/C30 -> 0.77571429 | V30: 163 | W30: =V30/C30 -> 0.69857143 | X30: 202 | Y30: =X30/C30 -> 0.86571429 | Z30: 183 | AA30: =Z30/C30 -> 0.78428571 | AB30: 202 | AC30: =AB30/C30 -> 0.86571429 | AE30: 1 | AF30: =AE30/C30 -> 0.0042857143 | AH30: =cálculos1!O30 -> 0 | AI30: =AH30*0.1 -> 0 | AJ30: =cálculos1!P30 -> 0 | AK30: =AJ30*0.25 -> 0
A31: Metropolitana | B31: Guarapari | C31: 998.66667 | D31: 841 | E31: =D31/C31 -> 0.84212283 | F31: 753 | G31: =F31/C31 -> 0.75400534 | H31: 695 | I31: =H31/C31 -> 0.6959279 | J31: 865 | K31: =J31/C31 -> 0.86615487 | L31: 891 | M31: =L31/C31 -> 0.89218959 | N31: 861 | O31: =N31/C31 -> 0.86214953 | P31: 862 | Q31: =P31/C31 -> 0.86315087 | R31: 863 | S31: =R31/C31 -> 0.8641522 | T31: 634 | U31: =T31/C31 -> 0.63484646 | V31: 782 | W31: =V31/C31 -> 0.78304406 | X31: 894 | Y31: =X31/C31 -> 0.89519359 | Z31: 693 | AA31: =Z31/C31 -> 0.69392523 | AB31: 920 | AC31: =AB31/C31 -> 0.9212283 | AE31: 11 | AF31: =AE31/C31 -> 0.011014686 | AH31: =cálculos1!O31 -> 1 | AI31: =AH31*0.1 -> 0.1 | AJ31: =cálculos1!P31 -> 0 | AK31: =AJ31*0.25 -> 0
A32: Metropolitana | B32: Ibatiba | C32: 221.66667 | D32: 165 | E32: =D32/C32 -> 0.7443609 | F32: 4 | G32: =F32/C32 -> 0.018045113 | H32: 1 | I32: =H32/C32 -> 0.0045112782 | J32: 178 | K32: =J32/C32 -> 0.80300752 | L32: 241 | M32: =L32/C32 -> 1.087218 | N32: 244 | O32: =N32/C32 -> 1.1007519 | P32: 245 | Q32: =P32/C32 -> 1.1052632 | R32: 244 | S32: =R32/C32 -> 1.1007519 | T32: 217 | U32: =T32/C32 -> 0.97894737 | V32: 218 | W32: =V32/C32 -> 0.98345865 | X32: 235 | Y32: =X32/C32 -> 1.0601504 | Z32: 244 | AA32: =Z32/C32 -> 1.1007519 | AB32: 238 | AC32: =AB32/C32 -> 1.0736842 | AE32: 0 | AF32: =AE32/C32 -> 0 | AH32: =cálculos1!O32 -> 9 | AI32: =AH32*0.1 -> 0.9 | AJ32: =cálculos1!P32 -> 4 | AK32: =AJ32*0.25 -> 1
A33: Metropolitana | B33: Ibiraçu | C33: 91.583333 | D33: 20 | E33: =D33/C33 -> 0.21838035 | F33: 0 | G33: =F33/C33 -> 0 | H33: 0 | I33: =H33/C33 -> 0 | J33: 19 | K33: =J33/C33 -> 0.20746133 | L33: 65 | M33: =L33/C33 -> 0.70973612 | N33: 62 | O33: =N33/C33 -> 0.67697907 | P33: 62 | Q33: =P33/C33 -> 0.67697907 | R33: 61 | S33: =R33/C33 -> 0.66606005 | T33: 63 | U33: =T33/C33 -> 0.68789809 | V33: 85 | W33: =V33/C33 -> 0.92811647 | X33: 69 | Y33: =X33/C33 -> 0.75341219 | Z33: 88 | AA33: =Z33/C33 -> 0.96087352 | AB33: 69 | AC33: =AB33/C33 -> 0.75341219 | AE33: 0 | AF33: =AE33/C33 -> 0 | AH33: =cálculos1!O33 -> 1 | AI33: =AH33*0.1 -> 0.1 | AJ33: =cálculos1!P33 -> 0 | AK33: =AJ33*0.25 -> 0
A34: Sul | B34: Ibitirama | C34: 86.916667 | D34: 59 | E34: =D34/C34 -> 0.67881112 | F34: 3 | G34: =F34/C34 -> 0.03451582 | H34: 0 | I34: =H34/C34 -> 0 | J34: 67 | K34: =J34/C34 -> 0.77085331 | L34: 70 | M34: =L34/C34 -> 0.80536913 | N34: 70 | O34: =N34/C34 -> 0.80536913 | P34: 70 | Q34: =P34/C34 -> 0.80536913 | R34: 70 | S34: =R34/C34 -> 0.80536913 | T34: 64 | U34: =T34/C34 -> 0.73633749 | V34: 84 | W34: =V34/C34 -> 0.96644295 | X34: 82 | Y34: =X34/C34 -> 0.94343241 | Z34: 87 | AA34: =Z34/C34 -> 1.0009588 | AB34: 77 | AC34: =AB34/C34 -> 0.88590604 | AE34: 2 | AF34: =AE34/C34 -> 0.023010547 | AH34: =cálculos1!O34 -> 2 | AI34: =AH34*0.1 -> 0.2 | AJ34: =cálculos1!P34 -> 0 | AK34: =AJ34*0.25 -> 0
A35: Sul | B35: Iconha | C35: 70.583333 | D35: 20 | E35: =D35/C35 -> 0.28335301 | F35: 1 | G35: =F35/C35 -> 0.014167651 | H35: 0 | I35: =H35/C35 -> 0 | J35: 31 | K35: =J35/C35 -> 0.43919717 | L35: 60 | M35: =L35/C35 -> 0.85005903 | N35: 67 | O35: =N35/C35 -> 0.94923259 | P35: 67 | Q35: =P35/C35 -> 0.94923259 | R35: 67 | S35: =R35/C35 -> 0.94923259 | T35: 79 | U35: =T35/C35 -> 1.1192444 | V35: 78 | W35: =V35/C35 -> 1.1050767 | X35: 84 | Y35: =X35/C35 -> 1.1900826 | Z35: 75 | AA35: =Z35/C35 -> 1.0625738 | AB35: 64 | AC35: =AB35/C35 -> 0.90672963 | AE35: 3 | AF35: =AE35/C35 -> 0.042502952 | AH35: =cálculos1!O35 -> 5 | AI35: =AH35*0.1 -> 0.5 | AJ35: =cálculos1!P35 -> 1 | AK35: =AJ35*0.25 -> 0.25
A36: Sul | B36: Irupi | C36: 105.58333 | D36: 45 | E36: =D36/C36 -> 0.42620363 | F36: 4 | G36: =F36/C36 -> 0.037884767 | H36: 3 | I36: =H36/C36 -> 0.028413575 | J36: 59 | K36: =J36/C36 -> 0.55880032 | L36: 104 | M36: =L36/C36 -> 0.98500395 | N36: 131 | O36: =N36/C36 -> 1.2407261 | P36: 135 | Q36: =P36/C36 -> 1.2786109 | R36: 134 | S36: =R36/C36 -> 1.2691397 | T36: 136 | U36: =T36/C36 -> 1.2880821 | V36: 99 | W36: =V36/C36 -> 0.93764799 | X36: 124 | Y36: =X36/C36 -> 1.1744278 | Z36: 111 | AA36: =Z36/C36 -> 1.0513023 | AB36: 114 | AC36: =AB36/C36 -> 1.0797159 | AE36: 1 | AF36: =AE36/C36 -> 0.0094711918 | AH36: =cálculos1!O36 -> 8 | AI36: =AH36*0.1 -> 0.8 | AJ36: =cálculos1!P36 -> 4 | AK36: =AJ36*0.25 -> 1
... A80: Metropolitana | B80: Vitória | C80: 2040.5 | D80: 3916 | E80: =D80/C80 -> 1.9191375 | F80: 3480 | G80: =F80/C80 -> 1.7054643 | H80: 2838 | I80: =H80/C80 -> 1.3908356 | J80: 4228 | K80: =J80/C80 -> 2.0720412 | L80: 2807 | M80: =L80/C80 -> 1.3756432 | N80: 2445 | O80: =N80/C80 -> 1.1982357 | P80: 2473 | Q80: =P80/C80 -> 1.2119579 | R80: 2465 | S80: =R80/C80 -> 1.2080372 | T80: 1416 | U80: =T80/C80 -> 0.69394756 | V80: 2509 | W80: =V80/C80 -> 1.2296006 | X80: 2240 | Y80: =X80/C80 -> 1.0977702 | Z80: 2402 | AA80: =Z80/C80 -> 1.1771625 | AB80: 2591 | AC80: =AB80/C80 -> 1.2697868 | AE80: 88 | AF80: =AE80/C80 -> 0.043126685 | AH80: =cálculos1!O80 -> 9 | AI80: =AH80*0.1 -> 0.9 | AJ80: =cálculos1!P80 -> 4 | AK80: =AJ80*0.25 -> 1
B82: Total Norte | C82: =SUMIF($A$3:$A$80,"Norte",C$3:C$80) -> 3313.3333 | D82: =SUMIF($A$3:$A$80,"Norte",D$3:D$80) -> 2919 | E82: =D82/C82 -> 0.88098592 | F82: =SUMIF($A$3:$A$80,"Norte",F$3:F$80) -> 2492 | G82: =F82/C82 -> 0.75211268 | H82: =SUMIF($A$3:$A$80,"Norte",H$3:H$80) -> 2459 | I82: =H82/C82 -> 0.74215292 | J82: =SUMIF($A$3:$A$80,"Norte",J$3:J$80) -> 2851 | K82: =J82/C82 -> 0.86046278 | L82: =SUMIF($A$3:$A$80,"Norte",L$3:L$80) -> 3350 | M82: =L82/C82 -> 1.0110664 | N82: =SUMIF($A$3:$A$80,"Norte",N$3:N$80) -> 3226 | O82: =N82/C82 -> 0.97364185 | P82: =SUMIF($A$3:$A$80,"Norte",P$3:P$80) -> 3230 | Q82: =P82/C82 -> 0.97484909 | R82: =SUMIF($A$3:$A$80,"Norte",R$3:R$80) -> 3276 | S82: =R82/C82 -> 0.98873239 | T82: =SUMIF($A$3:$A$80,"Norte",T$3:T$80) -> 2703 | U82: =T82/C82 -> 0.81579477 | V82: =SUMIF($A$3:$A$80,"Norte",V$3:V$80) -> 3039 | W82: =V82/C82 -> 0.91720322 | X82: =SUMIF($A$3:$A$80,"Norte",X$3:X$80) -> 3308 | Y82: =X82/C82 -> 0.99839034 | Z82: =SUMIF($A$3:$A$80,"Norte",Z$3:Z$80) -> 2937 | AA82: =Z82/C82 -> 0.88641851 | AB82: =SUMIF($A$3:$A$80,"Norte",AB$3:AB$80) -> 3468 | AC82: =AB82/C82 -> 1.0466801 | AE82: =SUMIF($A$3:$A$80,"Norte",AE$3:AE$80) -> 15 | AF82: =AE82/C82 -> 0.004527163 | AH82: =cálculos1!O82 -> 6 | AI82: =AH82*0.1 -> 0.6 | AJ82: =cálculos1!P82 -> 4 | AK82: =AJ82*0.25 -> 1
B83: Total Central | C83: =SUMIF($A$3:$A$80,"Central",C$3:C$80) -> 4071.6667 | D83: =SUMIF($A$3:$A$80,"Central",D$3:D$80) -> 4611 | E83: =D83/C83 -> 1.1324601 | F83: =SUMIF($A$3:$A$80,"Central",F$3:F$80) -> 3301 | G83: =F83/C83 -> 0.81072452 | H83: =SUMIF($A$3:$A$80,"Central",H$3:H$80) -> 2685 | I83: =H83/C83 -> 0.65943512 | J83: =SUMIF($A$3:$A$80,"Central",J$3:J$80) -> 4678 | K83: =J83/C83 -> 1.1489153 | L83: =SUMIF($A$3:$A$80,"Central",L$3:L$80) -> 3890 | M83: =L83/C83 -> 0.95538273 | N83: =SUMIF($A$3:$A$80,"Central",N$3:N$80) -> 3738 | O83: =N83/C83 -> 0.91805158 | P83: =SUMIF($A$3:$A$80,"Central",P$3:P$80) -> 3752 | Q83: =P83/C83 -> 0.92148997 | R83: =SUMIF($A$3:$A$80,"Central",R$3:R$80) -> 3780 | S83: =R83/C83 -> 0.92836676 | T83: =SUMIF($A$3:$A$80,"Central",T$3:T$80) -> 3345 | U83: =T83/C83 -> 0.8215309 | V83: =SUMIF($A$3:$A$80,"Central",V$3:V$80) -> 3613 | W83: =V83/C83 -> 0.88735162 | X83: =SUMIF($A$3:$A$80,"Central",X$3:X$80) -> 3904 | Y83: =X83/C83 -> 0.95882112 | Z83: =SUMIF($A$3:$A$80,"Central",Z$3:Z$80) -> 3749 | AA83: =Z83/C83 -> 0.92075317 | AB83: =SUMIF($A$3:$A$80,"Central",AB$3:AB$80) -> 4046 | AC83: =AB83/C83 -> 0.99369628 | AE83: =SUMIF($A$3:$A$80,"Central",AE$3:AE$80) -> 40 | AF83: =AE83/C83 -> 0.0098239869 | AH83: =cálculos1!O83 -> 4 | AI83: =AH83*0.1 -> 0.4 | AJ83: =cálculos1!P83 -> 2 | AK83: =AJ83*0.25 -> 0.5
B84: Total Metropolitana | C84: =SUMIF($A$3:$A$80,"Metropolitana",C$3:C$80) -> 16994.833 | D84: =SUMIF($A$3:$A$80,"Metropolitana",D$3:D$80) -> 15973 | E84: =D84/C84 -> 0.93987388 | F84: =SUMIF($A$3:$A$80,"Metropolitana",F$3:F$80) -> 12044 | G84: =F84/C84 -> 0.70868597 | H84: =SUMIF($A$3:$A$80,"Metropolitana",H$3:H$80) -> 9507 | I84: =H84/C84 -> 0.55940531 | J84: =SUMIF($A$3:$A$80,"Metropolitana",J$3:J$80) -> 16041 | K84: =J84/C84 -> 0.9438751 | L84: =SUMIF($A$3:$A$80,"Metropolitana",L$3:L$80) -> 15973 | M84: =L84/C84 -> 0.93987388 | N84: =SUMIF($A$3:$A$80,"Metropolitana",N$3:N$80) -> 15070 | O84: =N84/C84 -> 0.88674009 | P84: =SUMIF($A$3:$A$80,"Metropolitana",P$3:P$80) -> 15173 | Q84: =P84/C84 -> 0.89280075 | R84: =SUMIF($A$3:$A$80,"Metropolitana",R$3:R$80) -> 15209 | S84: =R84/C84 -> 0.89491904 | T84: =SUMIF($A$3:$A$80,"Metropolitana",T$3:T$80) -> 12457 | U84: =T84/C84 -> 0.73298748 | V84: =SUMIF($A$3:$A$80,"Metropolitana",V$3:V$80) -> 15526 | W84: =V84/C84 -> 0.91357177 | X84: =SUMIF($A$3:$A$80,"Metropolitana",X$3:X$80) -> 16353 | Y84: =X84/C84 -> 0.96223362 | Z84: =SUMIF($A$3:$A$80,"Metropolitana",Z$3:Z$80) -> 15049 | AA84: =Z84/C84 -> 0.88550442 | AB84: =SUMIF($A$3:$A$80,"Metropolitana",AB$3:AB$80) -> 16550 | AC84: =AB84/C84 -> 0.97382538 | AE84: =SUMIF($A$3:$A$80,"Metropolitana",AE$3:AE$80) -> 349 | AF84: =AE84/C84 -> 0.020535653 | AH84: =cálculos1!O84 -> 3 | AI84: =AH84*0.1 -> 0.3 | AJ84: =cálculos1!P84 -> 1 | AK84: =AJ84*0.25 -> 0.25
B85: Total Sul | C85: =SUMIF($A$3:$A$80,"sul",C$3:C$80) -> 4765.25 | D85: =SUMIF($A$3:$A$80,"Sul",D$3:D$80) -> 4177 | E85: =D85/C85 -> 0.87655422 | F85: =SUMIF($A$3:$A$80,"Sul",F$3:F$80) -> 2968 | G85: =F85/C85 -> 0.62284245 | H85: =SUMIF($A$3:$A$80,"Sul",H$3:H$80) -> 1906 | I85: =H85/C85 -> 0.39997901 | J85: =SUMIF($A$3:$A$80,"Sul",J$3:J$80) -> 4439 | K85: =J85/C85 -> 0.9315356 | L85: =SUMIF($A$3:$A$80,"Sul",L$3:L$80) -> 4366 | M85: =L85/C85 -> 0.91621636 | N85: =SUMIF($A$3:$A$80,"Sul",N$3:N$80) -> 4396 | O85: =N85/C85 -> 0.92251194 | P85: =SUMIF($A$3:$A$80,"Sul",P$3:P$80) -> 4416 | Q85: =P85/C85 -> 0.92670899 | R85: =SUMIF($A$3:$A$80,"Sul",R$3:R$80) -> 4432 | S85: =R85/C85 -> 0.93006663 | T85: =SUMIF($A$3:$A$80,"Sul",T$3:T$80) -> 3734 | U85: =T85/C85 -> 0.78358953 | V85: =SUMIF($A$3:$A$80,"Sul",V$3:V$80) -> 4441 | W85: =V85/C85 -> 0.9319553 | X85: =SUMIF($A$3:$A$80,"Sul",X$3:X$80) -> 4752 | Y85: =X85/C85 -> 0.99721945 | Z85: =SUMIF($A$3:$A$80,"Sul",Z$3:Z$80) -> 4500 | AA85: =Z85/C85 -> 0.9443366 | AB85: =SUMIF($A$3:$A$80,"Sul",AB$3:AB$80) -> 4583 | AC85: =AB85/C85 -> 0.96175437 | AE85: =SUMIF($A$3:$A$80,"Sul",AE$3:AE$80) -> 70 | AF85: =AE85/C85 -> 0.01468968 | AH85: =cálculos1!O85 -> 3 | AI85: =AH85*0.1 -> 0.3 | AJ85: =cálculos1!P85 -> 1 | AK85: =AJ85*0.25 -> 0.25
B86: Total Espírito Santo | C86: =SUM(C3:C80) -> 29145.083 | D86: =SUM(D82:D85) -> 27680 | E86: =D86/C86 -> 0.94973137 | F86: =SUM(F82:F85) -> 20805 | G86: =F86/C86 -> 0.71384253 | H86: =SUM(H82:H85) -> 16557 | I86: =H86/C86 -> 0.56808896 | J86: =SUM(J82:J85) -> 28009 | K86: =J86/C86 -> 0.96101973 | L86: =SUM(L82:L85) -> 27579 | M86: =L86/C86 -> 0.94626595 | N86: =SUM(N82:N85) -> 26430 | O86: =N86/C86 -> 0.90684249 | P86: =SUM(P82:P85) -> 26571 | Q86: =P86/C86 -> 0.91168036 | R86: =SUM(R82:R85) -> 26697 | S86: =R86/C86 -> 0.91600356 | T86: =SUM(T82:T85) -> 22239 | U86: =T86/C86 -> 0.76304465 | V86: =SUM(V82:V85) -> 26619 | W86: =V86/C86 -> 0.91332729 | X86: =SUM(X82:X85) -> 28317 | Y86: =X86/C86 -> 0.97158755 | Z86: =SUM(Z82:Z85) -> 26235 | AA86: =Z86/C86 -> 0.90015183 | AB86: =SUM(AB82:AB85) -> 28647 | AC86: =AB86/C86 -> 0.98291021 | AE86: =SUM(AE82:AE85) -> 474 | AF86: =AE86/C86 -> 0.016263464 | AH86: =cálculos1!O86 -> 3 | AI86: =AH86*0.1 -> 0.3 | AJ86: =cálculos1!P86 -> 1 | AK86: =AJ86*0.25 -> 0.25
D87: =COUNTIF(E3:E80,">=0,95") -> 9 | F87: =COUNTIF(G3:G80,">=0,95") -> 9 | H87: =COUNTIF(I3:I80,">=0,95") -> 7 | J87: =COUNTIF(K3:K80,">=0,9") -> 10 | L87: =COUNTIF(M3:M80,">=0,95") -> 26 | N87: =COUNTIF(O3:O80,">=0,95") -> 30 | P87: =COUNTIF(Q3:Q80,">=0,95") -> 30 | R87: =COUNTIF(S3:S80,">=0,95") -> 29 | T87: =COUNTIF(U3:U80,">=0,95") -> 25 | V87: =COUNTIF(W3:W80,">=0,95") -> 36 | X87: =COUNTIF(Y3:Y80,">=0,95") -> 54 | Z87: =COUNTIF(AA3:AA80,">=0,95") -> 41 | AB87: =COUNTIF(AC3:AC80,">=0,9") -> 60 | AE87: =COUNTIF(AF3:AF80,">=0,9") -> 0
B88: HOMOGENEIDADE ENTRE MUNICÍPIOS | D88: =D87/78 -> 0.11538462 | F88: =F87/78 -> 0.11538462 | H88: =H87/78 -> 0.08974359 | J88: =J87/78 -> 0.12820513 | L88: =L87/78 -> 0.33333333 | N88: =N87/78 -> 0.38461538 | P88: =P87/78 -> 0.38461538 | R88: =R87/78 -> 0.37179487 | T88: =T87/78 -> 0.32051282 | V88: =V87/78 -> 0.46153846 | X88: =X87/78 -> 0.69230769 | Z88: =Z87/78 -> 0.52564103 | AB88: =AB87/78 -> 0.76923077 | AE88: =AE87/78 -> 0
A91: Fonte: Vacina e Confia, em 10 e 16 de setembro de 2026.**<https://vacinaeconfia.saude.es.gov.br/>
A92: **<https://vacinaeconfia.saude.es.gov.br/> (Relatório Sintético de Cobertura Vacinal de Rotina).
A93: **Dados referente às doses aplicadas de janeiro a julho de 2026
A94: Cobertura Calculada por município de procedência/ocorrência da vacinação
A95: 1 População proporcional estimada extraída do MS/SVSA/CGIAE - Sistema de Informações sobre Nascidos Vivos - SINASC.
A96: Nota: Dados finais disponíveis até 2024. https://datasus.saude.gov.br/nascidos-vivos-desde-1994/
A97: Método de Cálculo Simples
A98: Homogeineidade: O cálculo da Homogeineidade entre vacinas é feito de acordo com a pactuação estabelecida no Plano Plurianual (PPA) vigente no período 2024-2027.
A100: Observações referente a distribuição de imunobiológicos que podem afetar a cobertura vacinal:
A102: 1. Imunobiológicos que foram recebidas parcialmente pelo estado no mês de Julho/2026, sendo distribuídos em quantidades reduzidas às regionais e municípios:
A103: IMUNOGLOBULINA ANTIRRÁBICA HUMANA; SORO ANTIRRÁBICO HUMANO; IMUNOGLOBULINA HUMANA ANTIVARICELA (ZOSTER) - 125 UI
A104: 2. Imunobiológicos enviadas por Pautas aguardando abastecimento do estoque estadual;
... A108: Fonte: Informes situacionais de distribuição de imunobiológicos em https://saude.es.gov.br/GrupodeArquivos/informes-situacionais-de-distribuicao-de-imunobiologicos

Sheet CV Rotina <2A - residência
D1: AO NASCER | L1: MENOR DE 1 ANO | V1: 1 ANO | AB1: MENOR DE 2 ANOS | AE1: MENOR DE 1 ANO
A2: Regional | B2: Município | C2: ¹População < 1 ano e 1 ano | D2: Doses Aplicadas HB ≤30 dias | E2: Cobertura Vacinal HB até 30 dias | F2: Doses Aplicadas HB ≤2 dias | G2: Cobertura Vacinal HB até 2 dias | H2: Doses Aplicadas HB ≤1 dia | I2: Cobertura Vacinal HB até 1 dia | J2: Doses Aplicadas BCG | K2: Cobertura Vacinal BCG | L2: Doses Aplicadas Pentavalente | M2: Cobertura Vacinal Pentavalente | N2: Doses Aplicadas Poliomielite | O2: Cobertura Vacinal Poliomielite | P2: Doses Aplicadas Pneumo 10 | Q2: Cobertura Vacinal Pneumo 10 | R2: Doses Aplicadas Meningo C | S2: Cobertura Vacinal Meningo C | T2: Doses Aplicadas Febre Amarela | U2: Cobertura Vacinal Febre Amarela | V2: Doses Aplicadas Hepatite A | W2: Cobertura Vacinal Hepatite A | X2: Doses Aplicadas de Tríplice Viral | Y2: Cobertura Vacinal Tríplice Viral | Z2: Doses Aplicadas Varicela | AA2: Cobertura Varicela | AB2: Doses Aplicadas Rotavírus | AC2: Cobertura Vacinal Rotavírus | AE2: Doses Aplicadas COVID-19 | AF2: Cobertura Vacinal COVID-19 D1 | AH2: VACINAS QUE ATINGIRAM A META DE CV | AI2: HOMOGENEIDADE ENTRE AS 10 VACINAS | AJ2: VACINAS DO PQA-VS QUE ATINGIRAM A META DE CV | AK2: HOMOGENEIDADE ENTRE AS VACINAS DO PQA-VS
A3: Metropolitana | B3: Afonso Cláudio | C3: 208.25 | D3: 177 | E3: =D3/C3 -> 0.84993998 | F3: 141 | G3: =F3/C3 -> 0.67707083 | H3: 98 | I3: =H3/C3 -> 0.47058824 | J3: 171 | K3: =J3/C3 -> 0.82112845 | L3: 197 | M3: =L3/C3 -> 0.94597839 | N3: 186 | O3: =N3/C3 -> 0.89315726 | P3: 186 | Q3: =P3/C3 -> 0.89315726 | R3: 188 | S3: =R3/C3 -> 0.9027611 | T3: 194 | U3: =T3/C3 -> 0.93157263 | V3: 216 | W3: =V3/C3 -> 1.0372149 | X3: 211 | Y3: =X3/C3 -> 1.0132053 | Z3: 216 | AA3: =Z3/C3 -> 1.0372149 | AB3: 197 | AC3: =AB3/C3 -> 0.94597839 | AE3: 0 | AF3: =AE3/C3 -> 0 | AH3: =cálculos2!O3 -> 4 | AI3: =AH3*0.1 -> 0.4 | AJ3: =cálculos2!P3 -> 1 | AK3: =AJ3*0.25 -> 0.25 | AM3: LEGENDA / HOMOGENEIDADE PQA-VS
A4: Norte | B4: Água Doce do Norte | C4: 113.75 | D4: 90 | E4: =D4/C4 -> 0.79120879 | F4: 44 | G4: =F4/C4 -> 0.38681319 | H4: 37 | I4: =H4/C4 -> 0.32527473 | J4: 90 | K4: =J4/C4 -> 0.79120879 | L4: 83 | M4: =L4/C4 -> 0.72967033 | N4: 85 | O4: =N4/C4 -> 0.74725275 | P4: 85 | Q4: =P4/C4 -> 0.74725275 | R4: 90 | S4: =R4/C4 -> 0.79120879 | T4: 59 | U4: =T4/C4 -> 0.51868132 | V4: 74 | W4: =V4/C4 -> 0.65054945 | X4: 70 | Y4: =X4/C4 -> 0.61538462 | Z4: 76 | AA4: =Z4/C4 -> 0.66813187 | AB4: 90 | AC4: =AB4/C4 -> 0.79120879 | AE4: 0 | AF4: =AE4/C4 -> 0 | AH4: =cálculos2!O4 -> 0 | AI4: =AH4*0.1 -> 0 | AJ4: =cálculos2!P4 -> 0 | AK4: =AJ4*0.25 -> 0 | AM4: PERCENTUAL | AN4: Nº DE MUNICÍPIOS
A5: Central | B5: Águia Branca | C5: 85.75 | D5: 98 | E5: =D5/C5 -> 1.1428571 | F5: 38 | G5: =F5/C5 -> 0.44314869 | H5: 27 | I5: =H5/C5 -> 0.3148688 | J5: 98 | K5: =J5/C5 -> 1.1428571 | L5: 83 | M5: =L5/C5 -> 0.96793003 | N5: 78 | O5: =N5/C5 -> 0.90962099 | P5: 78 | Q5: =P5/C5 -> 0.90962099 | R5: 79 | S5: =R5/C5 -> 0.9212828 | T5: 97 | U5: =T5/C5 -> 1.1311953 | V5: 82 | W5: =V5/C5 -> 0.95626822 | X5: 104 | Y5: =X5/C5 -> 1.212828 | Z5: 86 | AA5: =Z5/C5 -> 1.0029155 | AB5: 84 | AC5: =AB5/C5 -> 0.97959184 | AE5: 4 | AF5: =AE5/C5 -> 0.04664723 | AH5: =cálculos2!O5 -> 7 | AI5: =AH5*0.1 -> 0.7 | AJ5: =cálculos2!P5 -> 2 | AK5: =AJ5*0.25 -> 0.5 | AM5: 0 | AN5: =COUNTIF($AK$3:$AK$80,"=0") -> 18
A6: Sul | B6: Alegre | C6: 173.83333 | D6: 169 | E6: =D6/C6 -> 0.97219559 | F6: 79 | G6: =F6/C6 -> 0.45445829 | H6: 51 | I6: =H6/C6 -> 0.29338447 | J6: 176 | K6: =J6/C6 -> 1.012464 | L6: 156 | M6: =L6/C6 -> 0.89741131 | N6: 162 | O6: =N6/C6 -> 0.93192713 | P6: 162 | Q6: =P6/C6 -> 0.93192713 | R6: 163 | S6: =R6/C6 -> 0.93767977 | T6: 169 | U6: =T6/C6 -> 0.97219559 | V6: 164 | W6: =V6/C6 -> 0.94343241 | X6: 189 | Y6: =X6/C6 -> 1.0872483 | Z6: 169 | AA6: =Z6/C6 -> 0.97219559 | AB6: 160 | AC6: =AB6/C6 -> 0.92042186 | AE6: 9 | AF6: =AE6/C6 -> 0.05177373 | AH6: =cálculos2!O6 -> 5 | AI6: =AH6*0.1 -> 0.5 | AJ6: =cálculos2!P6 -> 1 | AK6: =AJ6*0.25 -> 0.25 | AM6: 0.25 | AN6: =COUNTIF($AK$3:$AK$80,"=0,25") -> 20
A7: Sul | B7: Alfredo Chaves | C7: 71.75 | D7: 65 | E7: =D7/C7 -> 0.90592334 | F7: 59 | G7: =F7/C7 -> 0.82229965 | H7: 43 | I7: =H7/C7 -> 0.59930314 | J7: 73 | K7: =J7/C7 -> 1.0174216 | L7: 67 | M7: =L7/C7 -> 0.93379791 | N7: 63 | O7: =N7/C7 -> 0.87804878 | P7: 66 | Q7: =P7/C7 -> 0.91986063 | R7: 65 | S7: =R7/C7 -> 0.90592334 | T7: 59 | U7: =T7/C7 -> 0.82229965 | V7: 67 | W7: =V7/C7 -> 0.93379791 | X7: 69 | Y7: =X7/C7 -> 0.96167247 | Z7: 70 | AA7: =Z7/C7 -> 0.97560976 | AB7: 68 | AC7: =AB7/C7 -> 0.94773519 | AE7: 1 | AF7: =AE7/C7 -> 0.013937282 | AH7: =cálculos2!O7 -> 4 | AI7: =AH7*0.1 -> 0.4 | AJ7: =cálculos2!P7 -> 1 | AK7: =AJ7*0.25 -> 0.25 | AM7: 0.5 | AN7: =COUNTIF($AK$3:$AK$80,"=0,5") -> 6
A8: Central | B8: Alto Rio Novo | C8: 53.083333 | D8: 65 | E8: =D8/C8 -> 1.2244898 | F8: 45 | G8: =F8/C8 -> 0.8477237 | H8: 37 | I8: =H8/C8 -> 0.69701727 | J8: 70 | K8: =J8/C8 -> 1.3186813 | L8: 54 | M8: =L8/C8 -> 1.0172684 | N8: 53 | O8: =N8/C8 -> 0.99843014 | P8: 53 | Q8: =P8/C8 -> 0.99843014 | R8: 53 | S8: =R8/C8 -> 0.99843014 | T8: 56 | U8: =T8/C8 -> 1.0549451 | V8: 44 | W8: =V8/C8 -> 0.8288854 | X8: 69 | Y8: =X8/C8 -> 1.299843 | Z8: 44 | AA8: =Z8/C8 -> 0.8288854 | AB8: 56 | AC8: =AB8/C8 -> 1.0549451 | AE8: 0 | AF8: =AE8/C8 -> 0 | AH8: =cálculos2!O8 -> 8 | AI8: =AH8*0.1 -> 0.8 | AJ8: =cálculos2!P8 -> 4 | AK8: =AJ8*0.25 -> 1 | AM8: 0.75 | AN8: =COUNTIF($AK$3:$AK$80,"=0,75") -> 10
A9: Sul | B9: Anchieta | C9: 205.91667 | D9: 185 | E9: =D9/C9 -> 0.89842169 | F9: 158 | G9: =F9/C9 -> 0.76730069 | H9: 121 | I9: =H9/C9 -> 0.58761635 | J9: 203 | K9: =J9/C9 -> 0.98583569 | L9: 212 | M9: =L9/C9 -> 1.0295427 | N9: 205 | O9: =N9/C9 -> 0.99554836 | P9: 199 | Q9: =P9/C9 -> 0.96641036 | R9: 199 | S9: =R9/C9 -> 0.96641036 | T9: 157 | U9: =T9/C9 -> 0.76244435 | V9: 248 | W9: =V9/C9 -> 1.2043707 | X9: 218 | Y9: =X9/C9 -> 1.0586807 | Z9: 257 | AA9: =Z9/C9 -> 1.2480777 | AB9: 219 | AC9: =AB9/C9 -> 1.063537 | AE9: 1 | AF9: =AE9/C9 -> 0.0048563335 | AH9: =cálculos2!O9 -> 9 | AI9: =AH9*0.1 -> 0.9 | AJ9: =cálculos2!P9 -> 4 | AK9: =AJ9*0.25 -> 1 | AM9: 1 | AN9: =COUNTIF($AK$3:$AK$80,"=1,0") -> 24
A10: Sul | B10: Apiacá | C10: 43.75 | D10: 10 | E10: =D10/C10 -> 0.22857143 | F10: 3 | G10: =F10/C10 -> 0.068571429 | H10: 1 | I10: =H10/C10 -> 0.022857143 | J10: 39 | K10: =J10/C10 -> 0.89142857 | L10: 38 | M10: =L10/C10 -> 0.86857143 | N10: 35 | O10: =N10/C10 -> 0.8 | P10: 35 | Q10: =P10/C10 -> 0.8 | R10: 35 | S10: =R10/C10 -> 0.8 | T10: 24 | U10: =T10/C10 -> 0.54857143 | V10: 32 | W10: =V10/C10 -> 0.73142857 | X10: 31 | Y10: =X10/C10 -> 0.70857143 | Z10: 26 | AA10: =Z10/C10 -> 0.59428571 | AB10: 34 | AC10: =AB10/C10 -> 0.77714286 | AE10: 0 | AF10: =AE10/C10 -> 0 | AH10: =cálculos2!O10 -> 0 | AI10: =AH10*0.1 -> 0 | AJ10: =cálculos2!P10 -> 0 | AK10: =AJ10*0.25 -> 0
A11: Metropolitana | B11: Aracruz | C11: 796.25 | D11: 425 | E11: =D11/C11 -> 0.53375196 | F11: 217 | G11: =F11/C11 -> 0.27252747 | H11: 151 | I11: =H11/C11 -> 0.18963893 | J11: 441 | K11: =J11/C11 -> 0.55384615 | L11: 680 | M11: =L11/C11 -> 0.85400314 | N11: 739 | O11: =N11/C11 -> 0.92810047 | P11: 736 | Q11: =P11/C11 -> 0.92433281 | R11: 743 | S11: =R11/C11 -> 0.93312402 | T11: 671 | U11: =T11/C11 -> 0.84270016 | V11: 773 | W11: =V11/C11 -> 0.97080063 | X11: 849 | Y11: =X11/C11 -> 1.066248 | Z11: 760 | AA11: =Z11/C11 -> 0.9544741 | AB11: 764 | AC11: =AB11/C11 -> 0.95949765 | AE11: 23 | AF11: =AE11/C11 -> 0.0288854 | AH11: =cálculos2!O11 -> 4 | AI11: =AH11*0.1 -> 0.4 | AJ11: =cálculos2!P11 -> 1 | AK11: =AJ11*0.25 -> 0.25
A12: Sul | B12: Atilio Vivacqua | C12: 92.75 | D12: 77 | E12: =D12/C12 -> 0.83018868 | F12: 63 | G12: =F12/C12 -> 0.67924528 | H12: 33 | I12: =H12/C12 -> 0.35579515 | J12: 78 | K12: =J12/C12 -> 0.84097035 | L12: 70 | M12: =L12/C12 -> 0.75471698 | N12: 69 | O12: =N12/C12 -> 0.74393531 | P12: 66 | Q12: =P12/C12 -> 0.7115903 | R12: 66 | S12: =R12/C12 -> 0.7115903 | T12: 71 | U12: =T12/C12 -> 0.76549865 | V12: 112 | W12: =V12/C12 -> 1.2075472 | X12: 108 | Y12: =X12/C12 -> 1.1644205 | Z12: 115 | AA12: =Z12/C12 -> 1.2398922 | AB12: 78 | AC12: =AB12/C12 -> 0.84097035 | AE12: 1 | AF12: =AE12/C12 -> 0.010781671 | AH12: =cálculos2!O12 -> 3 | AI12: =AH12*0.1 -> 0.3 | AJ12: =cálculos2!P12 -> 1 | AK12: =AJ12*0.25 -> 0.25 | AM12: LEGENDA / HOMOGENEIDADE 10 VACINAS
A13: Central | B13: Baixo Guandu | C13: 203 | D13: 163 | E13: =D13/C13 -> 0.80295567 | F13: 121 | G13: =F13/C13 -> 0.59605911 | H13: 99 | I13: =H13/C13 -> 0.48768473 | J13: 206 | K13: =J13/C13 -> 1.0147783 | L13: 169 | M13: =L13/C13 -> 0.83251232 | N13: 165 | O13: =N13/C13 -> 0.81280788 | P13: 165 | Q13: =P13/C13 -> 0.81280788 | R13: 166 | S13: =R13/C13 -> 0.81773399 | T13: 177 | U13: =T13/C13 -> 0.87192118 | V13: 171 | W13: =V13/C13 -> 0.84236453 | X13: 196 | Y13: =X13/C13 -> 0.96551724 | Z13: 182 | AA13: =Z13/C13 -> 0.89655172 | AB13: 173 | AC13: =AB13/C13 -> 0.85221675 | AE13: 0 | AF13: =AE13/C13 -> 0 | AH13: =cálculos2!O13 -> 2 | AI13: =AH13*0.1 -> 0.2 | AJ13: =cálculos2!P13 -> 1 | AK13: =AJ13*0.25 -> 0.25 | AM13: PERCENTUAL | AN13: Nº DE MUNICÍPIOS
A14: Norte | B14: Barra de São Francisco | C14: 342.41667 | D14: 306 | E14: =D14/C14 -> 0.89364809 | F14: 149 | G14: =F14/C14 -> 0.43514237 | H14: 107 | I14: =H14/C14 -> 0.31248479 | J14: 305 | K14: =J14/C14 -> 0.89072767 | L14: 317 | M14: =L14/C14 -> 0.92577269 | N14: 294 | O14: =N14/C14 -> 0.85860307 | P14: 295 | Q14: =P14/C14 -> 0.86152349 | R14: 300 | S14: =R14/C14 -> 0.87612558 | T14: 263 | U14: =T14/C14 -> 0.76807009 | V14: 262 | W14: =V14/C14 -> 0.76514967 | X14: 316 | Y14: =X14/C14 -> 0.92285228 | Z14: 248 | AA14: =Z14/C14 -> 0.72426381 | AB14: 326 | AC14: =AB14/C14 -> 0.95205646 | AE14: 0 | AF14: =AE14/C14 -> 0 | AH14: =cálculos2!O14 -> 1 | AI14: =AH14*0.1 -> 0.1 | AJ14: =cálculos2!P14 -> 0 | AK14: =AJ14*0.25 -> 0 | AM14: 0 | AN14: =COUNTIF($AI$3:$AI$80,"=0") -> 7
A15: Norte | B15: Boa Esperança | C15: 119 | D15: 99 | E15: =D15/C15 -> 0.83193277 | F15: 95 | G15: =F15/C15 -> 0.79831933 | H15: 94 | I15: =H15/C15 -> 0.78991597 | J15: 91 | K15: =J15/C15 -> 0.76470588 | L15: 109 | M15: =L15/C15 -> 0.91596639 | N15: 110 | O15: =N15/C15 -> 0.92436975 | P15: 105 | Q15: =P15/C15 -> 0.88235294 | R15: 109 | S15: =R15/C15 -> 0.91596639 | T15: 105 | U15: =T15/C15 -> 0.88235294 | V15: 114 | W15: =V15/C15 -> 0.95798319 | X15: 110 | Y15: =X15/C15 -> 0.92436975 | Z15: 109 | AA15: =Z15/C15 -> 0.91596639 | AB15: 115 | AC15: =AB15/C15 -> 0.96638655 | AE15: 0 | AF15: =AE15/C15 -> 0 | AH15: =cálculos2!O15 -> 2 | AI15: =AH15*0.1 -> 0.2 | AJ15: =cálculos2!P15 -> 0 | AK15: =AJ15*0.25 -> 0 | AM15: 0.1 | AN15: =COUNTIFS($AI$3:$AI$80,">=0,10",$AI$3:$AI$80,"<0,20") -> 3
A16: Sul | B16: Bom Jesus do Norte | C16: 46.666667 | D16: 20 | E16: =D16/C16 -> 0.42857143 | F16: 5 | G16: =F16/C16 -> 0.10714286 | H16: 4 | I16: =H16/C16 -> 0.085714286 | J16: 35 | K16: =J16/C16 -> 0.75 | L16: 46 | M16: =L16/C16 -> 0.98571429 | N16: 44 | O16: =N16/C16 -> 0.94285714 | P16: 44 | Q16: =P16/C16 -> 0.94285714 | R16: 43 | S16: =R16/C16 -> 0.92142857 | T16: 48 | U16: =T16/C16 -> 1.0285714 | V16: 53 | W16: =V16/C16 -> 1.1357143 | X16: 65 | Y16: =X16/C16 -> 1.3928571 | Z16: 50 | AA16: =Z16/C16 -> 1.0714286 | AB16: 52 | AC16: =AB16/C16 -> 1.1142857 | AE16: 3 | AF16: =AE16/C16 -> 0.064285714 | AH16: =cálculos2!O16 -> 6 | AI16: =AH16*0.1 -> 0.6 | AJ16: =cálculos2!P16 -> 2 | AK16: =AJ16*0.25 -> 0.5 | AM16: 0.2 | AN16: =COUNTIFS($AI$3:$AI$80,">=0,20",$AI$3:$AI$80,"<0,30") -> 10
A17: Metropolitana | B17: Brejetuba | C17: 121.91667 | D17: 137 | E17: =D17/C17 -> 1.1237184 | F17: 116 | G17: =F17/C17 -> 0.95146958 | H17: 112 | I17: =H17/C17 -> 0.91866029 | J17: 124 | K17: =J17/C17 -> 1.0170882 | L17: 150 | M17: =L17/C17 -> 1.2303486 | N17: 152 | O17: =N17/C17 -> 1.2467532 | P17: 149 | Q17: =P17/C17 -> 1.2221463 | R17: 151 | S17: =R17/C17 -> 1.2385509 | T17: 138 | U17: =T17/C17 -> 1.1319207 | V17: 138 | W17: =V17/C17 -> 1.1319207 | X17: 136 | Y17: =X17/C17 -> 1.1155161 | Z17: 128 | AA17: =Z17/C17 -> 1.0498975 | AB17: 153 | AC17: =AB17/C17 -> 1.2549556 | AE17: 0 | AF17: =AE17/C17 -> 0 | AH17: =cálculos2!O17 -> 10 | AI17: =AH17*0.1 -> 1 | AJ17: =cálculos2!P17 -> 4 | AK17: =AJ17*0.25 -> 1 | AM17: 0.3 | AN17: =COUNTIFS($AI$3:$AI$80,">=0,30",$AI$3:$AI$80,"<0,40") -> 6
A18: Sul | B18: Cachoeiro de Itapemirim | C18: 1404.6667 | D18: 1269 | E18: =D18/C18 -> 0.90341718 | F18: 1031 | G18: =F18/C18 -> 0.73398196 | H18: 591 | I18: =H18/C18 -> 0.42074039 | J18: 1296 | K18: =J18/C18 -> 0.92263882 | L18: 1240 | M18: =L18/C18 -> 0.88277171 | N18: 1211 | O18: =N18/C18 -> 0.86212625 | P18: 1221 | Q18: =P18/C18 -> 0.86924537 | R18: 1240 | S18: =R18/C18 -> 0.88277171 | T18: 972 | U18: =T18/C18 -> 0.69197912 | V18: 1138 | W18: =V18/C18 -> 0.81015662 | X18: 1242 | Y18: =X18/C18 -> 0.88419554 | Z18: 1122 | AA18: =Z18/C18 -> 0.79876602 | AB18: 1296 | AC18: =AB18/C18 -> 0.92263882 | AE18: 19 | AF18: =AE18/C18 -> 0.013526341 | AH18: =cálculos2!O18 -> 2 | AI18: =AH18*0.1 -> 0.2 | AJ18: =cálculos2!P18 -> 0 | AK18: =AJ18*0.25 -> 0 | AM18: 0.4 | AN18: =COUNTIFS($AI$3:$AI$80,">=0,40",$AI$3:$AI$80,"<0,50") -> 9
A19: Metropolitana | B19: Cariacica | C19: 2780.75 | D19: 2503 | E19: =D19/C19 -> 0.90011687 | F19: 1250 | G19: =F19/C19 -> 0.44951901 | H19: 949 | I19: =H19/C19 -> 0.34127484 | J19: 2555 | K19: =J19/C19 -> 0.91881687 | L19: 2472 | M19: =L19/C19 -> 0.8889688 | N19: 2277 | O19: =N19/C19 -> 0.81884384 | P19: 2288 | Q19: =P19/C19 -> 0.8227996 | R19: 2295 | S19: =R19/C19 -> 0.82531691 | T19: 1966 | U19: =T19/C19 -> 0.70700351 | V19: 2259 | W19: =V19/C19 -> 0.81237076 | X19: 2560 | Y19: =X19/C19 -> 0.92061494 | Z19: 2283 | AA19: =Z19/C19 -> 0.82100153 | AB19: 2517 | AC19: =AB19/C19 -> 0.90515149 | AE19: 33 | AF19: =AE19/C19 -> 0.011867302 | AH19: =cálculos2!O19 -> 2 | AI19: =AH19*0.1 -> 0.2 | AJ19: =cálculos2!P19 -> 0 | AK19: =AJ19*0.25 -> 0 | AM19: 0.5 | AN19: =COUNTIFS($AI$3:$AI$80,">=0,50",$AI$3:$AI$80,"<0,60") -> 8
A20: Sul | B20: Castelo | C20: 245 | D20: 233 | E20: =D20/C20 -> 0.95102041 | F20: 177 | G20: =F20/C20 -> 0.72244898 | H20: 121 | I20: =H20/C20 -> 0.49387755 | J20: 234 | K20: =J20/C20 -> 0.95510204 | L20: 242 | M20: =L20/C20 -> 0.9877551 | N20: 244 | O20: =N20/C20 -> 0.99591837 | P20: 247 | Q20: =P20/C20 -> 1.0081633 | R20: 248 | S20: =R20/C20 -> 1.0122449 | T20: 206 | U20: =T20/C20 -> 0.84081633 | V20: 236 | W20: =V20/C20 -> 0.96326531 | X20: 244 | Y20: =X20/C20 -> 0.99591837 | Z20: 238 | AA20: =Z20/C20 -> 0.97142857 | AB20: 249 | AC20: =AB20/C20 -> 1.0163265 | AE20: 1 | AF20: =AE20/C20 -> 0.0040816327 | AH20: =cálculos2!O20 -> 9 | AI20: =AH20*0.1 -> 0.9 | AJ20: =cálculos2!P20 -> 4 | AK20: =AJ20*0.25 -> 1 | AM20: 0.6 | AN20: =COUNTIFS($AI$3:$AI$80,">=0,60",$AI$3:$AI$80,"<0,70") -> 4
A21: Central | B21: Colatina | C21: 876.75 | D21: 885 | E21: =D21/C21 -> 1.0094098 | F21: 524 | G21: =F21/C21 -> 0.59766182 | H21: 402 | I21: =H21/C21 -> 0.45851155 | J21: 893 | K21: =J21/C21 -> 1.0185344 | L21: 782 | M21: =L21/C21 -> 0.89193042 | N21: 755 | O21: =N21/C21 -> 0.86113487 | P21: 753 | Q21: =P21/C21 -> 0.85885372 | R21: 753 | S21: =R21/C21 -> 0.85885372 | T21: 672 | U21: =T21/C21 -> 0.76646707 | V21: 758 | W21: =V21/C21 -> 0.8645566 | X21: 790 | Y21: =X21/C21 -> 0.90105503 | Z21: 747 | AA21: =Z21/C21 -> 0.85201027 | AB21: 812 | AC21: =AB21/C21 -> 0.9261477 | AE21: 13 | AF21: =AE21/C21 -> 0.014827488 | AH21: =cálculos2!O21 -> 2 | AI21: =AH21*0.1 -> 0.2 | AJ21: =cálculos2!P21 -> 0 | AK21: =AJ21*0.25 -> 0 | AM21: 0.7 | AN21: =COUNTIFS($AI$3:$AI$80,">=0,70",$AI$3:$AI$80,"<0,80") -> 6
A22: Norte | B22: Conceição da Barra | C22: 208.25 | D22: 247 | E22: =D22/C22 -> 1.1860744 | F22: 239 | G22: =F22/C22 -> 1.1476591 | H22: 238 | I22: =H22/C22 -> 1.1428571 | J22: 240 | K22: =J22/C22 -> 1.152461 | L22: 213 | M22: =L22/C22 -> 1.0228091 | N22: 224 | O22: =N22/C22 -> 1.0756303 | P22: 216 | Q22: =P22/C22 -> 1.0372149 | R22: 219 | S22: =R22/C22 -> 1.0516206 | T22: 223 | U22: =T22/C22 -> 1.0708283 | V22: 212 | W22: =V22/C22 -> 1.0180072 | X22: 241 | Y22: =X22/C22 -> 1.1572629 | Z22: 227 | AA22: =Z22/C22 -> 1.090036 | AB22: 238 | AC22: =AB22/C22 -> 1.1428571 | AE22: 0 | AF22: =AE22/C22 -> 0 | AH22: =cálculos2!O22 -> 10 | AI22: =AH22*0.1 -> 1 | AJ22: =cálculos2!P22 -> 4 | AK22: =AJ22*0.25 -> 1 | AM22: 0.8 | AN22: =COUNTIFS($AI$3:$AI$80,">=0,80",$AI$3:$AI$80,"<0,90") -> 8
A23: Metropolitana | B23: Conceição do Castelo | C23: 101.5 | D23: 92 | E23: =D23/C23 -> 0.90640394 | F23: 87 | G23: =F23/C23 -> 0.85714286 | H23: 83 | I23: =H23/C23 -> 0.81773399 | J23: 89 | K23: =J23/C23 -> 0.87684729 | L23: 82 | M23: =L23/C23 -> 0.80788177 | N23: 80 | O23: =N23/C23 -> 0.78817734 | P23: 82 | Q23: =P23/C23 -> 0.80788177 | R23: 83 | S23: =R23/C23 -> 0.81773399 | T23: 82 | U23: =T23/C23 -> 0.80788177 | V23: 92 | W23: =V23/C23 -> 0.90640394 | X23: 87 | Y23: =X23/C23 -> 0.85714286 | Z23: 93 | AA23: =Z23/C23 -> 0.91625616 | AB23: 85 | AC23: =AB23/C23 -> 0.83743842 | AE23: 1 | AF23: =AE23/C23 -> 0.0098522167 | AH23: =cálculos2!O23 -> 0 | AI23: =AH23*0.1 -> 0 | AJ23: =cálculos2!P23 -> 0 | AK23: =AJ23*0.25 -> 0 | AM23: 0.9 | AN23: =COUNTIFS($AI$3:$AI$80,">=0,90",$AI$3:$AI$80,"<1,0") -> 7
A24: Sul | B24: Divino de São Lourenço | C24: 33.833333 | D24: 30 | E24: =D24/C24 -> 0.88669951 | F24: 9 | G24: =F24/C24 -> 0.26600985 | H24: 5 | I24: =H24/C24 -> 0.14778325 | J24: 34 | K24: =J24/C24 -> 1.0049261 | L24: 49 | M24: =L24/C24 -> 1.4482759 | N24: 47 | O24: =N24/C24 -> 1.3891626 | P24: 47 | Q24: =P24/C24 -> 1.3891626 | R24: 47 | S24: =R24/C24 -> 1.3891626 | T24: 37 | U24: =T24/C24 -> 1.0935961 | V24: 31 | W24: =V24/C24 -> 0.91625616 | X24: 32 | Y24: =X24/C24 -> 0.94581281 | Z24: 31 | AA24: =Z24/C24 -> 0.91625616 | AB24: 49 | AC24: =AB24/C24 -> 1.4482759 | AE24: 1 | AF24: =AE24/C24 -> 0.02955665 | AH24: =cálculos2!O24 -> 7 | AI24: =AH24*0.1 -> 0.7 | AJ24: =cálculos2!P24 -> 3 | AK24: =AJ24*0.25 -> 0.75 | AM24: 1 | AN24: =COUNTIF($AI$3:$AI$80,">=1,0") -> 10
A25: Metropolitana | B25: Domingos Martins | C25: 249.66667 | D25: 242 | E25: =D25/C25 -> 0.96929239 | F25: 213 | G25: =F25/C25 -> 0.85313752 | H25: 188 | I25: =H25/C25 -> 0.75300401 | J25: 251 | K25: =J25/C25 -> 1.0053405 | L25: 234 | M25: =L25/C25 -> 0.93724967 | N25: 216 | O25: =N25/C25 -> 0.86515354 | P25: 218 | Q25: =P25/C25 -> 0.87316422 | R25: 223 | S25: =R25/C25 -> 0.89319092 | T25: 208 | U25: =T25/C25 -> 0.83311081 | V25: 235 | W25: =V25/C25 -> 0.94125501 | X25: 238 | Y25: =X25/C25 -> 0.95327103 | Z25: 227 | AA25: =Z25/C25 -> 0.90921228 | AB25: 237 | AC25: =AB25/C25 -> 0.94926569 | AE25: 8 | AF25: =AE25/C25 -> 0.032042724 | AH25: =cálculos2!O25 -> 3 | AI25: =AH25*0.1 -> 0.3 | AJ25: =cálculos2!P25 -> 1 | AK25: =AJ25*0.25 -> 0.25
A26: Sul | B26: Dores do Rio Preto | C26: 54.833333 | D26: 38 | E26: =D26/C26 -> 0.69300912 | F26: 13 | G26: =F26/C26 -> 0.23708207 | H26: 8 | I26: =H26/C26 -> 0.14589666 | J26: 38 | K26: =J26/C26 -> 0.69300912 | L26: 41 | M26: =L26/C26 -> 0.74772036 | N26: 40 | O26: =N26/C26 -> 0.72948328 | P26: 41 | Q26: =P26/C26 -> 0.74772036 | R26: 43 | S26: =R26/C26 -> 0.78419453 | T26: 45 | U26: =T26/C26 -> 0.82066869 | V26: 56 | W26: =V26/C26 -> 1.0212766 | X26: 63 | Y26: =X26/C26 -> 1.1489362 | Z26: 58 | AA26: =Z26/C26 -> 1.0577508 | AB26: 44 | AC26: =AB26/C26 -> 0.80243161 | AE26: 5 | AF26: =AE26/C26 -> 0.09118541 | AH26: =cálculos2!O26 -> 3 | AI26: =AH26*0.1 -> 0.3 | AJ26: =cálculos2!P26 -> 1 | AK26: =AJ26*0.25 -> 0.25
A27: Norte | B27: Ecoporanga | C27: 152.83333 | D27: 157 | E27: =D27/C27 -> 1.0272628 | F27: 91 | G27: =F27/C27 -> 0.59541985 | H27: 80 | I27: =H27/C27 -> 0.52344602 | J27: 159 | K27: =J27/C27 -> 1.040349 | L27: 135 | M27: =L27/C27 -> 0.88331516 | N27: 124 | O27: =N27/C27 -> 0.81134133 | P27: 127 | Q27: =P27/C27 -> 0.83097056 | R27: 125 | S27: =R27/C27 -> 0.81788441 | T27: 123 | U27: =T27/C27 -> 0.80479826 | V27: 163 | W27: =V27/C27 -> 1.0665213 | X27: 160 | Y27: =X27/C27 -> 1.046892 | Z27: 151 | AA27: =Z27/C27 -> 0.98800436 | AB27: 138 | AC27: =AB27/C27 -> 0.90294438 | AE27: 2 | AF27: =AE27/C27 -> 0.01308615 | AH27: =cálculos2!O27 -> 5 | AI27: =AH27*0.1 -> 0.5 | AJ27: =cálculos2!P27 -> 1 | AK27: =AJ27*0.25 -> 0.25
A28: Metropolitana | B28: Fundão | C28: 130.66667 | D28: 143 | E28: =D28/C28 -> 1.0943878 | F28: 123 | G28: =F28/C28 -> 0.94132653 | H28: 87 | I28: =H28/C28 -> 0.66581633 | J28: 140 | K28: =J28/C28 -> 1.0714286 | L28: 113 | M28: =L28/C28 -> 0.86479592 | N28: 112 | O28: =N28/C28 -> 0.85714286 | P28: 113 | Q28: =P28/C28 -> 0.86479592 | R28: 112 | S28: =R28/C28 -> 0.85714286 | T28: 102 | U28: =T28/C28 -> 0.78061224 | V28: 140 | W28: =V28/C28 -> 1.0714286 | X28: 138 | Y28: =X28/C28 -> 1.0561224 | Z28: 134 | AA28: =Z28/C28 -> 1.0255102 | AB28: 119 | AC28: =AB28/C28 -> 0.91071429 | AE28: 4 | AF28: =AE28/C28 -> 0.030612245 | AH28: =cálculos2!O28 -> 5 | AI28: =AH28*0.1 -> 0.5 | AJ28: =cálculos2!P28 -> 1 | AK28: =AJ28*0.25 -> 0.25
A29: Central | B29: Governador Lindenberg | C29: 68.25 | D29: 82 | E29: =D29/C29 -> 1.2014652 | F29: 48 | G29: =F29/C29 -> 0.7032967 | H29: 39 | I29: =H29/C29 -> 0.57142857 | J29: 88 | K29: =J29/C29 -> 1.2893773 | L29: 95 | M29: =L29/C29 -> 1.3919414 | N29: 86 | O29: =N29/C29 -> 1.2600733 | P29: 87 | Q29: =P29/C29 -> 1.2747253 | R29: 88 | S29: =R29/C29 -> 1.2893773 | T29: 75 | U29: =T29/C29 -> 1.0989011 | V29: 55 | W29: =V29/C29 -> 0.80586081 | X29: 68 | Y29: =X29/C29 -> 0.996337 | Z29: 56 | AA29: =Z29/C29 -> 0.82051282 | AB29: 96 | AC29: =AB29/C29 -> 1.4065934 | AE29: 0 | AF29: =AE29/C29 -> 0 | AH29: =cálculos2!O29 -> 8 | AI29: =AH29*0.1 -> 0.8 | AJ29: =cálculos2!P29 -> 4 | AK29: =AJ29*0.25 -> 1
A30: Sul | B30: Guaçuí | C30: 233.33333 | D30: 205 | E30: =D30/C30 -> 0.87857143 | F30: 62 | G30: =F30/C30 -> 0.26571429 | H30: 33 | I30: =H30/C30 -> 0.14142857 | J30: 211 | K30: =J30/C30 -> 0.90428571 | L30: 224 | M30: =L30/C30 -> 0.96 | N30: 223 | O30: =N30/C30 -> 0.95571429 | P30: 222 | Q30: =P30/C30 -> 0.95142857 | R30: 220 | S30: =R30/C30 -> 0.94285714 | T30: 185 | U30: =T30/C30 -> 0.79285714 | V30: 175 | W30: =V30/C30 -> 0.75 | X30: 210 | Y30: =X30/C30 -> 0.9 | Z30: 196 | AA30: =Z30/C30 -> 0.84 | AB30: 224 | AC30: =AB30/C30 -> 0.96 | AE30: 1 | AF30: =AE30/C30 -> 0.0042857143 | AH30: =cálculos2!O30 -> 5 | AI30: =AH30*0.1 -> 0.5 | AJ30: =cálculos2!P30 -> 3 | AK30: =AJ30*0.25 -> 0.75
A31: Metropolitana | B31: Guarapari | C31: 998.66667 | D31: 950 | E31: =D31/C31 -> 0.95126836 | F31: 849 | G31: =F31/C31 -> 0.85013351 | H31: 752 | I31: =H31/C31 -> 0.75300401 | J31: 970 | K31: =J31/C31 -> 0.97129506 | L31: 911 | M31: =L31/C31 -> 0.91221629 | N31: 862 | O31: =N31/C31 -> 0.86315087 | P31: 872 | Q31: =P31/C31 -> 0.87316422 | R31: 873 | S31: =R31/C31 -> 0.87416555 | T31: 653 | U31: =T31/C31 -> 0.65387183 | V31: 788 | W31: =V31/C31 -> 0.78905207 | X31: 906 | Y31: =X31/C31 -> 0.90720961 | Z31: 709 | AA31: =Z31/C31 -> 0.7099466 | AB31: 942 | AC31: =AB31/C31 -> 0.94325768 | AE31: 12 | AF31: =AE31/C31 -> 0.012016021 | AH31: =cálculos2!O31 -> 2 | AI31: =AH31*0.1 -> 0.2 | AJ31: =cálculos2!P31 -> 0 | AK31: =AJ31*0.25 -> 0
A32: Metropolitana | B32: Ibatiba | C32: 221.66667 | D32: 210 | E32: =D32/C32 -> 0.94736842 | F32: 49 | G32: =F32/C32 -> 0.22105263 | H32: 39 | I32: =H32/C32 -> 0.17593985 | J32: 209 | K32: =J32/C32 -> 0.94285714 | L32: 209 | M32: =L32/C32 -> 0.94285714 | N32: 222 | O32: =N32/C32 -> 1.0015038 | P32: 223 | Q32: =P32/C32 -> 1.006015 | R32: 222 | S32: =R32/C32 -> 1.0015038 | T32: 205 | U32: =T32/C32 -> 0.92481203 | V32: 196 | W32: =V32/C32 -> 0.88421053 | X32: 220 | Y32: =X32/C32 -> 0.9924812 | Z32: 230 | AA32: =Z32/C32 -> 1.037594 | AB32: 206 | AC32: =AB32/C32 -> 0.92932331 | AE32: 0 | AF32: =AE32/C32 -> 0 | AH32: =cálculos2!O32 -> 7 | AI32: =AH32*0.1 -> 0.7 | AJ32: =cálculos2!P32 -> 3 | AK32: =AJ32*0.25 -> 0.75
A33: Metropolitana | B33: Ibiraçu | C33: 91.583333 | D33: 36 | E33: =D33/C33 -> 0.39308462 | F33: 14 | G33: =F33/C33 -> 0.15286624 | H33: 10 | I33: =H33/C33 -> 0.10919017 | J33: 34 | K33: =J33/C33 -> 0.37124659 | L33: 65 | M33: =L33/C33 -> 0.70973612 | N33: 60 | O33: =N33/C33 -> 0.65514104 | P33: 62 | Q33: =P33/C33 -> 0.67697907 | R33: 61 | S33: =R33/C33 -> 0.66606005 | T33: 61 | U33: =T33/C33 -> 0.66606005 | V33: 80 | W33: =V33/C33 -> 0.87352138 | X33: 73 | Y33: =X33/C33 -> 0.79708826 | Z33: 82 | AA33: =Z33/C33 -> 0.89535942 | AB33: 65 | AC33: =AB33/C33 -> 0.70973612 | AE33: 0 | AF33: =AE33/C33 -> 0 | AH33: =cálculos2!O33 -> 0 | AI33: =AH33*0.1 -> 0 | AJ33: =cálculos2!P33 -> 0 | AK33: =AJ33*0.25 -> 0
A34: Sul | B34: Ibitirama | C34: 86.916667 | D34: 87 | E34: =D34/C34 -> 1.0009588 | F34: 24 | G34: =F34/C34 -> 0.27612656 | H34: 15 | I34: =H34/C34 -> 0.1725791 | J34: 95 | K34: =J34/C34 -> 1.093001 | L34: 72 | M34: =L34/C34 -> 0.82837967 | N34: 77 | O34: =N34/C34 -> 0.88590604 | P34: 73 | Q34: =P34/C34 -> 0.83988495 | R34: 73 | S34: =R34/C34 -> 0.83988495 | T34: 72 | U34: =T34/C34 -> 0.82837967 | V34: 96 | W34: =V34/C34 -> 1.1045062 | X34: 99 | Y34: =X34/C34 -> 1.1390221 | Z34: 96 | AA34: =Z34/C34 -> 1.1045062 | AB34: 77 | AC34: =AB34/C34 -> 0.88590604 | AE34: 2 | AF34: =AE34/C34 -> 0.023010547 | AH34: =cálculos2!O34 -> 4 | AI34: =AH34*0.1 -> 0.4 | AJ34: =cálculos2!P34 -> 1 | AK34: =AJ34*0.25 -> 0.25
A35: Sul | B35: Iconha | C35: 70.583333 | D35: 66 | E35: =D35/C35 -> 0.93506494 | F35: 48 | G35: =F35/C35 -> 0.68004723 | H35: 38 | I35: =H35/C35 -> 0.53837072 | J35: 69 | K35: =J35/C35 -> 0.97756789 | L35: 72 | M35: =L35/C35 -> 1.0200708 | N35: 73 | O35: =N35/C35 -> 1.0342385 | P35: 75 | Q35: =P35/C35 -> 1.0625738 | R35: 75 | S35: =R35/C35 -> 1.0625738 | T35: 70 | U35: =T35/C35 -> 0.99173554 | V35: 80 | W35: =V35/C35 -> 1.133412 | X35: 77 | Y35: =X35/C35 -> 1.0909091 | Z35: 75 | AA35: =Z35/C35 -> 1.0625738 | AB35: 74 | AC35: =AB35/C35 -> 1.0484061 | AE35: 3 | AF35: =AE35/C35 -> 0.042502952 | AH35: =cálculos2!O35 -> 10 | AI35: =AH35*0.1 -> 1 | AJ35: =cálculos2!P35 -> 4 | AK35: =AJ35*0.25 -> 1
A36: Sul | B36: Irupi | C36: 105.58333 | D36: 70 | E36: =D36/C36 -> 0.66298343 | F36: 25 | G36: =F36/C36 -> 0.23677979 | H36: 17 | I36: =H36/C36 -> 0.16101026 | J36: 81 | K36: =J36/C36 -> 0.76716654 | L36: 105 | M36: =L36/C36 -> 0.99447514 | N36: 124 | O36: =N36/C36 -> 1.1744278 | P36: 128 | Q36: =P36/C36 -> 1.2123125 | R36: 128 | S36: =R36/C36 -> 1.2123125 | T36: 129 | U36: =T36/C36 -> 1.2217837 | V36: 93 | W36: =V36/C36 -> 0.88082084 | X36: 110 | Y36: =X36/C36 -> 1.0418311 | Z36: 103 | AA36: =Z36/C36 -> 0.97553275 | AB36: 110 | AC36: =AB36/C36 -> 1.0418311 | AE36: 1 | AF36: =AE36/C36 -> 0.0094711918 | AH36: =cálculos2!O36 -> 8 | AI36: =AH36*0.1 -> 0.8 | AJ36: =cálculos2!P36 -> 4 | AK36: =AJ36*0.25 -> 1
... A80: Metropolitana | B80: Vitória | C80: 2040.5 | D80: 2030 | E80: =D80/C80 -> 0.9948542 | F80: 1727 | G80: =F80/C80 -> 0.84636119 | H80: 1435 | I80: =H80/C80 -> 0.70325901 | J80: 2046 | K80: =J80/C80 -> 1.0026954 | L80: 2442 | M80: =L80/C80 -> 1.1967655 | N80: 2240 | O80: =N80/C80 -> 1.0977702 | P80: 2266 | Q80: =P80/C80 -> 1.1105121 | R80: 2236 | S80: =R80/C80 -> 1.0958099 | T80: 1517 | U80: =T80/C80 -> 0.74344523 | V80: 2535 | W80: =V80/C80 -> 1.2423426 | X80: 2460 | Y80: =X80/C80 -> 1.2055869 | Z80: 2454 | AA80: =Z80/C80 -> 1.2026464 | AB80: 2458 | AC80: =AB80/C80 -> 1.2046067 | AE80: 94 | AF80: =AE80/C80 -> 0.04606714 | AH80: =cálculos2!O80 -> 9 | AI80: =AH80*0.1 -> 0.9 | AJ80: =cálculos2!P80 -> 4 | AK80: =AJ80*0.25 -> 1
B82: Total Norte | C82: =SUMIF($A$3:$A$80,"Norte",C$3:C$80) -> 3313.3333 | D82: =SUMIF($A$3:$A$80,"Norte",D$3:D$80) -> 3339 | E82: =D82/C82 -> 1.0077465 | F82: =SUMIF($A$3:$A$80,"Norte",F$3:F$80) -> 2857 | G82: =F82/C82 -> 0.86227364 | H82: =SUMIF($A$3:$A$80,"Norte",H$3:H$80) -> 2746 | I82: =H82/C82 -> 0.82877264 | J82: =SUMIF($A$3:$A$80,"Norte",J$3:J$80) -> 3270 | K82: =J82/C82 -> 0.98692153 | L82: =SUMIF($A$3:$A$80,"Norte",L$3:L$80) -> 3275 | M82: =L82/C82 -> 0.98843058 | N82: =SUMIF($A$3:$A$80,"Norte",N$3:N$80) -> 3164 | O82: =N82/C82 -> 0.95492958 | P82: =SUMIF($A$3:$A$80,"Norte",P$3:P$80) -> 3167 | Q82: =P82/C82 -> 0.95583501 | R82: =SUMIF($A$3:$A$80,"Norte",R$3:R$80) -> 3207 | S82: =R82/C82 -> 0.96790744 | T82: =SUMIF($A$3:$A$80,"Norte",T$3:T$80) -> 2659 | U82: =T82/C82 -> 0.80251509 | V82: =SUMIF($A$3:$A$80,"Norte",V$3:V$80) -> 2979 | W82: =V82/C82 -> 0.89909457 | X82: =SUMIF($A$3:$A$80,"Norte",X$3:X$80) -> 3273 | Y82: =X82/C82 -> 0.98782696 | Z82: =SUMIF($A$3:$A$80,"Norte",Z$3:Z$80) -> 2877 | AA82: =Z82/C82 -> 0.86830986 | AB82: =SUMIF($A$3:$A$80,"Norte",AB$3:AB$80) -> 3387 | AC82: =AB82/C82 -> 1.0222334 | AE82: =SUMIF($A$3:$A$80,"Norte",AE$3:AE$80) -> 15 | AF82: =AE82/C82 -> 0.004527163 | AH82: =cálculos2!O82 -> 7 | AI82: =AH82*0.1 -> 0.7 | AJ82: =cálculos2!P82 -> 4 | AK82: =AJ82*0.25 -> 1
B83: Total Central | C83: =SUMIF($A$3:$A$80,"Central",C$3:C$80) -> 4071.6667 | D83: =SUMIF($A$3:$A$80,"Central",D$3:D$80) -> 4150 | E83: =D83/C83 -> 1.0192386 | F83: =SUMIF($A$3:$A$80,"Central",F$3:F$80) -> 2901 | G83: =F83/C83 -> 0.71248465 | H83: =SUMIF($A$3:$A$80,"Central",H$3:H$80) -> 2358 | I83: =H83/C83 -> 0.57912403 | J83: =SUMIF($A$3:$A$80,"Central",J$3:J$80) -> 4224 | K83: =J83/C83 -> 1.037413 | L83: =SUMIF($A$3:$A$80,"Central",L$3:L$80) -> 3827 | M83: =L83/C83 -> 0.93990995 | N83: =SUMIF($A$3:$A$80,"Central",N$3:N$80) -> 3678 | O83: =N83/C83 -> 0.9033156 | P83: =SUMIF($A$3:$A$80,"Central",P$3:P$80) -> 3705 | Q83: =P83/C83 -> 0.90994679 | R83: =SUMIF($A$3:$A$80,"Central",R$3:R$80) -> 3730 | S83: =R83/C83 -> 0.91608678 | T83: =SUMIF($A$3:$A$80,"Central",T$3:T$80) -> 3305 | U83: =T83/C83 -> 0.81170692 | V83: =SUMIF($A$3:$A$80,"Central",V$3:V$80) -> 3572 | W83: =V83/C83 -> 0.87728203 | X83: =SUMIF($A$3:$A$80,"Central",X$3:X$80) -> 3807 | Y83: =X83/C83 -> 0.93499795 | Z83: =SUMIF($A$3:$A$80,"Central",Z$3:Z$80) -> 3678 | AA83: =Z83/C83 -> 0.9033156 | AB83: =SUMIF($A$3:$A$80,"Central",AB$3:AB$80) -> 3973 | AC83: =AB83/C83 -> 0.9757675 | AE83: =SUMIF($A$3:$A$80,"Central",AE$3:AE$80) -> 42 | AF83: =AE83/C83 -> 0.010315186 | AH83: =cálculos2!O83 -> 2 | AI83: =AH83*0.1 -> 0.2 | AJ83: =cálculos2!P83 -> 0 | AK83: =AJ83*0.25 -> 0
B84: Total Metropolitana | C84: =SUMIF($A$3:$A$80,"Metropolitana",C$3:C$80) -> 16994.833 | D84: =SUMIF($A$3:$A$80,"Metropolitana",D$3:D$80) -> 15854 | E84: =D84/C84 -> 0.93287176 | F84: =SUMIF($A$3:$A$80,"Metropolitana",F$3:F$80) -> 11938 | G84: =F84/C84 -> 0.70244878 | H84: =SUMIF($A$3:$A$80,"Metropolitana",H$3:H$80) -> 9415 | I84: =H84/C84 -> 0.5539919 | J84: =SUMIF($A$3:$A$80,"Metropolitana",J$3:J$80) -> 15941 | K84: =J84/C84 -> 0.93799096 | L84: =SUMIF($A$3:$A$80,"Metropolitana",L$3:L$80) -> 15732 | M84: =L84/C84 -> 0.9256931 | N84: =SUMIF($A$3:$A$80,"Metropolitana",N$3:N$80) -> 14846 | O84: =N84/C84 -> 0.87355961 | P84: =SUMIF($A$3:$A$80,"Metropolitana",P$3:P$80) -> 14967 | Q84: =P84/C84 -> 0.88067942 | R84: =SUMIF($A$3:$A$80,"Metropolitana",R$3:R$80) -> 14991 | S84: =R84/C84 -> 0.88209162 | T84: =SUMIF($A$3:$A$80,"Metropolitana",T$3:T$80) -> 12325 | U84: =T84/C84 -> 0.72522041 | V84: =SUMIF($A$3:$A$80,"Metropolitana",V$3:V$80) -> 15265 | W84: =V84/C84 -> 0.89821416 | X84: =SUMIF($A$3:$A$80,"Metropolitana",X$3:X$80) -> 16164 | Y84: =X84/C84 -> 0.95111259 | Z84: =SUMIF($A$3:$A$80,"Metropolitana",Z$3:Z$80) -> 14815 | AA84: =Z84/C84 -> 0.87173553 | AB84: =SUMIF($A$3:$A$80,"Metropolitana",AB$3:AB$80) -> 16291 | AC84: =AB84/C84 -> 0.95858545 | AE84: =SUMIF($A$3:$A$80,"Metropolitana",AE$3:AE$80) -> 342 | AF84: =AE84/C84 -> 0.020123763 | AH84: =cálculos2!O84 -> 3 | AI84: =AH84*0.1 -> 0.3 | AJ84: =cálculos2!P84 -> 1 | AK84: =AJ84*0.25 -> 0.25
B85: Total Sul | C85: =SUMIF($A$3:$A$80,"sul",C$3:C$80) -> 4765.25 | D85: =SUMIF($A$3:$A$80,"Sul",D$3:D$80) -> 4232 | E85: =D85/C85 -> 0.88809611 | F85: =SUMIF($A$3:$A$80,"Sul",F$3:F$80) -> 3031 | G85: =F85/C85 -> 0.63606317 | H85: =SUMIF($A$3:$A$80,"Sul",H$3:H$80) -> 1974 | I85: =H85/C85 -> 0.41424899 | J85: =SUMIF($A$3:$A$80,"Sul",J$3:J$80) -> 4443 | K85: =J85/C85 -> 0.93237501 | L85: =SUMIF($A$3:$A$80,"Sul",L$3:L$80) -> 4363 | M85: =L85/C85 -> 0.9155868 | N85: =SUMIF($A$3:$A$80,"Sul",N$3:N$80) -> 4369 | O85: =N85/C85 -> 0.91684592 | P85: =SUMIF($A$3:$A$80,"Sul",P$3:P$80) -> 4377 | Q85: =P85/C85 -> 0.91852474 | R85: =SUMIF($A$3:$A$80,"Sul",R$3:R$80) -> 4399 | S85: =R85/C85 -> 0.92314149 | T85: =SUMIF($A$3:$A$80,"Sul",T$3:T$80) -> 3687 | U85: =T85/C85 -> 0.77372646 | V85: =SUMIF($A$3:$A$80,"Sul",V$3:V$80) -> 4412 | W85: =V85/C85 -> 0.92586958 | X85: =SUMIF($A$3:$A$80,"Sul",X$3:X$80) -> 4682 | Y85: =X85/C85 -> 0.98252977 | Z85: =SUMIF($A$3:$A$80,"Sul",Z$3:Z$80) -> 4457 | AA85: =Z85/C85 -> 0.93531294 | AB85: =SUMIF($A$3:$A$80,"Sul",AB$3:AB$80) -> 4551 | AC85: =AB85/C85 -> 0.95503909 | AE85: =SUMIF($A$3:$A$80,"Sul",AE$3:AE$80) -> 71 | AF85: =AE85/C85 -> 0.014899533 | AH85: =cálculos2!O85 -> 3 | AI85: =AH85*0.1 -> 0.3 | AJ85: =cálculos2!P85 -> 1 | AK85: =AJ85*0.25 -> 0.25
B86: Total Espírito Santo | C86: =SUM(C3:C80) -> 29145.083 | D86: =SUM(D82:D85) -> 27575 | E86: =D86/C86 -> 0.94612871 | F86: =SUM(F82:F85) -> 20727 | G86: =F86/C86 -> 0.71116626 | H86: =SUM(H82:H85) -> 16493 | I86: =H86/C86 -> 0.56589305 | J86: =SUM(J82:J85) -> 27878 | K86: =J86/C86 -> 0.95652497 | L86: =SUM(L82:L85) -> 27197 | M86: =L86/C86 -> 0.93315911 | N86: =SUM(N82:N85) -> 26057 | O86: =N86/C86 -> 0.89404445 | P86: =SUM(P82:P85) -> 26216 | Q86: =P86/C86 -> 0.89949992 | R86: =SUM(R82:R85) -> 26327 | S86: =R86/C86 -> 0.90330845 | T86: =SUM(T82:T85) -> 21976 | U86: =T86/C86 -> 0.75402083 | V86: =SUM(V82:V85) -> 26228 | W86: =V86/C86 -> 0.89991165 | X86: =SUM(X82:X85) -> 27926 | Y86: =X86/C86 -> 0.9581719 | Z86: =SUM(Z82:Z85) -> 25827 | AA86: =Z86/C86 -> 0.8861529 | AB86: =SUM(AB82:AB85) -> 28202 | AC86: =AB86/C86 -> 0.96764177 | AE86: =SUM(AE82:AE85) -> 470 | AF86: =AE86/C86 -> 0.016126219 | AH86: =cálculos2!O86 -> 3 | AI86: =AH86*0.1 -> 0.3 | AJ86: =cálculos2!P86 -> 1 | AK86: =AJ86*0.25 -> 0.25
D87: =COUNTIF(E3:E80,">=0,95") -> 39 | F87: =COUNTIF(G3:G80,">=0,95") -> 8 | H87: =COUNTIF(I3:I80,">=0,95") -> 4 | J87: =COUNTIF(K3:K80,">=0,9") -> 57 | L87: =COUNTIF(M3:M80,">=0,95") -> 36 | N87: =COUNTIF(O3:O80,">=0,95") -> 36 | P87: =COUNTIF(Q3:Q80,">=0,95") -> 34 | R87: =COUNTIF(S3:S80,">=0,95") -> 33 | T87: =COUNTIF(U3:U80,">=0,95") -> 23 | V87: =COUNTIF(W3:W80,">=0,95") -> 36 | X87: =COUNTIF(Y3:Y80,">=0,95") -> 52 | Z87: =COUNTIF(AA3:AA80,">=0,95") -> 42 | AB87: =COUNTIF(AC3:AC80,">=0,9") -> 61 | AE87: =COUNTIF(AF3:AF80,">=0,9") -> 0
B88: HOMOGENEIDADE ENTRE MUNICÍPIOS | D88: =D87/78 -> 0.5 | F88: =F87/78 -> 0.1025641 | H88: =H87/78 -> 0.051282051 | J88: =J87/78 -> 0.73076923 | L88: =L87/78 -> 0.46153846 | N88: =N87/78 -> 0.46153846 | P88: =P87/78 -> 0.43589744 | R88: =R87/78 -> 0.42307692 | T88: =T87/78 -> 0.29487179 | V88: =V87/78 -> 0.46153846 | X88: =X87/78 -> 0.66666667 | Z88: =Z87/78 -> 0.53846154 | AB88: =AB87/78 -> 0.78205128 | AE88: =AE87/78 -> 0
A91: Fonte: Vacina e Confia, em 10 e 16 de setembro de 2026.
A92: **<https://vacinaeconfia.saude.es.gov.br/> (Relatório Sintético de Cobertura Vacinal de Rotina).
A93: **Dados referente às doses aplicadas de janeiro a julho de 2026
A94: Cobertura Calculada por município de residência da vacinação
A95: 1 População proporcional estimada extraída do MS/SVSA/CGIAE - Sistema de Informações sobre Nascidos Vivos - SINASC.
A96: Nota: Dados finais disponíveis até 2024. https://datasus.saude.gov.br/nascidos-vivos-desde-1994/
A97: Método de Cálculo Simples
A98: Homogeineidade: O cálculo da Homogeineidade entre vacinas é feito de acordo com a pactuação estabelecida no Plano Plurianual (PPA) vigente no período 2024-2027.
A100: Observações referente a distribuição de imunobiológicos que podem afetar a cobertura vacinal:
A102: 1. Imunobiológicos que foram recebidas parcialmente pelo estado no mês de Julho/2026, sendo distribuídos em quantidades reduzidas às regionais e municípios:
A103: IMUNOGLOBULINA ANTIRRÁBICA HUMANA; SORO ANTIRRÁBICO HUMANO; IMUNOGLOBULINA HUMANA ANTIVARICELA (ZOSTER) - 125 UI
A104: 2. Imunobiológicos enviadas por Pautas aguardando abastecimento do estoque estadual;
... A108: Fonte: Informes situacionais de distribuição de imunobiológicos em https://saude.es.gov.br/GrupodeArquivos/informes-situacionais-de-distribuicao-de-imunobiologicos

Sheet CV REF 1A e 4A - procedência
E1: D2 | I1: REFORÇOS 1 ANO | Q1: REFORÇOS 4 ANOS
A2: Regional | B2: Município | C2: ¹População 1 ano | D2: ²População 4 anos | E2: DOSES APLICADAS D2 TRÍPLICE VIRAL | F2: COBERTURA D2 TRÍPLICE VIRAL | G2: DOSES APLICADAS D2 VARICELA | H2: COBERTURA D2 VARICELA | I2: DOSES APLICADAS REF PNEUMO | J2: COBERTURA REF PNEUMO | K2: DOSES APLICADAS REF MENINGO | L2: COBERTURA REF MENINGO | M2: DOSES APLICADAS REF POLIO | N2: COBERTURA REF POLIO | O2: DOSES APLICADAS R1 TRÍPLICE BACTERIANA | P2: COBERTURA R1 TRÍPLICE BACTERIANA | Q2: DOSES APLICADAS REF FEBRE AMARELA | R2: COBERTURA REF FEBRE AMARELA | S2: DOSES APLICADAS R2 TRÍPLICE BACTERIANA | T2: COBERTURA R2 TRÍPLICE BACTERIANA
A3: Metropolitana | B3: Afonso Cláudio | C3: 208.25 | D3: 242.66667 | E3: 216 | F3: =E3/C3 -> 1.0372149 | G3: 199 | H3: =G3/D3 -> 0.82005495 | I3: 222 | J3: =I3/C3 -> 1.0660264 | K3: 221 | L3: =K3/C3 -> 1.0612245 | M3: 222 | N3: =M3/C3 -> 1.0660264 | O3: 221 | P3: =O3/C3 -> 1.0612245 | Q3: 202 | R3: 0 | S3: 206 | T3: =S3/D3 -> 0.8489011
A4: Norte | B4: Água Doce do Norte | C4: 113.75 | D4: 88.083333 | E4: 80 | F4: =E4/C4 -> 0.7032967 | G4: 66 | H4: =G4/D4 -> 0.74929044 | I4: 68 | J4: =I4/C4 -> 0.5978022 | K4: 78 | L4: =K4/C4 -> 0.68571429 | M4: 82 | N4: =M4/C4 -> 0.72087912 | O4: 80 | P4: =O4/C4 -> 0.7032967 | Q4: 78 | R4: 0 | S4: 91 | T4: =S4/D4 -> 1.0331126
A5: Central | B5: Águia Branca | C5: 85.75 | D5: 75.25 | E5: 81 | F5: =E5/C5 -> 0.94460641 | G5: 92 | H5: =G5/D5 -> 1.2225914 | I5: 82 | J5: =I5/C5 -> 0.95626822 | K5: 97 | L5: =K5/C5 -> 1.1311953 | M5: 76 | N5: =M5/C5 -> 0.88629738 | O5: 76 | P5: =O5/C5 -> 0.88629738 | Q5: 90 | R5: 0 | S5: 89 | T5: =S5/D5 -> 1.1827243
A6: Sul | B6: Alegre | C6: 173.83333 | D6: 217 | E6: 167 | F6: =E6/C6 -> 0.96069032 | G6: 185 | H6: =G6/D6 -> 0.85253456 | I6: 215 | J6: =I6/C6 -> 1.2368169 | K6: 212 | L6: =K6/C6 -> 1.219559 | M6: 188 | N6: =M6/C6 -> 1.0814957 | O6: 171 | P6: =O6/C6 -> 0.98370086 | Q6: 164 | R6: 0 | S6: 161 | T6: =S6/D6 -> 0.74193548
A7: Sul | B7: Alfredo Chaves | C7: 71.75 | D7: 80.5 | E7: 75 | F7: =E7/C7 -> 1.0452962 | G7: 70 | H7: =G7/D7 -> 0.86956522 | I7: 66 | J7: =I7/C7 -> 0.91986063 | K7: 87 | L7: =K7/C7 -> 1.2125436 | M7: 72 | N7: =M7/C7 -> 1.0034843 | O7: 61 | P7: =O7/C7 -> 0.85017422 | Q7: 66 | R7: 0 | S7: 67 | T7: =S7/D7 -> 0.83229814
A8: Central | B8: Alto Rio Novo | C8: 53.083333 | D8: 59.5 | E8: 50 | F8: =E8/C8 -> 0.94191523 | G8: 55 | H8: =G8/D8 -> 0.92436975 | I8: 56 | J8: =I8/C8 -> 1.0549451 | K8: 67 | L8: =K8/C8 -> 1.2621664 | M8: 46 | N8: =M8/C8 -> 0.86656201 | O8: 45 | P8: =O8/C8 -> 0.8477237 | Q8: 53 | R8: 0 | S8: 53 | T8: =S8/D8 -> 0.8907563
A9: Sul | B9: Anchieta | C9: 205.91667 | D9: 227.5 | E9: 251 | F9: =E9/C9 -> 1.2189397 | G9: 248 | H9: =G9/D9 -> 1.0901099 | I9: 195 | J9: =I9/C9 -> 0.94698503 | K9: 224 | L9: =K9/C9 -> 1.0878187 | M9: 225 | N9: =M9/C9 -> 1.092675 | O9: 224 | P9: =O9/C9 -> 1.0878187 | Q9: 225 | R9: 0 | S9: 248 | T9: =S9/D9 -> 1.0901099
A10: Sul | B10: Apiacá | C10: 43.75 | D10: 52.5 | E10: 35 | F10: =E10/C10 -> 0.8 | G10: 30 | H10: =G10/D10 -> 0.57142857 | I10: 35 | J10: =I10/C10 -> 0.8 | K10: 41 | L10: =K10/C10 -> 0.93714286 | M10: 34 | N10: =M10/C10 -> 0.77714286 | O10: 26 | P10: =O10/C10 -> 0.59428571 | Q10: 8 | R10: 0 | S10: 30 | T10: =S10/D10 -> 0.57142857
A11: Metropolitana | B11: Aracruz | C11: 796.25 | D11: 828.33333 | E11: 746 | F11: =E11/C11 -> 0.93689168 | G11: 687 | H11: =G11/D11 -> 0.82937626 | I11: 751 | J11: =I11/C11 -> 0.94317111 | K11: 870 | L11: =K11/C11 -> 1.0926217 | M11: 723 | N11: =M11/C11 -> 0.90800628 | O11: 689 | P11: =O11/C11 -> 0.86530612 | Q11: 633 | R11: 0 | S11: 726 | T11: =S11/D11 -> 0.87645875
A12: Sul | B12: Atilio Vivacqua | C12: 92.75 | D12: 80.5 | E12: 108 | F12: =E12/C12 -> 1.1644205 | G12: 86 | H12: =G12/D12 -> 1.068323 | I12: 94 | J12: =I12/C12 -> 1.0134771 | K12: 102 | L12: =K12/C12 -> 1.0997305 | M12: 103 | N12: =M12/C12 -> 1.1105121 | O12: 99 | P12: =O12/C12 -> 1.0673854 | Q12: 74 | R12: 0 | S12: 74 | T12: =S12/D12 -> 0.91925466
A13: Central | B13: Baixo Guandu | C13: 203 | D13: 249.08333 | E13: 180 | F13: =E13/C13 -> 0.88669951 | G13: 195 | H13: =G13/D13 -> 0.78287053 | I13: 219 | J13: =I13/C13 -> 1.0788177 | K13: 216 | L13: =K13/C13 -> 1.0640394 | M13: 177 | N13: =M13/C13 -> 0.87192118 | O13: 176 | P13: =O13/C13 -> 0.86699507 | Q13: 184 | R13: 0 | S13: 208 | T13: =S13/D13 -> 0.83506189
A14: Norte | B14: Barra de São Francisco | C14: 342.41667 | D14: 343.58333 | E14: 261 | F14: =E14/C14 -> 0.76222925 | G14: 218 | H14: =G14/D14 -> 0.63448945 | I14: 324 | J14: =I14/C14 -> 0.94621562 | K14: 331 | L14: =K14/C14 -> 0.96665855 | M14: 269 | N14: =M14/C14 -> 0.7855926 | O14: 265 | P14: =O14/C14 -> 0.77391093 | Q14: 185 | R14: 0 | S14: 219 | T14: =S14/D14 -> 0.63739995
... A80: Metropolitana | B80: Vitória | C80: 2040.5 | D80: 2235.9167 | E80: 1866 | F80: =E80/C80 -> 0.91448174 | G80: 1348 | H80: =G80/D80 -> 0.60288472 | I80: 2513 | J80: =I80/C80 -> 1.2315609 | K80: 2315 | L80: =K80/C80 -> 1.1345259 | M80: 1897 | N80: =M80/C80 -> 0.9296741 | O80: 1754 | P80: =O80/C80 -> 0.85959324 | Q80: 1411 | R80: 0 | S80: 1770 | T80: =S80/D80 -> 0.79162163
B82: Total Norte | C82: =SUMIF($A$3:$A$80,"Norte",C$3:C$80) -> 3313.3333 | D82: =SUMIF($A$3:$A$80,"Norte",D$3:D$80) -> 3376.9167 | E82: =SUMIF($A$3:$A$80,"Norte",E$3:E$80) -> 2867 | F82: =E82/C82 -> 0.86529175 | G82: =SUMIF($A$3:$A$80,"Norte",G$3:G$80) -> 2651 | H82: =G82/D82 -> 0.78503566 | I82: =SUMIF($A$3:$A$80,"Norte",I$3:I$80) -> 3308 | J82: =I82/C82 -> 0.99839034 | K82: =SUMIF($A$3:$A$80,"Norte",K$3:K$80) -> 3407 | L82: =K82/C82 -> 1.0282696 | M82: =SUMIF($A$3:$A$80,"Norte",M$3:M$80) -> 3116 | N82: =M82/C82 -> 0.94044266 | O82: =SUMIF($A$3:$A$80,"Norte",O$3:O$80) -> 2896 | P82: =O82/C82 -> 0.87404427 | Q82: =SUMIF($A$3:$A$80,"Norte",Q$3:Q$80) -> 2346 | R82: =Q82/D82 -> 0.69471658 | S82: =SUMIF($A$3:$A$80,"Norte",S$3:S$80) -> 2812 | T82: =S82/D82 -> 0.83271229
B83: Total Central | C83: =SUMIF($A$3:$A$80,"Central",C$3:C$80) -> 4071.6667 | D83: =SUMIF($A$3:$A$80,"Central",D$3:D$80) -> 3991.75 | E83: =SUMIF($A$3:$A$80,"Central",E$3:E$80) -> 3514 | F83: =E83/C83 -> 0.86303725 | G83: =SUMIF($A$3:$A$80,"Central",G$3:G$80) -> 3188 | H83: =G83/D83 -> 0.79864721 | I83: =SUMIF($A$3:$A$80,"Central",I$3:I$80) -> 3828 | J83: =I83/C83 -> 0.94015555 | K83: =SUMIF($A$3:$A$80,"Central",K$3:K$80) -> 3986 | L83: =K83/C83 -> 0.97896029 | M83: =SUMIF($A$3:$A$80,"Central",M$3:M$80) -> 3594 | N83: =M83/C83 -> 0.88268522 | O83: =SUMIF($A$3:$A$80,"Central",O$3:O$80) -> 3341 | P83: =O83/C83 -> 0.82054851 | Q83: =SUMIF($A$3:$A$80,"Central",Q$3:Q$80) -> 2836 | R83: =Q83/D83 -> 0.71046533 | S83: =SUMIF($A$3:$A$80,"Central",S$3:S$80) -> 3164 | T83: =S83/D83 -> 0.79263481
B84: Total Metropolitana | C84: =SUMIF($A$3:$A$80,"Metropolitana",C$3:C$80) -> 16994.833 | D84: =SUMIF($A$3:$A$80,"Metropolitana",D$3:D$80) -> 17614.917 | E84: =SUMIF($A$3:$A$80,"Metropolitana",E$3:E$80) -> 14080 | F84: =E84/C84 -> 0.82848709 | G84: =SUMIF($A$3:$A$80,"Metropolitana",G$3:G$80) -> 12857 | H84: =G84/D84 -> 0.72989275 | I84: =SUMIF($A$3:$A$80,"Metropolitana",I$3:I$80) -> 16261 | J84: =I84/C84 -> 0.95682021 | K84: =SUMIF($A$3:$A$80,"Metropolitana",K$3:K$80) -> 16885 | L84: =K84/C84 -> 0.99353725 | M84: =SUMIF($A$3:$A$80,"Metropolitana",M$3:M$80) -> 15071 | N84: =M84/C84 -> 0.88679893 | O84: =SUMIF($A$3:$A$80,"Metropolitana",O$3:O$80) -> 13955 | P84: =O84/C84 -> 0.82113191 | Q84: =SUMIF($A$3:$A$80,"Metropolitana",Q$3:Q$80) -> 12068 | R84: =Q84/D84 -> 0.68510117 | S84: =SUMIF($A$3:$A$80,"Metropolitana",S$3:S$80) -> 14240 | T84: =S84/D84 -> 0.80840575
B85: Total Sul | C85: =SUMIF($A$3:$A$80,"sul",C$3:C$80) -> 4765.25 | D85: =SUMIF($A$3:$A$80,"sul",D$3:D$80) -> 5068 | E85: =SUMIF($A$3:$A$80,"sul",E$3:E$80) -> 4359 | F85: =E85/C85 -> 0.91474739 | G85: =SUMIF($A$3:$A$80,"sul",G$3:G$80) -> 3876 | H85: =G85/D85 -> 0.76479874 | I85: =SUMIF($A$3:$A$80,"Sul",I$3:I$80) -> 4578 | J85: =I85/C85 -> 0.9607051 | K85: =SUMIF($A$3:$A$80,"Sul",K$3:K$80) -> 4845 | L85: =K85/C85 -> 1.0167357 | M85: =SUMIF($A$3:$A$80,"Sul",M$3:M$80) -> 4489 | N85: =M85/C85 -> 0.94202823 | O85: =SUMIF($A$3:$A$80,"Sul",O$3:O$80) -> 4233 | P85: =O85/C85 -> 0.88830597 | Q85: =SUMIF($A$3:$A$80,"Sul",Q$3:Q$80) -> 3329 | R85: =Q85/D85 -> 0.65686661 | S85: =SUMIF($A$3:$A$80,"Sul",S$3:S$80) -> 3973 | T85: =S85/D85 -> 0.78393844
B86: Total Espírito Santo | C86: =SUM(C3:C80) -> 29145.083 | D86: =SUM(D3:D80) -> 30051.583 | E86: =SUM(E3:E80) -> 24820 | F86: =E86/C86 -> 0.85160161 | G86: =SUM(G3:G80) -> 22572 | H86: =G86/D86 -> 0.75110851 | I86: =SUM(I3:I80) -> 27975 | J86: =I86/C86 -> 0.95985315 | K86: =SUM(K3:K80) -> 29123 | L86: =K86/C86 -> 0.9992423 | M86: =SUM(M3:M80) -> 26270 | N86: =M86/C86 -> 0.90135272 | O86: =SUM(O3:O80) -> 24425 | P86: =O86/C86 -> 0.83804873 | Q86: =SUM(Q3:Q80) -> 20579 | R86: =Q86/D86 -> 0.68478921 | S86: =SUM(S3:S80) -> 24189 | T86: =S86/D86 -> 0.80491599
A91: Fonte: Vacina e Confia, em 10 e 16 de setembro de 2026.
A92: **<https://vacinaeconfia.saude.es.gov.br/> (Relatório Sintético de Cobertura Vacinal de Rotina).
A93: **Dados referente às doses aplicadas de janeiro a maio de 2026
A94: Cobertura Calculada por município de procedência/ocorrência da vacinação
A95: 1 População proporcional estimada extraída do MS/SVSA/CGIAE - Sistema de Informações sobre Nascidos Vivos - SINASC.
A96: Nota: Dados finais disponíveis até 2024. https://datasus.saude.gov.br/nascidos-vivos-desde-1994/
A97: Método de Cálculo Simples
A98: Homogeineidade: O cálculo da Homogeineidade entre vacinas é feito de acordo com a pactuação estabelecida no Plano Plurianual (PPA) vigente no período 2024-2027.
A100: Observações referente a distribuição de imunobiológicos que podem afetar a cobertura vacinal:
A102: 1. Imunobiológicos que foram recebidas parcialmente pelo estado no mês de Julho/2026, sendo distribuídos em quantidades reduzidas às regionais e municípios:
A103: IMUNOGLOBULINA ANTIRRÁBICA HUMANA; SORO ANTIRRÁBICO HUMANO; IMUNOGLOBULINA HUMANA ANTIVARICELA (ZOSTER) - 125 UI
A104: 2. Imunobiológicos enviadas por Pautas aguardando abastecimento do estoque estadual;
... A108: Fonte: Informes situacionais de distribuição de imunobiológicos em https://saude.es.gov.br/GrupodeArquivos/informes-situacionais-de-distribuicao-de-imunobiologicos

Sheet CV REF 1A e 4A - residência
E1: D2 | I1: REFORÇOS 1 ANO | Q1: REFORÇOS 4 ANOS
A2: Regional | B2: Município | C2: ¹População 1 ano proporcional | D2: ²População 4 anos proporcional | E2: DOSES APLICADAS D2 TRÍPLICE VIRAL | F2: COBERTURA D2 TRÍPLICE VIRAL | G2: DOSES APLICADAS D2 VARICELA | H2: COBERTURA D2 VARICELA | I2: DOSES APLICADAS REF PNEUMO | J2: COBERTURA REF PNEUMO | K2: DOSES APLICADAS REF MENINGO | L2: COBERTURA REF MENINGO | M2: DOSES APLICADAS REF POLIO | N2: COBERTURA REF POLIO | O2: DOSES APLICADAS R1 TRÍPLICE BACTERIANA | P2: COBERTURA R1 TRÍPLICE BACTERIANA | Q2: DOSES APLICADAS REF FEBRE AMARELA | R2: COBERTURA REF FEBRE AMARELA | S2: DOSES APLICADAS R2 TRÍPLICE BACTERIANA | T2: COBERTURA R2 TRÍPLICE BACTERIANA
A3: Metropolitana | B3: Afonso Cláudio | C3: 208.25 | D3: 242.66667 | E3: 212 | F3: =E3/C3 -> 1.0180072 | G3: 218 | H3: =G3/D3 -> 0.89835165 | I3: 216 | J3: =I3/C3 -> 1.0372149 | K3: 216 | L3: =K3/C3 -> 1.0372149 | M3: 208 | N3: =M3/C3 -> 0.99879952 | O3: 208 | P3: =O3/C3 -> 0.99879952 | Q3: 219 | R3: =Q3/D3 -> 0.90247253 | S3: 235 | T3: =S3/D3 -> 0.96840659
A4: Norte | B4: Água Doce do Norte | C4: 113.75 | D4: 88.083333 | E4: 75 | F4: =E4/C4 -> 0.65934066 | G4: 61 | H4: =G4/D4 -> 0.69252602 | I4: 63 | J4: =I4/C4 -> 0.55384615 | K4: 71 | L4: =K4/C4 -> 0.62417582 | M4: 77 | N4: =M4/C4 -> 0.67692308 | O4: 76 | P4: =O4/C4 -> 0.66813187 | Q4: 75 | R4: =Q4/D4 -> 0.85146641 | S4: 83 | T4: =S4/D4 -> 0.9422895
A5: Central | B5: Águia Branca | C5: 85.75 | D5: 75.25 | E5: 85 | F5: =E5/C5 -> 0.99125364 | G5: 82 | H5: =G5/D5 -> 1.089701 | I5: 100 | J5: =I5/C5 -> 1.1661808 | K5: 105 | L5: =K5/C5 -> 1.2244898 | M5: 84 | N5: =M5/C5 -> 0.97959184 | O5: 81 | P5: =O5/C5 -> 0.94460641 | Q5: 78 | R5: =Q5/D5 -> 1.0365449 | S5: 81 | T5: =S5/D5 -> 1.076412
A6: Sul | B6: Alegre | C6: 173.83333 | D6: 217 | E6: 158 | F6: =E6/C6 -> 0.90891659 | G6: 192 | H6: =G6/D6 -> 0.88479263 | I6: 183 | J6: =I6/C6 -> 1.0527325 | K6: 191 | L6: =K6/C6 -> 1.0987536 | M6: 167 | N6: =M6/C6 -> 0.96069032 | O6: 164 | P6: =O6/C6 -> 0.94343241 | Q6: 174 | R6: =Q6/D6 -> 0.80184332 | S6: 169 | T6: =S6/D6 -> 0.77880184
A7: Sul | B7: Alfredo Chaves | C7: 71.75 | D7: 80.5 | E7: 69 | F7: =E7/C7 -> 0.96167247 | G7: 66 | H7: =G7/D7 -> 0.81987578 | I7: 70 | J7: =I7/C7 -> 0.97560976 | K7: 79 | L7: =K7/C7 -> 1.1010453 | M7: 65 | N7: =M7/C7 -> 0.90592334 | O7: 59 | P7: =O7/C7 -> 0.82229965 | Q7: 58 | R7: =Q7/D7 -> 0.72049689 | S7: 62 | T7: =S7/D7 -> 0.77018634
A8: Central | B8: Alto Rio Novo | C8: 53.083333 | D8: 59.5 | E8: 44 | F8: =E8/C8 -> 0.8288854 | G8: 55 | H8: =G8/D8 -> 0.92436975 | I8: 58 | J8: =I8/C8 -> 1.0926217 | K8: 67 | L8: =K8/C8 -> 1.2621664 | M8: 43 | N8: =M8/C8 -> 0.8100471 | O8: 41 | P8: =O8/C8 -> 0.77237049 | Q8: 52 | R8: =Q8/D8 -> 0.87394958 | S8: 54 | T8: =S8/D8 -> 0.90756303
A9: Sul | B9: Anchieta | C9: 205.91667 | D9: 227.5 | E9: 253 | F9: =E9/C9 -> 1.2286524 | G9: 268 | H9: =G9/D9 -> 1.178022 | I9: 207 | J9: =I9/C9 -> 1.005261 | K9: 227 | L9: =K9/C9 -> 1.1023877 | M9: 235 | N9: =M9/C9 -> 1.1412384 | O9: 239 | P9: =O9/C9 -> 1.1606637 | Q9: 241 | R9: =Q9/D9 -> 1.0593407 | S9: 267 | T9: =S9/D9 -> 1.1736264
A10: Sul | B10: Apiacá | C10: 43.75 | D10: 52.5 | E10: 30 | F10: =E10/C10 -> 0.68571429 | G10: 25 | H10: =G10/D10 -> 0.47619048 | I10: 31 | J10: =I10/C10 -> 0.70857143 | K10: 34 | L10: =K10/C10 -> 0.77714286 | M10: 30 | N10: =M10/C10 -> 0.68571429 | O10: 24 | P10: =O10/C10 -> 0.54857143 | Q10: 6 | R10: =Q10/D10 -> 0.11428571 | S10: 22 | T10: =S10/D10 -> 0.41904762
A11: Metropolitana | B11: Aracruz | C11: 796.25 | D11: 828.33333 | E11: 740 | F11: =E11/C11 -> 0.92935636 | G11: 660 | H11: =G11/D11 -> 0.79678068 | I11: 745 | J11: =I11/C11 -> 0.93563579 | K11: 845 | L11: =K11/C11 -> 1.0612245 | M11: 729 | N11: =M11/C11 -> 0.9155416 | O11: 687 | P11: =O11/C11 -> 0.86279435 | Q11: 613 | R11: =Q11/D11 -> 0.74004024 | S11: 705 | T11: =S11/D11 -> 0.85110664
A12: Sul | B12: Atilio Vivacqua | C12: 92.75 | D12: 80.5 | E12: 112 | F12: =E12/C12 -> 1.2075472 | G12: 91 | H12: =G12/D12 -> 1.1304348 | I12: 98 | J12: =I12/C12 -> 1.0566038 | K12: 106 | L12: =K12/C12 -> 1.1428571 | M12: 112 | N12: =M12/C12 -> 1.2075472 | O12: 106 | P12: =O12/C12 -> 1.1428571 | Q12: 79 | R12: =Q12/D12 -> 0.98136646 | S12: 78 | T12: =S12/D12 -> 0.9689441
A13: Central | B13: Baixo Guandu | C13: 203 | D13: 249.08333 | E13: 176 | F13: =E13/C13 -> 0.86699507 | G13: 188 | H13: =G13/D13 -> 0.75476748 | I13: 203 | J13: =I13/C13 -> 1 | K13: 205 | L13: =K13/C13 -> 1.0098522 | M13: 167 | N13: =M13/C13 -> 0.8226601 | O13: 164 | P13: =O13/C13 -> 0.80788177 | Q13: 174 | R13: =Q13/D13 -> 0.69856139 | S13: 187 | T13: =S13/D13 -> 0.75075276
A14: Norte | B14: Barra de São Francisco | C14: 342.41667 | D14: 343.58333 | E14: 256 | F14: =E14/C14 -> 0.74762716 | G14: 225 | H14: =G14/D14 -> 0.65486296 | I14: 316 | J14: =I14/C14 -> 0.92285228 | K14: 330 | L14: =K14/C14 -> 0.96373814 | M14: 270 | N14: =M14/C14 -> 0.78851302 | O14: 260 | P14: =O14/C14 -> 0.75930883 | Q14: 196 | R14: =Q14/D14 -> 0.5704584 | S14: 229 | T14: =S14/D14 -> 0.66650497
... A80: Metropolitana | B80: Vitória | C80: 2040.5 | D80: 2235.9167 | E80: 2014 | F80: =E80/C80 -> 0.98701299 | G80: 1347 | H80: =G80/D80 -> 0.60243748 | I80: 2448 | J80: =I80/C80 -> 1.199706 | K80: 2504 | L80: =K80/C80 -> 1.2271502 | M80: 1926 | N80: =M80/C80 -> 0.9438863 | O80: 1827 | P80: =O80/C80 -> 0.89536878 | Q80: 1424 | R80: =Q80/D80 -> 0.63687526 | S80: 1664 | T80: =S80/D80 -> 0.74421378
B82: Total Norte | C82: =SUMIF($A$3:$A$80,"Norte",C$3:C$80) -> 3313.3333 | D82: =SUMIF($A$3:$A$80,"Norte",D$3:D$80) -> 3376.9167 | E82: =SUMIF($A$3:$A$80,"Norte",E$3:E$80) -> 2814 | F82: =E82/C82 -> 0.84929577 | G82: =SUMIF($A$3:$A$80,"Norte",G$3:G$80) -> 2611 | H82: =G82/D82 -> 0.77319053 | I82: =SUMIF($A$3:$A$80,"Norte",I$3:I$80) -> 3259 | J82: =I82/C82 -> 0.98360161 | K82: =SUMIF($A$3:$A$80,"Norte",K$3:K$80) -> 3354 | L82: =K82/C82 -> 1.0122736 | M82: =SUMIF($A$3:$A$80,"Norte",M$3:M$80) -> 3051 | N82: =M82/C82 -> 0.92082495 | O82: =SUMIF($A$3:$A$80,"Norte",O$3:O$80) -> 2860 | P82: =O82/C82 -> 0.86317907 | Q82: =SUMIF($A$3:$A$80,"Norte",Q$3:Q$80) -> 2311 | R82: =Q82/D82 -> 0.6843521 | S82: =SUMIF($A$3:$A$80,"Norte",S$3:S$80) -> 2766 | T82: =S82/D82 -> 0.81909039
B83: Total Central | C83: =SUMIF($A$3:$A$80,"Central",C$3:C$80) -> 4071.6667 | D83: =SUMIF($A$3:$A$80,"Central",D$3:D$80) -> 3991.75 | E83: =SUMIF($A$3:$A$80,"Central",E$3:E$80) -> 3455 | F83: =E83/C83 -> 0.84854687 | G83: =SUMIF($A$3:$A$80,"Central",G$3:G$80) -> 3091 | H83: =G83/D83 -> 0.77434709 | I83: =SUMIF($A$3:$A$80,"Central",I$3:I$80) -> 3726 | J83: =I83/C83 -> 0.91510438 | K83: =SUMIF($A$3:$A$80,"Central",K$3:K$80) -> 3885 | L83: =K83/C83 -> 0.95415473 | M83: =SUMIF($A$3:$A$80,"Central",M$3:M$80) -> 3522 | N83: =M83/C83 -> 0.86500205 | O83: =SUMIF($A$3:$A$80,"Central",O$3:O$80) -> 3282 | P83: =O83/C83 -> 0.80605813 | Q83: =SUMIF($A$3:$A$80,"Central",Q$3:Q$80) -> 2761 | R83: =Q83/D83 -> 0.69167658 | S83: =SUMIF($A$3:$A$80,"Central",S$3:S$80) -> 3067 | T83: =S83/D83 -> 0.76833469
B84: Total Metropolitana | C84: =SUMIF($A$3:$A$80,"Metropolitana",C$3:C$80) -> 16994.833 | D84: =SUMIF($A$3:$A$80,"Metropolitana",D$3:D$80) -> 17614.917 | E84: =SUMIF($A$3:$A$80,"Metropolitana",E$3:E$80) -> 13886 | F84: =E84/C84 -> 0.81707186 | G84: =SUMIF($A$3:$A$80,"Metropolitana",G$3:G$80) -> 12481 | H84: =G84/D84 -> 0.70854721 | I84: =SUMIF($A$3:$A$80,"Metropolitana",I$3:I$80) -> 16014 | J84: =I84/C84 -> 0.94228638 | K84: =SUMIF($A$3:$A$80,"Metropolitana",K$3:K$80) -> 16689 | L84: =K84/C84 -> 0.98200433 | M84: =SUMIF($A$3:$A$80,"Metropolitana",M$3:M$80) -> 14827 | N84: =M84/C84 -> 0.87244162 | O84: =SUMIF($A$3:$A$80,"Metropolitana",O$3:O$80) -> 13711 | P84: =O84/C84 -> 0.80677461 | Q84: =SUMIF($A$3:$A$80,"Metropolitana",Q$3:Q$80) -> 11728 | R84: =Q84/D84 -> 0.66579935 | S84: =SUMIF($A$3:$A$80,"Metropolitana",S$3:S$80) -> 13795 | T84: =S84/D84 -> 0.78314307
B85: Total Sul | C85: =SUMIF($A$3:$A$80,"sul",C$3:C$80) -> 4765.25 | D85: =SUMIF($A$3:$A$80,"sul",D$3:D$80) -> 5068 | E85: =SUMIF($A$3:$A$80,"sul",E$3:E$80) -> 4320 | F85: =E85/C85 -> 0.90656314 | G85: =SUMIF($A$3:$A$80,"sul",G$3:G$80) -> 3818 | H85: =G85/D85 -> 0.75335438 | I85: =SUMIF($A$3:$A$80,"sul",I$3:I$80) -> 4525 | J85: =I85/C85 -> 0.94958292 | K85: =SUMIF($A$3:$A$80,"sul",K$3:K$80) -> 4780 | L85: =K85/C85 -> 1.0030953 | M85: =SUMIF($A$3:$A$80,"sul",M$3:M$80) -> 4452 | N85: =M85/C85 -> 0.93426368 | O85: =SUMIF($A$3:$A$80,"sul",O$3:O$80) -> 4205 | P85: =O85/C85 -> 0.88243009 | Q85: =SUMIF($A$3:$A$80,"sul",Q$3:Q$80) -> 3282 | R85: =Q85/D85 -> 0.64759274 | S85: =SUMIF($A$3:$A$80,"sul",S$3:S$80) -> 3928 | T85: =S85/D85 -> 0.77505919
B86: Total Espírito Santo | C86: =SUM(C3:C80) -> 29145.083 | D86: =SUM(D3:D80) -> 30051.583 | E86: =SUM(E3:E80) -> 24475 | F86: =E86/C86 -> 0.83976428 | G86: =SUM(G3:G80) -> 22001 | H86: =G86/D86 -> 0.73210785 | I86: =SUM(I3:I80) -> 27524 | J86: =I86/C86 -> 0.94437884 | K86: =SUM(K3:K80) -> 28708 | L86: =K86/C86 -> 0.98500319 | M86: =SUM(M3:M80) -> 25852 | N86: =M86/C86 -> 0.88701067 | O86: =SUM(O3:O80) -> 24058 | P86: =O86/C86 -> 0.82545655 | Q86: =SUM(Q3:Q80) -> 20082 | R86: =Q86/D86 -> 0.66825098 | S86: =SUM(S3:S80) -> 23556 | T86: =S86/D86 -> 0.78385221
A91: Fonte: Vacina e Confia, em 10e 16 de setembro de 2026.
A92: **<https://vacinaeconfia.saude.es.gov.br/> (Relatório Sintético de Cobertura Vacinal de Rotina).
A93: **Dados referente às doses aplicadas de janeiro a Junho de 2026
A94: Cobertura Calculada por município de procedência/ocorrência da vacinação
A95: 1 População proporcional estimada extraída do MS/SVSA/CGIAE - Sistema de Informações sobre Nascidos Vivos - SINASC.
A96: Nota: Dados finais disponíveis até 2024. https://datasus.saude.gov.br/nascidos-vivos-desde-1994/
A97: Método de Cálculo Simples
A98: Homogeineidade: O cálculo da Homogeineidade entre vacinas é feito de acordo com a pactuação estabelecida no Plano Plurianual (PPA) vigente no período 2024-2027.
A100: Observações referente a distribuição de imunobiológicos que podem afetar a cobertura vacinal:
A102: 1. Imunobiológicos que foram recebidas parcialmente pelo estado no mês de Julho/2026, sendo distribuídos em quantidades reduzidas às regionais e municípios:
A103: IMUNOGLOBULINA ANTIRRÁBICA HUMANA; SORO ANTIRRÁBICO HUMANO; IMUNOGLOBULINA HUMANA ANTIVARICELA (ZOSTER) - 125 UI
A104: 2. Imunobiológicos enviadas por Pautas aguardando abastecimento do estoque estadual;
... A108: Fonte: Informes situacionais de distribuição de imunobiológicos em https://saude.es.gov.br/GrupodeArquivos/informes-situacionais-de-distribuicao-de-imunobiologicos

Sheet Cobert. COVID-19 Menores 4 anos
A1: Regional | B1: Município | C1: Série Histórica
A2: Região Metropolitana | B2: Afonso Cláudio
A3: Região Norte | B3: Água Doce do Norte
A4: Região Central | B4: Águia Branca
A5: Região Sul | B5: Alegre
A6: Região Sul | B6: Alfredo Chaves
A7: Região Central | B7: Alto Rio Novo
A8: Região Sul | B8: Anchieta
A9: Região Sul | B9: Apiacá
A10: Região Metropolitana | B10: Aracruz
A11: Região Sul | B11: Atilio Vivacqua
A12: Região Central | B12: Baixo Guandu
A13: Região Norte | B13: Barra de São Francisco
... A79: Região Metropolitana | B79: Vitória
B81: Espírito Santo
B82: Região Norte
B83: Região Central
B84: Região Metropolitana
B85: Região Sul
A87: Pfizer Pediátrica Menor de 5 anos e Coronavac
A88: Período avaliado: 2021-2024
A89: Fonte: https://www.vacinaeconfia.es.gov.br
A90: *Dados de janeiro/2024 extraídos do Vacina e Confia em 04/01/2024
A91: População proporcional extraída do SINASC 2022 (menores de 1 ano) e Censo IBGE 2022 (demais idades)
A92: Cobertura Calculada por município de procedência da vacinação

Sheet dTpa gestantes - procedência
A1: Regional | B1: Município | C1: ¹População | D1: Doses Aplicadas | E1: Cobertura Vacinal %
A2: Metropolitana | B2: Afonso Cláudio | C2: 208.25 | D2: 212 | E2: =D2/C2 -> 1.0180072
A3: Norte | B3: Água Doce do Norte | C3: 113.75 | D3: 101 | E3: =D3/C3 -> 0.88791209
A4: Central | B4: Águia Branca | C4: 85.75 | D4: 95 | E4: =D4/C4 -> 1.1078717
A5: Sul | B5: Alegre | C5: 173.83333 | D5: 176 | E5: =D5/C5 -> 1.012464
A6: Sul | B6: Alfredo Chaves | C6: 71.75 | D6: 83 | E6: =D6/C6 -> 1.1567944
A7: Central | B7: Alto Rio Novo | C7: 53.083333 | D7: 54 | E7: =D7/C7 -> 1.0172684
A8: Sul | B8: Anchieta | C8: 205.91667 | D8: 222 | E8: =D8/C8 -> 1.078106
A9: Sul | B9: Apiacá | C9: 43.75 | D9: 29 | E9: =D9/C9 -> 0.66285714
A10: Metropolitana | B10: Aracruz | C10: 796.25 | D10: 894 | E10: =D10/C10 -> 1.122763
A11: Sul | B11: Atilio Vivacqua | C11: 92.75 | D11: 84 | E11: =D11/C11 -> 0.90566038
A12: Central | B12: Baixo Guandu | C12: 203 | D12: 177 | E12: =D12/C12 -> 0.87192118
A13: Norte | B13: Barra de São Francisco | C13: 342.41667 | D13: 290 | E13: =D13/C13 -> 0.84692139
... A79: Metropolitana | B79: Vitória | C79: 2040.5 | D79: 2129 | E79: =D79/C79 -> 1.0433717
B81: Total Norte | C81: =SUMIF($A$2:$A$79,"Norte",C$2:C$79) -> 3313.3333 | D81: =SUMIF($A$2:$A$79,"Norte",D$2:D$79) -> 3403 | E81: =D81/C81 -> 1.0270624
B82: Total Central | C82: =SUMIF($A$2:$A$79,"CENTRAL",C$2:C$79) -> 4071.6667 | D82: =SUMIF($A$2:$A$79,"CENTRAL",D$2:D$79) -> 3995 | E82: =D82/C82 -> 0.98117069
B83: Total Metropolitana | C83: =SUMIF($A$2:$A$79,"METROPOLITANA",C$2:C$79) -> 16994.833 | D83: =SUMIF($A$2:$A$79,"METROPOLITANA",D$2:D$79) -> 16474 | E83: =D83/C83 -> 0.96935343
B84: Total Sul | C84: =SUMIF($A$2:$A$79,"SUL",C$2:C$79) -> 4765.25 | D84: =SUMIF($A$2:$A$79,"SUL",D$2:D$79) -> 4654 | E84: =D84/C84 -> 0.9766539
B85: TOTAL ES | C85: =SUM(C2:C79) -> 29145.083 | D85: =SUM(D2:D79) -> 28526 | E85: =D85/C85 -> 0.97875857
B86: HOMOGENEIDADE ENTRE MUNICÍPIOS | E86: =COUNTIF(E2:E79,">=0,95")/78 -> 0.67948718
A91: Fonte: Vacina e Confia, em 16 de setembro de 2026.
A92: **<https://vacinaeconfia.saude.es.gov.br/> (Relatório Sintético de Cobertura Vacinal de Rotina).
A93: **Dados referente às doses aplicadas de janeiro a julho de 2026
A94: Cobertura Calculada por município de procedência/ocorrência da vacinação
A95: 1 População proporcional estimada extraída do MS/SVSA/CGIAE - Sistema de Informações sobre Nascidos Vivos - SINASC.
A96: Nota: Dados finais disponíveis até 2024. https://datasus.saude.gov.br/nascidos-vivos-desde-1994/
A97: Método de Cálculo Simples
A98: Homogeineidade: O cálculo da Homogeineidade entre vacinas é feito de acordo com a pactuação estabelecida no Plano Plurianual (PPA) vigente no período 2024-2027.
A100: Observações referente a distribuição de imunobiológicos que podem afetar a cobertura vacinal:
A102: 1. Imunobiológicos que foram recebidas parcialmente pelo estado no mês de Julho/2026, sendo distribuídos em quantidades reduzidas às regionais e municípios:
A103: IMUNOGLOBULINA ANTIRRÁBICA HUMANA; SORO ANTIRRÁBICO HUMANO; IMUNOGLOBULINA HUMANA ANTIVARICELA (ZOSTER) - 125 UI
A104: 2. Imunobiológicos enviadas por Pautas aguardando abastecimento do estoque estadual;
... A108: Fonte: Informes situacionais de distribuição de imunobiológicos em https://saude.es.gov.br/GrupodeArquivos/informes-situacionais-de-distribuicao-de-imunobiologicos

Sheet dTpa gestantes - residência
A1: Regional | B1: Município | C1: ¹População | D1: Total de Doses Aplicadas | E1: Cobertura Vacinal %
A2: Metropolitana | B2: Afonso Cláudio | C2: 208.25 | D2: 221 | E2: =D2/C2 -> 1.0612245
A3: Norte | B3: Água Doce do Norte | C3: 113.75 | D3: 88 | E3: =D3/C3 -> 0.77362637
A4: Central | B4: Águia Branca | C4: 85.75 | D4: 74 | E4: =D4/C4 -> 0.86297376
A5: Sul | B5: Alegre | C5: 173.83333 | D5: 201 | E5: =D5/C5 -> 1.15628
A6: Sul | B6: Alfredo Chaves | C6: 71.75 | D6: 79 | E6: =D6/C6 -> 1.1010453
A7: Central | B7: Alto Rio Novo | C7: 53.083333 | D7: 53 | E7: =D7/C7 -> 0.99843014
A8: Sul | B8: Anchieta | C8: 205.91667 | D8: 215 | E8: =D8/C8 -> 1.0441117
A9: Sul | B9: Apiacá | C9: 43.75 | D9: 36 | E9: =D9/C9 -> 0.82285714
A10: Metropolitana | B10: Aracruz | C10: 796.25 | D10: 817 | E10: =D10/C10 -> 1.0260597
A11: Sul | B11: Atilio Vivacqua | C11: 92.75 | D11: 96 | E11: =D11/C11 -> 1.0350404
A12: Central | B12: Baixo Guandu | C12: 203 | D12: 166 | E12: =D12/C12 -> 0.81773399
A13: Norte | B13: Barra de São Francisco | C13: 342.41667 | D13: 271 | E13: =D13/C13 -> 0.79143344
... A79: Metropolitana | B79: Vitória | C79: 2040.5 | D79: 1771 | E79: =D79/C79 -> 0.86792453
B81: Total Norte | C81: =SUMIF($A$2:$A$79,"Norte",C$2:C$79) -> 3313.3333 | D81: =SUMIF($A$2:$A$79,"Norte",D$2:D$79) -> 3239 | E81: =D81/C81 -> 0.97756539
B82: Total Central | C82: =SUMIF($A$2:$A$79,"CENTRAL",C$2:C$79) -> 4071.6667 | D82: =SUMIF($A$2:$A$79,"CENTRAL",D$2:D$79) -> 3862 | E82: =D82/C82 -> 0.94850594
B83: Total Metropolitana | C83: =SUMIF($A$2:$A$79,"METROPOLITANA",C$2:C$79) -> 16994.833 | D83: =SUMIF($A$2:$A$79,"METROPOLITANA",D$2:D$79) -> 15347 | E83: =D83/C83 -> 0.90303916
B84: Total Sul | C84: =SUMIF($A$2:$A$79,"SUL",C$2:C$79) -> 4765.25 | D84: =SUMIF($A$2:$A$79,"SUL",D$2:D$79) -> 4569 | E84: =D84/C84 -> 0.95881643
B85: TOTAL ES | C85: =SUM(C2:C79) -> 29145.083 | D85: =SUM(D2:D79) -> 27017 | E85: =D85/C85 -> 0.92698311
B86: HOMOGENEIDADE ENTRE MUNICÍPIOS | D86: =COUNTIF(E2:E79,">=0,95") -> 48 | E86: =COUNTIF(E2:E79,">=0,95")/78 -> 0.61538462
A91: Fonte: Vacina e Confia, em 16 de setembro de 2026.
A92: **<https://vacinaeconfia.saude.es.gov.br/> (Relatório Sintético de Cobertura Vacinal de Rotina).
A93: **Dados referente às doses aplicadas de janeiro a julho de 2026
A94: Cobertura Calculada por município de residência do vacinado
A95: 1 População proporcional estimada extraída do MS/SVSA/CGIAE - Sistema de Informações sobre Nascidos Vivos - SINASC.
A96: Nota: Dados finais disponíveis até 2024. https://datasus.saude.gov.br/nascidos-vivos-desde-1994/
A97: Método de Cálculo Simples
A98: Homogeineidade: O cálculo da Homogeineidade entre vacinas é feito de acordo com a pactuação estabelecida no Plano Plurianual (PPA) vigente no período 2024-2027.
A100: Observações referente a distribuição de imunobiológicos que podem afetar a cobertura vacinal:
A102: 1. Imunobiológicos que foram recebidas parcialmente pelo estado no mês de Julho/2026, sendo distribuídos em quantidades reduzidas às regionais e municípios:
A103: IMUNOGLOBULINA ANTIRRÁBICA HUMANA; SORO ANTIRRÁBICO HUMANO; IMUNOGLOBULINA HUMANA ANTIVARICELA (ZOSTER) - 125 UI
A104: 2. Imunobiológicos enviadas por Pautas aguardando abastecimento do estoque estadual;
... A108: Fonte: Informes situacionais de distribuição de imunobiológicos em https://saude.es.gov.br/GrupodeArquivos/informes-situacionais-de-distribuicao-de-imunobiologicos

Sheet VSR gestante - Procedência
A1: Regional | B1: Município | C1: ¹População | D1: Doses Aplicadas | E1: Cobertura Vacinal %
A2: Metropolitana | B2: Afonso Cláudio | C2: 208.25 | D2: 199 | E2: =D2/C2 -> 0.95558223
A3: Norte | B3: Água Doce do Norte | C3: 113.75 | D3: 92 | E3: =D3/C3 -> 0.80879121
A4: Central | B4: Águia Branca | C4: 85.75 | D4: 91 | E4: =D4/C4 -> 1.0612245
A5: Sul | B5: Alegre | C5: 173.83333 | D5: 197 | E5: =D5/C5 -> 1.1332694
A6: Sul | B6: Alfredo Chaves | C6: 71.75 | D6: 82 | E6: =D6/C6 -> 1.1428571
A7: Central | B7: Alto Rio Novo | C7: 53.083333 | D7: 51 | E7: =D7/C7 -> 0.96075353
A8: Sul | B8: Anchieta | C8: 205.91667 | D8: 221 | E8: =D8/C8 -> 1.0732497
A9: Sul | B9: Apiacá | C9: 43.75 | D9: 31 | E9: =D9/C9 -> 0.70857143
A10: Metropolitana | B10: Aracruz | C10: 796.25 | D10: 872 | E10: =D10/C10 -> 1.0951334
A11: Sul | B11: Atilio Vivacqua | C11: 92.75 | D11: 86 | E11: =D11/C11 -> 0.92722372
A12: Central | B12: Baixo Guandu | C12: 203 | D12: 163 | E12: =D12/C12 -> 0.80295567
A13: Norte | B13: Barra de São Francisco | C13: 342.41667 | D13: 283 | E13: =D13/C13 -> 0.82647846
... A79: Metropolitana | B79: Vitória | C79: 2040.5 | D79: 2103 | E79: =D79/C79 -> 1.0306297
B81: Total Norte | C81: =SUMIF($A$2:$A$79,"Norte",C$2:C$79) -> 3313.3333 | D81: =SUMIF($A$2:$A$79,"Norte",D$2:D$79) -> 3273 | E81: =D81/C81 -> 0.98782696
B82: Total Central | C82: =SUMIF($A$2:$A$79,"CENTRAL",C$2:C$79) -> 4071.6667 | D82: =SUMIF($A$2:$A$79,"CENTRAL",D$2:D$79) -> 3894 | E82: =D82/C82 -> 0.95636512
B83: Total Metropolitana | C83: =SUMIF($A$2:$A$79,"METROPOLITANA",C$2:C$79) -> 16994.833 | D83: =SUMIF($A$2:$A$79,"METROPOLITANA",D$2:D$79) -> 16186 | E83: =D83/C83 -> 0.9524071
B84: Total Sul | C84: =SUMIF($A$2:$A$79,"SUL",C$2:C$79) -> 4765.25 | D84: =SUMIF($A$2:$A$79,"SUL",D$2:D$79) -> 4529 | E84: =D84/C84 -> 0.95042233
B85: TOTAL ES | C85: =SUM(C2:C79) -> 29145.083 | D85: =SUM(D2:D79) -> 27882 | E85: =D85/C85 -> 0.95666222
B86: HOMOGENEIDADE ENTRE MUNICÍPIOS | E86: =COUNTIF(E2:E79,">=0,95")/78 -> 0.65384615
A91: Fonte: Vacina e Confia, em 16 de setembro de 2026.
A92: **<https://vacinaeconfia.saude.es.gov.br/> (Relatório Sintético de Cobertura Vacinal de Rotina).
A93: **Dados referente às doses aplicadas de janeiro a julho de 2026
A94: Cobertura Calculada por município de procedência/ocorrência da vacinação
A95: 1 População proporcional estimada extraída do MS/SVSA/CGIAE - Sistema de Informações sobre Nascidos Vivos - SINASC.
A96: Nota: Dados finais disponíveis até 2024. https://datasus.saude.gov.br/nascidos-vivos-desde-1994/
A97: Método de Cálculo Simples
A98: Homogeineidade: O cálculo da Homogeineidade entre vacinas é feito de acordo com a pactuação estabelecida no Plano Plurianual (PPA) vigente no período 2024-2027.
A100: Observações referente a distribuição de imunobiológicos que podem afetar a cobertura vacinal:
A102: 1. Imunobiológicos que foram recebidas parcialmente pelo estado no mês de Julho/2026, sendo distribuídos em quantidades reduzidas às regionais e municípios:
A103: IMUNOGLOBULINA ANTIRRÁBICA HUMANA; SORO ANTIRRÁBICO HUMANO; IMUNOGLOBULINA HUMANA ANTIVARICELA (ZOSTER) - 125 UI
A104: 2. Imunobiológicos enviadas por Pautas aguardando abastecimento do estoque estadual;
... A108: Fonte: Informes situacionais de distribuição de imunobiológicos em https://saude.es.gov.br/GrupodeArquivos/informes-situacionais-de-distribuicao-de-imunobiologicos

Sheet VSR gestante - residência
A1: Regional | B1: Município | C1: ¹População | D1: Doses Aplicadas | E1: Cobertura Vacinal %
A2: Metropolitana | B2: Afonso Cláudio | C2: 208.25 | D2: 197 | E2: =D2/C2 -> 0.94597839
A3: Norte | B3: Água Doce do Norte | C3: 113.75 | D3: 84 | E3: =D3/C3 -> 0.73846154
A4: Central | B4: Águia Branca | C4: 85.75 | D4: 73 | E4: =D4/C4 -> 0.85131195
A5: Sul | B5: Alegre | C5: 173.83333 | D5: 232 | E5: =D5/C5 -> 1.3346117
A6: Sul | B6: Alfredo Chaves | C6: 71.75 | D6: 86 | E6: =D6/C6 -> 1.1986063
A7: Central | B7: Alto Rio Novo | C7: 53.083333 | D7: 50 | E7: =D7/C7 -> 0.94191523
A8: Sul | B8: Anchieta | C8: 205.91667 | D8: 216 | E8: =D8/C8 -> 1.048968
A9: Sul | B9: Apiacá | C9: 43.75 | D9: 30 | E9: =D9/C9 -> 0.68571429
A10: Metropolitana | B10: Aracruz | C10: 796.25 | D10: 810 | E10: =D10/C10 -> 1.0172684
A11: Sul | B11: Atilio Vivacqua | C11: 92.75 | D11: 93 | E11: =D11/C11 -> 1.0026954
A12: Central | B12: Baixo Guandu | C12: 203 | D12: 147 | E12: =D12/C12 -> 0.72413793
A13: Norte | B13: Barra de São Francisco | C13: 342.41667 | D13: 273 | E13: =D13/C13 -> 0.79727428
... A79: Metropolitana | B79: Vitória | C79: 2040.5 | D79: 1753 | E79: =D79/C79 -> 0.85910316
B81: Total Norte | C81: =SUMIF($A$2:$A$79,"Norte",C$2:C$79) -> 3313.3333 | D81: =SUMIF($A$2:$A$79,"Norte",D$2:D$79) -> 3142 | E81: =D81/C81 -> 0.94828974
B82: Total Central | C82: =SUMIF($A$2:$A$79,"CENTRAL",C$2:C$79) -> 4071.6667 | D82: =SUMIF($A$2:$A$79,"CENTRAL",D$2:D$79) -> 3799 | E82: =D82/C82 -> 0.93303316
B83: Total Metropolitana | C83: =SUMIF($A$2:$A$79,"METROPOLITANA",C$2:C$79) -> 16994.833 | D83: =SUMIF($A$2:$A$79,"METROPOLITANA",D$2:D$79) -> 15140 | E83: =D83/C83 -> 0.89085899
B84: Total Sul | C84: =SUMIF($A$2:$A$79,"SUL",C$2:C$79) -> 4765.25 | D84: =SUMIF($A$2:$A$79,"SUL",D$2:D$79) -> 4453 | E84: =D84/C84 -> 0.93447353
B85: TOTAL ES | C85: =SUM(C2:C79) -> 29145.083 | D85: =SUM(D2:D79) -> 26534 | E85: =D85/C85 -> 0.91041085
B86: HOMOGENEIDADE ENTRE MUNICÍPIOS | E86: =COUNTIF(E2:E79,">=0,95")/78 -> 0.55128205
A91: Fonte: Vacina e Confia, em 16 de setembro de 2026.
A92: **<https://vacinaeconfia.saude.es.gov.br/> (Relatório Sintético de Cobertura Vacinal de Rotina).
A93: **Dados referente às doses aplicadas de janeiro a julho de 2026
A94: Cobertura Calculada por município de residência do vacinado
A95: 1 População proporcional estimada extraída do MS/SVSA/CGIAE - Sistema de Informações sobre Nascidos Vivos - SINASC.
A96: Nota: Dados finais disponíveis até 2024. https://datasus.saude.gov.br/nascidos-vivos-desde-1994/
A97: Método de Cálculo Simples
A98: Homogeineidade: O cálculo da Homogeineidade entre vacinas é feito de acordo com a pactuação estabelecida no Plano Plurianual (PPA) vigente no período 2024-2027.
A100: Observações referente a distribuição de imunobiológicos que podem afetar a cobertura vacinal:
A102: 1. Imunobiológicos que foram recebidas parcialmente pelo estado no mês de Julho/2026, sendo distribuídos em quantidades reduzidas às regionais e municípios:
A103: IMUNOGLOBULINA ANTIRRÁBICA HUMANA; SORO ANTIRRÁBICO HUMANO; IMUNOGLOBULINA HUMANA ANTIVARICELA (ZOSTER) - 125 UI
A104: 2. Imunobiológicos enviadas por Pautas aguardando abastecimento do estoque estadual;
... A108: Fonte: Informes situacionais de distribuição de imunobiológicos em https://saude.es.gov.br/GrupodeArquivos/informes-situacionais-de-distribuicao-de-imunobiologicos

Sheet COVID-19 gestantes -Procedência
A1: Regional | B1: Município | C1: ¹População | D1: Doses Aplicadas | E1: Cobertura Vacinal %
A2: Metropolitana | B2: Afonso Cláudio | C2: 208.25 | D2: 0 | E2: =D2/C2 -> 0
A3: Norte | B3: Água Doce do Norte | C3: 113.75 | D3: 0 | E3: =D3/C3 -> 0
A4: Central | B4: Águia Branca | C4: 85.75 | D4: 0 | E4: =D4/C4 -> 0
A5: Sul | B5: Alegre | C5: 173.83333 | D5: 18 | E5: =D5/C5 -> 0.10354746
A6: Sul | B6: Alfredo Chaves | C6: 71.75 | D6: 2 | E6: =D6/C6 -> 0.027874564
A7: Central | B7: Alto Rio Novo | C7: 53.083333 | D7: 0 | E7: =D7/C7 -> 0
A8: Sul | B8: Anchieta | C8: 205.91667 | D8: 43 | E8: =D8/C8 -> 0.20882234
A9: Sul | B9: Apiacá | C9: 43.75 | D9: 0 | E9: =D9/C9 -> 0
A10: Metropolitana | B10: Aracruz | C10: 796.25 | D10: 108 | E10: =D10/C10 -> 0.13563579
A11: Sul | B11: Atilio Vivacqua | C11: 92.75 | D11: 0 | E11: =D11/C11 -> 0
A12: Central | B12: Baixo Guandu | C12: 203 | D12: 0 | E12: =D12/C12 -> 0
A13: Norte | B13: Barra de São Francisco | C13: 342.41667 | D13: 0 | E13: =D13/C13 -> 0
... A79: Metropolitana | B79: Vitória | C79: 2040.5 | D79: 347 | E79: =D79/C79 -> 0.17005636
B81: Total Norte | C81: =SUMIF($A$2:$A$79,"Norte",C$2:C$79) -> 3313.3333 | D81: =SUMIF($A$2:$A$79,"Norte",D$2:D$79) -> 227 | E81: =D81/C81 -> 0.068511066
B82: Total Central | C82: =SUMIF($A$2:$A$79,"CENTRAL",C$2:C$79) -> 4071.6667 | D82: =SUMIF($A$2:$A$79,"cENTRAL",D$2:D$79) -> 181 | E82: =D82/C82 -> 0.044453541
B83: Total Metropolitana | C83: =SUMIF($A$2:$A$79,"METROPOLITANA",C$2:C$79) -> 16994.833 | D83: =SUMIF($A$2:$A$79,"Metropolitana",D$2:D$79) -> 2753 | E83: =D83/C83 -> 0.16199041
B84: Total Sul | C84: =SUMIF($A$2:$A$79,"SUL",C$2:C$79) -> 4765.25 | D84: =SUMIF($A$2:$A$79,"sul",D$2:D$79) -> 169 | E84: =D84/C84 -> 0.035465086
B85: TOTAL ES | C85: =SUM(C2:C79) -> 29145.083 | D85: =SUM(D2:D79) -> 3330 | E85: =D85/C85 -> 0.11425598
B86: HOMOGENEIDADE ENTRE MUNICÍPIOS | E86: =COUNTIF(E2:E79,">=0,90")/78 -> 0
A91: Fonte: Vacina e Confia, em 16 de setembro de 2026.
A92: **<https://vacinaeconfia.saude.es.gov.br/> (Relatório Sintético de Cobertura Vacinal de Rotina).
A93: **Dados referente às doses aplicadas de janeiro a julho de 2026
A94: Cobertura Calculada por município de procedência/ocorrência da vacinação
A95: 1 População proporcional estimada extraída do MS/SVSA/CGIAE - Sistema de Informações sobre Nascidos Vivos - SINASC.
A96: Nota: Dados finais disponíveis até 2024. https://datasus.saude.gov.br/nascidos-vivos-desde-1994/
A97: Método de Cálculo Simples
A98: Homogeineidade: O cálculo da Homogeineidade entre vacinas é feito de acordo com a pactuação estabelecida no Plano Plurianual (PPA) vigente no período 2024-2027.
A100: Observações referente a distribuição de imunobiológicos que podem afetar a cobertura vacinal:
A102: 1. Imunobiológicos que foram recebidas parcialmente pelo estado no mês de Julho/2026, sendo distribuídos em quantidades reduzidas às regionais e municípios:
A103: IMUNOGLOBULINA ANTIRRÁBICA HUMANA; SORO ANTIRRÁBICO HUMANO; IMUNOGLOBULINA HUMANA ANTIVARICELA (ZOSTER) - 125 UI
A104: 2. Imunobiológicos enviadas por Pautas aguardando abastecimento do estoque estadual;
... A108: Fonte: Informes situacionais de distribuição de imunobiológicos em https://saude.es.gov.br/GrupodeArquivos/informes-situacionais-de-distribuicao-de-imunobiologicos

Sheet COVID-19 gestantes -Residência
A1: Regional | B1: Município | C1: ¹População | D1: Doses Aplicadas | E1: Cobertura Vacinal %
A2: Metropolitana | B2: Afonso Cláudio | C2: 208.25 | D2: 5 | E2: =D2/C2 -> 0.024009604
A3: Norte | B3: Água Doce do Norte | C3: 113.75 | D3: 0 | E3: =D3/C3 -> 0
A4: Central | B4: Águia Branca | C4: 85.75 | D4: 1 | E4: =D4/C4 -> 0.011661808
A5: Sul | B5: Alegre | C5: 173.83333 | D5: 16 | E5: =D5/C5 -> 0.092042186
A6: Sul | B6: Alfredo Chaves | C6: 71.75 | D6: 1 | E6: =D6/C6 -> 0.013937282
A7: Central | B7: Alto Rio Novo | C7: 53.083333 | D7: 0 | E7: =D7/C7 -> 0
A8: Sul | B8: Anchieta | C8: 205.91667 | D8: 39 | E8: =D8/C8 -> 0.18939701
A9: Sul | B9: Apiacá | C9: 43.75 | D9: 1 | E9: =D9/C9 -> 0.022857143
A10: Metropolitana | B10: Aracruz | C10: 796.25 | D10: 109 | E10: =D10/C10 -> 0.13689168
A11: Sul | B11: Atilio Vivacqua | C11: 92.75 | D11: 0 | E11: =D11/C11 -> 0
A12: Central | B12: Baixo Guandu | C12: 203 | D12: 3 | E12: =D12/C12 -> 0.014778325
A13: Norte | B13: Barra de São Francisco | C13: 342.41667 | D13: 9 | E13: =D13/C13 -> 0.026283767
... A79: Metropolitana | B79: Vitória | C79: 2040.5 | D79: 296 | E79: =D79/C79 -> 0.14506248
B81: Total Norte | C81: =SUMIF($A$2:$A$79,"Norte",C$2:C$79) -> 3313.3333 | D81: =SUMIF($A$2:$A$79,"Norte",D$2:D$79) -> 240 | E81: =D81/C81 -> 0.072434608
B82: Total Central | C82: =SUMIF($A$2:$A$79,"CENTRAL",C$2:C$79) -> 4071.6667 | D82: =SUMIF($A$2:$A$79,"CENTRAL",D$2:D$79) -> 206 | E82: =D82/C82 -> 0.050593533
B83: Total Metropolitana | C83: =SUMIF($A$2:$A$79,"METROPOLITANA",C$2:C$79) -> 16994.833 | D83: =SUMIF($A$2:$A$79,"METROPOLITANA",D$2:D$79) -> 2513 | E83: =D83/C83 -> 0.14786847
B84: Total Sul | C84: =SUMIF($A$2:$A$79,"SUL",C$2:C$79) -> 4765.25 | D84: =SUMIF($A$2:$A$79,"SUL",D$2:D$79) -> 183 | E84: =D84/C84 -> 0.038403022
B85: TOTAL ES | C85: =SUM(C2:C79) -> 29145.083 | D85: =SUM(D2:D79) -> 3142 | E85: =D85/C85 -> 0.10780549
B86: HOMOGENEIDADE ENTRE MUNICÍPIOS | D86: =COUNTIF(E2:E79,">=0,95") -> 0 | E86: =COUNTIF(E2:E79,">=0,90")/78 -> 0
A91: Fonte: Vacina e Confia, em 16 de setembro de 2026.
A92: **<https://vacinaeconfia.saude.es.gov.br/> (Relatório Sintético de Cobertura Vacinal de Rotina).
A93: **Dados referente às doses aplicadas de janeiro a julho de 2026
A94: Cobertura Calculada por município de residência do vacinado
A95: 1 População proporcional estimada extraída do MS/SVSA/CGIAE - Sistema de Informações sobre Nascidos Vivos - SINASC.
A96: Nota: Dados finais disponíveis até 2024. https://datasus.saude.gov.br/nascidos-vivos-desde-1994/
A97: Método de Cálculo Simples
A98: Homogeineidade: O cálculo da Homogeineidade entre vacinas é feito de acordo com a pactuação estabelecida no Plano Plurianual (PPA) vigente no período 2024-2027.
A100: Observações referente a distribuição de imunobiológicos que podem afetar a cobertura vacinal:
A102: 1. Imunobiológicos que foram recebidas parcialmente pelo estado no mês de Julho/2026, sendo distribuídos em quantidades reduzidas às regionais e municípios:
A103: IMUNOGLOBULINA ANTIRRÁBICA HUMANA; SORO ANTIRRÁBICO HUMANO; IMUNOGLOBULINA HUMANA ANTIVARICELA (ZOSTER) - 125 UI
A104: 2. Imunobiológicos enviadas por Pautas aguardando abastecimento do estoque estadual;
... A108: Fonte: Informes situacionais de distribuição de imunobiológicos em https://saude.es.gov.br/GrupodeArquivos/informes-situacionais-de-distribuicao-de-imunobiologicos

Sheet COVID-19 idoso -Procêdencia
A1: Regional | B1: Município | C1: População 60 anos + | D1: Doses Aplicadas | E1: Cobertura %
A2: Metropolitana | B2: Afonso Cláudio | C2: 5905 | D2: 16 | E2: =(D2/C2) -> 0.0027095682
A3: Norte | B3: Água Doce do Norte | C3: 2357 | D3: 0 | E3: =(D3/C3) -> 0
A4: Central | B4: Águia Branca | C4: 1775 | D4: 17 | E4: =(D4/C4) -> 0.0095774648
A5: Sul | B5: Alegre | C5: 5949 | D5: 162 | E5: =(D5/C5) -> 0.027231467
A6: Sul | B6: Alfredo Chaves | C6: 3040 | D6: 101 | E6: =(D6/C6) -> 0.033223684
A7: Central | B7: Alto Rio Novo | C7: 1417 | D7: 0 | E7: =(D7/C7) -> 0
A8: Sul | B8: Anchieta | C8: 5080 | D8: 570 | E8: =(D8/C8) -> 0.11220472
A9: Sul | B9: Apiacá | C9: 1536 | D9: 2 | E9: =(D9/C9) -> 0.0013020833
A10: Metropolitana | B10: Aracruz | C10: 13047 | D10: 800 | E10: =(D10/C10) -> 0.061316778
A11: Sul | B11: Atilio Vivacqua | C11: 1843 | D11: 12 | E11: =(D11/C11) -> 0.0065111232
A12: Central | B12: Baixo Guandu | C12: 5706 | D12: 87 | E12: =(D12/C12) -> 0.015247108
A13: Norte | B13: Barra de São Francisco | C13: 7226 | D13: 144 | E13: =(D13/C13) -> 0.019928038
... A79: Metropolitana | B79: Vitória | C79: 64805 | D79: 3776 | E79: =(D79/C79) -> 0.058267109
B81: Total Norte | C81: =SUMIF($A$2:$A$79,"Norte",C$2:C$79) -> 64626 | D81: =SUMIF($A$2:$A$79,"Norte",D$2:D$79) -> 2274 | E81: =D81/C81 -> 0.035187076
B82: Total Central | C82: =SUMIF($A$2:$A$79,"Central",C$2:C$79) -> 80477 | D82: =SUMIF($A$2:$A$79,"Central",D$2:D$79) -> 2237 | E82: =D82/C82 -> 0.027796762
B83: Total Metropolitana | C83: =SUMIF($A$2:$A$79,"Metropolitana",C$2:C$79) -> 367065 | D83: =SUMIF($A$2:$A$79,"Metropolitana",D$2:D$79) -> 22537 | E83: =D83/C83 -> 0.061397845
B84: Total Sul | C84: =SUMIF($A$2:$A$79,"sul",C$2:C$79) -> 119230 | D84: =SUMIF($A$2:$A$79,"sul",D$2:D$79) -> 3537 | E84: =D84/C84 -> 0.029665353
B85: Total Espírito Santo | C85: =SUM(C2:C79) -> 631398 | D85: =SUM(D2:D79) -> 30585 | E85: =D85/C85 -> 0.048440128
B86: HOMOGENEIDADE ENTRE MUNICÍPIOS | E86: =COUNTIF(E2:E79,">=0,90")/78 -> 0
A91: Fonte: Vacina e Confia, em 16 de setembro de 2026.
A92: **<https://vacinaeconfia.saude.es.gov.br/> (Relatório Sintético de Cobertura Vacinal de Rotina).
A93: **Dados referente às doses aplicadas de fevereiro a julho de 2026
A94: Período analisado: últimos 6 meses
A95: Faixa Etária: 60+. População estimada extraída do Censo IBGE 2022.
A96: Método de Cálculo Simples
A97: Homogeineidade: O cálculo da Homogeineidade entre vacinas é feito de acordo com a pactuação estabelecida no Plano Plurianual (PPA) vigente no período 2024-2027.
A100: Observações referente a distribuição de imunobiológicos que podem afetar a cobertura vacinal:
A102: 1. Imunobiológicos que foram recebidas parcialmente pelo estado no mês de Julho/2026, sendo distribuídos em quantidades reduzidas às regionais e municípios:
A103: IMUNOGLOBULINA ANTIRRÁBICA HUMANA; SORO ANTIRRÁBICO HUMANO; IMUNOGLOBULINA HUMANA ANTIVARICELA (ZOSTER) - 125 UI
A104: 2. Imunobiológicos enviadas por Pautas aguardando abastecimento do estoque estadual;
A105: VACINA COVID-19 PFIZER PEDIÁTRICA, NIRSEVIMABE.
... A108: Fonte: Informes situacionais de distribuição de imunobiológicos em https://saude.es.gov.br/GrupodeArquivos/informes-situacionais-de-distribuicao-de-imunobiologicos

Sheet COVID-19 idoso -Residência
A1: Regional | B1: Município | C1: População 60 anos + | D1: Doses Aplicadas | E1: Cobertura %
A2: Metropolitana | B2: Afonso Cláudio | C2: 5905 | D2: 34 | E2: =(D2/C2) -> 0.0057578323
A3: Norte | B3: Água Doce do Norte | C3: 2357 | D3: 8 | E3: =(D3/C3) -> 0.0033941451
A4: Central | B4: Águia Branca | C4: 1775 | D4: 22 | E4: =(D4/C4) -> 0.012394366
A5: Sul | B5: Alegre | C5: 5949 | D5: 176 | E5: =(D5/C5) -> 0.029584804
A6: Sul | B6: Alfredo Chaves | C6: 3040 | D6: 102 | E6: =(D6/C6) -> 0.033552632
A7: Central | B7: Alto Rio Novo | C7: 1417 | D7: 4 | E7: =(D7/C7) -> 0.0028228652
A8: Sul | B8: Anchieta | C8: 5080 | D8: 501 | E8: =(D8/C8) -> 0.098622047
A9: Sul | B9: Apiacá | C9: 1536 | D9: 4 | E9: =(D9/C9) -> 0.0026041667
A10: Metropolitana | B10: Aracruz | C10: 13047 | D10: 742 | E10: =(D10/C10) -> 0.056871311
A11: Sul | B11: Atilio Vivacqua | C11: 1843 | D11: 18 | E11: =(D11/C11) -> 0.0097666848
A12: Central | B12: Baixo Guandu | C12: 5706 | D12: 84 | E12: =(D12/C12) -> 0.014721346
A13: Norte | B13: Barra de São Francisco | C13: 7226 | D13: 142 | E13: =(D13/C13) -> 0.019651259
... A79: Metropolitana | B79: Vitória | C79: 64805 | D79: 4040 | E79: =(D79/C79) -> 0.062340869
B81: Total Norte | C81: =SUMIF($A$2:$A$79,"Norte",C$2:C$79) -> 64626 | D81: =SUMIF($A$2:$A$79,"Norte",D$2:D$79) -> 2234 | E81: =D81/C81 -> 0.03456813
B82: Total Central | C82: =SUMIF($A$2:$A$79,"Central",C$2:C$79) -> 80477 | D82: =SUMIF($A$2:$A$79,"Central",D$2:D$79) -> 2304 | E82: =D82/C82 -> 0.028629298
B83: Total Metropolitana | C83: =SUMIF($A$2:$A$79,"Metropolitana",C$2:C$79) -> 367065 | D83: =SUMIF($A$2:$A$79,"Metropolitana",D$2:D$79) -> 21609 | E83: =D83/C83 -> 0.058869682
B84: Total Sul | C84: =SUMIF($A$2:$A$79,"sul",C$2:C$79) -> 119230 | D84: =SUMIF($A$2:$A$79,"Sul",D$2:D$79) -> 3414 | E84: =D84/C84 -> 0.028633733
B85: Total Espírito Santo | C85: =SUM(C2:C79) -> 631398 | D85: =SUM(D81:D84) -> 29561 | E85: =D85/C85 -> 0.04681833
B86: HOMOGENEIDADE ENTRE MUNICÍPIOS | E86: =COUNTIF(E2:E79,">=0,90")/78 -> 0
A91: Fonte: Vacina e Confia, em 16 de setembro de 2026.
A92: **<https://vacinaeconfia.saude.es.gov.br/> (Relatório Sintético de Cobertura Vacinal de Rotina).
A93: **Dados referente às doses aplicadas de fevereiro a julho de 2026
A94: Período analisado: últimos 6 meses
A95: Faixa Etária: 60+. População estimada extraída do Censo IBGE 2022.
A96: Método de Cálculo Simples
A97: Homogeineidade: O cálculo da Homogeineidade entre vacinas é feito de acordo com a pactuação estabelecida no Plano Plurianual (PPA) vigente no período 2024-2027.
A100: Observações referente a distribuição de imunobiológicos que podem afetar a cobertura vacinal:
A102: 1. Imunobiológicos que foram recebidas parcialmente pelo estado no mês de Julho/2026, sendo distribuídos em quantidades reduzidas às regionais e municípios:
A103: IMUNOGLOBULINA ANTIRRÁBICA HUMANA; SORO ANTIRRÁBICO HUMANO; IMUNOGLOBULINA HUMANA ANTIVARICELA (ZOSTER) - 125 UI
A104: 2. Imunobiológicos enviadas por Pautas aguardando abastecimento do estoque estadual;
A105: VACINA COVID-19 PFIZER PEDIÁTRICA, NIRSEVIMABE.
... A108: Fonte: Informes situacionais de distribuição de imunobiológicos em https://saude.es.gov.br/GrupodeArquivos/informes-situacionais-de-distribuicao-de-imunobiologicos

Sheet Cobert. Meningo C Adolescentes
A1: Regional | B1: Município | C1: Doses Acumuladas | D1: Série Histórica %
A2: Metropolitana | B2: Afonso Cláudio | C2: 707 | D2: 48.358413
A3: Norte | B3: Água Doce do Norte | C3: 461 | D3: 76.854682
A4: Central | B4: Águia Branca | C4: 368 | D4: 79.524581
A5: Sul | B5: Alegre | C5: 1027 | D5: 85.423165
A6: Sul | B6: Alfredo Chaves | C6: 397 | D6: 69.456189
A7: Central | B7: Alto Rio Novo | C7: 356 | D7: 95.272079
A8: Sul | B8: Anchieta | C8: 1271 | D8: 94.15396
A9: Sul | B9: Apiacá | C9: 148 | D9: 44.758065
A10: Metropolitana | B10: Aracruz | C10: 4598 | D10: 95.031088
A11: Sul | B11: Atilio Vivacqua | C11: 458 | D11: 99.493121
A12: Central | B12: Baixo Guandu | C12: 1110 | D12: 81.323646
A13: Norte | B13: Barra de São Francisco | C13: 1543 | D13: 74.50507
... A79: Metropolitana | B79: Vitória | C79: 10471 | D79: 81.949272
B81: Total Central | C81: 19907 | D81: 85.472312
B82: Total Norte | C82: 16051 | D82: 80.526105
B83: Total Metropolitana | C83: 85566 | D83: 81.943614
B84: Total Sul | C84: 24238 | D84: 82.248678
B85: Total Espírito Santo | C85: 145762 | D85: 82.298871
A89: Vacinas: Meningocócica Conjudada C e Meningocócica ACWY
A90: Fonte: Vacina e Confia e Tabnet/Sistema de Informação do Programa Nacional de Imunizações (SI-PNI/CGPNI/DEIDT/SVS/MS)
A91: http://tabnet.datasus.gov.br/ e https://www.vacinaeconfia.es.gov.br
A92: **Dados referente às doses aplicadas de 2016 a Julho de 2026.
A93: *Dados parciais. Dados de janeiro/2022 a abril/2022 extraídos do TABNET em 26/02/2026;
A94: Dados de maio/2022 a julho/2026 extraídos do Vacina e Confia em 16/09/2026.
A95: *Faixa Etária: 11 a 14 anos. População estimada extraída do Censo IBGE 2022.
A96: *População de 11 anos utilizada proporcional ao mês vigente.
A97: Método de Cálculo Coorte
A98: Cobertura Calculada por município de procedência da vacinação
A100: Observações referente a distribuição de imunobiológicos que podem afetar a cobertura vacinal:
A102: 1. Imunobiológicos que foram recebidas parcialmente pelo estado no mês de Julho/2026, sendo distribuídos em quantidades reduzidas às regionais e municípios:
... A108: Fonte: Informes situacionais de distribuição de imunobiológicos em https://saude.es.gov.br/GrupodeArquivos/informes-situacionais-de-distribuicao-de-imunobiologicos

Sheet Cobert. HPV 
A1: Regional | B1: Município | C1: População Feminina 9 a 14 anos | D1: População Masculina 9 a 14 anos | E1: Doses Acumuladas Feminino | F1: HPV Feminino % | G1: Doses Acumuladas Masculino | H1: HPV Masculino %
A2: Metropolitana | B2: Afonso Cláudio | C2: 15277 | D2: 15407 | E2: 962 | F2: 88.936826 | G2: 1024 | H2: 89.929742
A3: Norte | B3: Água Doce do Norte | C3: 4781 | D3: 4930 | E3: 394 | F3: 91.291755 | G3: 463 | H3: 100.452
A4: Central | B4: Águia Branca | C4: 5990 | D4: 6052 | E4: 304 | F4: 89.609433 | G4: 336 | H4: 92.371134
A5: Sul | B5: Alegre | C5: 14870 | D5: 14307 | E5: 849 | F5: 88.660691 | G5: 814 | H5: 86.137566
A6: Sul | B6: Alfredo Chaves | C6: 6823 | D6: 7013 | E6: 342 | F6: 80.203244 | G6: 320 | H6: 69.189189
A7: Central | B7: Alto Rio Novo | C7: 3733 | D7: 3701 | E7: 301 | F7: 109.28896 | G7: 317 | H7: 110.87147
A8: Sul | B8: Anchieta | C8: 15163 | D8: 14821 | E8: 1094 | F8: 103.03744 | G8: 1130 | H8: 105.73099
A9: Sul | B9: Apiacá | C9: 3725 | D9: 3498 | E9: 207 | F9: 82.007263 | G9: 187 | H9: 75.759622
A10: Metropolitana | B10: Aracruz | C10: 47872 | D10: 46893 | E10: 4093 | F10: 111.48285 | G10: 4102 | H10: 104.98208
A11: Sul | B11: Atílio Vivácqua | C11: 5285 | D11: 5255 | E11: 439 | F11: 121.35453 | G11: 401 | H11: 107.86819
A12: Central | B12: Baixo Guandu | C12: 15696 | D12: 14978 | E12: 989 | F12: 91.567009 | G12: 1054 | H12: 99.826361
A13: Norte | B13: Barra de São Francisco | C13: 21504 | D13: 20994 | E13: 1420 | F13: 89.665334 | G13: 1410 | H13: 85.303756
... A79: Metropolitana | B79: Vitória | C79: 173415 | D79: 149454 | E79: 10598 | F79: 109.46368 | G79: 10502 | H79: 102.41025
B81: Total Central | E81: 17221 | F81: 96.59118 | G81: 18139 | H81: 99.214644
B82: Total Norte | E82: 14767 | F82: 98.113082 | G82: 14785 | H82: 93.629777
B83: Total Metropolitana | E83: 80214 | F83: 100.81188 | G83: 79135 | H83: 94.550422
B84: Total Sul | E84: 21901 | F84: 97.221472 | G84: 22510 | H84: 96.378836
B85: Total Espírito Santo | D85: 191099 | E85: 134103 | F85: 99.3542 | G85: 134569 | H85: 95.354248
A90: Vacina HPV Quadrivalente, Bivalente e Nonavalente
A91: Fonte: Vacina e Confia, em 15 de JULHO de 2026.**<https://vacinaeconfia.saude.es.gov.br/>
A92: **Dados referente às doses aplicadas de janeiro a Junho de 2026
A93: Faixa Etária: 9 a 14 anos. População estimada extraída do Censo IBGE 2022.
A94: 1 População estimada extraída do MS/SVS/DASIS - SINASC/DASIS/SVS/MS 2025 referente ao período de janeiro a março de 2026 e abril a Junho 2025.
A95: Dados de janeiro/2013 a dezembro/2022 extraídos do TABNET em 23/02/2026
A96: Dados de Janeiro/2023 a Abril/2026 extraídos do Vacina e Confia em 11/05/2026.
A97: Cobertura Calculada por município de procedência da vacinação
A100: Observações referente a distribuição de imunobiológicos que podem afetar a cobertura vacinal:
A102: 1. Imunobiológicos que foram recebidas parcialmente pelo estado no mês de Julho/2026, sendo distribuídos em quantidades reduzidas às regionais e municípios:
A103: IMUNOGLOBULINA ANTIRRÁBICA HUMANA; SORO ANTIRRÁBICO HUMANO; IMUNOGLOBULINA HUMANA ANTIVARICELA (ZOSTER) - 125 UI
A104: 2. Imunobiológicos enviadas por Pautas aguardando abastecimento do estoque estadual;
... A108: Fonte: Informes situacionais de distribuição de imunobiológicos em https://saude.es.gov.br/GrupodeArquivos/informes-situacionais-de-distribuicao-de-imunobiologicos

Sheet Cobert. Dengue
A1: Regional | B1: Município | C1: População 10 a 14 anos | D1: Doses Acumuladas D1 | E1: DENGUE -D1 % | F1: Doses Acumuladas D2 | G1: DENGUE - D2 %
A2: Metropolitana | B2: Afonso Cláudio | C2: 1987 | D2: 1426 | E2: 77.626565 | F2: 1020 | G2: 55.525313
A3: Norte | B3: Água Doce do Norte | C3: 819 | D3: 491 | E3: 65.083398 | F3: 280 | G3: 37.114769
A4: Central | B4: Águia Branca | C4: 605 | D4: 336 | E4: 59.689119 | F4: 225 | G4: 39.970392
A5: Sul | B5: Alegre | C5: 1706 | D5: 1582 | E5: 101.53501 | F5: 1244 | G5: 79.841686
A6: Sul | B6: Alfredo Chaves | C6: 781 | D6: 306 | E6: 42.564043 | F6: 207 | G6: 28.793323
A7: Central | B7: Alto Rio Novo | C7: 503 | D7: 528 | E7: 113.52804 | F7: 422 | G7: 90.736427
A8: Sul | B8: Anchieta | C8: 1875 | D8: 1726 | E8: 100.13053 | F8: 1222 | G8: 70.891951
A9: Sul | B9: Apiacá | C9: 452 | D9: 126 | E9: 30.337079 | F9: 59 | G9: 14.205457
A10: Metropolitana | B10: Aracruz | C10: 6737 | D10: 6388 | E10: 103.38103 | F10: 4284 | G10: 69.330672
A11: Sul | B11: Atílio Vivácqua | C11: 646 | D11: 609 | E11: 103.19119 | F11: 356 | G11: 60.321943
A12: Central | B12: Baixo Guandu | C12: 1916 | D12: 1491 | E12: 85.110836 | F12: 884 | G12: 50.461421
A13: Norte | B13: Barra de São Francisco | C13: 2900 | D13: 1176 | E13: 44.335533 | F13: 429 | G13: 16.173421
... A79: Metropolitana | B79: Vitória | C79: 17857 | D79: 13969 | E79: 85.335533 | F79: 8487 | G79: 51.846422
B81: Total Central | D81: 23674 | E81: 79.869325 | F81: 14675 | G81: 49.509265
B82: Total Norte | D82: 15609 | E82: 61.481399 | F82: 8240 | G82: 32.456065
B83: Total Metropolitana | D83: 105581 | E83: 79.005223 | F83: 62660 | G83: 46.887861
B84: Total Sul | D84: 27842 | E84: 73.999982 | F84: 17288 | G84: 45.948987
B85: Total Espírito Santo | D85: 172706 | E85: 76.320173 | F85: 102863 | G85: 45.455988
A90: Vacina Dengue (Atenuada)
A91: Fonte: https://www.vacinaeconfia.es.gov.br (Janeiro/2024 a Julho/2026)
A92: *Dados parciais gerados em 16/09/2026.
A93: População de 10 a 14 anos - IBGE - Censo Demográfico 2022 em https://sidra.ibge.gov.br/tabela/9514
A94: *População de 10 anos utilizada proporcional ao mês vigente.
A100: Observações referente a distribuição de imunobiológicos que podem afetar a cobertura vacinal:
A102: 1. Imunobiológicos que foram recebidas parcialmente pelo estado no mês de Julho/2026, sendo distribuídos em quantidades reduzidas às regionais e municípios:
A103: IMUNOGLOBULINA ANTIRRÁBICA HUMANA; SORO ANTIRRÁBICO HUMANO; IMUNOGLOBULINA HUMANA ANTIVARICELA (ZOSTER) - 125 UI
A104: 2. Imunobiológicos enviadas por Pautas aguardando abastecimento do estoque estadual;
A105: VACINA COVID-19 PFIZER PEDIÁTRICA, NIRSEVIMABE.
A106: 3. Imunobiológicos com atendimento suspenso temporariamente pelo Ministério da Saúde;
A107: VACINA TETRA VIRAL
A108: Fonte: Informes situacionais de distribuição de imunobiológicos em https://saude.es.gov.br/GrupodeArquivos/informes-situacionais-de-distribuicao-de-imunobiologicos
