Workbook
Name Dose_Procedencia: [1]Tabdin!$B:$B
Name DOSES_30D_PROCEDENCIA: '[2]TABDIN<=30D'!$D:$D
Name Doses_Residencia: [3]Tabdin!$E$8:$E$85
Name MUNICIPIO_30D_PROCEDENCIA: '[2]TABDIN<=30D'!$A:$A
Name Municipio_Procedencia: [1]Tabdin!$A:$A
Name Municipio_Residencia: [3]Tabdin!$D$8:$D$85

Sheet cálculos1
C1: 0.9 | E1: 0.95
A2: Regional | B2: Município | C2: Cobertura Vacinal BCG | D2: Cobertura Vacinal Rotavírus | E2: Cobertura Vacinal Pentavalente | F2: Cobertura Vacinal Poliomielite | G2: Cobertura Vacinal Pneumo 10 | H2: Cobertura Vacinal Tríplice Viral | I2: Cobertura Vacinal Meningo C | J2: Cobertura Vacinal Febre Amarela | K2: Cobertura Vacinal Hepatite A | L2: Cobertura Varicela | M2: META 90% | N2: META 95% | O2: ATINGIRAM META | P2: PQA-VS
A3: Metropolitana | B3: Afonso Cláudio | C3: ='CV Rotina <2A - procedência'!K3 -> 0.75816993 | D3: ='CV Rotina <2A - procedência'!AC3 -> 0.87768441 | E3: ='CV Rotina <2A - procedência'!M3 -> 0.83286648 | F3: ='CV Rotina <2A - procedência'!O3 -> 0.82539683 | G3: ='CV Rotina <2A - procedência'!Q3 -> 0.84033613 | H3: ='CV Rotina <2A - procedência'!Y3 -> 0.96732026 | I3: ='CV Rotina <2A - procedência'!S3 -> 0.82539683 | J3: ='CV Rotina <2A - procedência'!U3 -> 0.91129785 | K3: ='CV Rotina <2A - procedência'!W3 -> 1.0905696 | L3: ='CV Rotina <2A - procedência'!AA3 -> 1.0756303 | M3: =COUNTIF(C3:D3,">=0,9") -> 0 | N3: =COUNTIFS(E3:L3,">=0,95") -> 3 | O3: =SUM(M3:N3) -> 3 | P3: =COUNTIF(E3:H3,">=0,95") -> 1
A4: Norte | B4: Água Doce do Norte | C4: ='CV Rotina <2A - procedência'!K4 -> 0.36239316 | D4: ='CV Rotina <2A - procedência'!AC4 -> 0.83418803 | E4: ='CV Rotina <2A - procedência'!M4 -> 0.78632479 | F4: ='CV Rotina <2A - procedência'!O4 -> 0.75213675 | G4: ='CV Rotina <2A - procedência'!Q4 -> 0.77264957 | H4: ='CV Rotina <2A - procedência'!Y4 -> 0.77948718 | I4: ='CV Rotina <2A - procedência'!S4 -> 0.72478632 | J4: ='CV Rotina <2A - procedência'!U4 -> 0.59487179 | K4: ='CV Rotina <2A - procedência'!W4 -> 0.7042735 | L4: ='CV Rotina <2A - procedência'!AA4 -> 0.68376068 | M4: =COUNTIF(C4:D4,">=0,9") -> 0 | N4: =COUNTIFS(E4:L4,">=0,95") -> 0 | O4: =SUM(M4:N4) -> 0 | P4: =COUNTIF(E4:H4,">=0,95") -> 0
A5: Central | B5: Águia Branca | C5: ='CV Rotina <2A - procedência'!K5 -> 0.73469388 | D5: ='CV Rotina <2A - procedência'!AC5 -> 1.0340136 | E5: ='CV Rotina <2A - procedência'!M5 -> 0.97959184 | F5: ='CV Rotina <2A - procedência'!O5 -> 0.97959184 | G5: ='CV Rotina <2A - procedência'!Q5 -> 0.94331066 | H5: ='CV Rotina <2A - procedência'!Y5 -> 1.170068 | I5: ='CV Rotina <2A - procedência'!S5 -> 0.92517007 | J5: ='CV Rotina <2A - procedência'!U5 -> 1.0884354 | K5: ='CV Rotina <2A - procedência'!W5 -> 0.96145125 | L5: ='CV Rotina <2A - procedência'!AA5 -> 0.97959184 | M5: =COUNTIF(C5:D5,">=0,9") -> 1 | N5: =COUNTIFS(E5:L5,">=0,95") -> 6 | O5: =SUM(M5:N5) -> 7 | P5: =COUNTIF(E5:H5,">=0,95") -> 3
A6: Sul | B6: Alegre | C6: ='CV Rotina <2A - procedência'!K6 -> 0.61744966 | D6: ='CV Rotina <2A - procedência'!AC6 -> 1.1006711 | E6: ='CV Rotina <2A - procedência'!M6 -> 0.97986577 | F6: ='CV Rotina <2A - procedência'!O6 -> 0.97986577 | G6: ='CV Rotina <2A - procedência'!Q6 -> 1.0693512 | H6: ='CV Rotina <2A - procedência'!Y6 -> 1.1588367 | I6: ='CV Rotina <2A - procedência'!S6 -> 1.082774 | J6: ='CV Rotina <2A - procedência'!U6 -> 0.97091723 | K6: ='CV Rotina <2A - procedência'!W6 -> 1.0693512 | L6: ='CV Rotina <2A - procedência'!AA6 -> 1.0782998 | M6: =COUNTIF(C6:D6,">=0,9") -> 1 | N6: =COUNTIFS(E6:L6,">=0,95") -> 8 | O6: =SUM(M6:N6) -> 9 | P6: =COUNTIF(E6:H6,">=0,95") -> 4
A7: Sul | B7: Alfredo Chaves | C7: ='CV Rotina <2A - procedência'!K7 -> 0.45528455 | D7: ='CV Rotina <2A - procedência'!AC7 -> 1.0081301 | E7: ='CV Rotina <2A - procedência'!M7 -> 0.82384824 | F7: ='CV Rotina <2A - procedência'!O7 -> 0.81300813 | G7: ='CV Rotina <2A - procedência'!Q7 -> 0.84552846 | H7: ='CV Rotina <2A - procedência'!Y7 -> 0.98644986 | I7: ='CV Rotina <2A - procedência'!S7 -> 0.81300813 | J7: ='CV Rotina <2A - procedência'!U7 -> 0.83468835 | K7: ='CV Rotina <2A - procedência'!W7 -> 0.95392954 | L7: ='CV Rotina <2A - procedência'!AA7 -> 0.96476965 | M7: =COUNTIF(C7:D7,">=0,9") -> 1 | N7: =COUNTIFS(E7:L7,">=0,95") -> 3 | O7: =SUM(M7:N7) -> 4 | P7: =COUNTIF(E7:H7,">=0,95") -> 1
A8: Central | B8: Alto Rio Novo | C8: ='CV Rotina <2A - procedência'!K8 -> 0.3956044 | D8: ='CV Rotina <2A - procedência'!AC8 -> 1.0842491 | E8: ='CV Rotina <2A - procedência'!M8 -> 1.040293 | F8: ='CV Rotina <2A - procedência'!O8 -> 1.025641 | G8: ='CV Rotina <2A - procedência'!Q8 -> 1.0695971 | H8: ='CV Rotina <2A - procedência'!Y8 -> 1.3333333 | I8: ='CV Rotina <2A - procedência'!S8 -> 1.0695971 | J8: ='CV Rotina <2A - procedência'!U8 -> 1.0549451 | K8: ='CV Rotina <2A - procedência'!W8 -> 1.0842491 | L8: ='CV Rotina <2A - procedência'!AA8 -> 1.1428571 | M8: =COUNTIF(C8:D8,">=0,9") -> 1 | N8: =COUNTIFS(E8:L8,">=0,95") -> 8 | O8: =SUM(M8:N8) -> 9 | P8: =COUNTIF(E8:H8,">=0,95") -> 4
A9: Sul | B9: Anchieta | C9: ='CV Rotina <2A - procedência'!K9 -> 0.4305949 | D9: ='CV Rotina <2A - procedência'!AC9 -> 1.0840415 | E9: ='CV Rotina <2A - procedência'!M9 -> 0.95561851 | F9: ='CV Rotina <2A - procedência'!O9 -> 0.95939566 | G9: ='CV Rotina <2A - procedência'!Q9 -> 0.99338999 | H9: ='CV Rotina <2A - procedência'!Y9 -> 0.99716714 | I9: ='CV Rotina <2A - procedência'!S9 -> 0.92917847 | J9: ='CV Rotina <2A - procedência'!U9 -> 0.79320113 | K9: ='CV Rotina <2A - procedência'!W9 -> 1.1595845 | L9: ='CV Rotina <2A - procedência'!AA9 -> 1.1444759 | M9: =COUNTIF(C9:D9,">=0,9") -> 1 | N9: =COUNTIFS(E9:L9,">=0,95") -> 6 | O9: =SUM(M9:N9) -> 7 | P9: =COUNTIF(E9:H9,">=0,95") -> 4
A10: Sul | B10: Apiacá | C10: ='CV Rotina <2A - procedência'!K10 -> 0.67555556 | D10: ='CV Rotina <2A - procedência'!AC10 -> 0.74666667 | E10: ='CV Rotina <2A - procedência'!M10 -> 0.67555556 | F10: ='CV Rotina <2A - procedência'!O10 -> 0.67555556 | G10: ='CV Rotina <2A - procedência'!Q10 -> 0.81777778 | H10: ='CV Rotina <2A - procedência'!Y10 -> 0.88888889 | I10: ='CV Rotina <2A - procedência'!S10 -> 0.88888889 | J10: ='CV Rotina <2A - procedência'!U10 -> 0.65777778 | K10: ='CV Rotina <2A - procedência'!W10 -> 0.92444444 | L10: ='CV Rotina <2A - procedência'!AA10 -> 0.81777778 | M10: =COUNTIF(C10:D10,">=0,9") -> 0 | N10: =COUNTIFS(E10:L10,">=0,95") -> 0 | O10: =SUM(M10:N10) -> 0 | P10: =COUNTIF(E10:H10,">=0,95") -> 0
A11: Metropolitana | B11: Aracruz | C11: ='CV Rotina <2A - procedência'!K11 -> 0.96898657 | D11: ='CV Rotina <2A - procedência'!AC11 -> 1.0178266 | E11: ='CV Rotina <2A - procedência'!M11 -> 0.95531136 | F11: ='CV Rotina <2A - procedência'!O11 -> 0.94358974 | G11: ='CV Rotina <2A - procedência'!Q11 -> 0.88302808 | H11: ='CV Rotina <2A - procedência'!Y11 -> 1.0764347 | I11: ='CV Rotina <2A - procedência'!S11 -> 0.92600733 | J11: ='CV Rotina <2A - procedência'!U11 -> 0.81172161 | K11: ='CV Rotina <2A - procedência'!W11 -> 0.97680098 | L11: ='CV Rotina <2A - procedência'!AA11 -> 0.97289377 | M11: =COUNTIF(C11:D11,">=0,9") -> 2 | N11: =COUNTIFS(E11:L11,">=0,95") -> 4 | O11: =SUM(M11:N11) -> 6 | P11: =COUNTIF(E11:H11,">=0,95") -> 2
A12: Sul | B12: Atilio Vivacqua | C12: ='CV Rotina <2A - procedência'!K12 -> 0.15932914 | D12: ='CV Rotina <2A - procedência'!AC12 -> 0.8721174 | E12: ='CV Rotina <2A - procedência'!M12 -> 0.76310273 | F12: ='CV Rotina <2A - procedência'!O12 -> 0.77148847 | G12: ='CV Rotina <2A - procedência'!Q12 -> 0.71278826 | H12: ='CV Rotina <2A - procedência'!Y12 -> 1.0314465 | I12: ='CV Rotina <2A - procedência'!S12 -> 0.83018868 | J12: ='CV Rotina <2A - procedência'!U12 -> 0.67085954 | K12: ='CV Rotina <2A - procedência'!W12 -> 1.1236897 | L12: ='CV Rotina <2A - procedência'!AA12 -> 1.148847 | M12: =COUNTIF(C12:D12,">=0,9") -> 0 | N12: =COUNTIFS(E12:L12,">=0,95") -> 3 | O12: =SUM(M12:N12) -> 3 | P12: =COUNTIF(E12:H12,">=0,95") -> 1
A13: Central | B13: Baixo Guandu | C13: ='CV Rotina <2A - procedência'!K13 -> 0.38697318 | D13: ='CV Rotina <2A - procedência'!AC13 -> 1.0498084 | E13: ='CV Rotina <2A - procedência'!M13 -> 0.91187739 | F13: ='CV Rotina <2A - procedência'!O13 -> 0.90804598 | G13: ='CV Rotina <2A - procedência'!Q13 -> 1.0268199 | H13: ='CV Rotina <2A - procedência'!Y13 -> 1.0229885 | I13: ='CV Rotina <2A - procedência'!S13 -> 1.0076628 | J13: ='CV Rotina <2A - procedência'!U13 -> 0.85823755 | K13: ='CV Rotina <2A - procedência'!W13 -> 0.96551724 | L13: ='CV Rotina <2A - procedência'!AA13 -> 0.99616858 | M13: =COUNTIF(C13:D13,">=0,9") -> 1 | N13: =COUNTIFS(E13:L13,">=0,95") -> 5 | O13: =SUM(M13:N13) -> 6 | P13: =COUNTIF(E13:H13,">=0,95") -> 2
A14: Norte | B14: Barra de São Francisco | C14: ='CV Rotina <2A - procedência'!K14 -> 0.62691652 | D14: ='CV Rotina <2A - procedência'!AC14 -> 1.0176036 | E14: ='CV Rotina <2A - procedência'!M14 -> 0.90630324 | F14: ='CV Rotina <2A - procedência'!O14 -> 0.91538898 | G14: ='CV Rotina <2A - procedência'!Q14 -> 0.96763203 | H14: ='CV Rotina <2A - procedência'!Y14 -> 0.91766042 | I14: ='CV Rotina <2A - procedência'!S14 -> 0.91766042 | J14: ='CV Rotina <2A - procedência'!U14 -> 0.76547416 | K14: ='CV Rotina <2A - procedência'!W14 -> 0.80181715 | L14: ='CV Rotina <2A - procedência'!AA14 -> 0.79045997 | M14: =COUNTIF(C14:D14,">=0,9") -> 1 | N14: =COUNTIFS(E14:L14,">=0,95") -> 1 | O14: =SUM(M14:N14) -> 2 | P14: =COUNTIF(E14:H14,">=0,95") -> 1
... A80: Metropolitana | B80: Vitória | C80: ='CV Rotina <2A - procedência'!K80 -> 2.0815704 | D80: ='CV Rotina <2A - procedência'!AC80 -> 1.2746331 | E80: ='CV Rotina <2A - procedência'!M80 -> 1.2151706 | F80: ='CV Rotina <2A - procedência'!O80 -> 1.2067848 | G80: ='CV Rotina <2A - procedência'!Q80 -> 1.3440061 | H80: ='CV Rotina <2A - procedência'!Y80 -> 1.1053936 | I80: ='CV Rotina <2A - procedência'!S80 -> 1.3253288 | J80: ='CV Rotina <2A - procedência'!U80 -> 0.80960549 | K80: ='CV Rotina <2A - procedência'!W80 -> 1.0535544 | L80: ='CV Rotina <2A - procedência'!AA80 -> 1.0714694 | M80: =COUNTIF(C80:D80,">=0,9") -> 2 | N80: =COUNTIFS(E80:L80,">=0,95") -> 7 | O80: =SUM(M80:N80) -> 9 | P80: =COUNTIF(E80:H80,">=0,95") -> 4
B82: Total Norte | C82: ='CV Rotina <2A - procedência'!K82 -> 0.88333333 | D82: ='CV Rotina <2A - procedência'!AC82 -> 1.0701878 | E82: ='CV Rotina <2A - procedência'!M82 -> 0.98685446 | F82: ='CV Rotina <2A - procedência'!O82 -> 0.97488263 | G82: ='CV Rotina <2A - procedência'!Q82 -> 1.0070423 | H82: ='CV Rotina <2A - procedência'!Y82 -> 1.0152582 | I82: ='CV Rotina <2A - procedência'!S82 -> 0.98122066 | J82: ='CV Rotina <2A - procedência'!U82 -> 0.80985915 | K82: ='CV Rotina <2A - procedência'!W82 -> 0.94577465 | L82: ='CV Rotina <2A - procedência'!AA82 -> 0.90305164 | M82: =COUNTIF(C82:D82,">=0,9") -> 1 | N82: =COUNTIFS(E82:L82,">=0,95") -> 5 | O82: =SUM(M82:N82) -> 6 | P82: =COUNTIF(E82:H82,">=0,95") -> 4
B83: Total Central | C83: ='CV Rotina <2A - procedência'!K83 -> 1.1379179 | D83: ='CV Rotina <2A - procedência'!AC83 -> 1.0066858 | E83: ='CV Rotina <2A - procedência'!M83 -> 0.93906399 | F83: ='CV Rotina <2A - procedência'!O83 -> 0.92817574 | G83: ='CV Rotina <2A - procedência'!Q83 -> 0.93428844 | H83: ='CV Rotina <2A - procedência'!Y83 -> 0.96313276 | I83: ='CV Rotina <2A - procedência'!S83 -> 0.94574976 | J83: ='CV Rotina <2A - procedência'!U83 -> 0.7921681 | K83: ='CV Rotina <2A - procedência'!W83 -> 0.88748806 | L83: ='CV Rotina <2A - procedência'!AA83 -> 0.9182426 | M83: =COUNTIF(C83:D83,">=0,9") -> 2 | N83: =COUNTIFS(E83:L83,">=0,95") -> 1 | O83: =SUM(M83:N83) -> 3 | P83: =COUNTIF(E83:H83,">=0,95") -> 1
B84: Total Metropolitana | C84: ='CV Rotina <2A - procedência'!K84 -> 0.9776893 | D84: ='CV Rotina <2A - procedência'!AC84 -> 0.99425642 | E84: ='CV Rotina <2A - procedência'!M84 -> 0.89906409 | F84: ='CV Rotina <2A - procedência'!O84 -> 0.89155855 | G84: ='CV Rotina <2A - procedência'!Q84 -> 0.92386902 | H84: ='CV Rotina <2A - procedência'!Y84 -> 0.9640054 | I84: ='CV Rotina <2A - procedência'!S84 -> 0.93370861 | J84: ='CV Rotina <2A - procedência'!U84 -> 0.73206563 | K84: ='CV Rotina <2A - procedência'!W84 -> 0.88689046 | L84: ='CV Rotina <2A - procedência'!AA84 -> 0.86519759 | M84: =COUNTIF(C84:D84,">=0,9") -> 2 | N84: =COUNTIFS(E84:L84,">=0,95") -> 1 | O84: =SUM(M84:N84) -> 3 | P84: =COUNTIF(E84:H84,">=0,95") -> 1
B85: Total Sul | C85: ='CV Rotina <2A - procedência'!K85 -> 0.97931203 | D85: ='CV Rotina <2A - procedência'!AC85 -> 0.98714653 | E85: ='CV Rotina <2A - procedência'!M85 -> 0.92626596 | F85: ='CV Rotina <2A - procedência'!O85 -> 0.92234872 | G85: ='CV Rotina <2A - procedência'!Q85 -> 0.89998776 | H85: ='CV Rotina <2A - procedência'!Y85 -> 0.99955115 | I85: ='CV Rotina <2A - procedência'!S85 -> 0.93116252 | J85: ='CV Rotina <2A - procedência'!U85 -> 0.76043579 | K85: ='CV Rotina <2A - procedência'!W85 -> 0.93818093 | L85: ='CV Rotina <2A - procedência'!AA85 -> 0.96021545 | M85: =COUNTIF(C85:D85,">=0,9") -> 2 | N85: =COUNTIFS(E85:L85,">=0,95") -> 2 | O85: =SUM(M85:N85) -> 4 | P85: =COUNTIF(E85:H85,">=0,95") -> 1
B86: Total Espírito Santo | C86: ='CV Rotina <2A - procedência'!K86 -> 0.98961231 | D86: ='CV Rotina <2A - procedência'!AC86 -> 1.0034626 | E86: ='CV Rotina <2A - procedência'!M86 -> 0.91908012 | F86: ='CV Rotina <2A - procedência'!O86 -> 0.91118094 | G86: ='CV Rotina <2A - procedência'!Q86 -> 0.93087551 | H86: ='CV Rotina <2A - procedência'!Y86 -> 0.97552189 | I86: ='CV Rotina <2A - procedência'!S86 -> 0.94037588 | J86: ='CV Rotina <2A - procedência'!U86 -> 0.75394459 | K86: ='CV Rotina <2A - procedência'!W86 -> 0.90205419 | L86: ='CV Rotina <2A - procedência'!AA86 -> 0.89244708 | M86: =COUNTIF(C86:D86,">=0,9") -> 2 | N86: =COUNTIFS(E86:L86,">=0,95") -> 1 | O86: =SUM(M86:N86) -> 3 | P86: =COUNTIF(E86:H86,">=0,95") -> 1
A89: Fonte: SIPNI/DATASUS, em 09 de junho de 2023.*
A90: Vacina e Confia, em 12 de junho de 2023.**
A91: *Dados referentes às doses aplicadas pelas clínicas particulares de janeiro a maio de 2023
A92: **Dados referente às doses aplicadas no período de janeiro a maio de 2023
A93: Cobertura Calculada por município de vacinação
A94: 1 População proporcional extraída do MS/SVS/DASIS - Sistema de Informações sobre Nascidos Vivos - SINASC
A95: 2000 a 2021 – Estimativas preliminares elaboradas pelo Ministério da Saúde/SVS/DASNT/CGIAE
A96: Nota: Dados preliminares 2021

Sheet cálculos2
C1: 0.9 | E1: 0.95
A2: Regional | B2: Município | C2: Cobertura Vacinal BCG | D2: Cobertura Vacinal Rotavírus | E2: Cobertura Vacinal Pentavalente | F2: Cobertura Vacinal Poliomielite | G2: Cobertura Vacinal Pneumo 10 | H2: Cobertura Vacinal Tríplice Viral | I2: Cobertura Vacinal Meningo C | J2: Cobertura Vacinal Febre Amarela | K2: Cobertura Vacinal Hepatite A | L2: Cobertura Varicela | M2: META 90% | N2: META 95% | O2: ATINGIRAM META | P2: PQA-VS
A3: Metropolitana | B3: Afonso Cláudio | C3: ='CV Rotina <2A - residência'!K3 -> 0.8627451 | D3: ='CV Rotina <2A - residência'!AC3 -> 0.92623716 | E3: ='CV Rotina <2A - residência'!M3 -> 0.88515406 | F3: ='CV Rotina <2A - residência'!O3 -> 0.87768441 | G3: ='CV Rotina <2A - residência'!Q3 -> 0.8627451 | H3: ='CV Rotina <2A - residência'!Y3 -> 0.98225957 | I3: ='CV Rotina <2A - residência'!S3 -> 0.79925303 | J3: ='CV Rotina <2A - residência'!U3 -> 0.92250233 | K3: ='CV Rotina <2A - residência'!W3 -> 1.0793651 | L3: ='CV Rotina <2A - residência'!AA3 -> 1.0793651 | M3: =COUNTIF(C3:D3,">=0,9") -> 1 | N3: =COUNTIFS(E3:L3,">=0,95") -> 3 | O3: =SUM(M3:N3) -> 4 | P3: =COUNTIF(E3:H3,">=0,95") -> 1
A4: Norte | B4: Água Doce do Norte | C4: ='CV Rotina <2A - residência'!K4 -> 0.75213675 | D4: ='CV Rotina <2A - residência'!AC4 -> 0.76581197 | E4: ='CV Rotina <2A - residência'!M4 -> 0.72478632 | F4: ='CV Rotina <2A - residência'!O4 -> 0.69059829 | G4: ='CV Rotina <2A - residência'!Q4 -> 0.7042735 | H4: ='CV Rotina <2A - residência'!Y4 -> 0.68376068 | I4: ='CV Rotina <2A - residência'!S4 -> 0.64273504 | J4: ='CV Rotina <2A - residência'!U4 -> 0.54017094 | K4: ='CV Rotina <2A - residência'!W4 -> 0.63589744 | L4: ='CV Rotina <2A - residência'!AA4 -> 0.62222222 | M4: =COUNTIF(C4:D4,">=0,9") -> 0 | N4: =COUNTIFS(E4:L4,">=0,95") -> 0 | O4: =SUM(M4:N4) -> 0 | P4: =COUNTIF(E4:H4,">=0,95") -> 0
A5: Central | B5: Águia Branca | C5: ='CV Rotina <2A - residência'!K5 -> 1.170068 | D5: ='CV Rotina <2A - residência'!AC5 -> 1.0521542 | E5: ='CV Rotina <2A - residência'!M5 -> 1.015873 | F5: ='CV Rotina <2A - residência'!O5 -> 1.015873 | G5: ='CV Rotina <2A - residência'!Q5 -> 1.0068027 | H5: ='CV Rotina <2A - residência'!Y5 -> 1.1972789 | I5: ='CV Rotina <2A - residência'!S5 -> 0.89795918 | J5: ='CV Rotina <2A - residência'!U5 -> 1.0340136 | K5: ='CV Rotina <2A - residência'!W5 -> 1.0340136 | L5: ='CV Rotina <2A - residência'!AA5 -> 1.0430839 | M5: =COUNTIF(C5:D5,">=0,9") -> 2 | N5: =COUNTIFS(E5:L5,">=0,95") -> 7 | O5: =SUM(M5:N5) -> 9 | P5: =COUNTIF(E5:H5,">=0,95") -> 4
A6: Sul | B6: Alegre | C6: ='CV Rotina <2A - residência'!K6 -> 1.0425056 | D6: ='CV Rotina <2A - residência'!AC6 -> 1.0067114 | E6: ='CV Rotina <2A - residência'!M6 -> 0.93064877 | F6: ='CV Rotina <2A - residência'!O6 -> 0.93064877 | G6: ='CV Rotina <2A - residência'!Q6 -> 0.94407159 | H6: ='CV Rotina <2A - residência'!Y6 -> 1.082774 | I6: ='CV Rotina <2A - residência'!S6 -> 0.81879195 | J6: ='CV Rotina <2A - residência'!U6 -> 0.89038031 | K6: ='CV Rotina <2A - residência'!W6 -> 0.99776286 | L6: ='CV Rotina <2A - residência'!AA6 -> 1.0246085 | M6: =COUNTIF(C6:D6,">=0,9") -> 2 | N6: =COUNTIFS(E6:L6,">=0,95") -> 3 | O6: =SUM(M6:N6) -> 5 | P6: =COUNTIF(E6:H6,">=0,95") -> 1
A7: Sul | B7: Alfredo Chaves | C7: ='CV Rotina <2A - residência'!K7 -> 1.0298103 | D7: ='CV Rotina <2A - residência'!AC7 -> 0.98644986 | E7: ='CV Rotina <2A - residência'!M7 -> 0.87804878 | F7: ='CV Rotina <2A - residência'!O7 -> 0.86720867 | G7: ='CV Rotina <2A - residência'!Q7 -> 0.95392954 | H7: ='CV Rotina <2A - residência'!Y7 -> 0.91056911 | I7: ='CV Rotina <2A - residência'!S7 -> 0.75880759 | J7: ='CV Rotina <2A - residência'!U7 -> 0.82384824 | K7: ='CV Rotina <2A - residência'!W7 -> 0.86720867 | L7: ='CV Rotina <2A - residência'!AA7 -> 0.87804878 | M7: =COUNTIF(C7:D7,">=0,9") -> 2 | N7: =COUNTIFS(E7:L7,">=0,95") -> 1 | O7: =SUM(M7:N7) -> 3 | P7: =COUNTIF(E7:H7,">=0,95") -> 1
A8: Central | B8: Alto Rio Novo | C8: ='CV Rotina <2A - residência'!K8 -> 1.2161172 | D8: ='CV Rotina <2A - residência'!AC8 -> 1.1282051 | E8: ='CV Rotina <2A - residência'!M8 -> 1.0549451 | F8: ='CV Rotina <2A - residência'!O8 -> 1.040293 | G8: ='CV Rotina <2A - residência'!Q8 -> 1.1135531 | H8: ='CV Rotina <2A - residência'!Y8 -> 1.2454212 | I8: ='CV Rotina <2A - residência'!S8 -> 0.93772894 | J8: ='CV Rotina <2A - residência'!U8 -> 1.025641 | K8: ='CV Rotina <2A - residência'!W8 -> 0.95238095 | L8: ='CV Rotina <2A - residência'!AA8 -> 0.98168498 | M8: =COUNTIF(C8:D8,">=0,9") -> 2 | N8: =COUNTIFS(E8:L8,">=0,95") -> 7 | O8: =SUM(M8:N8) -> 9 | P8: =COUNTIF(E8:H8,">=0,95") -> 4
A9: Sul | B9: Anchieta | C9: ='CV Rotina <2A - residência'!K9 -> 1.0915958 | D9: ='CV Rotina <2A - residência'!AC9 -> 1.1784703 | E9: ='CV Rotina <2A - residência'!M9 -> 1.0462701 | F9: ='CV Rotina <2A - residência'!O9 -> 1.0500472 | G9: ='CV Rotina <2A - residência'!Q9 -> 1.1293673 | H9: ='CV Rotina <2A - residência'!Y9 -> 1.0424929 | I9: ='CV Rotina <2A - residência'!S9 -> 0.91784703 | J9: ='CV Rotina <2A - residência'!U9 -> 0.82341832 | K9: ='CV Rotina <2A - residência'!W9 -> 1.1784703 | L9: ='CV Rotina <2A - residência'!AA9 -> 1.1558074 | M9: =COUNTIF(C9:D9,">=0,9") -> 2 | N9: =COUNTIFS(E9:L9,">=0,95") -> 6 | O9: =SUM(M9:N9) -> 8 | P9: =COUNTIF(E9:H9,">=0,95") -> 4
A10: Sul | B10: Apiacá | C10: ='CV Rotina <2A - residência'!K10 -> 0.78222222 | D10: ='CV Rotina <2A - residência'!AC10 -> 0.72888889 | E10: ='CV Rotina <2A - residência'!M10 -> 0.74666667 | F10: ='CV Rotina <2A - residência'!O10 -> 0.72888889 | G10: ='CV Rotina <2A - residência'!Q10 -> 0.8 | H10: ='CV Rotina <2A - residência'!Y10 -> 0.74666667 | I10: ='CV Rotina <2A - residência'!S10 -> 0.8 | J10: ='CV Rotina <2A - residência'!U10 -> 0.56888889 | K10: ='CV Rotina <2A - residência'!W10 -> 0.74666667 | L10: ='CV Rotina <2A - residência'!AA10 -> 0.67555556 | M10: =COUNTIF(C10:D10,">=0,9") -> 0 | N10: =COUNTIFS(E10:L10,">=0,95") -> 0 | O10: =SUM(M10:N10) -> 0 | P10: =COUNTIF(E10:H10,">=0,95") -> 0
A11: Metropolitana | B11: Aracruz | C11: ='CV Rotina <2A - residência'!K11 -> 1.1018315 | D11: ='CV Rotina <2A - residência'!AC11 -> 1.0236874 | E11: ='CV Rotina <2A - residência'!M11 -> 0.95238095 | F11: ='CV Rotina <2A - residência'!O11 -> 0.94261294 | G11: ='CV Rotina <2A - residência'!Q11 -> 0.89279609 | H11: ='CV Rotina <2A - residência'!Y11 -> 1.0578755 | I11: ='CV Rotina <2A - residência'!S11 -> 0.81465201 | J11: ='CV Rotina <2A - residência'!U11 -> 0.79120879 | K11: ='CV Rotina <2A - residência'!W11 -> 0.97094017 | L11: ='CV Rotina <2A - residência'!AA11 -> 0.96410256 | M11: =COUNTIF(C11:D11,">=0,9") -> 2 | N11: =COUNTIFS(E11:L11,">=0,95") -> 4 | O11: =SUM(M11:N11) -> 6 | P11: =COUNTIF(E11:H11,">=0,95") -> 2
A12: Sul | B12: Atilio Vivacqua | C12: ='CV Rotina <2A - residência'!K12 -> 0.99790356 | D12: ='CV Rotina <2A - residência'!AC12 -> 0.91404612 | E12: ='CV Rotina <2A - residência'!M12 -> 0.80503145 | F12: ='CV Rotina <2A - residência'!O12 -> 0.80503145 | G12: ='CV Rotina <2A - residência'!Q12 -> 0.75471698 | H12: ='CV Rotina <2A - residência'!Y12 -> 1.1069182 | I12: ='CV Rotina <2A - residência'!S12 -> 0.77148847 | J12: ='CV Rotina <2A - residência'!U12 -> 0.67924528 | K12: ='CV Rotina <2A - residência'!W12 -> 1.1823899 | L12: ='CV Rotina <2A - residência'!AA12 -> 1.1907757 | M12: =COUNTIF(C12:D12,">=0,9") -> 2 | N12: =COUNTIFS(E12:L12,">=0,95") -> 3 | O12: =SUM(M12:N12) -> 5 | P12: =COUNTIF(E12:H12,">=0,95") -> 1
A13: Central | B13: Baixo Guandu | C13: ='CV Rotina <2A - residência'!K13 -> 0.93103448 | D13: ='CV Rotina <2A - residência'!AC13 -> 0.93869732 | E13: ='CV Rotina <2A - residência'!M13 -> 0.80842912 | F13: ='CV Rotina <2A - residência'!O13 -> 0.8045977 | G13: ='CV Rotina <2A - residência'!Q13 -> 0.90421456 | H13: ='CV Rotina <2A - residência'!Y13 -> 0.99616858 | I13: ='CV Rotina <2A - residência'!S13 -> 0.74712644 | J13: ='CV Rotina <2A - residência'!U13 -> 0.85440613 | K13: ='CV Rotina <2A - residência'!W13 -> 0.92337165 | L13: ='CV Rotina <2A - residência'!AA13 -> 0.95019157 | M13: =COUNTIF(C13:D13,">=0,9") -> 2 | N13: =COUNTIFS(E13:L13,">=0,95") -> 2 | O13: =SUM(M13:N13) -> 4 | P13: =COUNTIF(E13:H13,">=0,95") -> 1
A14: Norte | B14: Barra de São Francisco | C14: ='CV Rotina <2A - residência'!K14 -> 0.89721749 | D14: ='CV Rotina <2A - residência'!AC14 -> 0.97898921 | E14: ='CV Rotina <2A - residência'!M14 -> 0.88358887 | F14: ='CV Rotina <2A - residência'!O14 -> 0.89494605 | G14: ='CV Rotina <2A - residência'!Q14 -> 0.93583191 | H14: ='CV Rotina <2A - residência'!Y14 -> 0.91084611 | I14: ='CV Rotina <2A - residência'!S14 -> 0.77910278 | J14: ='CV Rotina <2A - residência'!U14 -> 0.76093129 | K14: ='CV Rotina <2A - residência'!W14 -> 0.80636002 | L14: ='CV Rotina <2A - residência'!AA14 -> 0.78137422 | M14: =COUNTIF(C14:D14,">=0,9") -> 1 | N14: =COUNTIFS(E14:L14,">=0,95") -> 0 | O14: =SUM(M14:N14) -> 1 | P14: =COUNTIF(E14:H14,">=0,95") -> 0
... A80: Metropolitana | B80: Vitória | C80: ='CV Rotina <2A - residência'!K80 -> 1.1549457 | D80: ='CV Rotina <2A - residência'!AC80 -> 1.256337 | E80: ='CV Rotina <2A - residência'!M80 -> 1.135506 | F80: ='CV Rotina <2A - residência'!O80 -> 1.1271203 | G80: ='CV Rotina <2A - residência'!Q80 -> 1.209453 | H80: ='CV Rotina <2A - residência'!Y80 -> 1.220507 | I80: ='CV Rotina <2A - residência'!S80 -> 1.0402135 | J80: ='CV Rotina <2A - residência'!U80 -> 0.88393368 | K80: ='CV Rotina <2A - residência'!W80 -> 1.1522775 | L80: ='CV Rotina <2A - residência'!AA80 -> 1.1717172 | M80: =COUNTIF(C80:D80,">=0,9") -> 2 | N80: =COUNTIFS(E80:L80,">=0,95") -> 7 | O80: =SUM(M80:N80) -> 9 | P80: =COUNTIF(E80:H80,">=0,95") -> 4
B82: Total Norte | C82: ='CV Rotina <2A - residência'!K82 -> 1.0068075 | D82: ='CV Rotina <2A - residência'!AC82 -> 1.0483568 | E82: ='CV Rotina <2A - residência'!M82 -> 0.96666667 | F82: ='CV Rotina <2A - residência'!O82 -> 0.95657277 | G82: ='CV Rotina <2A - residência'!Q82 -> 0.98943662 | H82: ='CV Rotina <2A - residência'!Y82 -> 0.99812207 | I82: ='CV Rotina <2A - residência'!S82 -> 0.86267606 | J82: ='CV Rotina <2A - residência'!U82 -> 0.79413146 | K82: ='CV Rotina <2A - residência'!W82 -> 0.9286385 | L82: ='CV Rotina <2A - residência'!AA82 -> 0.89061033 | M82: =COUNTIF(C82:D82,">=0,9") -> 2 | N82: =COUNTIFS(E82:L82,">=0,95") -> 4 | O82: =SUM(M82:N82) -> 6 | P82: =COUNTIF(E82:H82,">=0,95") -> 4
B83: Total Central | C83: ='CV Rotina <2A - residência'!K83 -> 1.0307545 | D83: ='CV Rotina <2A - residência'!AC83 -> 0.98586437 | E83: ='CV Rotina <2A - residência'!M83 -> 0.92282713 | F83: ='CV Rotina <2A - residência'!O83 -> 0.91174785 | G83: ='CV Rotina <2A - residência'!Q83 -> 0.91595033 | H83: ='CV Rotina <2A - residência'!Y83 -> 0.9434575 | I83: ='CV Rotina <2A - residência'!S83 -> 0.82731614 | J83: ='CV Rotina <2A - residência'!U83 -> 0.78567335 | K83: ='CV Rotina <2A - residência'!W83 -> 0.87430755 | L83: ='CV Rotina <2A - residência'!AA83 -> 0.90124164 | M83: =COUNTIF(C83:D83,">=0,9") -> 2 | N83: =COUNTIFS(E83:L83,">=0,95") -> 0 | O83: =SUM(M83:N83) -> 2 | P83: =COUNTIF(E83:H83,">=0,95") -> 0
B84: Total Metropolitana | C84: ='CV Rotina <2A - residência'!K84 -> 0.97059564 | D84: ='CV Rotina <2A - residência'!AC84 -> 0.97924533 | E84: ='CV Rotina <2A - residência'!M84 -> 0.88574632 | F84: ='CV Rotina <2A - residência'!O84 -> 0.87805771 | G84: ='CV Rotina <2A - residência'!Q84 -> 0.90881216 | H84: ='CV Rotina <2A - residência'!Y84 -> 0.95187753 | I84: ='CV Rotina <2A - residência'!S84 -> 0.81064507 | J84: ='CV Rotina <2A - residência'!U84 -> 0.72153955 | K84: ='CV Rotina <2A - residência'!W84 -> 0.87224549 | L84: ='CV Rotina <2A - residência'!AA84 -> 0.85201712 | M84: =COUNTIF(C84:D84,">=0,9") -> 2 | N84: =COUNTIFS(E84:L84,">=0,95") -> 1 | O84: =SUM(M84:N84) -> 3 | P84: =COUNTIF(E84:H84,">=0,95") -> 1
B85: Total Sul | C85: ='CV Rotina <2A - residência'!K85 -> 0.98045456 | D85: ='CV Rotina <2A - residência'!AC85 -> 0.98127066 | E85: ='CV Rotina <2A - residência'!M85 -> 0.92169584 | F85: ='CV Rotina <2A - residência'!O85 -> 0.91647284 | G85: ='CV Rotina <2A - residência'!Q85 -> 0.89868201 | H85: ='CV Rotina <2A - residência'!Y85 -> 0.98714653 | I85: ='CV Rotina <2A - residência'!S85 -> 0.81576692 | J85: ='CV Rotina <2A - residência'!U85 -> 0.75227486 | K85: ='CV Rotina <2A - residência'!W85 -> 0.93001999 | L85: ='CV Rotina <2A - residência'!AA85 -> 0.95074877 | M85: =COUNTIF(C85:D85,">=0,9") -> 2 | N85: =COUNTIFS(E85:L85,">=0,95") -> 2 | O85: =SUM(M85:N85) -> 4 | P85: =COUNTIF(E85:H85,">=0,95") -> 1
B86: Total Espírito Santo | C86: ='CV Rotina <2A - residência'!K86 -> 0.9847287 | D86: ='CV Rotina <2A - residência'!AC86 -> 0.98835805 | E86: ='CV Rotina <2A - residência'!M86 -> 0.90600378 | F86: ='CV Rotina <2A - residência'!O86 -> 0.89797117 | G86: ='CV Rotina <2A - residência'!Q86 -> 0.91731882 | H86: ='CV Rotina <2A - residência'!Y86 -> 0.96172501 | I86: ='CV Rotina <2A - residência'!S86 -> 0.8197266 | J86: ='CV Rotina <2A - residência'!U86 -> 0.74377706 | K86: ='CV Rotina <2A - residência'!W86 -> 0.88839074 | L86: ='CV Rotina <2A - residência'!AA86 -> 0.87942411 | M86: =COUNTIF(C86:D86,">=0,9") -> 2 | N86: =COUNTIFS(E86:L86,">=0,95") -> 1 | O86: =SUM(M86:N86) -> 3 | P86: =COUNTIF(E86:H86,">=0,95") -> 1
A89: Fonte: SIPNI/DATASUS, em 09 de junho de 2023.*
A90: Vacina e Confia, em 12 de junho de 2023.**
A91: *Dados referentes às doses aplicadas pelas clínicas particulares de janeiro a maio de 2023
A92: **Dados referente às doses aplicadas no período de janeiro a maio de 2023
A93: Cobertura Calculada por município de vacinação
A94: 1 População proporcional extraída do MS/SVS/DASIS - Sistema de Informações sobre Nascidos Vivos - SINASC
A95: 2000 a 2021 – Estimativas preliminares elaboradas pelo Ministério da Saúde/SVS/DASNT/CGIAE
A96: Nota: Dados preliminares 2021

Sheet CV Rotina <2A - procedência
D1: AO NASCER | L1: MENOR DE 1 ANO | V1: 1 ANO | AB1: MENOR DE 2 ANOS | AE1: MENOR DE 1 ANO
A2: Regional | B2: Município | C2: ¹População < 1 ano e 1 ano | D2: Doses Aplicadas HB ≤30 dias | E2: Cobertura Vacinal HB até 30 dias | F2: Doses Aplicadas HB ≤2 dias | G2: Cobertura Vacinal HB até 2 dias | H2: Doses Aplicadas HB ≤1 dia | I2: Cobertura Vacinal HB até 1 dia | J2: Doses Aplicadas BCG | K2: Cobertura Vacinal BCG | L2: Doses Aplicadas Pentavalente | M2: Cobertura Vacinal Pentavalente | N2: Doses Aplicadas Poliomielite | O2: Cobertura Vacinal Poliomielite | P2: Doses Aplicadas Pneumo 10 | Q2: Cobertura Vacinal Pneumo 10 | R2: Doses Aplicadas Meningo C | S2: Cobertura Vacinal Meningo C | T2: Doses Aplicadas Febre Amarela | U2: Cobertura Vacinal Febre Amarela | V2: Doses Aplicadas Hepatite A | W2: Cobertura Vacinal Hepatite A | X2: Doses Aplicadas de Tríplice Viral | Y2: Cobertura Vacinal Tríplice Viral | Z2: Doses Aplicadas Varicela | AA2: Cobertura Varicela | AB2: Doses Aplicadas Rotavírus | AC2: Cobertura Vacinal Rotavírus | AE2: Doses Aplicadas COVID-19 | AF2: Cobertura Vacinal COVID-19 | AH2: VACINAS QUE ATINGIRAM A META DE CV | AI2: HOMOGENEIDADE ENTRE AS 10 VACINAS | AJ2: VACINAS DO PQA-VS QUE ATINGIRAM A META DE CV | AK2: HOMOGENEIDADE ENTRE AS VACINAS DO PQA-VS
A3: Metropolitana | B3: Afonso Cláudio | C3: 267.75 | D3: 193 | E3: =D3/C3 -> 0.72082166 | F3: 146 | G3: =F3/C3 -> 0.54528478 | H3: 97 | I3: =H3/C3 -> 0.36227824 | J3: 203 | K3: =J3/C3 -> 0.75816993 | L3: 223 | M3: =L3/C3 -> 0.83286648 | N3: 221 | O3: =N3/C3 -> 0.82539683 | P3: 225 | Q3: =P3/C3 -> 0.84033613 | R3: 221 | S3: =R3/C3 -> 0.82539683 | T3: 244 | U3: =T3/C3 -> 0.91129785 | V3: 292 | W3: =V3/C3 -> 1.0905696 | X3: 259 | Y3: =X3/C3 -> 0.96732026 | Z3: 288 | AA3: =Z3/C3 -> 1.0756303 | AB3: 235 | AC3: =AB3/C3 -> 0.87768441 | AE3: 0 | AF3: =AE3/C3 -> 0 | AH3: =cálculos1!O3 -> 3 | AI3: =AH3*0.1 -> 0.3 | AJ3: =cálculos1!P3 -> 1 | AK3: =AJ3*0.25 -> 0.25 | AM3: LEGENDA / HOMOGENEIDADE PQA-VS
A4: Norte | B4: Água Doce do Norte | C4: 146.25 | D4: 54 | E4: =D4/C4 -> 0.36923077 | F4: 1 | G4: =F4/C4 -> 0.0068376068 | H4: 0 | I4: =H4/C4 -> 0 | J4: 53 | K4: =J4/C4 -> 0.36239316 | L4: 115 | M4: =L4/C4 -> 0.78632479 | N4: 110 | O4: =N4/C4 -> 0.75213675 | P4: 113 | Q4: =P4/C4 -> 0.77264957 | R4: 106 | S4: =R4/C4 -> 0.72478632 | T4: 87 | U4: =T4/C4 -> 0.59487179 | V4: 103 | W4: =V4/C4 -> 0.7042735 | X4: 114 | Y4: =X4/C4 -> 0.77948718 | Z4: 100 | AA4: =Z4/C4 -> 0.68376068 | AB4: 122 | AC4: =AB4/C4 -> 0.83418803 | AE4: 0 | AF4: =AE4/C4 -> 0 | AH4: =cálculos1!O4 -> 0 | AI4: =AH4*0.1 -> 0 | AJ4: =cálculos1!P4 -> 0 | AK4: =AJ4*0.25 -> 0 | AM4: PERCENTUAL | AN4: Nº DE MUNICÍPIOS
A5: Central | B5: Águia Branca | C5: 110.25 | D5: 82 | E5: =D5/C5 -> 0.74376417 | F5: 3 | G5: =F5/C5 -> 0.027210884 | H5: 0 | I5: =H5/C5 -> 0 | J5: 81 | K5: =J5/C5 -> 0.73469388 | L5: 108 | M5: =L5/C5 -> 0.97959184 | N5: 108 | O5: =N5/C5 -> 0.97959184 | P5: 104 | Q5: =P5/C5 -> 0.94331066 | R5: 102 | S5: =R5/C5 -> 0.92517007 | T5: 120 | U5: =T5/C5 -> 1.0884354 | V5: 106 | W5: =V5/C5 -> 0.96145125 | X5: 129 | Y5: =X5/C5 -> 1.170068 | Z5: 108 | AA5: =Z5/C5 -> 0.97959184 | AB5: 114 | AC5: =AB5/C5 -> 1.0340136 | AE5: 4 | AF5: =AE5/C5 -> 0.036281179 | AH5: =cálculos1!O5 -> 7 | AI5: =AH5*0.1 -> 0.7 | AJ5: =cálculos1!P5 -> 3 | AK5: =AJ5*0.25 -> 0.75 | AM5: 0 | AN5: =COUNTIF($AK$3:$AK$80,"=0") -> 17
A6: Sul | B6: Alegre | C6: 223.5 | D6: 128 | E6: =D6/C6 -> 0.57270694 | F6: 11 | G6: =F6/C6 -> 0.049217002 | H6: 5 | I6: =H6/C6 -> 0.022371365 | J6: 138 | K6: =J6/C6 -> 0.61744966 | L6: 219 | M6: =L6/C6 -> 0.97986577 | N6: 219 | O6: =N6/C6 -> 0.97986577 | P6: 239 | Q6: =P6/C6 -> 1.0693512 | R6: 242 | S6: =R6/C6 -> 1.082774 | T6: 217 | U6: =T6/C6 -> 0.97091723 | V6: 239 | W6: =V6/C6 -> 1.0693512 | X6: 259 | Y6: =X6/C6 -> 1.1588367 | Z6: 241 | AA6: =Z6/C6 -> 1.0782998 | AB6: 246 | AC6: =AB6/C6 -> 1.1006711 | AE6: 16 | AF6: =AE6/C6 -> 0.071588367 | AH6: =cálculos1!O6 -> 9 | AI6: =AH6*0.1 -> 0.9 | AJ6: =cálculos1!P6 -> 4 | AK6: =AJ6*0.25 -> 1 | AM6: 0.25 | AN6: =COUNTIF($AK$3:$AK$80,"=0,25") -> 25
A7: Sul | B7: Alfredo Chaves | C7: 92.25 | D7: 7 | E7: =D7/C7 -> 0.075880759 | F7: 1 | G7: =F7/C7 -> 0.010840108 | H7: 0 | I7: =H7/C7 -> 0 | J7: 42 | K7: =J7/C7 -> 0.45528455 | L7: 76 | M7: =L7/C7 -> 0.82384824 | N7: 75 | O7: =N7/C7 -> 0.81300813 | P7: 78 | Q7: =P7/C7 -> 0.84552846 | R7: 75 | S7: =R7/C7 -> 0.81300813 | T7: 77 | U7: =T7/C7 -> 0.83468835 | V7: 88 | W7: =V7/C7 -> 0.95392954 | X7: 91 | Y7: =X7/C7 -> 0.98644986 | Z7: 89 | AA7: =Z7/C7 -> 0.96476965 | AB7: 93 | AC7: =AB7/C7 -> 1.0081301 | AE7: 1 | AF7: =AE7/C7 -> 0.010840108 | AH7: =cálculos1!O7 -> 4 | AI7: =AH7*0.1 -> 0.4 | AJ7: =cálculos1!P7 -> 1 | AK7: =AJ7*0.25 -> 0.25 | AM7: 0.5 | AN7: =COUNTIF($AK$3:$AK$80,"=0,5") -> 7
A8: Central | B8: Alto Rio Novo | C8: 68.25 | D8: 21 | E8: =D8/C8 -> 0.30769231 | F8: 0 | G8: =F8/C8 -> 0 | H8: 0 | I8: =H8/C8 -> 0 | J8: 27 | K8: =J8/C8 -> 0.3956044 | L8: 71 | M8: =L8/C8 -> 1.040293 | N8: 70 | O8: =N8/C8 -> 1.025641 | P8: 73 | Q8: =P8/C8 -> 1.0695971 | R8: 73 | S8: =R8/C8 -> 1.0695971 | T8: 72 | U8: =T8/C8 -> 1.0549451 | V8: 74 | W8: =V8/C8 -> 1.0842491 | X8: 91 | Y8: =X8/C8 -> 1.3333333 | Z8: 78 | AA8: =Z8/C8 -> 1.1428571 | AB8: 74 | AC8: =AB8/C8 -> 1.0842491 | AE8: 0 | AF8: =AE8/C8 -> 0 | AH8: =cálculos1!O8 -> 9 | AI8: =AH8*0.1 -> 0.9 | AJ8: =cálculos1!P8 -> 4 | AK8: =AJ8*0.25 -> 1 | AM8: 0.75 | AN8: =COUNTIF($AK$3:$AK$80,"=0,75") -> 10
A9: Sul | B9: Anchieta | C9: 264.75 | D9: 33 | E9: =D9/C9 -> 0.12464589 | F9: 1 | G9: =F9/C9 -> 0.0037771483 | H9: 0 | I9: =H9/C9 -> 0 | J9: 114 | K9: =J9/C9 -> 0.4305949 | L9: 253 | M9: =L9/C9 -> 0.95561851 | N9: 254 | O9: =N9/C9 -> 0.95939566 | P9: 263 | Q9: =P9/C9 -> 0.99338999 | R9: 246 | S9: =R9/C9 -> 0.92917847 | T9: 210 | U9: =T9/C9 -> 0.79320113 | V9: 307 | W9: =V9/C9 -> 1.1595845 | X9: 264 | Y9: =X9/C9 -> 0.99716714 | Z9: 303 | AA9: =Z9/C9 -> 1.1444759 | AB9: 287 | AC9: =AB9/C9 -> 1.0840415 | AE9: 6 | AF9: =AE9/C9 -> 0.02266289 | AH9: =cálculos1!O9 -> 7 | AI9: =AH9*0.1 -> 0.7 | AJ9: =cálculos1!P9 -> 4 | AK9: =AJ9*0.25 -> 1 | AM9: 1 | AN9: =COUNTIF($AK$3:$AK$80,"=1,0") -> 19
A10: Sul | B10: Apiacá | C10: 56.25 | D10: 5 | E10: =D10/C10 -> 0.088888889 | F10: 0 | G10: =F10/C10 -> 0 | H10: 0 | I10: =H10/C10 -> 0 | J10: 38 | K10: =J10/C10 -> 0.67555556 | L10: 38 | M10: =L10/C10 -> 0.67555556 | N10: 38 | O10: =N10/C10 -> 0.67555556 | P10: 46 | Q10: =P10/C10 -> 0.81777778 | R10: 50 | S10: =R10/C10 -> 0.88888889 | T10: 37 | U10: =T10/C10 -> 0.65777778 | V10: 52 | W10: =V10/C10 -> 0.92444444 | X10: 50 | Y10: =X10/C10 -> 0.88888889 | Z10: 46 | AA10: =Z10/C10 -> 0.81777778 | AB10: 42 | AC10: =AB10/C10 -> 0.74666667 | AE10: 0 | AF10: =AE10/C10 -> 0 | AH10: =cálculos1!O10 -> 0 | AI10: =AH10*0.1 -> 0 | AJ10: =cálculos1!P10 -> 0 | AK10: =AJ10*0.25 -> 0
A11: Metropolitana | B11: Aracruz | C11: 1023.75 | D11: 967 | E11: =D11/C11 -> 0.94456654 | F11: 588 | G11: =F11/C11 -> 0.57435897 | H11: 353 | I11: =H11/C11 -> 0.34481074 | J11: 992 | K11: =J11/C11 -> 0.96898657 | L11: 978 | M11: =L11/C11 -> 0.95531136 | N11: 966 | O11: =N11/C11 -> 0.94358974 | P11: 904 | Q11: =P11/C11 -> 0.88302808 | R11: 948 | S11: =R11/C11 -> 0.92600733 | T11: 831 | U11: =T11/C11 -> 0.81172161 | V11: 1000 | W11: =V11/C11 -> 0.97680098 | X11: 1102 | Y11: =X11/C11 -> 1.0764347 | Z11: 996 | AA11: =Z11/C11 -> 0.97289377 | AB11: 1042 | AC11: =AB11/C11 -> 1.0178266 | AE11: 42 | AF11: =AE11/C11 -> 0.041025641 | AH11: =cálculos1!O11 -> 6 | AI11: =AH11*0.1 -> 0.6 | AJ11: =cálculos1!P11 -> 2 | AK11: =AJ11*0.25 -> 0.5
A12: Sul | B12: Atilio Vivacqua | C12: 119.25 | D12: 16 | E12: =D12/C12 -> 0.13417191 | F12: 0 | G12: =F12/C12 -> 0 | H12: 0 | I12: =H12/C12 -> 0 | J12: 19 | K12: =J12/C12 -> 0.15932914 | L12: 91 | M12: =L12/C12 -> 0.76310273 | N12: 92 | O12: =N12/C12 -> 0.77148847 | P12: 85 | Q12: =P12/C12 -> 0.71278826 | R12: 99 | S12: =R12/C12 -> 0.83018868 | T12: 80 | U12: =T12/C12 -> 0.67085954 | V12: 134 | W12: =V12/C12 -> 1.1236897 | X12: 123 | Y12: =X12/C12 -> 1.0314465 | Z12: 137 | AA12: =Z12/C12 -> 1.148847 | AB12: 104 | AC12: =AB12/C12 -> 0.8721174 | AE12: 0 | AF12: =AE12/C12 -> 0 | AH12: =cálculos1!O12 -> 3 | AI12: =AH12*0.1 -> 0.3 | AJ12: =cálculos1!P12 -> 1 | AK12: =AJ12*0.25 -> 0.25 | AM12: LEGENDA / HOMOGENEIDADE 10 VACINAS
A13: Central | B13: Baixo Guandu | C13: 261 | D13: 46 | E13: =D13/C13 -> 0.17624521 | F13: 2 | G13: =F13/C13 -> 0.0076628352 | H13: 1 | I13: =H13/C13 -> 0.0038314176 | J13: 101 | K13: =J13/C13 -> 0.38697318 | L13: 238 | M13: =L13/C13 -> 0.91187739 | N13: 237 | O13: =N13/C13 -> 0.90804598 | P13: 268 | Q13: =P13/C13 -> 1.0268199 | R13: 263 | S13: =R13/C13 -> 1.0076628 | T13: 224 | U13: =T13/C13 -> 0.85823755 | V13: 252 | W13: =V13/C13 -> 0.96551724 | X13: 267 | Y13: =X13/C13 -> 1.0229885 | Z13: 260 | AA13: =Z13/C13 -> 0.99616858 | AB13: 274 | AC13: =AB13/C13 -> 1.0498084 | AE13: 1 | AF13: =AE13/C13 -> 0.0038314176 | AH13: =cálculos1!O13 -> 6 | AI13: =AH13*0.1 -> 0.6 | AJ13: =cálculos1!P13 -> 2 | AK13: =AJ13*0.25 -> 0.5 | AM13: PERCENTUAL | AN13: Nº DE MUNICÍPIOS
A14: Norte | B14: Barra de São Francisco | C14: 440.25 | D14: 263 | E14: =D14/C14 -> 0.59738785 | F14: 62 | G14: =F14/C14 -> 0.14082907 | H14: 39 | I14: =H14/C14 -> 0.088586031 | J14: 276 | K14: =J14/C14 -> 0.62691652 | L14: 399 | M14: =L14/C14 -> 0.90630324 | N14: 403 | O14: =N14/C14 -> 0.91538898 | P14: 426 | Q14: =P14/C14 -> 0.96763203 | R14: 404 | S14: =R14/C14 -> 0.91766042 | T14: 337 | U14: =T14/C14 -> 0.76547416 | V14: 353 | W14: =V14/C14 -> 0.80181715 | X14: 404 | Y14: =X14/C14 -> 0.91766042 | Z14: 348 | AA14: =Z14/C14 -> 0.79045997 | AB14: 448 | AC14: =AB14/C14 -> 1.0176036 | AE14: 0 | AF14: =AE14/C14 -> 0 | AH14: =cálculos1!O14 -> 2 | AI14: =AH14*0.1 -> 0.2 | AJ14: =cálculos1!P14 -> 1 | AK14: =AJ14*0.25 -> 0.25 | AM14: 0 | AN14: =COUNTIF($AI$3:$AI$80,"=0") -> 5
A15: Norte | B15: Boa Esperança | C15: 153 | D15: 6 | E15: =D15/C15 -> 0.039215686 | F15: 2 | G15: =F15/C15 -> 0.013071895 | H15: 1 | I15: =H15/C15 -> 0.0065359477 | J15: 43 | K15: =J15/C15 -> 0.28104575 | L15: 153 | M15: =L15/C15 -> 1 | N15: 147 | O15: =N15/C15 -> 0.96078431 | P15: 147 | Q15: =P15/C15 -> 0.96078431 | R15: 148 | S15: =R15/C15 -> 0.96732026 | T15: 143 | U15: =T15/C15 -> 0.93464052 | V15: 154 | W15: =V15/C15 -> 1.0065359 | X15: 152 | Y15: =X15/C15 -> 0.99346405 | Z15: 139 | AA15: =Z15/C15 -> 0.90849673 | AB15: 154 | AC15: =AB15/C15 -> 1.0065359 | AE15: 1 | AF15: =AE15/C15 -> 0.0065359477 | AH15: =cálculos1!O15 -> 7 | AI15: =AH15*0.1 -> 0.7 | AJ15: =cálculos1!P15 -> 4 | AK15: =AJ15*0.25 -> 1 | AM15: 0.1 | AN15: =COUNTIFS($AI$3:$AI$80,">=0,10",$AI$3:$AI$80,"<0,20") -> 6
A16: Sul | B16: Bom Jesus do Norte | C16: 60 | D16: 32 | E16: =D16/C16 -> 0.53333333 | F16: 0 | G16: =F16/C16 -> 0 | H16: 0 | I16: =H16/C16 -> 0 | J16: 73 | K16: =J16/C16 -> 1.2166667 | L16: 81 | M16: =L16/C16 -> 1.35 | N16: 83 | O16: =N16/C16 -> 1.3833333 | P16: 83 | Q16: =P16/C16 -> 1.3833333 | R16: 87 | S16: =R16/C16 -> 1.45 | T16: 60 | U16: =T16/C16 -> 1 | V16: 73 | W16: =V16/C16 -> 1.2166667 | X16: 91 | Y16: =X16/C16 -> 1.5166667 | Z16: 66 | AA16: =Z16/C16 -> 1.1 | AB16: 96 | AC16: =AB16/C16 -> 1.6 | AE16: 2 | AF16: =AE16/C16 -> 0.033333333 | AH16: =cálculos1!O16 -> 10 | AI16: =AH16*0.1 -> 1 | AJ16: =cálculos1!P16 -> 4 | AK16: =AJ16*0.25 -> 1 | AM16: 0.2 | AN16: =COUNTIFS($AI$3:$AI$80,">=0,20",$AI$3:$AI$80,"<0,30") -> 11
A17: Metropolitana | B17: Brejetuba | C17: 156.75 | D17: 28 | E17: =D17/C17 -> 0.17862839 | F17: 3 | G17: =F17/C17 -> 0.019138756 | H17: 0 | I17: =H17/C17 -> 0 | J17: 141 | K17: =J17/C17 -> 0.89952153 | L17: 207 | M17: =L17/C17 -> 1.3205742 | N17: 204 | O17: =N17/C17 -> 1.3014354 | P17: 167 | Q17: =P17/C17 -> 1.0653907 | R17: 194 | S17: =R17/C17 -> 1.2376396 | T17: 176 | U17: =T17/C17 -> 1.122807 | V17: 192 | W17: =V17/C17 -> 1.2248804 | X17: 185 | Y17: =X17/C17 -> 1.1802233 | Z17: 186 | AA17: =Z17/C17 -> 1.1866029 | AB17: 199 | AC17: =AB17/C17 -> 1.2695375 | AE17: 0 | AF17: =AE17/C17 -> 0 | AH17: =cálculos1!O17 -> 9 | AI17: =AH17*0.1 -> 0.9 | AJ17: =cálculos1!P17 -> 4 | AK17: =AJ17*0.25 -> 1 | AM17: 0.3 | AN17: =COUNTIFS($AI$3:$AI$80,">=0,30",$AI$3:$AI$80,"<0,40") -> 12
A18: Sul | B18: Cachoeiro de Itapemirim | C18: 1806 | D18: 3796 | E18: =D18/C18 -> 2.1018826 | F18: 3350 | G18: =F18/C18 -> 1.854928 | H18: 1972 | I18: =H18/C18 -> 1.0919158 | J18: 3794 | K18: =J18/C18 -> 2.1007752 | L18: 1644 | M18: =L18/C18 -> 0.910299 | N18: 1617 | O18: =N18/C18 -> 0.89534884 | P18: 1583 | Q18: =P18/C18 -> 0.8765227 | R18: 1585 | S18: =R18/C18 -> 0.87763012 | T18: 1217 | U18: =T18/C18 -> 0.67386489 | V18: 1480 | W18: =V18/C18 -> 0.81949059 | X18: 1658 | Y18: =X18/C18 -> 0.91805094 | Z18: 1469 | AA18: =Z18/C18 -> 0.81339978 | AB18: 1740 | AC18: =AB18/C18 -> 0.96345515 | AE18: 36 | AF18: =AE18/C18 -> 0.019933555 | AH18: =cálculos1!O18 -> 2 | AI18: =AH18*0.1 -> 0.2 | AJ18: =cálculos1!P18 -> 0 | AK18: =AJ18*0.25 -> 0 | AM18: 0.4 | AN18: =COUNTIFS($AI$3:$AI$80,">=0,40",$AI$3:$AI$80,"<0,50") -> 7
A19: Metropolitana | B19: Cariacica | C19: 3575.25 | D19: 1505 | E19: =D19/C19 -> 0.42094958 | F19: 29 | G19: =F19/C19 -> 0.0081113209 | H19: 6 | I19: =H19/C19 -> 0.0016782043 | J19: 1458 | K19: =J19/C19 -> 0.40780365 | L19: 2922 | M19: =L19/C19 -> 0.8172855 | N19: 2907 | O19: =N19/C19 -> 0.81308999 | P19: 2974 | Q19: =P19/C19 -> 0.83182994 | R19: 3010 | S19: =R19/C19 -> 0.84189917 | T19: 2505 | U19: =T19/C19 -> 0.7006503 | V19: 3041 | W19: =V19/C19 -> 0.85056989 | X19: 3429 | Y19: =X19/C19 -> 0.95909377 | Z19: 3032 | AA19: =Z19/C19 -> 0.84805258 | AB19: 3357 | AC19: =AB19/C19 -> 0.93895532 | AE19: 93 | AF19: =AE19/C19 -> 0.026012167 | AH19: =cálculos1!O19 -> 2 | AI19: =AH19*0.1 -> 0.2 | AJ19: =cálculos1!P19 -> 1 | AK19: =AJ19*0.25 -> 0.25 | AM19: 0.5 | AN19: =COUNTIFS($AI$3:$AI$80,">=0,50",$AI$3:$AI$80,"<0,60") -> 7
A20: Sul | B20: Castelo | C20: 315 | D20: 236 | E20: =D20/C20 -> 0.74920635 | F20: 142 | G20: =F20/C20 -> 0.45079365 | H20: 93 | I20: =H20/C20 -> 0.2952381 | J20: 253 | K20: =J20/C20 -> 0.8031746 | L20: 331 | M20: =L20/C20 -> 1.0507937 | N20: 331 | O20: =N20/C20 -> 1.0507937 | P20: 329 | Q20: =P20/C20 -> 1.0444444 | R20: 331 | S20: =R20/C20 -> 1.0507937 | T20: 274 | U20: =T20/C20 -> 0.86984127 | V20: 302 | W20: =V20/C20 -> 0.95873016 | X20: 319 | Y20: =X20/C20 -> 1.0126984 | Z20: 308 | AA20: =Z20/C20 -> 0.97777778 | AB20: 338 | AC20: =AB20/C20 -> 1.0730159 | AE20: 2 | AF20: =AE20/C20 -> 0.0063492063 | AH20: =cálculos1!O20 -> 8 | AI20: =AH20*0.1 -> 0.8 | AJ20: =cálculos1!P20 -> 4 | AK20: =AJ20*0.25 -> 1 | AM20: 0.6 | AN20: =COUNTIFS($AI$3:$AI$80,">=0,60",$AI$3:$AI$80,"<0,70") -> 6
A21: Central | B21: Colatina | C21: 1127.25 | D21: 2695 | E21: =D21/C21 -> 2.390774 | F21: 2079 | G21: =F21/C21 -> 1.8443114 | H21: 1713 | I21: =H21/C21 -> 1.5196274 | J21: 2677 | K21: =J21/C21 -> 2.3748059 | L21: 1067 | M21: =L21/C21 -> 0.94655134 | N21: 1065 | O21: =N21/C21 -> 0.94477711 | P21: 1070 | Q21: =P21/C21 -> 0.94921269 | R21: 1088 | S21: =R21/C21 -> 0.96518075 | T21: 876 | U21: =T21/C21 -> 0.77711244 | V21: 962 | W21: =V21/C21 -> 0.8534043 | X21: 1056 | Y21: =X21/C21 -> 0.93679308 | Z21: 971 | AA21: =Z21/C21 -> 0.86138833 | AB21: 1107 | AC21: =AB21/C21 -> 0.98203593 | AE21: 24 | AF21: =AE21/C21 -> 0.021290752 | AH21: =cálculos1!O21 -> 3 | AI21: =AH21*0.1 -> 0.3 | AJ21: =cálculos1!P21 -> 0 | AK21: =AJ21*0.25 -> 0 | AM21: 0.7 | AN21: =COUNTIFS($AI$3:$AI$80,">=0,70",$AI$3:$AI$80,"<0,80") -> 7
A22: Norte | B22: Conceição da Barra | C22: 267.75 | D22: 4 | E22: =D22/C22 -> 0.014939309 | F22: 0 | G22: =F22/C22 -> 0 | H22: 0 | I22: =H22/C22 -> 0 | J22: 10 | K22: =J22/C22 -> 0.037348273 | L22: 291 | M22: =L22/C22 -> 1.0868347 | N22: 289 | O22: =N22/C22 -> 1.0793651 | P22: 296 | Q22: =P22/C22 -> 1.1055089 | R22: 287 | S22: =R22/C22 -> 1.0718954 | T22: 281 | U22: =T22/C22 -> 1.0494865 | V22: 306 | W22: =V22/C22 -> 1.1428571 | X22: 300 | Y22: =X22/C22 -> 1.1204482 | Z22: 319 | AA22: =Z22/C22 -> 1.1914099 | AB22: 329 | AC22: =AB22/C22 -> 1.2287582 | AE22: 0 | AF22: =AE22/C22 -> 0 | AH22: =cálculos1!O22 -> 9 | AI22: =AH22*0.1 -> 0.9 | AJ22: =cálculos1!P22 -> 4 | AK22: =AJ22*0.25 -> 1 | AM22: 0.8 | AN22: =COUNTIFS($AI$3:$AI$80,">=0,80",$AI$3:$AI$80,"<0,90") -> 4
A23: Metropolitana | B23: Conceição do Castelo | C23: 130.5 | D23: 8 | E23: =D23/C23 -> 0.061302682 | F23: 0 | G23: =F23/C23 -> 0 | H23: 0 | I23: =H23/C23 -> 0 | J23: 79 | K23: =J23/C23 -> 0.60536398 | L23: 110 | M23: =L23/C23 -> 0.84291188 | N23: 103 | O23: =N23/C23 -> 0.78927203 | P23: 116 | Q23: =P23/C23 -> 0.88888889 | R23: 115 | S23: =R23/C23 -> 0.88122605 | T23: 94 | U23: =T23/C23 -> 0.72030651 | V23: 126 | W23: =V23/C23 -> 0.96551724 | X23: 117 | Y23: =X23/C23 -> 0.89655172 | Z23: 134 | AA23: =Z23/C23 -> 1.0268199 | AB23: 124 | AC23: =AB23/C23 -> 0.95019157 | AE23: 12 | AF23: =AE23/C23 -> 0.091954023 | AH23: =cálculos1!O23 -> 3 | AI23: =AH23*0.1 -> 0.3 | AJ23: =cálculos1!P23 -> 0 | AK23: =AJ23*0.25 -> 0 | AM23: 0.9 | AN23: =COUNTIFS($AI$3:$AI$80,">=0,90",$AI$3:$AI$80,"<1,0") -> 12
A24: Sul | B24: Divino de São Lourenço | C24: 43.5 | D24: 32 | E24: =D24/C24 -> 0.73563218 | F24: 0 | G24: =F24/C24 -> 0 | H24: 0 | I24: =H24/C24 -> 0 | J24: 36 | K24: =J24/C24 -> 0.82758621 | L24: 59 | M24: =L24/C24 -> 1.3563218 | N24: 59 | O24: =N24/C24 -> 1.3563218 | P24: 58 | Q24: =P24/C24 -> 1.3333333 | R24: 58 | S24: =R24/C24 -> 1.3333333 | T24: 52 | U24: =T24/C24 -> 1.1954023 | V24: 45 | W24: =V24/C24 -> 1.0344828 | X24: 54 | Y24: =X24/C24 -> 1.2413793 | Z24: 46 | AA24: =Z24/C24 -> 1.0574713 | AB24: 58 | AC24: =AB24/C24 -> 1.3333333 | AE24: 1 | AF24: =AE24/C24 -> 0.022988506 | AH24: =cálculos1!O24 -> 9 | AI24: =AH24*0.1 -> 0.9 | AJ24: =cálculos1!P24 -> 4 | AK24: =AJ24*0.25 -> 1 | AM24: 1 | AN24: =COUNTIF($AI$3:$AI$80,">=1,0") -> 1
A25: Metropolitana | B25: Domingos Martins | C25: 321 | D25: 31 | E25: =D25/C25 -> 0.096573209 | F25: 3 | G25: =F25/C25 -> 0.0093457944 | H25: 0 | I25: =H25/C25 -> 0 | J25: 61 | K25: =J25/C25 -> 0.19003115 | L25: 285 | M25: =L25/C25 -> 0.88785047 | N25: 280 | O25: =N25/C25 -> 0.87227414 | P25: 304 | Q25: =P25/C25 -> 0.9470405 | R25: 284 | S25: =R25/C25 -> 0.8847352 | T25: 273 | U25: =T25/C25 -> 0.85046729 | V25: 309 | W25: =V25/C25 -> 0.96261682 | X25: 325 | Y25: =X25/C25 -> 1.0124611 | Z25: 287 | AA25: =Z25/C25 -> 0.894081 | AB25: 318 | AC25: =AB25/C25 -> 0.99065421 | AE25: 20 | AF25: =AE25/C25 -> 0.062305296 | AH25: =cálculos1!O25 -> 3 | AI25: =AH25*0.1 -> 0.3 | AJ25: =cálculos1!P25 -> 1 | AK25: =AJ25*0.25 -> 0.25
A26: Sul | B26: Dores do Rio Preto | C26: 70.5 | D26: 39 | E26: =D26/C26 -> 0.55319149 | F26: 1 | G26: =F26/C26 -> 0.014184397 | H26: 0 | I26: =H26/C26 -> 0 | J26: 48 | K26: =J26/C26 -> 0.68085106 | L26: 67 | M26: =L26/C26 -> 0.95035461 | N26: 66 | O26: =N26/C26 -> 0.93617021 | P26: 67 | Q26: =P26/C26 -> 0.95035461 | R26: 69 | S26: =R26/C26 -> 0.9787234 | T26: 49 | U26: =T26/C26 -> 0.69503546 | V26: 87 | W26: =V26/C26 -> 1.2340426 | X26: 90 | Y26: =X26/C26 -> 1.2765957 | Z26: 83 | AA26: =Z26/C26 -> 1.177305 | AB26: 77 | AC26: =AB26/C26 -> 1.0921986 | AE26: 6 | AF26: =AE26/C26 -> 0.085106383 | AH26: =cálculos1!O26 -> 7 | AI26: =AH26*0.1 -> 0.7 | AJ26: =cálculos1!P26 -> 3 | AK26: =AJ26*0.25 -> 0.75
A27: Norte | B27: Ecoporanga | C27: 196.5 | D27: 80 | E27: =D27/C27 -> 0.40712468 | F27: 0 | G27: =F27/C27 -> 0 | H27: 0 | I27: =H27/C27 -> 0 | J27: 75 | K27: =J27/C27 -> 0.38167939 | L27: 168 | M27: =L27/C27 -> 0.85496183 | N27: 170 | O27: =N27/C27 -> 0.86513995 | P27: 175 | Q27: =P27/C27 -> 0.89058524 | R27: 170 | S27: =R27/C27 -> 0.86513995 | T27: 159 | U27: =T27/C27 -> 0.80916031 | V27: 210 | W27: =V27/C27 -> 1.0687023 | X27: 204 | Y27: =X27/C27 -> 1.0381679 | Z27: 178 | AA27: =Z27/C27 -> 0.90585242 | AB27: 179 | AC27: =AB27/C27 -> 0.91094148 | AE27: 3 | AF27: =AE27/C27 -> 0.015267176 | AH27: =cálculos1!O27 -> 3 | AI27: =AH27*0.1 -> 0.3 | AJ27: =cálculos1!P27 -> 1 | AK27: =AJ27*0.25 -> 0.25
A28: Metropolitana | B28: Fundão | C28: 168 | D28: 21 | E28: =D28/C28 -> 0.125 | F28: 3 | G28: =F28/C28 -> 0.017857143 | H28: 0 | I28: =H28/C28 -> 0 | J28: 19 | K28: =J28/C28 -> 0.11309524 | L28: 155 | M28: =L28/C28 -> 0.92261905 | N28: 156 | O28: =N28/C28 -> 0.92857143 | P28: 152 | Q28: =P28/C28 -> 0.9047619 | R28: 183 | S28: =R28/C28 -> 1.0892857 | T28: 134 | U28: =T28/C28 -> 0.79761905 | V28: 200 | W28: =V28/C28 -> 1.1904762 | X28: 202 | Y28: =X28/C28 -> 1.202381 | Z28: 187 | AA28: =Z28/C28 -> 1.1130952 | AB28: 176 | AC28: =AB28/C28 -> 1.047619 | AE28: 5 | AF28: =AE28/C28 -> 0.029761905 | AH28: =cálculos1!O28 -> 5 | AI28: =AH28*0.1 -> 0.5 | AJ28: =cálculos1!P28 -> 1 | AK28: =AJ28*0.25 -> 0.25
A29: Central | B29: Governador Lindenberg | C29: 87.75 | D29: 33 | E29: =D29/C29 -> 0.37606838 | F29: 3 | G29: =F29/C29 -> 0.034188034 | H29: 1 | I29: =H29/C29 -> 0.011396011 | J29: 25 | K29: =J29/C29 -> 0.28490028 | L29: 113 | M29: =L29/C29 -> 1.2877493 | N29: 112 | O29: =N29/C29 -> 1.2763533 | P29: 91 | Q29: =P29/C29 -> 1.037037 | R29: 106 | S29: =R29/C29 -> 1.2079772 | T29: 104 | U29: =T29/C29 -> 1.1851852 | V29: 88 | W29: =V29/C29 -> 1.002849 | X29: 112 | Y29: =X29/C29 -> 1.2763533 | Z29: 95 | AA29: =Z29/C29 -> 1.0826211 | AB29: 106 | AC29: =AB29/C29 -> 1.2079772 | AE29: 1 | AF29: =AE29/C29 -> 0.011396011 | AH29: =cálculos1!O29 -> 9 | AI29: =AH29*0.1 -> 0.9 | AJ29: =cálculos1!P29 -> 4 | AK29: =AJ29*0.25 -> 1
A30: Sul | B30: Guaçuí | C30: 300 | D30: 185 | E30: =D30/C30 -> 0.61666667 | F30: 8 | G30: =F30/C30 -> 0.026666667 | H30: 3 | I30: =H30/C30 -> 0.01 | J30: 195 | K30: =J30/C30 -> 0.65 | L30: 253 | M30: =L30/C30 -> 0.84333333 | N30: 255 | O30: =N30/C30 -> 0.85 | P30: 237 | Q30: =P30/C30 -> 0.79 | R30: 242 | S30: =R30/C30 -> 0.80666667 | T30: 223 | U30: =T30/C30 -> 0.74333333 | V30: 231 | W30: =V30/C30 -> 0.77 | X30: 258 | Y30: =X30/C30 -> 0.86 | Z30: 243 | AA30: =Z30/C30 -> 0.81 | AB30: 254 | AC30: =AB30/C30 -> 0.84666667 | AE30: 2 | AF30: =AE30/C30 -> 0.0066666667 | AH30: =cálculos1!O30 -> 0 | AI30: =AH30*0.1 -> 0 | AJ30: =cálculos1!P30 -> 0 | AK30: =AJ30*0.25 -> 0
A31: Metropolitana | B31: Guarapari | C31: 1284 | D31: 1101 | E31: =D31/C31 -> 0.85747664 | F31: 984 | G31: =F31/C31 -> 0.76635514 | H31: 898 | I31: =H31/C31 -> 0.69937695 | J31: 1127 | K31: =J31/C31 -> 0.87772586 | L31: 1100 | M31: =L31/C31 -> 0.85669782 | N31: 1100 | O31: =N31/C31 -> 0.85669782 | P31: 1150 | Q31: =P31/C31 -> 0.89563863 | R31: 1158 | S31: =R31/C31 -> 0.90186916 | T31: 799 | U31: =T31/C31 -> 0.62227414 | V31: 1026 | W31: =V31/C31 -> 0.79906542 | X31: 1155 | Y31: =X31/C31 -> 0.89953271 | Z31: 919 | AA31: =Z31/C31 -> 0.71573209 | AB31: 1209 | AC31: =AB31/C31 -> 0.94158879 | AE31: 17 | AF31: =AE31/C31 -> 0.013239875 | AH31: =cálculos1!O31 -> 1 | AI31: =AH31*0.1 -> 0.1 | AJ31: =cálculos1!P31 -> 0 | AK31: =AJ31*0.25 -> 0
A32: Metropolitana | B32: Ibatiba | C32: 285 | D32: 232 | E32: =D32/C32 -> 0.81403509 | F32: 6 | G32: =F32/C32 -> 0.021052632 | H32: 1 | I32: =H32/C32 -> 0.0035087719 | J32: 245 | K32: =J32/C32 -> 0.85964912 | L32: 299 | M32: =L32/C32 -> 1.0491228 | N32: 300 | O32: =N32/C32 -> 1.0526316 | P32: 304 | Q32: =P32/C32 -> 1.0666667 | R32: 295 | S32: =R32/C32 -> 1.0350877 | T32: 273 | U32: =T32/C32 -> 0.95789474 | V32: 286 | W32: =V32/C32 -> 1.0035088 | X32: 310 | Y32: =X32/C32 -> 1.0877193 | Z32: 317 | AA32: =Z32/C32 -> 1.1122807 | AB32: 320 | AC32: =AB32/C32 -> 1.122807 | AE32: 2 | AF32: =AE32/C32 -> 0.0070175439 | AH32: =cálculos1!O32 -> 9 | AI32: =AH32*0.1 -> 0.9 | AJ32: =cálculos1!P32 -> 4 | AK32: =AJ32*0.25 -> 1
A33: Metropolitana | B33: Ibiraçu | C33: 117.75 | D33: 23 | E33: =D33/C33 -> 0.19532909 | F33: 0 | G33: =F33/C33 -> 0 | H33: 0 | I33: =H33/C33 -> 0 | J33: 22 | K33: =J33/C33 -> 0.18683652 | L33: 78 | M33: =L33/C33 -> 0.66242038 | N33: 79 | O33: =N33/C33 -> 0.67091295 | P33: 84 | Q33: =P33/C33 -> 0.7133758 | R33: 80 | S33: =R33/C33 -> 0.67940552 | T33: 76 | U33: =T33/C33 -> 0.64543524 | V33: 97 | W33: =V33/C33 -> 0.82377919 | X33: 88 | Y33: =X33/C33 -> 0.74734607 | Z33: 99 | AA33: =Z33/C33 -> 0.84076433 | AB33: 86 | AC33: =AB33/C33 -> 0.73036093 | AE33: 0 | AF33: =AE33/C33 -> 0 | AH33: =cálculos1!O33 -> 0 | AI33: =AH33*0.1 -> 0 | AJ33: =cálculos1!P33 -> 0 | AK33: =AJ33*0.25 -> 0
A34: Sul | B34: Ibitirama | C34: 111.75 | D34: 74 | E34: =D34/C34 -> 0.66219239 | F34: 4 | G34: =F34/C34 -> 0.035794183 | H34: 0 | I34: =H34/C34 -> 0 | J34: 81 | K34: =J34/C34 -> 0.72483221 | L34: 93 | M34: =L34/C34 -> 0.83221477 | N34: 93 | O34: =N34/C34 -> 0.83221477 | P34: 99 | Q34: =P34/C34 -> 0.88590604 | R34: 94 | S34: =R34/C34 -> 0.84116331 | T34: 76 | U34: =T34/C34 -> 0.68008949 | V34: 106 | W34: =V34/C34 -> 0.94854586 | X34: 105 | Y34: =X34/C34 -> 0.93959732 | Z34: 105 | AA34: =Z34/C34 -> 0.93959732 | AB34: 105 | AC34: =AB34/C34 -> 0.93959732 | AE34: 3 | AF34: =AE34/C34 -> 0.026845638 | AH34: =cálculos1!O34 -> 1 | AI34: =AH34*0.1 -> 0.1 | AJ34: =cálculos1!P34 -> 0 | AK34: =AJ34*0.25 -> 0
A35: Sul | B35: Iconha | C35: 90.75 | D35: 27 | E35: =D35/C35 -> 0.29752066 | F35: 1 | G35: =F35/C35 -> 0.011019284 | H35: 0 | I35: =H35/C35 -> 0 | J35: 40 | K35: =J35/C35 -> 0.44077135 | L35: 79 | M35: =L35/C35 -> 0.87052342 | N35: 79 | O35: =N35/C35 -> 0.87052342 | P35: 69 | Q35: =P35/C35 -> 0.76033058 | R35: 84 | S35: =R35/C35 -> 0.92561983 | T35: 100 | U35: =T35/C35 -> 1.1019284 | V35: 101 | W35: =V35/C35 -> 1.1129477 | X35: 113 | Y35: =X35/C35 -> 1.2451791 | Z35: 102 | AA35: =Z35/C35 -> 1.1239669 | AB35: 83 | AC35: =AB35/C35 -> 0.91460055 | AE35: 4 | AF35: =AE35/C35 -> 0.044077135 | AH35: =cálculos1!O35 -> 5 | AI35: =AH35*0.1 -> 0.5 | AJ35: =cálculos1!P35 -> 1 | AK35: =AJ35*0.25 -> 0.25
A36: Sul | B36: Irupi | C36: 135.75 | D36: 59 | E36: =D36/C36 -> 0.43462247 | F36: 4 | G36: =F36/C36 -> 0.02946593 | H36: 3 | I36: =H36/C36 -> 0.022099448 | J36: 74 | K36: =J36/C36 -> 0.54511971 | L36: 154 | M36: =L36/C36 -> 1.1344383 | N36: 156 | O36: =N36/C36 -> 1.1491713 | P36: 125 | Q36: =P36/C36 -> 0.92081031 | R36: 150 | S36: =R36/C36 -> 1.1049724 | T36: 157 | U36: =T36/C36 -> 1.1565378 | V36: 138 | W36: =V36/C36 -> 1.0165746 | X36: 176 | Y36: =X36/C36 -> 1.2965009 | Z36: 148 | AA36: =Z36/C36 -> 1.0902394 | AB36: 147 | AC36: =AB36/C36 -> 1.0828729 | AE36: 3 | AF36: =AE36/C36 -> 0.022099448 | AH36: =cálculos1!O36 -> 8 | AI36: =AH36*0.1 -> 0.8 | AJ36: =cálculos1!P36 -> 3 | AK36: =AJ36*0.25 -> 0.75
... A80: Metropolitana | B80: Vitória | C80: 2623.5 | D80: 4924 | E80: =D80/C80 -> 1.876882 | F80: 4366 | G80: =F80/C80 -> 1.6641891 | H80: 3573 | I80: =H80/C80 -> 1.3619211 | J80: 5461 | K80: =J80/C80 -> 2.0815704 | L80: 3188 | M80: =L80/C80 -> 1.2151706 | N80: 3166 | O80: =N80/C80 -> 1.2067848 | P80: 3526 | Q80: =P80/C80 -> 1.3440061 | R80: 3477 | S80: =R80/C80 -> 1.3253288 | T80: 2124 | U80: =T80/C80 -> 0.80960549 | V80: 2764 | W80: =V80/C80 -> 1.0535544 | X80: 2900 | Y80: =X80/C80 -> 1.1053936 | Z80: 2811 | AA80: =Z80/C80 -> 1.0714694 | AB80: 3344 | AC80: =AB80/C80 -> 1.2746331 | AE80: 121 | AF80: =AE80/C80 -> 0.046121593 | AH80: =cálculos1!O80 -> 9 | AI80: =AH80*0.1 -> 0.9 | AJ80: =cálculos1!P80 -> 4 | AK80: =AJ80*0.25 -> 1
B82: Total Norte | C82: =SUMIF($A$3:$A$80,"Norte",C$3:C$80) -> 4260 | D82: =SUMIF($A$3:$A$80,"Norte",D$3:D$80) -> 3867 | E82: =D82/C82 -> 0.90774648 | F82: =SUMIF($A$3:$A$80,"Norte",F$3:F$80) -> 3297 | G82: =F82/C82 -> 0.77394366 | H82: =SUMIF($A$3:$A$80,"Norte",H$3:H$80) -> 3249 | I82: =H82/C82 -> 0.76267606 | J82: =SUMIF($A$3:$A$80,"Norte",J$3:J$80) -> 3763 | K82: =J82/C82 -> 0.88333333 | L82: =SUMIF($A$3:$A$80,"Norte",L$3:L$80) -> 4204 | M82: =L82/C82 -> 0.98685446 | N82: =SUMIF($A$3:$A$80,"Norte",N$3:N$80) -> 4153 | O82: =N82/C82 -> 0.97488263 | P82: =SUMIF($A$3:$A$80,"Norte",P$3:P$80) -> 4290 | Q82: =P82/C82 -> 1.0070423 | R82: =SUMIF($A$3:$A$80,"Norte",R$3:R$80) -> 4180 | S82: =R82/C82 -> 0.98122066 | T82: =SUMIF($A$3:$A$80,"Norte",T$3:T$80) -> 3450 | U82: =T82/C82 -> 0.80985915 | V82: =SUMIF($A$3:$A$80,"Norte",V$3:V$80) -> 4029 | W82: =V82/C82 -> 0.94577465 | X82: =SUMIF($A$3:$A$80,"Norte",X$3:X$80) -> 4325 | Y82: =X82/C82 -> 1.0152582 | Z82: =SUMIF($A$3:$A$80,"Norte",Z$3:Z$80) -> 3847 | AA82: =Z82/C82 -> 0.90305164 | AB82: =SUMIF($A$3:$A$80,"Norte",AB$3:AB$80) -> 4559 | AC82: =AB82/C82 -> 1.0701878 | AE82: =SUMIF($A$3:$A$80,"Norte",AE$3:AE$80) -> 46 | AF82: =AE82/C82 -> 0.010798122 | AH82: =cálculos1!O82 -> 6 | AI82: =AH82*0.1 -> 0.6 | AJ82: =cálculos1!P82 -> 4 | AK82: =AJ82*0.25 -> 1 | AM82: 33308.667
B83: Total Central | C83: =SUMIF($A$3:$A$80,"Central",C$3:C$80) -> 5235 | D83: =SUMIF($A$3:$A$80,"Central",D$3:D$80) -> 5870 | E83: =D83/C83 -> 1.1212989 | F83: =SUMIF($A$3:$A$80,"Central",F$3:F$80) -> 4209 | G83: =F83/C83 -> 0.80401146 | H83: =SUMIF($A$3:$A$80,"Central",H$3:H$80) -> 3466 | I83: =H83/C83 -> 0.66208214 | J83: =SUMIF($A$3:$A$80,"Central",J$3:J$80) -> 5957 | K83: =J83/C83 -> 1.1379179 | L83: =SUMIF($A$3:$A$80,"Central",L$3:L$80) -> 4916 | M83: =L83/C83 -> 0.93906399 | N83: =SUMIF($A$3:$A$80,"Central",N$3:N$80) -> 4859 | O83: =N83/C83 -> 0.92817574 | P83: =SUMIF($A$3:$A$80,"Central",P$3:P$80) -> 4891 | Q83: =P83/C83 -> 0.93428844 | R83: =SUMIF($A$3:$A$80,"Central",R$3:R$80) -> 4951 | S83: =R83/C83 -> 0.94574976 | T83: =SUMIF($A$3:$A$80,"Central",T$3:T$80) -> 4147 | U83: =T83/C83 -> 0.7921681 | V83: =SUMIF($A$3:$A$80,"Central",V$3:V$80) -> 4646 | W83: =V83/C83 -> 0.88748806 | X83: =SUMIF($A$3:$A$80,"Central",X$3:X$80) -> 5042 | Y83: =X83/C83 -> 0.96313276 | Z83: =SUMIF($A$3:$A$80,"Central",Z$3:Z$80) -> 4807 | AA83: =Z83/C83 -> 0.9182426 | AB83: =SUMIF($A$3:$A$80,"Central",AB$3:AB$80) -> 5270 | AC83: =AB83/C83 -> 1.0066858 | AE83: =SUMIF($A$3:$A$80,"Central",AE$3:AE$80) -> 67 | AF83: =AE83/C83 -> 0.012798472 | AH83: =cálculos1!O83 -> 3 | AI83: =AH83*0.1 -> 0.3 | AJ83: =cálculos1!P83 -> 1 | AK83: =AJ83*0.25 -> 0.25
B84: Total Metropolitana | C84: =SUMIF($A$3:$A$80,"Metropolitana",C$3:C$80) -> 21850.5 | D84: =SUMIF($A$3:$A$80,"Metropolitana",D$3:D$80) -> 21183 | E84: =D84/C84 -> 0.9694515 | F84: =SUMIF($A$3:$A$80,"Metropolitana",F$3:F$80) -> 15896 | G84: =F84/C84 -> 0.72748907 | H84: =SUMIF($A$3:$A$80,"Metropolitana",H$3:H$80) -> 12525 | I84: =H84/C84 -> 0.57321343 | J84: =SUMIF($A$3:$A$80,"Metropolitana",J$3:J$80) -> 21363 | K84: =J84/C84 -> 0.9776893 | L84: =SUMIF($A$3:$A$80,"Metropolitana",L$3:L$80) -> 19645 | M84: =L84/C84 -> 0.89906409 | N84: =SUMIF($A$3:$A$80,"Metropolitana",N$3:N$80) -> 19481 | O84: =N84/C84 -> 0.89155855 | P84: =SUMIF($A$3:$A$80,"Metropolitana",P$3:P$80) -> 20187 | Q84: =P84/C84 -> 0.92386902 | R84: =SUMIF($A$3:$A$80,"Metropolitana",R$3:R$80) -> 20402 | S84: =R84/C84 -> 0.93370861 | T84: =SUMIF($A$3:$A$80,"Metropolitana",T$3:T$80) -> 15996 | U84: =T84/C84 -> 0.73206563 | V84: =SUMIF($A$3:$A$80,"Metropolitana",V$3:V$80) -> 19379 | W84: =V84/C84 -> 0.88689046 | X84: =SUMIF($A$3:$A$80,"Metropolitana",X$3:X$80) -> 21064 | Y84: =X84/C84 -> 0.9640054 | Z84: =SUMIF($A$3:$A$80,"Metropolitana",Z$3:Z$80) -> 18905 | AA84: =Z84/C84 -> 0.86519759 | AB84: =SUMIF($A$3:$A$80,"Metropolitana",AB$3:AB$80) -> 21725 | AC84: =AB84/C84 -> 0.99425642 | AE84: =SUMIF($A$3:$A$80,"Metropolitana",AE$3:AE$80) -> 632 | AF84: =AE84/C84 -> 0.028923823 | AH84: =cálculos1!O84 -> 3 | AI84: =AH84*0.1 -> 0.3 | AJ84: =cálculos1!P84 -> 1 | AK84: =AJ84*0.25 -> 0.25
...

Sheet CV Rotina <2A - residência
D1: AO NASCER | L1: MENOR DE 1 ANO | V1: 1 ANO | AB1: MENOR DE 2 ANOS | AE1: MENOR DE 1 ANO
